Workbook
Name _Toc142041533: 'ppro intervent'!$A$748
Name _Toc142041533: 'pto En Impacto'!$A$748
Name _Toc142041533: 'pto En Impacto adic'!$A$748
Name _Toc143694497: 'ppro intervent'!$A$208
Name _Toc143694497: 'pto En Impacto'!$A$208
Name _Toc143694497: 'pto En Impacto adic'!$A$208
Name _Toc143694537: 'ppro intervent'!$A$236
Name _Toc143694537: 'pto En Impacto'!$A$236
Name _Toc143694537: 'pto En Impacto adic'!$A$236
Name _Toc143694561: 'ppro intervent'!$A$422
Name _Toc143694561: 'pto En Impacto'!$A$422
Name _Toc143694561: 'pto En Impacto adic'!$A$422
Name _Toc144106979: 'ppro intervent'!$A$16
Name _Toc144106979: 'pto En Impacto'!$A$16
Name _Toc144106979: 'pto En Impacto adic'!$A$16
Name _Toc144106980: 'ppro intervent'!$A$56
Name _Toc144106980: 'pto En Impacto'!$A$56
Name _Toc144106980: 'pto En Impacto adic'!$A$56
Name _Toc144106982: 'ppro intervent'!$A$64
Name _Toc144106982: 'pto En Impacto'!$A$64
Name _Toc144106982: 'pto En Impacto adic'!$A$64
Name _Toc144106983: 'ppro intervent'!$A$67
Name _Toc144106983: 'pto En Impacto'!$A$67
Name _Toc144106983: 'pto En Impacto adic'!$A$67
Name _Toc144106984: 'ppro intervent'!$A$69
Name _Toc144106984: 'pto En Impacto'!$A$69
Name _Toc144106984: 'pto En Impacto adic'!$A$69
Name _Toc144106985: 'ppro intervent'!$A$71
Name _Toc144106985: 'pto En Impacto'!$A$71
Name _Toc144106985: 'pto En Impacto adic'!$A$71
Name _Toc144106986: 'ppro intervent'!$A$73
Name _Toc144106986: 'pto En Impacto'!$A$73
Name _Toc144106986: 'pto En Impacto adic'!$A$73
Name _Toc144106987: 'ppro intervent'!$A$92
Name _Toc144106987: 'pto En Impacto'!$A$92
Name _Toc144106987: 'pto En Impacto adic'!$A$92
Name _Toc144106988: 'ppro intervent'!$A$94
Name _Toc144106988: 'pto En Impacto'!$A$94
Name _Toc144106988: 'pto En Impacto adic'!$A$94
Name _Toc144106989: 'ppro intervent'!$A$99
Name _Toc144106989: 'pto En Impacto'!$A$99
Name _Toc144106989: 'pto En Impacto adic'!$A$99
Name _Toc144106990: 'ppro intervent'!$A$119
Name _Toc144106990: 'pto En Impacto'!$A$119
Name _Toc144106990: 'pto En Impacto adic'!$A$119
Name _Toc144106991: 'ppro intervent'!$A$123
Name _Toc144106991: 'pto En Impacto'!$A$123
Name _Toc144106991: 'pto En Impacto adic'!$A$123
Name _Toc144106992: 'ppro intervent'!$A$127
Name _Toc144106992: 'pto En Impacto'!$A$127
Name _Toc144106992: 'pto En Impacto adic'!$A$127
Name _Toc144106993: 'ppro intervent'!$A$132
Name _Toc144106993: 'pto En Impacto'!$A$132
Name _Toc144106993: 'pto En Impacto adic'!$A$132
Name _Toc144106994: 'ppro intervent'!$A$138
Name _Toc144106994: 'pto En Impacto'!$A$138
Name _Toc144106994: 'pto En Impacto adic'!$A$138
Name _Toc144106995: 'ppro intervent'!$A$144
Name _Toc144106995: 'pto En Impacto'!$A$144
Name _Toc144106995: 'pto En Impacto adic'!$A$144

Sheet FACTOR MULTIPLICADOR
A1: FACTOR MULTIPLICADOR
A2: INTERVENTORÍA TÉCNICA, ADMINISTRATIVA JURIDICA Y FINANCIERA PARA EL PROYECTO DE MANTENIMIENTO Y OBRAS VARIAS DE LA PLANTA FÍSICA DE LAS INSTITUCIONES EDUCATIVAS ANDRES BELLO Y SANTO DOMINGO SAVIO DE PROPIEDAD DEL MUNICIPIO DE MANIZALES
C4: CONCEPTO | I4: PORCENTAJE
A5: 1. | B5: Salarios y Prestaciones Sociales de Personal Facturable
A6: 1.1. | B6: Salarios | I6: 1
A7: 1.2. | B7: Prima anual (legal) | I7: =1/12 -> 0.083333333
A8: 1.3. | B8: Cesantía | I8: =1/12 -> 0.083333333
A9: 1.4. | B9: Intereses de cesantía | I9: 0.01
A10: 1.5. | B10: Vacaciones | I10: =+I8/2 -> 0.041666667
A11: 1.6. | B11: Seguridad Social (salud + pensión) | I11: 0.205 | O11: 16 | P11: 12
A12: 1.7. | B12: Caja de Compensación Familiar | I12: 0.04 | O12: 12.5 | P12: 8.5
A13: 1.8. | B13: ARL | I13: 0.0696 | O13: =+O11+O12 -> 28.5 | P13: =+P11+P12 -> 20.5
A14: 1.9. | B14: Sena | I14: 0.02
A15: 1.10. | B15: ICBF | I15: 0.03
A16: 1.11. | B16: Otros (Auxilios varios, prestaciones extralegales, Incapacidades no cubiertas) | I16: 0.025
A17: 1.12. | B17: Dotación | I17: 0.0267
A18: 1.13 | B18: Servicio medico 1er mes | I18: 0.0016
A19: 1.14 | B19: Examenes de ingreso | I19: 0.0121
A20: 1.15 | B20: Certificado de trabajo en alturas | I20: 0.0073
F21: Sub-total | I21: =SUM(I6:I20) -> 1.6556333
A23: 2. | B23: Gastos Directos
A24: 2.1. | B24: Arriendo oficina | I24: 0.03
F25: Sub-total | I25: =SUM(I24:I24) -> 0.03
A27: 3. | B27: Gastos Generales
A28: 3.2 | B28: Asesoria Contable Tributaria y Juridica | I28: 0.035 | O28: PAGAR | P28: 4.5 | Q28: *1000 | R28: 2018
A29: 3.3 | B29: Equipos y mantenimiento Oficina | I29: 0.02 | O29: LE RETIENE | P29: 3.7 | Q29: *1000 | R29: INDUSTRIA Y COMERCIO
A30: 3.4 | B30: Gastos de vehículo | I30: 0.01 | R30: =+(200000000*3.7)/1000 -> 740000
A31: 3.5 | B31: Seguros de robo e incendio | I31: 0.005
A32: 3.6 | B32: Documentación Técnica | I32: 0.02
A33: 3.7 | B33: Papelería y útiles de oficina | I33: 0.01
A34: 3.8 | B34: Personal Administrativo no facturado | I34: 0.01
A35: 3.9 | B35: Personal Profesional no facturado | I35: 0.01
A36: 3.1 | B36: Depreciación de muebles y equipos | I36: 0.005
A37: 3.11 | B37: Licenciamiento de software | I37: 0.02
A38: 3.12 | B38: Correo y otros | I38: 0.005
A39: 3.13 | B39: Gastos bancarios | I39: 0.0048
A40: 3.14 | B40: Gastos de Representación | I40: 0.01
F41: Sub-total | I41: =SUM(I28:I40) -> 0.1648
A43: 4. | B43: Costos Directos no Reembolsables
A44: 4.1 | B44: Poliza de Calidad | I44: =0.5*1.21% -> 0.00605 | J44: =20%*10%*12 -> 0.24
...

Sheet ppro intervent
A2: =+'FACTOR MULTIPLICADOR'!A2:I3 -> INTERVENTORÍA TÉCNICA, ADMINISTRATIVA JURIDICA Y FINANCIERA PARA EL PROYECTO DE MANTENIMIENTO Y OBRAS VARIAS DE LA PLANTA FÍSICA DE LAS INSTITUCIONES EDUCATIVAS ANDRES BELLO Y SANTO DOMINGO SAVIO DE PROPIEDAD DEL MUNICIPIO DE MANIZALES
A3: PLAZO | I3: 3
A4: CANTIDADES ORIGINALES CONTRATO DE INTERVENTORÍA
A5: PERSONAL PROFESIONAL (1)
A6: CONCEPTO | B6: a | C6: A | D6: B | F6: C | G6: D | H6: E | I6: F
A7: Personal Profesional | B7: CANTIDAD | C7: SUELDO BÁSICO | D7: % DEDICACIÓN | F7: FACTOR MULT. | G7: VALOR MES (axAxBxC) | H7: No DE MESES | I7: TOTAL (DxE)
A8: Director de Interventoría | B8: 0 | C8: 6710444 | D8: 0.5 | F8: =+'FACTOR MULTIPLICADOR'!I56 -> 2.19 | G8: =ROUND(C8*D8*F8*B8,0) -> 0 | H8: 3 | I8: =ROUND(G8*H8,0) -> 0
A9: Ingeniero Residente 1 | B9: 1 | C9: 4446382 | D9: 1 | F9: 2.18 | G9: =ROUND(C9*D9*F9*B9,0) -> 9693113 | H9: =+I3 -> 3 | I9: =ROUND(G9*H9,0) -> 29079339
A16: SUBTOTAL COSTO PERSONAL PROFESIONAL (1) | I16: =SUM(I8:I10) -> 29079339
A18: PERSONAL TÉCNICO (2)
A19: Personal técnico | B19: CANTIDAD | C19: SUELDOS BÁSICOS | D19: % DEDICACIÓN | F19: FACTOR MULT. | G19: VALOR MES (axAxBxC) | H19: No DE MESES | I19: TOTAL (DxE)
A20: Inspector 1 | B20: 1 | C20: 3600000 | D20: 1 | F20: 2.18 | G20: =ROUND(C20*D20*F20*B20,0) -> 7848000 | H20: =+I3 -> 3 | I20: =ROUND(G20*H20,0) -> 23544000
A21: Trabajador social - Recursos Humanos | B21: 0 | D21: 0 | F21: =+$F$8 -> 2.19 | G21: =ROUND(C21*D21*F21*B21,0) -> 0 | H21: 0 | I21: =ROUND(G21*H21,0) -> 0
A22: Profesional SISO - SG-SST. | B22: 1 | C22: 3600000 | D22: 0.33 | F22: 2.18 | G22: =ROUND(C22*D22*F22*B22,0) -> 2589840 | H22: =+I3 -> 3 | I22: =ROUND(G22*H22,0) -> 7769520
A24: SUBTOTAL COSTO PERSONAL TECNICO (2) | I24: =+SUM(I20:I23) -> 31313520
A26: PERSONAL ADMINISTRATIVO (3)
A27: Personal administrativo | B27: CANTIDAD | C27: SUELDOS BÁSICOS | D27: % DEDICACIÓN | F27: FACTOR MULT. | G27: VALOR MES (axAxBxC) | H27: No DE MESES | I27: TOTAL (DxE)
A29: SUBTOTAL COSTO ADMINISTRATIVO (3) | I29: =+SUM(I28:I28) -> 0
A31: OTROS COSTOS DIRECTOS (4)
A32: Otros Costos Directos | B32: CANTIDAD | E32: No DE MESES | H32: VR UNITARIO | I32: VALOR TOTAL
A33: Oficina/Campamento en la zona del proyecto (incluye dotación y servicios públicos) | B33: 0 | E33: 3 | H33: 700000 | I33: =ROUND(B33*E33*H33,0) -> 0
A34: Ensayos de Laboratorio | B34: 0 | E34: 3 | H34: 1800000 | I34: =ROUND(B34*E34*H34,0) -> 0
A35: Edición de informes, papelería, reproducción de documentos, planos, fotografías, videos, etc. | B35: 1 | E35: =+I3 -> 3 | H35: 70000 | I35: =ROUND(B35*E35*H35,0) -> 210000
A37: SUBTOTAL COSTOS DIRECTOS VARIABLES (4) | I37: =SUM(I33:I35) -> 210000
A39: RESUMEN GENERAL
A40: COSTO BASICO (1 + 2 + 3+ 4) | I40: =+I16+I24+I37+I29 -> 60602859
A41: IVA 19% | I41: =ROUND(I40*0.19,0) -> 11514543
A42: VALOR TOTAL | I42: =+I40+I41 -> 72117402
A43: NOTAS
A44: 1. Los Ingenieros Residentes, los inspectores y el Personal con dedicación del 100% al Proyecto, deben permanecer en el sitio donde se ejecuta la obra, so pena de incurrir en falta grave a sus obligaciones, con la consecuente aplicación de las sanciones establecidas contractualmente.
A45: 2. Para el reconocimiento de los gastos deberá tenerse en cuenta la forma de pago establecida en los estudios previos, pliego de condiciones y contrato.
A46: 2.1. Los costos directos de personal deben estar soportados por la nómina firmada, los cuales se anexarán al acta de costos para el trámite correspondiente ante el municipio.
A47: 2.2. Edición de Informes, Papelería, Reproducción de Documentos, Planos, Fotografías, se reembolsarán según su costo real, contra la presentación de facturas y soportes respectivos.
A48: 2.3. El personal de interventoría NO tendrá prima regional y los costos correspondientes a las jornadas adicionales de trabajo no se reconocerán..

Sheet pto En Impacto
A2: =+'FACTOR MULTIPLICADOR'!A2:I3 -> INTERVENTORÍA TÉCNICA, ADMINISTRATIVA JURIDICA Y FINANCIERA PARA EL PROYECTO DE MANTENIMIENTO Y OBRAS VARIAS DE LA PLANTA FÍSICA DE LAS INSTITUCIONES EDUCATIVAS ANDRES BELLO Y SANTO DOMINGO SAVIO DE PROPIEDAD DEL MUNICIPIO DE MANIZALES
A3: PLAZO | I3: 3
A4: CANTIDADES ORIGINALES CONTRATO DE INTERVENTORÍA
A5: PERSONAL PROFESIONAL (1)
A6: CONCEPTO | B6: a | C6: A | D6: B | F6: C | G6: D | H6: E | I6: F
A7: Personal Profesional | B7: CANTIDAD | C7: SUELDO BÁSICO | D7: % DEDICACIÓN | F7: FACTOR MULT. | G7: VALOR MES (axAxBxC) | H7: No DE MESES | I7: TOTAL (DxE)
A8: Director de Interventoría | B8: 0 | C8: 6710444 | D8: 0.5 | F8: =+'FACTOR MULTIPLICADOR'!I56 -> 2.19 | G8: =ROUND(C8*D8*F8*B8,0) -> 0 | H8: 3 | I8: =ROUND(G8*H8,0) -> 0
A9: Ingeniero Residente 1 | B9: 1 | C9: 2750000 | D9: 1 | F9: 2.18 | G9: =ROUND(C9*D9*F9*B9,0) -> 5995000 | H9: =+I3 -> 3 | I9: =ROUND(G9*H9,0) -> 17985000
A16: SUBTOTAL COSTO PERSONAL PROFESIONAL (1) | I16: =SUM(I8:I10) -> 17985000
A18: PERSONAL TÉCNICO (2)
A19: Personal técnico | B19: CANTIDAD | C19: SUELDOS BÁSICOS | D19: % DEDICACIÓN | F19: FACTOR MULT. | G19: VALOR MES (axAxBxC) | H19: No DE MESES | I19: TOTAL (DxE)
A20: Inspector 1 | B20: 1 | C20: 1423500 | D20: 1 | F20: 2.18 | G20: =ROUND(C20*D20*F20*B20,0) -> 3103230 | H20: =+I3 -> 3 | I20: =ROUND(G20*H20,0) -> 9309690
A21: Trabajador social - Recursos Humanos | B21: 0 | D21: 0 | F21: =+$F$8 -> 2.19 | G21: =ROUND(C21*D21*F21*B21,0) -> 0 | H21: 0 | I21: =ROUND(G21*H21,0) -> 0
A22: Profesional SISO - SG-SST. | B22: 1 | C22: 1423500 | D22: 0.3 | F22: 2.18 | G22: =ROUND(C22*D22*F22*B22,0) -> 930969 | H22: =+I3 -> 3 | I22: =ROUND(G22*H22,0) -> 2792907
A24: SUBTOTAL COSTO PERSONAL TECNICO (2) | I24: =+SUM(I20:I23) -> 12102597
A26: PERSONAL ADMINISTRATIVO (3)
A27: Personal administrativo | B27: CANTIDAD | C27: SUELDOS BÁSICOS | D27: % DEDICACIÓN | F27: FACTOR MULT. | G27: VALOR MES (axAxBxC) | H27: No DE MESES | I27: TOTAL (DxE)
A29: SUBTOTAL COSTO ADMINISTRATIVO (3) | I29: =+SUM(I28:I28) -> 0
A31: OTROS COSTOS DIRECTOS (4)
A32: Otros Costos Directos | B32: CANTIDAD | E32: No DE MESES | H32: VR UNITARIO | I32: VALOR TOTAL
A33: Oficina/Campamento en la zona del proyecto (incluye dotación y servicios públicos) | B33: 0 | E33: 3 | H33: 700000 | I33: =ROUND(B33*E33*H33,0) -> 0
A34: Ensayos de Laboratorio | B34: 0 | E34: 3 | H34: 1800000 | I34: =ROUND(B34*E34*H34,0) -> 0
A35: Edición de informes, papelería, reproducción de documentos, planos, fotografías, videos, etc. | B35: 1 | E35: =+I3 -> 3 | H35: 100000 | I35: =ROUND(B35*E35*H35,0) -> 300000
A37: SUBTOTAL COSTOS DIRECTOS VARIABLES (4) | I37: =SUM(I33:I35) -> 300000
A39: RESUMEN GENERAL
A40: COSTO BASICO (1 + 2 + 3+ 4) | I40: =+I16+I24+I37+I29 -> 30387597
A41: IVA 19% | I41: =ROUND(I40*0.19,0) -> 5773643
A42: VALOR TOTAL | I42: =+I40+I41 -> 36161240
A43: NOTAS
A44: 1. Los Ingenieros Residentes, los inspectores y el Personal con dedicación del 100% al Proyecto, deben permanecer en el sitio donde se ejecuta la obra, so pena de incurrir en falta grave a sus obligaciones, con la consecuente aplicación de las sanciones establecidas contractualmente.
A45: 2. Para el reconocimiento de los gastos deberá tenerse en cuenta la forma de pago establecida en los estudios previos, pliego de condiciones y contrato.
A46: 2.1. Los costos directos de personal deben estar soportados por la nómina firmada, los cuales se anexarán al acta de costos para el trámite correspondiente ante el municipio.
A47: 2.2. Edición de Informes, Papelería, Reproducción de Documentos, Planos, Fotografías, se reembolsarán según su costo real, contra la presentación de facturas y soportes respectivos.
A48: 2.3. El personal de interventoría NO tendrá prima regional y los costos correspondientes a las jornadas adicionales de trabajo no se reconocerán..

Sheet pto En Impacto  adic
A2: =+'FACTOR MULTIPLICADOR'!A2:I3 -> INTERVENTORÍA TÉCNICA, ADMINISTRATIVA JURIDICA Y FINANCIERA PARA EL PROYECTO DE MANTENIMIENTO Y OBRAS VARIAS DE LA PLANTA FÍSICA DE LAS INSTITUCIONES EDUCATIVAS ANDRES BELLO Y SANTO DOMINGO SAVIO DE PROPIEDAD DEL MUNICIPIO DE MANIZALES
A3: PLAZO | I3: =20/30 -> 0.66666667
A4: CANTIDADES ORIGINALES CONTRATO DE INTERVENTORÍA
A5: PERSONAL PROFESIONAL (1)
A6: CONCEPTO | B6: a | C6: A | D6: B | F6: C | G6: D | H6: E | I6: F
A7: Personal Profesional | B7: CANTIDAD | C7: SUELDO BÁSICO | D7: % DEDICACIÓN | F7: FACTOR MULT. | G7: VALOR MES (axAxBxC) | H7: No DE MESES | I7: TOTAL (DxE)
A8: Director de Interventoría | B8: 0 | C8: 6710444 | D8: 0.5 | F8: =+'FACTOR MULTIPLICADOR'!I56 -> 2.19 | G8: =ROUND(C8*D8*F8*B8,0) -> 0 | H8: 3 | I8: =ROUND(G8*H8,0) -> 0
A9: Ingeniero Residente 1 | B9: 1 | C9: 2750000 | D9: 1 | F9: 2.18 | G9: =ROUND(C9*D9*F9*B9,0) -> 5995000 | H9: =+I3 -> 0.66666667 | I9: =ROUND(G9*H9,0) -> 3996667
A16: SUBTOTAL COSTO PERSONAL PROFESIONAL (1) | I16: =SUM(I8:I10) -> 3996667
A18: PERSONAL TÉCNICO (2)
A19: Personal técnico | B19: CANTIDAD | C19: SUELDOS BÁSICOS | D19: % DEDICACIÓN | F19: FACTOR MULT. | G19: VALOR MES (axAxBxC) | H19: No DE MESES | I19: TOTAL (DxE)
A20: Inspector 1 | B20: 1 | C20: 1423500 | D20: 1 | F20: 2.18 | G20: =ROUND(C20*D20*F20*B20,0) -> 3103230 | H20: =+I3 -> 0.66666667 | I20: =ROUND(G20*H20,0) -> 2068820
A21: Trabajador social - Recursos Humanos | B21: 0 | D21: 0 | F21: =+$F$8 -> 2.19 | G21: =ROUND(C21*D21*F21*B21,0) -> 0 | H21: 0 | I21: =ROUND(G21*H21,0) -> 0
A22: Profesional SISO - SG-SST. | B22: 1 | C22: 1423500 | D22: 0.3 | F22: 2.18 | G22: =ROUND(C22*D22*F22*B22,0) -> 930969 | H22: =+I3 -> 0.66666667 | I22: =ROUND(G22*H22,0) -> 620646
A24: SUBTOTAL COSTO PERSONAL TECNICO (2) | I24: =+SUM(I20:I23) -> 2689466
A26: PERSONAL ADMINISTRATIVO (3)
A27: Personal administrativo | B27: CANTIDAD | C27: SUELDOS BÁSICOS | D27: % DEDICACIÓN | F27: FACTOR MULT. | G27: VALOR MES (axAxBxC) | H27: No DE MESES | I27: TOTAL (DxE)
A29: SUBTOTAL COSTO ADMINISTRATIVO (3) | I29: =+SUM(I28:I28) -> 0
A31: OTROS COSTOS DIRECTOS (4)
A32: Otros Costos Directos | B32: CANTIDAD | E32: No DE MESES | H32: VR UNITARIO | I32: VALOR TOTAL
A33: Oficina/Campamento en la zona del proyecto (incluye dotación y servicios públicos) | B33: 0 | E33: 3 | H33: 700000 | I33: =ROUND(B33*E33*H33,0) -> 0
A34: Ensayos de Laboratorio | B34: 0 | E34: 3 | H34: 1800000 | I34: =ROUND(B34*E34*H34,0) -> 0
A35: Edición de informes, papelería, reproducción de documentos, planos, fotografías, videos, etc. | B35: 1 | E35: =+I3 -> 0.66666667 | H35: 100000 | I35: =ROUND(B35*E35*H35,0) -> 66667
A37: SUBTOTAL COSTOS DIRECTOS VARIABLES (4) | I37: =SUM(I33:I35) -> 66667
A39: RESUMEN GENERAL
A40: COSTO BASICO (1 + 2 + 3+ 4) | I40: =+I16+I24+I37+I29 -> 6752800
A41: IVA 19% | I41: =ROUND(I40*0.19,0) -> 1283032
A42: VALOR TOTAL | I42: =+I40+I41 -> 8035832
A43: NOTAS
A44: 1. Los Ingenieros Residentes, los inspectores y el Personal con dedicación del 100% al Proyecto, deben permanecer en el sitio donde se ejecuta la obra, so pena de incurrir en falta grave a sus obligaciones, con la consecuente aplicación de las sanciones establecidas contractualmente.
A45: 2. Para el reconocimiento de los gastos deberá tenerse en cuenta la forma de pago establecida en los estudios previos, pliego de condiciones y contrato.
A46: 2.1. Los costos directos de personal deben estar soportados por la nómina firmada, los cuales se anexarán al acta de costos para el trámite correspondiente ante el municipio.
A47: 2.2. Edición de Informes, Papelería, Reproducción de Documentos, Planos, Fotografías, se reembolsarán según su costo real, contra la presentación de facturas y soportes respectivos.
A48: 2.3. El personal de interventoría NO tendrá prima regional y los costos correspondientes a las jornadas adicionales de trabajo no se reconocerán.. | L48: 36161240
L49: 8035832
