Workbook
Name \0: #REF!
Name \00: #REF!
Name \a: #REF!
Name \AA: [1]LIQUIDACION!#REF!
Name \b: [2]STRSUMM0!#REF!
Name \bb: [2]STRSUMM0!#REF!
Name \E: #REF!
Name \EE: #REF!
Name \G: #REF!
Name \k: '[3]7422CW00'!#REF!
Name \l: [4]STRSUMM0!#REF!
Name \M: #REF!
Name \ñ: '[5]7422CW00'!#REF!
Name \P: #REF!
Name \R: #REF!
Name \s: #REF!
Name \V: #REF!
Name \X: [0]!ERR
Name \Z: [0]!ERR
Name _________AFC1: [6]INV!$A$25:$D$28
Name _________AFC3: [6]INV!$F$25:$I$28
Name _________AFC5: [6]INV!$K$25:$N$28
Name _________BGC1: [6]INV!$A$5:$D$8
Name _________BGC3: [6]INV!$F$5:$I$8
Name _________BGC5: [6]INV!$K$5:$N$8
Name _________CAC1: [6]INV!$A$19:$D$22
Name _________CAC3: [6]INV!$F$19:$I$22
Name _________CAC5: [6]INV!$K$19:$N$22
Name _________PJ50: #REF!
Name _________SBC1: [6]INV!$A$12:$D$15
Name _________SBC3: [6]INV!$F$12:$I$15
Name _________SBC5: [6]INV!$K$12:$N$15
Name ________AFC1: [6]INV!$A$25:$D$28
Name ________AFC3: [6]INV!$F$25:$I$28
Name ________AFC5: [6]INV!$K$25:$N$28
Name ________BGC1: [6]INV!$A$5:$D$8
Name ________BGC3: [6]INV!$F$5:$I$8
Name ________BGC5: [6]INV!$K$5:$N$8
Name ________CAC1: [6]INV!$A$19:$D$22
Name ________CAC3: [6]INV!$F$19:$I$22
Name ________CAC5: [6]INV!$K$19:$N$22
Name ________MA2: #REF!
Name ________PJ50: #REF!
Name ________SBC1: [6]INV!$A$12:$D$15
Name ________SBC3: [6]INV!$F$12:$I$15
Name ________SBC5: [6]INV!$K$12:$N$15
Name _______AFC1: [6]INV!$A$25:$D$28
Name _______AFC3: [6]INV!$F$25:$I$28
Name _______AFC5: [6]INV!$K$25:$N$28
Name _______BGC1: [6]INV!$A$5:$D$8
Name _______BGC3: [6]INV!$F$5:$I$8
Name _______BGC5: [6]INV!$K$5:$N$8
Name _______CAC1: [6]INV!$A$19:$D$22
Name _______CAC3: [6]INV!$F$19:$I$22
Name _______CAC5: [6]INV!$K$19:$N$22
Name _______MA2: #REF!
Name _______PJ50: #REF!
Name _______SBC1: [6]INV!$A$12:$D$15
Name _______SBC3: [6]INV!$F$12:$I$15
Name _______SBC5: [6]INV!$K$12:$N$15

Sheet PRESUPUESTO OFICIAL (Entidad)
C3: Formulario 1 - Propuesta económica - Licitación de obra pública de infraestructura social
C4: Código | D4: CCE-EICP-FM-116
C6: PRESUPUESTO OFICIAL DEL FDLB
C7: OBJETO: EJECUCIÓN DE LAS OBRAS POR EL SISTEMA DE PRECIOS UNITARIOS FIJOS A MONTO AGOTABLE SIN FÓRMULA DE REAJUSTE PARA LA ADECUACION Y MANTENIMIENTO DE LA CASA DE PARTICIPACION EN LA LOCALIDAD DE BOSA | M7: VALORES OFERTADOS POR EL PROPONENTE
M8: NOMBRE DEL PROPONENTE
C9: Nº | D9: ÍTEM DE PAGO | E9: DESCRIPCIÓN | F9: UND. | G9: CANTIDAD | H9: VALOR UNITARIO | I9: VALOR TOTAL
M10: VALOR UNITARIO SIN AIU OFERTADO POR EL PROPONENTE | N10: VALOR UNITARIO SIN AIU (CORREGIDO) | O10: VALOR PARCIAL CORREGIDO | P10: VERIFICACIÓN
D11: 1 | E11: PRELIMINARES | M11: PRELIMINARES
C12: 13385 | D12: 1.001 | E12: Demolicion cielo raso falso+andamio+estruct.met | F12: M2 | G12: 1 | H12: =VLOOKUP(C12,Hoja1!$A$1:$D$12892,4,0) -> 68921.9 | I12: =H12*G12 -> 68921.9 | N12: =ROUND((M12),0) -> 0 | O12: =ROUND((G12*N12),0) -> 0 | P12: =IF(OR(O12<=0,O12>$I12),"ERROR","OK") -> ERROR
C13: 14139 | E13: Demolicion enchape de piso e=2cm | F13: M2 | G13: 1 | H13: =VLOOKUP(C13,Hoja1!$A$1:$D$12892,4,0) -> 9600.22 | I13: =H13*G13 -> 9600.22
C14: 16453 | E14: Demolición de acabados de piso, incluye retiro de escombros de acuerdo a las disposiciones técnicas vigentes | F14: M2 | G14: 1 | H14: =VLOOKUP(C14,Hoja1!$A$1:$D$12892,4,0) -> 8403.44 | I14: =H14*G14 -> 8403.44
C15: 16455 | E15: Demolición Muro mamposteria (e = >0.16m) Demolición de muros, incluye retiro de escombros de acuerdo a las disposiciones técnicas vigentes (PARA TABLEROS ELECTRICOS) | F15: M2 | G15: 1 | H15: =VLOOKUP(C15,Hoja1!$A$1:$D$12892,4,0) -> 37557.06 | I15: =H15*G15 -> 37557.06
C16: 13380 | E16: Desmonte de vidrio y/o espejo (Incluye trasiego y retiro) Auditorio | F16: M2 | G16: 1 | H16: =VLOOKUP(C16,Hoja1!$A$1:$D$12892,4,0) -> 5552.26 | I16: =H16*G16 -> 5552.26
C17: Subtotal | I17: =SUM(I12:I16) -> 130034.88 | M17: =SUM(M12:M16) -> 0 | O17: =SUM(O12:O12) -> 0 | P17: =IF(OR(O17<=0,O17>$M17,COUNTIF(P12:P12,"ERROR")>0),"ERROR","OK") -> ERROR
D18: 2 | E18: DESMONTES Y RETIROS | M18: DESMONTES Y RETIROS
C19: 13892 | D19: 2001 | E19: Desinstalacion de Flanche lamina galv. Desarrollo 0.25 cal 22+regata | F19: ML | G19: 1 | H19: =VLOOKUP(C19,Hoja1!$A$1:$D$12892,4,0) -> 6511.4 | I19: =H19*G19 -> 6511.4 | N19: =ROUND((M19),0) -> 0 | O19: =ROUND((G19*N19),0) -> 0 | P19: =IF(OR(O19<=0,O19>$I19),"ERROR","OK") -> ERROR
C20: 20 | D20: 2.002 | E20: Desmonte Marco y Puerta Metálica(carg+retir) | F20: UN | G20: 1 | H20: =VLOOKUP(C20,Hoja1!$A$1:$D$12892,4,0) -> 67883.01 | I20: =H20*G20 -> 67883.01 | N20: =ROUND((M20),0) -> 0 | O20: =ROUND((G20*N20),0) -> 0 | P20: =IF(OR(O20<=0,O20>$I20),"ERROR","OK") -> ERROR
C21: 14143 | E21: Desmonte de lavamanos (Incluye cargue y retiro) | F21: UN | G21: 1 | H21: =VLOOKUP(C21,Hoja1!$A$1:$D$12892,4,0) -> 29194 | I21: =H21*G21 -> 29194
C22: 12785 | E22: Desmonte divisiones metálicas (Incluye cargue y retiro) | F22: UN | G22: 1 | H22: =VLOOKUP(C22,Hoja1!$A$1:$D$12892,4,0) -> 34508.44 | I22: =H22*G22 -> 34508.44
C23: 12536 | E23: Desmonte Aparatos Sanitarios | F23: UN | G23: 1 | H23: =VLOOKUP(C23,Hoja1!$A$1:$D$12892,4,0) -> 33223.15 | I23: =H23*G23 -> 33223.15
C24: 11603 | E24: Desmonte de vidrio templado de 8mm para realizar cambio de piso en segundo piso (Desmonte de vidrio y/o espejo (Incluye trasiego y retiro) | F24: M2 | G24: 1 | H24: =VLOOKUP(C24,Hoja1!$A$1:$D$12892,4,0) -> 31943.04 | I24: =H24*G24 -> 31943.04
C25: 11300 | E25: Desmonte red eléctrica (Incluye retiro) | F25: ML | G25: 1 | H25: =VLOOKUP(C25,Hoja1!$A$1:$D$12892,4,0) -> 14062.8 | I25: =H25*G25 -> 14062.8
C26: 12537 | E26: Desmonte red eléctrica (Incluye retiro) | F26: ML | G26: 1 | H26: =VLOOKUP(C26,Hoja1!$A$1:$D$12892,4,0) -> 24970.96 | I26: =H26*G26 -> 24970.96
C27: 11037 | E27: Desmonte aparatos tipio push | F27: ML | G27: 1 | H27: =VLOOKUP(C27,Hoja1!$A$1:$D$12892,4,0) -> 4836.38 | I27: =H27*G27 -> 4836.38
C28: 11519 | E28: Desmonte y reinstalación de tomacorrientes (Incluye desmonte de tuberías, canaletas electricas cableado, aparatos) | F28: ML | G28: 1 | H28: =VLOOKUP(C28,Hoja1!$A$1:$D$12892,4,0) -> 10908.55 | I28: =H28*G28 -> 10908.55
C29: Subtotal | I29: =SUM(I19:I28) -> 258041.73 | M29: =SUM(M19:M28) -> 0 | O29: =SUM(O19:O26) -> 0 | P29: =IF(OR(O29<=0,O29>$M29,COUNTIF(P19:P26,"ERROR")>0),"ERROR","OK") -> ERROR
D30: 3 | E30: EXCAVACIONES CON RETIRO | M30: EXCAVACIONES CON RETIRO
C31: 12175 | D31: 3.001 | E31: Excavacion manual con retiro en recebo | F31: M3 | G31: 1 | H31: =VLOOKUP(C31,Hoja1!$A$1:$D$12892,4,0) -> 80914.99 | I31: =G31*H31 -> 80914.99 | N31: =ROUND((M31),0) -> 0 | O31: =ROUND((G31*N31),0) -> 0 | P31: =IF(OR(O31<=0,O31>$I31),"ERROR","OK") -> ERROR
C32: Subtotal | I32: =SUM(I31:I31) -> 80914.99 | M32: =SUM(M31:M31) -> 0 | O32: =SUM(O31:O31) -> 0 | P32: =IF(OR(O32<=0,O32>$M32,COUNTIF(P31:P31,"ERROR")>0),"ERROR","OK") -> ERROR
D33: 5 | E33: CUBIERTAS | M33: CUBIERTAS
C34: 10952 | D34: 3.004 | E34: Suministro e instalacion teja termAcustic Pint2cara poliu-spray | F34: M2 | G34: 1 | H34: =44337+44296 -> 88633 | I34: =G34*H34 -> 88633 | N34: =ROUND((M34),0) -> 0 | O34: =ROUND((G34*N34),0) -> 0 | P34: =IF(OR(O34<=0,O34>$I34),"ERROR","OK") -> ERROR
C35: 13155 | E35: SUMINISTRO E INSTALACION MARQUESINA ESTRUCTURA EN ALUMINIO CON TEJA TERMOACUSTICA | F35: M2 | G35: 1 | H35: =96043.21+44337 -> 140380.21 | I35: =G35*H35 -> 140380.21
C36: APU | D36: Inspeccion de cubierta y curacion de goteras en toda la superficie. Verificacionde translapo de tejas y cambio de empaques. Aplicación de sellantes para goteras | E36: Inspeccion de cubierta y curacion de goteras en toda la superficie. Verificacionde translapo de tejas y cambio de empaques. Aplicación de sellantes para goteras | F36: M2 | G36: 1 | H36: 16405.06 | I36: =G36*H36 -> 16405.06
C37: 13827 / 10930 | E37: Limpeza y aplicación de impermealizante viga canal | F37: ML | G37: 1 | H37: =15540+38498 -> 54038 | I37: =G37*H37 -> 54038
C38: 13545 | E38: Perforacion de viga canal para intalacion de gargolas de emergencia. Suministro e instalacion | F38: UN | G38: 1 | H38: =VLOOKUP(C38,Hoja1!$A$1:$D$12892,4,0) -> 56323.45 | I38: =G38*H38 -> 56323.45
C39: 10954 | E39: Suministro e instalacion Flanche lamina galv. Desarrollo 0.25 cal 22+regata | F39: ML | G39: 1 | H39: =VLOOKUP(C39,Hoja1!$A$1:$D$12892,4,0) -> 39570.19 | I39: =G39*H39 -> 39570.19
C40: Subtotal | I40: =SUM(I34:I39) -> 395349.91 | M40: =SUM(M34:P39) -> 0 | O40: =SUM(O34:O34) -> 0 | P40: =IF(OR(O40<=0,O40>$M40,COUNTIF(P34:P34,"ERROR")>0),"ERROR","OK") -> ERROR
D41: 7 | E41: MAMPOSTERIA | M41: MAMPOSTERIA
C42: 00191 | D42: 5.001 | E42: Resanes generales - pañetes/repellos/revoques | F42: M2 | G42: 1 | H42: 12301.9 | I42: =H42*G42 -> 12301.9
C43: Subtotal | I43: =SUM(I42) -> 12301.9 | M43: =SUM(M42) -> 0
...

Sheet Hoja1
A1: 10627-1 | B1: ACOMETIDA 3 X 1/0 | C1: ML | D1: 127487.97
A2: 15852 | B2: Cinta LED en perfil para exteriores IP65 por metro lineal COMETAS | C2: UN | D2: 322244.98
A3: 10469 | B3: PATCH CORD CAT- 6 (3 FT) (1 METRO) - CEFE COMETAS apantallami.utp y clasif Lszh (Sumin+Instalac) | C3: UN | D3: 22874.54
A4: 19202 | B4: Válvula Mariposa PVC Ø4" - Suministro e Instalación | C4: UN | D4: 622337.23
A5: 18436 | B5: (BL2) -Luminaria Bolardo Exterior corto LED 10.8W | C5: UN | D5: 66140.5
A6: 18149 | B6: (BRANCH 2 - CONEXIÓN DE UNIDADES INTERIORES LIQ - GAS.Cefe Cometas(Sumin+instalación) | C6: UN | D6: 208411.05
A7: 18391 | B7: (CR1)-Accesorio Esquinero de 90grados+difusor | C7: UN | D7: 66140.5
A8: 18400 | B8: (CR2)-Accesorio Esquinero de 90grados+difusor Lumi | C8: UN | D8: 66140.5
A9: 18395 | B9: (DL1) - Luminaria tipo Downlight redondo LED 7.9W | C9: UN | D9: 59907.62
A10: 18398 | B10: (DL2) - Luminaria tipo Decorativa esferica con bom | C10: UN | D10: 88657.76
A11: 18388 | B11: (DL3) Luminaria tipo cilindro PCB FORTIMO12W 4000K | C11: UN | D11: 72435.62
A12: 18402 | B12: (DRX150)1-Driver de ULP150 para LED150W de 6.3Amp | C12: UN | D12: 59907.62
A13: 18403 | B13: (DRX240) Driver de ULP150 para LED 240W de 6.3Amp | C13: UN | D13: 59907.62
... A301: 9005 | B301: Acometida BT 3#4/0+1#2/0+1#2T AWG Fontanar NO USAR | C301: ML | D301: 0
A302: 10626-1 | B302: ACOMETIDA BT 3X2 ALUMINIO | C302: ML | D302: 23213.82
A303: 15675 | B303: Acometida BT en Aluminio 3#1/0 +1#1/0 | C303: ML | D303: 44517.83
A304: 15673 | B304: Acometida BT en Aluminio 3#2 +1#2 | C304: ML | D304: 27421.81
A305: 16774 | B305: Acometida BT en Aluminio 3#2 +1#2 SERIE 8.000 | C305: ML | D305: 10589.85
A306: 15671 | B306: Acometida BT en Aluminio 3#4 +1#4 | C306: ML | D306: 24221.91
A307: 15301 | B307: Acometida cable AL 2#4 AWG THHN AP | C307: ML | D307: 14228.93
A308: 16716 | B308: Acometida Cable Aluminio 25mm2(Transf. a Equipo) | C308: ML | D308: 9458.41
A309: 16301 | B309: Acometida Cable Multifilar #6 | C309: UN | D309: 151402.45
A310: 18010 | B310: ACOMETIDA CONTROL REFRIGERANTE VARIABLE | C310: ML | D310: 38547.77
A311: 15732 | B311: Acometida de MT. Transformador, alumbrado publico | C311: ML | D311: 39474.93
A312: 19006 | B312: ACOMETIDA ELECTRICA POTENCIA CONTROL CEFE COMETAS | C312: ML | D312: 92628.2
A313: 11638 | B313: Acometida en 3Nº6 +1 Nº 8 + 1 Nº 8 T | C313: ML | D313: 45000.85
A314: 16805 | B314: Acometida en 3Nº6 +1 Nº 8 + 1 Nº 8 T | C314: ML | D314: 46877.69
... A1237: 839 | B1237: BASE GRAVA RECEBO Compac. Mec. | C1237: M3 | D1237: 140790.49
A1238: 10657-1 | B1238: BASE MDC1 COMPACTO ESPESOR 5.0 Cm PARA RECONSTRUCCION DE PAVIMENTO | C1238: UN | D1238: 58234.4
A1239: 778 | B1239: BASE MURO CERRAMIENTO EN LADRILLO H=0.60 | C1239: ML | D1239: 24932.46
A1240: 13828 | B1240: BASE PARRILLA REFLECTORES-TORRES CAMPIN(S/DISEÑ) | C1240: UN | D1240: 24131239
A1241: 67 | B1241: BASE PLACA CONCRETO POBRE | C1241: M3 | D1241: 591535.31
A1242: 12524 | B1242: BASE PLACA CONCRETO POBRE(2000psi) | C1242: M3 | D1242: 601405.65
A1243: 12497 | B1243: Base placa e=0.03 Concr. Pobre 2000psi** | C1243: M2 | D1243: 19916.39
A1244: 742 | B1244: BASE PLACA e=0.05 Concr. Pobre (1,500 psi) | C1244: M2 | D1244: 26555.33
A1245: 11376 | B1245: Base placa e=0.05 Concr. Pobre 2000psi** | C1245: M2 | D1245: 28743.87
A1246: 11640 | B1246: Base placa e=0.05 Concr. Pobre 2500psi** | C1246: M2 | D1246: 28981.17
A1247: 11780 | B1247: Base plana para punta 5/8" en cobre | C1247: UN | D1247: 3176.95
A1248: 14313 | B1248: Base Plastica Parasol (suministro) | C1248: UN | D1248: 0
A1249: 68 | B1249: BASE RECEBO SUBBASE COMPACTACION Mec. | C1249: M3 | D1249: 91966.95
...
