Workbook

Sheet PPTO CD BV LA ESTRELLA
C3: Código | D3: CCE-EICP-FM-14 | E3: Versión | F3: 2
C4: FORMULARIO 1
C5: PRESUPUESTO - COSTO DIRECTO
C6: [Las Entidades Estatales deben usar el presente formulario para determinar el Presupuesto Oficial del Proceso de Contratación y solo pueden modificar o ajustar aquello que en este se permite expresamente] [El presente formulario aplica para los procesos de contratación que tengan como forma de pago precios unitarios. Tratándose de otras modalidades de precio, la Entidad debe ajustarlo cuando corresponde a: precio global, llave en mano, administración delegada, reembolso de gastos o cualquier otra forma de precio.]
C8: Adicionalmente, cuando el proceso de contratación es estructurado por precios unitarios, la Entidad debe aplicar las notas 1, 2 y 3 del presente formulario y las casillas de "Descripción", "Porcentaje" de la Administración, Imprevisto, Utilidad y total A.I.U. resaltadas en color amarillo. Tratándose de otras modalidades de precio, la Entidad puede o no configurar los mismos aspectos.
C9: MEJORAMIENTO DEL ESPACIO PUBLICO MEDIANTE LA CONSTRUCCION DE BULEVARES BARRIO LA ESTRELLA DE LA CIUDAD DE MANIZALES
C10: LOCALIZADO ENTRE LA CALLE 62 Y CRA 24A Y ENTRE CALLE 58 Y CRA 23 A
C11: No. | D11: ITEM DE PAGO | E11: ESPECIFICACIONES | G11: DESCRIPCION | H11: UND. | I11: CANTIDAD | J11: VALOR UNITARIO | K11: VALOR TOTAL
C12: 1 | G12: PRELIMINARES | K12: =SUM(K13:K24) -> 641668611
C13: 1.01 | D13: 001.085 | G13: =VLOOKUP(D13,[1]Actividades!$A$8:$E$2745,2,FALSE) -> LOCALIZACION Y REPLANTEO DE VIAS incluye eje de via y laterales con andenes | H13: =VLOOKUP(D13,[1]Actividades!$A$8:$E$2745,4,FALSE) -> ML | I13: 1674 | J13: =VLOOKUP(D13,[1]Actividades!$A$8:$E$2745,5,FALSE) -> 4750 | K13: =IFERROR(ROUND(I13*J13,0),0) -> 7951500
C14: 1.02 | D14: 001.001 | G14: =VLOOKUP(D14,[1]Actividades!$A$8:$E$2745,2,FALSE) -> LOCALIZACION Y REPLANTEO PLAZOLETA | H14: =VLOOKUP(D14,[1]Actividades!$A$8:$E$2745,4,FALSE) -> M2 | I14: 338 | J14: =VLOOKUP(D14,[1]Actividades!$A$8:$E$2745,5,FALSE) -> 4726 | K14: =IFERROR(ROUND(I14*J14,0),0) -> 1597388
C15: 1.03 | D15: 029.007 | G15: =VLOOKUP(D15,[1]Actividades!$A$8:$E$2745,2,FALSE) -> DEMOLICIÓN DE ANDENES EN CONCRETO HIDRÁULICO - INCLUYE CARGUE A MANO, RETIRO Y DISPOSICIÓN EN BOTADERO | H15: =VLOOKUP(D15,[1]Actividades!$A$8:$E$2745,4,FALSE) -> M3 | I15: 660 | J15: =VLOOKUP(D15,[1]Actividades!$A$8:$E$2745,5,FALSE) -> 116870 | K15: =IFERROR(ROUND(I15*J15,0),0) -> 77134200
C16: 1.04 | D16: 029.007A | G16: =VLOOKUP(D16,[1]Actividades!$A$8:$E$2745,2,FALSE) -> DEMOLICIÓN DE SARDINELES EN CONCRETO HIDRÁULICO - INCLUYE CARGUE A MANO, RETIRO Y DISPOSICIÓN EN BOTADERO | H16: =VLOOKUP(D16,[1]Actividades!$A$8:$E$2745,4,FALSE) -> M3 | I16: 283 | J16: =VLOOKUP(D16,[1]Actividades!$A$8:$E$2745,5,FALSE) -> 116870 | K16: =IFERROR(ROUND(I16*J16,0),0) -> 33074210
C17: 1.05 | D17: 029.013 | G17: =VLOOKUP(D17,[1]Actividades!$A$8:$E$2745,2,FALSE) -> DEMOLICION MECANICA DE PAVIMENTO CONCRETO ASFALTICO. INCLUYE RETIRO Y DISPOSICION EN SITIO AUTORIZADO | H17: =VLOOKUP(D17,[1]Actividades!$A$8:$E$2745,4,FALSE) -> M3 | I17: 417 | J17: =VLOOKUP(D17,[1]Actividades!$A$8:$E$2745,5,FALSE) -> 103479 | K17: =IFERROR(ROUND(I17*J17,0),0) -> 43150743
C18: 1.06 | D18: 002.001 | G18: =VLOOKUP(D18,[1]Actividades!$A$8:$E$2745,2,FALSE) -> EXCAVACIÓN EN ZANJA - MATERIAL COMÚN - 0.0 A 2.0 M | H18: =VLOOKUP(D18,[1]Actividades!$A$8:$E$2745,4,FALSE) -> M3 | I18: 3321 | J18: =VLOOKUP(D18,[1]Actividades!$A$8:$E$2745,5,FALSE) -> 36872 | K18: =IFERROR(ROUND(I18*J18,0),0) -> 122451912
C19: 1.07 | D19: 002.016 | G19: =VLOOKUP(D19,[1]Actividades!$A$8:$E$2745,2,FALSE) -> EXCAVACIÓN A CIELO ABIERTO - MATERIAL COMÚN - 0.0 A 2.0 M | H19: =VLOOKUP(D19,[1]Actividades!$A$8:$E$2745,4,FALSE) -> M3 | I19: 1196 | J19: =VLOOKUP(D19,[1]Actividades!$A$8:$E$2745,5,FALSE) -> 40032 | K19: =IFERROR(ROUND(I19*J19,0),0) -> 47878272
C20: 1.08 | D20: 002.039 | G20: =VLOOKUP(D20,[1]Actividades!$A$8:$E$2745,2,FALSE) -> EXCAVACION MECANICA EN MATERIAL COMUN | H20: =VLOOKUP(D20,[1]Actividades!$A$8:$E$2745,4,FALSE) -> M3 | I20: 1252 | J20: =VLOOKUP(D20,[1]Actividades!$A$8:$E$2745,5,FALSE) -> 60922 | K20: =IFERROR(ROUND(I20*J20,0),0) -> 76274344
C21: 1.09 | D21: 002.089 | G21: =VLOOKUP(D21,[1]Actividades!$A$8:$E$2745,2,FALSE) -> RETIRO DE MATERIAL SOBRANTE EN VOLQUETA, CARGUE MANUAL, DISPOSICIÓN EN BOTADERO (HASTA 25 KM) | H21: =VLOOKUP(D21,[1]Actividades!$A$8:$E$2745,4,FALSE) -> M3-Suelto | I21: 5559 | J21: =VLOOKUP(D21,[1]Actividades!$A$8:$E$2745,5,FALSE) -> 40777 | K21: =IFERROR(ROUND(I21*J21,0),0) -> 226679343
C22: 1.1 | G22: DESMONTE DE BANCAS METALICAS Y LISTONES DE MADERA | H22: und | I22: 10 | J22: 135000 | K22: =IFERROR(ROUND(I22*J22,0),0) -> 1350000
C23: 1.11 | D23: 028.094 | G23: =VLOOKUP(D23,[1]Actividades!$A$8:$E$2745,2,FALSE) -> RETIRO DE SEÑALES VERTICALES ANCLADAS EN ANDEN, ZONA VERDE O ADOSADAS A POSTE EXISTENTE O PARED (INCLUYE PEDESTAL Y TABLERO) CON ENTREGA A LA SDM (INCLUYE SEÑALES SENCILLAS Y DUPLEX) | H23: =VLOOKUP(D23,[1]Actividades!$A$8:$E$2745,4,FALSE) -> UND | I23: 19 | J23: =VLOOKUP(D23,[1]Actividades!$A$8:$E$2745,5,FALSE) -> 69789 | K23: =IFERROR(ROUND(I23*J23,0),0) -> 1325991
C24: 1.12 | D24: 021.024 | G24: =VLOOKUP(D24,[1]Actividades!$A$8:$E$2745,2,FALSE) -> SUMINISTRO, TRANSPORTE E INSTALACION EMPRADIZACIÓN CON BLOQUES DE CÉSPED | H24: =VLOOKUP(D24,[1]Actividades!$A$8:$E$2745,4,FALSE) -> M2 | I24: 158 | J24: =VLOOKUP(D24,[1]Actividades!$A$8:$E$2745,5,FALSE) -> 17726 | K24: =IFERROR(ROUND(I24*J24,0),0) -> 2800708
C25: 2 | G25: BASES Y PAVIMENTOS | K25: =SUM(K26:K37) -> 1772116735
C26: 2.01 | D26: 002A.022 | G26: =VLOOKUP(D26,[1]Actividades!$A$8:$E$2745,2,FALSE) -> SUSTITUCION EN ARENA LIMPIA | H26: =VLOOKUP(D26,[1]Actividades!$A$8:$E$2745,4,FALSE) -> M3 | I26: 231 | J26: =VLOOKUP(D26,[1]Actividades!$A$8:$E$2745,5,FALSE) -> 126458 | K26: =IFERROR(ROUND(I26*J26,0),0) -> 29211798
C27: 2.02 | D27: 002.049 | G27: =VLOOKUP(D27,[1]Actividades!$A$8:$E$2745,2,FALSE) -> RELLENO EN MATERIAL SELECCIONADO PROVENIENTE DE LA EXCAVACION (APISONADO) | H27: =VLOOKUP(D27,[1]Actividades!$A$8:$E$2745,4,FALSE) -> M3 | I27: 3346 | J27: =VLOOKUP(D27,[1]Actividades!$A$8:$E$2745,5,FALSE) -> 42053 | K27: =IFERROR(ROUND(I27*J27,0),0) -> 140709338
C28: 2.03 | D28: 004.013 | G28: =VLOOKUP(D28,[1]Actividades!$A$8:$E$2745,2,FALSE) -> SUMINISTRO, TRANSPORTE E INSTALACION AFIRMADO COMPACTADO PARA ESTRUCTURAS | H28: =VLOOKUP(D28,[1]Actividades!$A$8:$E$2745,4,FALSE) -> M3 | I28: 1038 | J28: =VLOOKUP(D28,[1]Actividades!$A$8:$E$2745,5,FALSE) -> 136601 | K28: =IFERROR(ROUND(I28*J28,0),0) -> 141791838
C29: 2.04 | D29: 004.005 | G29: =VLOOKUP(D29,[1]Actividades!$A$8:$E$2745,2,FALSE) -> SUMINISTRO, TRANSPORTE E INSTALACION SUB BASE COMPACTADA CON RANA | H29: =VLOOKUP(D29,[1]Actividades!$A$8:$E$2745,4,FALSE) -> M3 | I29: 266 | J29: =VLOOKUP(D29,[1]Actividades!$A$8:$E$2745,5,FALSE) -> 197034 | K29: =IFERROR(ROUND(I29*J29,0),0) -> 52411044
C30: 2.05 | D30: 033.117 | G30: =VLOOKUP(D30,[1]Actividades!$A$8:$E$2745,2,FALSE) -> SUMINISTRO, TRANSPORTE E INSTALACION PAVIMENTO EN CONCRETO PREMEZCLADO MR 42 | H30: =VLOOKUP(D30,[1]Actividades!$A$8:$E$2745,4,FALSE) -> M3 | I30: 235 | J30: =VLOOKUP(D30,[1]Actividades!$A$8:$E$2745,5,FALSE) -> 1049621 | K30: =IFERROR(ROUND(I30*J30,0),0) -> 246660935
C31: 2.06 | D31: 023.045 | G31: =VLOOKUP(D31,[1]Actividades!$A$8:$E$2745,2,FALSE) -> CANASTILLA DE SOPORTE DE DOVELAS EN HIERRO 3/8" Y 1/4" | H31: =VLOOKUP(D31,[1]Actividades!$A$8:$E$2745,4,FALSE) -> ML | I31: 259 | J31: =VLOOKUP(D31,[1]Actividades!$A$8:$E$2745,5,FALSE) -> 16503 | K31: =IFERROR(ROUND(I31*J31,0),0) -> 4274277
C32: 2.07 | D32: 023.046 | G32: =VLOOKUP(D32,[1]Actividades!$A$8:$E$2745,2,FALSE) -> DOVELAS DE ACERO LISO 60000 PSI PARA PAVIMENTOS | H32: =VLOOKUP(D32,[1]Actividades!$A$8:$E$2745,4,FALSE) -> KG | I32: 264 | J32: =VLOOKUP(D32,[1]Actividades!$A$8:$E$2745,5,FALSE) -> 14923 | K32: =IFERROR(ROUND(I32*J32,0),0) -> 3939672
C33: 2.08 | D33: 023.034 | G33: =VLOOKUP(D33,[1]Actividades!$A$8:$E$2745,2,FALSE) -> CORTE MECANIZADO DE PAVIMENTO A=5 mm profundidad un tercio del espesor | H33: =VLOOKUP(D33,[1]Actividades!$A$8:$E$2745,4,FALSE) -> ML | I33: 1616 | J33: =VLOOKUP(D33,[1]Actividades!$A$8:$E$2745,5,FALSE) -> 10064 | K33: =IFERROR(ROUND(I33*J33,0),0) -> 16263424
C34: 2.09 | D34: 023.036 | G34: =VLOOKUP(D34,[1]Actividades!$A$8:$E$2745,2,FALSE) -> SUMINISTRO, TRANSPORTE E INSTALACION SELLO DE JUNTA DE PAVIMENTO RIGIDO 5mm | H34: =VLOOKUP(D34,[1]Actividades!$A$8:$E$2745,4,FALSE) -> ML | I34: 6843 | J34: =VLOOKUP(D34,[1]Actividades!$A$8:$E$2745,5,FALSE) -> 12042 | K34: =IFERROR(ROUND(I34*J34,0),0) -> 82403406
C35: 2.1 | D35: 023.002 | G35: =VLOOKUP(D35,[1]Actividades!$A$8:$E$2745,2,FALSE) -> SUMINISTRO, TRANSPORTE E INSTALACION IMPRIMACION CON EMULSION ASFALTICA | H35: =VLOOKUP(D35,[1]Actividades!$A$8:$E$2745,4,FALSE) -> M2 | I35: 7733 | J35: =VLOOKUP(D35,[1]Actividades!$A$8:$E$2745,5,FALSE) -> 6037 | K35: =IFERROR(ROUND(I35*J35,0),0) -> 46684121
C36: 2.11 | D36: 023.004 | G36: =VLOOKUP(D36,[1]Actividades!$A$8:$E$2745,2,FALSE) -> SUMINISTRO, TRANSPORTE E INSTALACION MEZCLA ASFALTICA TIPO MDC-19. Extendido mecánico y compactado | H36: =VLOOKUP(D36,[1]Actividades!$A$8:$E$2745,4,FALSE) -> M3 | I36: 642 | J36: =VLOOKUP(D36,[1]Actividades!$A$8:$E$2745,5,FALSE) -> 1330695 | K36: =IFERROR(ROUND(I36*J36,0),0) -> 854306190
C37: 2.12 | D37: 023.067 | G37: =VLOOKUP(D37,[1]Actividades!$A$8:$E$2745,2,FALSE) -> SUMINISTRO, TRANSPORTE E INSTALACIÓN DE GEOMALLA BIAXIAL DE RESISTENCIA A LA CARGA CÍCLICA DE 800 KN/M INSTALADA EN LA MITAD DE LA CARPETA ASFALTICA | H37: =VLOOKUP(D37,[1]Actividades!$A$8:$E$2745,4,FALSE) -> M2 | I37: 7308 | J37: =VLOOKUP(D37,[1]Actividades!$A$8:$E$2745,5,FALSE) -> 20999 | K37: =IFERROR(ROUND(I37*J37,0),0) -> 153460692
C38: 3 | G38: ANDENES Y SARDINELES | K38: =SUM(K39:K43) -> 1603744422
C39: 3.01 | D39: 021.088 | G39: =VLOOKUP(D39,[1]Actividades!$A$8:$E$2745,2,FALSE) -> CONSTRUCCION DE SARDINEL PARA CONFORMACION DE ANDENES H= HASTA 25 CM CHAFLANADO ENTRE A=10 CM Y 15 CM, INCLUYE REF LONG 2 VARILLAS DE 3/8", FLEJES TRANSVERSALES DE 1/4" CADA 15 CM ANCLADOS A PAVIMENTO (INCLUYE ANCLAJES EPOXICOS) | H39: =VLOOKUP(D39,[1]Actividades!$A$8:$E$2745,4,FALSE) -> ML | I39: 3852 | J39: =VLOOKUP(D39,[1]Actividades!$A$8:$E$2745,5,FALSE) -> 124172 | K39: =IFERROR(ROUND(I39*J39,0),0) -> 478310544
C40: 3.02 | G40: SUMINISTRO, TRANSPORTE E INSTALACION ANDEN CONCRETO 3000 PSI E= 0.08M. ACABADO: ESCOBIADO o PALETEADO, DILATADO SEGÚN DISEÑO | H40: M2 | I40: 9927 | J40: 92500 | K40: =IFERROR(ROUND(I40*J40,0),0) -> 918247500
C41: 3.03 | D41: 021A.051 | F41: Guía | G41: =VLOOKUP(D41,[1]Actividades!$A$8:$E$2745,2,FALSE) -> SUMINISTRO, TRANSPORTE E INSTALACION LOSETA 20x20cm TACTIL / GUIA-ALERTA PREFABRICADA EN CONCRETO GRIS O COLOR. | H41: =VLOOKUP(D41,[1]Actividades!$A$8:$E$2745,4,FALSE) -> ML | I41: 3324 | J41: =VLOOKUP(D41,[1]Actividades!$A$8:$E$2745,5,FALSE) -> 37265 | K41: =IFERROR(ROUND(I41*J41,0),0) -> 123868860
C42: 3.04 | D42: 021A.051 | F42: Alerta | G42: =VLOOKUP(D42,[1]Actividades!$A$8:$E$2745,2,FALSE) -> SUMINISTRO, TRANSPORTE E INSTALACION LOSETA 20x20cm TACTIL / GUIA-ALERTA PREFABRICADA EN CONCRETO GRIS O COLOR. | H42: =VLOOKUP(D42,[1]Actividades!$A$8:$E$2745,4,FALSE) -> ML | I42: 414 | J42: =VLOOKUP(D42,[1]Actividades!$A$8:$E$2745,5,FALSE) -> 37265 | K42: =IFERROR(ROUND(I42*J42,0),0) -> 15427710
D43: 033.122 | E43: 0 | F43: 0 | G43: SUMINISTRO, TRANSPORTE E INSTALACION DE RAMPAS Y BADOS PEATONALES CONCRETO PRODUCIDO EN OBRA 3000 PSI ACABADO: ESCOBIADO | H43: M3 | I43: 63 | J43: 1077616 | K43: =IFERROR(ROUND(I43*J43,0),0) -> 67889808
...

Sheet AIU BV LA ESTRELLA
A1: ANALISIS DEL AIU
A3: Valor estimado de la Obra (Costo Directo). | D3: Valor | E3: =+'PPTO CD BV LA ESTRELLA'!K147 -> 8211121308 | L3: =+E3*(1+J53) -> 1.0999618e+10
A4: Plazo estimado de ejecución. | D4: Meses | E4: 8
A5: Contratista Persona Natural (SI o NO) | E5: no
A7: CAPITULO | B7: TIPO DE GASTO | C7: UN | D7: CANTIDAD. | E7: DEDICACION | F7: VLOR UNITARIO (mes) | G7: FACTOR PRESTACIONAL O FACTOR AIU (PARA INDIRECTOS) | H7: VALOR TOTAL | I7: SUMA | J7: PORCENTAJE
A8: 1 | B8: GASTOS GENERALES. | J8: =+J9 -> 0.072810106
A9: 1.1 | B9: MANO DE OBRA Y GASTOS DE OFICINA | I9: =SUM(H10:H24) -> 5.9785261e+08 | J9: =+I9/$E$3 -> 0.072810106
B10: Ingeniero Director | C10: Un | D10: 1 | E10: 1 | F10: 6710444 | G10: =+'[3]Analisis Factor Prestacional'!$D$28 -> 0.6556 | H10: =+D10*E10*$E$4*F10*(1+G10) -> 88878489 | J10: =+H10/$E$3 -> 0.01082416
B11: Ingeniero Residente | C11: Un | D11: 3 | E11: 1 | F11: 4446382 | G11: =+'[3]Analisis Factor Prestacional'!$D$28 -> 0.6556 | H11: =+D11*E11*$E$4*F11*(1+G11) -> 1.7667432e+08 | J11: =+H11/$E$3 -> 0.021516467
B12: Maestro de Obra | C12: Un | D12: 3 | E12: 1 | F12: 3600000 | G12: =+'[3]Analisis Factor Prestacional'!$D$28 -> 0.6556 | H12: =+D12*E12*$E$4*F12*(1+G12) -> 1.4304384e+08 | J12: =+H12/$E$3 -> 0.017420744
B13: Profesional de Salud Ocupacional | C13: Un | D13: 1 | E13: 1 | F13: 3600000 | G13: =+'[3]Analisis Factor Prestacional'!$D$28 -> 0.6556 | H13: =+D13*E13*$E$4*F13*(1+G13) -> 47681280 | J13: =+H13/$E$3 -> 0.0058069146
B14: Profesional Ambiental | C14: Un | D14: 1 | E14: 1 | F14: 3600000 | G14: =+'[3]Analisis Factor Prestacional'!$D$28 -> 0.6556 | H14: =+D14*E14*$E$4*F14*(1+G14) -> 47681280 | J14: =+H14/$E$3 -> 0.0058069146
B15: Profesional Social | C15: Un | D15: 1 | E15: 1 | F15: 3600000 | G15: =+'[3]Analisis Factor Prestacional'!$D$28 -> 0.6556 | H15: =+D15*E15*$E$4*F15*(1+G15) -> 47681280 | J15: =+H15/$E$3 -> 0.0058069146
B16: Almacenista | C16: Un | D16: 1 | E16: 1 | F16: 1553137 | G16: =+'[2]Analisis Factor Prestacional'!$C$28 -> 0.829 | H16: =+D16*E16*$E$4*F16*(1+G16) -> 22725501 | J16: =+H16/$E$3 -> 0.0027676489
B17: Secretaria con Prestaciones | C17: Un | D17: 1 | E17: 0.2 | F17: 2200000 | G17: =+'[2]Analisis Factor Prestacional'!$E$28 -> 0.8087 | H17: =+D17*E17*$E$4*F17*(1+G17) -> 6366624 | J17: =+H17/$E$3 -> 0.00077536597
B18: Contador | C18: Un | D18: 1 | E18: 0.15 | F18: 3600000 | H18: =+D18*E18*$E$4*F18*(1+G18) -> 4320000 | J18: =+H18/$E$3 -> 0.00052611572
B19: Equipo de Oficina (Escritorio, pc, impresora, sillas, papeleria) | C19: Mes | D19: 1 | E19: 1 | F19: 300000 | H19: =+D19*E19*$E$4*F19*(1+G19) -> 2400000 | J19: =+H19/$E$3 -> 0.00029228651
B20: Seguridad Industrial Personal | C20: Mes | D20: 1 | E20: 0.5 | F20: 400000 | H20: =+D20*E20*$E$4*F20*(1+G20) -> 1600000 | J20: =+H20/$E$3 -> 0.00019485767
B21: Plan de Salud Ocupacional y Seguridad Industrial | C21: Mes | D21: 1 | E21: 1 | F21: 300000 | H21: =+D21*E21*$E$4*F21*(1+G21) -> 2400000 | J21: =+H21/$E$3 -> 0.00029228651
B22: Elaboracion de PMT | C22: gl | D22: 1 | F22: 1000000 | H22: =+D22*F22*(1+G22) -> 1000000 | J22: =+H22/$E$3 -> 0.00012178605
B23: Sistema de Gestion Ambiental | C23: Mes | D23: 1 | E23: 1 | F23: 300000 | H23: =+D23*E23*$E$4*F23*(1+G23) -> 2400000 | J23: =+H23/$E$3 -> 0.00029228651
B24: Ensayos de Laboratorio | C24: GL | D24: 1 | F24: 3000000 | H24: 3000000 | J24: =+H24/$E$3 -> 0.00036535814
A25: 2 | B25: GASTOS INDIRECTOS. | J25: =J26+J27+J29+J39 -> 0.2065246
B26: Valla informativa del proyecto 2m x 4m | C26: und | D26: 2 | F26: 780000 | H26: =+D26*F26 -> 1560000 | J26: =+H26/$E$3 -> 0.00018998623
A27: 2.1 | B27: LEGALIZACION. | J27: =+I27/$E$3 -> 0
B28: AIU ITERACION | G28: 1.3396 | J28: =+H28/$E$3 -> 0
A29: 2.2 | B29: POLIZAS | I29: =SUM(H32:H37) -> 69594924 | J29: =+I29/$E$3 -> 0.0084756906
B30: Seriedad de la Propuesta. | C30: % | D30: 0 | F30: =+$E$3 -> 8211121308 | G30: =+$G$28 -> 1.3396 | H30: =+F30*D30*G30 -> 0 | J30: =+H30/$E$3 -> 0
B31: Anticipo | C31: % | F31: =+$E$3 -> 8211121308 | G31: =+$G$28 -> 1.3396 | H31: 9250000 | J31: =+H31/$E$3 -> 0.0011265209
B32: Cumplimiento del Contrato | C32: % | F32: =+'PPTO CD BV LA ESTRELLA'!$K$147 -> 8211121308 | G32: =+$G$28 -> 1.3396 | H32: 4491023 | J32: =+H32/$E$3 -> 0.00054694394
B33: Estabilidad y Calidad de la Obra | C33: % | F33: =+'PPTO CD BV LA ESTRELLA'!$K$147 -> 8211121308 | G33: =+$G$28 -> 1.3396 | H33: 40199060 | J33: =+H33/$E$3 -> 0.0048956846
B34: Pago de Salarios y Prestaciones Sociales Legales | C34: % | F34: =+'PPTO CD BV LA ESTRELLA'!$K$147 -> 8211121308 | G34: =+$G$28 -> 1.3396 | H34: 18771303 | J34: =+H34/$E$3 -> 0.0022860828
B35: Buen Manejo y Correcta Inversión del Anticipo | C35: % | F35: =+'PPTO CD BV LA ESTRELLA'!$K$147 -> 8211121308 | G35: =+$G$28 -> 1.3396 | H35: 4491023 | J35: =+H35/$E$3 -> 0.00054694394 | M35: 33.6
B36: Seriedad de la Propuesta. | F36: =+'PPTO CD BV LA ESTRELLA'!$K$147 -> 8211121308 | G36: =+$G$28 -> 1.3396 | H36: 1285665 | J36: =+H36/$E$3 -> 0.00015657606
B37: Responsabilidad Civil (Predios Labores y Operaciones) | C37: % | F37: =+'PPTO CD BV LA ESTRELLA'!$K$147 -> 8211121308 | G37: =+$G$28 -> 1.3396 | H37: 356850 | J37: =+H37/$E$3 -> 4.3459351e-05
B38: Todo riesgo | C38: % | D38: 0 | F38: =+'PPTO CD BV LA ESTRELLA'!$K$147 -> 8211121308 | G38: =+$G$28 -> 1.3396 | H38: =+F38*D38*G38 -> 0 | J38: =+H38/$E$3 -> 0
A39: 2.3 | B39: IMPUESTOS Y CONTRIBUCIONES | I39: =SUM(H40:H48) -> 1.6246436e+09 | J39: =+I39/$E$3 -> 0.19785892
B40: Impuesto de timbre (Decreto 0175 - 2025) | C40: % | D40: 0.005 | F40: =+'PPTO CD BV LA ESTRELLA'!$K$147 -> 8211121308 | G40: =+$G$28 -> 1.3396 | H40: =+F40*D40*G40 -> 54998091 | J40: =+H40/$E$3 -> 0.006698
B41: Contribución Especial | C41: % | D41: 0.05 | F41: =+'PPTO CD BV LA ESTRELLA'!$K$147 -> 8211121308 | G41: =+$G$28 -> 1.3396 | H41: =+F41*D41*G41 -> 5.4998091e+08 | J41: =+H41/$E$3 -> 0.06698
B42: Estampillas para el bienestar del adulto mayor | C42: % | D42: 0.02 | F42: =+'PPTO CD BV LA ESTRELLA'!$K$147 -> 8211121308 | G42: =+$G$28 -> 1.3396 | H42: =+F42*D42*G42 -> 2.1999236e+08 | J42: =+H42/$E$3 -> 0.026792
...

Sheet PPTO TOTAL LA ESTRELLA INC AIU
C3: Código | D3: CCE-EICP-FM-14 | E3: Versión | F3: 2
C4: FORMULARIO 1
C5: PRESUPUESTO - COSTO TOTAL
C6: [Las Entidades Estatales deben usar el presente formulario para determinar el Presupuesto Oficial del Proceso de Contratación y solo pueden modificar o ajustar aquello que en este se permite expresamente] [El presente formulario aplica para los procesos de contratación que tengan como forma de pago precios unitarios. Tratándose de otras modalidades de precio, la Entidad debe ajustarlo cuando corresponde a: precio global, llave en mano, administración delegada, reembolso de gastos o cualquier otra forma de precio.]
C8: Adicionalmente, cuando el proceso de contratación es estructurado por precios unitarios, la Entidad debe aplicar las notas 1, 2 y 3 del presente formulario y las casillas de "Descripción", "Porcentaje" de la Administración, Imprevisto, Utilidad y total A.I.U. resaltadas en color amarillo. Tratándose de otras modalidades de precio, la Entidad puede o no configurar los mismos aspectos.
C9: MEJORAMIENTO DEL ESPACIO PUBLICO MEDIANTE LA CONSTRUCCION DE BULEVARES BARRIO LA ESTRELLA DE LA CIUDAD DE MANIZALES
C10: LOCALIZADO ENTRE LA CALLE 62 Y CRA 24A Y ENTRE CALLE 58 Y CRA 23 A
C11: No. | D11: ITEM DE PAGO | E11: ESPECIFICACIONES | G11: DESCRIPCION | H11: UND. | I11: CANTIDAD | J11: VALOR UNITARIO | K11: VALOR TOTAL
C12: 1 | G12: PRELIMINARES | K12: =SUM(K13:K24) -> 859580549
C13: 1.01 | D13: 001.085 | G13: =VLOOKUP(D13,[1]Actividades!$A$8:$E$2745,2,FALSE) -> LOCALIZACION Y REPLANTEO DE VIAS incluye eje de via y laterales con andenes | H13: =VLOOKUP(D13,[1]Actividades!$A$8:$E$2745,4,FALSE) -> ML | I13: =+'PPTO CD BV LA ESTRELLA'!I13 -> 1674 | J13: =+ROUND('PPTO CD BV LA ESTRELLA'!J13*(1+'AIU BV LA ESTRELLA'!$J$53),0) -> 6363 | K13: =IFERROR(ROUND(I13*J13,0),0) -> 10651662
C14: 1.02 | D14: 001.001 | G14: =VLOOKUP(D14,[1]Actividades!$A$8:$E$2745,2,FALSE) -> LOCALIZACION Y REPLANTEO PLAZOLETA | H14: =VLOOKUP(D14,[1]Actividades!$A$8:$E$2745,4,FALSE) -> M2 | I14: =+'PPTO CD BV LA ESTRELLA'!I14 -> 338 | J14: =+ROUND('PPTO CD BV LA ESTRELLA'!J14*(1+'AIU BV LA ESTRELLA'!$J$53),0) -> 6331 | K14: =IFERROR(ROUND(I14*J14,0),0) -> 2139878
C15: 1.03 | D15: 029.007 | G15: =VLOOKUP(D15,[1]Actividades!$A$8:$E$2745,2,FALSE) -> DEMOLICIÓN DE ANDENES EN CONCRETO HIDRÁULICO - INCLUYE CARGUE A MANO, RETIRO Y DISPOSICIÓN EN BOTADERO | H15: =VLOOKUP(D15,[1]Actividades!$A$8:$E$2745,4,FALSE) -> M3 | I15: =+'PPTO CD BV LA ESTRELLA'!I15 -> 660 | J15: =+ROUND('PPTO CD BV LA ESTRELLA'!J15*(1+'AIU BV LA ESTRELLA'!$J$53),0) -> 156559 | K15: =IFERROR(ROUND(I15*J15,0),0) -> 103328940
C16: 1.04 | D16: 029.007A | G16: =VLOOKUP(D16,[1]Actividades!$A$8:$E$2745,2,FALSE) -> DEMOLICIÓN DE SARDINELES EN CONCRETO HIDRÁULICO - INCLUYE CARGUE A MANO, RETIRO Y DISPOSICIÓN EN BOTADERO | H16: =VLOOKUP(D16,[1]Actividades!$A$8:$E$2745,4,FALSE) -> M3 | I16: =+'PPTO CD BV LA ESTRELLA'!I16 -> 283 | J16: =+ROUND('PPTO CD BV LA ESTRELLA'!J16*(1+'AIU BV LA ESTRELLA'!$J$53),0) -> 156559 | K16: =IFERROR(ROUND(I16*J16,0),0) -> 44306197
C17: 1.05 | D17: 029.013 | G17: =VLOOKUP(D17,[1]Actividades!$A$8:$E$2745,2,FALSE) -> DEMOLICION MECANICA DE PAVIMENTO CONCRETO ASFALTICO. INCLUYE RETIRO Y DISPOSICION EN SITIO AUTORIZADO | H17: =VLOOKUP(D17,[1]Actividades!$A$8:$E$2745,4,FALSE) -> M3 | I17: =+'PPTO CD BV LA ESTRELLA'!I17 -> 417 | J17: =+ROUND('PPTO CD BV LA ESTRELLA'!J17*(1+'AIU BV LA ESTRELLA'!$J$53),0) -> 138620 | K17: =IFERROR(ROUND(I17*J17,0),0) -> 57804540
C18: 1.06 | D18: 002.001 | G18: =VLOOKUP(D18,[1]Actividades!$A$8:$E$2745,2,FALSE) -> EXCAVACIÓN EN ZANJA - MATERIAL COMÚN - 0.0 A 2.0 M | H18: =VLOOKUP(D18,[1]Actividades!$A$8:$E$2745,4,FALSE) -> M3 | I18: =+'PPTO CD BV LA ESTRELLA'!I18 -> 3321 | J18: =+ROUND('PPTO CD BV LA ESTRELLA'!J18*(1+'AIU BV LA ESTRELLA'!$J$53),0) -> 49394 | K18: =IFERROR(ROUND(I18*J18,0),0) -> 164037474
C19: 1.07 | D19: 002.016 | G19: =VLOOKUP(D19,[1]Actividades!$A$8:$E$2745,2,FALSE) -> EXCAVACIÓN A CIELO ABIERTO - MATERIAL COMÚN - 0.0 A 2.0 M | H19: =VLOOKUP(D19,[1]Actividades!$A$8:$E$2745,4,FALSE) -> M3 | I19: =+'PPTO CD BV LA ESTRELLA'!I19 -> 1196 | J19: =+ROUND('PPTO CD BV LA ESTRELLA'!J19*(1+'AIU BV LA ESTRELLA'!$J$53),0) -> 53627 | K19: =IFERROR(ROUND(I19*J19,0),0) -> 64137892
C20: 1.08 | D20: 002.039 | G20: =VLOOKUP(D20,[1]Actividades!$A$8:$E$2745,2,FALSE) -> EXCAVACION MECANICA EN MATERIAL COMUN | H20: =VLOOKUP(D20,[1]Actividades!$A$8:$E$2745,4,FALSE) -> M3 | I20: =+'PPTO CD BV LA ESTRELLA'!I20 -> 1252 | J20: =+ROUND('PPTO CD BV LA ESTRELLA'!J20*(1+'AIU BV LA ESTRELLA'!$J$53),0) -> 81611 | K20: =IFERROR(ROUND(I20*J20,0),0) -> 102176972
C21: 1.09 | D21: 002.089 | G21: =VLOOKUP(D21,[1]Actividades!$A$8:$E$2745,2,FALSE) -> RETIRO DE MATERIAL SOBRANTE EN VOLQUETA, CARGUE MANUAL, DISPOSICIÓN EN BOTADERO (HASTA 25 KM) | H21: =VLOOKUP(D21,[1]Actividades!$A$8:$E$2745,4,FALSE) -> M3-Suelto | I21: =+'PPTO CD BV LA ESTRELLA'!I21 -> 5559 | J21: =+ROUND('PPTO CD BV LA ESTRELLA'!J21*(1+'AIU BV LA ESTRELLA'!$J$53),0) -> 54625 | K21: =IFERROR(ROUND(I21*J21,0),0) -> 303660375
C22: 1.1 | G22: DESMONTE DE BANCAS METALICAS Y LISTONES DE MADERA | H22: und | I22: =+'PPTO CD BV LA ESTRELLA'!I22 -> 10 | J22: =+ROUND('PPTO CD BV LA ESTRELLA'!J22*(1+'AIU BV LA ESTRELLA'!$J$53),0) -> 180846 | K22: =IFERROR(ROUND(I22*J22,0),0) -> 1808460
C23: 1.11 | D23: 028.094 | G23: =VLOOKUP(D23,[1]Actividades!$A$8:$E$2745,2,FALSE) -> RETIRO DE SEÑALES VERTICALES ANCLADAS EN ANDEN, ZONA VERDE O ADOSADAS A POSTE EXISTENTE O PARED (INCLUYE PEDESTAL Y TABLERO) CON ENTREGA A LA SDM (INCLUYE SEÑALES SENCILLAS Y DUPLEX) | H23: =VLOOKUP(D23,[1]Actividades!$A$8:$E$2745,4,FALSE) -> UND | I23: =+'PPTO CD BV LA ESTRELLA'!I23 -> 19 | J23: =+ROUND('PPTO CD BV LA ESTRELLA'!J23*(1+'AIU BV LA ESTRELLA'!$J$53),0) -> 93489 | K23: =IFERROR(ROUND(I23*J23,0),0) -> 1776291
C24: 1.12 | D24: 021.024 | G24: =VLOOKUP(D24,[1]Actividades!$A$8:$E$2745,2,FALSE) -> SUMINISTRO, TRANSPORTE E INSTALACION EMPRADIZACIÓN CON BLOQUES DE CÉSPED | H24: =VLOOKUP(D24,[1]Actividades!$A$8:$E$2745,4,FALSE) -> M2 | I24: =+'PPTO CD BV LA ESTRELLA'!I24 -> 158 | J24: =+ROUND('PPTO CD BV LA ESTRELLA'!J24*(1+'AIU BV LA ESTRELLA'!$J$53),0) -> 23746 | K24: =IFERROR(ROUND(I24*J24,0),0) -> 3751868
C25: 2 | G25: BASES Y PAVIMENTOS | K25: =SUM(K26:K37) -> 2373921188
C26: 2.01 | D26: 002A.022 | G26: =VLOOKUP(D26,[1]Actividades!$A$8:$E$2745,2,FALSE) -> SUSTITUCION EN ARENA LIMPIA | H26: =VLOOKUP(D26,[1]Actividades!$A$8:$E$2745,4,FALSE) -> M3 | I26: =+'PPTO CD BV LA ESTRELLA'!I26 -> 231 | J26: =+ROUND('PPTO CD BV LA ESTRELLA'!J26*(1+'AIU BV LA ESTRELLA'!$J$53),0) -> 169403 | K26: =IFERROR(ROUND(I26*J26,0),0) -> 39132093
C27: 2.02 | D27: 002.049 | G27: =VLOOKUP(D27,[1]Actividades!$A$8:$E$2745,2,FALSE) -> RELLENO EN MATERIAL SELECCIONADO PROVENIENTE DE LA EXCAVACION (APISONADO) | H27: =VLOOKUP(D27,[1]Actividades!$A$8:$E$2745,4,FALSE) -> M3 | I27: =+'PPTO CD BV LA ESTRELLA'!I27 -> 3346 | J27: =+ROUND('PPTO CD BV LA ESTRELLA'!J27*(1+'AIU BV LA ESTRELLA'!$J$53),0) -> 56334 | K27: =IFERROR(ROUND(I27*J27,0),0) -> 188493564
C28: 2.03 | D28: 004.013 | G28: =VLOOKUP(D28,[1]Actividades!$A$8:$E$2745,2,FALSE) -> SUMINISTRO, TRANSPORTE E INSTALACION AFIRMADO COMPACTADO PARA ESTRUCTURAS | H28: =VLOOKUP(D28,[1]Actividades!$A$8:$E$2745,4,FALSE) -> M3 | I28: =+'PPTO CD BV LA ESTRELLA'!I28 -> 1038 | J28: =+ROUND('PPTO CD BV LA ESTRELLA'!J28*(1+'AIU BV LA ESTRELLA'!$J$53),0) -> 182991 | K28: =IFERROR(ROUND(I28*J28,0),0) -> 189944658
C29: 2.04 | D29: 004.005 | G29: =VLOOKUP(D29,[1]Actividades!$A$8:$E$2745,2,FALSE) -> SUMINISTRO, TRANSPORTE E INSTALACION SUB BASE COMPACTADA CON RANA | H29: =VLOOKUP(D29,[1]Actividades!$A$8:$E$2745,4,FALSE) -> M3 | I29: =+'PPTO CD BV LA ESTRELLA'!I29 -> 266 | J29: =+ROUND('PPTO CD BV LA ESTRELLA'!J29*(1+'AIU BV LA ESTRELLA'!$J$53),0) -> 263947 | K29: =IFERROR(ROUND(I29*J29,0),0) -> 70209902
C30: 2.05 | D30: 033.117 | G30: =VLOOKUP(D30,[1]Actividades!$A$8:$E$2745,2,FALSE) -> SUMINISTRO, TRANSPORTE E INSTALACION PAVIMENTO EN CONCRETO PREMEZCLADO MR 42 | H30: =VLOOKUP(D30,[1]Actividades!$A$8:$E$2745,4,FALSE) -> M3 | I30: =+'PPTO CD BV LA ESTRELLA'!I30 -> 235 | J30: =+ROUND('PPTO CD BV LA ESTRELLA'!J30*(1+'AIU BV LA ESTRELLA'!$J$53),0) -> 1406072 | K30: =IFERROR(ROUND(I30*J30,0),0) -> 330426920
C31: 2.06 | D31: 023.045 | G31: =VLOOKUP(D31,[1]Actividades!$A$8:$E$2745,2,FALSE) -> CANASTILLA DE SOPORTE DE DOVELAS EN HIERRO 3/8" Y 1/4" | H31: =VLOOKUP(D31,[1]Actividades!$A$8:$E$2745,4,FALSE) -> ML | I31: =+'PPTO CD BV LA ESTRELLA'!I31 -> 259 | J31: =+ROUND('PPTO CD BV LA ESTRELLA'!J31*(1+'AIU BV LA ESTRELLA'!$J$53),0) -> 22107 | K31: =IFERROR(ROUND(I31*J31,0),0) -> 5725713
C32: 2.07 | D32: 023.046 | G32: =VLOOKUP(D32,[1]Actividades!$A$8:$E$2745,2,FALSE) -> DOVELAS DE ACERO LISO 60000 PSI PARA PAVIMENTOS | H32: =VLOOKUP(D32,[1]Actividades!$A$8:$E$2745,4,FALSE) -> KG | I32: =+'PPTO CD BV LA ESTRELLA'!I32 -> 264 | J32: =+ROUND('PPTO CD BV LA ESTRELLA'!J32*(1+'AIU BV LA ESTRELLA'!$J$53),0) -> 19991 | K32: =IFERROR(ROUND(I32*J32,0),0) -> 5277624
C33: 2.08 | D33: 023.034 | G33: =VLOOKUP(D33,[1]Actividades!$A$8:$E$2745,2,FALSE) -> CORTE MECANIZADO DE PAVIMENTO A=5 mm profundidad un tercio del espesor | H33: =VLOOKUP(D33,[1]Actividades!$A$8:$E$2745,4,FALSE) -> ML | I33: =+'PPTO CD BV LA ESTRELLA'!I33 -> 1616 | J33: =+ROUND('PPTO CD BV LA ESTRELLA'!J33*(1+'AIU BV LA ESTRELLA'!$J$53),0) -> 13482 | K33: =IFERROR(ROUND(I33*J33,0),0) -> 21786912
C34: 2.09 | D34: 023.036 | G34: =VLOOKUP(D34,[1]Actividades!$A$8:$E$2745,2,FALSE) -> SUMINISTRO, TRANSPORTE E INSTALACION SELLO DE JUNTA DE PAVIMENTO RIGIDO 5mm | H34: =VLOOKUP(D34,[1]Actividades!$A$8:$E$2745,4,FALSE) -> ML | I34: =+'PPTO CD BV LA ESTRELLA'!I34 -> 6843 | J34: =+ROUND('PPTO CD BV LA ESTRELLA'!J34*(1+'AIU BV LA ESTRELLA'!$J$53),0) -> 16131 | K34: =IFERROR(ROUND(I34*J34,0),0) -> 110384433
C35: 2.1 | D35: 023.002 | G35: =VLOOKUP(D35,[1]Actividades!$A$8:$E$2745,2,FALSE) -> SUMINISTRO, TRANSPORTE E INSTALACION IMPRIMACION CON EMULSION ASFALTICA | H35: =VLOOKUP(D35,[1]Actividades!$A$8:$E$2745,4,FALSE) -> M2 | I35: =+'PPTO CD BV LA ESTRELLA'!I35 -> 7733 | J35: =+ROUND('PPTO CD BV LA ESTRELLA'!J35*(1+'AIU BV LA ESTRELLA'!$J$53),0) -> 8087 | K35: =IFERROR(ROUND(I35*J35,0),0) -> 62536771
C36: 2.11 | D36: 023.004 | G36: =VLOOKUP(D36,[1]Actividades!$A$8:$E$2745,2,FALSE) -> SUMINISTRO, TRANSPORTE E INSTALACION MEZCLA ASFALTICA TIPO MDC-19. Extendido mecánico y compactado | H36: =VLOOKUP(D36,[1]Actividades!$A$8:$E$2745,4,FALSE) -> M3 | I36: =+'PPTO CD BV LA ESTRELLA'!I36 -> 642 | J36: =+ROUND('PPTO CD BV LA ESTRELLA'!J36*(1+'AIU BV LA ESTRELLA'!$J$53),0) -> 1782599 | K36: =IFERROR(ROUND(I36*J36,0),0) -> 1144428558
C37: 2.12 | D37: 023.067 | G37: =VLOOKUP(D37,[1]Actividades!$A$8:$E$2745,2,FALSE) -> SUMINISTRO, TRANSPORTE E INSTALACIÓN DE GEOMALLA BIAXIAL DE RESISTENCIA A LA CARGA CÍCLICA DE 800 KN/M INSTALADA EN LA MITAD DE LA CARPETA ASFALTICA | H37: =VLOOKUP(D37,[1]Actividades!$A$8:$E$2745,4,FALSE) -> M2 | I37: =+'PPTO CD BV LA ESTRELLA'!I37 -> 7308 | J37: =+ROUND('PPTO CD BV LA ESTRELLA'!J37*(1+'AIU BV LA ESTRELLA'!$J$53),0) -> 28130 | K37: =IFERROR(ROUND(I37*J37,0),0) -> 205574040
C38: 3 | G38: ANDENES Y SARDINELES | K38: =SUM(K39:K43) -> 2148376005
C39: 3.01 | D39: 021.088 | G39: =VLOOKUP(D39,[1]Actividades!$A$8:$E$2745,2,FALSE) -> CONSTRUCCION DE SARDINEL PARA CONFORMACION DE ANDENES H= HASTA 25 CM CHAFLANADO ENTRE A=10 CM Y 15 CM, INCLUYE REF LONG 2 VARILLAS DE 3/8", FLEJES TRANSVERSALES DE 1/4" CADA 15 CM ANCLADOS A PAVIMENTO (INCLUYE ANCLAJES EPOXICOS) | H39: =VLOOKUP(D39,[1]Actividades!$A$8:$E$2745,4,FALSE) -> ML | I39: =+'PPTO CD BV LA ESTRELLA'!I39 -> 3852 | J39: =+ROUND('PPTO CD BV LA ESTRELLA'!J39*(1+'AIU BV LA ESTRELLA'!$J$53),0) -> 166341 | K39: =IFERROR(ROUND(I39*J39,0),0) -> 640745532
C40: 3.02 | G40: SUMINISTRO, TRANSPORTE E INSTALACION ANDEN CONCRETO 3000 PSI E= 0.08M. ACABADO: ESCOBIADO o PALETEADO, DILATADO SEGÚN DISEÑO | H40: M2 | I40: =+'PPTO CD BV LA ESTRELLA'!I40 -> 9927 | J40: =+ROUND('PPTO CD BV LA ESTRELLA'!J40*(1+'AIU BV LA ESTRELLA'!$J$53),0) -> 123913 | K40: =IFERROR(ROUND(I40*J40,0),0) -> 1230084351
C41: 3.03 | D41: 021A.051 | F41: Guía | G41: =VLOOKUP(D41,[1]Actividades!$A$8:$E$2745,2,FALSE) -> SUMINISTRO, TRANSPORTE E INSTALACION LOSETA 20x20cm TACTIL / GUIA-ALERTA PREFABRICADA EN CONCRETO GRIS O COLOR. | H41: =VLOOKUP(D41,[1]Actividades!$A$8:$E$2745,4,FALSE) -> ML | I41: =+'PPTO CD BV LA ESTRELLA'!I41 -> 3324 | J41: =+ROUND('PPTO CD BV LA ESTRELLA'!J41*(1+'AIU BV LA ESTRELLA'!$J$53),0) -> 49920 | K41: =IFERROR(ROUND(I41*J41,0),0) -> 165934080
C42: 3.04 | D42: 021A.051 | F42: Alerta | G42: =VLOOKUP(D42,[1]Actividades!$A$8:$E$2745,2,FALSE) -> SUMINISTRO, TRANSPORTE E INSTALACION LOSETA 20x20cm TACTIL / GUIA-ALERTA PREFABRICADA EN CONCRETO GRIS O COLOR. | H42: =VLOOKUP(D42,[1]Actividades!$A$8:$E$2745,4,FALSE) -> ML | I42: =+'PPTO CD BV LA ESTRELLA'!I42 -> 414 | J42: =+ROUND('PPTO CD BV LA ESTRELLA'!J42*(1+'AIU BV LA ESTRELLA'!$J$53),0) -> 49920 | K42: =IFERROR(ROUND(I42*J42,0),0) -> 20666880
D43: 033.122 | E43: 0 | F43: 0 | G43: SUMINISTRO, TRANSPORTE E INSTALACION DE RAMPAS Y BADOS PEATONALES CONCRETO PRODUCIDO EN OBRA 3000 PSI ACABADO: ESCOBIADO | H43: M3 | I43: =+'PPTO CD BV LA ESTRELLA'!I43 -> 63 | J43: =+ROUND('PPTO CD BV LA ESTRELLA'!J43*(1+'AIU BV LA ESTRELLA'!$J$53),0) -> 1443574 | K43: =IFERROR(ROUND(I43*J43,0),0) -> 90945162
...

Sheet FORMULARIO 1
C3: Código | D3: CCE-EICP-FM-14 | E3: Versión | F3: 2
C4: FORMULARIO 1
C5: PRESUPUESTO - COSTO TOTAL
C6: [Las Entidades Estatales deben usar el presente formulario para determinar el Presupuesto Oficial del Proceso de Contratación y solo pueden modificar o ajustar aquello que en este se permite expresamente] [El presente formulario aplica para los procesos de contratación que tengan como forma de pago precios unitarios. Tratándose de otras modalidades de precio, la Entidad debe ajustarlo cuando corresponde a: precio global, llave en mano, administración delegada, reembolso de gastos o cualquier otra forma de precio.]
C8: Adicionalmente, cuando el proceso de contratación es estructurado por precios unitarios, la Entidad debe aplicar las notas 1, 2 y 3 del presente formulario y las casillas de "Descripción", "Porcentaje" de la Administración, Imprevisto, Utilidad y total A.I.U. resaltadas en color amarillo. Tratándose de otras modalidades de precio, la Entidad puede o no configurar los mismos aspectos.
C9: MEJORAMIENTO DEL ESPACIO PUBLICO MEDIANTE LA CONSTRUCCION DE BULEVARES BARRIO LA ESTRELLA DE LA CIUDAD DE MANIZALES
C10: LOCALIZADO ENTRE LA CALLE 62 Y CRA 24A Y ENTRE CALLE 58 Y CRA 23 A
C11: No. | D11: ITEM DE PAGO | E11: ESPECIFICACIONES | G11: DESCRIPCION | H11: UND. | I11: CANTIDAD | J11: VALOR UNITARIO | K11: VALOR TOTAL
C12: 1 | G12: PRELIMINARES | K12: =SUM(K13:K24) -> 0
C13: 1.01 | D13: 001.085 | G13: =VLOOKUP(D13,[1]Actividades!$A$8:$E$2745,2,FALSE) -> LOCALIZACION Y REPLANTEO DE VIAS incluye eje de via y laterales con andenes | H13: =VLOOKUP(D13,[1]Actividades!$A$8:$E$2745,4,FALSE) -> ML | I13: =+'PPTO CD BV LA ESTRELLA'!I13 -> 1674 | K13: =IFERROR(ROUND(I13*J13,0),0) -> 0
C14: 1.02 | D14: 001.001 | G14: =VLOOKUP(D14,[1]Actividades!$A$8:$E$2745,2,FALSE) -> LOCALIZACION Y REPLANTEO PLAZOLETA | H14: =VLOOKUP(D14,[1]Actividades!$A$8:$E$2745,4,FALSE) -> M2 | I14: =+'PPTO CD BV LA ESTRELLA'!I14 -> 338 | K14: =IFERROR(ROUND(I14*J14,0),0) -> 0
C15: 1.03 | D15: 029.007 | G15: =VLOOKUP(D15,[1]Actividades!$A$8:$E$2745,2,FALSE) -> DEMOLICIÓN DE ANDENES EN CONCRETO HIDRÁULICO - INCLUYE CARGUE A MANO, RETIRO Y DISPOSICIÓN EN BOTADERO | H15: =VLOOKUP(D15,[1]Actividades!$A$8:$E$2745,4,FALSE) -> M3 | I15: =+'PPTO CD BV LA ESTRELLA'!I15 -> 660 | K15: =IFERROR(ROUND(I15*J15,0),0) -> 0
C16: 1.04 | D16: 029.007A | G16: =VLOOKUP(D16,[1]Actividades!$A$8:$E$2745,2,FALSE) -> DEMOLICIÓN DE SARDINELES EN CONCRETO HIDRÁULICO - INCLUYE CARGUE A MANO, RETIRO Y DISPOSICIÓN EN BOTADERO | H16: =VLOOKUP(D16,[1]Actividades!$A$8:$E$2745,4,FALSE) -> M3 | I16: =+'PPTO CD BV LA ESTRELLA'!I16 -> 283 | K16: =IFERROR(ROUND(I16*J16,0),0) -> 0
C17: 1.05 | D17: 029.013 | G17: =VLOOKUP(D17,[1]Actividades!$A$8:$E$2745,2,FALSE) -> DEMOLICION MECANICA DE PAVIMENTO CONCRETO ASFALTICO. INCLUYE RETIRO Y DISPOSICION EN SITIO AUTORIZADO | H17: =VLOOKUP(D17,[1]Actividades!$A$8:$E$2745,4,FALSE) -> M3 | I17: =+'PPTO CD BV LA ESTRELLA'!I17 -> 417 | K17: =IFERROR(ROUND(I17*J17,0),0) -> 0
C18: 1.06 | D18: 002.001 | G18: =VLOOKUP(D18,[1]Actividades!$A$8:$E$2745,2,FALSE) -> EXCAVACIÓN EN ZANJA - MATERIAL COMÚN - 0.0 A 2.0 M | H18: =VLOOKUP(D18,[1]Actividades!$A$8:$E$2745,4,FALSE) -> M3 | I18: =+'PPTO CD BV LA ESTRELLA'!I18 -> 3321 | K18: =IFERROR(ROUND(I18*J18,0),0) -> 0
C19: 1.07 | D19: 002.016 | G19: =VLOOKUP(D19,[1]Actividades!$A$8:$E$2745,2,FALSE) -> EXCAVACIÓN A CIELO ABIERTO - MATERIAL COMÚN - 0.0 A 2.0 M | H19: =VLOOKUP(D19,[1]Actividades!$A$8:$E$2745,4,FALSE) -> M3 | I19: =+'PPTO CD BV LA ESTRELLA'!I19 -> 1196 | K19: =IFERROR(ROUND(I19*J19,0),0) -> 0
C20: 1.08 | D20: 002.039 | G20: =VLOOKUP(D20,[1]Actividades!$A$8:$E$2745,2,FALSE) -> EXCAVACION MECANICA EN MATERIAL COMUN | H20: =VLOOKUP(D20,[1]Actividades!$A$8:$E$2745,4,FALSE) -> M3 | I20: =+'PPTO CD BV LA ESTRELLA'!I20 -> 1252 | K20: =IFERROR(ROUND(I20*J20,0),0) -> 0
C21: 1.09 | D21: 002.089 | G21: =VLOOKUP(D21,[1]Actividades!$A$8:$E$2745,2,FALSE) -> RETIRO DE MATERIAL SOBRANTE EN VOLQUETA, CARGUE MANUAL, DISPOSICIÓN EN BOTADERO (HASTA 25 KM) | H21: =VLOOKUP(D21,[1]Actividades!$A$8:$E$2745,4,FALSE) -> M3-Suelto | I21: =+'PPTO CD BV LA ESTRELLA'!I21 -> 5559 | K21: =IFERROR(ROUND(I21*J21,0),0) -> 0
C22: 1.1 | G22: DESMONTE DE BANCAS METALICAS Y LISTONES DE MADERA | H22: und | I22: =+'PPTO CD BV LA ESTRELLA'!I22 -> 10 | K22: =IFERROR(ROUND(I22*J22,0),0) -> 0
C23: 1.11 | D23: 028.094 | G23: =VLOOKUP(D23,[1]Actividades!$A$8:$E$2745,2,FALSE) -> RETIRO DE SEÑALES VERTICALES ANCLADAS EN ANDEN, ZONA VERDE O ADOSADAS A POSTE EXISTENTE O PARED (INCLUYE PEDESTAL Y TABLERO) CON ENTREGA A LA SDM (INCLUYE SEÑALES SENCILLAS Y DUPLEX) | H23: =VLOOKUP(D23,[1]Actividades!$A$8:$E$2745,4,FALSE) -> UND | I23: =+'PPTO CD BV LA ESTRELLA'!I23 -> 19 | K23: =IFERROR(ROUND(I23*J23,0),0) -> 0
C24: 1.12 | D24: 021.024 | G24: =VLOOKUP(D24,[1]Actividades!$A$8:$E$2745,2,FALSE) -> SUMINISTRO, TRANSPORTE E INSTALACION EMPRADIZACIÓN CON BLOQUES DE CÉSPED | H24: =VLOOKUP(D24,[1]Actividades!$A$8:$E$2745,4,FALSE) -> M2 | I24: =+'PPTO CD BV LA ESTRELLA'!I24 -> 158 | K24: =IFERROR(ROUND(I24*J24,0),0) -> 0
C25: 2 | G25: BASES Y PAVIMENTOS | K25: =SUM(K26:K37) -> 0
C26: 2.01 | D26: 002A.022 | G26: =VLOOKUP(D26,[1]Actividades!$A$8:$E$2745,2,FALSE) -> SUSTITUCION EN ARENA LIMPIA | H26: =VLOOKUP(D26,[1]Actividades!$A$8:$E$2745,4,FALSE) -> M3 | I26: =+'PPTO CD BV LA ESTRELLA'!I26 -> 231 | K26: =IFERROR(ROUND(I26*J26,0),0) -> 0
C27: 2.02 | D27: 002.049 | G27: =VLOOKUP(D27,[1]Actividades!$A$8:$E$2745,2,FALSE) -> RELLENO EN MATERIAL SELECCIONADO PROVENIENTE DE LA EXCAVACION (APISONADO) | H27: =VLOOKUP(D27,[1]Actividades!$A$8:$E$2745,4,FALSE) -> M3 | I27: =+'PPTO CD BV LA ESTRELLA'!I27 -> 3346 | K27: =IFERROR(ROUND(I27*J27,0),0) -> 0
C28: 2.03 | D28: 004.013 | G28: =VLOOKUP(D28,[1]Actividades!$A$8:$E$2745,2,FALSE) -> SUMINISTRO, TRANSPORTE E INSTALACION AFIRMADO COMPACTADO PARA ESTRUCTURAS | H28: =VLOOKUP(D28,[1]Actividades!$A$8:$E$2745,4,FALSE) -> M3 | I28: =+'PPTO CD BV LA ESTRELLA'!I28 -> 1038 | K28: =IFERROR(ROUND(I28*J28,0),0) -> 0
C29: 2.04 | D29: 004.005 | G29: =VLOOKUP(D29,[1]Actividades!$A$8:$E$2745,2,FALSE) -> SUMINISTRO, TRANSPORTE E INSTALACION SUB BASE COMPACTADA CON RANA | H29: =VLOOKUP(D29,[1]Actividades!$A$8:$E$2745,4,FALSE) -> M3 | I29: =+'PPTO CD BV LA ESTRELLA'!I29 -> 266 | K29: =IFERROR(ROUND(I29*J29,0),0) -> 0
C30: 2.05 | D30: 033.117 | G30: =VLOOKUP(D30,[1]Actividades!$A$8:$E$2745,2,FALSE) -> SUMINISTRO, TRANSPORTE E INSTALACION PAVIMENTO EN CONCRETO PREMEZCLADO MR 42 | H30: =VLOOKUP(D30,[1]Actividades!$A$8:$E$2745,4,FALSE) -> M3 | I30: =+'PPTO CD BV LA ESTRELLA'!I30 -> 235 | K30: =IFERROR(ROUND(I30*J30,0),0) -> 0
C31: 2.06 | D31: 023.045 | G31: =VLOOKUP(D31,[1]Actividades!$A$8:$E$2745,2,FALSE) -> CANASTILLA DE SOPORTE DE DOVELAS EN HIERRO 3/8" Y 1/4" | H31: =VLOOKUP(D31,[1]Actividades!$A$8:$E$2745,4,FALSE) -> ML | I31: =+'PPTO CD BV LA ESTRELLA'!I31 -> 259 | K31: =IFERROR(ROUND(I31*J31,0),0) -> 0
C32: 2.07 | D32: 023.046 | G32: =VLOOKUP(D32,[1]Actividades!$A$8:$E$2745,2,FALSE) -> DOVELAS DE ACERO LISO 60000 PSI PARA PAVIMENTOS | H32: =VLOOKUP(D32,[1]Actividades!$A$8:$E$2745,4,FALSE) -> KG | I32: =+'PPTO CD BV LA ESTRELLA'!I32 -> 264 | K32: =IFERROR(ROUND(I32*J32,0),0) -> 0
C33: 2.08 | D33: 023.034 | G33: =VLOOKUP(D33,[1]Actividades!$A$8:$E$2745,2,FALSE) -> CORTE MECANIZADO DE PAVIMENTO A=5 mm profundidad un tercio del espesor | H33: =VLOOKUP(D33,[1]Actividades!$A$8:$E$2745,4,FALSE) -> ML | I33: =+'PPTO CD BV LA ESTRELLA'!I33 -> 1616 | K33: =IFERROR(ROUND(I33*J33,0),0) -> 0
C34: 2.09 | D34: 023.036 | G34: =VLOOKUP(D34,[1]Actividades!$A$8:$E$2745,2,FALSE) -> SUMINISTRO, TRANSPORTE E INSTALACION SELLO DE JUNTA DE PAVIMENTO RIGIDO 5mm | H34: =VLOOKUP(D34,[1]Actividades!$A$8:$E$2745,4,FALSE) -> ML | I34: =+'PPTO CD BV LA ESTRELLA'!I34 -> 6843 | K34: =IFERROR(ROUND(I34*J34,0),0) -> 0
C35: 2.1 | D35: 023.002 | G35: =VLOOKUP(D35,[1]Actividades!$A$8:$E$2745,2,FALSE) -> SUMINISTRO, TRANSPORTE E INSTALACION IMPRIMACION CON EMULSION ASFALTICA | H35: =VLOOKUP(D35,[1]Actividades!$A$8:$E$2745,4,FALSE) -> M2 | I35: =+'PPTO CD BV LA ESTRELLA'!I35 -> 7733 | K35: =IFERROR(ROUND(I35*J35,0),0) -> 0
C36: 2.11 | D36: 023.004 | G36: =VLOOKUP(D36,[1]Actividades!$A$8:$E$2745,2,FALSE) -> SUMINISTRO, TRANSPORTE E INSTALACION MEZCLA ASFALTICA TIPO MDC-19. Extendido mecánico y compactado | H36: =VLOOKUP(D36,[1]Actividades!$A$8:$E$2745,4,FALSE) -> M3 | I36: =+'PPTO CD BV LA ESTRELLA'!I36 -> 642 | K36: =IFERROR(ROUND(I36*J36,0),0) -> 0
C37: 2.12 | D37: 023.067 | G37: =VLOOKUP(D37,[1]Actividades!$A$8:$E$2745,2,FALSE) -> SUMINISTRO, TRANSPORTE E INSTALACIÓN DE GEOMALLA BIAXIAL DE RESISTENCIA A LA CARGA CÍCLICA DE 800 KN/M INSTALADA EN LA MITAD DE LA CARPETA ASFALTICA | H37: =VLOOKUP(D37,[1]Actividades!$A$8:$E$2745,4,FALSE) -> M2 | I37: =+'PPTO CD BV LA ESTRELLA'!I37 -> 7308 | K37: =IFERROR(ROUND(I37*J37,0),0) -> 0
C38: 3 | G38: ANDENES Y SARDINELES | K38: =SUM(K39:K43) -> 0
C39: 3.01 | D39: 021.088 | G39: =VLOOKUP(D39,[1]Actividades!$A$8:$E$2745,2,FALSE) -> CONSTRUCCION DE SARDINEL PARA CONFORMACION DE ANDENES H= HASTA 25 CM CHAFLANADO ENTRE A=10 CM Y 15 CM, INCLUYE REF LONG 2 VARILLAS DE 3/8", FLEJES TRANSVERSALES DE 1/4" CADA 15 CM ANCLADOS A PAVIMENTO (INCLUYE ANCLAJES EPOXICOS) | H39: =VLOOKUP(D39,[1]Actividades!$A$8:$E$2745,4,FALSE) -> ML | I39: =+'PPTO CD BV LA ESTRELLA'!I39 -> 3852 | K39: =IFERROR(ROUND(I39*J39,0),0) -> 0
C40: 3.02 | G40: SUMINISTRO, TRANSPORTE E INSTALACION ANDEN CONCRETO 3000 PSI E= 0.08M. ACABADO: ESCOBIADO o PALETEADO, DILATADO SEGÚN DISEÑO | H40: M2 | I40: =+'PPTO CD BV LA ESTRELLA'!I40 -> 9927 | K40: =IFERROR(ROUND(I40*J40,0),0) -> 0
C41: 3.03 | D41: 021A.051 | F41: Guía | G41: =VLOOKUP(D41,[1]Actividades!$A$8:$E$2745,2,FALSE) -> SUMINISTRO, TRANSPORTE E INSTALACION LOSETA 20x20cm TACTIL / GUIA-ALERTA PREFABRICADA EN CONCRETO GRIS O COLOR. | H41: =VLOOKUP(D41,[1]Actividades!$A$8:$E$2745,4,FALSE) -> ML | I41: =+'PPTO CD BV LA ESTRELLA'!I41 -> 3324 | K41: =IFERROR(ROUND(I41*J41,0),0) -> 0
C42: 3.04 | D42: 021A.051 | F42: Alerta | G42: =VLOOKUP(D42,[1]Actividades!$A$8:$E$2745,2,FALSE) -> SUMINISTRO, TRANSPORTE E INSTALACION LOSETA 20x20cm TACTIL / GUIA-ALERTA PREFABRICADA EN CONCRETO GRIS O COLOR. | H42: =VLOOKUP(D42,[1]Actividades!$A$8:$E$2745,4,FALSE) -> ML | I42: =+'PPTO CD BV LA ESTRELLA'!I42 -> 414 | K42: =IFERROR(ROUND(I42*J42,0),0) -> 0
D43: 033.122 | E43: 0 | F43: 0 | G43: SUMINISTRO, TRANSPORTE E INSTALACION DE RAMPAS Y BADOS PEATONALES CONCRETO PRODUCIDO EN OBRA 3000 PSI ACABADO: ESCOBIADO | H43: M3 | I43: =+'PPTO CD BV LA ESTRELLA'!I43 -> 63 | K43: =IFERROR(ROUND(I43*J43,0),0) -> 0
...
