Workbook
Name _Hlk204597360: CARIBE!$A$2

Sheet COSTEO INICIAL
A4: Fase | B4: Detalle | C4: Valor por consejo 2024 | D4: IPC | E4: Valor 2025 | F4: EDP Soluciones SAS | G4: CONSEJO COMUNITARIO DE LA COMUNIDAD NEGRA DE GUACOCHE “LOS CARDONALES”
A5: Fase 1 | B5: Concertación ruta metodologia | C5: 15159000 | D5: 0.052 | E5: =C5+(C5*D5) -> 15947268 | F5: 22557995 | G5: =670403967/29 -> 23117378
A6: Fase 2 | B6: Desarrollo de la rura metodologica 3 dias | C6: 34000000 | D6: 0.052 | E6: =C6+(C6*D6) -> 35768000 | F6: 22557995 | G6: =1244932000/29 -> 42928690
A7: Fase 3 | B7: Desarrollo documental (Recursos Humanos) | D7: 0.052 | E7: =C7+(C7*D7) -> 0
A8: Fase 4 | B8: Concertación caraterizacion | C8: 22857000 | D8: 0.052 | E8: =C8+(C8*D8) -> 24045564 | F8: 22557995 | G8: =1866508350/69 -> 27050846
A9: Fase 5 | B9: Protocolización | C9: 22711000 | D9: 0.052 | E9: =C9+(C9*D9) -> 23891972 | F9: 22557995 | G9: =765765330/40 -> 19144133
A10: Fase 6 | B10: cierre | F10: 22557995 | G10: =765765330/40 -> 19144133
A15: Cotizaciones

Sheet CARIBE
A2: N | B2: Departamento | C2: Municipio | D2: Consejos Comunitarios a Caracterizar | E2: Fases a Desarrollar | F2: Valor total
A3: 1 | B3: Atlántico | C3: Juan de Acosta | D3: Consejo Comunitario Kusuto Anneje Juan De Costa Atlántico | E3: Fase 1 a 4 | F3: 75724824
A4: 2 | B4: Atlántico | C4: Luruaco | D4: Consejo Comunitario Afrocolombiano Kusutoma – Gende Cokumalu | E4: Fase 1 a 4 | F4: 75724824
A5: 3 | B5: Atlántico | C5: Repelón | D5: Consejo Comunitario De Las Comunidades Negras Del Municipio De Repelon Magen De Mi | E5: Fase 1 a 4 | F5: 75724824
A6: 4 | B6: Bolívar | C6: Cartagena | D6: Consejo Comunitario De Marlinda La Boquilla | E6: Fase 1 a 4 | F6: 75724824
A7: 5 | B7: Bolívar | C7: Cartagena | D7: Consejo Comunitario De Caño Del Oro | E7: Fase 1 a 4 | F7: 75724824
A8: 6 | B8: Bolívar | C8: María La Baja | D8: Consejo Comunitario De María La Baja | E8: Fase 1 a 4 | F8: 75724824
A9: 7 | B9: Bolívar | C9: Cartagena | D9: Consejo Comunitario De La Comunidad Negra De Tierra Bomba | E9: Fase 1 a 4 | F9: 75724824
A10: 8 | B10: Bolívar | C10: Cartagena | D10: Consejo Comunitario De La Unidad Comunera De Gobierno Rural De La Boquilla Localidad De La Virgen Turistico y Cultural De Cartagena | E10: Fase 1 a 4 | F10: 75724824
A11: 9 | B11: Cesar | C11: La Jagua de Ibirico | D11: Consejo Comunitario De Comunidades Negras De La Jagua De Ibirico | E11: Fase 1 a 4 | F11: 75724824
A12: 10 | B12: Cesar | C12: La Jagua de Ibirico | D12: Consejo Comunitario Casimiro Meza Mendoza COCONEBO | E12: Fase 1 a 4 | F12: 75724824
A13: 11 | B13: Cesar | C13: La Jagua de Ibirico | D13: Consejo Comunitario De Comunidades Afrodescendientes De La Victoria De San Isidro Coafrovis | E13: Fase 1 a 4 | F13: 75724824
A14: 12 | B14: Cesar | C14: La Paz | D14: Consejo Comunitario Los Sabaneros Del Corregimiento De Minguillo | E14: Fase 1 a 4 | F14: 75724824
... A19: 17 | B19: La Guajira | C19: San Juan Del Cesar | D19: Consejo comunitario ancestral de la Comunidad negra del Totumo Numa Benjumea | E19: Fase 1 a 4 | F19: 75724824
D20: “El Cachaco Negro”, del Municipio de San Juan Del Cesar | F20: 75724824
A21: 18 | B21: Magdalena | C21: El Retén | D21: Consejo Comunitario Jose Isabel Erazo Marquez | E21: Fase 1 a 4 | F21: 75724824
A22: 19 | B22: Magdalena | C22: Fundación | D22: Consejo Comunitario Afrocolombiano De Fundacion Magdalena Concafum | E22: Fase 1 a 4 | F22: 75724824
A23: 20 | B23: Magdalena | C23: Zona Bananera | D23: Consejo Comunitario De Comunidades Negras Del Corregimiento De Sevilla | E23: Fase 1 a 4 | F23: 75724824
A24: 21 | B24: Sucre | C24: Toluviejo | D24: Consejo Comunitario De Comunidades Negras Del Corregimiento De La Piche | E24: Fase 1 a 4 | F24: 75724824
A25: 22 | B25: Córdoba | C25: Córdoba | D25: CC San José de Uré | E25: Fase 4 a 6 | F25: 47914752
A26: 23 | B26: Cordoba | C26: Córdoba | D26: CC Afrodescendiente de Ayapel | E26: Fase 4 a 6 | F26: 47914752
A27: 24 | B27: Cordoba | C27: Córdoba | D27: CC del Municipio de Montelivano | E27: Fase 4 a 6 | F27: 47914752
A28: 25 | B28: Cordoba | C28: Córdoba | D28: Comunidad Puerto Libertador | E28: Fase 4 a 6 | F28: 47914752
A29: 27 | B29: Cordoba | C29: Córdoba | D29: Comunidad Tierra Alta | E29: Fase 4 a 6 | F29: 47914752
F30: =SUM(F3:F29) -> 1905519888

Sheet CAUCA
A3: N | B3: Departamento | C3: Municipio | D3: Consejos Comunitarios a Caracterizar | E3: Fases a Desarrollar | F3: Valor total
A4: 1 | B4: Cauca | C4: Timbiquí | D4: Consejo Comunitario parte Sur del Rio Saija | E4: Fase 4 a 6 | F4: 47914752
A5: 2 | B5: Cauca | C5: Timbiquí | D5: Consejo Comunitario parte Norte del Rio Saija | E5: Fase 4 a 6 | F5: 47914752
A6: 3 | B6: Cauca | C6: Timbiquí | D6: Consejo Comunitario parte Baja del Rio Saija | E6: Fase 4 a 6 | F6: 47914752
A7: 4 | B7: Cauca | C7: Buenos Aires | D7: Cc Cerro Teta | E7: Fase 4-6 | F7: 47914752
A8: 5 | B8: Cauca | C8: Buenos Aires | D8: Cc Cuenca Cauca | E8: Fase 4-6 | F8: 47914752
A9: 6 | B9: Cauca | C9: Buenos Aires | D9: Cc Cuenca Del Rio Cauca- La Alsacia | E9: Fase 4-6 | F9: 47914752
A10: 7 | B10: Cauca | C10: Caloto | D10: Cc Pandao | E10: Fase 4-6 | F10: 47914752
A11: 8 | B11: Cauca | C11: Caloto | D11: Cc Bodega Guali | E11: Fase 4-6 | F11: 47914752
A12: 9 | B12: Cauca | C12: Caloto | D12: Cc Yarumito | E12: Fase 4-6 | F12: 47914752
A13: 10 | B13: Cauca | C13: Caloto | D13: Cc Quebrada Quita Calzon | E13: Fase 4-6 | F13: 47914752
A14: 11 | B14: Cauca | C14: Corinto | D14: Cc Jagual La Maria | E14: Fase 4-6 | F14: 47914752
A15: 12 | B15: Cauca | C15: Corinto | D15: Cc Barranco Rio Guengue | E15: Fase 4-6 | F15: 47914752
... A38: 35 | B38: Cauca | C38: Villa Rica | D38: Cc Territorio Y Paz | E38: Fase 4-6 | F38: 47914752
F39: =SUM(F4:F38) -> 1677016320

Sheet VALLE CAUCA
A2: N | B2: Departamento | C2: Municipio | D2: Consejos Comunitarios a Caracterizar | E2: Fases a Desarrollar | F2: Valor total
A3: 1 | B3: Valle del Cauca | C3: Buenaventura | D3: Consejo Comunitario de Ladrilleros Valle | E3: Fase 1 a 4 | F3: 75724824
A4: 2 | B4: Valle del Cauca | C4: Buenaventura | D4: Consejo Comunitario Bazan Bocana | E4: Fase 1 a 4 | F4: =+F3 -> 75724824
A5: 3 | B5: Valle del Cauca | C5: Buenaventura | D5: Consejo Comunitario Comunidad Negra de la Vereda los Limones | E5: Fase 1 a 4 | F5: =+F4 -> 75724824
A6: 4 | B6: Valle del Cauca | C6: Cali | D6: Consejo Comunitario La Paya Renaciente | E6: Fase 1 a 4 | F6: =+F5 -> 75724824
A7: 5 | B7: Valle del Cauca | C7: Cali | D7: Consejo Comunitario De Comunidades Negras La Playa Renaciente | E7: Fase 1 a 4 | F7: =+F6 -> 75724824
A8: 6 | B8: Valle del Cauca | C8: Dagua | D8: Consejo Comunitario Alto Anchicaya | E8: Fase 1 a 4 | F8: =+F7 -> 75724824
A9: 7 | B9: Valle del Cauca | C9: Dagua | D9: Consejo Comunitario De La Comunidad Negra De Las Veredas Guinea Alta Guinea Baja La Puerta La Victoria Y Los Corregimientos: Zelandias Juntas Y Cisneros Dagua | E9: Fase 1 a 4 | F9: =+F8 -> 75724824
A10: 8 | B10: Valle del Cauca | C10: Ginebra | D10: Consejo Comunitario Afrozabaletas | E10: Fase 1 a 4 | F10: =+F9 -> 75724824
A11: 9 | B11: Valle del Cauca | C11: Buenaventura | D11: Consejo Comunitario de Agua Clara | E11: Fase 1 a 4 | F11: =+F10 -> 75724824
F12: =SUM(F3:F11) -> 681523416

Sheet PRESUPUESTO INICIAL
A4: PERSONAL MÍNIMO REQUERIDO
A5: Equipo administrativo de base
A6: Cantidad | B6: Descripción del Rubro | C6: Tiempo (meses) | D6: Honorarios mensuales | E6: Valor total
A7: 1 | B7: Director técnico del proyecto | C7: 3 | D7: 8000000 | E7: =A7*C7*D7 -> 24000000
A8: 1 | B8: Coordinador administrativo y financiero | C8: 3 | D8: 4000000 | E8: =A8*C8*D8 -> 12000000
A9: 1 | B9: Asistente administrativo y financiero | C9: 3 | D9: 3000000 | E9: =A9*C9*D9 -> 9000000
A10: Subtotal equipo administrativo de base | E10: =SUM(E7:E9) -> 45000000
A11: Equipo Técnico
A12: 9 | B12: Abogados | C12: 3 | D12: 6200000 | E12: =A12*C12*D12 -> 167400000
A13: 9 | B13: Profesional Ambiental, forestal, agroforestal o afines | C13: 3 | D13: 6200000 | E13: =A13*C13*D13 -> 167400000
A14: 9 | B14: Profesional en ciencias sociales: Antropólogos, filósofos, sociólogos, politólogos, psicólogos, trabajadores sociales y afines | C14: 3 | D14: 6200000 | E14: =A14*C14*D14 -> 167400000
A15: 9 | B15: Gestor Territorial (Uno por departamento) | C15: 3 | D15: 2500000 | E15: =A15*C15*D15 -> 67500000
A16: 1 | B16: Diseñador gráfico | C16: 3 | D16: 3500000 | E16: =A16*C16*D16 -> 10500000
A17: 9 | B17: Técnico administrativo (Sistematización, procesamiento de datos, tabulación) | C17: 3 | D17: 2900000 | E17: =A17*C17*D17 -> 78300000
A18: Subtotal equipo administrativo de base | E18: =SUM(E12:E17) -> 658500000
A19: Total Equipo Humano | E19: =E18+E10 -> 703500000
A20: COSTEO POR FASES DEL PROYECTO
A21: Ítem | B21: Descripción del Rubro | C21: Consejos Comunitarios | D21: Valor Unitario | E21: Valor total
A22: 1 | B22: FASE 1 | C22: 30 | D22: ='COSTEO INICIAL'!E5 -> 15947268 | E22: =A22*C22*D22 -> 478418040
A23: 1 | B23: FASE 2 | C23: 30 | D23: ='COSTEO INICIAL'!E6 -> 35768000 | E23: =A23*C23*D23 -> 1073040000
A24: 1 | B24: FASE 3 | C24: 30 | E24: =A24*C24*D24 -> 0
A25: 1 | B25: FASE 4 | C25: 69 | D25: ='COSTEO INICIAL'!E8 -> 24045564 | E25: =A25*C25*D25 -> 1659143916
A26: 1 | B26: FASE 5 | C26: 39 | D26: 23891972 | E26: =A26*C26*D26 -> 931786908
A27: 1 | B27: FASE 6
A28: Total costeo por Fases | E28: =E27+E26+E25+E24+E23+E22 -> 4142388864
A29: Otros Gastos
A30: Ítem | B30: Descripción del Rubro | C30: Costeo | D30: Cantidad | E30: Valor total
A31: 1 | B31: Gastos de viaje, transporte, alimentación y hospedaje del personal técnico del proyecto 46 personas, por 25 días trabajo de campo según cronograma | C31: 175948275 | D31: 1 | E31: =C31*D31 -> 175948275
A32: 2 | B32: 40 Ejemplares de documentos finales de Caracterización (40 Consejos Comunitarios)IMPRESIÓN EN PLOTER (Impresión en Ploter full color hoja carta. POR HOJA IMPRESA) | C32: 72725 | D32: =40*40 -> 1600 | E32: =C32*D32 -> 116360000
A33: 3 | B33: Administración y soporte institucional (5,89%) | C33: 321833461 | D33: 1 | E33: =C33*D33 -> 321833461
A34: Total Otros Gastos | E34: =E31+E32+E33 -> 614141736
A35: Total Costeo de actividades | E35: =E34+E28 -> 4756530600
A37: Total Financiación Ministerio | E37: =E35+E19 -> 5460030600
A42: Nota: El valor correspondiente a la

Sheet VIATICOS
B2: Decreto 0613 de 2025 (3 de junio 2025) | G2: Funcionario | K2: Contratista
B3: Desde | C3: Hasta | D3: Diario | G3: Salario | H3: 7950000 | K3: Salario | L3: 3500000
B4: - | C4: 1791760 | D4: 162510 | G4: Valor dia Decreto | H4: =ROUND(IF(H3<=C4,D4,IF(H3<=C5,D5,IF(H3<=C6,D6,IF(H3<=C7,D7,IF(H3<=C8,D8,IF(H3<=C9,D9,IF(H3<=C10,D10,IF(H3<=C11,D11,IF(H3<=C12,D12,IF(H3<=C13,D13,IF(H3>=B14,D14))))))))))),0.5) -> 406416 | K4: Valor dia Decreto | L4: =ROUND(IF(L3<=C4,D4,IF(L3<=C5,D5,IF(L3<=C6,D6,IF(L3<=C7,D7,IF(L3<=C8,D8,IF(L3<=C9,D9,IF(L3<=C10,D10,IF(L3<=C11,D11,IF(L3<=C12,D12,IF(L3<=C13,D13,IF(L3>=B14,D14))))))))))),0.5) -> 269483
B5: 1791761 | C5: 2815579 | D5: 222099 | G5: Valor dia Resolucion | H5: =ROUND(IF($H$3<=C17,$H$4*D17,IF($H$3<=C18,$H$4*D18,IF($H$3<=C19,$H$4*D19,IF($H$3<=C20,$H$4*D20,IF($H$3>C20,H4*D20))))),0.5) -> 365774 | K5: Valor dia Resolucion | L5: =ROUND(IF($L$3<=C17,$L$4*E17,IF($L$3<=C18,$L$4*E18,IF($L$3<=C19,$L$4*E19,IF($L$3<=C20,$L$4*E20,IF($L$3>C20,$L$4*E20))))),0.5) -> 269483
B6: =+C5+1 -> 2815580 | C6: 3759796 | D6: 269483 | G6: Dia sin percnocta | H6: =ROUND(IF($H$3<=C23,$H$5*D23,IF($H$3<=C24,$H$5*D24,IF($H$3<=C25,$H$5*D25,IF($H$3<=C26,$H$5*D26,IF($H$3>C26,$H$5*D26))))),0.5) -> 146310 | K6: Dia sin percnocta | L6: =ROUND(IF(L3<=C23,L5*E23,IF(L3<=C24,L5*E24,IF(L3<=C25,L5*E25,IF(L3<=C26,L5*E26,IF(L3>C26,L5*E26))))),0.5) -> 134742
B7: =+C6+1 -> 3759797 | C7: 4768793 | D7: 313570
B8: =+C7+1 -> 4768794 | C8: 5759304 | D8: 360077 | G8: Fecha inicio | H8: 45827 | I8: Fecha final | J8: 45827 | K8: Dias total | L8: =+(J8-H8)+0.5 -> 0.5
B9: =+C8+1 -> 5759305 | C9: 8685901 | D9: 406416 | I9: Dias Percnocta | J9: =J8-H8 -> 0
B10: =+C9+1 -> 8685902 | C10: 12139897 | D10: 493654 | I10: Dias No percnocta | J10: 1
B11: =+C10+1 -> 12139898 | C11: 14414441 | D11: 665941
B12: =+C11+1 -> 14414442 | C12: 17744713 | D12: 865711 | G12: Dias enteros | H12: =J9 -> 0 | I12: =H12*H5 -> 0 | K12: Dias enteros | L12: =J9 -> 0 | N12: =+L12*L5 -> 0
B13: =+C12+1 -> 17744714 | C13: 21456759 | D13: 1047162 | G13: Dia Medio | H13: =+J10 -> 1 | I13: =+H13*H6 -> 146310 | K13: Dia Medio | L13: =+J10 -> 1 | N13: =+L13*L6 -> 134742
B14: =+C13+1 -> 21456760 | C14: En adelante | D14: 1233192 | H14: Total | I14: =SUM(I12:I13) -> 146310 | L14: Total | N14: =SUM(N12:N13) -> 134742
B15: Reconocimiento con percnocta
B16: Desde | C16: Hasta | D16: Funcionario | E16: Contratista
B17: - | C17: 3660661 | D17: 1 | E17: 1
B18: 3660662 | C18: 7321125 | D18: 0.95 | E18: 0.95
B19: 7321126 | C19: 9161941 | D19: 0.9 | E19: 0.9
B20: 9161942 | C20: 20000000 | D20: 0.8 | E20: 0.8
B21: Reconocimientosinpercnocta
B22: Desde | C22: Hasta | D22: Funcionario | E22: Contratista
B23: - | C23: 3660661 | D23: 0.5 | E23: 0.5
B24: 3660662 | C24: 7321125 | D24: 0.45 | E24: 0.45
B25: 7321126 | C25: 9161941 | D25: 0.4 | E25: 0.4
B26: 9161942 | C26: 20000000 | D26: 0.35 | E26: 0.35
D29: PERFILES | E29: HONORARIOS | F29: CANTIDAD | G29: VALOR MEDIO DIA | H29: DIAS EN CAMPO | I29: VALOR TOTAL
D30: Abogados | E30: 6200000 | F30: ='PRESUPUESTO INICIAL'!A12 -> 9 | G30: 173743 | H30: 25 | I30: =+H30*G30*F30 -> 39092175
D31: Profesional en ciencias Sociales: Antropólogos, filósofos, sociólogos, politólogos, psicólogos | E31: 6200000 | F31: ='PRESUPUESTO INICIAL'!A13 -> 9 | G31: 173743 | H31: 25 | I31: =+H31*G31*F31 -> 39092175
D32: Profesional Ambiental, forestal, agroforestal, Biólogos o afines | E32: 6200000 | F32: ='PRESUPUESTO INICIAL'!A14 -> 9 | G32: 173743 | H32: 25 | I32: =+H32*G32*F32 -> 39092175
D33: Gestor territoriales | E33: 2500000 | F33: ='PRESUPUESTO INICIAL'!A15 -> 9 | G33: 111050 | H33: 25 | I33: =+H33*G33*F33 -> 24986250
D34: Técnico administrativo | E34: 2900000 | F34: ='PRESUPUESTO INICIAL'!A16 -> 1 | G34: 134742 | H34: 25 | I34: =+H34*G34*F34 -> 3368550
D35: Diseñador gráfico | E35: 3500000 | F35: ='PRESUPUESTO INICIAL'!A17 -> 9 | G35: 134742 | H35: 25 | I35: =+H35*G35*F35 -> 30316950
I36: =SUM(I30:I35) -> 175948275

Sheet CARTILLAS
B6: CONTRATO OPERACIÓN LOGÍSTICA 1473 2025
A7: Detalle | B7: Valor Hoja según Tarifario | C7: Cantidad | D7: Total
A8: Cartilla-IMPRESIÓN EN PLOTER (Impresión en Ploter full color hoja carta. POR HOJA IMPRESA) | B8: 2909 | C8: 25 | D8: =B8*C8 -> 72725

Sheet COMPARATIVO VS PROPUESTAS
C3: Fuente | D3: Valor
A4: PERSONAL MÍNIMO REQUERIDO
A5: Equipo administrativo de base
A6: Cantidad | B6: Tiempo (meses) | C6: Honorarios mensuales | D6: Valor total
A7: 1 | B7: 3 | C7: 8000000 | D7: =A7*B7*C7 -> 24000000
A8: 1 | B8: 3 | C8: 4000000 | D8: =A8*B8*C8 -> 12000000
A9: 1 | B9: 3 | C9: 3000000 | D9: =A9*B9*C9 -> 9000000
A10: Subtotal equipo administrativo de base | D10: =SUM(D7:D9) -> 45000000
A11: Equipo Técnico
A12: 9 | B12: 3 | C12: 6200000 | D12: =A12*B12*C12 -> 167400000
A13: 9 | B13: 3 | C13: 6200000 | D13: =A13*B13*C13 -> 167400000
A14: 9 | B14: 3 | C14: 6200000 | D14: =A14*B14*C14 -> 167400000
A15: 9 | B15: 3 | C15: 2500000 | D15: =A15*B15*C15 -> 67500000
A16: 1 | B16: 3 | C16: 3500000 | D16: =A16*B16*C16 -> 10500000
A17: 9 | B17: 3 | C17: 2900000 | D17: =A17*B17*C17 -> 78300000
A18: Subtotal equipo administrativo de base | D18: =SUM(D12:D17) -> 658500000
A19: Total Equipo Humano | D19: =D18+D10 -> 703500000
A20: COSTEO POR FASES DEL PROYECTO
A21: Ítem | B21: Consejos Comunitarios | C21: Valor Unitario | D21: Valor total
A22: 1 | B22: 30 | C22: ='COSTEO INICIAL'!E5 -> 15947268 | D22: =A22*B22*C22 -> 478418040
A23: 1 | B23: 30 | C23: ='COSTEO INICIAL'!E6 -> 35768000 | D23: =A23*B23*C23 -> 1073040000
A24: 1 | B24: 30 | D24: =A24*B24*C24 -> 0
A25: 1 | B25: 69 | C25: ='COSTEO INICIAL'!E8 -> 24045564 | D25: =A25*B25*C25 -> 1659143916
A26: 1 | B26: 39 | C26: 23891972 | D26: =A26*B26*C26 -> 931786908
A27: 1
A28: Total costeo por Fases | D28: =D27+D26+D25+D24+D23+D22 -> 4142388864
A29: Otros Gastos
A30: Ítem | B30: Costeo | C30: Cantidad | D30: Valor total
A31: 1 | B31: 175948275 | C31: 1 | D31: =B31*C31 -> 175948275
A32: 2 | B32: 72725 | C32: =40*40 -> 1600 | D32: =B32*C32 -> 116360000
A33: 3 | B33: 321833461 | C33: 1 | D33: =B33*C33 -> 321833461
A34: Total Otros Gastos | D34: =D31+D32+D33 -> 614141736
A35: Total Costeo de actividades | D35: =D34+D28 -> 4756530600
C37: DCN PRESUPUESTO INICIAL | D37: =D35+D19 -> 5460030600
C38: CONSEJO COMUNITARIO DE LA COMUNIDAD NEGRA DE GUACOCHE “LOS CARDONALES” | D38: 5349399977
C39: EDP Soluciones SAS | D39: 5323686851
C40: PROMEDIO | D40: =+AVERAGE(D37:D39) -> 5.3777058e+09
C41: DESVIACIÓN ESTANDAR | D41: =+_xlfn.STDEV.S(D37:D39) -> 72445287
C42: LIMITE SUPERIOR | D42: =+D40+D41 -> 5.4501511e+09
C43: LIMITE INFERIOR | D43: =+D40-D41 -> 5.3052605e+09
...

Sheet PRESUPUESTO FINAL
A4: PERSONAL MÍNIMO REQUERIDO
A5: Equipo administrativo de base
A6: Cantidad | B6: Descripción del Rubro | C6: Tiempo (meses) | D6: Honorarios mensuales | E6: Valor total
A7: 1 | B7: Director técnico del proyecto | C7: 3 | D7: 7950000 | E7: =A7*C7*D7 -> 23850000
A8: 1 | B8: Coordinador administrativo y financiero | C8: 3 | D8: 3950000 | E8: =A8*C8*D8 -> 11850000
A9: 1 | B9: Asistente administrativo y financiero | C9: 3 | D9: 2950000 | E9: =A9*C9*D9 -> 8850000
A10: Subtotal equipo administrativo de base | E10: =SUM(E7:E9) -> 44550000
A11: Equipo Técnico
A12: 9 | B12: Abogados | C12: 3 | D12: 6150000 | E12: =A12*C12*D12 -> 166050000
A13: 9 | B13: Profesional Ambiental, forestal, agroforestal o afines | C13: 3 | D13: 6150000 | E13: =A13*C13*D13 -> 166050000
A14: 9 | B14: Profesional en ciencias sociales: Antropólogos, filósofos, sociólogos, politólogos, psicólogos, trabajadores sociales y afines | C14: 3 | D14: 6150000 | E14: =A14*C14*D14 -> 166050000
A15: 9 | B15: Gestor Territorial (Uno por departamento) | C15: 3 | D15: 2450000 | E15: =A15*C15*D15 -> 66150000
A16: 1 | B16: Diseñador gráfico | C16: 3 | D16: 3450000 | E16: =A16*C16*D16 -> 10350000
A17: 9 | B17: Técnico administrativo (Sistematización, procesamiento de datos, tabulación) | C17: 3 | D17: 2850000 | E17: =A17*C17*D17 -> 76950000
A18: Subtotal equipo administrativo de base | E18: =SUM(E12:E17) -> 651600000
A19: Total Equipo Humano | E19: =E18+E10 -> 696150000
A20: COSTEO POR FASES DEL PROYECTO
A21: Ítem | B21: Descripción del Rubro | C21: Consejos Comunitarios | D21: Valor Unitario | E21: Valor total
A22: 1 | B22: FASE 1 | C22: 30 | D22: 15939688 | E22: =A22*C22*D22 -> 478190655
A23: 1 | B23: FASE 2 | C23: 30 | D23: 35751000 | E23: =A23*C23*D23 -> 1072530000
A24: 1 | B24: FASE 3 | C24: 30 | E24: =A24*C24*D24 -> 0
A25: 1 | B25: FASE 4 | C25: 70 | D25: 24034136 | E25: =A25*C25*D25 -> 1682389485
A26: 1 | B26: FASE 5 | C26: =51-11 -> 40 | D26: 23880616 | E26: =A26*C26*D26 -> 955224660
A27: 1 | B27: FASE 6
A28: Total costeo por Fases | E28: =E27+E26+E25+E24+E23+E22 -> 4188334800
A29: Otros Gastos
A30: Ítem | B30: Descripción del Rubro | C30: Costeo | D30: Cantidad | E30: Valor total
A31: 1 | B31: Gastos de viaje, transporte, alimentación y hospedaje del personal técnico del proyecto 46 personas, por 25 días trabajo de campo según cronograma | C31: 154990000 | D31: 1 | E31: =C31*D31 -> 154990000
A32: 2 | B32: 40 Ejemplares de documentos finales de Caracterización (40 Consejos Comunitarios) | C32: 50000 | D32: =40*40 -> 1600 | E32: =C32*D32 -> 80000000
A33: 3 | B33: Administración y soporte institucional (5,63%) | C33: 305650000 | D33: 1 | E33: =C33*D33 -> 305650000
A34: Total Otros Gastos | E34: =E31+E32+E33 -> 540640000
A35: Total Costeo de actividades | E35: =E34+E28 -> 4728974800
A37: Total Financiación Ministerio | E37: =E35+E19 -> 5425124800
A42: El valor de la propuesta del CONSEJO COMUNITARIO DE LA COMUNIDAD NEGRA DE GUACOCHE “LOS CARDONALES” se encuentra debntro de los limites definidos en el presupuesto oficial para la presente contratación
B45: =+'COMPARATIVO VS PROPUESTAS'!C40 -> PROMEDIO | C45: =+'COMPARATIVO VS PROPUESTAS'!D40 -> 5.3777058e+09
B46: =+'COMPARATIVO VS PROPUESTAS'!C41 -> DESVIACIÓN ESTANDAR | C46: =+'COMPARATIVO VS PROPUESTAS'!D41 -> 72445287
B47: =+'COMPARATIVO VS PROPUESTAS'!C42 -> LIMITE SUPERIOR | C47: =+'COMPARATIVO VS PROPUESTAS'!D42 -> 5.4501511e+09
B48: =+'COMPARATIVO VS PROPUESTAS'!C43 -> LIMITE INFERIOR | C48: =+'COMPARATIVO VS PROPUESTAS'!D43 -> 5.3052605e+09
B49: OFERTA PRESENTADA | C49: =+E37 -> 5425124800
