Workbook
Name \0: #REF!
Name \00: #REF!
Name \a: #REF!
Name \a: #REF!
Name \AA: [1]LIQUIDACION!#REF!
Name \b: [2]STRSUMM0!#REF!
Name \bb: [2]STRSUMM0!#REF!
Name \E: #REF!
Name \EE: #REF!
Name \G: #REF!
Name \k: '[3]7422CW00'!#REF!
Name \l: [4]STRSUMM0!#REF!
Name \M: #REF!
Name \ñ: '[5]7422CW00'!#REF!
Name \P: #REF!
Name \R: #REF!
Name \s: #REF!
Name \s: #REF!
Name \V: #REF!
Name \X: 'INDICAR CÓDIGO DEL ITEM DE PAGO'!ERR
Name \X: [0]!ERR
Name \Z: 'INDICAR CÓDIGO DEL ITEM DE PAGO'!ERR
Name \Z: [0]!ERR
Name _________AFC1: [6]INV!$A$25:$D$28
Name _________AFC3: [6]INV!$F$25:$I$28
Name _________AFC5: [6]INV!$K$25:$N$28
Name _________BGC1: [6]INV!$A$5:$D$8
Name _________BGC3: [6]INV!$F$5:$I$8
Name _________BGC5: [6]INV!$K$5:$N$8
Name _________CAC1: [6]INV!$A$19:$D$22
Name _________CAC3: [6]INV!$F$19:$I$22
Name _________CAC5: [6]INV!$K$19:$N$22
Name _________PJ50: #REF!
Name _________PJ50: #REF!
Name _________SBC1: [6]INV!$A$12:$D$15
Name _________SBC3: [6]INV!$F$12:$I$15
Name _________SBC5: [6]INV!$K$12:$N$15
Name ________AFC1: [6]INV!$A$25:$D$28
Name ________AFC3: [6]INV!$F$25:$I$28
Name ________AFC5: [6]INV!$K$25:$N$28
Name ________BGC1: [6]INV!$A$5:$D$8
Name ________BGC3: [6]INV!$F$5:$I$8
Name ________BGC5: [6]INV!$K$5:$N$8
Name ________CAC1: [6]INV!$A$19:$D$22
Name ________CAC3: [6]INV!$F$19:$I$22
Name ________CAC5: [6]INV!$K$19:$N$22
Name ________MA2: #REF!
Name ________MA2: #REF!
Name ________PJ50: #REF!
Name ________PJ50: #REF!
Name ________SBC1: [6]INV!$A$12:$D$15
Name ________SBC3: [6]INV!$F$12:$I$15
Name ________SBC5: [6]INV!$K$12:$N$15
Name _______AFC1: [6]INV!$A$25:$D$28
Name _______AFC3: [6]INV!$F$25:$I$28
Name _______AFC5: [6]INV!$K$25:$N$28
Name _______BGC1: [6]INV!$A$5:$D$8
Name _______BGC3: [6]INV!$F$5:$I$8
Name _______BGC5: [6]INV!$K$5:$N$8
Name _______CAC1: [6]INV!$A$19:$D$22

Sheet REF. PRECIOS INDIVIDUALES GATOS
C3: Formulario 1 - Propuesta económica - Documento tipo de selección abreviada de menor cuantía - versión 2
C4: Código | D4: CCE-EICP-FM-25 | E4: Versión | F4: 2
C6: FORMULARIO 1
C7: PRESUPUESTO OFICIAL
C8: [La entidad puede utilizar este formulario de detalle del presupuesto oficial para determinar las condiciones bajo las cuales los proponentes analizarán y presentarán su propuesta económica de forma detallada, sin perjuicio que la entidad pueda modificarlo o establecer la presentación de la oferta económica con un formulario distinto al indicado.]
C10: Adicionalmente, cuando el proceso de contratación es estructurado por precios unitarios, la Entidad debe aplicar las notas 1, 2 y 3 del presente formulario y las casillas de "Descripción", "Porcentaje" de la Administración, Imprevisto, Utilidad y total A.I.U. resaltadas en colo amarillo. Tratándose de otras modalidades de precio, la Entidad puede o no configurar los mismos aspectos.
C11: MEJORAMIENTO DE LA VÍA QUE CONDUCE DEL CASCO URBANO A LA VEREDA EL PEÑÓN SECTOR LOS GATOS DEL MUNICIPIO DE SAN FRANCISCO CUNDINAMARCA
C12: Nº | D12: ITEM DE PAGO | E12: ESPECIFICACIONES | G12: DESCRIPCION | H12: UND. | I12: CANTIDAD | J12: VALOR UNITARIO | K12: VALOR TOTAL
E13: GENERAL | F13: PARTICULAR
C15: 1 | D15: 2.13 | E15: 600 INVIAS | F15: 600.4 P | G15: EXCAVACIONES VARIAS EN MATERIAL COMÚN SECO A MANO (INCLUYE RETIRO DE SOBRANTES A UNA DISTANCIA MENOR DE 5 KM) | H15: M3 | I15: 8.32 | J15: ='PRESUPUESTO OFICIAL TOTAL'!J15 -> 86910.18 | K15: =+I15*J15 -> 723092.7
C16: 2 | D16: 4.6 | E16: 630 INVIAS | F16: 630.4 | G16: CONCRETOS CLASE D, f´c =3000 psi (bases) | H16: M3 | I16: 30.19 | J16: ='PRESUPUESTO OFICIAL TOTAL'!J16 -> 1082856.7 | K16: =+I16*J16 -> 32691445
C17: 3 | D17: 4.25 | E17: 630 INVIAS | F17: 630.7 | G17: CONCRETO CICLÓPEO CLASE G, 2000 PSI 40% RAJÓN PARA BASES | H17: M3 | I17: 20.52 | J17: ='PRESUPUESTO OFICIAL TOTAL'!J17 -> 743068.34 | K17: =+I17*J17 -> 15247762
C18: 4 | D18: 4.21 | E18: 671 INVIAS | F18: 671.1 | G18: CUNETA DE CONCRETO CLASE E, 2500 PSI FUNDIDA EN EL LUGAR | H18: M3 | I18: 18.44 | J18: ='PRESUPUESTO OFICIAL TOTAL'!J18 -> 892592.26 | K18: =+I18*J18 -> 16459401
C19: 5 | D19: 4.52 | E19: 640 INVIAS | F19: 640.1 | G19: SUMINISTRO FIGURADO Y ARMADO DE ACERO DE REFUERZO 60000 PSI | H19: KG | I19: 3208.27 | J19: ='PRESUPUESTO OFICIAL TOTAL'!J19 -> 10871.42 | K19: =+I19*J19 -> 34878451
C20: Subtotal | K20: =K15+K16+K17+K18+K19 -> 1.0000015e+08
C21: SUBTOTAL OBRAS | K21: =K20 -> 1.0000015e+08
G26: SUBTOTAL OBRAS (INCLUYE IVA) | K26: =K21 -> 1.0000015e+08
G27: AJUSTE | K27: -151.93
G28: VALOR TOTAL | K28: =+K26+K27 -> 1e+08
C31: NOTA 1: Se debe tener en cuenta que el PRECIO UNITARIO incluye el valor de A.I.U. | H31: DESCRIPCION | K31: PORCENTAJE
C32: NOTA 2: Cuando la fracción decimal del peso sea igual o superior a 5 se aproximara por exceso al número entero siguiente del peso y cuando la fracción decimal del peso sea inferior a 5 se aproximará por defecto al número entero del peso. | H32: ADMINISTRACION | J32: A= | K32: 0.25
C33: NOTA 3: El A.I.U y su discriminación deben estar en porcentaje (%). | H33: IMPREVISTO | J33: I= | K33: 0.03
H34: UTILIDAD | J34: U= | K34: 0.05
H35: TOTAL A.I.U | J35: A.I.U.= | K35: 0.33

Sheet REF. PRECIOS INDIVIDUALES CHORO
C3: Formulario 1 - Propuesta económica - Documento tipo de selección abreviada de menor cuantía - versión 2
C4: Código | D4: CCE-EICP-FM-25 | E4: Versión | F4: 2
C6: FORMULARIO 1
C7: PRESUPUESTO OFICIAL
C8: [La entidad puede utilizar este formulario de detalle del presupuesto oficial para determinar las condiciones bajo las cuales los proponentes analizarán y presentarán su propuesta económica de forma detallada, sin perjuicio que la entidad pueda modificarlo o establecer la presentación de la oferta económica con un formulario distinto al indicado.]
C10: Adicionalmente, cuando el proceso de contratación es estructurado por precios unitarios, la Entidad debe aplicar las notas 1, 2 y 3 del presente formulario y las casillas de "Descripción", "Porcentaje" de la Administración, Imprevisto, Utilidad y total A.I.U. resaltadas en colo amarillo. Tratándose de otras modalidades de precio, la Entidad puede o no configurar los mismos aspectos.
C11: MEJORAMIENTO DE LA VÍA QUE CONDUCE DEL CASCO URBANO A LA VEREDA ARRAYAN SECTOR CHEROTE II DEL MUNICIPIO DE SAN FRANCISCO CUNDINAMARCA
C12: Nº | D12: ITEM DE PAGO | E12: ESPECIFICACIONES | G12: DESCRIPCION | H12: UND. | I12: CANTIDAD | J12: VALOR UNITARIO | K12: VALOR TOTAL
E13: GENERAL | F13: PARTICULAR
C15: 1 | D15: 2.13 | E15: 600 INVIAS | F15: 600.4 P | G15: EXCAVACIONES VARIAS EN MATERIAL COMÚN SECO A MANO (INCLUYE RETIRO DE SOBRANTES A UNA DISTANCIA MENOR DE 5 KM) | H15: M3 | I15: 8.32 | J15: ='PRESUPUESTO OFICIAL TOTAL'!J15 -> 86910.18 | K15: =+I15*J15 -> 723092.7
C16: 2 | D16: 4.6 | E16: 630 INVIAS | F16: 630.4 | G16: CONCRETOS CLASE D, f´c =3000 psi (bases) | H16: M3 | I16: 30.19 | J16: ='PRESUPUESTO OFICIAL TOTAL'!J16 -> 1082856.7 | K16: =+I16*J16 -> 32691445 | N16: 80*3,9
C17: 3 | D17: 4.25 | E17: 630 INVIAS | F17: 630.7 | G17: CONCRETO CICLÓPEO CLASE G, 2000 PSI 40% RAJÓN PARA BASES | H17: M3 | I17: 20.52 | J17: ='PRESUPUESTO OFICIAL TOTAL'!J17 -> 743068.34 | K17: =+I17*J17 -> 15247762
C18: 4 | D18: 4.21 | E18: 671 INVIAS | F18: 671.1 | G18: CUNETA DE CONCRETO CLASE E, 2500 PSI FUNDIDA EN EL LUGAR | H18: M3 | I18: 18.44 | J18: ='PRESUPUESTO OFICIAL TOTAL'!J18 -> 892592.26 | K18: =+I18*J18 -> 16459401
C19: 5 | D19: 4.52 | E19: 640 INVIAS | F19: 640.1 | G19: SUMINISTRO FIGURADO Y ARMADO DE ACERO DE REFUERZO 60000 PSI | H19: KG | I19: 3208.27 | J19: ='PRESUPUESTO OFICIAL TOTAL'!J19 -> 10871.42 | K19: =+I19*J19 -> 34878451
C20: Subtotal | K20: =K15+K16+K17+K18+K19 -> 1.0000015e+08
C21: SUBTOTAL OBRAS | K21: =K20 -> 1.0000015e+08
G26: SUBTOTAL OBRAS (INCLUYE IVA) | K26: =K21 -> 1.0000015e+08
G27: AJUSTE | K27: -151.93
G28: VALOR TOTAL | K28: =+K26+K27 -> 1e+08
C31: NOTA 1: Se debe tener en cuenta que el PRECIO UNITARIO incluye el valor de A.I.U. | H31: DESCRIPCION | K31: PORCENTAJE
C32: NOTA 2: Cuando la fracción decimal del peso sea igual o superior a 5 se aproximara por exceso al número entero siguiente del peso y cuando la fracción decimal del peso sea inferior a 5 se aproximará por defecto al número entero del peso. | H32: ADMINISTRACION | J32: A= | K32: 0.25
C33: NOTA 3: El A.I.U y su discriminación deben estar en porcentaje (%). | H33: IMPREVISTO | J33: I= | K33: 0.03
H34: UTILIDAD | J34: U= | K34: 0.05
H35: TOTAL A.I.U | J35: A.I.U.= | K35: 0.33

Sheet PRESUPUESTO OFICIAL TOTAL
C3: Formulario 1 - Propuesta económica - Documento tipo de selección abreviada de menor cuantía - versión 2
C4: Código | D4: CCE-EICP-FM-25 | E4: Versión | F4: 2
C6: FORMULARIO 1
C7: PRESUPUESTO OFICIAL
C8: [La entidad puede utilizar este formulario de detalle del presupuesto oficial para determinar las condiciones bajo las cuales los proponentes analizarán y presentarán su propuesta económica de forma detallada, sin perjuicio que la entidad pueda modificarlo o establecer la presentación de la oferta económica con un formulario distinto al indicado.]
C10: Adicionalmente, cuando el proceso de contratación es estructurado por precios unitarios, la Entidad debe aplicar las notas 1, 2 y 3 del presente formulario y las casillas de "Descripción", "Porcentaje" de la Administración, Imprevisto, Utilidad y total A.I.U. resaltadas en colo amarillo. Tratándose de otras modalidades de precio, la Entidad puede o no configurar los mismos aspectos.
C11: “(I) MEJORAMIENTO DE LA VÍA QUE CONDUCE DEL CASCO URBANO A LA VEREDA EL PEÑÓN SECTOR LOS GATOS DEL MUNICIPIO DE SAN FRANCISCO DEL DEPARTAMENTO DE CUNDINAMARCA EN CUMPLIMIENTO AL CONVENIO INTERADMINISTRATIVO ICCU 598 DE 2025, (II) MEJORAMIENTO DE LA VIA QUE CONDUCE DEL CASCO URBANO A LA VEREDA ARRAYAN SECTOR CHOROTE II DEL MUNICIPIO DE SAN FRANCISCO DEL DEPARTAMENTO DE CUNDINAMARCA, EN CUMPLIMIENTO AL CONVENIO INTERADMINISTRATIVO ICCU 635 DE 2025”
C12: Nº | D12: ITEM DE PAGO | E12: ESPECIFICACIONES | G12: DESCRIPCION | H12: UND. | I12: CANTIDAD | J12: VALOR UNITARIO | K12: VALOR TOTAL
E13: GENERAL | F13: PARTICULAR
C15: 1 | D15: 2.13 | E15: 600 INVIAS | F15: 600.4 P | G15: EXCAVACIONES VARIAS EN MATERIAL COMÚN SECO A MANO (INCLUYE RETIRO DE SOBRANTES A UNA DISTANCIA MENOR DE 5 KM) | H15: M3 | I15: ='REF. PRECIOS INDIVIDUALES CHORO'!I15+'REF. PRECIOS INDIVIDUALES GATOS'!I15 -> 16.64 | J15: 86910.18 | K15: =ROUND(I15*J15,0) -> 1446185 | N15: 65346 | O15: =+N15*1.33 -> 86910.18
C16: 2 | D16: 4.6 | E16: 630 INVIAS | F16: 630.4 | G16: CONCRETOS CLASE D, f´c =3000 psi (bases) | H16: M3 | I16: ='REF. PRECIOS INDIVIDUALES CHORO'!I16+'REF. PRECIOS INDIVIDUALES GATOS'!I16 -> 60.38 | J16: 1082856.7 | K16: =ROUND(I16*J16,0) -> 65382890 | N16: 814178 | O16: =+N16*1.33 -> 1082856.7
C17: 3 | D17: 4.25 | E17: 630 INVIAS | F17: 630.7 | G17: CONCRETO CICLÓPEO CLASE G, 2000 PSI 40% RAJÓN PARA BASES | H17: M3 | I17: ='REF. PRECIOS INDIVIDUALES CHORO'!I17+'REF. PRECIOS INDIVIDUALES GATOS'!I17 -> 41.04 | J17: 743068.34 | K17: =ROUND(I17*J17,0) -> 30495525 | N17: 558698 | O17: =+N17*1.33 -> 743068.34
C18: 4 | D18: 4.21 | E18: 671 INVIAS | F18: 671.1 | G18: CUNETA DE CONCRETO CLASE E, 2500 PSI FUNDIDA EN EL LUGAR | H18: M3 | I18: ='REF. PRECIOS INDIVIDUALES CHORO'!I18+'REF. PRECIOS INDIVIDUALES GATOS'!I18 -> 36.88 | J18: 892592.26 | K18: =ROUND(I18*J18,0) -> 32918803 | N18: 671122 | O18: =+N18*1.33 -> 892592.26
C19: 5 | D19: 4.52 | E19: 640 INVIAS | F19: 640.1 | G19: SUMINISTRO FIGURADO Y ARMADO DE ACERO DE REFUERZO 60000 PSI | H19: KG | I19: ='REF. PRECIOS INDIVIDUALES CHORO'!I19+'REF. PRECIOS INDIVIDUALES GATOS'!I19 -> 6416.54 | J19: 10871.42 | K19: =ROUND(I19*J19,0) -> 69756901 | N19: 8174 | O19: =+N19*1.33 -> 10871.42
C20: Subtotal | K20: =K15+K16+K17+K18+K19 -> 200000304
C21: SUBTOTAL OBRAS | K21: =K20 -> 200000304
G23: SUBTOTAL OBRAS (INCLUYE IVA) | K23: =K21 -> 200000304
G24: AJUSTE | K24: -304
G25: VALOR TOTAL | K25: =+K23+K24 -> 200000000
C28: NOTA 1: Se debe tener en cuenta que el PRECIO UNITARIO incluye el valor de A.I.U. | H28: DESCRIPCION | K28: PORCENTAJE
C29: NOTA 2: Cuando la fracción decimal del peso sea igual o superior a 5 se aproximara por exceso al número entero siguiente del peso y cuando la fracción decimal del peso sea inferior a 5 se aproximará por defecto al número entero del peso. | H29: ADMINISTRACION | J29: A= | K29: 0.25
C30: NOTA 3: El A.I.U y su discriminación deben estar en porcentaje (%). | H30: IMPREVISTO | J30: I= | K30: 0.03
H31: UTILIDAD | J31: U= | K31: 0.05
H32: TOTAL A.I.U | J32: A.I.U.= | K32: 0.33

Sheet PROPUESTA ECONOMICA(Proponente)
C3: Formulario 1 - Propuesta económica - Documento tipo de selección abreviada de menor cuantía - versión 2
C4: Código | D4: CCE-EICP-FM-25 | E4: Versión | F4: 2
C6: FORMULARIO 1
C7: PROPUESTA ECONOMICA
C8: [La entidad puede utilizar este formulario de presentación de propuesta económica de forma detallada, sin perjuicio que la entidad pueda modificarlo o establecer la presentación de la oferta económica con un formulario distinto al indicado.] [Los proponentes emplearán el formulario establecido por la entidad para determinar su propuesta económica conforme al Formulario 1 - Presupuesto Oficial publicado por la Entidad]
C10: Cuando el proceso de contratación es estructurado por precios unitarios, la Entidad debe aplicar las notas 1, 2 y 3 del presente formato y las casillas de "Descripción", "Porcentaje" de la Administración, Imprevisto, Utilidad y total A.I.U. resaltadas en color amarillo.
C12: Nº | D12: ITEM DE PAGO | E12: ESPECIFICACIONES | G12: DESCRIPCION | H12: UND. | I12: CANTIDAD | J12: VALOR UNITARIO | K12: VALOR TOTAL
E13: GENERAL | F13: PARTICULAR
C16: Subtotal
C22: Subtotal
C32: Subtotal
C37: Subtotal
C40: Subtotal
C41: SUBTOTAL OBRAS
G46: SUBTOTAL OBRAS (INCLUYE IVA)
G50: VALOR TOTAL
C53: NOTA 1: Se debe tener en cuenta que el PRECIO UNITARIO incluye el valor de A.I.U. | H53: DESCRIPCION | K53: PORCENTAJE
C54: NOTA 2: Cuando la fracción decimal del peso sea igual o superior a 5 se aproximara por exceso al número entero siguiente del peso y cuando la fracción decimal del peso sea inferior a 5 se aproximará por defecto al número entero del peso. | H54: ADMINISTRACION | J54: A= | K54: [Ofrecimiento del Proponente]
C55: NOTA 3: El A.I.U y su discriminación deben estar en porcentaje (%). | H55: IMPREVISTO | J55: I= | K55: [Ofrecimiento del Proponente]
H56: UTILIDAD | J56: U= | K56: [Ofrecimiento del Proponente]
H57: TOTAL A.I.U | J57: A.I.U.= | K57: [Ofrecimiento del Proponente]
G60: Firma del Proponente o de su Representante Legal

Sheet INDICAR CÓDIGO DEL ITEM DE PAGO
C3: Formulario 1 - Propuesta económica - Documento tipo de selección abreviada de menor cuantía - versión 3
C4: Código | D4: CCE-EICP-FM-25 | E4: Versión | F4: 3
C6: [La entidad podrá utilizar este formato para la presentación de los análisis de precios unitarios el contratista en la oportunidad prevista en el numeral 8.1. del Documento Base]
D9: [NOMBRE DE LA ENTIDAD]
L10: VERSIÓN
D11: [NÚMERO DEL PROCESO]
L12: PÁGINA | M12: 1 | N12: DE | O12: 1
D14: ANALISIS DE PRECIOS UNITARIOS
L16: FECHA | M16: DD | N16: MM | O16: AA
C18: ITEMS DE LA PROPUESTA ECONÓMICA | I18: ITEMS NO PREVISTOS
C22: DATOS ESPECÍFICOS
C24: ITEM | D24: DESCRIPCIÓN | M24: UNIDAD | O24: CANTIDAD
C26: I. EQUIPO
C29: DESCRIPCIÓN | H29: MARCA | J29: TIPO | L29: TARIFA/HORA | M29: RENDIMIENTO | O29: Vr. UNITARIO
C33: SUBTOTAL $
C34: II. MATERIALES
C37: DESCRIPCIÓN | K37: UNIDAD | L37: CANTIDAD | M37: PRECIO UNIT. | O37: Vr. UNITARIO
C40: SUBTOTAL $ | O40: 0
C41: III. TRANSPORTES
C44: MATERIAL | J44: VOL. o PESO | K44: DISTANCIA | L44: M3 o Ton/Km | M44: TARIFA | O44: Vr. UNITARIO
C47: SUBTOTAL $
C48: IV. MANO DE OBRA
C51: TRABAJADOR | J51: JORNAL | K51: PRESTACIONES | L51: JORNAL TOTAL | M51: RENDIMIENTO | O51: Vr. UNITARIO
C56: SUBTOTAL $
C58: TOTAL COSTO DIRECTO $
C59: V. COSTOS INDIRECTOS
C62: Descripción | L62: Porcentaje | M62: Valor Total
C63: ADMINISTRACION
C64: IMPREVISTOS
C65: UTILIDAD
C66: SUBTOTAL $
C68: Precio Unitario Total Aproximado al peso $
H72: Firma
H73: Nombre:
H74: Representante Legal del Contratista o su Apoderado
H75: Matricula No. :
C77: OBSERVACIONES INTERVENTORÍA
C81: APROBACIÓN POR INTERVENTORÍA
C82: Nota 1: Cuando se trate de Análisis de precios unitarios correspondientes a ítems de la propuesta económica aprobada, el Interventor aprueba el desglose de los componentes manteniendo el mismo precio unitario de cada ítem, cumpliendo con las especificaciones de construcción vigentes para el proyecto.
C84: Nota 2: Cuando se trate de Análisis de precios unitarios de ítems no previstos, el Interventor aprueba el desglose y precio unitario de cada ítem no previsto, exigiendo la aplicación de los costos correspondientes a insumos y tarifas de la propuesta económica inicial cuando estén contemplados, cumpliendo con las especificaciones de construcción vigente para el proyecto.
...
