Workbook

Sheet ESPECIFICACIONES TECNICAS 
B2: LOTE 1
B4: SERVICIO FORENSE: | G4: DIRECCION GENERAL-SSF | I4: CANTIDAD ESTIMADA SSF | J4: REGIONALES | M4: CANTIDADES ESTIMADAS
B5: ITEM | C5: DESCRIPCION | D5: PRESENTACION | E5: REGISTRO INVIMA | F5: TALLA | G5: GRUPO NACIONAL DE PATOLOGÍA FORENSE | H5: GRUPO NACIONAL DE APOYO AL SISTEMA DE VERDAD JUSTICIA REPARACIÓN Y NO REPETICIÓN | J5: REGIONAL BOGOTA | K5: REGIONAL ORIENTE | L5: CANTIDAD ESTIMADA
B6: 1 | C6: Calzado en color blanco, en material plástico etilenvinilacetato (EVA) con características impermeabilizantes que evitan la proliferación de bacterias, de fácil limpieza, plantilla con diseño ergonómico cuenta con inserto antideslizante en la suela lo cual hace que su resistencia al resbalamiento cumpla las condiciones a las normas técnicas NTC-ISO 2034, con suela comprobadamente antideslizante en cuartos fríos, piso húmedo ,liviano, capellada que protege toda la longitud del empeine lo que brinda protección contra salpicadura, apto para el trabajo en sala de necropsias. | D6: PAR | E6: NO | F6: 34 | I6: =SUM(G6:H6) -> 0 | J6: 10 | L6: =SUM(J6:K6) -> 10 | M6: =L6+I6 -> 10
F7: 35 | I7: =SUM(G7:H7) -> 0 | J7: 10 | L7: =SUM(J7:K7) -> 10 | M7: =L7+I7 -> 10
F8: 36 | I8: =SUM(G8:H8) -> 0 | J8: 10 | L8: =SUM(J8:K8) -> 10 | M8: =L8+I8 -> 10
F9: 37 | G9: 1 | I9: =SUM(G9:H9) -> 1 | J9: 20 | L9: =SUM(J9:K9) -> 20 | M9: =L9+I9 -> 21
F10: 38 | G10: 3 | I10: =SUM(G10:H10) -> 3 | J10: 20 | L10: =SUM(J10:K10) -> 20 | M10: =L10+I10 -> 23
F11: 39 | G11: 4 | I11: =SUM(G11:H11) -> 4 | J11: 20 | L11: =SUM(J11:K11) -> 20 | M11: =L11+I11 -> 24
F12: 40 | I12: =SUM(G12:H12) -> 0 | J12: 20 | L12: =SUM(J12:K12) -> 20 | M12: =L12+I12 -> 20
F13: 41 | G13: 1 | I13: =SUM(G13:H13) -> 1 | J13: 20 | L13: =SUM(J13:K13) -> 20 | M13: =L13+I13 -> 21
F14: 42 | I14: =SUM(G14:H14) -> 0 | J14: 20 | L14: =SUM(J14:K14) -> 20 | M14: =L14+I14 -> 20
B15: 2 | C15: =+C6 -> Calzado en color blanco, en material plástico etilenvinilacetato (EVA) con características impermeabilizantes que evitan la proliferación de bacterias, de fácil limpieza, plantilla con diseño ergonómico cuenta con inserto antideslizante en la suela lo cual hace que su resistencia al resbalamiento cumpla las condiciones a las normas técnicas NTC-ISO 2034, con suela comprobadamente antideslizante en cuartos fríos, piso húmedo ,liviano, capellada que protege toda la longitud del empeine lo que brinda protección contra salpicadura, apto para el trabajo en sala de necropsias. | D15: =+D6 -> PAR | E15: =+E6 -> NO | F15: 43 | I15: =SUM(G15:H15) -> 0 | J15: 15 | L15: =SUM(J15:K15) -> 15 | M15: =L15+I15 -> 15
B16: 3 | C16: =+C6 -> Calzado en color blanco, en material plástico etilenvinilacetato (EVA) con características impermeabilizantes que evitan la proliferación de bacterias, de fácil limpieza, plantilla con diseño ergonómico cuenta con inserto antideslizante en la suela lo cual hace que su resistencia al resbalamiento cumpla las condiciones a las normas técnicas NTC-ISO 2034, con suela comprobadamente antideslizante en cuartos fríos, piso húmedo ,liviano, capellada que protege toda la longitud del empeine lo que brinda protección contra salpicadura, apto para el trabajo en sala de necropsias. | D16: =+D6 -> PAR | E16: =+E6 -> NO | F16: 44 | I16: =SUM(G16:H16) -> 0 | J16: 15 | L16: =SUM(J16:K16) -> 15 | M16: =L16+I16 -> 15
B17: 4 | C17: =+C6 -> Calzado en color blanco, en material plástico etilenvinilacetato (EVA) con características impermeabilizantes que evitan la proliferación de bacterias, de fácil limpieza, plantilla con diseño ergonómico cuenta con inserto antideslizante en la suela lo cual hace que su resistencia al resbalamiento cumpla las condiciones a las normas técnicas NTC-ISO 2034, con suela comprobadamente antideslizante en cuartos fríos, piso húmedo ,liviano, capellada que protege toda la longitud del empeine lo que brinda protección contra salpicadura, apto para el trabajo en sala de necropsias. | D17: =+D6 -> PAR | E17: =+E6 -> NO | F17: 45 | I17: =SUM(G17:H17) -> 0 | J17: 15 | L17: =SUM(J17:K17) -> 15 | M17: =L17+I17 -> 15
B18: 5 | C18: Botas de caña alta de color blanco, liviana en PVC, suela antideslizante, forro en polyester, resistente a grasas, sangre, aceites y detergentes. Rango de temperatura de operación -30 y 40 grados centígrados. No debe ser con puntera de acero. Con inhibición de hongo y bacterias. Con curva ergonométrica. Con espolín para facilitar el descalce. Debe cumplir con la norma EN-344, ó ISO 20344 ó ISO 20345. | D18: PAR | E18: NO | F18: 37 | G18: 1 | I18: =SUM(G18:H18) -> 1 | K18: 1 | L18: =SUM(J18:K18) -> 1 | M18: =L18+I18 -> 2
F19: 38 | G19: 3 | I19: =SUM(G19:H19) -> 3 | L19: =SUM(J19:K19) -> 0 | M19: =L19+I19 -> 3
F20: 39 | G20: 4 | I20: =SUM(G20:H20) -> 4 | K20: 3 | L20: =SUM(J20:K20) -> 3 | M20: =L20+I20 -> 7
F21: 41 | G21: 1 | I21: =SUM(G21:H21) -> 1 | K21: 2 | L21: =SUM(J21:K21) -> 2 | M21: =L21+I21 -> 3
F22: 42 | I22: =SUM(G22:H22) -> 0 | K22: 1 | L22: =SUM(J22:K22) -> 1 | M22: =L22+I22 -> 1
B25: LOTE 2
B27: SERVICIO FORENSE: | G27: DIRECCION GENERAL-SSF | I27: CANTIDAD ESTIMADA SSF | J27: REGIONALES | M27: CANTIDADES ESTIMADAS
B28: ITEM | C28: DESCRIPCION | D28: PRESENTACION | E28: REGISTRO INVIMA | F28: TALLA | G28: GRUPO NACIONAL DE PATOLOGÍA FORENSE | H28: GRUPO NACIONAL DE APOYO AL SISTEMA DE VERDAD JUSTICIA REPARACIÓN Y NO REPETICIÓN | J28: REGIONAL BOGOTA | K28: REGIONAL ORIENTE | L28: CANTIDAD ESTIMADA
B29: 6 | C29: Bata quirúrgica desechable no estéril, en polipropileno 100%, no tejido, Sin barrera anti-fluidos en todo su frente y en todo lo largo de la bata, de manga larga de 60 cm de largo con puño resortado de 6 cm de largo, color blanco en algodón 100%; cuello redondo con ribete, cierre adhesivo a la altura del cuello (velcro), cuatro (4) tiras de amarre de 65 cm de largo cada una, cosidas, dos internas y dos externas, largo de la bata 120 cm, color azul, empaque individual. | D29: UNIDAD | E29: NO | F29: UNICA | H29: 1000 | I29: =SUM(G29:H29) -> 1000 | J29: 2500 | K29: 700 | L29: =SUM(J29:K29) -> 3200 | M29: =L29+I29 -> 4200
B30: 7 | C30: Bata quirúrgica no estéril en prolipropileno SMS no tejido de 35 a 40 gramos, con barrera antifluido con recubrimiento en polietileno resistencia de rasgado 55gr, en la parte frontal y media manga (del puño hasta el codo) uniones termo selladas en las mangas, manga larga, cuello redondo con ribete, con puño color blanco 100% resortado con ribete, cierre adhesivo altura del cuello (velcro)parte de atrás, cuatro(4) tiras de amarre de 35 cm, largo de la bata 1.40 cm color azul, empaque individual. | D30: UNIDAD | E30: NO | F30: S | G30: 40 | I30: =SUM(G30:H30) -> 40 | J30: 550 | K30: 550 | L30: =SUM(J30:K30) -> 1100 | M30: =L30+I30 -> 1140
F31: M | G31: 40 | I31: =SUM(G31:H31) -> 40 | J31: 550 | K31: 4800 | L31: =SUM(J31:K31) -> 5350 | M31: =L31+I31 -> 5390
F32: L | G32: 20 | I32: =SUM(G32:H32) -> 20 | J32: 550 | K32: 2500 | L32: =SUM(J32:K32) -> 3050 | M32: =L32+I32 -> 3070
B33: 8 | C33: =+C30 -> Bata quirúrgica no estéril en prolipropileno SMS no tejido de 35 a 40 gramos, con barrera antifluido con recubrimiento en polietileno resistencia de rasgado 55gr, en la parte frontal y media manga (del puño hasta el codo) uniones termo selladas en las mangas, manga larga, cuello redondo con ribete, con puño color blanco 100% resortado con ribete, cierre adhesivo altura del cuello (velcro)parte de atrás, cuatro(4) tiras de amarre de 35 cm, largo de la bata 1.40 cm color azul, empaque individual. | D33: UNIDAD | E33: NO | F33: XL | I33: =SUM(G33:H33) -> 0 | J33: 550 | K33: 2800 | L33: =SUM(J33:K33) -> 3350 | M33: =L33+I33 -> 3350
F34: XXL | I34: =SUM(G34:H34) -> 0 | J34: 550 | K34: 700 | L34: =SUM(J34:K34) -> 1250 | M34: =L34+I34 -> 1250
B35: 9 | C35: Gorro desechable en polipropileno no tejido de 30 a 40 gramos, con elástico de sujeción que permita el fácil ajuste y comodidad. | D35: PAQUETE X 100 UNIDADES | E35: NO | F35: UNICA | G35: 1 | H35: 30 | I35: =SUM(G35:H35) -> 31 | J35: 500 | K35: 5 | L35: =SUM(J35:K35) -> 505 | M35: =L35+I35 -> 536
B36: 10 | C36: Polainas desechables elaboradas en SMS de 30 a 40 gm, resistente y antideslizante. Sistema elástico en la base para mayor firmeza, medidas talla única 16 x 41 cm, color azul, | D36: PAR | E36: NO | F36: UNICA | G36: 100 | H36: 10 | I36: =SUM(G36:H36) -> 110 | J36: 700 | L36: =SUM(J36:K36) -> 700 | M36: =L36+I36 -> 810
B37: 11 | C37: Vestido cirujano, no estéril en polipropileno SMS no tejido de 30 a 40 gramos, pantalón largo y blusa manga corta, cuello en "V", color azul, desechable, en empaque individual. | D37: UNIDAD | E37: NO | F37: S | H37: 50 | I37: =SUM(G37:H37) -> 50 | J37: 300 | K37: 1000 | L37: =SUM(J37:K37) -> 1300 | M37: =L37+I37 -> 1350
F38: M | H38: 50 | I38: =SUM(G38:H38) -> 50 | J38: 300 | K38: 4000 | L38: =SUM(J38:K38) -> 4300 | M38: =L38+I38 -> 4350
F39: L | H39: 50 | I39: =SUM(G39:H39) -> 50 | J39: 300 | K39: 4000 | L39: =SUM(J39:K39) -> 4300 | M39: =L39+I39 -> 4350
B42: LOTE 3
B44: SERVICIO FORENSE: | G44: DIRECCION GENERAL-SSF | I44: CANTIDAD ESTIMADA SSF | J44: REGIONALES | M44: CANTIDADES ESTIMADAS
B45: ITEM | C45: DESCRIPCION | D45: PRESENTACION | E45: REGISTRO INVIMA | F45: TALLA | G45: GRUPO NACIONAL DE PATOLOGÍA FORENSE | H45: GRUPO NACIONAL DE APOYO AL SISTEMA DE VERDAD JUSTICIA REPARACIÓN Y NO REPETICIÓN | J45: REGIONAL BOGOTA | K45: REGIONAL ORIENTE | L45: CANTIDAD ESTIMADA
B46: 12 | C46: Cartucho para mercurio, vapores orgánicos y gases ácidos. Referencia 6007 Marca 3 M ****. | D46: PAR | E46: NO | F46: N/A | H46: 5 | I46: =SUM(G46:H46) -> 5 | J46: 30 | K46: 30 | L46: =SUM(J46:K46) -> 60 | M46: =L46+I46 -> 65
B47: 13 | C47: Cartucho para vapores y gases múltiples REF: 6003 Marca 3M *** | D47: PAR | E47: NO | F47: N/A | I47: =SUM(G47:H47) -> 0 | J47: 200 | L47: =SUM(J47:K47) -> 200 | M47: =L47+I47 -> 200
B48: 14 | C48: Respirador de libre mantenimiento para partículas con filtro N95. Certificado por NIOSH. Contramarcado | D48: UNIDAD | E48: NO | F48: N/A | H48: 200 | I48: =SUM(G48:H48) -> 200 | J48: 50 | K48: 200 | L48: =SUM(J48:K48) -> 250 | M48: =L48+I48 -> 450
B49: 15 | C49: Tapaboca quirúrgico desechable tres pliegues en polipropileno, no tejido 30 grs, con 2 cintas elásticas para orejas, resistentes a los fluidos normales de la boca y nariz. | D49: CAJA X 50 UNIDADES | E49: NO | F49: N/A | G49: 10 | H49: 50 | I49: =SUM(G49:H49) -> 60 | K49: 50 | L49: =SUM(J49:K49) -> 50 | M49: =L49+I49 -> 110
B52: LOTE 4
B54: SERVICIO FORENSE: | G54: DIRECCION GENERAL-SSF | I54: CANTIDAD ESTIMADA SSF | J54: REGIONALES | M54: CANTIDADES ESTIMADAS
B55: ITEM | C55: DESCRIPCION | D55: PRESENTACION | E55: REGISTRO INVIMA | F55: TALLA | G55: GRUPO NACIONAL DE PATOLOGÍA FORENSE | H55: GRUPO NACIONAL DE APOYO AL SISTEMA DE VERDAD JUSTICIA REPARACIÓN Y NO REPETICIÓN | J55: REGIONAL BOGOTA | K55: REGIONAL ORIENTE | L55: CANTIDAD ESTIMADA
B56: 16 | C56: Guante de nitrilo, desechable, ambidiestro, color azul, verde o lila, entre 5,5 y 6 milésimas de pulgada de espesor en todo el guante, entre 11 y 14 pulgadas de longitud. Sin talco, debe cumplir con la norma EN 374-1:2016 y EN420 o la norma que se encuentre vigente. | D56: CAJA 100 UNIDADES | E56: SI | F56: XS | H56: 4 | I56: =SUM(G56:H56) -> 4 | J56: 100 | K56: 10 | L56: =SUM(J56:K56) -> 110 | M56: =L56+I56 -> 114
B57: 17 | C57: =+C56 -> Guante de nitrilo, desechable, ambidiestro, color azul, verde o lila, entre 5,5 y 6 milésimas de pulgada de espesor en todo el guante, entre 11 y 14 pulgadas de longitud. Sin talco, debe cumplir con la norma EN 374-1:2016 y EN420 o la norma que se encuentre vigente. | D57: =+D56 -> CAJA 100 UNIDADES | E57: =+E56 -> SI | F57: S | G57: 10 | H57: 40 | I57: =SUM(G57:H57) -> 50 | J57: 500 | K57: 100 | L57: =SUM(J57:K57) -> 600 | M57: =L57+I57 -> 650
F58: M | G58: 10 | H58: 40 | I58: =SUM(G58:H58) -> 50 | J58: 500 | K58: 400 | L58: =SUM(J58:K58) -> 900 | M58: =L58+I58 -> 950
F59: L | G59: 5 | H59: 40 | I59: =SUM(G59:H59) -> 45 | J59: 800 | K59: 550 | L59: =SUM(J59:K59) -> 1350 | M59: =L59+I59 -> 1395
F60: XL | I60: =SUM(G60:H60) -> 0 | J60: 500 | K60: 300 | L60: =SUM(J60:K60) -> 800 | M60: =L60+I60 -> 800
B61: 18 | C61: Guantes de nitrilo no desechables resistentes a sustancias químicas y detergentes y solventes orgánicos longitud mínima de 18" (hasta el codo). | D61: PAR | E61: NO | F61: 7 | I61: =SUM(G61:H61) -> 0 | J61: 420 | L61: =SUM(J61:K61) -> 420 | M61: =L61+I61 -> 420
F62: 8 | I62: =SUM(G62:H62) -> 0 | J62: 420 | L62: =SUM(J62:K62) -> 420 | M62: =L62+I62 -> 420
F63: 9 | I63: =SUM(G63:H63) -> 0 | J63: 420 | L63: =SUM(J63:K63) -> 420 | M63: =L63+I63 -> 420
F64: 10 | I64: =SUM(G64:H64) -> 0 | J64: 420 | L64: =SUM(J64:K64) -> 420 | M64: =L64+I64 -> 420
B67: LOTE 5
B69: SERVICIO FORENSE: | G69: DIRECCION GENERAL-SSF | I69: CANTIDAD ESTIMADA SSF | J69: REGIONALES | M69: CANTIDADES ESTIMADAS
B70: ITEM | C70: DESCRIPCION | D70: PRESENTACION | E70: REGISTRO INVIMA | F70: TALLA | G70: GRUPO NACIONAL DE PATOLOGÍA FORENSE | H70: GRUPO NACIONAL DE APOYO AL SISTEMA DE VERDAD JUSTICIA REPARACIÓN Y NO REPETICIÓN | J70: REGIONAL BOGOTA | K70: REGIONAL ORIENTE | L70: CANTIDAD ESTIMADA
B71: 19 | C71: Traje de seguridad de protección contra salpicadura de líquidos, color blanco, cumple requisitos de las normas EN 13034 y EN 14126. elástico en capuchón, puños, cintura y tobillos. costuras cosidas y protegidas color blanco u otro color (selladas herméticamente). Cierre de dos vías con solapa sellable. Polaina del mismo material del traje, adherida al mismo o aparte, overol en polipropileno -película laminada de polietileno. empaque individual. | D71: UNIDAD | E71: NO | F71: S | H71: 30 | I71: =SUM(G71:H71) -> 30 | K71: 65 | L71: =SUM(J71:K71) -> 65 | M71: =L71+I71 -> 95
F72: M | H72: 30 | I72: =SUM(G72:H72) -> 30 | K72: 250 | L72: =SUM(J72:K72) -> 250 | M72: =L72+I72 -> 280
F73: L | H73: 30 | I73: =SUM(G73:H73) -> 30 | K73: 200 | L73: =SUM(J73:K73) -> 200 | M73: =L73+I73 -> 230
F74: XL | H74: 10 | I74: =SUM(G74:H74) -> 10 | K74: 300 | L74: =SUM(J74:K74) -> 300 | M74: =L74+I74 -> 310
B77: LOTE 6
B79: SERVICIO FORENSE: | G79: DIRECCION GENERAL-SSF | I79: CANTIDAD ESTIMADA SSF | J79: REGIONALES | M79: CANTIDADES ESTIMADAS
B80: ITEM | C80: DESCRIPCION | D80: PRESENTACION | E80: REGISTRO INVIMA | F80: TALLA | G80: GRUPO NACIONAL DE PATOLOGÍA FORENSE | H80: GRUPO NACIONAL DE APOYO AL SISTEMA DE VERDAD JUSTICIA REPARACIÓN Y NO REPETICIÓN | J80: REGIONAL BOGOTA | K80: REGIONAL ORIENTE | L80: CANTIDAD ESTIMADA
B81: 20 | C81: Guantes contra el corte en malla de acero inoxidable, cinco (5) dedos, manilla y broche 100% en acero inoxidable (sin telas, fibras o plástico), anillos microsoldados herméticamente (resortes de ajuste se encuentran localizados al interior del guante), guante ambidiestro, que cumpla con la Norma EN 1082 ó EN 1082-1 **. | D81: UNIDAD | E81: NO | F81: XXS | I81: =SUM(G81:H81) -> 0 | J81: 5 | L81: =SUM(J81:K81) -> 5 | M81: =L81+I81 -> 5
F82: XS | I82: =SUM(G82:H82) -> 0 | J82: 5 | L82: =SUM(J82:K82) -> 5 | M82: =L82+I82 -> 5
B83: 21 | C83: =+C81 -> Guantes contra el corte en malla de acero inoxidable, cinco (5) dedos, manilla y broche 100% en acero inoxidable (sin telas, fibras o plástico), anillos microsoldados herméticamente (resortes de ajuste se encuentran localizados al interior del guante), guante ambidiestro, que cumpla con la Norma EN 1082 ó EN 1082-1 **. | D83: =+D81 -> UNIDAD | E83: =+E81 -> NO | F83: S | I83: =SUM(G83:H83) -> 0 | J83: 5 | K83: 13 | L83: =SUM(J83:K83) -> 18 | M83: =L83+I83 -> 18
F84: M | H84: 2 | I84: =SUM(G84:H84) -> 2 | J84: 5 | K84: 22 | L84: =SUM(J84:K84) -> 27 | M84: =L84+I84 -> 29
F85: L | I85: =SUM(G85:H85) -> 0 | J85: 5 | K85: 20 | L85: =SUM(J85:K85) -> 25 | M85: =L85+I85 -> 25

Sheet ESTUDIO DE MERCADO 
M1: SASI-0002-SG-2024 | N1: 5.2 | P1: 094-SG-2024 | Q1: 095-SG-2024 | U1: 096-SG-2024 | V1: 097-SG-2024 | W1: 098-SG-2024
B2: LOTE 1 | M2: HISTORICO 2024 | O2: VALOR UNITARIO REDONDEADO | P2: IMPORTEX SANDOVAL SAS | V2: VALOR UNITARIO REDONDEADO
B4: SERVICIO FORENSE: | F4: DIRECCION GENERAL-SSF | H4: CANTIDAD ESTIMADA SSF | I4: REGIONALES | L4: CANTIDADES ESTIMADAS
B5: ITEM | C5: DESCRIPCION | D5: PRESENTACION | E5: TALLA | F5: GRUPO NACIONAL DE PATOLOGÍA FORENSE | G5: GRUPO NACIONAL DE APOYO AL SISTEMA DE VERDAD JUSTICIA REPARACIÓN Y NO REPETICIÓN | I5: REGIONAL BOGOTA | J5: REGIONAL ORIENTE | K5: CANTIDAD ESTIMADA | M5: VALOR UNITARIO CONTRATO | N5: VALOR UNITARIO CON IPC | P5: VALOR UNITARIO | Q5: VALOR UNITARIO CON IVA | T5: VALOR INDEXADO IPC JUNIO (3,74) | U5: VALOR TOTAL
B6: 1 | C6: ='ESPECIFICACIONES TECNICAS '!C6:C17 -> Calzado en color blanco, en material plástico etilenvinilacetato (EVA) con características impermeabilizantes que evitan la proliferación de bacterias, de fácil limpieza, plantilla con diseño ergonómico cuenta con inserto antideslizante en la suela lo cual hace que su resistencia al resbalamiento cumpla las condiciones a las normas técnicas NTC-ISO 2034, con suela comprobadamente antideslizante en cuartos fríos, piso húmedo ,liviano, capellada que protege toda la longitud del empeine lo que brinda protección contra salpicadura, apto para el trabajo en sala de necropsias. | D6: PAR | E6: 34 | H6: =SUM(F6:G6) -> 0 | I6: 10 | K6: =SUM(I6:J6) -> 10 | L6: =K6+H6 -> 10 | M6: 111235.88 | N6: =M6*(1+(N1/100)) -> 117020.15 | O6: =ROUND(N6,0) -> 117020 | U6: =+O6*L6 -> 1170200 | V6: =+O6 -> 117020
E7: 35 | H7: =SUM(F7:G7) -> 0 | I7: 10 | K7: =SUM(I7:J7) -> 10 | L7: =K7+H7 -> 10 | M7: 111235.88 | N7: =M7*(1+(N1/100)) -> 117020.15 | O7: =ROUND(N7,0) -> 117020 | U7: =+O7*L7 -> 1170200 | V7: =+O7 -> 117020
E8: 36 | H8: =SUM(F8:G8) -> 0 | I8: 10 | K8: =SUM(I8:J8) -> 10 | L8: =K8+H8 -> 10 | M8: 111235.88 | N8: =M8*(1+(N1/100)) -> 117020.15 | O8: =ROUND(N8,0) -> 117020 | U8: =+O8*L8 -> 1170200 | V8: =+O8 -> 117020
E9: 37 | F9: 1 | H9: =SUM(F9:G9) -> 1 | I9: 20 | K9: =SUM(I9:J9) -> 20 | L9: =K9+H9 -> 21 | M9: 111235.88 | N9: =M9*(1+(N1/100)) -> 117020.15 | O9: =ROUND(N9,0) -> 117020 | U9: =+O9*L9 -> 2457420 | V9: =+O9 -> 117020
E10: 38 | F10: 3 | H10: =SUM(F10:G10) -> 3 | I10: 20 | K10: =SUM(I10:J10) -> 20 | L10: =K10+H10 -> 23 | M10: 111235.88 | N10: =M10*(1+(N1/100)) -> 117020.15 | O10: =ROUND(N10,0) -> 117020 | U10: =+O10*L10 -> 2691460 | V10: =+O10 -> 117020
E11: 39 | F11: 4 | H11: =SUM(F11:G11) -> 4 | I11: 20 | K11: =SUM(I11:J11) -> 20 | L11: =K11+H11 -> 24 | M11: 111235.88 | N11: =M11*(1+(N1/100)) -> 117020.15 | O11: =ROUND(N11,0) -> 117020 | U11: =+O11*L11 -> 2808480 | V11: =+O11 -> 117020
E12: 40 | H12: =SUM(F12:G12) -> 0 | I12: 20 | K12: =SUM(I12:J12) -> 20 | L12: =K12+H12 -> 20 | M12: 111235.88 | N12: =M12*(1+(N1/100)) -> 117020.15 | O12: =ROUND(N12,0) -> 117020 | U12: =+O12*L12 -> 2340400 | V12: =+O12 -> 117020
E13: 41 | F13: 1 | H13: =SUM(F13:G13) -> 1 | I13: 20 | K13: =SUM(I13:J13) -> 20 | L13: =K13+H13 -> 21 | M13: 111235.88 | N13: =M13*(1+(N1/100)) -> 117020.15 | O13: =ROUND(N13,0) -> 117020 | U13: =+O13*L13 -> 2457420 | V13: =+O13 -> 117020
E14: 42 | H14: =SUM(F14:G14) -> 0 | I14: 20 | K14: =SUM(I14:J14) -> 20 | L14: =K14+H14 -> 20 | M14: 111235.88 | N14: =M14*(1+(N1/100)) -> 117020.15 | O14: =ROUND(N14,0) -> 117020 | U14: =+O14*L14 -> 2340400 | V14: =+O14 -> 117020
B15: 2 | C15: =+C6 -> Calzado en color blanco, en material plástico etilenvinilacetato (EVA) con características impermeabilizantes que evitan la proliferación de bacterias, de fácil limpieza, plantilla con diseño ergonómico cuenta con inserto antideslizante en la suela lo cual hace que su resistencia al resbalamiento cumpla las condiciones a las normas técnicas NTC-ISO 2034, con suela comprobadamente antideslizante en cuartos fríos, piso húmedo ,liviano, capellada que protege toda la longitud del empeine lo que brinda protección contra salpicadura, apto para el trabajo en sala de necropsias. | D15: PAR | E15: 43 | H15: =SUM(F15:G15) -> 0 | I15: 15 | K15: =SUM(I15:J15) -> 15 | L15: =K15+H15 -> 15 | P15: 63000 | Q15: =P15*1.19 -> 74970 | T15: =ROUND((Q15*(1+(3.74/100))),0) -> 77774 | U15: =T15*L15 -> 1166610 | V15: =ROUND(T15,0) -> 77774
B16: 3 | C16: =+C15 -> Calzado en color blanco, en material plástico etilenvinilacetato (EVA) con características impermeabilizantes que evitan la proliferación de bacterias, de fácil limpieza, plantilla con diseño ergonómico cuenta con inserto antideslizante en la suela lo cual hace que su resistencia al resbalamiento cumpla las condiciones a las normas técnicas NTC-ISO 2034, con suela comprobadamente antideslizante en cuartos fríos, piso húmedo ,liviano, capellada que protege toda la longitud del empeine lo que brinda protección contra salpicadura, apto para el trabajo en sala de necropsias. | D16: PAR | E16: 44 | H16: =SUM(F16:G16) -> 0 | I16: 15 | K16: =SUM(I16:J16) -> 15 | L16: =K16+H16 -> 15 | P16: 63500 | Q16: =P16*1.19 -> 75565 | T16: =ROUND((Q16*(1+(3.74/100))),0) -> 78391 | U16: =T16*L16 -> 1175865 | V16: =ROUND(T16,0) -> 78391
B17: 4 | C17: =+C16 -> Calzado en color blanco, en material plástico etilenvinilacetato (EVA) con características impermeabilizantes que evitan la proliferación de bacterias, de fácil limpieza, plantilla con diseño ergonómico cuenta con inserto antideslizante en la suela lo cual hace que su resistencia al resbalamiento cumpla las condiciones a las normas técnicas NTC-ISO 2034, con suela comprobadamente antideslizante en cuartos fríos, piso húmedo ,liviano, capellada que protege toda la longitud del empeine lo que brinda protección contra salpicadura, apto para el trabajo en sala de necropsias. | D17: PAR | E17: 45 | H17: =SUM(F17:G17) -> 0 | I17: 15 | K17: =SUM(I17:J17) -> 15 | L17: =K17+H17 -> 15 | P17: 64000 | Q17: =P17*1.19 -> 76160 | T17: =ROUND((Q17*(1+(3.74/100))),0) -> 79008 | U17: =T17*L17 -> 1185120 | V17: =ROUND(T17,0) -> 79008
B18: 5 | C18: ='ESPECIFICACIONES TECNICAS '!C18:C22 -> Botas de caña alta de color blanco, liviana en PVC, suela antideslizante, forro en polyester, resistente a grasas, sangre, aceites y detergentes. Rango de temperatura de operación -30 y 40 grados centígrados. No debe ser con puntera de acero. Con inhibición de hongo y bacterias. Con curva ergonométrica. Con espolín para facilitar el descalce. Debe cumplir con la norma EN-344, ó ISO 20344 ó ISO 20345. | D18: PAR | E18: 37 | F18: 1 | H18: =SUM(F18:G18) -> 1 | J18: 1 | K18: =SUM(I18:J18) -> 1 | L18: =K18+H18 -> 2 | M18: 97888 | N18: =M18*(1+(N1/100)) -> 102978.18 | O18: =ROUND(N18,0) -> 102978 | U18: =+O18*L18 -> 205956 | V18: =+O18 -> 102978
E19: 38 | F19: 3 | H19: =SUM(F19:G19) -> 3 | K19: =SUM(I19:J19) -> 0 | L19: =K19+H19 -> 3 | M19: 97888 | N19: =M19*(1+(N1/100)) -> 102978.18 | O19: =ROUND(N19,0) -> 102978 | U19: =+O19*L19 -> 308934 | V19: =+O19 -> 102978
E20: 39 | F20: 4 | H20: =SUM(F20:G20) -> 4 | J20: 3 | K20: =SUM(I20:J20) -> 3 | L20: =K20+H20 -> 7 | M20: 97888 | N20: =M20*(1+(N1/100)) -> 102978.18 | O20: =ROUND(N20,0) -> 102978 | U20: =+O20*L20 -> 720846 | V20: =+O20 -> 102978
E21: 41 | F21: 1 | H21: =SUM(F21:G21) -> 1 | J21: 2 | K21: =SUM(I21:J21) -> 2 | L21: =K21+H21 -> 3 | M21: 97888 | N21: =M21*(1+(N1/100)) -> 102978.18 | O21: =ROUND(N21,0) -> 102978 | U21: =+O21*L21 -> 308934 | V21: =+O21 -> 102978
E22: 42 | H22: =SUM(F22:G22) -> 0 | J22: 1 | K22: =SUM(I22:J22) -> 1 | L22: =K22+H22 -> 1 | M22: 97888 | N22: =M22*(1+(N1/100)) -> 102978.18 | O22: =ROUND(N22,0) -> 102978 | U22: =+O22*L22 -> 102978 | V22: =+O22 -> 102978
B23: VALOR TOTAL LOTE 1 | U23: =SUM(U6:U22) -> 23781423 | V23: =SUM(V6:V22) -> 1803243
B26: LOTE 2 | M26: HISTORICO 2024 | O26: VALOR UNITARIO REDONDEADO | P26: POLYMEDICAL SAS | U26: VALOR UNITARIO REDONDEADO
B28: SERVICIO FORENSE: | F28: DIRECCION GENERAL-SSF | H28: CANTIDAD ESTIMADA SSF | I28: REGIONALES | L28: CANTIDADES ESTIMADAS
B29: ITEM | C29: DESCRIPCION | D29: PRESENTACION | E29: TALLA | F29: GRUPO NACIONAL DE PATOLOGÍA FORENSE | G29: GRUPO NACIONAL DE APOYO AL SISTEMA DE VERDAD JUSTICIA REPARACIÓN Y NO REPETICIÓN | I29: REGIONAL BOGOTA | J29: REGIONAL ORIENTE | K29: CANTIDAD ESTIMADA | M29: VALOR UNITARIO CONTRATO | N29: VALOR UNITARIO CON IPC | P29: VALOR UNITARIO | Q29: VALOR UNITARIO CON IVA | T29: VALOR TOTAL
B30: 6 | C30: ='ESPECIFICACIONES TECNICAS '!C29 -> Bata quirúrgica desechable no estéril, en polipropileno 100%, no tejido, Sin barrera anti-fluidos en todo su frente y en todo lo largo de la bata, de manga larga de 60 cm de largo con puño resortado de 6 cm de largo, color blanco en algodón 100%; cuello redondo con ribete, cierre adhesivo a la altura del cuello (velcro), cuatro (4) tiras de amarre de 65 cm de largo cada una, cosidas, dos internas y dos externas, largo de la bata 120 cm, color azul, empaque individual. | D30: UNIDAD | E30: UNICA | G30: 1000 | H30: =SUM(F30:G30) -> 1000 | I30: 2500 | J30: 700 | K30: =SUM(I30:J30) -> 3200 | L30: =K30+H30 -> 4200 | M30: 3672.98 | N30: =M30*(1+(N1/100)) -> 3863.975 | O30: =ROUND(N30,0) -> 3864 | T30: =+O30*L30 -> 16228800 | U30: =+O30 -> 3864
B31: 7 | C31: =+'ESPECIFICACIONES TECNICAS '!C30 -> Bata quirúrgica no estéril en prolipropileno SMS no tejido de 35 a 40 gramos, con barrera antifluido con recubrimiento en polietileno resistencia de rasgado 55gr, en la parte frontal y media manga (del puño hasta el codo) uniones termo selladas en las mangas, manga larga, cuello redondo con ribete, con puño color blanco 100% resortado con ribete, cierre adhesivo altura del cuello (velcro)parte de atrás, cuatro(4) tiras de amarre de 35 cm, largo de la bata 1.40 cm color azul, empaque individual. | D31: UNIDAD | E31: S | F31: 40 | H31: =SUM(F31:G31) -> 40 | I31: 550 | J31: 550 | K31: =SUM(I31:J31) -> 1100 | L31: =K31+H31 -> 1140 | P31: 13000 | Q31: =P31*1.19 -> 15470 | T31: =Q31*L31 -> 17635800 | U31: =ROUND(Q31,0) -> 15470
E32: M | F32: 40 | H32: =SUM(F32:G32) -> 40 | I32: 550 | J32: 4800 | K32: =SUM(I32:J32) -> 5350 | L32: =K32+H32 -> 5390 | P32: 13000 | Q32: =P32*1.19 -> 15470 | T32: =Q32*L32 -> 83383300 | U32: =ROUND(Q32,0) -> 15470
E33: L | F33: 20 | H33: =SUM(F33:G33) -> 20 | I33: 550 | J33: 2500 | K33: =SUM(I33:J33) -> 3050 | L33: =K33+H33 -> 3070 | P33: 13000 | Q33: =P33*1.19 -> 15470 | T33: =Q33*L33 -> 47492900 | U33: =ROUND(Q33,0) -> 15470
B34: 8 | C34: =+C31 -> Bata quirúrgica no estéril en prolipropileno SMS no tejido de 35 a 40 gramos, con barrera antifluido con recubrimiento en polietileno resistencia de rasgado 55gr, en la parte frontal y media manga (del puño hasta el codo) uniones termo selladas en las mangas, manga larga, cuello redondo con ribete, con puño color blanco 100% resortado con ribete, cierre adhesivo altura del cuello (velcro)parte de atrás, cuatro(4) tiras de amarre de 35 cm, largo de la bata 1.40 cm color azul, empaque individual. | D34: =+D31 -> UNIDAD | E34: XL | H34: =SUM(F34:G34) -> 0 | I34: 550 | J34: 2800 | K34: =SUM(I34:J34) -> 3350 | L34: =K34+H34 -> 3350 | P34: 14000 | Q34: =P34*1.19 -> 16660 | T34: =Q34*L34 -> 55811000 | U34: =ROUND(Q34,0) -> 16660
E35: XXL | H35: =SUM(F35:G35) -> 0 | I35: 550 | J35: 700 | K35: =SUM(I35:J35) -> 1250 | L35: =K35+H35 -> 1250 | P35: 14000 | Q35: =P35*1.19 -> 16660 | T35: =Q35*L35 -> 20825000 | U35: =ROUND(Q35,0) -> 16660
B36: 9 | C36: ='ESPECIFICACIONES TECNICAS '!C35 -> Gorro desechable en polipropileno no tejido de 30 a 40 gramos, con elástico de sujeción que permita el fácil ajuste y comodidad. | D36: PAQUETE X 100 UNIDADES | E36: UNICA | F36: 1 | G36: 30 | H36: =SUM(F36:G36) -> 31 | I36: 500 | J36: 5 | K36: =SUM(I36:J36) -> 505 | L36: =K36+H36 -> 536 | M36: 24367.12 | N36: =M36*(1+(N1/100)) -> 25634.21 | O36: =ROUND(N36,0) -> 25634 | T36: =+O36*L36 -> 13739824 | U36: =+O36 -> 25634
B37: 10 | C37: ='ESPECIFICACIONES TECNICAS '!C36 -> Polainas desechables elaboradas en SMS de 30 a 40 gm, resistente y antideslizante. Sistema elástico en la base para mayor firmeza, medidas talla única 16 x 41 cm, color azul, | D37: PAR | E37: UNICA | F37: 100 | G37: 10 | H37: =SUM(F37:G37) -> 110 | I37: 700 | K37: =SUM(I37:J37) -> 700 | L37: =K37+H37 -> 810 | M37: 358.34 | N37: =M37*(1+(N1/100)) -> 376.97368 | O37: =ROUND(N37,0) -> 377 | T37: =+O37*L37 -> 305370 | U37: =+O37 -> 377
B38: 11 | C38: =+'ESPECIFICACIONES TECNICAS '!C37 -> Vestido cirujano, no estéril en polipropileno SMS no tejido de 30 a 40 gramos, pantalón largo y blusa manga corta, cuello en "V", color azul, desechable, en empaque individual. | D38: UNIDAD | E38: S | G38: 50 | H38: =SUM(F38:G38) -> 50 | I38: 300 | J38: 1000 | K38: =SUM(I38:J38) -> 1300 | L38: =K38+H38 -> 1350 | M38: 4479.25 | N38: =M38*(1+(N1/100)) -> 4712.171 | O38: =ROUND(N38,0) -> 4712 | T38: =+O38*L38 -> 6361200 | U38: =+O38 -> 4712
E39: M | G39: 50 | H39: =SUM(F39:G39) -> 50 | I39: 300 | J39: 4000 | K39: =SUM(I39:J39) -> 4300 | L39: =K39+H39 -> 4350 | M39: 4479.25 | N39: =M39*(1+(N1/100)) -> 4712.171 | O39: =ROUND(N39,0) -> 4712 | T39: =+O39*L39 -> 20497200 | U39: =+O39 -> 4712
E40: L | G40: 50 | H40: =SUM(F40:G40) -> 50 | I40: 300 | J40: 4000 | K40: =SUM(I40:J40) -> 4300 | L40: =K40+H40 -> 4350 | M40: 4479.25 | N40: =M40*(1+(N1/100)) -> 4712.171 | O40: =ROUND(N40,0) -> 4712 | T40: =+O40*L40 -> 20497200 | U40: =+O40 -> 4712
B41: VALOR TOTAL LOTE 2 | T41: =SUM(T30:T40) -> 302777594 | U41: =SUM(U30:U40) -> 123741
B44: LOTE 3 | M44: HISTORICO 2024 | O44: VALOR UNITARIO REDONDEADO | P44: IMPORTEX SANDOVAL SAS | V44: VALOR UNITARIO REDONDEADO
B46: SERVICIO FORENSE: | F46: DIRECCION GENERAL-SSF | H46: CANTIDAD ESTIMADA SSF | I46: REGIONALES | L46: CANTIDADES ESTIMADAS
B47: ITEM | C47: DESCRIPCION | D47: PRESENTACION | E47: TALLA | F47: GRUPO NACIONAL DE PATOLOGÍA FORENSE | G47: GRUPO NACIONAL DE APOYO AL SISTEMA DE VERDAD JUSTICIA REPARACIÓN Y NO REPETICIÓN | I47: REGIONAL BOGOTA | J47: REGIONAL ORIENTE | K47: CANTIDAD ESTIMADA | M47: VALOR UNITARIO CONTRATO | N47: VALOR UNITARIO CON IPC | P47: VALOR UNITARIO | Q47: VALOR UNITARIO CON IVA | T47: VALOR INDEXADO IPC JUNIO (3,74) | U47: VALOR TOTAL
B48: 12 | C48: ='ESPECIFICACIONES TECNICAS '!C46 -> Cartucho para mercurio, vapores orgánicos y gases ácidos. Referencia 6007 Marca 3 M ****. | D48: PAR | E48: N/A | G48: 5 | H48: =SUM(F48:G48) -> 5 | I48: 30 | J48: 30 | K48: =SUM(I48:J48) -> 60 | L48: =K48+H48 -> 65 | M48: 66938 | N48: =M48*(1+(N1/100)) -> 70418.776 | O48: =ROUND(N48,0) -> 70419 | U48: =+O48*L48 -> 4577235 | V48: =+O48 -> 70419
B49: 13 | C49: ='ESPECIFICACIONES TECNICAS '!C47 -> Cartucho para vapores y gases múltiples REF: 6003 Marca 3M *** | D49: PAR | E49: N/A | H49: =SUM(F49:G49) -> 0 | I49: 200 | K49: =SUM(I49:J49) -> 200 | L49: =K49+H49 -> 200 | P49: 89700 | Q49: =P49*1.19 -> 106743 | R49: =+Q49*3.74%+Q49 -> 110735.19 | T49: =ROUND((Q49*(1+(3.74/100))),0) -> 110735 | U49: =T49*L49 -> 22147000 | V49: =ROUND(T49,0) -> 110735
B50: 14 | C50: ='ESPECIFICACIONES TECNICAS '!C48 -> Respirador de libre mantenimiento para partículas con filtro N95. Certificado por NIOSH. Contramarcado | D50: UNIDAD | E50: N/A | G50: 200 | H50: =SUM(F50:G50) -> 200 | I50: 50 | J50: 200 | K50: =SUM(I50:J50) -> 250 | L50: =K50+H50 -> 450 | M50: 4909 | N50: =M50*(1+(N1/100)) -> 5164.268 | O50: =ROUND(N50,0) -> 5164 | U50: =+L50*O50 -> 2323800 | V50: =+O50 -> 5164
B51: 15 | C51: ='ESPECIFICACIONES TECNICAS '!C49 -> Tapaboca quirúrgico desechable tres pliegues en polipropileno, no tejido 30 grs, con 2 cintas elásticas para orejas, resistentes a los fluidos normales de la boca y nariz. | D51: CAJA X 50 UNIDADES | E51: N/A | F51: 10 | G51: 50 | H51: =SUM(F51:G51) -> 60 | J51: 50 | K51: =SUM(I51:J51) -> 50 | L51: =K51+H51 -> 110 | M51: 8181 | N51: =M51*(1+(N1/100)) -> 8606.412 | O51: =ROUND(N51,0) -> 8606 | U51: =+L51*O51 -> 946660 | V51: =+O51 -> 8606
B52: VALOR TOTAL LOTE 3 | U52: =SUM(U48:U51) -> 29994695 | V52: =SUM(V48:V51) -> 194924
B55: LOTE 4 | M55: HISTORICO 2024 | O55: VALOR UNITARIO REDONDEADO | P55: IMPORTEX SANDOVAL SAS | V55: VALOR UNITARIO REDONDEADO
B57: SERVICIO FORENSE: | F57: DIRECCION GENERAL-SSF | H57: CANTIDAD ESTIMADA SSF | I57: REGIONALES | L57: CANTIDADES ESTIMADAS
B58: ITEM | C58: DESCRIPCION | D58: PRESENTACION | E58: TALLA | F58: GRUPO NACIONAL DE PATOLOGÍA FORENSE | G58: GRUPO NACIONAL DE APOYO AL SISTEMA DE VERDAD JUSTICIA REPARACIÓN Y NO REPETICIÓN | I58: REGIONAL BOGOTA | J58: REGIONAL ORIENTE | K58: CANTIDAD ESTIMADA | M58: VALOR UNITARIO CONTRATO | N58: VALOR UNITARIO CON IPC | P58: VALOR UNITARIO | Q58: VALOR UNITARIO CON IVA | T58: VALOR INDEXADO IPC JUNIO (3,74) | U58: VALOR TOTAL
B59: 16 | C59: =+'ESPECIFICACIONES TECNICAS '!C56 -> Guante de nitrilo, desechable, ambidiestro, color azul, verde o lila, entre 5,5 y 6 milésimas de pulgada de espesor en todo el guante, entre 11 y 14 pulgadas de longitud. Sin talco, debe cumplir con la norma EN 374-1:2016 y EN420 o la norma que se encuentre vigente. | D59: CAJA 100 UNIDADES | E59: XS | G59: 4 | H59: =SUM(F59:G59) -> 4 | I59: 100 | J59: 10 | K59: =SUM(I59:J59) -> 110 | L59: =K59+H59 -> 114 | M59: 113000 | N59: =M59*(1+(N1/100)) -> 118876 | O59: =ROUND(N59,0) -> 118876 | U59: =+O59*L59 -> 13551864 | V59: =+O59 -> 118876
B60: 17 | C60: =+C59 -> Guante de nitrilo, desechable, ambidiestro, color azul, verde o lila, entre 5,5 y 6 milésimas de pulgada de espesor en todo el guante, entre 11 y 14 pulgadas de longitud. Sin talco, debe cumplir con la norma EN 374-1:2016 y EN420 o la norma que se encuentre vigente. | D60: =+D59 -> CAJA 100 UNIDADES | E60: S | F60: 10 | G60: 40 | H60: =SUM(F60:G60) -> 50 | I60: 500 | J60: 100 | K60: =SUM(I60:J60) -> 600 | L60: =K60+H60 -> 650 | M60: 114000 | N60: =M60*(1+(N1/100)) -> 119928 | O60: =ROUND(N60,0) -> 119928 | U60: =+O60*L60 -> 77953200 | V60: =+O60 -> 119928
E61: M | F61: 10 | G61: 40 | H61: =SUM(F61:G61) -> 50 | I61: 500 | J61: 400 | K61: =SUM(I61:J61) -> 900 | L61: =K61+H61 -> 950 | M61: 114000 | N61: =M61*(1+(N1/100)) -> 119928 | O61: =ROUND(N61,0) -> 119928 | U61: =+O61*L61 -> 113931600 | V61: =+O61 -> 119928
E62: L | F62: 5 | G62: 40 | H62: =SUM(F62:G62) -> 45 | I62: 800 | J62: 550 | K62: =SUM(I62:J62) -> 1350 | L62: =K62+H62 -> 1395 | M62: 114000 | N62: =M62*(1+(N1/100)) -> 119928 | O62: =ROUND(N62,0) -> 119928 | U62: =+O62*L62 -> 167299560 | V62: =+O62 -> 119928
E63: XL | H63: =SUM(F63:G63) -> 0 | I63: 500 | J63: 300 | K63: =SUM(I63:J63) -> 800 | L63: =K63+H63 -> 800 | M63: 114000 | N63: =M63*(1+(N1/100)) -> 119928 | O63: =ROUND(N63,0) -> 119928 | U63: =+O63*L63 -> 95942400 | V63: =+O63 -> 119928
B64: 18 | C64: =+'ESPECIFICACIONES TECNICAS '!C61 -> Guantes de nitrilo no desechables resistentes a sustancias químicas y detergentes y solventes orgánicos longitud mínima de 18" (hasta el codo). | D64: PAR | E64: 7 | H64: =SUM(F64:G64) -> 0 | I64: 420 | K64: =SUM(I64:J64) -> 420 | L64: =K64+H64 -> 420 | P64: 40900 | Q64: =P64*1.19 -> 48671 | S64: =+Q64*3.74%+Q64 -> 50491.295 | T64: =ROUND((Q64*(1+(3.74/100))),0) -> 50491 | U64: =T64*L64 -> 21206220 | V64: =ROUND(T64,0) -> 50491
E65: 8 | H65: =SUM(F65:G65) -> 0 | I65: 420 | K65: =SUM(I65:J65) -> 420 | L65: =K65+H65 -> 420 | P65: 40900 | Q65: =P65*1.19 -> 48671 | S65: =+Q65*3.74%+Q65 -> 50491.295 | T65: =ROUND((Q65*(1+(3.74/100))),0) -> 50491 | U65: =T65*L65 -> 21206220 | V65: =ROUND(T65,0) -> 50491
E66: 9 | H66: =SUM(F66:G66) -> 0 | I66: 420 | K66: =SUM(I66:J66) -> 420 | L66: =K66+H66 -> 420 | P66: 40900 | Q66: =P66*1.19 -> 48671 | S66: =+Q66*3.74%+Q66 -> 50491.295 | T66: =ROUND((Q66*(1+(3.74/100))),0) -> 50491 | U66: =T66*L66 -> 21206220 | V66: =ROUND(T66,0) -> 50491
E67: 10 | H67: =SUM(F67:G67) -> 0 | I67: 420 | K67: =SUM(I67:J67) -> 420 | L67: =K67+H67 -> 420 | P67: 40900 | Q67: =P67*1.19 -> 48671 | S67: =+Q67*3.74%+Q67 -> 50491.295 | T67: =ROUND((Q67*(1+(3.74/100))),0) -> 50491 | U67: =T67*L67 -> 21206220 | V67: =ROUND(T67,0) -> 50491
B68: VALOR TOTAL LOTE 4 | U68: =SUM(U59:U67) -> 553503504 | V68: =SUM(V59:V67) -> 800552
B71: LOTE 5 | M71: HISTORICO 2024 | O71: VALOR UNITARIO REDONDEADO | P71: VALOR TOTAL
B73: SERVICIO FORENSE: | F73: DIRECCION GENERAL-SSF | H73: CANTIDAD ESTIMADA SSF | I73: REGIONALES | L73: CANTIDADES ESTIMADAS
B74: ITEM | C74: DESCRIPCION | D74: PRESENTACION | E74: TALLA | F74: GRUPO NACIONAL DE PATOLOGÍA FORENSE | G74: GRUPO NACIONAL DE APOYO AL SISTEMA DE VERDAD JUSTICIA REPARACIÓN Y NO REPETICIÓN | I74: REGIONAL BOGOTA | J74: REGIONAL ORIENTE | K74: CANTIDAD ESTIMADA | M74: VALOR UNITARIO CONTRATO | N74: VALOR UNITARIO CON IPC
B75: 19 | C75: =+'ESPECIFICACIONES TECNICAS '!C71 -> Traje de seguridad de protección contra salpicadura de líquidos, color blanco, cumple requisitos de las normas EN 13034 y EN 14126. elástico en capuchón, puños, cintura y tobillos. costuras cosidas y protegidas color blanco u otro color (selladas herméticamente). Cierre de dos vías con solapa sellable. Polaina del mismo material del traje, adherida al mismo o aparte, overol en polipropileno -película laminada de polietileno. empaque individual. | D75: UNIDAD | E75: S | G75: 30 | H75: =SUM(F75:G75) -> 30 | J75: 65 | K75: =SUM(I75:J75) -> 65 | L75: =K75+H75 -> 95 | M75: 51000 | N75: =M75*(1+(N1/100)) -> 53652 | O75: =ROUND(N75,0) -> 53652 | P75: =+O75*L75 -> 5096940
E76: M | G76: 30 | H76: =SUM(F76:G76) -> 30 | J76: 250 | K76: =SUM(I76:J76) -> 250 | L76: =K76+H76 -> 280 | M76: 51000 | N76: =M76*(1+(N1/100)) -> 53652 | O76: =ROUND(N76,0) -> 53652 | P76: =+O76*L76 -> 15022560
E77: L | G77: 30 | H77: =SUM(F77:G77) -> 30 | J77: 200 | K77: =SUM(I77:J77) -> 200 | L77: =K77+H77 -> 230 | M77: 51000 | N77: =M77*(1+(N1/100)) -> 53652 | O77: =ROUND(N77,0) -> 53652 | P77: =+O77*L77 -> 12339960
E78: XL | G78: 10 | H78: =SUM(F78:G78) -> 10 | J78: 300 | K78: =SUM(I78:J78) -> 300 | L78: =K78+H78 -> 310 | M78: 51000 | N78: =M78*(1+(N1/100)) -> 53652 | O78: =ROUND(N78,0) -> 53652 | P78: =+O78*L78 -> 16632120
B79: VALOR TOTAL LOTE 5 | O79: =SUM(O75:O78) -> 214608 | P79: =SUM(P75:P78) -> 49091580
B82: LOTE 6 | M82: HISTORICO 2024 | O82: VALOR UNITARIO REDONDEADO | P82: IMPORTEX SANDOVAL SAS | V82: VALOR UNITARIO REDONDEADO
B84: SERVICIO FORENSE: | F84: DIRECCION GENERAL-SSF | H84: CANTIDAD ESTIMADA SSF | I84: REGIONALES | L84: CANTIDADES ESTIMADAS
B85: ITEM | C85: DESCRIPCION | D85: PRESENTACION | E85: TALLA | F85: GRUPO NACIONAL DE PATOLOGÍA FORENSE | G85: GRUPO NACIONAL DE APOYO AL SISTEMA DE VERDAD JUSTICIA REPARACIÓN Y NO REPETICIÓN | I85: REGIONAL BOGOTA | J85: REGIONAL ORIENTE | K85: CANTIDAD ESTIMADA | M85: VALOR UNITARIO CONTRATO | N85: VALOR UNITARIO CON IPC | P85: VALOR UNITARIO | Q85: VALOR UNITARIO CON IVA | T85: VALOR INDEXADO IPC JUNIO (3,74) | U85: VALOR TOTAL
B86: 20 | C86: =+'ESPECIFICACIONES TECNICAS '!C81 -> Guantes contra el corte en malla de acero inoxidable, cinco (5) dedos, manilla y broche 100% en acero inoxidable (sin telas, fibras o plástico), anillos microsoldados herméticamente (resortes de ajuste se encuentran localizados al interior del guante), guante ambidiestro, que cumpla con la Norma EN 1082 ó EN 1082-1 **. | D86: UNIDAD | E86: XXS | H86: =SUM(F86:G86) -> 0 | I86: 5 | K86: =SUM(I86:J86) -> 5 | L86: =K86+H86 -> 5 | P86: 455000 | Q86: =P86*1.19 -> 541450 | T86: =ROUND((Q86*(1+(3.74/100))),0) -> 561700 | U86: =T86*L86 -> 2808500 | V86: =ROUND(T86,0) -> 561700
E87: XS | H87: =SUM(F87:G87) -> 0 | I87: 5 | K87: =SUM(I87:J87) -> 5 | L87: =K87+H87 -> 5 | P87: 455000 | Q87: =P87*1.19 -> 541450 | T87: =ROUND((Q87*(1+(3.74/100))),0) -> 561700 | U87: =T87*L87 -> 2808500 | V87: =ROUND(T87,0) -> 561700
B88: 21 | C88: =+C86 -> Guantes contra el corte en malla de acero inoxidable, cinco (5) dedos, manilla y broche 100% en acero inoxidable (sin telas, fibras o plástico), anillos microsoldados herméticamente (resortes de ajuste se encuentran localizados al interior del guante), guante ambidiestro, que cumpla con la Norma EN 1082 ó EN 1082-1 **. | D88: =+D86 -> UNIDAD | E88: S | H88: =SUM(F88:G88) -> 0 | I88: 5 | J88: 13 | K88: =SUM(I88:J88) -> 18 | L88: =K88+H88 -> 18 | M88: 326535.54 | N88: =M88*(1+(N1/100)) -> 343515.39 | O88: =ROUND(N88,0) -> 343515 | U88: =+O88*L88 -> 6183270 | V88: =+O88 -> 343515
E89: M | G89: 2 | H89: =SUM(F89:G89) -> 2 | I89: 5 | J89: 22 | K89: =SUM(I89:J89) -> 27 | L89: =K89+H89 -> 29 | M89: 326535.54 | N89: =M89*(1+(N1/100)) -> 343515.39 | O89: =ROUND(N89,0) -> 343515 | U89: =+O89*L89 -> 9961935 | V89: =+O89 -> 343515
E90: L | H90: =SUM(F90:G90) -> 0 | I90: 5 | J90: 20 | K90: =SUM(I90:J90) -> 25 | L90: =K90+H90 -> 25 | M90: 326535.54 | N90: =M90*(1+(N1/100)) -> 343515.39 | O90: =ROUND(N90,0) -> 343515 | U90: =+O90*L90 -> 8587875 | V90: =+O90 -> 343515
B91: VALOR TOTAL LOTE 6 | U91: =SUM(U86:U90) -> 30350080 | V91: =SUM(V86:V90) -> 2153945

Sheet REGIONALIZACION 
M1: SASI-0002-SG-2024 | N1: 5.2 | O1: IPC JUNIO 2025 | P1: 3.74 | S1: VALOR TOTAL PROCESO | U1: =P6+P29+P46+P56+P71+P81 -> 989498876 | W1: =W6+W29+W46+W56+W71+W81 -> 989498876
B2: LOTE 1 | M2: VALOR PROMEDIO UNITARIO | N2: VALOR PROMEDIO POR ITEM | O2: VALOR PROMEDIO POR ITEM COMPLETO | P2: VALOR POR LOTE | Q2: REGIONALIZACION
B4: SERVICIO FORENSE: | F4: DIRECCION GENERAL-SSF | H4: CANTIDAD ESTIMADA SSF | I4: REGIONALES | L4: CANTIDADES ESTIMADAS | Q4: DIRECCION GENERAL-SSF | S4: VALOR SSF | T4: REGIONALES | W4: VALOR TOTAL
B5: ITEM | C5: DESCRIPCION | D5: PRESENTACION | E5: TALLA | F5: GRUPO NACIONAL DE PATOLOGÍA FORENSE | G5: GRUPO NACIONAL DE APOYO AL SISTEMA DE VERDAD JUSTICIA REPARACIÓN Y NO REPETICIÓN | I5: REGIONAL BOGOTA | J5: REGIONAL ORIENTE | K5: CANTIDAD ESTIMADA | Q5: GRUPO NACIONAL DE PATOLOGÍA FORENSE | R5: GRUPO NACIONAL DE APOYO AL SISTEMA DE VERDAD JUSTICIA REPARACIÓN Y NO REPETICIÓN | T5: REGIONAL BOGOTA | U5: REGIONAL ORIENTE | V5: VALOR REGIONALES
B6: 1 | C6: ='ESPECIFICACIONES TECNICAS '!C6:C17 -> Calzado en color blanco, en material plástico etilenvinilacetato (EVA) con características impermeabilizantes que evitan la proliferación de bacterias, de fácil limpieza, plantilla con diseño ergonómico cuenta con inserto antideslizante en la suela lo cual hace que su resistencia al resbalamiento cumpla las condiciones a las normas técnicas NTC-ISO 2034, con suela comprobadamente antideslizante en cuartos fríos, piso húmedo ,liviano, capellada que protege toda la longitud del empeine lo que brinda protección contra salpicadura, apto para el trabajo en sala de necropsias. | D6: PAR | E6: 34 | H6: =SUM(F6:G6) -> 0 | I6: 10 | K6: =SUM(I6:J6) -> 10 | L6: =K6+H6 -> 10 | M6: ='ESTUDIO DE MERCADO '!O6 -> 117020 | N6: =M6*L6 -> 1170200 | O6: =SUM(N6:N17) -> 22133775 | P6: =SUM(O6:O22) -> 23781423 | Q6: =M6*F6 -> 0 | R6: =M6*G6 -> 0 | S6: =SUM(Q6:R6) -> 0 | T6: =M6*I6 -> 1170200 | U6: =M6*J6 -> 0 | V6: =SUM(T6:U6) -> 1170200 | W6: =V23+S23 -> 23781423
E7: 35 | H7: =SUM(F7:G7) -> 0 | I7: 10 | K7: =SUM(I7:J7) -> 10 | L7: =K7+H7 -> 10 | M7: ='ESTUDIO DE MERCADO '!O7 -> 117020 | N7: =M7*L7 -> 1170200 | Q7: =M7*F7 -> 0 | R7: =M7*G7 -> 0 | S7: =SUM(Q7:R7) -> 0 | T7: =M7*I7 -> 1170200 | U7: =M7*J7 -> 0 | V7: =SUM(T7:U7) -> 1170200
E8: 36 | H8: =SUM(F8:G8) -> 0 | I8: 10 | K8: =SUM(I8:J8) -> 10 | L8: =K8+H8 -> 10 | M8: ='ESTUDIO DE MERCADO '!O8 -> 117020 | N8: =M8*L8 -> 1170200 | Q8: =M8*F8 -> 0 | R8: =M8*G8 -> 0 | S8: =SUM(Q8:R8) -> 0 | T8: =M8*I8 -> 1170200 | U8: =M8*J8 -> 0 | V8: =SUM(T8:U8) -> 1170200
E9: 37 | F9: 1 | H9: =SUM(F9:G9) -> 1 | I9: 20 | K9: =SUM(I9:J9) -> 20 | L9: =K9+H9 -> 21 | M9: ='ESTUDIO DE MERCADO '!O9 -> 117020 | N9: =M9*L9 -> 2457420 | Q9: =M9*F9 -> 117020 | R9: =M9*G9 -> 0 | S9: =SUM(Q9:R9) -> 117020 | T9: =M9*I9 -> 2340400 | U9: =M9*J9 -> 0 | V9: =SUM(T9:U9) -> 2340400
E10: 38 | F10: 3 | H10: =SUM(F10:G10) -> 3 | I10: 20 | K10: =SUM(I10:J10) -> 20 | L10: =K10+H10 -> 23 | M10: ='ESTUDIO DE MERCADO '!O10 -> 117020 | N10: =M10*L10 -> 2691460 | Q10: =M10*F10 -> 351060 | R10: =M10*G10 -> 0 | S10: =SUM(Q10:R10) -> 351060 | T10: =M10*I10 -> 2340400 | U10: =M10*J10 -> 0 | V10: =SUM(T10:U10) -> 2340400
E11: 39 | F11: 4 | H11: =SUM(F11:G11) -> 4 | I11: 20 | K11: =SUM(I11:J11) -> 20 | L11: =K11+H11 -> 24 | M11: ='ESTUDIO DE MERCADO '!O11 -> 117020 | N11: =M11*L11 -> 2808480 | Q11: =M11*F11 -> 468080 | R11: =M11*G11 -> 0 | S11: =SUM(Q11:R11) -> 468080 | T11: =M11*I11 -> 2340400 | U11: =M11*J11 -> 0 | V11: =SUM(T11:U11) -> 2340400
E12: 40 | H12: =SUM(F12:G12) -> 0 | I12: 20 | K12: =SUM(I12:J12) -> 20 | L12: =K12+H12 -> 20 | M12: ='ESTUDIO DE MERCADO '!O12 -> 117020 | N12: =M12*L12 -> 2340400 | Q12: =M12*F12 -> 0 | R12: =M12*G12 -> 0 | S12: =SUM(Q12:R12) -> 0 | T12: =M12*I12 -> 2340400 | U12: =M12*J12 -> 0 | V12: =SUM(T12:U12) -> 2340400
E13: 41 | F13: 1 | H13: =SUM(F13:G13) -> 1 | I13: 20 | K13: =SUM(I13:J13) -> 20 | L13: =K13+H13 -> 21 | M13: ='ESTUDIO DE MERCADO '!O13 -> 117020 | N13: =M13*L13 -> 2457420 | Q13: =M13*F13 -> 117020 | R13: =M13*G13 -> 0 | S13: =SUM(Q13:R13) -> 117020 | T13: =M13*I13 -> 2340400 | U13: =M13*J13 -> 0 | V13: =SUM(T13:U13) -> 2340400
E14: 42 | H14: =SUM(F14:G14) -> 0 | I14: 20 | K14: =SUM(I14:J14) -> 20 | L14: =K14+H14 -> 20 | M14: ='ESTUDIO DE MERCADO '!O14 -> 117020 | N14: =M14*L14 -> 2340400 | Q14: =M14*F14 -> 0 | R14: =M14*G14 -> 0 | S14: =SUM(Q14:R14) -> 0 | T14: =M14*I14 -> 2340400 | U14: =M14*J14 -> 0 | V14: =SUM(T14:U14) -> 2340400
B15: 2 | C15: =+C6 -> Calzado en color blanco, en material plástico etilenvinilacetato (EVA) con características impermeabilizantes que evitan la proliferación de bacterias, de fácil limpieza, plantilla con diseño ergonómico cuenta con inserto antideslizante en la suela lo cual hace que su resistencia al resbalamiento cumpla las condiciones a las normas técnicas NTC-ISO 2034, con suela comprobadamente antideslizante en cuartos fríos, piso húmedo ,liviano, capellada que protege toda la longitud del empeine lo que brinda protección contra salpicadura, apto para el trabajo en sala de necropsias. | D15: =+D6 -> PAR | E15: 43 | H15: =SUM(F15:G15) -> 0 | I15: 15 | K15: =SUM(I15:J15) -> 15 | L15: =K15+H15 -> 15 | M15: ='ESTUDIO DE MERCADO '!V15 -> 77774 | N15: =M15*L15 -> 1166610 | Q15: =M15*F15 -> 0 | R15: =M15*G15 -> 0 | S15: =SUM(Q15:R15) -> 0 | T15: =M15*I15 -> 1166610 | U15: =M15*J15 -> 0 | V15: =SUM(T15:U15) -> 1166610
B16: 3 | C16: =+C15 -> Calzado en color blanco, en material plástico etilenvinilacetato (EVA) con características impermeabilizantes que evitan la proliferación de bacterias, de fácil limpieza, plantilla con diseño ergonómico cuenta con inserto antideslizante en la suela lo cual hace que su resistencia al resbalamiento cumpla las condiciones a las normas técnicas NTC-ISO 2034, con suela comprobadamente antideslizante en cuartos fríos, piso húmedo ,liviano, capellada que protege toda la longitud del empeine lo que brinda protección contra salpicadura, apto para el trabajo en sala de necropsias. | D16: =+D15 -> PAR | E16: 44 | H16: =SUM(F16:G16) -> 0 | I16: 15 | K16: =SUM(I16:J16) -> 15 | L16: =K16+H16 -> 15 | M16: ='ESTUDIO DE MERCADO '!V16 -> 78391 | N16: =M16*L16 -> 1175865 | Q16: =M16*F16 -> 0 | R16: =M16*G16 -> 0 | S16: =SUM(Q16:R16) -> 0 | T16: =M16*I16 -> 1175865 | U16: =M16*J16 -> 0 | V16: =SUM(T16:U16) -> 1175865
B17: 4 | C17: =+C16 -> Calzado en color blanco, en material plástico etilenvinilacetato (EVA) con características impermeabilizantes que evitan la proliferación de bacterias, de fácil limpieza, plantilla con diseño ergonómico cuenta con inserto antideslizante en la suela lo cual hace que su resistencia al resbalamiento cumpla las condiciones a las normas técnicas NTC-ISO 2034, con suela comprobadamente antideslizante en cuartos fríos, piso húmedo ,liviano, capellada que protege toda la longitud del empeine lo que brinda protección contra salpicadura, apto para el trabajo en sala de necropsias. | D17: =+D6 -> PAR | E17: 45 | H17: =SUM(F17:G17) -> 0 | I17: 15 | K17: =SUM(I17:J17) -> 15 | L17: =K17+H17 -> 15 | M17: ='ESTUDIO DE MERCADO '!V17 -> 79008 | N17: =M17*L17 -> 1185120 | Q17: =M17*F17 -> 0 | R17: =M17*G17 -> 0 | S17: =SUM(Q17:R17) -> 0 | T17: =M17*I17 -> 1185120 | U17: =M17*J17 -> 0 | V17: =SUM(T17:U17) -> 1185120
B18: 5 | C18: ='ESPECIFICACIONES TECNICAS '!C18:C22 -> Botas de caña alta de color blanco, liviana en PVC, suela antideslizante, forro en polyester, resistente a grasas, sangre, aceites y detergentes. Rango de temperatura de operación -30 y 40 grados centígrados. No debe ser con puntera de acero. Con inhibición de hongo y bacterias. Con curva ergonométrica. Con espolín para facilitar el descalce. Debe cumplir con la norma EN-344, ó ISO 20344 ó ISO 20345. | E18: 37 | F18: 1 | H18: =SUM(F18:G18) -> 1 | J18: 1 | K18: =SUM(I18:J18) -> 1 | L18: =K18+H18 -> 2 | M18: ='ESTUDIO DE MERCADO '!O18 -> 102978 | N18: =M18*L18 -> 205956 | O18: =SUM(N18:N22) -> 1647648 | Q18: =M18*F18 -> 102978 | R18: =M18*G18 -> 0 | S18: =SUM(Q18:R18) -> 102978 | T18: =M18*I18 -> 0 | U18: =M18*J18 -> 102978 | V18: =SUM(T18:U18) -> 102978
E19: 38 | F19: 3 | H19: =SUM(F19:G19) -> 3 | K19: =SUM(I19:J19) -> 0 | L19: =K19+H19 -> 3 | M19: ='ESTUDIO DE MERCADO '!O19 -> 102978 | N19: =M19*L19 -> 308934 | Q19: =M19*F19 -> 308934 | R19: =M19*G19 -> 0 | S19: =SUM(Q19:R19) -> 308934 | T19: =M19*I19 -> 0 | U19: =M19*J19 -> 0 | V19: =SUM(T19:U19) -> 0
E20: 39 | F20: 4 | H20: =SUM(F20:G20) -> 4 | J20: 3 | K20: =SUM(I20:J20) -> 3 | L20: =K20+H20 -> 7 | M20: ='ESTUDIO DE MERCADO '!O20 -> 102978 | N20: =M20*L20 -> 720846 | Q20: =M20*F20 -> 411912 | R20: =M20*G20 -> 0 | S20: =SUM(Q20:R20) -> 411912 | T20: =M20*I20 -> 0 | U20: =M20*J20 -> 308934 | V20: =SUM(T20:U20) -> 308934
E21: 41 | F21: 1 | H21: =SUM(F21:G21) -> 1 | J21: 2 | K21: =SUM(I21:J21) -> 2 | L21: =K21+H21 -> 3 | M21: ='ESTUDIO DE MERCADO '!O21 -> 102978 | N21: =M21*L21 -> 308934 | Q21: =M21*F21 -> 102978 | R21: =M21*G21 -> 0 | S21: =SUM(Q21:R21) -> 102978 | T21: =M21*I21 -> 0 | U21: =M21*J21 -> 205956 | V21: =SUM(T21:U21) -> 205956
E22: 42 | H22: =SUM(F22:G22) -> 0 | J22: 1 | K22: =SUM(I22:J22) -> 1 | L22: =K22+H22 -> 1 | M22: ='ESTUDIO DE MERCADO '!O22 -> 102978 | N22: =M22*L22 -> 102978 | Q22: =M22*F22 -> 0 | R22: =M22*G22 -> 0 | S22: =SUM(Q22:R22) -> 0 | T22: =M22*I22 -> 0 | U22: =M22*J22 -> 102978 | V22: =SUM(T22:U22) -> 102978
P23: TOTAL | Q23: =SUM(Q6:Q22) -> 1979982 | R23: =SUM(R6:R22) -> 0 | S23: =SUM(Q23:R23) -> 1979982 | T23: =SUM(T6:T22) -> 21080595 | U23: =SUM(U6:U22) -> 720846 | V23: =SUM(T23:U23) -> 21801441
B25: LOTE 2 | M25: VALOR PROMEDIO UNITARIO | N25: VALOR PROMEDIO POR ITEM | O25: VALOR PROMEDIO POR ITEM COMPLETO | P25: VALOR POR LOTE | Q25: REGIONALIZACION
B27: SERVICIO FORENSE: | F27: DIRECCION GENERAL-SSF | H27: CANTIDAD ESTIMADA SSF | I27: REGIONALES | L27: CANTIDADES ESTIMADAS | Q27: DIRECCION GENERAL-SSF | S27: VALOR SSF | T27: REGIONALES | W27: VALOR TOTAL
B28: ITEM | C28: DESCRIPCION | D28: PRESENTACION | E28: TALLA | F28: GRUPO NACIONAL DE PATOLOGÍA FORENSE | G28: GRUPO NACIONAL DE APOYO AL SISTEMA DE VERDAD JUSTICIA REPARACIÓN Y NO REPETICIÓN | I28: REGIONAL BOGOTA | J28: REGIONAL ORIENTE | K28: CANTIDAD ESTIMADA | Q28: GRUPO NACIONAL DE PATOLOGÍA FORENSE | R28: GRUPO NACIONAL DE APOYO AL SISTEMA DE VERDAD JUSTICIA REPARACIÓN Y NO REPETICIÓN | T28: REGIONAL BOGOTA | U28: REGIONAL ORIENTE | V28: VALOR REGIONALES
B29: 6 | C29: ='ESPECIFICACIONES TECNICAS '!C29 -> Bata quirúrgica desechable no estéril, en polipropileno 100%, no tejido, Sin barrera anti-fluidos en todo su frente y en todo lo largo de la bata, de manga larga de 60 cm de largo con puño resortado de 6 cm de largo, color blanco en algodón 100%; cuello redondo con ribete, cierre adhesivo a la altura del cuello (velcro), cuatro (4) tiras de amarre de 65 cm de largo cada una, cosidas, dos internas y dos externas, largo de la bata 120 cm, color azul, empaque individual. | D29: UNIDAD | E29: UNICA | G29: 1000 | H29: =SUM(F29:G29) -> 1000 | I29: 2500 | J29: 700 | K29: =SUM(I29:J29) -> 3200 | L29: =K29+H29 -> 4200 | M29: ='ESTUDIO DE MERCADO '!O30 -> 3864 | N29: =M29*L29 -> 16228800 | O29: =N29 -> 16228800 | P29: =SUM(O29:O39) -> 302777594 | Q29: =M29*F29 -> 0 | R29: =M29*G29 -> 3864000 | S29: =SUM(Q29:R29) -> 3864000 | T29: =M29*I29 -> 9660000 | U29: =M29*J29 -> 2704800 | V29: =SUM(T29:U29) -> 12364800 | W29: =V40+S40 -> 302777594
B30: 7 | C30: ='ESPECIFICACIONES TECNICAS '!C30:C34 -> Bata quirúrgica no estéril en prolipropileno SMS no tejido de 35 a 40 gramos, con barrera antifluido con recubrimiento en polietileno resistencia de rasgado 55gr, en la parte frontal y media manga (del puño hasta el codo) uniones termo selladas en las mangas, manga larga, cuello redondo con ribete, con puño color blanco 100% resortado con ribete, cierre adhesivo altura del cuello (velcro)parte de atrás, cuatro(4) tiras de amarre de 35 cm, largo de la bata 1.40 cm color azul, empaque individual. | D30: UNIDAD | E30: S | F30: 40 | H30: =SUM(F30:G30) -> 40 | I30: 550 | J30: 550 | K30: =SUM(I30:J30) -> 1100 | L30: =K30+H30 -> 1140 | M30: ='ESTUDIO DE MERCADO '!U31 -> 15470 | N30: =M30*L30 -> 17635800 | O30: =SUM(N30:N34) -> 225148000 | Q30: =M30*F30 -> 618800 | R30: =M30*G30 -> 0 | S30: =SUM(Q30:R30) -> 618800 | T30: =M30*I30 -> 8508500 | U30: =M30*J30 -> 8508500 | V30: =SUM(T30:U30) -> 17017000
E31: M | F31: 40 | H31: =SUM(F31:G31) -> 40 | I31: 550 | J31: 4800 | K31: =SUM(I31:J31) -> 5350 | L31: =K31+H31 -> 5390 | M31: ='ESTUDIO DE MERCADO '!U32 -> 15470 | N31: =M31*L31 -> 83383300 | Q31: =M31*F31 -> 618800 | R31: =M31*G31 -> 0 | S31: =SUM(Q31:R31) -> 618800 | T31: =M31*I31 -> 8508500 | U31: =M31*J31 -> 74256000 | V31: =SUM(T31:U31) -> 82764500
E32: L | F32: 20 | H32: =SUM(F32:G32) -> 20 | I32: 550 | J32: 2500 | K32: =SUM(I32:J32) -> 3050 | L32: =K32+H32 -> 3070 | M32: ='ESTUDIO DE MERCADO '!U33 -> 15470 | N32: =M32*L32 -> 47492900 | Q32: =M32*F32 -> 309400 | R32: =M32*G32 -> 0 | S32: =SUM(Q32:R32) -> 309400 | T32: =M32*I32 -> 8508500 | U32: =M32*J32 -> 38675000 | V32: =SUM(T32:U32) -> 47183500
B33: 8 | C33: =+C30 -> Bata quirúrgica no estéril en prolipropileno SMS no tejido de 35 a 40 gramos, con barrera antifluido con recubrimiento en polietileno resistencia de rasgado 55gr, en la parte frontal y media manga (del puño hasta el codo) uniones termo selladas en las mangas, manga larga, cuello redondo con ribete, con puño color blanco 100% resortado con ribete, cierre adhesivo altura del cuello (velcro)parte de atrás, cuatro(4) tiras de amarre de 35 cm, largo de la bata 1.40 cm color azul, empaque individual. | D33: =+D30 -> UNIDAD | E33: XL | H33: =SUM(F33:G33) -> 0 | I33: 550 | J33: 2800 | K33: =SUM(I33:J33) -> 3350 | L33: =K33+H33 -> 3350 | M33: ='ESTUDIO DE MERCADO '!U34 -> 16660 | N33: =M33*L33 -> 55811000 | Q33: =M33*F33 -> 0 | R33: =M33*G33 -> 0 | S33: =SUM(Q33:R33) -> 0 | T33: =M33*I33 -> 9163000 | U33: =M33*J33 -> 46648000 | V33: =SUM(T33:U33) -> 55811000
E34: XXL | H34: =SUM(F34:G34) -> 0 | I34: 550 | J34: 700 | K34: =SUM(I34:J34) -> 1250 | L34: =K34+H34 -> 1250 | M34: ='ESTUDIO DE MERCADO '!U35 -> 16660 | N34: =M34*L34 -> 20825000 | Q34: =M34*F34 -> 0 | R34: =M34*G34 -> 0 | S34: =SUM(Q34:R34) -> 0 | T34: =M34*I34 -> 9163000 | U34: =M34*J34 -> 11662000 | V34: =SUM(T34:U34) -> 20825000
B35: 9 | C35: ='ESPECIFICACIONES TECNICAS '!C35 -> Gorro desechable en polipropileno no tejido de 30 a 40 gramos, con elástico de sujeción que permita el fácil ajuste y comodidad. | D35: PAQUETE X 100 UNIDADES | E35: UNICA | F35: 1 | G35: 30 | H35: =SUM(F35:G35) -> 31 | I35: 500 | J35: 5 | K35: =SUM(I35:J35) -> 505 | L35: =K35+H35 -> 536 | M35: ='ESTUDIO DE MERCADO '!O36 -> 25634 | N35: =M35*L35 -> 13739824 | O35: =N35 -> 13739824 | Q35: =M35*F35 -> 25634 | R35: =M35*G35 -> 769020 | S35: =SUM(Q35:R35) -> 794654 | T35: =M35*I35 -> 12817000 | U35: =M35*J35 -> 128170 | V35: =SUM(T35:U35) -> 12945170
B36: 10 | C36: ='ESPECIFICACIONES TECNICAS '!C36 -> Polainas desechables elaboradas en SMS de 30 a 40 gm, resistente y antideslizante. Sistema elástico en la base para mayor firmeza, medidas talla única 16 x 41 cm, color azul, | D36: PAR | E36: UNICA | F36: 100 | G36: 10 | H36: =SUM(F36:G36) -> 110 | I36: 700 | K36: =SUM(I36:J36) -> 700 | L36: =K36+H36 -> 810 | M36: ='ESTUDIO DE MERCADO '!O37 -> 377 | N36: =M36*L36 -> 305370 | O36: =N36 -> 305370 | Q36: =M36*F36 -> 37700 | R36: =M36*G36 -> 3770 | S36: =SUM(Q36:R36) -> 41470 | T36: =M36*I36 -> 263900 | U36: =M36*J36 -> 0 | V36: =SUM(T36:U36) -> 263900
B37: 11 | C37: ='ESPECIFICACIONES TECNICAS '!C37:C39 -> Vestido cirujano, no estéril en polipropileno SMS no tejido de 30 a 40 gramos, pantalón largo y blusa manga corta, cuello en "V", color azul, desechable, en empaque individual. | D37: UNIDAD | E37: S | G37: 50 | H37: =SUM(F37:G37) -> 50 | I37: 300 | J37: 1000 | K37: =SUM(I37:J37) -> 1300 | L37: =K37+H37 -> 1350 | M37: ='ESTUDIO DE MERCADO '!O38 -> 4712 | N37: =M37*L37 -> 6361200 | O37: =SUM(N37:N39) -> 47355600 | Q37: =M37*F37 -> 0 | R37: =M37*G37 -> 235600 | S37: =SUM(Q37:R37) -> 235600 | T37: =M37*I37 -> 1413600 | U37: =M37*J37 -> 4712000 | V37: =SUM(T37:U37) -> 6125600
E38: M | G38: 50 | H38: =SUM(F38:G38) -> 50 | I38: 300 | J38: 4000 | K38: =SUM(I38:J38) -> 4300 | L38: =K38+H38 -> 4350 | M38: ='ESTUDIO DE MERCADO '!O39 -> 4712 | N38: =M38*L38 -> 20497200 | Q38: =M38*F38 -> 0 | R38: =M38*G38 -> 235600 | S38: =SUM(Q38:R38) -> 235600 | T38: =M38*I38 -> 1413600 | U38: =M38*J38 -> 18848000 | V38: =SUM(T38:U38) -> 20261600
E39: L | G39: 50 | H39: =SUM(F39:G39) -> 50 | I39: 300 | J39: 4000 | K39: =SUM(I39:J39) -> 4300 | L39: =K39+H39 -> 4350 | M39: ='ESTUDIO DE MERCADO '!O40 -> 4712 | N39: =M39*L39 -> 20497200 | Q39: =M39*F39 -> 0 | R39: =M39*G39 -> 235600 | S39: =SUM(Q39:R39) -> 235600 | T39: =M39*I39 -> 1413600 | U39: =M39*J39 -> 18848000 | V39: =SUM(T39:U39) -> 20261600
P40: TOTAL | Q40: =SUM(Q29:Q39) -> 1610334 | R40: =SUM(R29:R39) -> 5343590 | S40: =SUM(S29:S39) -> 6953924 | T40: =SUM(T29:T39) -> 70833200 | U40: =SUM(U29:U39) -> 224990470 | V40: =SUM(V29:V39) -> 295823670
B42: LOTE 3 | M42: VALOR PROMEDIO UNITARIO | N42: VALOR PROMEDIO POR ITEM | O42: VALOR PROMEDIO POR ITEM COMPLETO | P42: VALOR POR LOTE | Q42: REGIONALIZACION
B44: SERVICIO FORENSE: | F44: DIRECCION GENERAL-SSF | H44: CANTIDAD ESTIMADA SSF | I44: REGIONALES | L44: CANTIDADES ESTIMADAS | Q44: DIRECCION GENERAL-SSF | S44: VALOR SSF | T44: REGIONALES | W44: VALOR TOTAL
B45: ITEM | C45: DESCRIPCION | D45: PRESENTACION | E45: TALLA | F45: GRUPO NACIONAL DE PATOLOGÍA FORENSE | G45: GRUPO NACIONAL DE APOYO AL SISTEMA DE VERDAD JUSTICIA REPARACIÓN Y NO REPETICIÓN | I45: REGIONAL BOGOTA | J45: REGIONAL ORIENTE | K45: CANTIDAD ESTIMADA | Q45: GRUPO NACIONAL DE PATOLOGÍA FORENSE | R45: GRUPO NACIONAL DE APOYO AL SISTEMA DE VERDAD JUSTICIA REPARACIÓN Y NO REPETICIÓN | T45: REGIONAL BOGOTA | U45: REGIONAL ORIENTE | V45: VALOR REGIONALES
B46: 12 | C46: ='ESPECIFICACIONES TECNICAS '!C46 -> Cartucho para mercurio, vapores orgánicos y gases ácidos. Referencia 6007 Marca 3 M ****. | D46: PAR | E46: N/A | G46: 5 | H46: =SUM(F46:G46) -> 5 | I46: 30 | J46: 30 | K46: =SUM(I46:J46) -> 60 | L46: =K46+H46 -> 65 | M46: ='ESTUDIO DE MERCADO '!O48 -> 70419 | N46: =M46*L46 -> 4577235 | O46: =N46 -> 4577235 | P46: =SUM(O46:O49) -> 29994695 | Q46: =M46*F46 -> 0 | R46: =M46*G46 -> 352095 | S46: =SUM(Q46:R46) -> 352095 | T46: =I46*M46 -> 2112570 | U46: =M46*J46 -> 2112570 | V46: =SUM(T46:U46) -> 4225140 | W46: =S50+V50 -> 29994695
B47: 13 | C47: ='ESPECIFICACIONES TECNICAS '!C47 -> Cartucho para vapores y gases múltiples REF: 6003 Marca 3M *** | D47: PAR | E47: N/A | H47: =SUM(F47:G47) -> 0 | I47: 200 | K47: =SUM(I47:J47) -> 200 | L47: =K47+H47 -> 200 | M47: ='ESTUDIO DE MERCADO '!V49 -> 110735 | N47: =M47*L47 -> 22147000 | O47: =N47 -> 22147000 | Q47: =M47*F47 -> 0 | R47: =M47*G47 -> 0 | S47: =SUM(Q47:R47) -> 0 | T47: =M47*I47 -> 22147000 | U47: =M47*J47 -> 0 | V47: =SUM(T47:U47) -> 22147000
B48: 14 | C48: ='ESPECIFICACIONES TECNICAS '!C48 -> Respirador de libre mantenimiento para partículas con filtro N95. Certificado por NIOSH. Contramarcado | D48: UNIDAD | E48: N/A | G48: 200 | H48: =SUM(F48:G48) -> 200 | I48: 50 | J48: 200 | K48: =SUM(I48:J48) -> 250 | L48: =K48+H48 -> 450 | M48: ='ESTUDIO DE MERCADO '!O50 -> 5164 | N48: =M48*L48 -> 2323800 | O48: =N48 -> 2323800 | Q48: =M48*F48 -> 0 | R48: =M48*G48 -> 1032800 | S48: =SUM(Q48:R48) -> 1032800 | T48: =M48*I48 -> 258200 | U48: =M48*J48 -> 1032800 | V48: =SUM(T48:U48) -> 1291000
B49: 15 | C49: ='ESPECIFICACIONES TECNICAS '!C49 -> Tapaboca quirúrgico desechable tres pliegues en polipropileno, no tejido 30 grs, con 2 cintas elásticas para orejas, resistentes a los fluidos normales de la boca y nariz. | D49: CAJA X 50 UNIDADES | E49: N/A | F49: 10 | G49: 50 | H49: =SUM(F49:G49) -> 60 | J49: 50 | K49: =SUM(I49:J49) -> 50 | L49: =K49+H49 -> 110 | M49: ='ESTUDIO DE MERCADO '!O51 -> 8606 | N49: =M49*L49 -> 946660 | O49: =N49 -> 946660 | Q49: =M49*F49 -> 86060 | R49: =M49*G49 -> 430300 | S49: =SUM(Q49:R49) -> 516360 | T49: =M49*I49 -> 0 | U49: =M49*J49 -> 430300 | V49: =SUM(T49:U49) -> 430300
P50: TOTAL | Q50: =SUM(Q46:Q49) -> 86060 | R50: =SUM(R46:R49) -> 1815195 | S50: =SUM(S46:S49) -> 1901255 | T50: =SUM(T46:T49) -> 24517770 | U50: =SUM(U46:U49) -> 3575670 | V50: =SUM(V46:V49) -> 28093440
B52: LOTE 4 | M52: VALOR PROMEDIO UNITARIO | N52: VALOR PROMEDIO POR ITEM | O52: VALOR PROMEDIO POR ITEM COMPLETO | P52: VALOR POR LOTE | Q52: REGIONALIZACION
B54: SERVICIO FORENSE: | F54: DIRECCION GENERAL-SSF | H54: CANTIDAD ESTIMADA SSF | I54: REGIONALES | L54: CANTIDADES ESTIMADAS | Q54: DIRECCION GENERAL-SSF | S54: VALOR SSF | T54: REGIONALES | W54: VALOR TOTAL
B55: ITEM | C55: DESCRIPCION | D55: PRESENTACION | E55: TALLA | F55: GRUPO NACIONAL DE PATOLOGÍA FORENSE | G55: GRUPO NACIONAL DE APOYO AL SISTEMA DE VERDAD JUSTICIA REPARACIÓN Y NO REPETICIÓN | I55: REGIONAL BOGOTA | J55: REGIONAL ORIENTE | K55: CANTIDAD ESTIMADA | Q55: GRUPO NACIONAL DE PATOLOGÍA FORENSE | R55: GRUPO NACIONAL DE APOYO AL SISTEMA DE VERDAD JUSTICIA REPARACIÓN Y NO REPETICIÓN | T55: REGIONAL BOGOTA | U55: REGIONAL ORIENTE | V55: VALOR REGIONALES
B56: 16 | C56: ='ESPECIFICACIONES TECNICAS '!C56:C60 -> Guante de nitrilo, desechable, ambidiestro, color azul, verde o lila, entre 5,5 y 6 milésimas de pulgada de espesor en todo el guante, entre 11 y 14 pulgadas de longitud. Sin talco, debe cumplir con la norma EN 374-1:2016 y EN420 o la norma que se encuentre vigente. | D56: CAJA 100 UNIDADES | E56: XS | G56: 4 | H56: =SUM(F56:G56) -> 4 | I56: 100 | J56: 10 | K56: =SUM(I56:J56) -> 110 | L56: =K56+H56 -> 114 | M56: ='ESTUDIO DE MERCADO '!O59 -> 118876 | N56: =M56*L56 -> 13551864 | O56: =SUM(N56:N60) -> 468678624 | P56: =SUM(O56:O64) -> 553503504 | Q56: =M56*F56 -> 0 | R56: =M56*G56 -> 475504 | S56: =SUM(Q56:R56) -> 475504 | T56: =M56*I56 -> 11887600 | U56: =M56*J56 -> 1188760 | V56: =SUM(T56:U56) -> 13076360 | W56: =V65+S65 -> 553503504
B57: 17 | C57: =+C56 -> Guante de nitrilo, desechable, ambidiestro, color azul, verde o lila, entre 5,5 y 6 milésimas de pulgada de espesor en todo el guante, entre 11 y 14 pulgadas de longitud. Sin talco, debe cumplir con la norma EN 374-1:2016 y EN420 o la norma que se encuentre vigente. | D57: =+D56 -> CAJA 100 UNIDADES | E57: S | F57: 10 | G57: 40 | H57: =SUM(F57:G57) -> 50 | I57: 500 | J57: 100 | K57: =SUM(I57:J57) -> 600 | L57: =K57+H57 -> 650 | M57: ='ESTUDIO DE MERCADO '!O60 -> 119928 | N57: =M57*L57 -> 77953200 | Q57: =M57*F57 -> 1199280 | R57: =M57*G57 -> 4797120 | S57: =SUM(Q57:R57) -> 5996400 | T57: =M57*I57 -> 59964000 | U57: =M57*J57 -> 11992800 | V57: =SUM(T57:U57) -> 71956800
E58: M | F58: 10 | G58: 40 | H58: =SUM(F58:G58) -> 50 | I58: 500 | J58: 400 | K58: =SUM(I58:J58) -> 900 | L58: =K58+H58 -> 950 | M58: ='ESTUDIO DE MERCADO '!O61 -> 119928 | N58: =M58*L58 -> 113931600 | Q58: =M58*F58 -> 1199280 | R58: =M58*G58 -> 4797120 | S58: =SUM(Q58:R58) -> 5996400 | T58: =M58*I58 -> 59964000 | U58: =M58*J58 -> 47971200 | V58: =SUM(T58:U58) -> 107935200
E59: L | F59: 5 | G59: 40 | H59: =SUM(F59:G59) -> 45 | I59: 800 | J59: 550 | K59: =SUM(I59:J59) -> 1350 | L59: =K59+H59 -> 1395 | M59: ='ESTUDIO DE MERCADO '!O62 -> 119928 | N59: =M59*L59 -> 167299560 | Q59: =M59*F59 -> 599640 | R59: =M59*G59 -> 4797120 | S59: =SUM(Q59:R59) -> 5396760 | T59: =M59*I59 -> 95942400 | U59: =M59*J59 -> 65960400 | V59: =SUM(T59:U59) -> 161902800
E60: XL | H60: =SUM(F60:G60) -> 0 | I60: 500 | J60: 300 | K60: =SUM(I60:J60) -> 800 | L60: =K60+H60 -> 800 | M60: ='ESTUDIO DE MERCADO '!O63 -> 119928 | N60: =M60*L60 -> 95942400 | Q60: =M60*F60 -> 0 | R60: =M60*G60 -> 0 | S60: =SUM(Q60:R60) -> 0 | T60: =M60*I60 -> 59964000 | U60: =M60*J60 -> 35978400 | V60: =SUM(T60:U60) -> 95942400
B61: 18 | C61: ='ESPECIFICACIONES TECNICAS '!C61:C64 -> Guantes de nitrilo no desechables resistentes a sustancias químicas y detergentes y solventes orgánicos longitud mínima de 18" (hasta el codo). | D61: PAR | E61: 7 | H61: =SUM(F61:G61) -> 0 | I61: 420 | K61: =SUM(I61:J61) -> 420 | L61: =K61+H61 -> 420 | M61: ='ESTUDIO DE MERCADO '!V64 -> 50491 | N61: =M61*L61 -> 21206220 | O61: =SUM(N61:N64) -> 84824880 | Q61: =M61*F61 -> 0 | R61: =M61*G61 -> 0 | S61: =SUM(Q61:R61) -> 0 | T61: =M61*I61 -> 21206220 | U61: =M61*J61 -> 0 | V61: =SUM(T61:U61) -> 21206220
E62: 8 | H62: =SUM(F62:G62) -> 0 | I62: 420 | K62: =SUM(I62:J62) -> 420 | L62: =K62+H62 -> 420 | M62: ='ESTUDIO DE MERCADO '!V65 -> 50491 | N62: =M62*L62 -> 21206220 | Q62: =M62*F62 -> 0 | R62: =M62*G62 -> 0 | S62: =SUM(Q62:R62) -> 0 | T62: =M62*I62 -> 21206220 | U62: =M62*J62 -> 0 | V62: =SUM(T62:U62) -> 21206220
E63: 9 | H63: =SUM(F63:G63) -> 0 | I63: 420 | K63: =SUM(I63:J63) -> 420 | L63: =K63+H63 -> 420 | M63: ='ESTUDIO DE MERCADO '!V66 -> 50491 | N63: =M63*L63 -> 21206220 | Q63: =M63*F63 -> 0 | R63: =M63*G63 -> 0 | S63: =SUM(Q63:R63) -> 0 | T63: =M63*I63 -> 21206220 | U63: =M63*J63 -> 0 | V63: =SUM(T63:U63) -> 21206220
E64: 10 | H64: =SUM(F64:G64) -> 0 | I64: 420 | K64: =SUM(I64:J64) -> 420 | L64: =K64+H64 -> 420 | M64: ='ESTUDIO DE MERCADO '!V67 -> 50491 | N64: =M64*L64 -> 21206220 | Q64: =M64*F64 -> 0 | R64: =M64*G64 -> 0 | S64: =SUM(Q64:R64) -> 0 | T64: =M64*I64 -> 21206220 | U64: =M64*J64 -> 0 | V64: =SUM(T64:U64) -> 21206220
P65: TOTAL | Q65: =SUM(Q56:Q64) -> 2998200 | R65: =SUM(R56:R64) -> 14866864 | S65: =SUM(S56:S64) -> 17865064 | T65: =SUM(T56:T64) -> 372546880 | U65: =SUM(U56:U64) -> 163091560 | V65: =SUM(V56:V64) -> 535638440
B67: LOTE 5 | M67: VALOR PROMEDIO UNITARIO | N67: VALOR PROMEDIO POR ITEM | O67: VALOR PROMEDIO POR ITEM COMPLETO | P67: VALOR POR LOTE | Q67: REGIONALIZACION
B69: SERVICIO FORENSE: | F69: DIRECCION GENERAL-SSF | H69: CANTIDAD ESTIMADA SSF | I69: REGIONALES | L69: CANTIDADES ESTIMADAS | Q69: DIRECCION GENERAL-SSF | S69: VALOR SSF | T69: REGIONALES | W69: VALOR TOTAL
B70: ITEM | C70: DESCRIPCION | D70: PRESENTACION | E70: TALLA | F70: GRUPO NACIONAL DE PATOLOGÍA FORENSE | G70: GRUPO NACIONAL DE APOYO AL SISTEMA DE VERDAD JUSTICIA REPARACIÓN Y NO REPETICIÓN | I70: REGIONAL BOGOTA | J70: REGIONAL ORIENTE | K70: CANTIDAD ESTIMADA | Q70: GRUPO NACIONAL DE PATOLOGÍA FORENSE | R70: GRUPO NACIONAL DE APOYO AL SISTEMA DE VERDAD JUSTICIA REPARACIÓN Y NO REPETICIÓN | T70: REGIONAL BOGOTA | U70: REGIONAL ORIENTE | V70: VALOR REGIONALES
B71: 19 | C71: ='ESPECIFICACIONES TECNICAS '!C71:C74 -> Traje de seguridad de protección contra salpicadura de líquidos, color blanco, cumple requisitos de las normas EN 13034 y EN 14126. elástico en capuchón, puños, cintura y tobillos. costuras cosidas y protegidas color blanco u otro color (selladas herméticamente). Cierre de dos vías con solapa sellable. Polaina del mismo material del traje, adherida al mismo o aparte, overol en polipropileno -película laminada de polietileno. empaque individual. | D71: UNIDAD | E71: S | G71: 30 | H71: =SUM(F71:G71) -> 30 | J71: 65 | K71: =SUM(I71:J71) -> 65 | L71: =K71+H71 -> 95 | M71: ='ESTUDIO DE MERCADO '!O75 -> 53652 | N71: =M71*L71 -> 5096940 | O71: =SUM(N71:N74) -> 49091580 | P71: =SUM(O71) -> 49091580 | Q71: =M71*F71 -> 0 | R71: =M71*G71 -> 1609560 | S71: =SUM(Q71:R71) -> 1609560 | T71: =M71*I71 -> 0 | U71: =M71*J71 -> 3487380 | V71: =SUM(T71:U71) -> 3487380 | W71: =S75+V75 -> 49091580
E72: M | G72: 30 | H72: =SUM(F72:G72) -> 30 | J72: 250 | K72: =SUM(I72:J72) -> 250 | L72: =K72+H72 -> 280 | M72: ='ESTUDIO DE MERCADO '!O76 -> 53652 | N72: =M72*L72 -> 15022560 | Q72: =M72*F72 -> 0 | R72: =M72*G72 -> 1609560 | S72: =SUM(Q72:R72) -> 1609560 | T72: =M72*I72 -> 0 | U72: =M72*J72 -> 13413000 | V72: =SUM(T72:U72) -> 13413000
E73: L | G73: 30 | H73: =SUM(F73:G73) -> 30 | J73: 200 | K73: =SUM(I73:J73) -> 200 | L73: =K73+H73 -> 230 | M73: ='ESTUDIO DE MERCADO '!O77 -> 53652 | N73: =M73*L73 -> 12339960 | Q73: =M73*F73 -> 0 | R73: =M73*G73 -> 1609560 | S73: =SUM(Q73:R73) -> 1609560 | T73: =M73*I73 -> 0 | U73: =M73*J73 -> 10730400 | V73: =SUM(T73:U73) -> 10730400
E74: XL | G74: 10 | H74: =SUM(F74:G74) -> 10 | J74: 300 | K74: =SUM(I74:J74) -> 300 | L74: =K74+H74 -> 310 | M74: ='ESTUDIO DE MERCADO '!O78 -> 53652 | N74: =M74*L74 -> 16632120 | Q74: =M74*F74 -> 0 | R74: =M74*G74 -> 536520 | S74: =SUM(Q74:R74) -> 536520 | T74: =M74*I74 -> 0 | U74: =M74*J74 -> 16095600 | V74: =SUM(T74:U74) -> 16095600
P75: TOTAL | Q75: =SUM(Q71:Q74) -> 0 | R75: =SUM(R71:R74) -> 5365200 | S75: =SUM(S71:S74) -> 5365200 | T75: =SUM(T71:T74) -> 0 | U75: =SUM(U71:U74) -> 43726380 | V75: =SUM(V71:V74) -> 43726380
B77: LOTE 6 | M77: VALOR PROMEDIO UNITARIO | N77: VALOR PROMEDIO POR ITEM | O77: VALOR PROMEDIO POR ITEM COMPLETO | P77: VALOR POR LOTE | Q77: REGIONALIZACION
B79: SERVICIO FORENSE: | F79: DIRECCION GENERAL-SSF | H79: CANTIDAD ESTIMADA SSF | I79: REGIONALES | L79: CANTIDADES ESTIMADAS | Q79: DIRECCION GENERAL-SSF | S79: VALOR SSF | T79: REGIONALES | W79: VALOR TOTAL
B80: ITEM | C80: DESCRIPCION | D80: PRESENTACION | E80: TALLA | F80: GRUPO NACIONAL DE PATOLOGÍA FORENSE | G80: GRUPO NACIONAL DE APOYO AL SISTEMA DE VERDAD JUSTICIA REPARACIÓN Y NO REPETICIÓN | I80: REGIONAL BOGOTA | J80: REGIONAL ORIENTE | K80: CANTIDAD ESTIMADA | Q80: GRUPO NACIONAL DE PATOLOGÍA FORENSE | R80: GRUPO NACIONAL DE APOYO AL SISTEMA DE VERDAD JUSTICIA REPARACIÓN Y NO REPETICIÓN | T80: REGIONAL BOGOTA | U80: REGIONAL ORIENTE | V80: VALOR REGIONALES
B81: 20 | C81: ='ESPECIFICACIONES TECNICAS '!C81:C85 -> Guantes contra el corte en malla de acero inoxidable, cinco (5) dedos, manilla y broche 100% en acero inoxidable (sin telas, fibras o plástico), anillos microsoldados herméticamente (resortes de ajuste se encuentran localizados al interior del guante), guante ambidiestro, que cumpla con la Norma EN 1082 ó EN 1082-1 **. | D81: UNIDAD | E81: XXS | H81: =SUM(F81:G81) -> 0 | I81: 5 | K81: =SUM(I81:J81) -> 5 | L81: =K81+H81 -> 5 | M81: ='ESTUDIO DE MERCADO '!V86 -> 561700 | N81: =M81*L81 -> 2808500 | O81: =SUM(N81:N85) -> 30350080 | P81: =SUM(O81) -> 30350080 | Q81: =M81*F81 -> 0 | R81: =M81*G81 -> 0 | S81: =SUM(Q81:R81) -> 0 | T81: =M81*I81 -> 2808500 | U81: =M81*J81 -> 0 | V81: =SUM(T81:U81) -> 2808500 | W81: =V86+S86 -> 30350080
E82: XS | H82: =SUM(F82:G82) -> 0 | I82: 5 | K82: =SUM(I82:J82) -> 5 | L82: =K82+H82 -> 5 | M82: ='ESTUDIO DE MERCADO '!V87 -> 561700 | N82: =M82*L82 -> 2808500 | Q82: =M82*F82 -> 0 | R82: =M82*G82 -> 0 | S82: =SUM(Q82:R82) -> 0 | T82: =M82*I82 -> 2808500 | U82: =M82*J82 -> 0 | V82: =SUM(T82:U82) -> 2808500
B83: 21 | C83: =+C81 -> Guantes contra el corte en malla de acero inoxidable, cinco (5) dedos, manilla y broche 100% en acero inoxidable (sin telas, fibras o plástico), anillos microsoldados herméticamente (resortes de ajuste se encuentran localizados al interior del guante), guante ambidiestro, que cumpla con la Norma EN 1082 ó EN 1082-1 **. | D83: =+D81 -> UNIDAD | E83: S | H83: =SUM(F83:G83) -> 0 | I83: 5 | J83: 13 | K83: =SUM(I83:J83) -> 18 | L83: =K83+H83 -> 18 | M83: ='ESTUDIO DE MERCADO '!O88 -> 343515 | N83: =M83*L83 -> 6183270 | Q83: =M83*F83 -> 0 | R83: =M83*G83 -> 0 | S83: =SUM(Q83:R83) -> 0 | T83: =M83*I83 -> 1717575 | U83: =M83*J83 -> 4465695 | V83: =SUM(T83:U83) -> 6183270
E84: M | G84: 2 | H84: =SUM(F84:G84) -> 2 | I84: 5 | J84: 22 | K84: =SUM(I84:J84) -> 27 | L84: =K84+H84 -> 29 | M84: ='ESTUDIO DE MERCADO '!O89 -> 343515 | N84: =M84*L84 -> 9961935 | Q84: =M84*F84 -> 0 | R84: =M84*G84 -> 687030 | S84: =SUM(Q84:R84) -> 687030 | T84: =M84*I84 -> 1717575 | U84: =M84*J84 -> 7557330 | V84: =SUM(T84:U84) -> 9274905
E85: L | H85: =SUM(F85:G85) -> 0 | I85: 5 | J85: 20 | K85: =SUM(I85:J85) -> 25 | L85: =K85+H85 -> 25 | M85: ='ESTUDIO DE MERCADO '!O90 -> 343515 | N85: =M85*L85 -> 8587875 | Q85: =M85*F85 -> 0 | R85: =M85*G85 -> 0 | S85: =SUM(Q85:R85) -> 0 | T85: =M85*I85 -> 1717575 | U85: =M85*J85 -> 6870300 | V85: =SUM(T85:U85) -> 8587875
P86: TOTAL | Q86: =SUM(Q81:Q85) -> 0 | R86: =SUM(R81:R85) -> 687030 | S86: =SUM(S81:S85) -> 687030 | T86: =SUM(T81:T85) -> 10769725 | U86: =SUM(U81:U85) -> 18893325 | V86: =SUM(V81:V85) -> 29663050
P90: LOTE | Q90: VALOR
P91: LOTE 1 | Q91: =P6 -> 23781423
P92: LOTE 2 | Q92: =P29 -> 302777594
P93: LOTE 3 | Q93: =P46 -> 29994695
P94: LOTE 4 | Q94: =P56 -> 553503504
P95: LOTE 5 | Q95: =P71 -> 49091580
P96: LOTE 6 | Q96: =P81 -> 30350080
P97: TOTAL | Q97: =SUM(Q91:Q96) -> 989498876
P99: SERVICIO | Q99: VALOR
P100: PATOLOGIA | Q100: =Q23+Q40+Q50+Q65+Q75+Q86 -> 6674576
P101: GNASVJRN | Q101: =R23+R40+R50+R65+R75+R86 -> 28077879
P102: BOGOTA | Q102: =T23+T40+T50+T65+T75+T86 -> 499748170
P103: ORIENTE | Q103: =U23+U40+U50+U65+U75+U86 -> 454998251
P104: TOTAL | Q104: =SUM(Q100:Q103) -> 989498876
P106: REGIONALIZACION | Q106: VALOR
P107: SSF | Q107: =S23+S40+S50+S65+S75+S86 -> 34752455
P108: BOGOTA | Q108: =T86+T75+T65+T50+T40+T23 -> 499748170
P109: ORIENTE | Q109: =U86+U75+U65+U50+U40+U23 -> 454998251
P110: TOTAL | Q110: =SUM(Q107:Q109) -> 989498876
