Workbook

Sheet ESPECIFICACIONES TECNICAS 
B2: LOTE 1
B4: SERVICIO FORENSE: | G4: DIRECCION GENERAL-SSF | I4: CANTIDAD ESTIMADA SSF | J4: REGIONALES | M4: CANTIDADES ESTIMADAS
B5: ITEM | C5: DESCRIPCION | D5: PRESENTACION | E5: REGISTRO INVIMA | F5: TALLA | G5: GRUPO NACIONAL DE PATOLOGÍA FORENSE | H5: GRUPO NACIONAL DE APOYO AL SISTEMA DE VERDAD JUSTICIA REPARACIÓN Y NO REPETICIÓN | J5: REGIONAL BOGOTA | K5: REGIONAL ORIENTE | L5: CANTIDAD ESTIMADA
B6: 1 | C6: Calzado en color blanco, en material plástico etilenvinilacetato (EVA) con características impermeabilizantes que evitan la proliferación de bacterias, de fácil limpieza, plantilla con diseño ergonómico cuenta con inserto antideslizante en la suela lo cual hace que su resistencia al resbalamiento cumpla las condiciones a las normas técnicas NTC-ISO 2034, con suela comprobadamente antideslizante en cuartos fríos, piso húmedo ,liviano, capellada que protege toda la longitud del empeine lo que brinda protección contra salpicadura, apto para el trabajo en sala de necropsias. | D6: PAR | E6: NO | F6: 34 | I6: =SUM(G6:H6) -> 0 | J6: 10 | L6: =SUM(J6:K6) -> 10 | M6: =L6+I6 -> 10
F7: 35 | I7: =SUM(G7:H7) -> 0 | J7: 10 | L7: =SUM(J7:K7) -> 10 | M7: =L7+I7 -> 10
F8: 36 | I8: =SUM(G8:H8) -> 0 | J8: 10 | L8: =SUM(J8:K8) -> 10 | M8: =L8+I8 -> 10
F9: 37 | G9: 1 | I9: =SUM(G9:H9) -> 1 | J9: 20 | L9: =SUM(J9:K9) -> 20 | M9: =L9+I9 -> 21
F10: 38 | G10: 3 | I10: =SUM(G10:H10) -> 3 | J10: 20 | L10: =SUM(J10:K10) -> 20 | M10: =L10+I10 -> 23
F11: 39 | G11: 4 | I11: =SUM(G11:H11) -> 4 | J11: 20 | L11: =SUM(J11:K11) -> 20 | M11: =L11+I11 -> 24
F12: 40 | I12: =SUM(G12:H12) -> 0 | J12: 20 | L12: =SUM(J12:K12) -> 20 | M12: =L12+I12 -> 20
F13: 41 | G13: 1 | I13: =SUM(G13:H13) -> 1 | J13: 20 | L13: =SUM(J13:K13) -> 20 | M13: =L13+I13 -> 21
F14: 42 | I14: =SUM(G14:H14) -> 0 | J14: 20 | L14: =SUM(J14:K14) -> 20 | M14: =L14+I14 -> 20
B15: 2 | C15: =+C6 -> Calzado en color blanco, en material plástico etilenvinilacetato (EVA) con características impermeabilizantes que evitan la proliferación de bacterias, de fácil limpieza, plantilla con diseño ergonómico cuenta con inserto antideslizante en la suela lo cual hace que su resistencia al resbalamiento cumpla las condiciones a las normas técnicas NTC-ISO 2034, con suela comprobadamente antideslizante en cuartos fríos, piso húmedo ,liviano, capellada que protege toda la longitud del empeine lo que brinda protección contra salpicadura, apto para el trabajo en sala de necropsias. | D15: =+D6 -> PAR | E15: =+E6 -> NO | F15: 43 | I15: =SUM(G15:H15) -> 0 | J15: 15 | L15: =SUM(J15:K15) -> 15 | M15: =L15+I15 -> 15
B16: 3 | C16: =+C6 -> Calzado en color blanco, en material plástico etilenvinilacetato (EVA) con características impermeabilizantes que evitan la proliferación de bacterias, de fácil limpieza, plantilla con diseño ergonómico cuenta con inserto antideslizante en la suela lo cual hace que su resistencia al resbalamiento cumpla las condiciones a las normas técnicas NTC-ISO 2034, con suela comprobadamente antideslizante en cuartos fríos, piso húmedo ,liviano, capellada que protege toda la longitud del empeine lo que brinda protección contra salpicadura, apto para el trabajo en sala de necropsias. | D16: =+D6 -> PAR | E16: =+E6 -> NO | F16: 44 | I16: =SUM(G16:H16) -> 0 | J16: 15 | L16: =SUM(J16:K16) -> 15 | M16: =L16+I16 -> 15
B17: 4 | C17: =+C6 -> Calzado en color blanco, en material plástico etilenvinilacetato (EVA) con características impermeabilizantes que evitan la proliferación de bacterias, de fácil limpieza, plantilla con diseño ergonómico cuenta con inserto antideslizante en la suela lo cual hace que su resistencia al resbalamiento cumpla las condiciones a las normas técnicas NTC-ISO 2034, con suela comprobadamente antideslizante en cuartos fríos, piso húmedo ,liviano, capellada que protege toda la longitud del empeine lo que brinda protección contra salpicadura, apto para el trabajo en sala de necropsias. | D17: =+D6 -> PAR | E17: =+E6 -> NO | F17: 45 | I17: =SUM(G17:H17) -> 0 | J17: 15 | L17: =SUM(J17:K17) -> 15 | M17: =L17+I17 -> 15
B18: 5 | C18: Botas de caña alta de color blanco, liviana en PVC, suela antideslizante, forro en polyester, resistente a grasas, sangre, aceites y detergentes. Rango de temperatura de operación -30 y 40 grados centígrados. No debe ser con puntera de acero. Con inhibición de hongo y bacterias. Con curva ergonométrica. Con espolín para facilitar el descalce. Debe cumplir con la norma EN-344, ó ISO 20344 ó ISO 20345. | D18: PAR | E18: NO | F18: 37 | G18: 1 | I18: =SUM(G18:H18) -> 1 | K18: 1 | L18: =SUM(J18:K18) -> 1 | M18: =L18+I18 -> 2
F19: 38 | G19: 3 | I19: =SUM(G19:H19) -> 3 | L19: =SUM(J19:K19) -> 0 | M19: =L19+I19 -> 3
F20: 39 | G20: 4 | I20: =SUM(G20:H20) -> 4 | K20: 3 | L20: =SUM(J20:K20) -> 3 | M20: =L20+I20 -> 7
F21: 41 | G21: 1 | I21: =SUM(G21:H21) -> 1 | K21: 2 | L21: =SUM(J21:K21) -> 2 | M21: =L21+I21 -> 3
F22: 42 | I22: =SUM(G22:H22) -> 0 | K22: 1 | L22: =SUM(J22:K22) -> 1 | M22: =L22+I22 -> 1
B25: LOTE 2
B27: SERVICIO FORENSE: | G27: DIRECCION GENERAL-SSF | I27: CANTIDAD ESTIMADA SSF | J27: REGIONALES | M27: CANTIDADES ESTIMADAS
B28: ITEM | C28: DESCRIPCION | D28: PRESENTACION | E28: REGISTRO INVIMA | F28: TALLA | G28: GRUPO NACIONAL DE PATOLOGÍA FORENSE | H28: GRUPO NACIONAL DE APOYO AL SISTEMA DE VERDAD JUSTICIA REPARACIÓN Y NO REPETICIÓN | J28: REGIONAL BOGOTA | K28: REGIONAL ORIENTE | L28: CANTIDAD ESTIMADA
B29: 6 | C29: Bata quirúrgica desechable no estéril, en polipropileno 100%, no tejido, Sin barrera anti-fluidos en todo su frente y en todo lo largo de la bata, de manga larga de 60 cm de largo con puño resortado de 6 cm de largo, color blanco en algodón 100%; cuello redondo con ribete, cierre adhesivo a la altura del cuello (velcro), cuatro (4) tiras de amarre de 65 cm de largo cada una, cosidas, dos internas y dos externas, largo de la bata 120 cm, color azul, empaque individual. | D29: UNIDAD | E29: NO | F29: UNICA | H29: 1000 | I29: =SUM(G29:H29) -> 1000 | J29: 2500 | K29: 700 | L29: =SUM(J29:K29) -> 3200 | M29: =L29+I29 -> 4200
B30: 7 | C30: Bata quirúrgica no estéril en prolipropileno SMS no tejido de 35 a 40 gramos, con barrera antifluido con recubrimiento en polietileno resistencia de rasgado 55gr, en la parte frontal y media manga (del puño hasta el codo) uniones termo selladas en las mangas, manga larga, cuello redondo con ribete, con puño color blanco 100% resortado con ribete, cierre adhesivo altura del cuello (velcro)parte de atrás, cuatro(4) tiras de amarre de 35 cm, largo de la bata 1.40 cm color azul, empaque individual. | D30: UNIDAD | E30: NO | F30: S | G30: 40 | I30: =SUM(G30:H30) -> 40 | J30: 550 | K30: 550 | L30: =SUM(J30:K30) -> 1100 | M30: =L30+I30 -> 1140
F31: M | G31: 40 | I31: =SUM(G31:H31) -> 40 | J31: 550 | K31: 4800 | L31: =SUM(J31:K31) -> 5350 | M31: =L31+I31 -> 5390
F32: L | G32: 20 | I32: =SUM(G32:H32) -> 20 | J32: 550 | K32: 2500 | L32: =SUM(J32:K32) -> 3050 | M32: =L32+I32 -> 3070
B33: 8 | C33: =+C30 -> Bata quirúrgica no estéril en prolipropileno SMS no tejido de 35 a 40 gramos, con barrera antifluido con recubrimiento en polietileno resistencia de rasgado 55gr, en la parte frontal y media manga (del puño hasta el codo) uniones termo selladas en las mangas, manga larga, cuello redondo con ribete, con puño color blanco 100% resortado con ribete, cierre adhesivo altura del cuello (velcro)parte de atrás, cuatro(4) tiras de amarre de 35 cm, largo de la bata 1.40 cm color azul, empaque individual. | D33: UNIDAD | E33: NO | F33: XL | I33: =SUM(G33:H33) -> 0 | J33: 550 | K33: 2800 | L33: =SUM(J33:K33) -> 3350 | M33: =L33+I33 -> 3350
F34: XXL | I34: =SUM(G34:H34) -> 0 | J34: 550 | K34: 700 | L34: =SUM(J34:K34) -> 1250 | M34: =L34+I34 -> 1250
B35: 9 | C35: Gorro desechable en polipropileno no tejido de 30 a 40 gramos, con elástico de sujeción que permita el fácil ajuste y comodidad. | D35: PAQUETE X 100 UNIDADES | E35: NO | F35: UNICA | G35: 1 | H35: 30 | I35: =SUM(G35:H35) -> 31 | J35: 500 | K35: 5 | L35: =SUM(J35:K35) -> 505 | M35: =L35+I35 -> 536
B36: 10 | C36: Polainas desechables elaboradas en SMS de 30 a 40 gm, resistente y antideslizante. Sistema elástico en la base para mayor firmeza, medidas talla única 16 x 41 cm, color azul, | D36: PAR | E36: NO | F36: UNICA | G36: 100 | H36: 10 | I36: =SUM(G36:H36) -> 110 | J36: 700 | L36: =SUM(J36:K36) -> 700 | M36: =L36+I36 -> 810
B37: 11 | C37: Vestido cirujano, no estéril en polipropileno SMS no tejido de 30 a 40 gramos, pantalón largo y blusa manga corta, cuello en "V", color azul, desechable, en empaque individual. | D37: UNIDAD | E37: NO | F37: S | H37: 50 | I37: =SUM(G37:H37) -> 50 | J37: 300 | K37: 1000 | L37: =SUM(J37:K37) -> 1300 | M37: =L37+I37 -> 1350
F38: M | H38: 50 | I38: =SUM(G38:H38) -> 50 | J38: 300 | K38: 4000 | L38: =SUM(J38:K38) -> 4300 | M38: =L38+I38 -> 4350
F39: L | H39: 50 | I39: =SUM(G39:H39) -> 50 | J39: 300 | K39: 4000 | L39: =SUM(J39:K39) -> 4300 | M39: =L39+I39 -> 4350
B42: LOTE 3
B44: SERVICIO FORENSE: | G44: DIRECCION GENERAL-SSF | I44: CANTIDAD ESTIMADA SSF | J44: REGIONALES | M44: CANTIDADES ESTIMADAS
B45: ITEM | C45: DESCRIPCION | D45: PRESENTACION | E45: REGISTRO INVIMA | F45: TALLA | G45: GRUPO NACIONAL DE PATOLOGÍA FORENSE | H45: GRUPO NACIONAL DE APOYO AL SISTEMA DE VERDAD JUSTICIA REPARACIÓN Y NO REPETICIÓN | J45: REGIONAL BOGOTA | K45: REGIONAL ORIENTE | L45: CANTIDAD ESTIMADA
B46: 12 | C46: Cartucho para mercurio, vapores orgánicos y gases ácidos. Referencia 6007 Marca 3 M ****. | D46: PAR | E46: NO | F46: N/A | H46: 5 | I46: =SUM(G46:H46) -> 5 | J46: 30 | K46: 30 | L46: =SUM(J46:K46) -> 60 | M46: =L46+I46 -> 65
B47: 13 | C47: Cartucho para vapores y gases múltiples REF: 6003 Marca 3M *** | D47: PAR | E47: NO | F47: N/A | I47: =SUM(G47:H47) -> 0 | J47: 200 | L47: =SUM(J47:K47) -> 200 | M47: =L47+I47 -> 200
B48: 14 | C48: Respirador de libre mantenimiento para partículas con filtro N95. Certificado por NIOSH. Contramarcado | D48: UNIDAD | E48: NO | F48: N/A | H48: 200 | I48: =SUM(G48:H48) -> 200 | J48: 50 | K48: 200 | L48: =SUM(J48:K48) -> 250 | M48: =L48+I48 -> 450
...

Sheet ESTUDIO DE MERCADO 
M1: SASI-0002-SG-2024 | N1: 5.2 | P1: 094-SG-2024 | Q1: 095-SG-2024 | U1: 096-SG-2024 | V1: 097-SG-2024 | W1: 098-SG-2024
B2: LOTE 1 | M2: HISTORICO 2024 | O2: VALOR UNITARIO REDONDEADO | P2: IMPORTEX SANDOVAL SAS | V2: VALOR UNITARIO REDONDEADO
B4: SERVICIO FORENSE: | F4: DIRECCION GENERAL-SSF | H4: CANTIDAD ESTIMADA SSF | I4: REGIONALES | L4: CANTIDADES ESTIMADAS
B5: ITEM | C5: DESCRIPCION | D5: PRESENTACION | E5: TALLA | F5: GRUPO NACIONAL DE PATOLOGÍA FORENSE | G5: GRUPO NACIONAL DE APOYO AL SISTEMA DE VERDAD JUSTICIA REPARACIÓN Y NO REPETICIÓN | I5: REGIONAL BOGOTA | J5: REGIONAL ORIENTE | K5: CANTIDAD ESTIMADA | M5: VALOR UNITARIO CONTRATO | N5: VALOR UNITARIO CON IPC | P5: VALOR UNITARIO | Q5: VALOR UNITARIO CON IVA | T5: VALOR INDEXADO IPC JUNIO (3,74) | U5: VALOR TOTAL
B6: 1 | C6: ='ESPECIFICACIONES TECNICAS '!C6:C17 -> Calzado en color blanco, en material plástico etilenvinilacetato (EVA) con características impermeabilizantes que evitan la proliferación de bacterias, de fácil limpieza, plantilla con diseño ergonómico cuenta con inserto antideslizante en la suela lo cual hace que su resistencia al resbalamiento cumpla las condiciones a las normas técnicas NTC-ISO 2034, con suela comprobadamente antideslizante en cuartos fríos, piso húmedo ,liviano, capellada que protege toda la longitud del empeine lo que brinda protección contra salpicadura, apto para el trabajo en sala de necropsias. | D6: PAR | E6: 34 | H6: =SUM(F6:G6) -> 0 | I6: 10 | K6: =SUM(I6:J6) -> 10 | L6: =K6+H6 -> 10 | M6: 111235.88 | N6: =M6*(1+(N1/100)) -> 117020.15 | O6: =ROUND(N6,0) -> 117020 | U6: =+O6*L6 -> 1170200 | V6: =+O6 -> 117020
E7: 35 | H7: =SUM(F7:G7) -> 0 | I7: 10 | K7: =SUM(I7:J7) -> 10 | L7: =K7+H7 -> 10 | M7: 111235.88 | N7: =M7*(1+(N1/100)) -> 117020.15 | O7: =ROUND(N7,0) -> 117020 | U7: =+O7*L7 -> 1170200 | V7: =+O7 -> 117020
E8: 36 | H8: =SUM(F8:G8) -> 0 | I8: 10 | K8: =SUM(I8:J8) -> 10 | L8: =K8+H8 -> 10 | M8: 111235.88 | N8: =M8*(1+(N1/100)) -> 117020.15 | O8: =ROUND(N8,0) -> 117020 | U8: =+O8*L8 -> 1170200 | V8: =+O8 -> 117020
E9: 37 | F9: 1 | H9: =SUM(F9:G9) -> 1 | I9: 20 | K9: =SUM(I9:J9) -> 20 | L9: =K9+H9 -> 21 | M9: 111235.88 | N9: =M9*(1+(N1/100)) -> 117020.15 | O9: =ROUND(N9,0) -> 117020 | U9: =+O9*L9 -> 2457420 | V9: =+O9 -> 117020
E10: 38 | F10: 3 | H10: =SUM(F10:G10) -> 3 | I10: 20 | K10: =SUM(I10:J10) -> 20 | L10: =K10+H10 -> 23 | M10: 111235.88 | N10: =M10*(1+(N1/100)) -> 117020.15 | O10: =ROUND(N10,0) -> 117020 | U10: =+O10*L10 -> 2691460 | V10: =+O10 -> 117020
E11: 39 | F11: 4 | H11: =SUM(F11:G11) -> 4 | I11: 20 | K11: =SUM(I11:J11) -> 20 | L11: =K11+H11 -> 24 | M11: 111235.88 | N11: =M11*(1+(N1/100)) -> 117020.15 | O11: =ROUND(N11,0) -> 117020 | U11: =+O11*L11 -> 2808480 | V11: =+O11 -> 117020
E12: 40 | H12: =SUM(F12:G12) -> 0 | I12: 20 | K12: =SUM(I12:J12) -> 20 | L12: =K12+H12 -> 20 | M12: 111235.88 | N12: =M12*(1+(N1/100)) -> 117020.15 | O12: =ROUND(N12,0) -> 117020 | U12: =+O12*L12 -> 2340400 | V12: =+O12 -> 117020
E13: 41 | F13: 1 | H13: =SUM(F13:G13) -> 1 | I13: 20 | K13: =SUM(I13:J13) -> 20 | L13: =K13+H13 -> 21 | M13: 111235.88 | N13: =M13*(1+(N1/100)) -> 117020.15 | O13: =ROUND(N13,0) -> 117020 | U13: =+O13*L13 -> 2457420 | V13: =+O13 -> 117020
E14: 42 | H14: =SUM(F14:G14) -> 0 | I14: 20 | K14: =SUM(I14:J14) -> 20 | L14: =K14+H14 -> 20 | M14: 111235.88 | N14: =M14*(1+(N1/100)) -> 117020.15 | O14: =ROUND(N14,0) -> 117020 | U14: =+O14*L14 -> 2340400 | V14: =+O14 -> 117020
B15: 2 | C15: =+C6 -> Calzado en color blanco, en material plástico etilenvinilacetato (EVA) con características impermeabilizantes que evitan la proliferación de bacterias, de fácil limpieza, plantilla con diseño ergonómico cuenta con inserto antideslizante en la suela lo cual hace que su resistencia al resbalamiento cumpla las condiciones a las normas técnicas NTC-ISO 2034, con suela comprobadamente antideslizante en cuartos fríos, piso húmedo ,liviano, capellada que protege toda la longitud del empeine lo que brinda protección contra salpicadura, apto para el trabajo en sala de necropsias. | D15: PAR | E15: 43 | H15: =SUM(F15:G15) -> 0 | I15: 15 | K15: =SUM(I15:J15) -> 15 | L15: =K15+H15 -> 15 | P15: 63000 | Q15: =P15*1.19 -> 74970 | T15: =ROUND((Q15*(1+(3.74/100))),0) -> 77774 | U15: =T15*L15 -> 1166610 | V15: =ROUND(T15,0) -> 77774
B16: 3 | C16: =+C15 -> Calzado en color blanco, en material plástico etilenvinilacetato (EVA) con características impermeabilizantes que evitan la proliferación de bacterias, de fácil limpieza, plantilla con diseño ergonómico cuenta con inserto antideslizante en la suela lo cual hace que su resistencia al resbalamiento cumpla las condiciones a las normas técnicas NTC-ISO 2034, con suela comprobadamente antideslizante en cuartos fríos, piso húmedo ,liviano, capellada que protege toda la longitud del empeine lo que brinda protección contra salpicadura, apto para el trabajo en sala de necropsias. | D16: PAR | E16: 44 | H16: =SUM(F16:G16) -> 0 | I16: 15 | K16: =SUM(I16:J16) -> 15 | L16: =K16+H16 -> 15 | P16: 63500 | Q16: =P16*1.19 -> 75565 | T16: =ROUND((Q16*(1+(3.74/100))),0) -> 78391 | U16: =T16*L16 -> 1175865 | V16: =ROUND(T16,0) -> 78391
B17: 4 | C17: =+C16 -> Calzado en color blanco, en material plástico etilenvinilacetato (EVA) con características impermeabilizantes que evitan la proliferación de bacterias, de fácil limpieza, plantilla con diseño ergonómico cuenta con inserto antideslizante en la suela lo cual hace que su resistencia al resbalamiento cumpla las condiciones a las normas técnicas NTC-ISO 2034, con suela comprobadamente antideslizante en cuartos fríos, piso húmedo ,liviano, capellada que protege toda la longitud del empeine lo que brinda protección contra salpicadura, apto para el trabajo en sala de necropsias. | D17: PAR | E17: 45 | H17: =SUM(F17:G17) -> 0 | I17: 15 | K17: =SUM(I17:J17) -> 15 | L17: =K17+H17 -> 15 | P17: 64000 | Q17: =P17*1.19 -> 76160 | T17: =ROUND((Q17*(1+(3.74/100))),0) -> 79008 | U17: =T17*L17 -> 1185120 | V17: =ROUND(T17,0) -> 79008
B18: 5 | C18: ='ESPECIFICACIONES TECNICAS '!C18:C22 -> Botas de caña alta de color blanco, liviana en PVC, suela antideslizante, forro en polyester, resistente a grasas, sangre, aceites y detergentes. Rango de temperatura de operación -30 y 40 grados centígrados. No debe ser con puntera de acero. Con inhibición de hongo y bacterias. Con curva ergonométrica. Con espolín para facilitar el descalce. Debe cumplir con la norma EN-344, ó ISO 20344 ó ISO 20345. | D18: PAR | E18: 37 | F18: 1 | H18: =SUM(F18:G18) -> 1 | J18: 1 | K18: =SUM(I18:J18) -> 1 | L18: =K18+H18 -> 2 | M18: 97888 | N18: =M18*(1+(N1/100)) -> 102978.18 | O18: =ROUND(N18,0) -> 102978 | U18: =+O18*L18 -> 205956 | V18: =+O18 -> 102978
E19: 38 | F19: 3 | H19: =SUM(F19:G19) -> 3 | K19: =SUM(I19:J19) -> 0 | L19: =K19+H19 -> 3 | M19: 97888 | N19: =M19*(1+(N1/100)) -> 102978.18 | O19: =ROUND(N19,0) -> 102978 | U19: =+O19*L19 -> 308934 | V19: =+O19 -> 102978
E20: 39 | F20: 4 | H20: =SUM(F20:G20) -> 4 | J20: 3 | K20: =SUM(I20:J20) -> 3 | L20: =K20+H20 -> 7 | M20: 97888 | N20: =M20*(1+(N1/100)) -> 102978.18 | O20: =ROUND(N20,0) -> 102978 | U20: =+O20*L20 -> 720846 | V20: =+O20 -> 102978
E21: 41 | F21: 1 | H21: =SUM(F21:G21) -> 1 | J21: 2 | K21: =SUM(I21:J21) -> 2 | L21: =K21+H21 -> 3 | M21: 97888 | N21: =M21*(1+(N1/100)) -> 102978.18 | O21: =ROUND(N21,0) -> 102978 | U21: =+O21*L21 -> 308934 | V21: =+O21 -> 102978
E22: 42 | H22: =SUM(F22:G22) -> 0 | J22: 1 | K22: =SUM(I22:J22) -> 1 | L22: =K22+H22 -> 1 | M22: 97888 | N22: =M22*(1+(N1/100)) -> 102978.18 | O22: =ROUND(N22,0) -> 102978 | U22: =+O22*L22 -> 102978 | V22: =+O22 -> 102978
B23: VALOR TOTAL LOTE 1 | U23: =SUM(U6:U22) -> 23781423 | V23: =SUM(V6:V22) -> 1803243
B26: LOTE 2 | M26: HISTORICO 2024 | O26: VALOR UNITARIO REDONDEADO | P26: POLYMEDICAL SAS | U26: VALOR UNITARIO REDONDEADO
B28: SERVICIO FORENSE: | F28: DIRECCION GENERAL-SSF | H28: CANTIDAD ESTIMADA SSF | I28: REGIONALES | L28: CANTIDADES ESTIMADAS
B29: ITEM | C29: DESCRIPCION | D29: PRESENTACION | E29: TALLA | F29: GRUPO NACIONAL DE PATOLOGÍA FORENSE | G29: GRUPO NACIONAL DE APOYO AL SISTEMA DE VERDAD JUSTICIA REPARACIÓN Y NO REPETICIÓN | I29: REGIONAL BOGOTA | J29: REGIONAL ORIENTE | K29: CANTIDAD ESTIMADA | M29: VALOR UNITARIO CONTRATO | N29: VALOR UNITARIO CON IPC | P29: VALOR UNITARIO | Q29: VALOR UNITARIO CON IVA | T29: VALOR TOTAL
B30: 6 | C30: ='ESPECIFICACIONES TECNICAS '!C29 -> Bata quirúrgica desechable no estéril, en polipropileno 100%, no tejido, Sin barrera anti-fluidos en todo su frente y en todo lo largo de la bata, de manga larga de 60 cm de largo con puño resortado de 6 cm de largo, color blanco en algodón 100%; cuello redondo con ribete, cierre adhesivo a la altura del cuello (velcro), cuatro (4) tiras de amarre de 65 cm de largo cada una, cosidas, dos internas y dos externas, largo de la bata 120 cm, color azul, empaque individual. | D30: UNIDAD | E30: UNICA | G30: 1000 | H30: =SUM(F30:G30) -> 1000 | I30: 2500 | J30: 700 | K30: =SUM(I30:J30) -> 3200 | L30: =K30+H30 -> 4200 | M30: 3672.98 | N30: =M30*(1+(N1/100)) -> 3863.975 | O30: =ROUND(N30,0) -> 3864 | T30: =+O30*L30 -> 16228800 | U30: =+O30 -> 3864
B31: 7 | C31: =+'ESPECIFICACIONES TECNICAS '!C30 -> Bata quirúrgica no estéril en prolipropileno SMS no tejido de 35 a 40 gramos, con barrera antifluido con recubrimiento en polietileno resistencia de rasgado 55gr, en la parte frontal y media manga (del puño hasta el codo) uniones termo selladas en las mangas, manga larga, cuello redondo con ribete, con puño color blanco 100% resortado con ribete, cierre adhesivo altura del cuello (velcro)parte de atrás, cuatro(4) tiras de amarre de 35 cm, largo de la bata 1.40 cm color azul, empaque individual. | D31: UNIDAD | E31: S | F31: 40 | H31: =SUM(F31:G31) -> 40 | I31: 550 | J31: 550 | K31: =SUM(I31:J31) -> 1100 | L31: =K31+H31 -> 1140 | P31: 13000 | Q31: =P31*1.19 -> 15470 | T31: =Q31*L31 -> 17635800 | U31: =ROUND(Q31,0) -> 15470
E32: M | F32: 40 | H32: =SUM(F32:G32) -> 40 | I32: 550 | J32: 4800 | K32: =SUM(I32:J32) -> 5350 | L32: =K32+H32 -> 5390 | P32: 13000 | Q32: =P32*1.19 -> 15470 | T32: =Q32*L32 -> 83383300 | U32: =ROUND(Q32,0) -> 15470
E33: L | F33: 20 | H33: =SUM(F33:G33) -> 20 | I33: 550 | J33: 2500 | K33: =SUM(I33:J33) -> 3050 | L33: =K33+H33 -> 3070 | P33: 13000 | Q33: =P33*1.19 -> 15470 | T33: =Q33*L33 -> 47492900 | U33: =ROUND(Q33,0) -> 15470
B34: 8 | C34: =+C31 -> Bata quirúrgica no estéril en prolipropileno SMS no tejido de 35 a 40 gramos, con barrera antifluido con recubrimiento en polietileno resistencia de rasgado 55gr, en la parte frontal y media manga (del puño hasta el codo) uniones termo selladas en las mangas, manga larga, cuello redondo con ribete, con puño color blanco 100% resortado con ribete, cierre adhesivo altura del cuello (velcro)parte de atrás, cuatro(4) tiras de amarre de 35 cm, largo de la bata 1.40 cm color azul, empaque individual. | D34: =+D31 -> UNIDAD | E34: XL | H34: =SUM(F34:G34) -> 0 | I34: 550 | J34: 2800 | K34: =SUM(I34:J34) -> 3350 | L34: =K34+H34 -> 3350 | P34: 14000 | Q34: =P34*1.19 -> 16660 | T34: =Q34*L34 -> 55811000 | U34: =ROUND(Q34,0) -> 16660
E35: XXL | H35: =SUM(F35:G35) -> 0 | I35: 550 | J35: 700 | K35: =SUM(I35:J35) -> 1250 | L35: =K35+H35 -> 1250 | P35: 14000 | Q35: =P35*1.19 -> 16660 | T35: =Q35*L35 -> 20825000 | U35: =ROUND(Q35,0) -> 16660
B36: 9 | C36: ='ESPECIFICACIONES TECNICAS '!C35 -> Gorro desechable en polipropileno no tejido de 30 a 40 gramos, con elástico de sujeción que permita el fácil ajuste y comodidad. | D36: PAQUETE X 100 UNIDADES | E36: UNICA | F36: 1 | G36: 30 | H36: =SUM(F36:G36) -> 31 | I36: 500 | J36: 5 | K36: =SUM(I36:J36) -> 505 | L36: =K36+H36 -> 536 | M36: 24367.12 | N36: =M36*(1+(N1/100)) -> 25634.21 | O36: =ROUND(N36,0) -> 25634 | T36: =+O36*L36 -> 13739824 | U36: =+O36 -> 25634
B37: 10 | C37: ='ESPECIFICACIONES TECNICAS '!C36 -> Polainas desechables elaboradas en SMS de 30 a 40 gm, resistente y antideslizante. Sistema elástico en la base para mayor firmeza, medidas talla única 16 x 41 cm, color azul, | D37: PAR | E37: UNICA | F37: 100 | G37: 10 | H37: =SUM(F37:G37) -> 110 | I37: 700 | K37: =SUM(I37:J37) -> 700 | L37: =K37+H37 -> 810 | M37: 358.34 | N37: =M37*(1+(N1/100)) -> 376.97368 | O37: =ROUND(N37,0) -> 377 | T37: =+O37*L37 -> 305370 | U37: =+O37 -> 377
B38: 11 | C38: =+'ESPECIFICACIONES TECNICAS '!C37 -> Vestido cirujano, no estéril en polipropileno SMS no tejido de 30 a 40 gramos, pantalón largo y blusa manga corta, cuello en "V", color azul, desechable, en empaque individual. | D38: UNIDAD | E38: S | G38: 50 | H38: =SUM(F38:G38) -> 50 | I38: 300 | J38: 1000 | K38: =SUM(I38:J38) -> 1300 | L38: =K38+H38 -> 1350 | M38: 4479.25 | N38: =M38*(1+(N1/100)) -> 4712.171 | O38: =ROUND(N38,0) -> 4712 | T38: =+O38*L38 -> 6361200 | U38: =+O38 -> 4712
E39: M | G39: 50 | H39: =SUM(F39:G39) -> 50 | I39: 300 | J39: 4000 | K39: =SUM(I39:J39) -> 4300 | L39: =K39+H39 -> 4350 | M39: 4479.25 | N39: =M39*(1+(N1/100)) -> 4712.171 | O39: =ROUND(N39,0) -> 4712 | T39: =+O39*L39 -> 20497200 | U39: =+O39 -> 4712
E40: L | G40: 50 | H40: =SUM(F40:G40) -> 50 | I40: 300 | J40: 4000 | K40: =SUM(I40:J40) -> 4300 | L40: =K40+H40 -> 4350 | M40: 4479.25 | N40: =M40*(1+(N1/100)) -> 4712.171 | O40: =ROUND(N40,0) -> 4712 | T40: =+O40*L40 -> 20497200 | U40: =+O40 -> 4712
B41: VALOR TOTAL LOTE 2 | T41: =SUM(T30:T40) -> 302777594 | U41: =SUM(U30:U40) -> 123741
B44: LOTE 3 | M44: HISTORICO 2024 | O44: VALOR UNITARIO REDONDEADO | P44: IMPORTEX SANDOVAL SAS | V44: VALOR UNITARIO REDONDEADO
B46: SERVICIO FORENSE: | F46: DIRECCION GENERAL-SSF | H46: CANTIDAD ESTIMADA SSF | I46: REGIONALES | L46: CANTIDADES ESTIMADAS
B47: ITEM | C47: DESCRIPCION | D47: PRESENTACION | E47: TALLA | F47: GRUPO NACIONAL DE PATOLOGÍA FORENSE | G47: GRUPO NACIONAL DE APOYO AL SISTEMA DE VERDAD JUSTICIA REPARACIÓN Y NO REPETICIÓN | I47: REGIONAL BOGOTA | J47: REGIONAL ORIENTE | K47: CANTIDAD ESTIMADA | M47: VALOR UNITARIO CONTRATO | N47: VALOR UNITARIO CON IPC | P47: VALOR UNITARIO | Q47: VALOR UNITARIO CON IVA | T47: VALOR INDEXADO IPC JUNIO (3,74) | U47: VALOR TOTAL
...

Sheet REGIONALIZACION 
M1: SASI-0002-SG-2024 | N1: 5.2 | O1: IPC JUNIO 2025 | P1: 3.74 | S1: VALOR TOTAL PROCESO | U1: =P6+P29+P46+P56+P71+P81 -> 989498876 | W1: =W6+W29+W46+W56+W71+W81 -> 989498876
B2: LOTE 1 | M2: VALOR PROMEDIO UNITARIO | N2: VALOR PROMEDIO POR ITEM | O2: VALOR PROMEDIO POR ITEM COMPLETO | P2: VALOR POR LOTE | Q2: REGIONALIZACION
B4: SERVICIO FORENSE: | F4: DIRECCION GENERAL-SSF | H4: CANTIDAD ESTIMADA SSF | I4: REGIONALES | L4: CANTIDADES ESTIMADAS | Q4: DIRECCION GENERAL-SSF | S4: VALOR SSF | T4: REGIONALES | W4: VALOR TOTAL
B5: ITEM | C5: DESCRIPCION | D5: PRESENTACION | E5: TALLA | F5: GRUPO NACIONAL DE PATOLOGÍA FORENSE | G5: GRUPO NACIONAL DE APOYO AL SISTEMA DE VERDAD JUSTICIA REPARACIÓN Y NO REPETICIÓN | I5: REGIONAL BOGOTA | J5: REGIONAL ORIENTE | K5: CANTIDAD ESTIMADA | Q5: GRUPO NACIONAL DE PATOLOGÍA FORENSE | R5: GRUPO NACIONAL DE APOYO AL SISTEMA DE VERDAD JUSTICIA REPARACIÓN Y NO REPETICIÓN | T5: REGIONAL BOGOTA | U5: REGIONAL ORIENTE | V5: VALOR REGIONALES
B6: 1 | C6: ='ESPECIFICACIONES TECNICAS '!C6:C17 -> Calzado en color blanco, en material plástico etilenvinilacetato (EVA) con características impermeabilizantes que evitan la proliferación de bacterias, de fácil limpieza, plantilla con diseño ergonómico cuenta con inserto antideslizante en la suela lo cual hace que su resistencia al resbalamiento cumpla las condiciones a las normas técnicas NTC-ISO 2034, con suela comprobadamente antideslizante en cuartos fríos, piso húmedo ,liviano, capellada que protege toda la longitud del empeine lo que brinda protección contra salpicadura, apto para el trabajo en sala de necropsias. | D6: PAR | E6: 34 | H6: =SUM(F6:G6) -> 0 | I6: 10 | K6: =SUM(I6:J6) -> 10 | L6: =K6+H6 -> 10 | M6: ='ESTUDIO DE MERCADO '!O6 -> 117020 | N6: =M6*L6 -> 1170200 | O6: =SUM(N6:N17) -> 22133775 | P6: =SUM(O6:O22) -> 23781423 | Q6: =M6*F6 -> 0 | R6: =M6*G6 -> 0 | S6: =SUM(Q6:R6) -> 0 | T6: =M6*I6 -> 1170200 | U6: =M6*J6 -> 0 | V6: =SUM(T6:U6) -> 1170200 | W6: =V23+S23 -> 23781423
E7: 35 | H7: =SUM(F7:G7) -> 0 | I7: 10 | K7: =SUM(I7:J7) -> 10 | L7: =K7+H7 -> 10 | M7: ='ESTUDIO DE MERCADO '!O7 -> 117020 | N7: =M7*L7 -> 1170200 | Q7: =M7*F7 -> 0 | R7: =M7*G7 -> 0 | S7: =SUM(Q7:R7) -> 0 | T7: =M7*I7 -> 1170200 | U7: =M7*J7 -> 0 | V7: =SUM(T7:U7) -> 1170200
E8: 36 | H8: =SUM(F8:G8) -> 0 | I8: 10 | K8: =SUM(I8:J8) -> 10 | L8: =K8+H8 -> 10 | M8: ='ESTUDIO DE MERCADO '!O8 -> 117020 | N8: =M8*L8 -> 1170200 | Q8: =M8*F8 -> 0 | R8: =M8*G8 -> 0 | S8: =SUM(Q8:R8) -> 0 | T8: =M8*I8 -> 1170200 | U8: =M8*J8 -> 0 | V8: =SUM(T8:U8) -> 1170200
E9: 37 | F9: 1 | H9: =SUM(F9:G9) -> 1 | I9: 20 | K9: =SUM(I9:J9) -> 20 | L9: =K9+H9 -> 21 | M9: ='ESTUDIO DE MERCADO '!O9 -> 117020 | N9: =M9*L9 -> 2457420 | Q9: =M9*F9 -> 117020 | R9: =M9*G9 -> 0 | S9: =SUM(Q9:R9) -> 117020 | T9: =M9*I9 -> 2340400 | U9: =M9*J9 -> 0 | V9: =SUM(T9:U9) -> 2340400
E10: 38 | F10: 3 | H10: =SUM(F10:G10) -> 3 | I10: 20 | K10: =SUM(I10:J10) -> 20 | L10: =K10+H10 -> 23 | M10: ='ESTUDIO DE MERCADO '!O10 -> 117020 | N10: =M10*L10 -> 2691460 | Q10: =M10*F10 -> 351060 | R10: =M10*G10 -> 0 | S10: =SUM(Q10:R10) -> 351060 | T10: =M10*I10 -> 2340400 | U10: =M10*J10 -> 0 | V10: =SUM(T10:U10) -> 2340400
E11: 39 | F11: 4 | H11: =SUM(F11:G11) -> 4 | I11: 20 | K11: =SUM(I11:J11) -> 20 | L11: =K11+H11 -> 24 | M11: ='ESTUDIO DE MERCADO '!O11 -> 117020 | N11: =M11*L11 -> 2808480 | Q11: =M11*F11 -> 468080 | R11: =M11*G11 -> 0 | S11: =SUM(Q11:R11) -> 468080 | T11: =M11*I11 -> 2340400 | U11: =M11*J11 -> 0 | V11: =SUM(T11:U11) -> 2340400
E12: 40 | H12: =SUM(F12:G12) -> 0 | I12: 20 | K12: =SUM(I12:J12) -> 20 | L12: =K12+H12 -> 20 | M12: ='ESTUDIO DE MERCADO '!O12 -> 117020 | N12: =M12*L12 -> 2340400 | Q12: =M12*F12 -> 0 | R12: =M12*G12 -> 0 | S12: =SUM(Q12:R12) -> 0 | T12: =M12*I12 -> 2340400 | U12: =M12*J12 -> 0 | V12: =SUM(T12:U12) -> 2340400
E13: 41 | F13: 1 | H13: =SUM(F13:G13) -> 1 | I13: 20 | K13: =SUM(I13:J13) -> 20 | L13: =K13+H13 -> 21 | M13: ='ESTUDIO DE MERCADO '!O13 -> 117020 | N13: =M13*L13 -> 2457420 | Q13: =M13*F13 -> 117020 | R13: =M13*G13 -> 0 | S13: =SUM(Q13:R13) -> 117020 | T13: =M13*I13 -> 2340400 | U13: =M13*J13 -> 0 | V13: =SUM(T13:U13) -> 2340400
E14: 42 | H14: =SUM(F14:G14) -> 0 | I14: 20 | K14: =SUM(I14:J14) -> 20 | L14: =K14+H14 -> 20 | M14: ='ESTUDIO DE MERCADO '!O14 -> 117020 | N14: =M14*L14 -> 2340400 | Q14: =M14*F14 -> 0 | R14: =M14*G14 -> 0 | S14: =SUM(Q14:R14) -> 0 | T14: =M14*I14 -> 2340400 | U14: =M14*J14 -> 0 | V14: =SUM(T14:U14) -> 2340400
B15: 2 | C15: =+C6 -> Calzado en color blanco, en material plástico etilenvinilacetato (EVA) con características impermeabilizantes que evitan la proliferación de bacterias, de fácil limpieza, plantilla con diseño ergonómico cuenta con inserto antideslizante en la suela lo cual hace que su resistencia al resbalamiento cumpla las condiciones a las normas técnicas NTC-ISO 2034, con suela comprobadamente antideslizante en cuartos fríos, piso húmedo ,liviano, capellada que protege toda la longitud del empeine lo que brinda protección contra salpicadura, apto para el trabajo en sala de necropsias. | D15: =+D6 -> PAR | E15: 43 | H15: =SUM(F15:G15) -> 0 | I15: 15 | K15: =SUM(I15:J15) -> 15 | L15: =K15+H15 -> 15 | M15: ='ESTUDIO DE MERCADO '!V15 -> 77774 | N15: =M15*L15 -> 1166610 | Q15: =M15*F15 -> 0 | R15: =M15*G15 -> 0 | S15: =SUM(Q15:R15) -> 0 | T15: =M15*I15 -> 1166610 | U15: =M15*J15 -> 0 | V15: =SUM(T15:U15) -> 1166610
B16: 3 | C16: =+C15 -> Calzado en color blanco, en material plástico etilenvinilacetato (EVA) con características impermeabilizantes que evitan la proliferación de bacterias, de fácil limpieza, plantilla con diseño ergonómico cuenta con inserto antideslizante en la suela lo cual hace que su resistencia al resbalamiento cumpla las condiciones a las normas técnicas NTC-ISO 2034, con suela comprobadamente antideslizante en cuartos fríos, piso húmedo ,liviano, capellada que protege toda la longitud del empeine lo que brinda protección contra salpicadura, apto para el trabajo en sala de necropsias. | D16: =+D15 -> PAR | E16: 44 | H16: =SUM(F16:G16) -> 0 | I16: 15 | K16: =SUM(I16:J16) -> 15 | L16: =K16+H16 -> 15 | M16: ='ESTUDIO DE MERCADO '!V16 -> 78391 | N16: =M16*L16 -> 1175865 | Q16: =M16*F16 -> 0 | R16: =M16*G16 -> 0 | S16: =SUM(Q16:R16) -> 0 | T16: =M16*I16 -> 1175865 | U16: =M16*J16 -> 0 | V16: =SUM(T16:U16) -> 1175865
B17: 4 | C17: =+C16 -> Calzado en color blanco, en material plástico etilenvinilacetato (EVA) con características impermeabilizantes que evitan la proliferación de bacterias, de fácil limpieza, plantilla con diseño ergonómico cuenta con inserto antideslizante en la suela lo cual hace que su resistencia al resbalamiento cumpla las condiciones a las normas técnicas NTC-ISO 2034, con suela comprobadamente antideslizante en cuartos fríos, piso húmedo ,liviano, capellada que protege toda la longitud del empeine lo que brinda protección contra salpicadura, apto para el trabajo en sala de necropsias. | D17: =+D6 -> PAR | E17: 45 | H17: =SUM(F17:G17) -> 0 | I17: 15 | K17: =SUM(I17:J17) -> 15 | L17: =K17+H17 -> 15 | M17: ='ESTUDIO DE MERCADO '!V17 -> 79008 | N17: =M17*L17 -> 1185120 | Q17: =M17*F17 -> 0 | R17: =M17*G17 -> 0 | S17: =SUM(Q17:R17) -> 0 | T17: =M17*I17 -> 1185120 | U17: =M17*J17 -> 0 | V17: =SUM(T17:U17) -> 1185120
B18: 5 | C18: ='ESPECIFICACIONES TECNICAS '!C18:C22 -> Botas de caña alta de color blanco, liviana en PVC, suela antideslizante, forro en polyester, resistente a grasas, sangre, aceites y detergentes. Rango de temperatura de operación -30 y 40 grados centígrados. No debe ser con puntera de acero. Con inhibición de hongo y bacterias. Con curva ergonométrica. Con espolín para facilitar el descalce. Debe cumplir con la norma EN-344, ó ISO 20344 ó ISO 20345. | E18: 37 | F18: 1 | H18: =SUM(F18:G18) -> 1 | J18: 1 | K18: =SUM(I18:J18) -> 1 | L18: =K18+H18 -> 2 | M18: ='ESTUDIO DE MERCADO '!O18 -> 102978 | N18: =M18*L18 -> 205956 | O18: =SUM(N18:N22) -> 1647648 | Q18: =M18*F18 -> 102978 | R18: =M18*G18 -> 0 | S18: =SUM(Q18:R18) -> 102978 | T18: =M18*I18 -> 0 | U18: =M18*J18 -> 102978 | V18: =SUM(T18:U18) -> 102978
E19: 38 | F19: 3 | H19: =SUM(F19:G19) -> 3 | K19: =SUM(I19:J19) -> 0 | L19: =K19+H19 -> 3 | M19: ='ESTUDIO DE MERCADO '!O19 -> 102978 | N19: =M19*L19 -> 308934 | Q19: =M19*F19 -> 308934 | R19: =M19*G19 -> 0 | S19: =SUM(Q19:R19) -> 308934 | T19: =M19*I19 -> 0 | U19: =M19*J19 -> 0 | V19: =SUM(T19:U19) -> 0
E20: 39 | F20: 4 | H20: =SUM(F20:G20) -> 4 | J20: 3 | K20: =SUM(I20:J20) -> 3 | L20: =K20+H20 -> 7 | M20: ='ESTUDIO DE MERCADO '!O20 -> 102978 | N20: =M20*L20 -> 720846 | Q20: =M20*F20 -> 411912 | R20: =M20*G20 -> 0 | S20: =SUM(Q20:R20) -> 411912 | T20: =M20*I20 -> 0 | U20: =M20*J20 -> 308934 | V20: =SUM(T20:U20) -> 308934
E21: 41 | F21: 1 | H21: =SUM(F21:G21) -> 1 | J21: 2 | K21: =SUM(I21:J21) -> 2 | L21: =K21+H21 -> 3 | M21: ='ESTUDIO DE MERCADO '!O21 -> 102978 | N21: =M21*L21 -> 308934 | Q21: =M21*F21 -> 102978 | R21: =M21*G21 -> 0 | S21: =SUM(Q21:R21) -> 102978 | T21: =M21*I21 -> 0 | U21: =M21*J21 -> 205956 | V21: =SUM(T21:U21) -> 205956
E22: 42 | H22: =SUM(F22:G22) -> 0 | J22: 1 | K22: =SUM(I22:J22) -> 1 | L22: =K22+H22 -> 1 | M22: ='ESTUDIO DE MERCADO '!O22 -> 102978 | N22: =M22*L22 -> 102978 | Q22: =M22*F22 -> 0 | R22: =M22*G22 -> 0 | S22: =SUM(Q22:R22) -> 0 | T22: =M22*I22 -> 0 | U22: =M22*J22 -> 102978 | V22: =SUM(T22:U22) -> 102978
P23: TOTAL | Q23: =SUM(Q6:Q22) -> 1979982 | R23: =SUM(R6:R22) -> 0 | S23: =SUM(Q23:R23) -> 1979982 | T23: =SUM(T6:T22) -> 21080595 | U23: =SUM(U6:U22) -> 720846 | V23: =SUM(T23:U23) -> 21801441
B25: LOTE 2 | M25: VALOR PROMEDIO UNITARIO | N25: VALOR PROMEDIO POR ITEM | O25: VALOR PROMEDIO POR ITEM COMPLETO | P25: VALOR POR LOTE | Q25: REGIONALIZACION
B27: SERVICIO FORENSE: | F27: DIRECCION GENERAL-SSF | H27: CANTIDAD ESTIMADA SSF | I27: REGIONALES | L27: CANTIDADES ESTIMADAS | Q27: DIRECCION GENERAL-SSF | S27: VALOR SSF | T27: REGIONALES | W27: VALOR TOTAL
B28: ITEM | C28: DESCRIPCION | D28: PRESENTACION | E28: TALLA | F28: GRUPO NACIONAL DE PATOLOGÍA FORENSE | G28: GRUPO NACIONAL DE APOYO AL SISTEMA DE VERDAD JUSTICIA REPARACIÓN Y NO REPETICIÓN | I28: REGIONAL BOGOTA | J28: REGIONAL ORIENTE | K28: CANTIDAD ESTIMADA | Q28: GRUPO NACIONAL DE PATOLOGÍA FORENSE | R28: GRUPO NACIONAL DE APOYO AL SISTEMA DE VERDAD JUSTICIA REPARACIÓN Y NO REPETICIÓN | T28: REGIONAL BOGOTA | U28: REGIONAL ORIENTE | V28: VALOR REGIONALES
B29: 6 | C29: ='ESPECIFICACIONES TECNICAS '!C29 -> Bata quirúrgica desechable no estéril, en polipropileno 100%, no tejido, Sin barrera anti-fluidos en todo su frente y en todo lo largo de la bata, de manga larga de 60 cm de largo con puño resortado de 6 cm de largo, color blanco en algodón 100%; cuello redondo con ribete, cierre adhesivo a la altura del cuello (velcro), cuatro (4) tiras de amarre de 65 cm de largo cada una, cosidas, dos internas y dos externas, largo de la bata 120 cm, color azul, empaque individual. | D29: UNIDAD | E29: UNICA | G29: 1000 | H29: =SUM(F29:G29) -> 1000 | I29: 2500 | J29: 700 | K29: =SUM(I29:J29) -> 3200 | L29: =K29+H29 -> 4200 | M29: ='ESTUDIO DE MERCADO '!O30 -> 3864 | N29: =M29*L29 -> 16228800 | O29: =N29 -> 16228800 | P29: =SUM(O29:O39) -> 302777594 | Q29: =M29*F29 -> 0 | R29: =M29*G29 -> 3864000 | S29: =SUM(Q29:R29) -> 3864000 | T29: =M29*I29 -> 9660000 | U29: =M29*J29 -> 2704800 | V29: =SUM(T29:U29) -> 12364800 | W29: =V40+S40 -> 302777594
B30: 7 | C30: ='ESPECIFICACIONES TECNICAS '!C30:C34 -> Bata quirúrgica no estéril en prolipropileno SMS no tejido de 35 a 40 gramos, con barrera antifluido con recubrimiento en polietileno resistencia de rasgado 55gr, en la parte frontal y media manga (del puño hasta el codo) uniones termo selladas en las mangas, manga larga, cuello redondo con ribete, con puño color blanco 100% resortado con ribete, cierre adhesivo altura del cuello (velcro)parte de atrás, cuatro(4) tiras de amarre de 35 cm, largo de la bata 1.40 cm color azul, empaque individual. | D30: UNIDAD | E30: S | F30: 40 | H30: =SUM(F30:G30) -> 40 | I30: 550 | J30: 550 | K30: =SUM(I30:J30) -> 1100 | L30: =K30+H30 -> 1140 | M30: ='ESTUDIO DE MERCADO '!U31 -> 15470 | N30: =M30*L30 -> 17635800 | O30: =SUM(N30:N34) -> 225148000 | Q30: =M30*F30 -> 618800 | R30: =M30*G30 -> 0 | S30: =SUM(Q30:R30) -> 618800 | T30: =M30*I30 -> 8508500 | U30: =M30*J30 -> 8508500 | V30: =SUM(T30:U30) -> 17017000
E31: M | F31: 40 | H31: =SUM(F31:G31) -> 40 | I31: 550 | J31: 4800 | K31: =SUM(I31:J31) -> 5350 | L31: =K31+H31 -> 5390 | M31: ='ESTUDIO DE MERCADO '!U32 -> 15470 | N31: =M31*L31 -> 83383300 | Q31: =M31*F31 -> 618800 | R31: =M31*G31 -> 0 | S31: =SUM(Q31:R31) -> 618800 | T31: =M31*I31 -> 8508500 | U31: =M31*J31 -> 74256000 | V31: =SUM(T31:U31) -> 82764500
E32: L | F32: 20 | H32: =SUM(F32:G32) -> 20 | I32: 550 | J32: 2500 | K32: =SUM(I32:J32) -> 3050 | L32: =K32+H32 -> 3070 | M32: ='ESTUDIO DE MERCADO '!U33 -> 15470 | N32: =M32*L32 -> 47492900 | Q32: =M32*F32 -> 309400 | R32: =M32*G32 -> 0 | S32: =SUM(Q32:R32) -> 309400 | T32: =M32*I32 -> 8508500 | U32: =M32*J32 -> 38675000 | V32: =SUM(T32:U32) -> 47183500
B33: 8 | C33: =+C30 -> Bata quirúrgica no estéril en prolipropileno SMS no tejido de 35 a 40 gramos, con barrera antifluido con recubrimiento en polietileno resistencia de rasgado 55gr, en la parte frontal y media manga (del puño hasta el codo) uniones termo selladas en las mangas, manga larga, cuello redondo con ribete, con puño color blanco 100% resortado con ribete, cierre adhesivo altura del cuello (velcro)parte de atrás, cuatro(4) tiras de amarre de 35 cm, largo de la bata 1.40 cm color azul, empaque individual. | D33: =+D30 -> UNIDAD | E33: XL | H33: =SUM(F33:G33) -> 0 | I33: 550 | J33: 2800 | K33: =SUM(I33:J33) -> 3350 | L33: =K33+H33 -> 3350 | M33: ='ESTUDIO DE MERCADO '!U34 -> 16660 | N33: =M33*L33 -> 55811000 | Q33: =M33*F33 -> 0 | R33: =M33*G33 -> 0 | S33: =SUM(Q33:R33) -> 0 | T33: =M33*I33 -> 9163000 | U33: =M33*J33 -> 46648000 | V33: =SUM(T33:U33) -> 55811000
E34: XXL | H34: =SUM(F34:G34) -> 0 | I34: 550 | J34: 700 | K34: =SUM(I34:J34) -> 1250 | L34: =K34+H34 -> 1250 | M34: ='ESTUDIO DE MERCADO '!U35 -> 16660 | N34: =M34*L34 -> 20825000 | Q34: =M34*F34 -> 0 | R34: =M34*G34 -> 0 | S34: =SUM(Q34:R34) -> 0 | T34: =M34*I34 -> 9163000 | U34: =M34*J34 -> 11662000 | V34: =SUM(T34:U34) -> 20825000
B35: 9 | C35: ='ESPECIFICACIONES TECNICAS '!C35 -> Gorro desechable en polipropileno no tejido de 30 a 40 gramos, con elástico de sujeción que permita el fácil ajuste y comodidad. | D35: PAQUETE X 100 UNIDADES | E35: UNICA | F35: 1 | G35: 30 | H35: =SUM(F35:G35) -> 31 | I35: 500 | J35: 5 | K35: =SUM(I35:J35) -> 505 | L35: =K35+H35 -> 536 | M35: ='ESTUDIO DE MERCADO '!O36 -> 25634 | N35: =M35*L35 -> 13739824 | O35: =N35 -> 13739824 | Q35: =M35*F35 -> 25634 | R35: =M35*G35 -> 769020 | S35: =SUM(Q35:R35) -> 794654 | T35: =M35*I35 -> 12817000 | U35: =M35*J35 -> 128170 | V35: =SUM(T35:U35) -> 12945170
B36: 10 | C36: ='ESPECIFICACIONES TECNICAS '!C36 -> Polainas desechables elaboradas en SMS de 30 a 40 gm, resistente y antideslizante. Sistema elástico en la base para mayor firmeza, medidas talla única 16 x 41 cm, color azul, | D36: PAR | E36: UNICA | F36: 100 | G36: 10 | H36: =SUM(F36:G36) -> 110 | I36: 700 | K36: =SUM(I36:J36) -> 700 | L36: =K36+H36 -> 810 | M36: ='ESTUDIO DE MERCADO '!O37 -> 377 | N36: =M36*L36 -> 305370 | O36: =N36 -> 305370 | Q36: =M36*F36 -> 37700 | R36: =M36*G36 -> 3770 | S36: =SUM(Q36:R36) -> 41470 | T36: =M36*I36 -> 263900 | U36: =M36*J36 -> 0 | V36: =SUM(T36:U36) -> 263900
B37: 11 | C37: ='ESPECIFICACIONES TECNICAS '!C37:C39 -> Vestido cirujano, no estéril en polipropileno SMS no tejido de 30 a 40 gramos, pantalón largo y blusa manga corta, cuello en "V", color azul, desechable, en empaque individual. | D37: UNIDAD | E37: S | G37: 50 | H37: =SUM(F37:G37) -> 50 | I37: 300 | J37: 1000 | K37: =SUM(I37:J37) -> 1300 | L37: =K37+H37 -> 1350 | M37: ='ESTUDIO DE MERCADO '!O38 -> 4712 | N37: =M37*L37 -> 6361200 | O37: =SUM(N37:N39) -> 47355600 | Q37: =M37*F37 -> 0 | R37: =M37*G37 -> 235600 | S37: =SUM(Q37:R37) -> 235600 | T37: =M37*I37 -> 1413600 | U37: =M37*J37 -> 4712000 | V37: =SUM(T37:U37) -> 6125600
E38: M | G38: 50 | H38: =SUM(F38:G38) -> 50 | I38: 300 | J38: 4000 | K38: =SUM(I38:J38) -> 4300 | L38: =K38+H38 -> 4350 | M38: ='ESTUDIO DE MERCADO '!O39 -> 4712 | N38: =M38*L38 -> 20497200 | Q38: =M38*F38 -> 0 | R38: =M38*G38 -> 235600 | S38: =SUM(Q38:R38) -> 235600 | T38: =M38*I38 -> 1413600 | U38: =M38*J38 -> 18848000 | V38: =SUM(T38:U38) -> 20261600
E39: L | G39: 50 | H39: =SUM(F39:G39) -> 50 | I39: 300 | J39: 4000 | K39: =SUM(I39:J39) -> 4300 | L39: =K39+H39 -> 4350 | M39: ='ESTUDIO DE MERCADO '!O40 -> 4712 | N39: =M39*L39 -> 20497200 | Q39: =M39*F39 -> 0 | R39: =M39*G39 -> 235600 | S39: =SUM(Q39:R39) -> 235600 | T39: =M39*I39 -> 1413600 | U39: =M39*J39 -> 18848000 | V39: =SUM(T39:U39) -> 20261600
P40: TOTAL | Q40: =SUM(Q29:Q39) -> 1610334 | R40: =SUM(R29:R39) -> 5343590 | S40: =SUM(S29:S39) -> 6953924 | T40: =SUM(T29:T39) -> 70833200 | U40: =SUM(U29:U39) -> 224990470 | V40: =SUM(V29:V39) -> 295823670
B42: LOTE 3 | M42: VALOR PROMEDIO UNITARIO | N42: VALOR PROMEDIO POR ITEM | O42: VALOR PROMEDIO POR ITEM COMPLETO | P42: VALOR POR LOTE | Q42: REGIONALIZACION
B44: SERVICIO FORENSE: | F44: DIRECCION GENERAL-SSF | H44: CANTIDAD ESTIMADA SSF | I44: REGIONALES | L44: CANTIDADES ESTIMADAS | Q44: DIRECCION GENERAL-SSF | S44: VALOR SSF | T44: REGIONALES | W44: VALOR TOTAL
B45: ITEM | C45: DESCRIPCION | D45: PRESENTACION | E45: TALLA | F45: GRUPO NACIONAL DE PATOLOGÍA FORENSE | G45: GRUPO NACIONAL DE APOYO AL SISTEMA DE VERDAD JUSTICIA REPARACIÓN Y NO REPETICIÓN | I45: REGIONAL BOGOTA | J45: REGIONAL ORIENTE | K45: CANTIDAD ESTIMADA | Q45: GRUPO NACIONAL DE PATOLOGÍA FORENSE | R45: GRUPO NACIONAL DE APOYO AL SISTEMA DE VERDAD JUSTICIA REPARACIÓN Y NO REPETICIÓN | T45: REGIONAL BOGOTA | U45: REGIONAL ORIENTE | V45: VALOR REGIONALES
...
