Workbook

Sheet ProyecciónFinal_2025
B3: COSTOS FINALES - Matriz de Calculo - FDLB-ES-C-120-2025 - IDPyBA
B5: ITEM | C5: PRODUCTO O SERVICIO | D5: ESPECIFICACION TECNICA | E5: DESCRIPCION TECNICA | F5: UNIDAD DE MEDIDA A COTIZAR | G5: CANTIDAD A COTIZAR | H5: VALOR UNITARIO PROMEDIO O MEDIANA (INCLUIDO IVA SI APLICA) | I5: VALOR PROMEDIO O MEDIANA TOTAL (INCLUIDO IVA SI APLICA) | J5: FUENTE DE CONSULTA | K5: DESVIACIÓN ESTÁNDAR | L5: SI DESVEST ES >15% SE PROMEDIA CON MEDIANA | M5: Tecnica Utilizada
B6: =CosteoIndividual!B5 -> 1 | C6: =CosteoIndividual!C5 -> Esterilización quirúrgica | D6: =CosteoIndividual!D5 -> La esterilización para hembras (ovario histerectomia latero lateral derecha) y machos (orquiectomía) procedimientos tanto en caninos como en felinos. | E6: =CosteoIndividual!E5 -> Incluye todo lo necesario y requerido para realizar el procedimiento (infraestructura, insumos, personal medico y logistico), (el procedimeinto se realizara en UMQ) | F6: =CosteoIndividual!F5 -> Unidad | G6: =CosteoIndividual!G5 -> 1 | H6: =CosteoIndividual!K5 -> 197314 | I6: =CosteoIndividual!L5 -> 197314 | J6: =CosteoIndividual!M5 -> Proceso FDLB-ES-C-120-2025 - PYBA | K6: =CosteoIndividual!N5 -> 2970.8291 | L6: =CosteoIndividual!O5 -> 0.015056363 | M6: =IF(L6="","",IF(L6<0.15,"Promedio","Mediana")) -> Promedio
B7: =CosteoIndividual!B6 -> 2 | C7: =CosteoIndividual!C6 -> Suministro e implantación de microchip de identificación | D7: =CosteoIndividual!D6 -> Microchip Hitag- S256- Estándar ISO 11784/85 FDX-B, Frecuencia 132.2 kHz, Período de validez: toda la vida, tipo de recubrimiento del microchip: Parylene, Temperatura de funcionamiento -10°C hasta 45°C, certificado del comité Internacional de Registro de Animales (ICAR), tipo de esterilización Gas EO, material del aplicador: Polipropileno, dimensiones del microchip: Longitud: 8.0 a 12.0 mm +- 0.6mm, temperatura de almacenamiento -20°C hasta 50°C Se implantará el microchip bajo la piel de los animales mediante una inyección, procedimiento para caninos y felinos | E7: =CosteoIndividual!E6 -> INCLUYE MEDICAMENTO, MATERIALES Y/O INSUMOS, DILIGENCIAMIENTO DE DOCUMENTACIÓN FÍSICA Y/O DIGITAL RELACIONADA. | F7: =CosteoIndividual!F6 -> Unidad | G7: =CosteoIndividual!G6 -> 1 | H7: =CosteoIndividual!K6 -> 33089 | I7: =CosteoIndividual!L6 -> 33089 | J7: =CosteoIndividual!M6 -> Proceso FDLB-ES-C-120-2025 - PYBA | K7: =CosteoIndividual!N6 -> 341.86888 | L7: =CosteoIndividual!O6 -> 0.010331695 | M7: =IF(L7="","",IF(L7<0.15,"Promedio","Mediana")) -> Promedio
B8: =CosteoIndividual!B7 -> 3 | C8: =CosteoIndividual!C7 -> Suministro de Lector de Microchips | D8: =CosteoIndividual!D7 -> Lector de Microchips (un escáner lector de microchips de identificación de mascotas compatible con protocolo de 10 dígitos FDX-B de 15 dígitos y FDX-A (FECAVA) | E8: =CosteoIndividual!E7 -> 0 | F8: =CosteoIndividual!F7 -> Unidad | G8: =CosteoIndividual!G7 -> 1 | H8: =CosteoIndividual!K7 -> 301667 | I8: =CosteoIndividual!L7 -> 301667 | J8: =CosteoIndividual!M7 -> Proceso FDLB-ES-C-120-2025 - PYBA | K8: =CosteoIndividual!N7 -> 17559.423 | L8: =CosteoIndividual!O7 -> 0.058208032 | M8: =IF(L8="","",IF(L8<0.15,"Promedio","Mediana")) -> Promedio
B9: =CosteoIndividual!B8 -> 4 | C9: =CosteoIndividual!C8 -> VALORACIÓN MEDICO VETERINARIA | D9: =CosteoIndividual!D8 -> La valoración médico veterinaria incluye: Evaluación del estado general (observación de nivel de alerta, postura, movilidad, y apariencia general). Toma de constantes vitales (temperatura rectal, frecuencia cardiaca y frecuencia respiratoria) y ascultación del tórax. Revisión cabeza y cuello (ojos, oidos, nariz, boca, dientes, encias y ganglios linfáticos). Palpación de musculos, huesos, articulaciones piel, abdomen y evaluacion de extremidades (movilidad, fuerza muscular y reflejos) | E9: =CosteoIndividual!E8 -> INCLUYE EXPLORACIÓN CLÍNICA VETERINARIA COMPLETA, DILIGENCIAMIENTO DE FORMATO FÍSICO O DIGITAL | F9: =CosteoIndividual!F8 -> unidad | G9: =CosteoIndividual!G8 -> 1 | H9: =CosteoIndividual!K8 -> 146009 | I9: =CosteoIndividual!L8 -> 146009 | J9: =CosteoIndividual!M8 -> Proceso FDLB-ES-C-120-2025 - PYBA | K9: =CosteoIndividual!N8 -> 3040.3436 | L9: =CosteoIndividual!O8 -> 0.020823038 | M9: =IF(L9="","",IF(L9<0.15,"Promedio","Mediana")) -> Promedio
B10: =CosteoIndividual!B9 -> 5 | C10: =CosteoIndividual!C9 -> Vacunación caninos | D10: =CosteoIndividual!D9 -> Vacuna Triple Canina (inmunización activa contra moquillo, hepatitis infecciosa y complejo respiratorio causado por adenovirus tipo 2 y leptospirosis canina) | E10: =CosteoIndividual!E9 -> INCLUYE MEDICAMENTO, MATERIALES Y/O INSUMOS, DILIGENCIAMIENTO DE DOCUMENTACIÓN FÍSICA Y/O DIGITAL RELACIONADA. | F10: =CosteoIndividual!F9 -> unidad | G10: =CosteoIndividual!G9 -> 1 | H10: =CosteoIndividual!K9 -> 48025 | I10: =CosteoIndividual!L9 -> 48025 | J10: =CosteoIndividual!M9 -> Proceso FDLB-ES-C-120-2025 - PYBA | K10: =CosteoIndividual!N9 -> 8969.404 | L10: =CosteoIndividual!O9 -> 0.20694645 | M10: =IF(L10="","",IF(L10<0.15,"Promedio","Mediana")) -> Mediana
B11: =CosteoIndividual!B10 -> 6 | C11: =CosteoIndividual!C10 -> Vacunación caninos | D11: =CosteoIndividual!D10 -> Vacuna Parvovirus (vacuna contra parvovirosis canina) | E11: =CosteoIndividual!E10 -> 0 | F11: =CosteoIndividual!F10 -> unidad | G11: =CosteoIndividual!G10 -> 1 | H11: =CosteoIndividual!K10 -> 103148 | I11: =CosteoIndividual!L10 -> 103148 | J11: =CosteoIndividual!M10 -> Proceso FDLB-ES-C-120-2025 - PYBA | K11: =CosteoIndividual!N10 -> 105583.78 | L11: =CosteoIndividual!O10 -> 0.64740372 | M11: =IF(L11="","",IF(L11<0.15,"Promedio","Mediana")) -> Mediana
B12: =CosteoIndividual!B11 -> 7 | C12: =CosteoIndividual!C11 -> Vacunación caninos | D12: =CosteoIndividual!D11 -> Vacuna Pentavalente (contra cinco enfermedades infecciosas comunes: moquillo, hepatitis, parvovirus, parainfluenza y leptospirosis | E12: =CosteoIndividual!E11 -> 0 | F12: =CosteoIndividual!F11 -> unidad | G12: =CosteoIndividual!G11 -> 1 | H12: =CosteoIndividual!K11 -> 99297 | I12: =CosteoIndividual!L11 -> 99297 | J12: =CosteoIndividual!M11 -> Proceso FDLB-ES-C-120-2025 - PYBA | K12: =CosteoIndividual!N11 -> 2035.3298 | L12: =CosteoIndividual!O11 -> 0.020497449 | M12: =IF(L12="","",IF(L12<0.15,"Promedio","Mediana")) -> Promedio
B13: =CosteoIndividual!B12 -> 8 | C13: =CosteoIndividual!C12 -> Vacunación caninos | D13: =CosteoIndividual!D12 -> Vacuna tos de las perreras (Complejo Respiratorio causado por Adenovirus tipo 2 y Parainfluenza) | E13: =CosteoIndividual!E12 -> 0 | F13: =CosteoIndividual!F12 -> unidad | G13: =CosteoIndividual!G12 -> 1 | H13: =CosteoIndividual!K12 -> 92239 | I13: =CosteoIndividual!L12 -> 92239 | J13: =CosteoIndividual!M12 -> Proceso FDLB-ES-C-120-2025 - PYBA | K13: =CosteoIndividual!N12 -> 1950.4275 | L13: =CosteoIndividual!O12 -> 0.021145254 | M13: =IF(L13="","",IF(L13<0.15,"Promedio","Mediana")) -> Promedio
B14: =CosteoIndividual!B13 -> 9 | C14: =CosteoIndividual!C13 -> Vacunación felinos | D14: =CosteoIndividual!D13 -> Vacuna Leucemia felina (La vacunación con este producto previene la viremia persistente en gatos que se han expuesto al virus virulento de la Leucemia Felina) | E14: =CosteoIndividual!E13 -> INCLUYE MEDICAMENTO, MATERIALES Y/O INSUMOS, DILIGENCIAMIENTO DE DOCUMENTACIÓN FÍSICA Y/O DIGITAL RELACIONADA. | F14: =CosteoIndividual!F13 -> unidad | G14: =CosteoIndividual!G13 -> 1 | H14: =CosteoIndividual!K13 -> 105520 | I14: =CosteoIndividual!L13 -> 105520 | J14: =CosteoIndividual!M13 -> Proceso FDLB-ES-C-120-2025 - PYBA | K14: =CosteoIndividual!N13 -> 2679.0959 | L14: =CosteoIndividual!O13 -> 0.025389563 | M14: =IF(L14="","",IF(L14<0.15,"Promedio","Mediana")) -> Promedio
B15: =CosteoIndividual!B14 -> 10 | C15: =CosteoIndividual!C14 -> Vacunación felinos | D15: =CosteoIndividual!D14 -> Vacuna triple felina (Vacuna que protege a los felinos contra el moquillo (panleucopenia), la gripe felina (rinotraqueítis) y la calicivirus | E15: =CosteoIndividual!E14 -> 0 | F15: =CosteoIndividual!F14 -> unidad | G15: =CosteoIndividual!G14 -> 1 | H15: =CosteoIndividual!K14 -> 111807 | I15: =CosteoIndividual!L14 -> 111807 | J15: =CosteoIndividual!M14 -> Proceso FDLB-ES-C-120-2025 - PYBA | K15: =CosteoIndividual!N14 -> 2281.7365 | L15: =CosteoIndividual!O14 -> 0.020407894 | M15: =IF(L15="","",IF(L15<0.15,"Promedio","Mediana")) -> Promedio
B16: =CosteoIndividual!B15 -> 11 | C16: =CosteoIndividual!C15 -> Desparasitación interna de caninos y felinos | D16: =CosteoIndividual!D15 -> Desparasitación interna paciente talla pequeña (0 kg –10 kg) con la siguiente composición: (pirantel 5% + febantel 15% + praziquantel 5% - mezcla de tetrahidropirimidina + probenzimidazol + isoquinolina) | E16: =CosteoIndividual!E15 -> INCLUYE MEDICAMENTO DE AMPLIO ESPECTRO, MATERIALES Y/O INSUMOS, DILIGENCIAMIENTO DE DOCUMENTACIÓN FÍSICA Y/O DIGITAL RELACIONADA. | F16: =CosteoIndividual!F15 -> unidad | G16: =CosteoIndividual!G15 -> 1 | H16: =CosteoIndividual!K15 -> 43082 | I16: =CosteoIndividual!L15 -> 43082 | J16: =CosteoIndividual!M15 -> Proceso FDLB-ES-C-120-2025 - PYBA | K16: =CosteoIndividual!N15 -> 1491.1396 | L16: =CosteoIndividual!O15 -> 0.034611897 | M16: =IF(L16="","",IF(L16<0.15,"Promedio","Mediana")) -> Promedio
B17: =CosteoIndividual!B16 -> 12 | C17: =CosteoIndividual!C16 -> Desparasitación interna de caninos y felinos | D17: =CosteoIndividual!D16 -> Desparasitación interna paciente talla mediana (10 kg –25 kg) con la siguiente composición: (pirantel 5% + febantel 15% + praziquantel 5% - mezcla de tetrahidropirimidina + probenzimidazol + isoquinolina) | E17: =CosteoIndividual!E16 -> 0 | F17: =CosteoIndividual!F16 -> unidad | G17: =CosteoIndividual!G16 -> 1 | H17: =CosteoIndividual!K16 -> 55226 | I17: =CosteoIndividual!L16 -> 55226 | J17: =CosteoIndividual!M16 -> Proceso FDLB-ES-C-120-2025 - PYBA | K17: =CosteoIndividual!N16 -> 278785.83 | L17: =CosteoIndividual!O16 -> 1.2961457 | M17: =IF(L17="","",IF(L17<0.15,"Promedio","Mediana")) -> Mediana
... B298: =CosteoIndividual!B297 -> 293 | C298: =CosteoIndividual!C297 -> Nutricionista animal | D298: =CosteoIndividual!D297 -> Título profesional médico veterinario, médico veterinario zootecnista y/o zootecnista. Experiencia profesional mínima de tres (3) años a partir de la expedición de la tarjeta profesional. | E298: =CosteoIndividual!E297 -> Experiencia específica mínima de dos (2) años en nutrición animal en especies pequeñas. | F298: =CosteoIndividual!F297 -> Día | G298: =CosteoIndividual!G297 -> 1 | H298: =CosteoIndividual!K297 -> 537313 | I298: =CosteoIndividual!L297 -> 537313 | J298: =CosteoIndividual!M297 -> Proceso FDLB-ES-C-120-2025 - PYBA | K298: =CosteoIndividual!N297 -> 13642.018 | L298: =CosteoIndividual!O297 -> 0.025389343 | M298: =IF(L298="","",IF(L298<0.15,"Promedio","Mediana")) -> Promedio
H299: =SUM(H6:H298) -> 141604738 | I299: =SUM(I6:I298) -> 145044468
I302: Elaborado por: | J302: Lilian Adriana Mora Vanegas
J303: Profesional Planeación
J304: Lilian.mora@GobiernoBogota.Gov.Co

Sheet CosteoIndividual
B2: RESUMEN COTIZACIONES DE PRECIOS - Matriz de Calculo - FDLB-ES-C-120-2025 - IDPyBA
H3: IMPULSAR FUNDACION SOCIAL NIT: 900164390-6 | I3: DIRECCION Y GESTION DE PROYECTOS SAS NIT 901352122 | J3: AMCI Ingenieros SAS
B4: ITEM | C4: PRODUCTO O SERVICIO | D4: ESPECIFICACION TECNICA | E4: DESCRIPCION TECNICA | F4: UNIDAD DE MEDIDA A COTIZAR | G4: CANTIDAD A COTIZAR | H4: Cotización 1 VALOR UNITARIO (INCLUIDO IVA SI APLICA) | I4: Cotización 2 VALOR UNITARIO (INCLUIDO IVA SI APLICA) | J4: Cotización 3 VALOR UNITARIO (INCLUIDO IVA SI APLICA) | K4: VALOR UNITARIO PROMEDIO O MEDIANA (INCLUIDO IVA SI APLICA) | L4: VALOR PROMEDIO O MEDIANA TOTAL (INCLUIDO IVA SI APLICA) | M4: FUENTE DE CONSULTA | N4: DESVIACIÓN ESTÁNDAR | O4: SI DESVEST ES >15% SE PROMEDIA CON MEDIANA | Q4: Cotizaciones Elemento | R4: Probabilidad Ahorro
B5: 1 | C5: Esterilización quirúrgica | D5: La esterilización para hembras (ovario histerectomia latero lateral derecha) y machos (orquiectomía) procedimientos tanto en caninos como en felinos. | E5: Incluye todo lo necesario y requerido para realizar el procedimiento (infraestructura, insumos, personal medico y logistico), (el procedimeinto se realizara en UMQ) | F5: Unidad | G5: 1 | H5: 199881.59 | I5: 198000 | J5: 194060 | K5: =IFERROR(IF(O5>(0.15),ROUND(MEDIAN(H5:J5),0),ROUND(AVERAGE(H5:J5),0)),"") -> 197314 | L5: =IFERROR(K5*G5,"") -> 197314 | M5: Proceso FDLB-ES-C-120-2025 - PYBA | N5: =IFERROR(STDEV(H5:J5),"") -> 2970.8291 | O5: =IFERROR(N5/AVERAGE(H5:J5),"") -> 0.015056363 | Q5: =COUNTIF(H5:J5,">0") -> 3 | R5: =1-(MIN(H5:J5)/K5) -> 0.016491481
B6: 2 | C6: Suministro e implantación de microchip de identificación | D6: Microchip Hitag- S256- Estándar ISO 11784/85 FDX-B, Frecuencia 132.2 kHz, Período de validez: toda la vida, tipo de recubrimiento del microchip: Parylene, Temperatura de funcionamiento -10°C hasta 45°C, certificado del comité Internacional de Registro de Animales (ICAR), tipo de esterilización Gas EO, material del aplicador: Polipropileno, dimensiones del microchip: Longitud: 8.0 a 12.0 mm +- 0.6mm, temperatura de almacenamiento -20°C hasta 50°C Se implantará el microchip bajo la piel de los animales mediante una inyección, procedimiento para caninos y felinos | E6: INCLUYE MEDICAMENTO, MATERIALES Y/O INSUMOS, DILIGENCIAMIENTO DE DOCUMENTACIÓN FÍSICA Y/O DIGITAL RELACIONADA. | F6: Unidad | G6: 1 | H6: 33000 | I6: 33467 | J6: 32801 | K6: =IFERROR(IF(O6>(0.15),ROUND(MEDIAN(H6:J6),0),ROUND(AVERAGE(H6:J6),0)),"") -> 33089 | L6: =IFERROR(K6*G6,"") -> 33089 | M6: Proceso FDLB-ES-C-120-2025 - PYBA | N6: =IFERROR(STDEV(H6:J6),"") -> 341.86888 | O6: =IFERROR(N6/AVERAGE(H6:J6),"") -> 0.010331695 | Q6: =COUNTIF(H6:J6,">0") -> 3 | R6: =1-(MIN(H6:J6)/K6) -> 0.0087037988
B7: 3 | C7: Suministro de Lector de Microchips | D7: Lector de Microchips (un escáner lector de microchips de identificación de mascotas compatible con protocolo de 10 dígitos FDX-B de 15 dígitos y FDX-A (FECAVA) | F7: Unidad | G7: 1 | H7: 285000 | I7: 300000 | J7: 320000 | K7: =IFERROR(IF(O7>(0.15),ROUND(MEDIAN(H7:J7),0),ROUND(AVERAGE(H7:J7),0)),"") -> 301667 | L7: =IFERROR(K7*G7,"") -> 301667 | M7: Proceso FDLB-ES-C-120-2025 - PYBA | N7: =IFERROR(STDEV(H7:J7),"") -> 17559.423 | O7: =IFERROR(N7/AVERAGE(H7:J7),"") -> 0.058208032 | Q7: =COUNTIF(H7:J7,">0") -> 3 | R7: =1-(MIN(H7:J7)/K7) -> 0.055249663
B8: 4 | C8: VALORACIÓN MEDICO VETERINARIA | D8: La valoración médico veterinaria incluye: Evaluación del estado general (observación de nivel de alerta, postura, movilidad, y apariencia general). Toma de constantes vitales (temperatura rectal, frecuencia cardiaca y frecuencia respiratoria) y ascultación del tórax. Revisión cabeza y cuello (ojos, oidos, nariz, boca, dientes, encias y ganglios linfáticos). Palpación de musculos, huesos, articulaciones piel, abdomen y evaluacion de extremidades (movilidad, fuerza muscular y reflejos) | E8: INCLUYE EXPLORACIÓN CLÍNICA VETERINARIA COMPLETA, DILIGENCIAMIENTO DE FORMATO FÍSICO O DIGITAL | F8: unidad | G8: 1 | H8: 146900.95 | I8: 148503 | J8: 142622 | K8: =IFERROR(IF(O8>(0.15),ROUND(MEDIAN(H8:J8),0),ROUND(AVERAGE(H8:J8),0)),"") -> 146009 | L8: =IFERROR(K8*G8,"") -> 146009 | M8: Proceso FDLB-ES-C-120-2025 - PYBA | N8: =IFERROR(STDEV(H8:J8),"") -> 3040.3436 | O8: =IFERROR(N8/AVERAGE(H8:J8),"") -> 0.020823038 | Q8: =COUNTIF(H8:J8,">0") -> 3 | R8: =1-(MIN(H8:J8)/K8) -> 0.0231972
B9: 5 | C9: Vacunación caninos | D9: Vacuna Triple Canina (inmunización activa contra moquillo, hepatitis infecciosa y complejo respiratorio causado por adenovirus tipo 2 y leptospirosis canina) | E9: INCLUYE MEDICAMENTO, MATERIALES Y/O INSUMOS, DILIGENCIAMIENTO DE DOCUMENTACIÓN FÍSICA Y/O DIGITAL RELACIONADA. | F9: unidad | G9: 1 | H9: 33000 | I9: 49000 | J9: 48025 | K9: =IFERROR(IF(O9>(0.15),ROUND(MEDIAN(H9:J9),0),ROUND(AVERAGE(H9:J9),0)),"") -> 48025 | L9: =IFERROR(K9*G9,"") -> 48025 | M9: Proceso FDLB-ES-C-120-2025 - PYBA | N9: =IFERROR(STDEV(H9:J9),"") -> 8969.404 | O9: =IFERROR(N9/AVERAGE(H9:J9),"") -> 0.20694645 | Q9: =COUNTIF(H9:J9,">0") -> 3 | R9: =1-(MIN(H9:J9)/K9) -> 0.31285789
B10: 6 | C10: Vacunación caninos | D10: Vacuna Parvovirus (vacuna contra parvovirosis canina) | F10: unidad | G10: 1 | H10: 285000 | I10: 101116 | J10: 103148 | K10: =IFERROR(IF(O10>(0.15),ROUND(MEDIAN(H10:J10),0),ROUND(AVERAGE(H10:J10),0)),"") -> 103148 | L10: =IFERROR(K10*G10,"") -> 103148 | M10: Proceso FDLB-ES-C-120-2025 - PYBA | N10: =IFERROR(STDEV(H10:J10),"") -> 105583.78 | O10: =IFERROR(N10/AVERAGE(H10:J10),"") -> 0.64740372 | Q10: =COUNTIF(H10:J10,">0") -> 3 | R10: =1-(MIN(H10:J10)/K10) -> 0.019699849
B11: 7 | C11: Vacunación caninos | D11: Vacuna Pentavalente (contra cinco enfermedades infecciosas comunes: moquillo, hepatitis, parvovirus, parainfluenza y leptospirosis | F11: unidad | G11: 1 | H11: 99930.212 | I11: 97020 | J11: 100940 | K11: =IFERROR(IF(O11>(0.15),ROUND(MEDIAN(H11:J11),0),ROUND(AVERAGE(H11:J11),0)),"") -> 99297 | L11: =IFERROR(K11*G11,"") -> 99297 | M11: Proceso FDLB-ES-C-120-2025 - PYBA | N11: =IFERROR(STDEV(H11:J11),"") -> 2035.3298 | O11: =IFERROR(N11/AVERAGE(H11:J11),"") -> 0.020497449 | Q11: =COUNTIF(H11:J11,">0") -> 3 | R11: =1-(MIN(H11:J11)/K11) -> 0.022931206
B12: 8 | C12: Vacunación caninos | D12: Vacuna tos de las perreras (Complejo Respiratorio causado por Adenovirus tipo 2 y Parainfluenza) | F12: unidad | G12: 1 | H12: 91597.478 | I12: 94430 | J12: 90691 | K12: =IFERROR(IF(O12>(0.15),ROUND(MEDIAN(H12:J12),0),ROUND(AVERAGE(H12:J12),0)),"") -> 92239 | L12: =IFERROR(K12*G12,"") -> 92239 | M12: Proceso FDLB-ES-C-120-2025 - PYBA | N12: =IFERROR(STDEV(H12:J12),"") -> 1950.4275 | O12: =IFERROR(N12/AVERAGE(H12:J12),"") -> 0.021145254 | Q12: =COUNTIF(H12:J12,">0") -> 3 | R12: =1-(MIN(H12:J12)/K12) -> 0.016782489
B13: 9 | C13: Vacunación felinos | D13: Vacuna Leucemia felina (La vacunación con este producto previene la viremia persistente en gatos que se han expuesto al virus virulento de la Leucemia Felina) | E13: INCLUYE MEDICAMENTO, MATERIALES Y/O INSUMOS, DILIGENCIAMIENTO DE DOCUMENTACIÓN FÍSICA Y/O DIGITAL RELACIONADA. | F13: unidad | G13: 1 | H13: 102685.73 | I13: 108011 | J13: 105862 | K13: =IFERROR(IF(O13>(0.15),ROUND(MEDIAN(H13:J13),0),ROUND(AVERAGE(H13:J13),0)),"") -> 105520 | L13: =IFERROR(K13*G13,"") -> 105520 | M13: Proceso FDLB-ES-C-120-2025 - PYBA | N13: =IFERROR(STDEV(H13:J13),"") -> 2679.0959 | O13: =IFERROR(N13/AVERAGE(H13:J13),"") -> 0.025389563 | Q13: =COUNTIF(H13:J13,">0") -> 3 | R13: =1-(MIN(H13:J13)/K13) -> 0.026859992
B14: 10 | C14: Vacunación felinos | D14: Vacuna triple felina (Vacuna que protege a los felinos contra el moquillo (panleucopenia), la gripe felina (rinotraqueítis) y la calicivirus | F14: unidad | G14: 1 | H14: 109513.69 | I14: 111829 | J14: 114077 | K14: =IFERROR(IF(O14>(0.15),ROUND(MEDIAN(H14:J14),0),ROUND(AVERAGE(H14:J14),0)),"") -> 111807 | L14: =IFERROR(K14*G14,"") -> 111807 | M14: Proceso FDLB-ES-C-120-2025 - PYBA | N14: =IFERROR(STDEV(H14:J14),"") -> 2281.7365 | O14: =IFERROR(N14/AVERAGE(H14:J14),"") -> 0.020407894 | Q14: =COUNTIF(H14:J14,">0") -> 3 | R14: =1-(MIN(H14:J14)/K14) -> 0.020511306
B15: 11 | C15: Desparasitación interna de caninos y felinos | D15: Desparasitación interna paciente talla pequeña (0 kg –10 kg) con la siguiente composición: (pirantel 5% + febantel 15% + praziquantel 5% - mezcla de tetrahidropirimidina + probenzimidazol + isoquinolina) | E15: INCLUYE MEDICAMENTO DE AMPLIO ESPECTRO, MATERIALES Y/O INSUMOS, DILIGENCIAMIENTO DE DOCUMENTACIÓN FÍSICA Y/O DIGITAL RELACIONADA. | F15: unidad | G15: 1 | H15: 44505.118 | I15: 41531 | J15: 43209 | K15: =IFERROR(IF(O15>(0.15),ROUND(MEDIAN(H15:J15),0),ROUND(AVERAGE(H15:J15),0)),"") -> 43082 | L15: =IFERROR(K15*G15,"") -> 43082 | M15: Proceso FDLB-ES-C-120-2025 - PYBA | N15: =IFERROR(STDEV(H15:J15),"") -> 1491.1396 | O15: =IFERROR(N15/AVERAGE(H15:J15),"") -> 0.034611897 | Q15: =COUNTIF(H15:J15,">0") -> 3 | R15: =1-(MIN(H15:J15)/K15) -> 0.036001114
B16: 12 | C16: Desparasitación interna de caninos y felinos | D16: Desparasitación interna paciente talla mediana (10 kg –25 kg) con la siguiente composición: (pirantel 5% + febantel 15% + praziquantel 5% - mezcla de tetrahidropirimidina + probenzimidazol + isoquinolina) | F16: unidad | G16: 1 | H16: 537000 | I16: 55226 | J16: 53039 | K16: =IFERROR(IF(O16>(0.15),ROUND(MEDIAN(H16:J16),0),ROUND(AVERAGE(H16:J16),0)),"") -> 55226 | L16: =IFERROR(K16*G16,"") -> 55226 | M16: Proceso FDLB-ES-C-120-2025 - PYBA | N16: =IFERROR(STDEV(H16:J16),"") -> 278785.83 | O16: =IFERROR(N16/AVERAGE(H16:J16),"") -> 1.2961457 | Q16: =COUNTIF(H16:J16,">0") -> 3 | R16: =1-(MIN(H16:J16)/K16) -> 0.039600913
B17: 13 | C17: Desparasitación interna de caninos y felinos | D17: Desparasitación interna paciente talla grande(>25 kg) con la siguiente composición: (pirantel 5% + febantel 15% + praziquantel 5% - mezcla de tetrahidropirimidina + probenzimidazol + isoquinolina) | F17: unidad | G17: 1 | H17: 789000 | I17: 61793 | J17: 60563 | K17: =IFERROR(IF(O17>(0.15),ROUND(MEDIAN(H17:J17),0),ROUND(AVERAGE(H17:J17),0)),"") -> 61793 | L17: =IFERROR(K17*G17,"") -> 61793 | M17: Proceso FDLB-ES-C-120-2025 - PYBA | N17: =IFERROR(STDEV(H17:J17),"") -> 420208.68 | O17: =IFERROR(N17/AVERAGE(H17:J17),"") -> 1.3832422 | Q17: =COUNTIF(H17:J17,">0") -> 3 | R17: =1-(MIN(H17:J17)/K17) -> 0.019905167
B18: 14 | C18: Desparasitación externa de caninos y felinos | D18: Desparasitación externa paciente talla pequeña (0 kg –10 kg) esafoxolaner, eprinomectina, fluralaner, sarolaner (via oral) | E18: INCLUYE PERSONAL MÉDICO, MEDICAMENTO, MATERIALES Y/O INSUMOS, DILIGENCIAMIENTO DE DOCUMENTACIÓN FÍSICA Y/O DIGITAL RELACIONADA. | F18: unidad | G18: 1 | H18: 67905.609 | I18: 67240 | J18: 68592 | K18: =IFERROR(IF(O18>(0.15),ROUND(MEDIAN(H18:J18),0),ROUND(AVERAGE(H18:J18),0)),"") -> 67913 | L18: =IFERROR(K18*G18,"") -> 67913 | M18: Proceso FDLB-ES-C-120-2025 - PYBA | N18: =IFERROR(STDEV(H18:J18),"") -> 676.02662 | O18: =IFERROR(N18/AVERAGE(H18:J18),"") -> 0.0099543716 | Q18: =COUNTIF(H18:J18,">0") -> 3 | R18: =1-(MIN(H18:J18)/K18) -> 0.0099097375
B19: 15 | C19: Desparasitación externa de caninos y felinos | D19: Desparasitación externa paciente talla mediana (>10 kg -25 kg) esafoxolaner, eprinomectina, fluralaner, sarolaner (via oral) | F19: unidad | G19: 1 | H19: 84679.04 | I19: 80585 | J19: 83841 | K19: =IFERROR(IF(O19>(0.15),ROUND(MEDIAN(H19:J19),0),ROUND(AVERAGE(H19:J19),0)),"") -> 83035 | L19: =IFERROR(K19*G19,"") -> 83035 | M19: Proceso FDLB-ES-C-120-2025 - PYBA | N19: =IFERROR(STDEV(H19:J19),"") -> 2162.7534 | O19: =IFERROR(N19/AVERAGE(H19:J19),"") -> 0.026046282 | Q19: =COUNTIF(H19:J19,">0") -> 3 | R19: =1-(MIN(H19:J19)/K19) -> 0.02950563
B20: 16 | C20: Desparasitación externa de caninos y felinos | D20: Desparasitación externa paciente talla grande (>25 kg) con: esafoxolaner, eprinomectina, fluralaner, sarolaner (via oral) | F20: unidad | G20: 1 | H20: 89793.904 | I20: 96388 | J20: 92571 | K20: =IFERROR(IF(O20>(0.15),ROUND(MEDIAN(H20:J20),0),ROUND(AVERAGE(H20:J20),0)),"") -> 92918 | L20: =IFERROR(K20*G20,"") -> 92918 | M20: Proceso FDLB-ES-C-120-2025 - PYBA | N20: =IFERROR(STDEV(H20:J20),"") -> 3310.686 | O20: =IFERROR(N20/AVERAGE(H20:J20),"") -> 0.03563033 | Q20: =COUNTIF(H20:J20,">0") -> 3 | R20: =1-(MIN(H20:J20)/K20) -> 0.033622074
B21: 17 | C21: Suplementos Nutricionales | D21: Ácido pantoténico, Biotina, Tiamina clorhidrato (B1), Riboflavina (B2), Piridoxina clorhidrato (B6), Cianocobalamina (B12), Niacinamida, Glicerofosfato de calcio, Glicerofosfato de manganeso, Glicerofosfato de potasio 75%, Glicerofosfato de sodio, Ácido cítrico anhidro, Ácido láctico | E21: Frasco 100 ml | F21: Mililitro | G21: 1 | H21: 14113.44 | I21: 15000 | J21: 14702 | K21: =IFERROR(IF(O21>(0.15),ROUND(MEDIAN(H21:J21),0),ROUND(AVERAGE(H21:J21),0)),"") -> 14605 | L21: =IFERROR(K21*G21,"") -> 14605 | M21: Proceso FDLB-ES-C-120-2025 - PYBA | N21: =IFERROR(STDEV(H21:J21),"") -> 451.14586 | O21: =IFERROR(N21/AVERAGE(H21:J21),"") -> 0.030889512 | Q21: =COUNTIF(H21:J21,">0") -> 3 | R21: =1-(MIN(H21:J21)/K21) -> 0.033656967
B22: 18 | C22: VALORACIÓN MEDICO VETERINARIA | D22: La valoración médico veterinaria incluye: Evaluación del estado general (observación de nivel de alerta, postura, movilidad, y apariencia general). Toma de constantes vitales (temperatura rectal, frecuencia cardiaca y frecuencia respiratoria) y ascultación del tórax. Revisión cabeza y cuello (ojos, oidos, nariz, boca, dientes, encias y ganglios linfáticos). Palpación de musculos, huesos, articulaciones piel, abdomen y evaluacion de extremidades (movilidad, fuerza muscular y reflejos) | E22: INCLUYE EXPLORACIÓN CLÍNICA VETERINARIA COMPLETA, DILIGENCIAMIENTO DE FORMATO FÍSICO O DIGITAL | F22: Unidad | G22: 1 | H22: 142622.28 | I22: 145532.94 | J22: 148503 | K22: =IFERROR(IF(O22>(0.15),ROUND(MEDIAN(H22:J22),0),ROUND(AVERAGE(H22:J22),0)),"") -> 145553 | L22: =IFERROR(K22*G22,"") -> 145553 | M22: Proceso FDLB-ES-C-120-2025 - PYBA | N22: =IFERROR(STDEV(H22:J22),"") -> 2940.4094 | O22: =IFERROR(N22/AVERAGE(H22:J22),"") -> 0.020201677 | Q22: =COUNTIF(H22:J22,">0") -> 3 | R22: =1-(MIN(H22:J22)/K22) -> 0.020135063
B23: 19 | C23: Hospitalización | D23: HOSPITALIZACIÓN DIARIA PACIENTE TALLA PEQUEÑO (0 KG – 10 KG) | E23: INCLUYE PERSONAL MÉDICO, CANIL Ó GATIL, TODOS LOS INSUMOS, ALIMENTOS Y/O MEDICAMENTOS QUE REQUIERE EL PACIENTE PARA SU ADECUARA RECUPERACIÓN DILIGENCIAMIENTO DE DOCUMENTACIÓN FÍSICA Y/O DIGITAL RELACIONADA. | F23: Unidad | G23: 1 | H23: 247844.52 | I23: 245390.61 | J23: 242961 | K23: =IFERROR(IF(O23>(0.15),ROUND(MEDIAN(H23:J23),0),ROUND(AVERAGE(H23:J23),0)),"") -> 245399 | L23: =IFERROR(K23*G23,"") -> 245399 | M23: Proceso FDLB-ES-C-120-2025 - PYBA | N23: =IFERROR(STDEV(H23:J23),"") -> 2441.7681 | O23: =IFERROR(N23/AVERAGE(H23:J23),"") -> 0.0099502077 | Q23: =COUNTIF(H23:J23,">0") -> 3 | R23: =1-(MIN(H23:J23)/K23) -> 0.0099348408
B24: 20 | C24: Hospitalización | D24: HOSPITALIZACIÓN DIARIA PACIENTE TALLA MEDIANA (>10 KG – 25 KG) | F24: Unidad | G24: 1 | H24: 300135.13 | I24: 307830.9 | J24: 315724 | K24: =IFERROR(IF(O24>(0.15),ROUND(MEDIAN(H24:J24),0),ROUND(AVERAGE(H24:J24),0)),"") -> 307897 | L24: =IFERROR(K24*G24,"") -> 307897 | M24: Proceso FDLB-ES-C-120-2025 - PYBA | N24: =IFERROR(STDEV(H24:J24),"") -> 7794.6444 | O24: =IFERROR(N24/AVERAGE(H24:J24),"") -> 0.02531578 | Q24: =COUNTIF(H24:J24,">0") -> 3 | R24: =1-(MIN(H24:J24)/K24) -> 0.025209315
B25: 21 | C25: Hospitalización | D25: HOSPITALIZACIÓN DIARIA PACIENTE TALLA GRANDE (>25 KG) | F25: Unidad | G25: 1 | H25: 366947.28 | I25: 349473.6 | J25: 332832 | K25: =IFERROR(IF(O25>(0.15),ROUND(MEDIAN(H25:J25),0),ROUND(AVERAGE(H25:J25),0)),"") -> 349751 | L25: =IFERROR(K25*G25,"") -> 349751 | M25: Proceso FDLB-ES-C-120-2025 - PYBA | N25: =IFERROR(STDEV(H25:J25),"") -> 17059.331 | O25: =IFERROR(N25/AVERAGE(H25:J25),"") -> 0.048775652 | Q25: =COUNTIF(H25:J25,">0") -> 3 | R25: =1-(MIN(H25:J25)/K25) -> 0.048374415
B26: 22 | C26: Alojamiento | D26: ALOJAMIENTO DIARIA PACIENTE TALLA PEQUEÑA (<10 KG) | E26: INCLUYE CANIL Ó GATIL, ALIMENTACIÓN Y OBSERVACIÓN DEL PACIENTE, DILIGENCIAMIENTO DE DOCUMENTACIÓN FÍSICA Y/O DIGITAL RELACIONADA. | F26: Unidad | G26: 1 | H26: 76016.556 | I26: 76784.4 | J26: 77560 | K26: =IFERROR(IF(O26>(0.15),ROUND(MEDIAN(H26:J26),0),ROUND(AVERAGE(H26:J26),0)),"") -> 76787 | L26: =IFERROR(K26*G26,"") -> 76787 | M26: Proceso FDLB-ES-C-120-2025 - PYBA | N26: =IFERROR(STDEV(H26:J26),"") -> 771.72525 | O26: =IFERROR(N26/AVERAGE(H26:J26),"") -> 0.010050209 | Q26: =COUNTIF(H26:J26,">0") -> 3 | R26: =1-(MIN(H26:J26)/K26) -> 0.010033521
B27: 23 | C27: Alojamiento | D27: ALOJAMIENTO DIARIA PACIENTE TALLA MEDIANA (>10KG - 25 KG) | F27: Unidad | G27: 1 | H27: 104498.02 | I27: 103463.39 | J27: 102439 | K27: =IFERROR(IF(O27>(0.15),ROUND(MEDIAN(H27:J27),0),ROUND(AVERAGE(H27:J27),0)),"") -> 103467 | L27: =IFERROR(K27*G27,"") -> 103467 | M27: Proceso FDLB-ES-C-120-2025 - PYBA | N27: =IFERROR(STDEV(H27:J27),"") -> 1029.5162 | O27: =IFERROR(N27/AVERAGE(H27:J27),"") -> 0.0099502077 | Q27: =COUNTIF(H27:J27,">0") -> 3 | R27: =1-(MIN(H27:J27)/K27) -> 0.009935535
B28: 24 | C28: Alojamiento | D28: ALOJAMIENTO DIARIA PACIENTE TALLA GRANDE (>25 KG) | F28: Unidad | G28: 1 | H28: 106113.51 | I28: 107729.45 | J28: 109370 | K28: =IFERROR(IF(O28>(0.15),ROUND(MEDIAN(H28:J28),0),ROUND(AVERAGE(H28:J28),0)),"") -> 107738 | L28: =IFERROR(K28*G28,"") -> 107738 | M28: Proceso FDLB-ES-C-120-2025 - PYBA | N28: =IFERROR(STDEV(H28:J28),"") -> 1628.2614 | O28: =IFERROR(N28/AVERAGE(H28:J28),"") -> 0.015113206 | Q28: =COUNTIF(H28:J28,">0") -> 3 | R28: =1-(MIN(H28:J28)/K28) -> 0.015078169
B29: 25 | C29: Cuidado crítico | D29: UNIDAD DE CUIDADOS INTENSIVOS PACIENTE TALLA PEQUEÑA (0 KG – 10 KG) | E29: INCLUYE, PERSONAL MÉDICO, BOMBA DE INFUSIÓN, OXIGENO PERMANENTE, MONITOR DE SIGNOS VITALES, INCLUYE TODOS LOS INSUMOS, ALIMENTOS Y/O MEDICAMENTOS QUE REQUIERE EL PACIENTE PARA SU ADECUADA RECUPERACIÓN, DILIGENCIAMIENTO DE DOCUMENTACIÓN | F29: Unidad | G29: 1 | H29: 342189.83 | I29: 350963.92 | J29: 359963 | K29: =IFERROR(IF(O29>(0.15),ROUND(MEDIAN(H29:J29),0),ROUND(AVERAGE(H29:J29),0)),"") -> 351039 | L29: =IFERROR(K29*G29,"") -> 351039 | M29: Proceso FDLB-ES-C-120-2025 - PYBA | N29: =IFERROR(STDEV(H29:J29),"") -> 8886.8239 | O29: =IFERROR(N29/AVERAGE(H29:J29),"") -> 0.02531578 | Q29: =COUNTIF(H29:J29,">0") -> 3 | R29: =1-(MIN(H29:J29)/K29) -> 0.025208518
B30: 26 | C30: Cuidado crítico | D30: UNIDAD DE CUIDADOS INTENSIVOS PACIENTE TALLA MEDIANA (>10 KG - 25 KG) | F30: Unidad | G30: 1 | H30: 412353.23 | I30: 392717.36 | J30: 400732 | K30: =IFERROR(IF(O30>(0.15),ROUND(MEDIAN(H30:J30),0),ROUND(AVERAGE(H30:J30),0)),"") -> 401934 | L30: =IFERROR(K30*G30,"") -> 401934 | M30: Proceso FDLB-ES-C-120-2025 - PYBA | N30: =IFERROR(STDEV(H30:J30),"") -> 9872.9826 | O30: =IFERROR(N30/AVERAGE(H30:J30),"") -> 0.024563679 | Q30: =COUNTIF(H30:J30,">0") -> 3 | R30: =1-(MIN(H30:J30)/K30) -> 0.02293073
B31: 27 | C31: Cuidado crítico | D31: UNIDAD DE CUIDADOS INTENSIVOS PACIENTE TALLA GRANDE (>25 KG) | F31: Unidad | G31: 1 | H31: 451707.82 | I31: 456270.53 | J31: 451753 | K31: =IFERROR(IF(O31>(0.15),ROUND(MEDIAN(H31:J31),0),ROUND(AVERAGE(H31:J31),0)),"") -> 453244 | L31: =IFERROR(K31*G31,"") -> 453244 | M31: Proceso FDLB-ES-C-120-2025 - PYBA | N31: =IFERROR(STDEV(H31:J31),"") -> 2621.3355 | O31: =IFERROR(N31/AVERAGE(H31:J31),"") -> 0.0057835001 | Q31: =COUNTIF(H31:J31,">0") -> 3 | R31: =1-(MIN(H31:J31)/K31) -> 0.0033892899
B32: 28 | C32: Sedación | D32: Sedación paciente talla pequeña (0 KG – 10 KG) | E32: INCLUYE PERSONAL MÉDICO, MEDICAMENTOS, INSUMOS, DILIGENCIAMIENTO DE DOCUMENTACIÓN FÍSICA Y/O DIGITAL RELACIONADA. | F32: Unidad | G32: 1 | H32: 287902.49 | I32: 285051.97 | J32: 292361 | K32: =IFERROR(IF(O32>(0.15),ROUND(MEDIAN(H32:J32),0),ROUND(AVERAGE(H32:J32),0)),"") -> 288438 | L32: =IFERROR(K32*G32,"") -> 288438 | M32: Proceso FDLB-ES-C-120-2025 - PYBA | N32: =IFERROR(STDEV(H32:J32),"") -> 3683.8743 | O32: =IFERROR(N32/AVERAGE(H32:J32),"") -> 0.012771785 | Q32: =COUNTIF(H32:J32,">0") -> 3 | R32: =1-(MIN(H32:J32)/K32) -> 0.011739178
B33: 29 | C33: Sedación | D33: Sedación paciente talla mediana (>10 KG - 25 KG) | F33: Unidad | G33: 1 | H33: 364963.04 | I33: 370520.85 | J33: 352877 | K33: =IFERROR(IF(O33>(0.15),ROUND(MEDIAN(H33:J33),0),ROUND(AVERAGE(H33:J33),0)),"") -> 362787 | L33: =IFERROR(K33*G33,"") -> 362787 | M33: Proceso FDLB-ES-C-120-2025 - PYBA | N33: =IFERROR(STDEV(H33:J33),"") -> 9020.9665 | O33: =IFERROR(N33/AVERAGE(H33:J33),"") -> 0.024865741 | Q33: =COUNTIF(H33:J33,">0") -> 3 | R33: =1-(MIN(H33:J33)/K33) -> 0.027316304
B34: 30 | C34: Sedación | D34: Sedación paciente talla grande (>25 KG) | F34: Unidad | G34: 1 | H34: 419406.06 | I34: 415253.52 | J34: 419448 | K34: =IFERROR(IF(O34>(0.15),ROUND(MEDIAN(H34:J34),0),ROUND(AVERAGE(H34:J34),0)),"") -> 418036 | L34: =IFERROR(K34*G34,"") -> 418036 | M34: Proceso FDLB-ES-C-120-2025 - PYBA | N34: =IFERROR(STDEV(H34:J34),"") -> 2409.667 | O34: =IFERROR(N34/AVERAGE(H34:J34),"") -> 0.0057642591 | Q34: =COUNTIF(H34:J34,">0") -> 3 | R34: =1-(MIN(H34:J34)/K34) -> 0.0066560775
B35: 31 | C35: Anestesia | D35: ANESTESIA GENERAL INHALADA PACIENTE TALLA PEQUEÑA (0 KG – 10 KG) | E35: INCLUYE PERSONAL MÉDICO, USO DE QUIRÓFANO, EQUIPOS, MONITOR DE SIGNOS VITALES, MEDICAMENTOS, INSUMOS, DILIGENCIAMIENTO DE DOCUMENTACIÓN FÍSICA Y/O DIGITAL RELACIONADA. | F35: Unidad | G35: 1 | H35: 348197.5 | I35: 353500 | J35: 455000 | K35: =IFERROR(IF(O35>(0.15),ROUND(MEDIAN(H35:J35),0),ROUND(AVERAGE(H35:J35),0)),"") -> 353500 | L35: =IFERROR(K35*G35,"") -> 353500 | M35: Proceso FDLB-ES-C-120-2025 - PYBA | N35: =IFERROR(STDEV(H35:J35),"") -> 60190.172 | O35: =IFERROR(N35/AVERAGE(H35:J35),"") -> 0.15610868 | Q35: =COUNTIF(H35:J35,">0") -> 3 | R35: =1-(MIN(H35:J35)/K35) -> 0.015
B36: 32 | C36: Anestesia | D36: ANESTESIA GENERAL INHALADA PACIENTE TALLA MEDIANA (>10 KG - 25 KG) | F36: Unidad | G36: 1 | H36: 397940 | I36: 394000 | J36: 520000 | K36: =IFERROR(IF(O36>(0.15),ROUND(MEDIAN(H36:J36),0),ROUND(AVERAGE(H36:J36),0)),"") -> 397940 | L36: =IFERROR(K36*G36,"") -> 397940 | M36: Proceso FDLB-ES-C-120-2025 - PYBA | N36: =IFERROR(STDEV(H36:J36),"") -> 71635.847 | O36: =IFERROR(N36/AVERAGE(H36:J36),"") -> 0.16380897 | Q36: =COUNTIF(H36:J36,">0") -> 3 | R36: =1-(MIN(H36:J36)/K36) -> 0.0099009901
B37: 33 | C37: Anestesia | D37: ANESTESIA GENERAL INHALADA PACIENTE TALLA GRANDE (>25 KG) | F37: Unidad | G37: 1 | H37: 456300 | I37: 468000 | J37: 624000 | K37: =IFERROR(IF(O37>(0.15),ROUND(MEDIAN(H37:J37),0),ROUND(AVERAGE(H37:J37),0)),"") -> 468000 | L37: =IFERROR(K37*G37,"") -> 468000 | M37: Proceso FDLB-ES-C-120-2025 - PYBA | N37: =IFERROR(STDEV(H37:J37),"") -> 93627.079 | O37: =IFERROR(N37/AVERAGE(H37:J37),"") -> 0.18141267 | Q37: =COUNTIF(H37:J37,">0") -> 3 | R37: =1-(MIN(H37:J37)/K37) -> 0.025
B38: 34 | C38: Ecografía abdominal | D38: Procedimiento no invasivo que permite visualizar los órganos internos del abdomen, como el hígado, los riñones, el estómago y los intestinos, para detectar anomalías o enfermedades. | E38: INCLUYE PERSONAL MÉDICO, INSUMOS Y/O MATERIALES, INFORME E INTERPRETACIÓN, DILIGENCIAMIENTO DE DOCUMENTACIÓN FÍSICA Y/O DIGITAL RELACIONADA. | F38: Unidad | G38: 1 | H38: 263297.43 | I38: 250759.46 | J38: 255877 | K38: =IFERROR(IF(O38>(0.15),ROUND(MEDIAN(H38:J38),0),ROUND(AVERAGE(H38:J38),0)),"") -> 256645 | L38: =IFERROR(K38*G38,"") -> 256645 | M38: Proceso FDLB-ES-C-120-2025 - PYBA | N38: =IFERROR(STDEV(H38:J38),"") -> 6304.1363 | O38: =IFERROR(N38/AVERAGE(H38:J38),"") -> 0.024563679 | Q38: =COUNTIF(H38:J38,">0") -> 3 | R38: =1-(MIN(H38:J38)/K38) -> 0.022932611
B39: 35 | C39: Ecocardiograma doppler | D39: Tipo de ecografía que utiliza ondas sonoras para crear imágenes del corazón y evaluar el flujo sanguíneo. La técnica Doppler, en particular, mide la velocidad y la dirección del flujo sanguíneo | F39: Unidad | G39: 1 | H39: 638473.15 | I39: 644922.37 | J39: 638537 | K39: =IFERROR(IF(O39>(0.15),ROUND(MEDIAN(H39:J39),0),ROUND(AVERAGE(H39:J39),0)),"") -> 640644 | L39: =IFERROR(K39*G39,"") -> 640644 | M39: Proceso FDLB-ES-C-120-2025 - PYBA | N39: =IFERROR(STDEV(H39:J39),"") -> 3705.1656 | O39: =IFERROR(N39/AVERAGE(H39:J39),"") -> 0.0057835001 | Q39: =COUNTIF(H39:J39,">0") -> 3 | R39: =1-(MIN(H39:J39)/K39) -> 0.0033885492
B40: 36 | C40: Radiografia | D40: RADIOGRAFIA PEQUEÑA (PACIENTE TALLA PEQUEÑA (0 KG – 10 KG) | E40: INCLUYE PERSONAL MÉDICO, INSUMOS Y/O MATERIALES, INFORME E INTERPRETACIÓN, ENTREGA DE IMÁGENES RADIOGRÁFICAS EN FORMATO DE ALTA CALIDAD EN MEDIO MAGNÉTICO, DILIGENCIAMIENTO DE DOCUMENTACIÓN FÍSICA Y/O DIGITAL RELACIONADA. | F40: Unidad | G40: 1 | H40: 150739.62 | I40: 149247.15 | J40: 153074 | K40: =IFERROR(IF(O40>(0.15),ROUND(MEDIAN(H40:J40),0),ROUND(AVERAGE(H40:J40),0)),"") -> 151020 | L40: =IFERROR(K40*G40,"") -> 151020 | M40: Proceso FDLB-ES-C-120-2025 - PYBA | N40: =IFERROR(STDEV(H40:J40),"") -> 1928.7982 | O40: =IFERROR(N40/AVERAGE(H40:J40),"") -> 0.012771785 | Q40: =COUNTIF(H40:J40,">0") -> 3 | R40: =1-(MIN(H40:J40)/K40) -> 0.011739174
B41: 37 | C41: Radiografia | D41: RADIOGRAFIA MEDIANA (PACIENTE TALLA MEDIANA (>10 KG – 25 KG) | F41: Unidad | G41: 1 | H41: 158239.22 | I41: 160648.95 | J41: 152999 | K41: =IFERROR(IF(O41>(0.15),ROUND(MEDIAN(H41:J41),0),ROUND(AVERAGE(H41:J41),0)),"") -> 157296 | L41: =IFERROR(K41*G41,"") -> 157296 | M41: Proceso FDLB-ES-C-120-2025 - PYBA | N41: =IFERROR(STDEV(H41:J41),"") -> 3911.2746 | O41: =IFERROR(N41/AVERAGE(H41:J41),"") -> 0.024865741 | Q41: =COUNTIF(H41:J41,">0") -> 3 | R41: =1-(MIN(H41:J41)/K41) -> 0.027317923
...

Sheet Historicos
A3: No. | B3: Año | C3: Proceso | D3: Valor proceso | E3: Canon de arrendamiento | F3: Valor Canon 2025
A4: 1 | B4: 2024 | C4: 643-2024 CTO-ARRE (122973) | D4: 168313600 | E4: =D4/8 -> 21039200 | F4: =E4 * (1+$B$8) -> 21884976
A6: IPC 2023 | B6: 0.1099
A7: IPC 2024 | B7: 0.0458
A8: IPC 2025 | B8: 0.0402

Sheet Hoja2
A2: Proveedores | B2: 500
A3: Cotizaciones | B3: 1

Sheet Hoja1
A2: Proveedores | B2: 916
A3: Cotizaciones | B3: 1
