Workbook
Name separador: 'Resumen entregables'!$F$1

Sheet Cronograma
A1: POA | I1: 2025 | AJ1: 2026 | CJ1: 2027
A2: Objetivos Específicos | B2: Fases | C2: Actividades Clave | D2: Descripción de la actividad | E2: Hito | F2: Entregables | G2: Ponderación general | H2: Ponderación específica | I2: Julio | N2: Agos | R2: Sept | V2: Oct | AA2: Nov | AE2: Dic | AJ2: Ene | AN2: Feb | AR2: Mar | AV2: Abril | BA2: Mayo | BE2: Junio | BI2: Julio | BN2: Agos | BR2: Sept | BW2: Oct | CA2: Nov | CE2: Dic | CJ2: Ene | CN2: Feb | CR2: Mar | CW2: Abril | DA2: Mayo | DE2: Junio | DJ2: Julio | DN2: Agosto
I3: S1 | J3: S2 | K3: S3 | L3: S4 | M3: S5 | N3: S1 | O3: S2 | P3: S3 | Q3: S4 | R3: S1 | S3: S2 | T3: S3 | U3: S4 | V3: S1 | W3: S2 | X3: S3 | Y3: S4 | Z3: S5 | AA3: S1 | AB3: S2 | AC3: S3 | AD3: S4 | AE3: S1 | AF3: S2 | AG3: S3 | AH3: S4 | AI3: S5 | AJ3: S1 | AK3: S2 | AL3: S3 | AM3: S4 | AN3: S1 | AO3: S2 | AP3: S3 | AQ3: S4 | AR3: S1 | AS3: S2 | AT3: S3 | AU3: S4 | AV3: S1 | AW3: S2 | AX3: S3 | AY3: S4 | AZ3: S5 | BA3: S1 | BB3: S2 | BC3: S3 | BD3: S4 | BE3: S1 | BF3: S2 | BG3: S3 | BH3: S4 | BI3: S1 | BJ3: S2 | BK3: S3 | BL3: S4 | BM3: S5 | BN3: S1 | BO3: S2 | BP3: S3 | BQ3: S4 | BR3: S1 | BS3: S2 | BT3: S3 | BU3: S4 | BV3: S5 | BW3: S1 | BX3: S2 | BY3: S3 | BZ3: S4 | CA3: S1 | CB3: S2 | CC3: S3 | CD3: S4 | CE3: S1 | CF3: S2 | CG3: S3 | CH3: S4 | CI3: S5 | CJ3: S1 | CK3: S2 | CL3: S3 | CM3: S4 | CN3: S1 | CO3: S2 | CP3: S3 | CQ3: S4 | CR3: S1 | CS3: S2 | CT3: S3 | CU3: S4 | CV3: S5 | CW3: S1 | CX3: S2 | CY3: S3 | CZ3: S4 | DA3: S1 | DB3: S2 | DC3: S3 | DD3: S4 | DE3: S1 | DF3: S2 | DG3: S3 | DH3: S4 | DI3: S5 | DJ3: S1 | DK3: S2 | DL3: S3 | DM3: S4 | DN3: S1 | DO3: S2 | DP3: S3 | DQ3: S4
A4: Fase 0 | B4: Planeación del proyecto | C4: Contratación del equipo de trabajo | D4: Se realizará la selección y contratación del equipo de trabajo correspondiente a: *Gerente general de la iniciativa *Coordinador de ecosistemas *Coordinador de productividad e innovación *Coordinador de encadenamientos productivos *Gestores de apropiación social de conocimiento (2) *Profesional de sistemas de información | E4: Planeación del proyecto realizada | F4: Contratos del equipo de trabajo | G4: =SUM(H4:H7) -> 0.04 | H4: 0.01
C5: Plan operativo detallado | D5: Se diseñará el plan operativo detallado del proyecto, relacionando los componentes, actividades, entregables y fechas en que se desarrollará la iniciativa | F5: Documento de excel con el plan operativo | H5: 0.01
C6: Diseño de estrategia de comunicación y divulgación del programa | D6: Definición de un plan de comunicaciones con el diseño y despliegue de un plan de comunicación pública completamente alineado con los objetivos y actividades del proyecto. Este plan contiene el modelo de comunicación con el diseño de marca, cronograma, plan de medios, mapa de públicos, bancos de piezas de comunicaciones y base de datos | F6: Documento con el plan de comunicaciones | H6: 0.01
C7: Diseño de instrumentos y mecanismos | D7: Se definirán los instrumentos y mecanismos necesarios para la operación fluida del proyecto, relacionando las convocatorias u ofertas públicas que se desarrollarán a lo largo del proyecto | F7: Documento sobre las convocatorias u ofertas públicas que se desarrollarán | H7: 0.01
A8: 1. Fortalecer el ecosistema de emprendimiento e innovación pertenecientes al sistema alimentario sostenible y sustentable del departamento de Antioquia | B8: 1.1 Capacitar en productividad e innovación a los emprendimientos pertenecientes al sistema alimentario sostenible y sustentable del departamento de Antioquia | C8: 1.1.1 Planeación de las capacitaciones | D8: Se definirá el municipio de cada subregión de Antioquia donde se realizarán las actividades. Sconvocarán y seleccionarán los formadores de cada una de los 36 talleres formativos a realizar en cada una de las subregiones del departamento de Antioquia. Adicional se gestionarán los lugares físicos para realizar dichas capacitaciones de manera presencial y todos los recursos necesarios para su ejecución. Cada taller tendrá una duración de 16 horas divididas en 4 sesiones de 4 horas cada una. Se diseñará un cronograma de sesiones formativas | E8: 36 talleres realizados en las subregiones de Antioquia | F8: 36 informes con las evidencias del desarrollo de los talleres realizados en las subregiones de Antioquia | G8: =SUM(H8:H10) -> 0.1 | H8: 0.02
C9: 1.1.2 Convocatoria e inscripción de asistentes | D9: Se convocarán e inscribirán a diferentes actores del sistema alimentario sostenible y sustentable de cada subregión del departamento de Antioquia, como alcaldías, corporaciones, ONG, instituciones educativas, empresas, emprendimientos, entre otros, para participar en las capacitaciones de productividad e innovación planificadas en cada subregión del departamento de Antioquia. Para la convocatoria se diseñará una estrategia que contenga acciones que responda a las dinámicas de cada subregión. Se espera una inscripción de al menos 50 personas por sesión formativa. Se habilitarán canales digitales para la recepción de la inscripción de las personas y se contará con un proceso de confirmación previa de asistencia | H9: 0.02
C10: 1.1.3 Desarrollo de capacitaciones de productividad e innovación | D10: Se realizarán cuatro (4) talleres formativos en cada subregión del departamento con una duración de cuatro (4) horas cada una y se realizará de manera presencial. Están dirigidos a hasta 50 personas inscritas y los temas a abordar por sesión corresponde a: *La innovación como elemento clave de productividad y competitividad *Kaizen estrategia de cambio permanente *La transformación digital como ventaja competitiva *Ecosistema de ciencia, tecnología e innovación y el fortalecimiento del sistema alimentario Durante cada taller se entregará refrigerio a los asistentes mediante un break en la mitad de la sesión y se realizará listado de asistencia, registro fotografico y encuesta de satisfacción de cada espacio | H10: 0.06
B11: 1.2 Divulgar e implementar los Laboratorios de Emprendimiento e Innovación pertenecientes al sistema alimentario sostenible y sustentable del departamento de Antioquia | C11: 1.2.1 Fase 0: Priorización de Subregiones | D11: Se analizarán, validarán y seleccionarán 3 subregiones de Antioquia para desarrollar o implementar 3 laboratorios de emprendimiento e innovación. Para ello se definirán criterios de evaluación, se recopilarán datos de fuentes primarias y secundarias, se evaluará dicha información y se priorizarán y seleccionarán las 3 subregiones donde se implementarán los 3 laboratorios. de igual forma se prirozarán los municipios donde se ubicarán los 3 laboratorios y se identificarán y definirán las instituciones aliadas para el desarrollo de los mismos, las cuales serán las responsables de sostener en el tiempo, la estrategia y el funcionamiento de dichos laboratorios | E11: Tres (3) laboratorios de Emprendimiento e Innovación divulgados e implementados | F11: Tres (3) informes del diseño, ejecución y estrategia de sostenibilidad de laboratorios de innovación y emprendimiento implementados (1 informe por laboratorio) | G11: =SUM(H11:H17) -> 0.1 | H11: 0.01
C12: 1.2.2 Fase 1: Diagnóstico y planeación | D12: Se identificarán las necesidades y oportunidades en emprendimiento e innovación, en las 3 subregiones priorizadas. Dichos diagnósticos serán realizados según lineamientos de la secretaria de Desarrollo Economico del Departamento de Antioquia. De igual forma se diagnosticará la institución aliada y sus capacidades como insumo para el fortalecimiento de la institución y su funcionamiento como laboratorio de emprendimiento e innovación | H12: 0.01
C13: 1.2.3 Fase 2: Diseño del laboratorio | D13: Se realizará un diseño conceptual de los 3 laboratorios de acuerdo con lo encontrado en la etapa de diagnostico y se diseñará un plan detallado del funcionamiento y estructura. Para su diseño se involucrarán diferentes actores pertenecientes al sistema alimentario sostenible y sustentable de las subregiones priorizadas y se contará con el acompañamiento de expertos en agroindustria y emprendimiento | H13: 0.02
C14: 1.2.4 Fase 3: Estrategia de divulgación | D14: Se diseñará y ejecutará una estrategia de divulgación para informar y atraer a la comunidad interesada en participar y beneficiarse de los laboratorios de emprendimiento e innovación. Se diseña un plan de comunicaciones para cada laboratorio, que permita tanto la atracción de los públicos de interés tanto de manera presencial y virtual como posicionar los laboratorios y promocionar el uso de los servicios. | H14: 0.01
C15: 1.2.5 Fase 4: Implementación | D15: Corresponde a la puesta en marcha integral de los Laboratorios de Emprendimiento e Innovación en las subregiones priorizadas, mediante la ejecución de actividades planificadas, el despliegue de recursos humanos y técnicos, la interacción activa con los actores del territorio y la validación del modelo desarrollado. Esta fase busca transformar el diseño conceptual en acciones concretas, medibles y contextualizadas, que generen capacidades locales, soluciones innovadoras y dinámicas sostenibles en el sistema alimentario.. Cada laboratorio contará con un coordinador de laboratorio y un orientador como equipo responsable de su implementación y será operado desde las instalaciones físicas de la institución aliada definida previamente. | H15: 0.03
C16: 1.2.6 Fase 5: Modelo de sostenibilidad | D16: Se diseñará un marco estratégico que garantice la continuidad, impacto y crecimiento de los 3 laboratorios asegurando su operación continua y su contribución con el desarrollo local del sistema alimentario sostenible una vez finalizado el proyecto | H16: 0.01
C17: 1.2.7 Seguimiento y control | D17: Se realizará seguimiento a la puesta en marcha de cada uno de los laboratorios, este seguimiento se realizará semanalmente y de manera híbrida (presencial y virtual). Con base a lo encontrado en cada seguimiento se irán realizando los ajustes respectivos. Se contará con una plataforma que visualice la gestión y uso de los diferente actores del ecosistema en los laboratorios. Cada laboratorio acompañará al menos 150 personas a traves de los servicios diseñados | H17: 0.01
B18: 1.3 Apropiar los Laboratorios de Emprendimiento e Innovación pertenecientes al sistema alimentario sostenible y sustentable del departamento de Antioquia por medio de espacios de relacionamiento y acceso a mercados | C18: 1.3.1 Diseño de espacios de relacionamiento | D18: En cada uno de los tres (3) laboratorios implementados, se diseñará un espacio de relacionamiento que facilite o promueva la apropiación de dichos laboratorios por la comunidad y a su vez, que ayude a los emprendedores a visualizar sus productos y/o servicios, generar sinergias entre emprendimientos y explorar oportunidades de financiamiento y crecimiento. Se diseñarán en total 3 eventos: feria de innovación, encuentro de negocios y rueda de relacionamiento, uno por laboratorio. | E18: Tres (3) espacios de relacionamiento realizados | F18: Tres (3) informes del diseño, ejecución y evaluación de los espacios de relacionamiento realizados (1 informe por espacio) | G18: =SUM(H18:H21) -> 0.1 | H18: 0.01
C19: 1.3.2 Convocatoria e inscripción a espacios de relacionamiento | D19: Se diseñará una estrategia para convocar al menos 150 personas por evento entre oferentes, compradores e interesados generando un impacto en los beneficiarios del proyecto. Cada evento contará con una estrategia de convocatoria propia por cada tipo de evento teniendo en cuenta las dinámicas de cada subregión. Para el proceso de incripción se habilitará de manera digital y contará con una confirmación previa a cada evento | H19: 0.02
C20: 1.3.3 Ejecución de espacios de relacionamiento | D20: Se desarrollará 1 espacio de relacionamiento por cada uno de los 3 laboratorios. La duración, el tipo de espacio y la estructura del evento, dependerán del diseño realizado en cada laboratorio teniendo presente su contexto como subregión, sus necesidades y oportunidades. Cada evento se desarrollará de manera presencial contando con la asistencia de hasta 150 personas, se generarán listados de asistencia, encuesta de satisfacción y registro audiovisual por evento | H20: 0.06
C21: 1.3.4 Evaluación de espacios de relacionamiento | D21: Se evaluará cada uno de los 3 espacios de relacionamiento desarrollados, evidenciando los resultados alcanzados y los impactos generados tanto para el laboratorio como para sus participantes. Estos impactos podrían estar dados en términos de ventas, cofinanciación, alianzas estratégicas, entre otras, tanto para los laboratorios como para los beneficiarios. | H21: 0.01
B22: 1.4 Desarrollar Servicios tecnológicos sostenibles y sustentables de valor agregado para los emprendedores en las fases de preincubación, incubación pertenecientes al sistema alimentario sostenible y sustentable del departamento de Antioquia | C22: 1.4.1 Convocatoria e inscripción de emprendimientos | D22: Se desarrollará una estrategia de convocatoria para lograr la inscripción de los emprendimientos que pertenezcan al sistema alimentario sostenible y sustentable del departamento de Antioquia, que deseen desarrollar el servicio tecnologico en su negocio y que busquen financiamiento de proyectos de innovación. Para ello se definirá en conjunto con la secretaría de desarrollo económico de la gobernación de Antioquia, los requisitos de participación que deberan cumplir aquellos que deseen participar. Para la convocatoria se diseñará y desplegará una estrategia que contenga acciones que responda a las dinámicas de cada subregión. Se habilitarán canales digitales para la recepción de la inscripción de los emprendimientos interesados en participar y se contará con un sistema de información que relacione la trazabilidad del emprendimiento desde su proceso de inscripción | E22: 63 servicios tecnológicos desarrollados | F22: 63 informes de los servicios tecnológicos desarrollados en cada uno de los emprendimientos seleccionados | G22: =SUM(H22:H25) -> 0.08 | H22: 0.02
C23: 1.4.2 Selección de emprendimientos beneficiarios | D23: Se diseñará e implementará un herramienta de diagnostico virtual, que permita evaluar el emprendimiento inscrito en términos de nivel de madurez, caracteristicas propias de operación y proyección de crecimiento. Con base a ello, se analizarán los emprendimientos inscritos que cumplen los requisitos mínimos de participación por medio de comité de selección y se seleccionarán los 63 emprendimientos, 7 emprendimientos por subregión como beneficiarios. El comité de selección estaría conformado por la CIB y la Gobernacion de Antioquia | H23: 0.01
C24: 1.4.3 Formalización e ingreso de beneficiarios | D24: Se notificarán a los 63 emprendimientos seleccionados su aceptación en el proyecto, sus beneficios y sus responsabilidades. Para ello se realizará un reunión grupal de manera virtual para socializar el alcance y el cronograma del proyecto y solucionar inquietudes que allí se presenten. Posterior a la reunión cada emprendimiento deberá firmar un acuerdo de compromiso con el programa, garantizando asistencia y cumplimiento de actividades | H24: 0.01
C25: 1.4.4 Desarrollo de servicios tecnológicos | D25: Se desarrollará un servicio tecnológico sostenible y sustentable de hasta 8 horas de manera presencial con cada uno de los 63 emprendimientos seleccionados. La definición del servicio tecnológico para cada emprendimiento depende del diagnostico realizado previamente y podría responder a: *Desarrollo y prototipado de productos, *Mentoría y asesoría tecnológica, *Infraestructura tecnológica y espacios colaborativos, *Plataforma de gestión de proyectos *Acceso a datos y analítica avanzada | H25: 0.04
B26: 1.5 Formular e Implementar proyectos para los emprendimientos pertenecientes al sistema alimentario sostenible y sustentable del departamento de Antioquia | C26: 1.5.1 Planeación para la formulación | D26: Se definirán unos términos de referencia para la formulación de los proyectos que presentarán los emprendimientos beneficiados, estos TDR contendrán los requisitos de participación, cronograma de presentación y ejecución y rubros financiables y no financiables y se compartirán con dichos emprendimientos por email en conjunto con el instructivo de postulación y presentación de proyectos y sus respectivos formatos. | E26: 63 proyectos formulados e implementados | F26: 63 proyectos formulados 63 informes de la ejecución de los proyectos y los resultados alcanzados | G26: =SUM(H26:H30) -> 0.08 | H26: 0.01
C27: 1.5.2 Formulación de proyectos | D27: Se formulará un proyecto de diseño de producto priorizado en el portafolio de cada uno de los 63 emprendimientos beneficiados que responda al instructivo generado, para ello, cada emprendimiento recibirá 8 horas de asesoría virtual para fortalecer las capacidades en formulación y acompañar la estructuración de proyecto tanto en lo técnico como en lo financiero. Cada proyecto formulado contará con un proceso de curaduría para la verificación del cumplimiento de los lineamientos dados en el instructivo antes de pasar a la etapa de presentación, en caso de no cumplir se procede a ajustes | H27: 0.02
C28: 1.5.3 Presentación y evaluación de proyectos | D28: Cada emprendimiento beneficiado presentará su proyecto ante un comité conformado previamente y será evaluado de acuerdo con un sistema de evaluación que será diseñado con la secretaria de desarrollo económico de la gobernación de Antioquia. Para ello recibirán 4 horas de asesoría virtual para preparar la presentación de acuerdo con el instructivo. Una vez evaluados los proyectos, el comité aprobará o no los proyectos presentados para ser financiados. En caso de no ser aprobados, cada emprendimiento puede reformular su proyecto para presentarlo nuevamente | H28: 0.01
C29: 1.5.4 Financiación del proyecto | D29: Se financiarán los proyectos aprobados por el comité evaluador conformado. A cada emprendimiento se le entregará de manera física en su lugar de operación, las compras correspondientes, relacionadas en el proyecto formulado. A cada emprendedor se le asignará una bolsa de hasta $26.000.000 la cual deberá estar debidamente justificada en su formulación. En el momento de la entrega, con cada emprendedor se firmará un acta de entrega como evidencia del proceso | H29: 0.01
C30: 1.5.5 Ejecución del proyecto | D30: Se ejecutarán los proyectos de acuerdo con la formulación entregada, para ello, cada emprendimiento recibirá 12 horas de acompañamiento de manera híbrida (virtuales y presenciales) de un profesional donde se realizará seguimiento a la ejecución y se generarán recomendaciones con el propósito de lograr el resultado esperado | H30: 0.03
A31: 2. Incrementar los niveles de apropiación de tecnologías duras y blandas en los emprendimientos y las organizaciones pertenecientes al sistema alimentario sostenible y sustentable del departamento de Antioquia | B31: 2.1 Realizar actividades de extensionismo tecnológico de Desarrollo de la ruta de la productividad y la innovación para las empresas pertenecientes al sistema alimentario sostenible y sustentable del departamento de Antioquia | C31: 2.1.1 Convocatoria e inscripción de empresas | D31: Se desarrollará una estrategia de convocatoria para lograr la inscripción de las empresas que pertenezcan al sistema alimentario sostenible y sustentable del departamento de Antioquia, que deseen desarrollar el servicio tecnologico en su negocio y que busquen financiamiento de proyectos de innovación. Para ello se definirá en conjunto con la secretaría de desarrollo económico de la gobernación de Antioquia, los requisitos de participación que deberan cumplir aquellas que deseen participar. Para la convocatoria se diseñará y desplegará una estrategia que contenga acciones que responda a las dinámicas de cada subregión. Se habilitarán canales digitales para la recepción de la inscripción de las empresas interesadas en participar y se contará con un sistema de información que relacione la trazabilidad de las empresas desde su proceso de inscripción | E31: 90 empresas con actividades de extensionismo tecnológico realizadas | F31: 90 informes con las evidencias de las actividades de extensionimos tecnologico realizadas en cada una de las empresas seleccionadas | G31: =SUM(H31:H34) -> 0.1 | H31: 0.02
C32: 2.1.2 Selección de empresas beneficiarias | D32: Se diseñará e implementará una herramienta de diagnostico virtual, que permita evaluar la empresa inscrita en términos de nivel de madurez, caracteristicas propias de operación y proyección de crecimiento. Con base a ello, se analizarán las empresas inscritas que cumplen los requisitos mínimos de participación por medio de comité de selección y se seleccionarán los 90 empresas, 10 empresas por subregión como beneficiarias. El comité de selección estaría conformado por la CIB y la Gobernacion de Antioquia | H32: 0.01
C33: 2.1.3 Formalización e ingreso de empresas beneficiarias | D33: Se notificarán a las 90 empresas seleccionadas su aceptación en el proyecto, sus beneficios y sus responsabilidades. Para ello se realizará un reunión grupal de manera virtual para socializar el alcance y el cronograma del proyecto y solucionar inquietudes que allí se presenten. Posterior a la reunión cada empresa deberá firmar un acuerdo de compromiso con el programa, garantizando asistencia y cumplimiento de actividades | H33: 0.01
C34: 2.1.4 Extensionismo tecnológico | D34: Se desarrollarán actividades de extensionismo tecnológico con cada una de las 90 empresas seleccionadas. El servicio de extensionismo tecnológico responderá a un modelo de alimentación circular que permita reducir la generación de residuos alimentarios y aumentar el aprovechamiento de los recursos de manera eficiente y responsable, garantizando la disponibilidad, el acceso y la calidad e inocuidad de sus productos. Cada empresa recibirá un acompañamiento de un experto de 40 horas de las cuales al menos el 50% deberán ser presenciales, el cual realizará una transferencia metodológica dada en 3 etapas: explorar, experimentar y escalar. | H34: 0.06
B35: 2.2 Financiación de proyectos de productividad e innovación para las empresas pertenecientes al sistema alimentario sostenible y sustentable del departamento de Antioquia | C35: 2.2.1 Planeación para la formulación | D35: Se definirán unos términos de referencia para la formulación de los proyectos que presentarán las empresas beneficiadas, estos TDR contendrán los requisitos de participación, cronograma de presentación y ejecución y rubros financiables y no financiables y se compartirán con dichas empresas por email en conjunto con el instructivo de postulación y presentación de proyectos y sus respectivos formatos. | E35: 90 proyectos formulados e implementados | F35: 90 proyectos formulados 90 informes de la ejecución de los proyectos y los resultados alcanzados | G35: =SUM(H35:H39) -> 0.1 | H35: 0.01
C36: 2.2.2 Formulación de proyectos | D36: Se formulará un proyecto de diseño de producto priorizado en el portafolio de cada uno de las empresas beneficiadas que responda al instructivo generado, para ello, cada empresa recibirá 8 horas de asesoría virtual para fortalecer las capacidades en formulación y acompañar la estructuración de proyecto tanto en lo técnico como en lo financiero. Cada proyecto formulado contará con un proceso de curaduría para la verificación del cumplimiento de los lineamientos dados en el instructivo antes de pasar a la etapa de presentación, en caso de no cumplir se procede a ajustes | H36: 0.02
C37: 2.2.3 Presentación y evaluación de proyectos | D37: Cada empresa beneficiada presentará su proyecto ante un comité conformado previamente y será evaluado de acuerdo con un sistema de evaluación que será diseñado con la secretaria de desarrollo económico de la gobernación de Antioquia. Para ello recibirán 4 horas de asesoría virtual para preparar la presentación de acuerdo con el instructivo. Una vez evaluados los proyectos, el comité aprobará o no los proyectos presentados para ser financiados. En caso de no ser aprobados, cada empresa puede reformular su proyecto para presentarlo nuevamente | H37: 0.01
C38: 2.2.4 Financiación del proyecto | D38: Se financiarán los proyectos aprobados por el comité evaluador conformado. A cada empresa se le entregará de manera física en su lugar de operación, las compras correspondientes, relacionadas en el proyecto formulado. A cada empresa se le asignará una bolsa de hasta $26.000.000 la cual deberá estar debidamente justificada en su formulación. En el momento de la entrega, con cada empresa se firmará un acta de entrega como evidencia del proceso | H38: 0.03
C39: 2.2.5 Ejecución del proyecto | D39: Se ejecutarán los proyectos de acuerdo con la formulación entregada, para ello, cada empresa recibirá 12 horas de acompañamiento de manera híbrida (virtuales y presenciales) de un profesional donde se realizará seguimiento a la ejecución y se generarán recomendaciones con el propósito de lograr el resultado esperado | H39: 0.03
A40: 3. Mejorar los procesos de articulación entre los diferentes eslabones de las cadenas productivas regionales pertenecientes al sistema alimentario sostenible y sustentable del departamento de Antioquia | B40: 3.1 Desarrollar un mecanismo financiero que permita integrar los recursos públicos, privados, internacionales y de donación para financiar el desarrollo de la Ciencia, Tecnología e Innovación. Para el sistema alimentario y nutricional del departamento | C40: 3.1.1 Elaboración de la agenda pública | D40: Se establecerán participativamente las orientaciones y reflexiones que guiarán todo el proceso de desarrollo del mecanismo financiero; se construye identificando cuál es la realidad que caracteriza a la población y al territorio | E40: Mecanismo financiero desarrollado | F40: Informe que relacione el mecanismo financiero diseñado, evidenciando como integrar los recursos públicos, privados, internacionales y de donación para financiar el desarrollo de la Ciencia, Tecnología e Innovación. | G40: =SUM(H40:H42) -> 0.1 | H40: 0.02
...

Sheet Resumen entregables
A1: Fases | B1: Actividades Clave | D1: Entregables | F1: :
A4: Planeación del proyecto | B4: Contratación del equipo de trabajo | C4: =A4&separador&B4 -> Planeación del proyecto: Contratación del equipo de trabajo | D4: Contratos del equipo de trabajo
A5: Planeación del proyecto | B5: Plan operativo detallado | C5: =A5&separador&B5 -> Planeación del proyecto: Plan operativo detallado | D5: Documento de excel con el plan operativo
A6: Planeación del proyecto | B6: Diseño de estrategia de comunicación y divulgación del programa | C6: =A6&separador&B6 -> Planeación del proyecto: Diseño de estrategia de comunicación y divulgación del programa | D6: Documento con el plan de comunicaciones
A7: Planeación del proyecto | B7: Diseño de instrumentos y mecanismos | C7: =A7&separador&B7 -> Planeación del proyecto: Diseño de instrumentos y mecanismos | D7: Documento sobre las convocatorias u ofertas públicas que se desarrollarán
A8: 1.1 Capacitar en productividad e innovación a los emprendimientos pertenecientes al sistema alimentario sostenible y sustentable del departamento de Antioquia | B8: 1.1.1 Planeación de las capacitaciones | C8: =A8&separador&B8 -> 1.1 Capacitar en productividad e innovación a los emprendimientos pertenecientes al sistema alimentario sostenible y sustentable del departamento de Antioquia: 1.1.1 Planeación de las capacitaciones | D8: 36 informes con las evidencias del desarrollo de los talleres realizados en las subregiones de Antioquia
A9: 1.1 Capacitar en productividad e innovación a los emprendimientos pertenecientes al sistema alimentario sostenible y sustentable del departamento de Antioquia | B9: 1.1.2 Convocatoria e inscripción de asistentes | C9: =A9&separador&B9 -> 1.1 Capacitar en productividad e innovación a los emprendimientos pertenecientes al sistema alimentario sostenible y sustentable del departamento de Antioquia: 1.1.2 Convocatoria e inscripción de asistentes | D9: 37 informes con las evidencias del desarrollo de los talleres realizados en las subregiones de Antioquia
A10: 1.1 Capacitar en productividad e innovación a los emprendimientos pertenecientes al sistema alimentario sostenible y sustentable del departamento de Antioquia | B10: 1.1.3 Desarrollo de capacitaciones de productividad e innovación | C10: =A10&separador&B10 -> 1.1 Capacitar en productividad e innovación a los emprendimientos pertenecientes al sistema alimentario sostenible y sustentable del departamento de Antioquia: 1.1.3 Desarrollo de capacitaciones de productividad e innovación | D10: 38 informes con las evidencias del desarrollo de los talleres realizados en las subregiones de Antioquia
A11: 1.2 Divulgar e implementar los Laboratorios de Emprendimiento e Innovación pertenecientes al sistema alimentario sostenible y sustentable del departamento de Antioquia | B11: 1.2.1 Fase 0: Priorización de Subregiones | C11: =A11&separador&B11 -> 1.2 Divulgar e implementar los Laboratorios de Emprendimiento e Innovación pertenecientes al sistema alimentario sostenible y sustentable del departamento de Antioquia: 1.2.1 Fase 0: Priorización de Subregiones | D11: Tres (3) informes del diseño, ejecución y estrategia de sostenibilidad de laboratorios de innovación y emprendimiento implementados (1 informe por laboratorio)
A12: 1.2 Divulgar e implementar los Laboratorios de Emprendimiento e Innovación pertenecientes al sistema alimentario sostenible y sustentable del departamento de Antioquia | B12: 1.2.2 Fase 1: Diagnóstico y planeación | C12: =A12&separador&B12 -> 1.2 Divulgar e implementar los Laboratorios de Emprendimiento e Innovación pertenecientes al sistema alimentario sostenible y sustentable del departamento de Antioquia: 1.2.2 Fase 1: Diagnóstico y planeación | D12: Tres (3) informes del diseño, ejecución y estrategia de sostenibilidad de laboratorios de innovación y emprendimiento implementados (1 informe por laboratorio)
A13: 1.2 Divulgar e implementar los Laboratorios de Emprendimiento e Innovación pertenecientes al sistema alimentario sostenible y sustentable del departamento de Antioquia | B13: 1.2.3 Fase 2: Diseño del laboratorio | C13: =A13&separador&B13 -> 1.2 Divulgar e implementar los Laboratorios de Emprendimiento e Innovación pertenecientes al sistema alimentario sostenible y sustentable del departamento de Antioquia: 1.2.3 Fase 2: Diseño del laboratorio | D13: Tres (3) informes del diseño, ejecución y estrategia de sostenibilidad de laboratorios de innovación y emprendimiento implementados (1 informe por laboratorio)
A14: 1.2 Divulgar e implementar los Laboratorios de Emprendimiento e Innovación pertenecientes al sistema alimentario sostenible y sustentable del departamento de Antioquia | B14: 1.2.4 Fase 3: Estrategia de divulgación | C14: =A14&separador&B14 -> 1.2 Divulgar e implementar los Laboratorios de Emprendimiento e Innovación pertenecientes al sistema alimentario sostenible y sustentable del departamento de Antioquia: 1.2.4 Fase 3: Estrategia de divulgación | D14: Tres (3) informes del diseño, ejecución y estrategia de sostenibilidad de laboratorios de innovación y emprendimiento implementados (1 informe por laboratorio)
A15: 1.2 Divulgar e implementar los Laboratorios de Emprendimiento e Innovación pertenecientes al sistema alimentario sostenible y sustentable del departamento de Antioquia | B15: 1.2.5 Fase 4: Implementación | C15: =A15&separador&B15 -> 1.2 Divulgar e implementar los Laboratorios de Emprendimiento e Innovación pertenecientes al sistema alimentario sostenible y sustentable del departamento de Antioquia: 1.2.5 Fase 4: Implementación | D15: Tres (3) informes del diseño, ejecución y estrategia de sostenibilidad de laboratorios de innovación y emprendimiento implementados (1 informe por laboratorio)
... A47: 3.2 Formular e Implementar proyectos articuladores de innovación que movilicen el sistema alimentario y nutricional entre los diferentes actores del sistema alimentario sostenible y sustentable del departamento de Antioquia | B47: 3.2.5 Medición de impacto | C47: =A47&separador&B47 -> 3.2 Formular e Implementar proyectos articuladores de innovación que movilicen el sistema alimentario y nutricional entre los diferentes actores del sistema alimentario sostenible y sustentable del departamento de Antioquia : 3.2.5 Medición de impacto | D47: 13 proyectos formulados 90 informes de la ejecución de los proyectos y los resultados alcanzados

Sheet 1.Seguim.Mensual(%Avancemes)
A1: POA | R1: 2025 | AS1: 2026 | CS1: 2027
A2: Objetivos Específicos | B2: Fases | C2: Actividades Clave | D2: Descripción de la actividad | E2: Hito | F2: Entregables | G2: Ponderación general | H2: Ponderación específica | I2: 2025 | R2: Julio | W2: Agos | AA2: Sept | AE2: Oct | AJ2: Nov | AN2: Dic | AS2: Ene | AW2: Feb | BA2: Mar | BE2: Abril | BJ2: Mayo | BN2: Junio | BR2: Julio | BW2: Agos | CA2: Sept | CF2: Oct | CJ2: Nov | CN2: Dic | CS2: Ene | CW2: Feb | DA2: Mar | DF2: Abril | DJ2: Mayo | DN2: Junio | DS2: Julio | DW2: Agosto
I3: Julio | J3: Agosto | K3: Septiembre | L3: Octubre | M3: Noviembre | N3: Diciembre | O3: % Avance Actividad | P3: Acumulado Total Ponderado | Q3: % Por Ejecutar Sobre el total del Proyecto - Verificación | R3: S1 | S3: S2 | T3: S3 | U3: S4 | V3: S5 | W3: S1 | X3: S2 | Y3: S3 | Z3: S4 | AA3: S1 | AB3: S2 | AC3: S3 | AD3: S4 | AE3: S1 | AF3: S2 | AG3: S3 | AH3: S4 | AI3: S5 | AJ3: S1 | AK3: S2 | AL3: S3 | AM3: S4 | AN3: S1 | AO3: S2 | AP3: S3 | AQ3: S4 | AR3: S5 | AS3: S1 | AT3: S2 | AU3: S3 | AV3: S4 | AW3: S1 | AX3: S2 | AY3: S3 | AZ3: S4 | BA3: S1 | BB3: S2 | BC3: S3 | BD3: S4 | BE3: S1 | BF3: S2 | BG3: S3 | BH3: S4 | BI3: S5 | BJ3: S1 | BK3: S2 | BL3: S3 | BM3: S4 | BN3: S1 | BO3: S2 | BP3: S3 | BQ3: S4 | BR3: S1 | BS3: S2 | BT3: S3 | BU3: S4 | BV3: S5 | BW3: S1 | BX3: S2 | BY3: S3 | BZ3: S4 | CA3: S1 | CB3: S2 | CC3: S3 | CD3: S4 | CE3: S5 | CF3: S1 | CG3: S2 | CH3: S3 | CI3: S4 | CJ3: S1 | CK3: S2 | CL3: S3 | CM3: S4 | CN3: S1 | CO3: S2 | CP3: S3 | CQ3: S4 | CR3: S5 | CS3: S1 | CT3: S2 | CU3: S3 | CV3: S4 | CW3: S1 | CX3: S2 | CY3: S3 | CZ3: S4 | DA3: S1 | DB3: S2 | DC3: S3 | DD3: S4 | DE3: S5 | DF3: S1 | DG3: S2 | DH3: S3 | DI3: S4 | DJ3: S1 | DK3: S2 | DL3: S3 | DM3: S4 | DN3: S1 | DO3: S2 | DP3: S3 | DQ3: S4 | DR3: S5 | DS3: S1 | DT3: S2 | DU3: S3 | DV3: S4 | DW3: S1 | DX3: S2 | DY3: S3 | DZ3: S4
A4: Fase 0 | B4: Planeación del proyecto | C4: Contratación del equipo de trabajo | D4: Se realizará la selección y contratación del equipo de trabajo correspondiente a: *Gerente general de la iniciativa *Coordinador de ecosistemas *Coordinador de productividad e innovación *Coordinador de encadenamientos productivos *Gestores de apropiación social de conocimiento (2) *Profesional de sistemas de información | E4: Planeación del proyecto realizada | F4: Contratos del equipo de trabajo | G4: =SUM(H4:H7) -> 0.04 | H4: 0.01 | I4: 0 | J4: 1 | K4: 0 | L4: 0 | M4: 0 | N4: 0 | O4: =SUM(I4:N4) -> 1 | P4: =O4*H4 -> 0.01 | Q4: =+IF(P4<H4,(100%-O4),IF(P4=H4,"EJECUTADO 100%","Revisar sobreejecución")) -> EJECUTADO 100%
C5: Plan operativo detallado | D5: Se diseñará el plan operativo detallado del proyecto, relacionando los componentes, actividades, entregables y fechas en que se desarrollará la iniciativa | F5: Documento de excel con el plan operativo | H5: 0.01 | I5: 0 | J5: 1 | K5: 0 | L5: 0 | M5: 0 | N5: 0 | O5: =SUM(I5:N5) -> 1 | P5: =O5*H5 -> 0.01 | Q5: =+IF(P5<H5,(100%-O5),IF(P5=H5,"EJECUTADO 100%","Revisar sobreejecución")) -> EJECUTADO 100%
C6: Diseño de estrategia de comunicación y divulgación del programa | D6: Definición de un plan de comunicaciones con el diseño y despliegue de un plan de comunicación pública completamente alineado con los objetivos y actividades del proyecto. Este plan contiene el modelo de comunicación con el diseño de marca, cronograma, plan de medios, mapa de públicos, bancos de piezas de comunicaciones y base de datos | F6: Documento con el plan de comunicaciones | H6: 0.01 | I6: 0 | J6: 1 | K6: 0 | L6: 0 | M6: 0 | N6: 0 | O6: =SUM(I6:N6) -> 1 | P6: =O6*H6 -> 0.01 | Q6: =+IF(P6<H6,(100%-O6),IF(P6=H6,"EJECUTADO 100%","Revisar sobreejecución")) -> EJECUTADO 100%
C7: Diseño de instrumentos y mecanismos | D7: Se definirán los instrumentos y mecanismos necesarios para la operación fluida del proyecto, relacionando las convocatorias u ofertas públicas que se desarrollarán a lo largo del proyecto | F7: Documento sobre las convocatorias u ofertas públicas que se desarrollarán | H7: 0.01 | I7: 0 | J7: 1 | K7: 0 | L7: 0 | M7: 0 | N7: 0 | O7: =SUM(I7:N7) -> 1 | P7: =O7*H7 -> 0.01 | Q7: =+IF(P7<H7,(100%-O7),IF(P7=H7,"EJECUTADO 100%","Revisar sobreejecución")) -> EJECUTADO 100%
A8: 1. Fortalecer el ecosistema de emprendimiento e innovación pertenecientes al sistema alimentario sostenible y sustentable del departamento de Antioquia | B8: 1.1 Capacitar en productividad e innovación a los emprendimientos pertenecientes al sistema alimentario sostenible y sustentable del departamento de Antioquia | C8: 1.1.1 Planeación de las capacitaciones | D8: Se definirá el municipio de cada subregión de Antioquia donde se realizarán las actividades. Sconvocarán y seleccionarán los formadores de cada una de los 36 talleres formativos a realizar en cada una de las subregiones del departamento de Antioquia. Adicional se gestionarán los lugares físicos para realizar dichas capacitaciones de manera presencial y todos los recursos necesarios para su ejecución. Cada taller tendrá una duración de 16 horas divididas en 4 sesiones de 4 horas cada una. Se diseñará un cronograma de sesiones formativas | E8: 36 talleres realizados en las subregiones de Antioquia | F8: 36 informes con las evidencias del desarrollo de los talleres realizados en las subregiones de Antioquia | G8: =SUM(H8:H10) -> 0.1 | H8: 0.02 | I8: 0 | J8: 0 | K8: 1 | L8: 0 | M8: 0 | N8: 0 | O8: =SUM(I8:N8) -> 1 | P8: =O8*H8 -> 0.02 | Q8: =+IF(P8<H8,(100%-O8),IF(P8=H8,"EJECUTADO 100%","Revisar sobreejecución")) -> EJECUTADO 100%
C9: 1.1.2 Convocatoria e inscripción de asistentes | D9: Se convocarán e inscribirán a diferentes actores del sistema alimentario sostenible y sustentable de cada subregión del departamento de Antioquia, como alcaldías, corporaciones, ONG, instituciones educativas, empresas, emprendimientos, entre otros, para participar en las capacitaciones de productividad e innovación planificadas en cada subregión del departamento de Antioquia. Para la convocatoria se diseñará una estrategia que contenga acciones que responda a las dinámicas de cada subregión. Se espera una inscripción de al menos 50 personas por sesión formativa. Se habilitarán canales digitales para la recepción de la inscripción de las personas y se contará con un proceso de confirmación previa de asistencia | H9: 0.02 | I9: 0 | J9: 0 | K9: 0.3 | L9: 0 | M9: 0 | N9: 0 | O9: =SUM(I9:N9) -> 0.3 | P9: =O9*H9 -> 0.006 | Q9: =+IF(P9<H9,(100%-O9),IF(P9=H9,"EJECUTADO 100%","Revisar sobreejecución")) -> 0.7
C10: 1.1.3 Desarrollo de capacitaciones de productividad e innovación | D10: Se realizarán cuatro (4) talleres formativos en cada subregión del departamento con una duración de cuatro (4) horas cada una y se realizará de manera presencial. Están dirigidos a hasta 50 personas inscritas y los temas a abordar por sesión corresponde a: *La innovación como elemento clave de productividad y competitividad *Kaizen estrategia de cambio permanente *La transformación digital como ventaja competitiva *Ecosistema de ciencia, tecnología e innovación y el fortalecimiento del sistema alimentario Durante cada taller se entregará refrigerio a los asistentes mediante un break en la mitad de la sesión y se realizará listado de asistencia, registro fotografico y encuesta de satisfacción de cada espacio | H10: 0.06 | I10: 0 | J10: 0 | K10: 0 | L10: 0 | M10: 0 | N10: 0 | O10: =SUM(I10:N10) -> 0 | P10: =O10*H10 -> 0 | Q10: =+IF(P10<H10,(100%-O10),IF(P10=H10,"EJECUTADO 100%","Revisar sobreejecución")) -> 1
B11: 1.2 Divulgar e implementar los Laboratorios de Emprendimiento e Innovación pertenecientes al sistema alimentario sostenible y sustentable del departamento de Antioquia | C11: 1.2.1 Fase 0: Priorización de Subregiones | D11: Se analizarán, validarán y seleccionarán 3 subregiones de Antioquia para desarrollar o implementar 3 laboratorios de emprendimiento e innovación. Para ello se definirán criterios de evaluación, se recopilarán datos de fuentes primarias y secundarias, se evaluará dicha información y se priorizarán y seleccionarán las 3 subregiones donde se implementarán los 3 laboratorios. de igual forma se prirozarán los municipios donde se ubicarán los 3 laboratorios y se identificarán y definirán las instituciones aliadas para el desarrollo de los mismos, las cuales serán las responsables de sostener en el tiempo, la estrategia y el funcionamiento de dichos laboratorios | E11: Tres (3) laboratorios de Emprendimiento e Innovación divulgados e implementados | F11: Tres (3) informes del diseño, ejecución y estrategia de sostenibilidad de laboratorios de innovación y emprendimiento implementados (1 informe por laboratorio) | G11: =SUM(H11:H17) -> 0.1 | H11: 0.01 | I11: 0 | J11: 0 | K11: 1 | L11: 0 | M11: 0 | N11: 0 | O11: =SUM(I11:N11) -> 1 | P11: =O11*H11 -> 0.01 | Q11: =+IF(P11<H11,(100%-O11),IF(P11=H11,"EJECUTADO 100%","Revisar sobreejecución")) -> EJECUTADO 100%
C12: 1.2.2 Fase 1: Diagnóstico y planeación | D12: Se identificarán las necesidades y oportunidades en emprendimiento e innovación, en las 3 subregiones priorizadas. Dichos diagnósticos serán realizados según lineamientos de la secretaria de Desarrollo Economico del Departamento de Antioquia. De igual forma se diagnosticará la institución aliada y sus capacidades como insumo para el fortalecimiento de la institución y su funcionamiento como laboratorio de emprendimiento e innovación | H12: 0.01 | I12: 0 | J12: 0 | K12: 0 | L12: 0 | M12: 0 | N12: 0 | O12: =SUM(I12:N12) -> 0 | P12: =O12*H12 -> 0 | Q12: =+IF(P12<H12,(100%-O12),IF(P12=H12,"EJECUTADO 100%","Revisar sobreejecución")) -> 1
C13: 1.2.3 Fase 2: Diseño del laboratorio | D13: Se realizará un diseño conceptual de los 3 laboratorios de acuerdo con lo encontrado en la etapa de diagnostico y se diseñará un plan detallado del funcionamiento y estructura. Para su diseño se involucrarán diferentes actores pertenecientes al sistema alimentario sostenible y sustentable de las subregiones priorizadas y se contará con el acompañamiento de expertos en agroindustria y emprendimiento | H13: 0.02 | I13: 0 | J13: 0 | K13: 0 | L13: 0 | M13: 0 | N13: 0 | O13: =SUM(I13:N13) -> 0 | P13: =O13*H13 -> 0 | Q13: =+IF(P13<H13,(100%-O13),IF(P13=H13,"EJECUTADO 100%","Revisar sobreejecución")) -> 1
C14: 1.2.4 Fase 3: Estrategia de divulgación | D14: Se diseñará y ejecutará una estrategia de divulgación para informar y atraer a la comunidad interesada en participar y beneficiarse de los laboratorios de emprendimiento e innovación. Se diseña un plan de comunicaciones para cada laboratorio, que permita tanto la atracción de los públicos de interés tanto de manera presencial y virtual como posicionar los laboratorios y promocionar el uso de los servicios. | H14: 0.01 | I14: 0 | J14: 0 | K14: 0 | L14: 0 | M14: 0 | N14: 0 | O14: =SUM(I14:N14) -> 0 | P14: =O14*H14 -> 0 | Q14: =+IF(P14<H14,(100%-O14),IF(P14=H14,"EJECUTADO 100%","Revisar sobreejecución")) -> 1
C15: 1.2.5 Fase 4: Implementación | D15: Corresponde a la puesta en marcha integral de los Laboratorios de Emprendimiento e Innovación en las subregiones priorizadas, mediante la ejecución de actividades planificadas, el despliegue de recursos humanos y técnicos, la interacción activa con los actores del territorio y la validación del modelo desarrollado. Esta fase busca transformar el diseño conceptual en acciones concretas, medibles y contextualizadas, que generen capacidades locales, soluciones innovadoras y dinámicas sostenibles en el sistema alimentario.. Cada laboratorio contará con un coordinador de laboratorio y un orientador como equipo responsable de su implementación y será operado desde las instalaciones físicas de la institución aliada definida previamente. | H15: 0.03 | I15: 0 | J15: 0 | K15: 0 | L15: 0 | M15: 0 | N15: 0 | O15: =SUM(I15:N15) -> 0 | P15: =O15*H15 -> 0 | Q15: =+IF(P15<H15,(100%-O15),IF(P15=H15,"EJECUTADO 100%","Revisar sobreejecución")) -> 1
C16: 1.2.6 Fase 5: Modelo de sostenibilidad | D16: Se diseñará un marco estratégico que garantice la continuidad, impacto y crecimiento de los 3 laboratorios asegurando su operación continua y su contribución con el desarrollo local del sistema alimentario sostenible una vez finalizado el proyecto | H16: 0.01 | I16: 0 | J16: 0 | K16: 0 | L16: 0 | M16: 0 | N16: 0 | O16: =SUM(I16:N16) -> 0 | P16: =O16*H16 -> 0 | Q16: =+IF(P16<H16,(100%-O16),IF(P16=H16,"EJECUTADO 100%","Revisar sobreejecución")) -> 1
C17: 1.2.7 Seguimiento y control | D17: Se realizará seguimiento a la puesta en marcha de cada uno de los laboratorios, este seguimiento se realizará semanalmente y de manera híbrida (presencial y virtual). Con base a lo encontrado en cada seguimiento se irán realizando los ajustes respectivos. Se contará con una plataforma que visualice la gestión y uso de los diferente actores del ecosistema en los laboratorios. Cada laboratorio acompañará al menos 150 personas a traves de los servicios diseñados | H17: 0.01 | I17: 0 | J17: 0 | K17: 0 | L17: 0 | M17: 0 | N17: 0 | O17: =SUM(I17:N17) -> 0 | P17: =O17*H17 -> 0 | Q17: =+IF(P17<H17,(100%-O17),IF(P17=H17,"EJECUTADO 100%","Revisar sobreejecución")) -> 1
B18: 1.3 Apropiar los Laboratorios de Emprendimiento e Innovación pertenecientes al sistema alimentario sostenible y sustentable del departamento de Antioquia por medio de espacios de relacionamiento y acceso a mercados | C18: 1.3.1 Diseño de espacios de relacionamiento | D18: En cada uno de los tres (3) laboratorios implementados, se diseñará un espacio de relacionamiento que facilite o promueva la apropiación de dichos laboratorios por la comunidad y a su vez, que ayude a los emprendedores a visualizar sus productos y/o servicios, generar sinergias entre emprendimientos y explorar oportunidades de financiamiento y crecimiento. Se diseñarán en total 3 eventos: feria de innovación, encuentro de negocios y rueda de relacionamiento, uno por laboratorio. | E18: Tres (3) espacios de relacionamiento realizados | F18: Tres (3) informes del diseño, ejecución y evaluación de los espacios de relacionamiento realizados (1 informe por espacio) | G18: =SUM(H18:H21) -> 0.1 | H18: 0.01 | I18: 0 | J18: 0 | K18: 0 | L18: 0 | M18: 0 | N18: 0 | O18: =SUM(I18:N18) -> 0 | P18: =O18*H18 -> 0 | Q18: =+IF(P18<H18,(100%-O18),IF(P18=H18,"EJECUTADO 100%","Revisar sobreejecución")) -> 1
C19: 1.3.2 Convocatoria e inscripción a espacios de relacionamiento | D19: Se diseñará una estrategia para convocar al menos 150 personas por evento entre oferentes, compradores e interesados generando un impacto en los beneficiarios del proyecto. Cada evento contará con una estrategia de convocatoria propia por cada tipo de evento teniendo en cuenta las dinámicas de cada subregión. Para el proceso de incripción se habilitará de manera digital y contará con una confirmación previa a cada evento | H19: 0.02 | I19: 0 | J19: 0 | K19: 0 | L19: 0 | M19: 0 | N19: 0 | O19: =SUM(I19:N19) -> 0 | P19: =O19*H19 -> 0 | Q19: =+IF(P19<H19,(100%-O19),IF(P19=H19,"EJECUTADO 100%","Revisar sobreejecución")) -> 1
C20: 1.3.3 Ejecución de espacios de relacionamiento | D20: Se desarrollará 1 espacio de relacionamiento por cada uno de los 3 laboratorios. La duración, el tipo de espacio y la estructura del evento, dependerán del diseño realizado en cada laboratorio teniendo presente su contexto como subregión, sus necesidades y oportunidades. Cada evento se desarrollará de manera presencial contando con la asistencia de hasta 150 personas, se generarán listados de asistencia, encuesta de satisfacción y registro audiovisual por evento | H20: 0.06 | I20: 0 | J20: 0 | K20: 0 | L20: 0 | M20: 0 | N20: 0 | O20: =SUM(I20:N20) -> 0 | P20: =O20*H20 -> 0 | Q20: =+IF(P20<H20,(100%-O20),IF(P20=H20,"EJECUTADO 100%","Revisar sobreejecución")) -> 1
C21: 1.3.4 Evaluación de espacios de relacionamiento | D21: Se evaluará cada uno de los 3 espacios de relacionamiento desarrollados, evidenciando los resultados alcanzados y los impactos generados tanto para el laboratorio como para sus participantes. Estos impactos podrían estar dados en términos de ventas, cofinanciación, alianzas estratégicas, entre otras, tanto para los laboratorios como para los beneficiarios. | H21: 0.01 | I21: 0 | J21: 0 | K21: 0 | L21: 0 | M21: 0 | N21: 0 | O21: =SUM(I21:N21) -> 0 | P21: =O21*H21 -> 0 | Q21: =+IF(P21<H21,(100%-O21),IF(P21=H21,"EJECUTADO 100%","Revisar sobreejecución")) -> 1
B22: 1.4 Desarrollar Servicios tecnológicos sostenibles y sustentables de valor agregado para los emprendedores en las fases de preincubación, incubación pertenecientes al sistema alimentario sostenible y sustentable del departamento de Antioquia | C22: 1.4.1 Convocatoria e inscripción de emprendimientos | D22: Se desarrollará una estrategia de convocatoria para lograr la inscripción de los emprendimientos que pertenezcan al sistema alimentario sostenible y sustentable del departamento de Antioquia, que deseen desarrollar el servicio tecnologico en su negocio y que busquen financiamiento de proyectos de innovación. Para ello se definirá en conjunto con la secretaría de desarrollo económico de la gobernación de Antioquia, los requisitos de participación que deberan cumplir aquellos que deseen participar. Para la convocatoria se diseñará y desplegará una estrategia que contenga acciones que responda a las dinámicas de cada subregión. Se habilitarán canales digitales para la recepción de la inscripción de los emprendimientos interesados en participar y se contará con un sistema de información que relacione la trazabilidad del emprendimiento desde su proceso de inscripción | E22: 63 servicios tecnológicos desarrollados | F22: 63 informes de los servicios tecnológicos desarrollados en cada uno de los emprendimientos seleccionados | G22: =SUM(H22:H25) -> 0.08 | H22: 0.02 | I22: 0 | J22: 0 | K22: 0 | L22: 0 | M22: 0 | N22: 0 | O22: =SUM(I22:N22) -> 0 | P22: =O22*H22 -> 0 | Q22: =+IF(P22<H22,(100%-O22),IF(P22=H22,"EJECUTADO 100%","Revisar sobreejecución")) -> 1
C23: 1.4.2 Selección de emprendimientos beneficiarios | D23: Se diseñará e implementará un herramienta de diagnostico virtual, que permita evaluar el emprendimiento inscrito en términos de nivel de madurez, caracteristicas propias de operación y proyección de crecimiento. Con base a ello, se analizarán los emprendimientos inscritos que cumplen los requisitos mínimos de participación por medio de comité de selección y se seleccionarán los 63 emprendimientos, 7 emprendimientos por subregión como beneficiarios. El comité de selección estaría conformado por la CIB y la Gobernacion de Antioquia | H23: 0.01 | I23: 0 | J23: 0 | K23: 0 | L23: 0 | M23: 0 | N23: 0 | O23: =SUM(I23:N23) -> 0 | P23: =O23*H23 -> 0 | Q23: =+IF(P23<H23,(100%-O23),IF(P23=H23,"EJECUTADO 100%","Revisar sobreejecución")) -> 1
C24: 1.4.3 Formalización e ingreso de beneficiarios | D24: Se notificarán a los 63 emprendimientos seleccionados su aceptación en el proyecto, sus beneficios y sus responsabilidades. Para ello se realizará un reunión grupal de manera virtual para socializar el alcance y el cronograma del proyecto y solucionar inquietudes que allí se presenten. Posterior a la reunión cada emprendimiento deberá firmar un acuerdo de compromiso con el programa, garantizando asistencia y cumplimiento de actividades | H24: 0.01 | I24: 0 | J24: 0 | K24: 0 | L24: 0 | M24: 0 | N24: 0 | O24: =SUM(I24:N24) -> 0 | P24: =O24*H24 -> 0 | Q24: =+IF(P24<H24,(100%-O24),IF(P24=H24,"EJECUTADO 100%","Revisar sobreejecución")) -> 1
C25: 1.4.4 Desarrollo de servicios tecnológicos | D25: Se desarrollará un servicio tecnológico sostenible y sustentable de hasta 8 horas de manera presencial con cada uno de los 63 emprendimientos seleccionados. La definición del servicio tecnológico para cada emprendimiento depende del diagnostico realizado previamente y podría responder a: *Desarrollo y prototipado de productos, *Mentoría y asesoría tecnológica, *Infraestructura tecnológica y espacios colaborativos, *Plataforma de gestión de proyectos *Acceso a datos y analítica avanzada | H25: 0.04 | I25: 0 | J25: 0 | K25: 0 | L25: 0 | M25: 0 | N25: 0 | O25: =SUM(I25:N25) -> 0 | P25: =O25*H25 -> 0 | Q25: =+IF(P25<H25,(100%-O25),IF(P25=H25,"EJECUTADO 100%","Revisar sobreejecución")) -> 1
B26: 1.5 Formular e Implementar proyectos para los emprendimientos pertenecientes al sistema alimentario sostenible y sustentable del departamento de Antioquia | C26: 1.5.1 Planeación para la formulación | D26: Se definirán unos términos de referencia para la formulación de los proyectos que presentarán los emprendimientos beneficiados, estos TDR contendrán los requisitos de participación, cronograma de presentación y ejecución y rubros financiables y no financiables y se compartirán con dichos emprendimientos por email en conjunto con el instructivo de postulación y presentación de proyectos y sus respectivos formatos. | E26: 63 proyectos formulados e implementados | F26: 63 proyectos formulados 63 informes de la ejecución de los proyectos y los resultados alcanzados | G26: =SUM(H26:H30) -> 0.08 | H26: 0.01 | I26: 0 | J26: 0 | K26: 0.5 | L26: 0 | M26: 0 | N26: 0 | O26: =SUM(I26:N26) -> 0.5 | P26: =O26*H26 -> 0.005 | Q26: =+IF(P26<H26,(100%-O26),IF(P26=H26,"EJECUTADO 100%","Revisar sobreejecución")) -> 0.5
C27: 1.5.2 Formulación de proyectos | D27: Se formulará un proyecto de diseño de producto priorizado en el portafolio de cada uno de los 63 emprendimientos beneficiados que responda al instructivo generado, para ello, cada emprendimiento recibirá 8 horas de asesoría virtual para fortalecer las capacidades en formulación y acompañar la estructuración de proyecto tanto en lo técnico como en lo financiero. Cada proyecto formulado contará con un proceso de curaduría para la verificación del cumplimiento de los lineamientos dados en el instructivo antes de pasar a la etapa de presentación, en caso de no cumplir se procede a ajustes | H27: 0.02 | I27: 0 | J27: 0 | K27: 0 | L27: 0 | M27: 0 | N27: 0 | O27: =SUM(I27:N27) -> 0 | P27: =O27*H27 -> 0 | Q27: =+IF(P27<H27,(100%-O27),IF(P27=H27,"EJECUTADO 100%","Revisar sobreejecución")) -> 1
C28: 1.5.3 Presentación y evaluación de proyectos | D28: Cada emprendimiento beneficiado presentará su proyecto ante un comité conformado previamente y será evaluado de acuerdo con un sistema de evaluación que será diseñado con la secretaria de desarrollo económico de la gobernación de Antioquia. Para ello recibirán 4 horas de asesoría virtual para preparar la presentación de acuerdo con el instructivo. Una vez evaluados los proyectos, el comité aprobará o no los proyectos presentados para ser financiados. En caso de no ser aprobados, cada emprendimiento puede reformular su proyecto para presentarlo nuevamente | H28: 0.01 | I28: 0 | J28: 0 | K28: 0 | L28: 0 | M28: 0 | N28: 0 | O28: =SUM(I28:N28) -> 0 | P28: =O28*H28 -> 0 | Q28: =+IF(P28<H28,(100%-O28),IF(P28=H28,"EJECUTADO 100%","Revisar sobreejecución")) -> 1
C29: 1.5.4 Financiación del proyecto | D29: Se financiarán los proyectos aprobados por el comité evaluador conformado. A cada emprendimiento se le entregará de manera física en su lugar de operación, las compras correspondientes, relacionadas en el proyecto formulado. A cada emprendedor se le asignará una bolsa de hasta $26.000.000 la cual deberá estar debidamente justificada en su formulación. En el momento de la entrega, con cada emprendedor se firmará un acta de entrega como evidencia del proceso | H29: 0.01 | I29: 0 | J29: 0 | K29: 0 | L29: 0 | M29: 0 | N29: 0 | O29: =SUM(I29:N29) -> 0 | P29: =O29*H29 -> 0 | Q29: =+IF(P29<H29,(100%-O29),IF(P29=H29,"EJECUTADO 100%","Revisar sobreejecución")) -> 1
C30: 1.5.5 Ejecución del proyecto | D30: Se ejecutarán los proyectos de acuerdo con la formulación entregada, para ello, cada emprendimiento recibirá 12 horas de acompañamiento de manera híbrida (virtuales y presenciales) de un profesional donde se realizará seguimiento a la ejecución y se generarán recomendaciones con el propósito de lograr el resultado esperado | H30: 0.03 | I30: 0 | J30: 0 | K30: 0 | L30: 0 | M30: 0 | N30: 0 | O30: =SUM(I30:N30) -> 0 | P30: =O30*H30 -> 0 | Q30: =+IF(P30<H30,(100%-O30),IF(P30=H30,"EJECUTADO 100%","Revisar sobreejecución")) -> 1
A31: 2. Incrementar los niveles de apropiación de tecnologías duras y blandas en los emprendimientos y las organizaciones pertenecientes al sistema alimentario sostenible y sustentable del departamento de Antioquia | B31: 2.1 Realizar actividades de extensionismo tecnológico de Desarrollo de la ruta de la productividad y la innovación para las empresas pertenecientes al sistema alimentario sostenible y sustentable del departamento de Antioquia | C31: 2.1.1 Convocatoria e inscripción de empresas | D31: Se desarrollará una estrategia de convocatoria para lograr la inscripción de las empresas que pertenezcan al sistema alimentario sostenible y sustentable del departamento de Antioquia, que deseen desarrollar el servicio tecnologico en su negocio y que busquen financiamiento de proyectos de innovación. Para ello se definirá en conjunto con la secretaría de desarrollo económico de la gobernación de Antioquia, los requisitos de participación que deberan cumplir aquellas que deseen participar. Para la convocatoria se diseñará y desplegará una estrategia que contenga acciones que responda a las dinámicas de cada subregión. Se habilitarán canales digitales para la recepción de la inscripción de las empresas interesadas en participar y se contará con un sistema de información que relacione la trazabilidad de las empresas desde su proceso de inscripción | E31: 90 empresas con actividades de extensionismo tecnológico realizadas | F31: 90 informes con las evidencias de las actividades de extensionimos tecnologico realizadas en cada una de las empresas seleccionadas | G31: =SUM(H31:H34) -> 0.1 | H31: 0.02 | I31: 0 | J31: 0 | K31: 0.5 | L31: 0 | M31: 0 | N31: 0 | O31: =SUM(I31:N31) -> 0.5 | P31: =O31*H31 -> 0.01 | Q31: =+IF(P31<H31,(100%-O31),IF(P31=H31,"EJECUTADO 100%","Revisar sobreejecución")) -> 0.5
C32: 2.1.2 Selección de empresas beneficiarias | D32: Se diseñará e implementará una herramienta de diagnostico virtual, que permita evaluar la empresa inscrita en términos de nivel de madurez, caracteristicas propias de operación y proyección de crecimiento. Con base a ello, se analizarán las empresas inscritas que cumplen los requisitos mínimos de participación por medio de comité de selección y se seleccionarán los 90 empresas, 10 empresas por subregión como beneficiarias. El comité de selección estaría conformado por la CIB y la Gobernacion de Antioquia | H32: 0.01 | I32: 0 | J32: 0 | K32: 0 | L32: 0 | M32: 0 | N32: 0 | O32: =SUM(I32:N32) -> 0 | P32: =O32*H32 -> 0 | Q32: =+IF(P32<H32,(100%-O32),IF(P32=H32,"EJECUTADO 100%","Revisar sobreejecución")) -> 1
