Workbook

Sheet PRESUPUESTO
B3: OPTIMIZACION DE REDES DE ALCANTARILLADO EN DIFERENTES SECTORES DEL MUNICIPIO DE LA TEBAIDA, DEPARTAMENTO DEL QUINDÍO
B4: ÍTEM | C4: CODIGO | D4: ACTIVIDADES | E4: UNID | F4: CANT | G4: VR UNITARIO | H4: VALOR PARCIAL
B5: 1 | D5: PRELIMINARES Y SEÑALIZACIÓN
B6: 1.1 | C6: APU001 | D6: Localización y replanteo para redes. | E6: Ml | F6: =+CANTIDADES!E8 -> 89 | G6: 3737 | H6: =F6*G6 -> 332593
B7: 1.2 | C7: G-OP004 | D7: Cerramiento en tela polisombra verde y guadua de H=2.1 m (Exteriores). | E7: Ml | F7: =+CANTIDADES!I8 -> 183 | G7: 17017 | H7: =F7*G7 -> 3114111
B8: 1.3 | C8: APU002 | D8: Pasos peatonales provisionales. | E8: UN | F8: 4 | G8: 12786 | H8: =F8*G8 -> 51144
B9: TOTAL PRELIMINARES Y SEÑALIZACIÓN | H9: =SUM(H6:H8) -> 3497848
B10: 2 | D10: CORTES Y DEMOLICIONES | H10: =SUM(H6:H8) -> 3497848
B11: 2.1 | C11: APU003 | D11: Corte de pavimento con disco hasta 10 cm de espesor | E11: Ml | F11: =+CANTIDADES!O24 -> 243 | G11: 11423 | H11: =F11*G11 -> 2775789
B12: 2.2 | C12: G-OP016 | D12: Demolición y rotura de pavimento rigido e>=0,20m (Incluye cargue y retiro de sobrantes hasta 25Km | E12: M3 | F12: =+CANTIDADES!O25 -> 20 | G12: 198400 | H12: =F12*G12 -> 3968000
B13: 2.3 | C13: APU004 | D13: Corte de andén en concreto e=5cm. | E13: Ml | F13: 44 | G13: =+ROUND(4646.136935,2) -> 4646.14 | H13: =F13*G13 -> 204430.16
B14: 2.4 | C14: APU005 | D14: Demolición andén y/o cuneta (Incluye cargue y retiro de sobrantes hasta 25Km | E14: M3 | F14: =+CANTIDADES!D29 -> 3 | G14: 171013 | H14: =F14*G14 -> 513039
B15: 2.5 | C15: APU006 | D15: Demolición Camaras de Inspeccion (Incluye cargue y retiro de sobrantes hasta 25Km | E15: M3 | F15: =+CANTIDADES!K18 -> 3 | G15: 197452 | H15: =F15*G15 -> 592356
B16: TOTAL CORTES Y DEMOLICIONES | H16: =SUM(H11:H15) -> 8053614.2
B17: 3 | D17: MOVIMIENTO DE TIERRA
B18: 3.1 | C18: G-MT003 | D18: Excavación en material común a mano No Incluye cargue y retiro de sobrantes < 2m. | E18: M3 | F18: =+CANTIDADES!O21 -> 197 | G18: 28438 | H18: =F18*G18 -> 5602286
B19: 3.2 | C19: G-MT004 | D19: Excavación en material común a mano No Incluye cargue y retiro de sobrantes >=2m. | E19: M3 | F19: =+CANTIDADES!R8 -> 28 | G19: =+ROUND(49766,2) -> 49766 | H19: =F19*G19 -> 1393448
B20: 3.3 | C20: APU007 | D20: Suministro e instalación de grava TM= 3/8" para cimentación de tubería de alcantarillado, incluye transporte. | E20: M3 | F20: =+CANTIDADES!O28 -> 24 | G20: 152243 | H20: =F20*G20 -> 3653832
B21: 3.4 | C21: G-MT036 | D21: Lleno compactado con material de sitio. | E21: M3 | F21: =+CANTIDADES!O23 -> 86 | G21: 33158 | H21: =F21*G21 -> 2851588
B22: 3.5 | C22: APU008 | D22: Lleno compactado manual con material de prestamo, incluye transporte. | E22: M3 | F22: =+CANTIDADES!O22 -> 168 | G22: 98483 | H22: =F22*G22 -> 16545144
B23: 3.6 | C23: G-PA004 | D23: Suministro, Riego y Compactacion de Sub-Base granular tipo INVIAS (Incluye transporte). | E23: M3 | F23: =+CANTIDADES!O27 -> 22 | G23: 199665 | H23: =F23*G23 -> 4392630
B24: 3.7 | C24: APU009 | D24: Cargue manual y retiro de material sobrante, incluye dispocisión final. | E24: M3 | F24: =+CANTIDADES!O29 -> 156 | G24: 63465 | H24: =F24*G24 -> 9900540
B25: 3.8 | C25: G-DE035 | D25: Entibado en madera cubre ambas caras, 2 usos | E25: M2 | F25: 18.55 | G25: 35261 | H25: =F25*G25 -> 654091.55
B26: TOTAL MOVIMIENTO DE TIERRA | H26: =SUM(H18:H25) -> 44993560
B27: 4 | D27: SUMINISTRO E INSTALACIÓN ALCANTARILLADO | K27: 653400
B28: 4.1 | C28: APU010 | D28: Suministro e instalacion Tuberia Perfilada D=6" | E28: Ml | F28: =+CANTIDADES!D26 -> 66 | G28: 55889 | H28: =F28*G28 -> 3688674
B29: 4.2 | C29: G-DE041 | D29: Suministro e instalacion Tuberia Perfilada D=12" | E29: Ml | F29: =+CANTIDADES!E8 -> 89 | G29: 169151 | H29: =F29*G29 -> 15054439 | K29: 35261
B30: 4.3 | C30: APU011 | D30: Suministro e instalación Kit Silla Yee 12" x 6" | E30: UN | F30: 11 | G30: 219571 | H30: =F30*G30 -> 2415281
B31: TOTAL SUMINISTRO E INSTALACIÓN ALCANTARILLADO | H31: =SUM(H28:H30) -> 21158394
B32: 5 | D32: OBRAS EN CONCRETO | K32: =+K27/K29 -> 18.530388
B33: 5.1 | C33: APU012 | D33: Cuerpo de cámara de inspección Ø=1,2m en concreto de 20,7 Mpa e=0,2m. Incluye acero de refuerzo transversal Ø=3/8" @ 0,25 m y longitudinal Ø=5/8" @0,3 m. | E33: Ml | F33: =+CANTIDADES!J18 -> 5 | G33: 1260791 | H33: =F33*G33 -> 6303955
B34: 5.2 | C34: APU013 | D34: Tapa losa 1,6x1,6m en concreto de 20,7 Mpa e=0,2m, para camara de inspeccion Ø=1/2" Incluye acero de refuerzo doble parrilla Ø=1/2" @ 0,15 m A.S. y tapa en polipropileno mas anillo Ø=0,6m resistente 12,5 toneladas | E34: UN | F34: 2 | G34: 1976903 | H34: =F34*G34 -> 3953806
B35: 5.3 | C35: APU014 | D35: Base y cañuela para camara de inspeccion d= 1,20m en concreto fc 21 Mpa. | E35: UN | F35: 2 | G35: 490516 | H35: =F35*G35 -> 981032
B36: 5.4 | C36: G-HS065 | D36: Caja de inspección de 0,6x0,6x0,6m (libres) en concreto de 17,2 Mpa e=0,08m, tapa reforzada en concreto de 20,7 Mpa con acero de refuerzo Ø= 3/8" @15cm ambos sentidos incluye manija 0,15m libres de agarre, borde con angulos de 2"x1/8". | E36: UN | F36: 11 | G36: 546087 | H36: =F36*G36 -> 6006957
B37: 5.5 | C37: APU015 | D37: Emboquillado de tubería de alcantarillado para empalme a camará de inspección. | E37: UN | F37: 1 | G37: 96736 | H37: =F37*G37 -> 96736
B38: TOTAL OBRAS EN CONCRETO | H38: =SUM(H33:H37) -> 17342486
B39: 6 | D39: PAVIMENTOS Y REPOSICIONES
B40: 6.1 | C40: G-PH009 | D40: Anden concreto simple de 21 Mpa E=0,10 m. | E40: M2 | F40: 11 | G40: 123777 | H40: =F40*G40 -> 1361547
B41: 6.2 | C41: G-PH004 | D41: Pavimento en concreto hidraulico MR 40 de fraguado rapido (fast track) (Incluye encofrado). | E41: M3 | F41: =+CANTIDADES!O26 -> 23 | G41: 1016076 | H41: =F41*G41 -> 23369748
B42: TOTAL PAVIMENTOS Y REPOSICIONES | H42: =SUM(H40:H41) -> 24731295
...

Sheet AIU
B1: =+[1]DATOS!C5 -> REPÚBLICA DE COLOMBIA
B2: =+[1]DATOS!C6 -> DEPARTAMENTO DEL QUINDÍO
B3: =+[1]DATOS!C7 -> SECRETARÍA DE AGUAS E INFRAESTRUCTURA
H5: FECHA: | I5: 45862
B7: CALCULO DEL A. I. U.
B8: SELECCIÓN ABREVIADA DE MENOR CUANTÍA
B9: 1.- | C9: CALCULO DE LA ADMINISTRACION : A
B10: 1.1.- | C10: MANEJO ADMINISTRATIVO MENSUAL
B12: PLAZO PROMEDIO DEL CONTRATO: | F12: 30 | G12: DIAS
B13: COSTO DIRECTO | F13: =+PRESUPUESTO!H46 -> 1.2131307e+08
B14: COSTO DIRECTO
B15: DESCRIPCION | D15: UND | E15: CANT | F15: DEDICACION | G15: COSTO | H15: Valor Total | I15: % Participación
B16: PERSONAL TECNICO Y ADM: (Incluye Prestaciones Soc.)
B17: Residente de obra | D17: MES | E17: 1 | F17: 0.5 | G17: 4550000 | H17: =G17*F17*E17 -> 2275000 | I17: =H17/$F$13 -> 0.018753132
B18: Maestro de obra | D18: MES | E18: 1 | F18: 1 | G18: 3753750 | H18: =G18*F18*E18 -> 3753750 | I18: =H18/$F$13 -> 0.030942668
B19: Topógrafo (dedicacion 30% incluye cadenero y equipo) | D19: MES | E19: 0.5 | F19: 0.3 | G19: 3753750 | H19: =G19*F19*E19 -> 563062.5 | I19: =H19/$F$13 -> 0.0046414002
B20: Inspector SISO | D20: MES | E20: 1 | F20: 0.4 | G20: 3071250 | H20: =G20*F20*E20 -> 1228500 | I20: =H20/$F$13 -> 0.010126691
B21: Profesional Social | D21: MES | E21: 0.5 | F21: 0.25 | G21: 4550000 | H21: =G21*F21*E21 -> 568750 | I21: =H21/$F$13 -> 0.004688283
B22: Subtotal Mensual Personal técnico y administrativo: | H22: =+SUM(H17:H21) -> 8389062.5 | I22: =+SUM(I17:I21) -> 0.069152174
B24: OFICINA, PAPELERIA Y OTROS:
B25: Oficina y equipo de Oficina (Escritorio, pc, impresora, sillas, papeleria), campamento y comunicaciones | D25: MES | E25: 1 | F25: 1 | G25: 1000000 | H25: =(G25*F25*E25) -> 1000000 | I25: =H25/$F$13 -> 0.0082431349
B26: Plan de Gestión Social, Ambiental y Transito | D26: GLB | E26: 1 | F26: 1 | G26: 1000000 | H26: =(G26*F26*E26) -> 1000000 | I26: =H26/$F$13 -> 0.0082431349
B27: Ensayos de suelos y calidad | D27: GLB | E27: 1 | F27: 1 | G27: 1000000 | H27: =(G27*F27*E27) -> 1000000 | I27: =H27/$F$13 -> 0.0082431349
B28: Valla | D28: GLB | E28: 1 | F28: 1 | G28: 450000 | H28: =(G28*F28*E28) -> 450000 | I28: =H28/$F$13 -> 0.0037094107
B29: Subtotal Mensual oficina , papeleria y otros: | H29: =SUM(H25:H28) -> 3450000 | I29: =SUM(I25:I28) -> 0.028438815
B32: 1.2.- | C32: POR LEGALIZACION DEL CONTRATO
C34: Pólizas 1% | H34: 0.008
F35: Total Legalización del Contrato: | H35: =SUM(H34) -> 0.008
B37: 1.3.- | C37: DESCUENTOS TASAS E IMPUESTOS
C39: =+CONCATENATE("Por Estampilla Pro-desarrollo ",H39*100,"%") -> Por Estampilla Pro-desarrollo 2% | H39: 0.02
C40: =+CONCATENATE("Por Estampilla Pro-Hospital ",H40*100,"%") -> Por Estampilla Pro-Hospital 2% | H40: 0.02
C41: =+CONCATENATE("Por Estampilla Pro-Cultura ",H41*100,"%") -> Por Estampilla Pro-Cultura 1% | H41: 0.01
C42: =+CONCATENATE("Por Estampilla Pro-Adulto mayor ",H42*100,"%") -> Por Estampilla Pro-Adulto mayor 3% | H42: 0.03
C43: Tasa Pro-deporte 2,5% | H43: 0.025
C44: =+CONCATENATE("Por Contribución especial ",H44*100,"%") -> Por Contribución especial 5% | H44: 0.05
C45: Pro- universidad 2% | H45: 0.02
F46: Total Descuentos: | H46: =SUM(H39:H45) -> 0.175
C48: RESUMEN DEL CALCULO DEL FACTOR DE ADMINISTRACION: A | H48: %
C49: MANEJO ADMINISTRATIVO MENSUAL PERSONAL TECNICO Y ADMINISTRATIVO | H49: =+I22 -> 0.069152174
C50: MANEJO ADMINISTRATIVO MENSUAL OFICINA, PAPELERIA Y OTROS | H50: =+I29 -> 0.028438815
...

Sheet CANTIDADES
B5: TRAMO | C5: CAMARA INICIAL | D5: CAMARA FINAL | E5: LONGITUD | F5: ANCHO DE ZANJA | G5: EXCAVACION | H5: DIAMETRO | I5: SEÑALIZACION | J5: ALTURA PROMEDIO | K5: ENTIBADO | L5: LLENO ENCAMADO | M5: LLENO SITIO | N5: LLENO PRESTAMO | O5: CORTE PAV | P5: DEMOLICION | Q5: EXCAVACION <2 | R5: EXCAVACION >2
B6: 1 | C6: 715A | D6: 712 | E6: 58.55 | F6: 0.9 | G6: =+((I15+H16)/2)*F6*E6 -> 123.56978 | H6: 12 | I6: =+E6*2 -> 117.1 | J6: =+(I15+H16)/2 -> 2.345 | K6: 0 | L6: =0.2*F6*E6 -> 10.539 | M6: =+G6*0.4 -> 49.42791 | N6: =+(G6-M6) -> 74.141865 | O6: =+E6*2 -> 117.1 | P6: =0.2*F6*E6 -> 10.539 | Q6: =2*F6*E6 -> 105.39 | R6: =+G6-Q6 -> 18.179775
B7: 2 | C7: 712 | D7: 620 | E7: 29.62 | F7: 0.9 | G7: =+((I16+H17)/2)*F7*E7 -> 49.18401 | H7: 12 | I7: =+E7*2 -> 59.24 | J7: =+(I16+H17)/2 -> 1.845 | K7: 0 | L7: =0.2*F7*E7 -> 5.3316 | M7: =+G7*0.4 -> 19.673604 | N7: =+(G7-M7) -> 29.510406 | O7: =+E7*2 -> 59.24 | P7: =0.2*F7*E7 -> 5.3316 | Q7: =+((2+H17)/2)*F7*E7 -> 43.58583 | R7: =+G7-Q7 -> 5.59818
E8: =+ROUNDUP(SUM(E6:E7),0) -> 89 | G8: =+SUM(G6:G7) -> 172.75378 | I8: =+ROUNDUP(SUM(I6:I7)+6,0) -> 183 | L8: =+SUM(L6:L7) -> 15.8706 | M8: =+SUM(M6:M7) -> 69.101514 | N8: =+SUM(N6:N7) -> 103.65227 | O8: =+SUM(O6:O7) -> 176.34 | P8: =+SUM(P6:P7) -> 15.8706 | Q8: =+ROUNDUP(Q6+Q7,0) -> 149 | R8: =+ROUNDUP(R6+R7,0)+4 -> 28
C14: CAMARAS DE INSPECCION | D14: C. Rasante | E14: cota llegada | F14: C. Salida | G14: Estado | H14: Corte llegada | I14: Corte salida | J14: H camaras | K14: Demolicion camaras
C15: 715A | D15: 1194.9 | F15: 1192.53 | G15: Buena | I15: =+D15-F15 -> 2.37 | J15: =+I15 -> 2.37
C16: 712 | D16: 1193.12 | E16: 1190.8 | F16: 1190.7 | G16: N/A | H16: =+D16-E16 -> 2.32 | I16: =+D16-F16 -> 2.42 | J16: =+I16 -> 2.42 | K16: =+((PI()*0.8*0.8)-(PI()*0.6*0.6))*J16 -> 2.1287432
C17: 620 | D17: 1191.1 | E17: 1189.83 | G17: N/A | H17: =+D17-E17 -> 1.27
J18: =+ROUNDUP(J16+J15,0) -> 5 | K18: =+ROUNDUP(K16,0) -> 3
N20: RESUME
N21: EXCAVACION<2 | O21: =+ROUNDUP(Q8+D24,0)+8 -> 197
C22: ACOMETIDAS | F22: LOZA MAL ESTADO | N22: LLENO PRESTAMO | O22: =+ROUNDUP(N8+D25,0)+24 -> 168
C23: Numero | D23: 11 | F23: CORTE | N23: LLENO SITIO | O23: =+ROUNDUP(M8,0)+16 -> 86
C24: Excavacion | D24: =0.6*6*1*D23 -> 39.6 | F24: DEMOLICION | N24: CORTE PAV | O24: =+ROUNDUP(O8+D27+G23,0) -> 243
C25: Lleno prestamo | D25: =+D24 -> 39.6 | F25: PAVIMENTO | G25: 15 | N25: DEMOLICION | O25: =+ROUNDUP(P8+D28+G24,0) -> 20
C26: Longitud | D26: =6*D23 -> 66 | N26: PAVIMENTO | O26: =+ROUNDUP((G25+(3*0.6*D23)+(+F6*E8))*0.2,0) -> 23
C27: corte | D27: =3*2*D23 -> 66 | N27: INVIAS | O27: =+ROUNDUP(E8*0.2*F7+3*0.2*0.6*11+10*0.2,0) -> 22
C28: Demolicion | D28: =3*0.2*0.6*D23 -> 3.96 | N28: ENCAMADO | O28: =ROUNDUP(+L8+0.2*0.6*6*D23,0) -> 24
C29: Demolicion Anden | D29: =+ROUNDUP((D23+2)*0.2,0) -> 3 | N29: CARGUE Y RETIRO | O29: =+ROUNDUP(G8*0.6+8+D24,0)+4 -> 156

Sheet APUs
A3: Localización y replanteo para redes. | E3: APU001 | F3: Unidad: | G3: ml | H3: PDA
A5: Descripción | B5: Unidad | C5: Rendimiento | D5: Vr. Unitario | E5: Equipo | F5: Material | G5: M.D.O.
A6: Equipo de topografia | B6: dia | C6: 0.01 | D6: 58000 | E6: 580
A7: Puntilla promedio | B7: lb | C7: 0.03 | D7: 5933.3333 | F7: 178
A8: Estacón lata de guadua | B8: Und | C8: 0.07 | D8: 4400 | F8: 308
A9: Comision topog. (1 top+2 cad) | B9: Jornal | C9: 0.01 | D9: 250000 | G9: 2500
A10: Acarreo horizontal en obra(4% mo) | B10: Glb | C10: 1 | D10: 31 | E10: 31
A11: Herramienta menor (5% mo) | B11: %mo | C11: 0.05 | D11: 2800 | E11: 140
A12: Total insumos | E12: 751 | F12: 486 | G12: 2500
A13: Costo directo | B13: 3737
H16: Fuente
A17: Pasos peatonales provisionales | E17: APU002 | F17: Unidad: | G17: und | H17: PDA
A19: Descripción | B19: Unidad | C19: Rendimiento | D19: Vr. Unitario | E19: Equipo | F19: Material | G19: M.D.O.
A20: Alquiler madera | B20: Gb | C20: 1 | D20: 4000 | F20: =C20*D20 -> 4000
A21: Cuadrilla 0:0:2 | B21: dia | C21: 0.049997724 | D21: =(10460*8*2) -> 167360 | G21: =C21*D21 -> 8367.619
A22: Herramienta menor (5% mo) | B22: %mdo | C22: 0.05 | D22: =C22*G21 -> 418.38095 | E22: =D22 -> 418.38095
A23: Total insumos | E23: =SUM(E20:E22) -> 418.38095 | F23: =SUM(F20:F22) -> 4000 | G23: =SUM(G20:G22) -> 8367.619
A24: Costo directo | B24: =E23+F23+G23 -> 12786
H27: Fuente
A28: Corte con disco de Pavimento hasta 10cm de espesor | E28: APU003 | F28: Unidad: | G28: ml | H28: PDA
A30: Descripción | B30: Unidad | C30: Rendimiento | D30: Valor | E30: Equipo | F30: Material | G30: M.D.O.
A31: Cortadora de pavimento hasta 10 cm sin operario | B31: ML | C31: 1 | D31: 7910 | E31: =C31*D31 -> 7910
A32: Cuadrilla 0:0:1 | B32: Dia | C32: 0.039997633 | D32: =(10460*8*1) -> 83680 | G32: =C32*D32 -> 3347.0019
A33: Agua | B33: lt | C33: 0.1 | D33: 0.781 | F33: =C33*D33 -> 0.0781
A34: Transporte | B34: und | C34: 0.002 | D34: 82960 | G34: =C34*D34 -> 165.92
A35: Total insumos | E35: =SUM(E31:E34) -> 7910 | F35: =SUM(F31:F34) -> 0.0781 | G35: =SUM(G31:G34) -> 3512.9219
A36: Costo directo | B36: =E35+F35+G35 -> 11423
H39: Fuente
A40: Corte de andén en concreto e=5cm | E40: APU004 | F40: Unidad: | G40: ml | H40: PROYECTA
A42: Descripción | B42: Unidad | C42: Rendimiento | D42: Vr. Unitario | E42: Equipo | F42: Material | G42: M.D.O.
A43: Agua | B43: LT | C43: 5 | D43: 2.61641 | F43: =+D43*C43 -> 13.08205
A44: Cortadpra de concreto E=5cm | B44: dia | C44: 0.02 | D44: 107764.62 | E44: =+D44*C44 -> 2155.2924
A45: Cuadrilla 0:0:2 | B45: dia | C45: 0.1 | D45: 21013.16 | G45: =C45*D45 -> 2101.316
A46: Camioneta de estacas 4X4 | B46: hora | C46: 0.005 | D46: 54276.2 | E46: =+D46*C46 -> 271.381
A47: Herramienta menor (5% mo) | B47: %mdo | C47: 0.05 | D47: 2101.3157 | E47: =D47*C47 -> 105.06579
A48: Total insumos | E48: =SUM(E43:E47) -> 2531.7392 | F48: =SUM(F43:F47) -> 13.08205 | G48: =SUM(G43:G47) -> 2101.316
A49: Costo directo | B49: =E48+F48+G48 -> 4646.1372
H52: Fuente
A53: Demolicion anden y/o cuneta incluye cargue y retiro de sobrantes hasta 25 km | E53: APU005 | F53: Unidad: | G53: M3 | H53: PDA
A55: Descripción | B55: Unidad | C55: Rendimiento | D55: Valor | E55: Equipo | F55: Material | G55: M.D.O.
...

Sheet BIENES RELEVANTES
B3: Descripción | C3: Unidad | D3: Cantidad | E3: Valor unitario | F3: Valor parcial | G3: Porcentaje de participacion
B4: ELEMENTOS EN CONCRETO Y ACERO DE REFUERZO | F4: =+SUM(F5:F11) -> 42073781 | G4: =+F4/$F$22 -> 0.46240495
B5: Cuerpo de cámara de inspección Ø=1,2m en concreto de 20,7 Mpa e=0,2m. Incluye acero de refuerzo transversal Ø=3/8" @ 0,25 m y longitudinal Ø=5/8" @0,3 m. | C5: Ml | D5: 5 | E5: 1260791 | F5: =+E5*D5 -> 6303955 | G5: =+F5/$F$22 -> 0.069282578
B6: Tapa losa 1,6x1,6m en concreto de 20,7 Mpa e=0,2m, para camara de inspeccion O=1/2" Incluye acero de refuerzo doble parrilla O=1/2" @ 0,15 m A.S. y tapa en polipropileno mas anillo O=0,6m resistente 12,5 toneladas | C6: UN | D6: 2 | E6: 1976903 | F6: =+E6*D6 -> 3953806 | G6: =+F6/$F$22 -> 0.043453653
B7: Base y cañuela para camara de inspeccion d= 1,20m en concreto fc 21 Mpa. | C7: UN | D7: 2 | E7: 490516 | F7: =+E7*D7 -> 981032 | G7: =+F7/$F$22 -> 0.01078187
B8: Caja de inspección de 0,6x0,6x0,6m (libres) en concreto de 17,2 Mpa e=0,08m, tapa reforzada en concreto de 20,7 Mpa con acero de refuerzo Ø= 3/8" @15cm ambos sentidos incluye manija 0,15m libres de agarre, borde con angulos de 2"x1/8". | C8: UN | D8: 11 | E8: 546087 | F8: =+E8*D8 -> 6006957 | G8: =+F8/$F$22 -> 0.066018471
B9: Emboquillado de tubería de alcantarillado para empalme a camará de inspección. | C9: UN | D9: 1 | E9: 96736 | F9: =+E9*D9 -> 96736 | G9: =+F9/$F$22 -> 0.0010631611
B10: Anden concreto simple de 21 Mpa E=0,10 m. | C10: M2 | D10: 11 | E10: 123777 | F10: =+E10*D10 -> 1361547 | G10: =+F10/$F$22 -> 0.014963858
B11: Pavimento en concreto hidraulico MR 40 de fraguado rapido (fast track) (Incluye encofrado). | C11: M3 | D11: 23 | E11: 1016076 | F11: =+E11*D11 -> 23369748 | G11: =+F11/$F$22 -> 0.25684136
B12: TUBERIAS DE PVC | F12: =+SUM(F13:F15) -> 21158394 | G12: =+F12/$F$22 -> 0.23253784
B13: Suministro e instalacion Tuberia Perfilada D=6" | C13: Ml | D13: 66 | E13: 55889 | F13: =+E13*D13 -> 3688674 | G13: =+F13/$F$22 -> 0.040539763
B14: Suministro e instalacion Tuberia Perfilada D=12" | C14: Ml | D14: 89 | E14: 169151 | F14: =+E14*D14 -> 15054439 | G14: =+F14/$F$22 -> 0.16545333
B15: Suministro e instalación Kit Silla Yee 12" x 6" | C15: UN | D15: 11 | E15: 219571 | F15: =+E15*D15 -> 2415281 | G15: =+F15/$F$22 -> 0.026544748
B16: OTROS BIENES O INSUMOS | F16: =+SUM(F17:F21) -> 27756861 | G16: =+F16/$F$22 -> 0.3050572
B17: Cerramiento en tela polisombra verde y guadua de H=2.1 m (Exteriores). | C17: Ml | D17: 183 | E17: 17017 | F17: =+E17*D17 -> 3114111 | G17: =+F17/$F$22 -> 0.034225124
B18: Pasos peatonales provisionales. | C18: UN | D18: 4 | E18: 12786 | F18: =+E18*D18 -> 51144 | G18: =+F18/$F$22 -> 0.0005620897
B19: Suministro e instalación de grava TM= 3/8" para cimentación de tubería de alcantarillado, incluye transporte. | C19: M3 | D19: 24 | E19: 152243 | F19: =+E19*D19 -> 3653832 | G19: =+F19/$F$22 -> 0.040156838
B20: Lleno compactado manual con material de prestamo, incluye transporte. | C20: M3 | D20: 168 | E20: 98483 | F20: =+E20*D20 -> 16545144 | G20: =+F20/$F$22 -> 0.18183668
B21: Suministro, Riego y Compactacion de Sub-Base granular tipo INVIAS (Incluye transporte). | C21: M3 | D21: 22 | E21: 199665 | F21: =+E21*D21 -> 4392630 | G21: =+F21/$F$22 -> 0.048276476
B22: 3 | F22: =+F16+F12+F4 -> 90989036
B24: Consolidar y ordenar
B26: Descripción | C26: Porcentaje de participacion | D26: Porcentaje de participacion acumulado
B27: ELEMENTOS EN CONCRETO Y ACERO DE REFUERZO | C27: 0.46240495 | D27: =+C27 -> 0.46240495
B28: TUBERIAS DE PVC | C28: 0.23253784 | D28: =+D27+C28 -> 0.6949428
B29: Lleno compactado manual con material de prestamo, incluye transporte. | C29: 0.18183668 | D29: =+D28+C29 -> 0.87677947
B30: Suministro, Riego y Compactacion de Sub-Base granular tipo INVIAS (Incluye transporte). | C30: 0.048276476 | D30: =+D29+C30 -> 0.92505595
B31: Suministro e instalación de grava TM= 3/8" para cimentación de tubería de alcantarillado, incluye transporte. | C31: 0.040156838 | D31: =+D30+C31 -> 0.96521279
B32: Cerramiento en tela polisombra verde y guadua de H=2.1 m (Exteriores). | C32: 0.034225124 | D32: =+D31+C32 -> 0.99943791
B33: Pasos peatonales provisionales. | C33: 0.0005620897 | D33: =+D32+C33 -> 1
B36: ELEMENTOS EN CONCRETO Y ACERO DE REFUERZO | C36: 0.46240495
B37: TUBERIAS DE PVC | C37: 0.23253784
C38: =+AVERAGE(C36:C37) -> 0.3474714
B40: BIENES RELEVANTES
B41: ELEMENTOS EN CONCRETO Y ACERO DE REFUERZO | C41: 46.24
