Workbook
Name \0: #REF!
Name \00: #REF!
Name \a: #REF!
Name \AA: [1]LIQUIDACION!#REF!
Name \b: [2]STRSUMM0!#REF!
Name \bb: [2]STRSUMM0!#REF!
Name \E: #REF!
Name \EE: #REF!
Name \G: #REF!
Name \k: '[3]7422CW00'!#REF!
Name \l: [4]STRSUMM0!#REF!
Name \M: #REF!
Name \ñ: '[5]7422CW00'!#REF!
Name \P: #REF!
Name \R: #REF!
Name \s: #REF!
Name \V: #REF!
Name \X: 'AIU PMT'!ERR
Name \X: PMT!ERR
Name \X: [0]!ERR
Name \Z: 'AIU PMT'!ERR
Name \Z: PMT!ERR
Name \Z: [0]!ERR
Name _________AFC1: [6]INV!$A$25:$D$28
Name _________AFC3: [6]INV!$F$25:$I$28
Name _________AFC5: [6]INV!$K$25:$N$28
Name _________BGC1: [6]INV!$A$5:$D$8
Name _________BGC3: [6]INV!$F$5:$I$8
Name _________BGC5: [6]INV!$K$5:$N$8
Name _________CAC1: [6]INV!$A$19:$D$22
Name _________CAC3: [6]INV!$F$19:$I$22
Name _________CAC5: [6]INV!$K$19:$N$22
Name _________PJ50: #REF!
Name _________SBC1: [6]INV!$A$12:$D$15
Name _________SBC3: [6]INV!$F$12:$I$15
Name _________SBC5: [6]INV!$K$12:$N$15
Name ________AFC1: [6]INV!$A$25:$D$28
Name ________AFC3: [6]INV!$F$25:$I$28
Name ________AFC5: [6]INV!$K$25:$N$28
Name ________BGC1: [6]INV!$A$5:$D$8
Name ________BGC3: [6]INV!$F$5:$I$8
Name ________BGC5: [6]INV!$K$5:$N$8
Name ________CAC1: [6]INV!$A$19:$D$22
Name ________CAC3: [6]INV!$F$19:$I$22
Name ________CAC5: [6]INV!$K$19:$N$22
Name ________MA2: #REF!
Name ________PJ50: #REF!
Name ________SBC1: [6]INV!$A$12:$D$15
Name ________SBC3: [6]INV!$F$12:$I$15
Name ________SBC5: [6]INV!$K$12:$N$15
Name _______AFC1: [6]INV!$A$25:$D$28
Name _______AFC3: [6]INV!$F$25:$I$28
Name _______AFC5: [6]INV!$K$25:$N$28
Name _______BGC1: [6]INV!$A$5:$D$8
Name _______BGC3: [6]INV!$F$5:$I$8
Name _______BGC5: [6]INV!$K$5:$N$8
Name _______CAC1: [6]INV!$A$19:$D$22
Name _______CAC3: [6]INV!$F$19:$I$22
Name _______CAC5: [6]INV!$K$19:$N$22
Name _______MA2: #REF!

Sheet PGA Y SST
C2: ALCALDÍA MAYOR DE BOGOTÁ D.C.
C3: ALCALDÍA LOCAL DE SANTA FE
C4: ÁREA DE GESTIÓN DE DESARROLLO LOCAL DE SANTA FE
C5: OFICINA DE INFRAESTRUCTURA | M5: ALCALDÍA LOCAL DESANTA FE
C6: ='[117]DATOS ENTRADA'!$B$7 -> OBJETO DE LA LICITACIÓN: | F6: CONTRATAR A MONTO AGOTABLE Y PRECIOS UNITARIOS FIJOS, EL DIAGNÓSTICO Y LAS OBRAS NECESARIAS PARA LA ADECUACIÓN, MANTENIMIENTO Y/O DOTACIÓN DE LOS PARQUES DE PROXIMIDAD (VECINALES Y DE BOLSILLO) DE LA LOCALIDAD DE SANTA FE
C8: PLAN DE GESTIÓN AMBIENTAL, SEGURIDAD Y SALUD EN EL TRABAJO
K10: EJECUCIÓN DE OBRA | N10: 3 | O10: MESES
C11: EJECUCIÓN DE OBRAS
C12: COMPONTE A. MANEJO DE LA VEGETACION Y DEL PAISAJE
C13: ÍTEMS | G13: ESPECIFICACIÓN | H13: UN. | I13: CANTIDAD | K13: VALOR UNITARIO | N13: VALOR TOTAL
C14: A 1 | D14: MANEJO DE LA VEGETACION EXISTENTE Y DE ACTIVIDADES DE DISEÑO PAISAJISTICO
B15: =[118]INSUMOS!A728 -> 7559 | C15: 1.1 | D15: PROTECCION DE ARBOLES | G15: TELA VERDE DE CERRAMIENTO (2.10mx250) | H15: M2 | I15: 100 | K15: 2763 | N15: =ROUND((I15*K15),0) -> 276300
B16: =[118]INSUMOS!A566 -> 7285 | C16: 1.2 | D16: SOPORTE MALLA | G16: VARA DE CORREDOR 6.0 M | H16: UN | I16: 60 | K16: 22050 | N16: =ROUND((I16*K16),0) -> 1323000
H17: SUBTOTAL COMPONENTE A | N17: =SUM(N15:O16) -> 1599300
C19: COMPONTE B. ACTIVIDADES CONSTRUCTIVAS
C20: ÍTEMS | G20: ESPECIFICACIÓN | H20: UN. | I20: CANTIDAD | K20: VALOR UNITARIO | N20: VALOR TOTAL
C21: B 1 | D21: MANEJO DE CAMPAMENTOS Y CENTROS DE ACOPIO
B22: =[118]INSUMOS!A1548 -> 9290 | C22: 1.1 | D22: CANECAS PARA CAMPAMENTOS Y FRENTES DE OBRA | G22: CANECA PLÁSTICA NEGRA DE 55 GALONES CON TAPA PLANA. | H22: UN | I22: 4 | K22: 142496 | N22: =ROUND((I22*K22),0) -> 569984
H23: SUBTOTAL DEL PROGRAMA C 1 | N23: =SUM(N22:N22) -> 569984
C25: B 2 | D25: MANEJO DE MATERIALES DE CONSTRUCCIÓN
B26: =[118]INSUMOS!A725 -> 7556 | C26: 2.1 | D26: PUNTO DE ACOPIO DE MATERIALES | G26: PLASTICO NEGRO CALIBRE 6 | H26: M2 | I26: 60 | K26: 1728 | N26: =ROUND((I26*K26),0) -> 103680
B27: =[118]INSUMOS!A723 -> 7554 | G27: SEÑALIZACION TUBULAR COLOMBINA PLASTICA | H27: UN | I27: 10 | K27: 46520 | N27: =ROUND((I27*K27),0) -> 465200
B28: =[118]INSUMOS!A892 -> 7850 | G28: CINTA PARA SEÑALIZACION DE 500MT X 4" PELIGRO CALIBRE 3.5 | H28: ROLLO | I28: 10 | K28: 26009 | N28: =ROUND((I28*K28),0) -> 260090
H29: SUBTOTAL DEL PROGRAMA C 2 | N29: =SUM(N26:O28) -> 828970
C31: B 3 | D31: MANEJO INTEGRAL DE RESIDUOS SÓLIDOS
B32: =[118]INSUMOS!A725 -> 7556 | C32: 3.1 | D32: ACOPIO TEMPORAL DE RCD EN FRENTES DE OBRA | G32: PLASTICO NEGRO CALIBRE 6 | H32: M2 | I32: 50 | K32: 1728 | N32: =ROUND((I32*K32),0) -> 86400
B33: =[118]INSUMOS!A871 -> 7812 | C33: 3.2 | D33: KIT BRIGADA DE ASEO Y LIMPIEZA | G33: CARRETILLA RUEDA NEUMATICA PLATON METALICO CAPACIDAD CINCO PIES CUBICOS MANGO MADERA TIPO BUGGY | H33: UN | I33: 1 | K33: 292948 | N33: =ROUND((I33*K33),0) -> 292948
B34: =[118]INSUMOS!A1545 -> 9287 | G34: PALA REDONDA 2 CON CABO | H34: UN | I34: 1 | K34: 22046 | N34: =ROUND((I34*K34),0) -> 22046
B35: =[118]INSUMOS!A870 -> 7811 | G35: CEPILLO INDUSTRIAL DE NYLON CON CABO DE 35CM A 42CM X 9CM X 17CM | H35: UN | I35: 2 | K35: 16483 | N35: =ROUND((I35*K35),0) -> 32966
B36: =[118]INSUMOS!A872 -> 7813 | G36: BARRA DE 18LB CON PUNTA Y PALA 150CM X 10CM | H36: UN | I36: 2 | K36: 108900 | N36: =ROUND((I36*K36),0) -> 217800
B37: =[118]INSUMOS!A873 -> 7814 | G37: SERRUCHO DE 20" DIENTE ENDURECIDO | H37: UN | I37: 2 | K37: 36700 | N37: =ROUND((I37*K37),0) -> 73400
B38: =[118]INSUMOS!A874 -> 7815 | G38: MARTILLO DE BOLA DE 2LB | H38: UN | I38: 2 | K38: =VLOOKUP(B38,[118]INSUMOS!$A$2:$D$3882,4,FALSE) -> 41900 | N38: =ROUND((I38*K38),0) -> 83800
B39: =[118]INSUMOS!A1542 -> 9280 | G39: BOLSA PARA BASURA TIPO INDUSTRIAL NEGRA DE 60 x 90 Cm CALIBRE 2 (PAQUETE DE 30 UNIDADES) | H39: UN | I39: 10 | K39: 13475 | N39: =ROUND((I39*K39),0) -> 134750
H40: SUBTOTAL DEL PROGRAMA B 3 | N40: =SUM(N32:O39) -> 944110
C42: B 4 | D42: CONTROL DE EMISIONES ATMOSFERICAS
B43: =[118]INSUMOS!A723 -> 7554 | C43: 4.1 | D43: DEMARCACIÓN DEL ÁREA DE TRABAJO | G43: SEÑALIZACION TUBULAR COLOMBINA PLASTICA | H43: UN | I43: 5 | K43: 46520 | N43: =ROUND((I43*K43),0) -> 232600
B44: 10259 | C44: 4.2 | G44: POLISOMBRA VERDE PARA CERRAMIENTO. (INCLUYE SUMINISTRO E INSTALACION | H44: M2 | I44: 50 | K44: 1985 | N44: =ROUND((I44*K44),0) -> 99250
H45: SUBTOTAL DEL PROGRAMA B 4 | N45: =SUM(N43:O44) -> 331850
C47: B 5 | D47: MANEJO INTEGRAL DE CUERPOS DE AGUA
B48: 7819 | C48: 5.1 | D48: PROTECCIÓN DE SUMIDEROS | G48: PROTECCION A SUMIDEROS (Incluye suministro y colocación de bolsas de lona y geotextil NT 1600 o similar). | H48: UN/MES | I48: 40 | K48: 5984 | N48: =ROUND((I48*K48),0) -> 239360
...

Sheet AIU PGA Y SST
B2: ALCALDÍA MAYOR DE BOGOTÁ
B3: ALCALDÍA LOCAL DE SANTA FE
B4: ÁREA DE GESTIÓN DE DESARROLLO LOCAL DE SANTA FE
B5: OFICINA DE INFRAESTRUCTURA | J5: ALCALDÍA LOCAL DE SANTA FE
B6: OBJETO DE LA LICITACIÓN: | D6: CONTRATAR A MONTO AGOTABLE Y PRECIOS UNITARIOS FIJOS, EL DIAGNÓSTICO Y LAS OBRAS NECESARIAS PARA LA ADECUACIÓN, MANTENIMIENTO Y/O DOTACIÓN DE LOS PARQUES DE PROXIMIDAD (VECINALES Y DE BOLSILLO) DE LA LOCALIDAD DE SANTA FE.
B8: MATRIZ PARA CÁLCULO DE AIU PLAN DE GESTIÓN AMBIENTAL, SEGURIDAD Y SALUD EN EL TRABAJO
B9: SUBTOTAL COMPONENTES A+B+C+D | E9: ='PGA Y SST'!N87 -> 7258213 | I9: FECHA:
B10: TERMINO ESTIMADO DE EJECUCIÓN DE OBRA | E10: 3 | F10: MESES | I10: CONTRATO No.
B12: 1. IMPUESTOS Y GARANTÍAS
B13: 1.1 | C13: IMPUESTOS
B14: ÍTEM | C14: DESCRIPCIÓN | J14: IMPUESTO | L14: VALOR ($)
B15: =B13+0.001 -> 1.101 | C15: Contribución Especial (Impuesto de Guerra Ley 1738 Dic 18-2014 Prórroga 4 años) | J15: 0.05 | L15: =ROUND($E$9*J15,0) -> 362911
B16: =B15+0.001 -> 1.102 | C16: ICA (Ley 14 6 Jul 1983, Res 219 25 Feb 2004) | J16: =6.9/1000 -> 0.0069 | L16: =ROUND($E$9*J16,0) -> 50082
B17: =B16+0.001 -> 1.103 | C17: GMF (Ley 1739 23 Dic 2014 modifica el Estatuto Tributario) | J17: =(4/1000) -> 0.004 | L17: =ROUND($E$9*J17,0) -> 29033
B18: =B17+0.001 -> 1.104 | C18: Retefuente | J18: 0.02 | L18: =ROUND($E$9*J18,0) -> 145164
B19: =B18+0.001 -> 1.105 | C19: Estampilla Unipedagógica (Dec 584 de 19 Dic 2014) | J19: 0.005 | L19: =ROUND($E$9*J19,0) -> 36291
C20: SUBTOTAL IMPUESTOS | L20: =SUM(L15:L19) -> 623481
B22: =B13+0.1 -> 1.2 | C22: GARANTIAS
B23: ÍTEM | C23: DESCRIPCIÓN | E23: VR. BASE | G23: % ASEGURADO | I23: VIGENCIA AMPARO (MESES) | J23: TASA ASEGURADORA | L23: VALOR ($)
B24: =B22+0.001 -> 1.201 | C24: Cumplimiento | D24: GARANTÍA ÚNICA | E24: =E9 -> 7258213 | G24: 0.1 | I24: 12 | J24: 0.004 | L24: =(((((E24*G24)*J24)/12)*I24)+2500)*1.19 -> 6429.9094
B25: =B24+0.001 -> 1.202 | C25: Buen Manejo de Anticipo | E25: =E9*0.3 -> 2177463.9 | G25: 1 | I25: 6 | J25: 0.004 | L25: =(((((E25*G25)*J25)/12)*I25)+2500)*1.19 -> 8157.3641
B26: =B25+0.001 -> 1.203 | C26: Salarios y Prestaciones Sociales | E26: =E9 -> 7258213 | G26: 0.05 | I26: 42 | J26: 0.003 | L26: =(((((E26*G26)*J26)/12)*I26)+2500)*1.19 -> 7509.5686
B27: =B26+0.001 -> 1.204 | C27: Estabilidad de la Obra | E27: =E9 -> 7258213 | G27: 0.3 | I27: 60 | J27: 0.004 | L27: =(((((E27*G27)*J27)/12)*I27)+2500)*1.19 -> 54798.641
B28: =B27+0.001 -> 1.205 | C28: Predios, labores y Operaciones- Vigencia (Decreto 1082 de 2015 Sección III) | D28: RESPONSABILIDAD CIVIL EXTRACONTRACTUAL | E28: =200*1300000 -> 260000000 | G28: 200 SMMLV | I28: 6 | J28: 0.004 | L28: =((((E28*J28)/12)*I28)+2500)*1.19 -> 621775
C30: SUBTOTAL GARANTÍAS | L30: =ROUND((SUM(L24:L28)),0) -> 698670
C32: TOTAL IMPUESTOS Y GARANTÍAS | L32: =L20+L30 -> 1322151
C33: TOTAL IMPUESTOS Y GARANTÍAS EN PORCENTAJE DEL COSTO DIRECTO | L33: =L32/E9 -> 0.1821593
C35: A. ADMINISTRACIÓN (1 + 2 + 3) | L35: =L33 -> 0.1821593
C36: I. IMPREVISTOS | L36: ='[118]AIU OBRA'!L72 -> 0.01
C37: U. UTILIDAD | L37: 0.05
C39: A.I.U. (ADMINISTRACIÓN, IMPREVISTOS Y UTILIDAD) | L39: =SUM(L35:L37) -> 0.2421593

Sheet PGS
C3: ALCALDÍA MAYOR DE BOGOTÁ
C4: ALCALDÍA LOCAL DE SANTA FE
C5: ÁREA DE GESTIÓN DE DESARROLLO LOCAL DE SANTA FE
C6: OFICINA DE INFRAESTRUCTURA | K6: ALCALDÍA LOCAL DE SANTA FE
C7: ='[119]D. ENTRADA'!B7 -> OBJETO DE LA LICITACIÓN: | E7: CONTRATAR A MONTO AGOTABLE Y PRECIOS UNITARIOS FIJOS, EL DIAGNÓSTICO Y LAS OBRAS NECESARIAS PARA LA ADECUACIÓN, MANTENIMIENTO Y/O DOTACIÓN DE LOS PARQUES DE PROXIMIDAD (VECINALES Y DE BOLSILLO) DE LA LOCALIDAD DE SANTA FE
H8: EJECUCIÓN DE OBRA | K8: 3 | L8: MESES
C9: CONTROL DE INVERSIÓN GESTIÓN SOCIAL PARA OBRAS
C10: Componente A. Plan de Gestión Social
C11: COMPONENTE | E11: Unidad | F11: Valor Unitario | J11: Cantidad Obra | L11: Subtotal
C12: A.1 | D12: Programa de Información
B13: =[118]INSUMOS!A895 -> 7870 | C13: A.1.1 | D13: VÍDEO BEAM - ALQUILER POR DIA | E13: DIA | F13: 100862 | J13: 3 | L13: =ROUND((F13*J13),0) -> 302586
K14: Subtotal Programa de Información | L14: =SUM(L13:L13) -> 302586
C15: A.2 | D15: Programa de Divulgación al Ciudadano
B16: =[118]INSUMOS!A903 -> 7897 | C16: A.2.1 | D16: AFICHE TAMAÑO MEDIO PLIEGO A 4X0 TINTAS EN PROPALCOTE DE 115 GR. | E16: UN | F16: 1345 | J16: 30 | L16: =ROUND((F16*J16),0) -> 40350
B17: =[118]INSUMOS!A904 -> 7898 | C17: A.2.2 | D17: PLEGABLES DE SOSTENIBILIDAD EN TRES CUERPOS TAMAÑO CARTA A 4X4 TINTAS EN PROPALCOTE. | E17: UN | F17: 719 | J17: 30 | L17: =ROUND((F17*J17),0) -> 21570
B18: =[118]INSUMOS!A902 -> 7896 | C18: A.2.3 | D18: IMPRESIÓN HOJA CARTA, A 1X0 TINTAS EN PAPEL BOND DE 75 GR. | E18: UN | F18: 161 | J18: 2500 | L18: =ROUND((F18*J18),0) -> 402500
K19: Subtotal Programa de Divulgación al Ciudadano | L19: =SUM(L16:L18) -> 464420
C21: COMPONENTE | E21: Unidad | F21: Valor Unitario | G21: Cantidad | I21: Dedicación Mes | J21: Plazo (Meses) | K21: Dedicación Total (Meses) | L21: Subtotal
C22: B.1 | D22: Adecuación del Punto IDU - Atención al Ciudadano
B23: =[118]INSUMOS!A1929 -> 9840 | C23: B.1.1 | D23: TARIFA MES - EDICIÓN DE INFORME MENSUAL DE INTERVENTORÍA O CONSULTORÍA. Incluye 4 tapas plastificadas tamaño carta color blanco, con 6 tornillos, hojas de papel bond tamaño carta 75 gramos, 170 folios | E23: UN/MES | F23: 251000 | G23: 1 | I23: 0.5 | J23: =$K$8 -> 3 | K23: =G23*I23*J23 -> 1.5 | L23: =ROUND((F23*K23*J23),0) -> 1129500
B24: 6170 | C24: B.1.2 | D24: ALQUILER DE SILLA PARA ESCRITORIO PARA PUESTO DE TRABAJO | E24: UN/MES | F24: 10519 | G24: 5 | I24: 0.5 | J24: =$K$8 -> 3 | K24: =G24*I24*J24 -> 7.5 | L24: =ROUND((F24*J24*K24),0) -> 236678
B25: 6169 | C25: B.1.3 | D25: ALQUILER DE PUESTO DE TRABAJO - ESCRITORIO 75x120x50cm | E25: UN/MES | F25: 11639 | G25: 5 | I25: 0.5 | J25: =$K$8 -> 3 | K25: =G25*I25*J25 -> 7.5 | L25: =ROUND((F25*J25*K25),0) -> 261878
B26: 6172 | C26: B.1.4 | D26: ALQUILER DE SILLA PLÁSTICA SIN BRAZOS | E26: UN/MES | F26: 3039 | G26: 5 | I26: 0.3 | J26: =$K$8 -> 3 | K26: =G26*I26*J26 -> 4.5 | L26: =ROUND((F26*J26*K26),0) -> 41027
B27: =[118]INSUMOS!A1412 -> 9048 | C27: B.1.5 | D27: CARTELERA CON MARCO EN ALUMINIO ANODIZADO, PAÑO COLOR GRIS CON CENEFA SUPERIOR, PUERTAS CORREDIZAS. Incl. transporte | E27: UN | F27: 568502 | G27: 1 | J27: 1 | K27: 1 | L27: =ROUND((F27*K27*G27),0) -> 568502
B28: 11834 | C28: B.1.6 | D28: AVISO PUNTO CREA 1.50m x 0.90m EN LÁMINA GALVANIZADA CAL. 24. INCLUYE SUMINISTRO E INSTALACIÓN | E28: UN | F28: 799680 | G28: 1 | J28: 1 | K28: 1 | L28: =ROUND((F28*K28*G28),0) -> 799680
B29: =[118]ÍTEMS!A2060 -> 6318 | C29: B.1.7 | D29: ALQUILER DE PORTATIL. CARACTERÍSTICAS: Procesador intel, Core i3 4005U, celeron o similar, Memoria RAM de 4 GB ( 2 x 2048 MB)Disco duro de 500gb a 7200 rpmPantalla LED HP BrightView widescreen de alta definición con 35,6 cm (14") o similar, HD INTEL GRAPHIC HD4400UNIDAD DE DVD QUEMADORBLUETOOTH | E29: UN/MES | F29: 124818 | G29: 2 | I29: 0.5 | J29: =$K$8 -> 3 | K29: =G29*I29*J29 -> 3 | L29: =ROUND((F29*K29*J29),0) -> 1123362
K30: Subtotal Programa de Atención al Ciudadano | L30: =SUM(L23:L29)+L14+L19 -> 4927633
D32: SUBTOTAL COSTOS DE SUBPROGRAMAS DE PLAN DE GESTIÓN SOCIAL | L32: =L14+L19+L30 -> 5694639
D34: SUBTOTAL COSTO DEL PLAN DE GESTIÓN SOCIAL | L34: =+L32 -> 5694639
D36: AIU | K36: ='AIU PGS'!L39 -> 0.26184655 | L36: =L34*K36 -> 1491121.6
D38: TOTAL COSTO DEL PLAN DE GESTIÓN SOCIAL | L38: =L34+L36 -> 7185760.6
L40: =L38/446754098.41 -> 0.016084375
L41: =L40 -> 0.016084375 | M41: 1.61

Sheet AIU PGS
B2: ALCALDÍA MAYOR DE BOGOTÁ
B3: ALCALDÍA LOCAL DE SANTA FE
B4: ÁREA DE GESTIÓN DE DESARROLLO LOCAL SANTA FE
B5: OFICINA DE INFRAESTRUCTURA | J5: ALCALDÍA LOCAL DE SANTA FE
B6: OBJETO DE LA LICITACIÓN: | D6: CONTRATAR A MONTO AGOTABLE Y PRECIOS UNITARIOS FIJOS, EL DIAGNÓSTICO Y LAS OBRAS NECESARIAS PARA LA ADECUACIÓN, MANTENIMIENTO Y/O DOTACIÓN DE LOS PARQUES DE PROXIMIDAD (VECINALES Y DE BOLSILLO) DE LA LOCALIDAD DE SANTA FE
B8: MATRIZ PARA CÁLCULO DE AIU PLAN DE GESTIÓN SOCIAL
B9: SUBTOTAL COMPONENTES A+B | E9: =PGS!L34 -> 5694639 | I9: FECHA:
B10: TERMINO ESTIMADO DE EJECUCIÓN DE OBRA | E10: 3 | F10: MESES | I10: CONTRATO No.
B12: 3. IMPUESTOS Y GARANTÍAS
B13: 3.1 | C13: IMPUESTOS
B14: ÍTEM | C14: DESCRIPCIÓN | J14: IMPUESTO | L14: VALOR ($)
B15: =B13+0.001 -> 3.101 | C15: Contribución Especial (Impuesto de Guerra Ley 1738 Dic 18-2014 Prórroga 4 años) | J15: 0.05 | L15: =ROUND($E$9*J15,0) -> 284732
B16: =B15+0.001 -> 3.102 | C16: ICA (Ley 14 6 Jul 1983, Res 219 25 Feb 2004) | J16: =6.9/1000 -> 0.0069 | L16: =ROUND($E$9*J16,0) -> 39293
B17: =B16+0.001 -> 3.103 | C17: GMF (Ley 1739 23 Dic 2014 modifica el Estatuto Tributario) | J17: =(4/1000) -> 0.004 | L17: =ROUND($E$9*J17,0) -> 22779
B18: =B17+0.001 -> 3.104 | C18: Retefuente | J18: 0.02 | L18: =ROUND($E$9*J18,0) -> 113893
B19: =B18+0.001 -> 3.105 | C19: Estampilla Unipedagógica (Dec 584 de 19 Dic 2014) | J19: 0.005 | L19: =ROUND($E$9*J19,0) -> 28473
C20: SUBTOTAL IMPUESTOS | L20: =SUM(L15:L19) -> 489170
B22: =B13+0.1 -> 3.2 | C22: GARANTIAS
B23: ÍTEM | C23: DESCRIPCIÓN | E23: VR. BASE | G23: % ASEGURADO | I23: VIGENCIA AMPARO (MESES) | J23: TASA ASEGURADORA | L23: VALOR ($)
B24: =B22+0.001 -> 3.201 | C24: Cumplimiento | D24: GARANTÍA ÚNICA | E24: =E9 -> 5694639 | G24: 0.1 | I24: 12 | J24: 0.004 | L24: =(((((E24*G24)*J24)/12)*I24)+2500)*1.19 -> 5685.6482
B25: =B24+0.001 -> 3.202 | C25: Buen Manejo de Anticipo | E25: =E9*0.3 -> 1708391.7 | G25: 1 | I25: 6 | J25: 0.004 | L25: =(((((E25*G25)*J25)/12)*I25)+2500)*1.19 -> 7040.9722
B26: =B25+0.001 -> 3.203 | C26: Salarios y Prestaciones Sociales | E26: =E9 -> 5694639 | G26: 0.05 | I26: 42 | J26: 0.003 | L26: =(((((E26*G26)*J26)/12)*I26)+2500)*1.19 -> 6532.7257
B27: =B26+0.001 -> 3.204 | C27: Estabilidad de la Obra | E27: =E9 -> 5694639 | G27: 0.3 | I27: 24 | J27: 0.004 | L27: =(((((E27*G27)*J27)/12)*I27)+2500)*1.19 -> 19238.889
B28: =B27+0.001 -> 3.205 | C28: Predios, labores y Operaciones- Vigencia (Decreto 1082 de 2015 Sección III) | D28: RESPONSABILIDAD CIVIL EXTRACONTRACTUAL | E28: =200*1300000 -> 260000000 | G28: 200 SMMLV | I28: 6 | J28: 0.004 | L28: =((((E28*J28)/12)*I28)+2500)*1.19 -> 621775
C30: SUBTOTAL GARANTÍAS | L30: =SUM(L24:L28) -> 660273.24
C32: TOTAL IMPUESTOS Y GARANTÍAS | L32: =L20+L30 -> 1149443.2
C33: TOTAL IMPUESTOS Y GARANTÍAS EN PORCENTAJE DEL COSTO DIRECTO | L33: =L32/E9 -> 0.20184655
C35: A. ADMINISTRACIÓN (1 + 2 + 3) | L35: =L33 -> 0.20184655
C36: I. IMPREVISTOS | L36: ='[118]AIU OBRA'!L72 -> 0.01
C37: U. UTILIDAD | L37: 0.05
C39: A.I.U. (ADMINISTRACIÓN, IMPREVISTOS Y UTILIDAD) | L39: =SUM(L35:L37) -> 0.26184655

Sheet PMT
C2: ALCALDÍA MAYOR DE BOGOTÁ
C3: ALCALDÍA LOCAL DE SANTA FE
C4: ÁREA DE GESTIÓN DE DESARROLLO LOCAL DE SANTA FE
C5: OFICINA DE INFRAESTRUCTURA | M5: ALCALDÍA LOCAL DE SANTA FE
C6: OBJETO DE LA LICITACIÓN: | E6: CONTRATAR A MONTO AGOTABLE Y PRECIOS UNITARIOS FIJOS, EL DIAGNÓSTICO Y LAS OBRAS NECESARIAS PARA LA ADECUACIÓN, MANTENIMIENTO Y/O DOTACIÓN DE LOS PARQUES DE PROXIMIDAD (VECINALES Y DE BOLSILLO) DE LA LOCALIDAD DE SANTA FE
C8: CONTROL DE INVERSIÓN PLAN DE MANEJO DE TRÁNSITO
E10: PLAZO: | G10: 3 | H10: MESES
C12: No. | D12: DESCRIPCIÓN | E12: TIEMPO | G12: CAT | H12: VALOR UNITARIO (MENSUAL) | I12: F.P. | J12: DIAGNÓSTICOS | K12: OBRA | M12: CANT TOTAL | N12: VR TOTAL
E13: Und | F13: Cant | J13: 1 | K13: 2 | L13: 3
C14: 1 | D14: PERSONAL
D15: AFORADOR
B16: 001550 | C16: 1.1 | D16: TARIFA MES - PERSONAL DE OBRA - AYUDANTE (No incluye Factor de Prestaciones) | E16: MES | F16: 1 | H16: 1423500 | I16: 1.54 | J16: 0 | K16: 0.5 | L16: 0.4 | M16: =(SUM(J16:L16))*F16 -> 0.9 | N16: =ROUND((H16*I16*M16),0) -> 1972971
D17: PALETERO
B18: 001550 | C18: 1.2 | D18: TARIFA MES - PERSONAL DE OBRA - AYUDANTE (No incluye Factor de Prestaciones) | E18: MES | F18: 1 | H18: 1423500 | I18: 1.54 | J18: 0 | K18: 0.5 | L18: 0.4 | M18: =(SUM(J18:L18))*F18 -> 0.9 | N18: =ROUND((H18*I18*M18),0) -> 1972971
M19: SUBTOTAL COSTOS PERSONAL | N19: =N16+N18 -> 3945942
C20: 2 | D20: OTROS
D21: SEÑALIZACION TEMPORAL
B22: =[118]ÍTEMS!A1174 -> 4928 | C22: 2.1 | D22: CANALIZACIÓN DE TRÁFICO (INSTALACIÓN, MANTENIMIENTO Y DESINSTALACIÓN MENSUAL) CON SEÑALIZADORES TUBULARES COLOMBINA PLÁSTICA Y TRIPLE CINTA DE SEÑALIZACIÓN (INCLUYE ALQUILER DE SEÑALIZADORES TUBULARES). LONGITUD 3 METROS. | E22: UN/MES | F22: 1 | H22: 9251 | K22: 1 | L22: 1 | M22: =(SUM(J22:L22))*F22 -> 2 | N22: =ROUND((M22*H22),0) -> 18502
B23: =[118]ÍTEMS!A1938 -> 6178 | C23: 2.2 | D23: ALQUILER SEÑAL VERTICAL GRUPO I (75x75cm) (Incluye Suministro e Instalación) | E23: UN/MES | F23: 1 | H23: 24600 | K23: 1 | L23: 1 | M23: =(SUM(J23:L23))*F23 -> 2 | N23: =ROUND((M23*H23),0) -> 49200
B24: =[118]ÍTEMS!A1944 -> 6186 | C24: 2.3 | D24: ALQUILER BARRERA RELLENABLE (2.00x0.55x1.00m) | E24: UN/MES | F24: 1 | H24: 19693 | K24: 1 | L24: 1 | M24: =(SUM(J24:L24))*F24 -> 2 | N24: =ROUND(M24*H24,0) -> 39386
B25: =[118]ÍTEMS!A1945 -> 6187 | C25: 2.4 | D25: ALQUILER DE SEÑAL LUMINOSA BIDIRECCIONAL 1.50m x 0.50m (INCLUYE INSTALACIÓN, MANTENIMIENTO Y DESINSTALACIÓN). | E25: UN/MES | F25: 1 | H25: 169650 | K25: 1 | L25: 1 | M25: =(SUM(J25:L25))*F25 -> 2 | N25: =ROUND(M25*H25,0) -> 339300
B26: =[118]INSUMOS!A1513 -> 9211 | C26: 2.5 | D26: PASACALLE IMPRESO EN LONA BANNER (7.00m x 1.00m) INCLUYE PALOS A LOS EXTREMOS | E26: UN | F26: 1 | H26: 235312 | K26: 1 | L26: 1 | M26: =(SUM(J26:L26))*F26 -> 2 | N26: =ROUND(M26*H26,0) -> 470624
B27: 7850 | C27: 2.6 | D27: CINTA DE SEÑALIZACION CAL 4 (ROLLO 500mx0.10m) | E27: UN | F27: 7 | H27: 26009 | K27: 1 | L27: 1 | M27: =(SUM(J27:L27))*F27 -> 14 | N27: =ROUND(M27*H27,0) -> 364126
B28: =[118]ÍTEMS!A1941 -> 6181 | C28: 2.7 | D28: ALQUILER DE PALETA PARE-SIGA EN POLIETILENO. | E28: UN/MES | F28: 8 | H28: 2698 | K28: 1 | L28: 1 | M28: =(SUM(J28:L28))*F28 -> 16 | N28: =ROUND(M28*H28,0) -> 43168
M29: SUBTOTAL OTROS COSTOS DIRECTOS | N29: =SUM(N21:N28) -> 1324306
H31: SUB TOTAL | N31: =N19+N29 -> 5270248
H32: A.I.U | M32: ='AIU PMT'!L39 -> 0.15710591 | N32: =N31*M32 -> 827987.09
H33: VALOR TOTAL | N33: =N31+N32 -> 6098235.1
N35: =N33/446754098.41 -> 0.013650093
N36: =N35 -> 0.013650093 | O36: 1.37

Sheet AIU PMT
B2: ALCALDÍA MAYOR DE BOGOTÁ
B3: ALCALDÍA LOCAL DE SANTA FE
B4: ÁREA DE GESTIÓN DE DESARROLLO LOCAL DE SANTA FE
B5: OFICINA DE INFRAESTRUCTURA | J5: ALCALDÍA LOCAL DE SANTA FE
B6: OBJETO DE LA LICITACIÓN: | D6: CONTRATAR A MONTO AGOTABLE Y PRECIOS UNITARIOS FIJOS, EL DIAGNÓSTICO Y LAS OBRAS NECESARIAS PARA LA ADECUACIÓN, MANTENIMIENTO Y/O DOTACIÓN DE LOS PARQUES DE PROXIMIDAD (VECINALES Y DE BOLSILLO) DE LA LOCALIDAD DE SANTA FE
B8: MATRIZ PARA CÁLCULO DE AIU PLAN DE MANEJO DE TRÁNSITO
B9: SUBTOTAL COMPONENTES A+B+C+D+E | E9: =[120]PMT!Q36 -> 281488882 | I9: FECHA:
B10: TERMINO ESTIMADO DE EJECUCIÓN DE OBRA | E10: 3 | F10: MESES | I10: CONTRATO No.
B12: 3. IMPUESTOS Y GARANTÍAS
B13: 3.1 | C13: IMPUESTOS
B14: ÍTEM | C14: DESCRIPCIÓN | J14: IMPUESTO | L14: VALOR ($)
B15: =B13+0.001 -> 3.101 | C15: Contribución Especial (Impuesto de Guerra Ley 1738 Dic 18-2014 Prórroga 4 años) | J15: 0.05 | L15: =ROUND($E$9*J15,0) -> 14074444
B16: =B15+0.001 -> 3.102 | C16: ICA (Ley 14 6 Jul 1983, Res 219 25 Feb 2004) | J16: =6.9/1000 -> 0.0069 | L16: =ROUND($E$9*J16,0) -> 1942273
B17: =B16+0.001 -> 3.103 | C17: GMF (Ley 1739 23 Dic 2014 modifica el Estatuto Tributario) | J17: =(4/1000) -> 0.004 | L17: =ROUND($E$9*J17,0) -> 1125956
B18: =B17+0.001 -> 3.104 | C18: Retefuente | J18: 0.02 | L18: =ROUND($E$9*J18,0) -> 5629778
B19: =B18+0.001 -> 3.105 | C19: Estampilla Unipedagógica (Dec 584 de 19 Dic 2014) | J19: 0.005 | L19: =ROUND($E$9*J19,0) -> 1407444
C20: SUBTOTAL IMPUESTOS | L20: =SUM(L15:L19) -> 24179895
B22: =B13+0.1 -> 3.2 | C22: GARANTIAS
B23: ÍTEM | C23: DESCRIPCIÓN | E23: VR. BASE | G23: % ASEGURADO | I23: VIGENCIA AMPARO (MESES) | J23: TASA ASEGURADORA | L23: VALOR ($)
B24: =B22+0.001 -> 3.201 | C24: Cumplimiento | D24: GARANTÍA ÚNICA | E24: =E9 -> 281488882 | G24: 0.1 | I24: 12 | J24: 0.004 | L24: =(((((E24*G24)*J24)/12)*I24)+2500)*1.19 -> 136963.71
B25: =B24+0.001 -> 3.202 | C25: Buen Manejo de Anticipo | E25: =E9*0.3 -> 84446665 | G25: 1 | I25: 6 | J25: 0.004 | L25: =(((((E25*G25)*J25)/12)*I25)+2500)*1.19 -> 203958.06
B26: =B25+0.001 -> 3.203 | C26: Salarios y Prestaciones Sociales | E26: =E9 -> 281488882 | G26: 0.05 | I26: 42 | J26: 0.003 | L26: =(((((E26*G26)*J26)/12)*I26)+2500)*1.19 -> 178835.18
B27: =B26+0.001 -> 3.204 | C27: Estabilidad de la Obra | E27: =E9 -> 281488882 | G27: 0.3 | I27: 60 | J27: 0.004 | L27: =(((((E27*G27)*J27)/12)*I27)+2500)*1.19 -> 2012805.6
B28: =B27+0.001 -> 3.205 | C28: Predios, labores y Operaciones- Vigencia (Decreto 1082 de 2015 Sección III) | D28: RESPONSABILIDAD CIVIL EXTRACONTRACTUAL | E28: =200*1300000 -> 260000000 | G28: 200 SMMLV | I28: 6 | J28: 0.004 | L28: =((((E28*J28)/12)*I28)+2500)*1.19 -> 621775
C30: SUBTOTAL GARANTÍAS | L30: =ROUND((SUM(L24:L28)),0) -> 3154338
C32: TOTAL IMPUESTOS Y GARANTÍAS | L32: =L20+L30 -> 27334233
C33: TOTAL IMPUESTOS Y GARANTÍAS EN PORCENTAJE DEL COSTO DIRECTO | L33: =L32/E9 -> 0.097105906
C35: A. ADMINISTRACIÓN (1 + 2 + 3) | L35: =L33 -> 0.097105906
C36: I. IMPREVISTOS | L36: ='[118]AIU OBRA'!L72 -> 0.01
C37: U. UTILIDAD | L37: 0.05
C39: A.I.U. (ADMINISTRACIÓN, IMPREVISTOS Y UTILIDAD) | L39: =SUM(L35:L37) -> 0.15710591

Sheet Hoja1
