Workbook
Name APU: '[7]2.6'!#REF!
Name APU: '[7]2.6'!#REF!
Name APU: '[7]2.6'!#REF!
Name APU: '[7]2.6'!#REF!
Name APU: '[7]2.6'!#REF!
Name APU: '[7]2.6'!#REF!
Name APU: '[7]2.6'!#REF!
Name APU: '[7]2.6'!#REF!
Name APU: '[7]2.6'!#REF!
Name APU: '[7]2.6'!#REF!
Name APU: '[7]2.6'!#REF!
Name APU: '[7]2.6'!#REF!
Name APU: '[7]2.6'!#REF!
Name APU: '[7]2.6'!#REF!
Name APU: '[7]2.6'!#REF!
Name APU: '[7]2.6'!#REF!
Name APU: #REF!
Name APU: [8]APU!#REF!
Name APU: #REF!
Name APU: [9]APU!#REF!
Name APU: '[7]2.6'!#REF!
Name APU: #REF!
Name APU: #REF!
Name APU: #REF!
Name APU: [10]APU!#REF!
Name APU: #REF!
Name APU: '[7]2.6'!#REF!
Name APU: '[7]2.6'!#REF!
Name APUAUXILIARES: #REF!
Name APUAUXILIARES: #REF!
Name APUAUXILIARES: #REF!
Name APUAUXILIARES: #REF!
Name APUAUXILIARES: #REF!
Name APUAUXILIARES: #REF!
Name APUAUXILIARES: #REF!
Name APUAUXILIARES: #REF!
Name APUAUXILIARES: #REF!
Name APUAUXILIARES: #REF!
Name APUAUXILIARES: #REF!
Name APUAUXILIARES: #REF!
Name APUAUXILIARES: #REF!
Name APUAUXILIARES: #REF!
Name APUAUXILIARES: '[11]APU AUXILIARES'!$A$1:$G$807
Name APUAUXILIARES: 'APU AUXILIARES (2)'!$A$1:$G$809
Name APUAUXILIARES: '[11]APU AUXILIARES'!$A$1:$G$807
Name APUAUXILIARES: '[9]APU AUXILIARES'!$A$1:$G$807
Name APUAUXILIARES: #REF!
Name APUAUXILIARES: '[11]APU AUXILIARES'!$A$1:$G$807
Name APUAUXILIARES: #REF!
Name APUAUXILIARES: '[11]APU AUXILIARES'!$A$1:$G$807
Name APUAUXILIARES: '[11]APU AUXILIARES'!$A$1:$G$807
Name APUAUXILIARES: '[10]APU AUXILIARES'!$A$1:$G$807
Name APUAUXILIARES: '[11]APU AUXILIARES'!$A$1:$G$807
Name APUAUXILIARES: #REF!
Name CODIGOEQUIPOS: '[11]INSUMOS EQUIPOS'!$A$7:$A$50
Name CODIGOEQUIPOS: '[8]INSUMOS EQUIPOS'!$A$7:$A$50
Name CODIGOEQUIPOS: '[11]INSUMOS EQUIPOS'!$A$7:$A$50
Name CODIGOEQUIPOS: '[9]INSUMOS EQUIPOS'!$A$7:$A$50
Name CODIGOEQUIPOS: '[11]INSUMOS EQUIPOS'!$A$7:$A$50
Name CODIGOEQUIPOS: '[11]INSUMOS EQUIPOS'!$A$7:$A$50

Sheet DATOS INICIALES
B1: DEPARTAMENTO DE ANTIOQUIA
B2: MUNICIPIO DE DABEIBA
B3: =B7 -> REPARACION DE PUENTE DE MADERA PARA CAMINOS DE HERRADURA QUE CONECTA LA VEREDA CHAMBUSCADO CON LA VEREDA LA ARGELIA Y DEMAS VEREDAS VECINAS DEL MUNICIPIO DE DABEIBA ANTIOQUIA.
B5: DATOS INICIALES
A6: ENTIDAD: | B6: MUNICIPIO DE DABEIBA | C6: Elija el municipio de la lista desplegable
A7: NOMBRE DEL PROYECTO: | B7: REPARACION DE PUENTE DE MADERA PARA CAMINOS DE HERRADURA QUE CONECTA LA VEREDA CHAMBUSCADO CON LA VEREDA LA ARGELIA Y DEMAS VEREDAS VECINAS DEL MUNICIPIO DE DABEIBA ANTIOQUIA. | C7: Digite el nombre del proyecto. Recuerde que debe coincidir con el objeto del contrato resultante de este proceso.
A8: RESPONSABLE: | B8: LEONARDO VILLALOBOS | C8: Digite el nombre del profesional responsable del presupuesto.
A9: CARGO DE RESPONSABLE: | B9: PROFESIONAL UNIVERSITARIO | C9: Digite el cargo del profesional responsable del presupuesto.
A10: DEPENDENCIA DE RESPONSABLE: | B10: SECRETARIA DE PLANEACION Y HABITAD | C10: Digite el nombre de la dependencia del profesional responsable del presupuesto.
A11: MATRÍCULA PROFESIONAL RESPONSABLE: | B11: T.P: 25850-032141 CND | C11: Digite la matrícula profesional del profesional responsable del presupuesto.
A12: SALARIO MÍNIMO MENSUAL VIGENTE: | B12: 1423500
A13: AUXILIO DE TRANSPORTE VIGENTE: | B13: 200000
A14: EXONERADO ART 114-1 ET PARA LA OBRA: | B14: SI | C14: Elegir de las listas desplegables (Ver artículo 114-1 del Estatuto Tributario. Cabe aclarar que, al momento de proyectar los documentos del proceso de selección, deberá incluirse el método o procedimiento mediante el cual la Administración se asegurará de que, si el contratista elegido es de naturaleza contraria a esta decisión, el equilibrio contractual se encuentre garantizado).
A15: EXONERADO ART 114-1 ET PARA LA INTERVENTORÍA | B15: SI
A16: NIVEL DE RIESGO ARL APLICABLE | B16: V | C16: Elegir de la lista desplegable (Ver Decreto 1607 de 2002 para asignación de Riesgo ARL Aplicable).
A17: % ARL | B17: =+IF(B16="I",0.522%,IF(B16="II",1.044%,IF(B16="III",2.436%,IF(B16="IV",4.35%,6.96%)))) -> 0.0696
A18: DURACIÓN ESTIMADA DE OBRA (MESES) | B18: 1 | C18: Digite la duración de la obra de acuerdo al cronograma
A19: DISTANCIA A SITIO DE BOTADA DE TIERRA (KM) | B19: 10 | C19: Digite la distancia al sitio de botada de tierra de acuerdo al certificado expedido por la entidad.
A20: DISTANCIA A SITIO DE BOTADA DE ESCOMBROS (KM) | B20: 10 | C20: Digite la distancia al sitio de botada de escombros de acuerdo al certificado expedido por la entidad.
A21: DISTANCIA A SITIO DE PROVISIÓN DE MATERIAL DE PLAYA (ARENILLON, PIEDRA RODADA DE RIO) (KM) | B21: 16 | C21: Digite la distancia al sitio de provisión de material de playa de acuerdo al certificado expedido por la entidad.
A22: DISTANCIA A SITIO DE PROVISIÓN DE MATERIAL DE PLAYA (TRITURADO) (KM) | B22: 18 | C22: Digite la distancia al sitio de provisión de material de playa de acuerdo al certificado expedido por la entidad.
A23: DISTANCIA A SITIO DE PROVISIÓN DE MATERIAL GRANULAR (KM) | B23: 18 | C23: Digite la distancia al sitio de provisión de material granular de acuerdo al certificado expedido por la entidad.
A24: DISTANCIA A SITIO DE PROVISIÓN DE INSUMOS GENERALES (KM) | B24: 18 | C24: Digite la distancia al sitio de provisión de insumos generales de acuerdo al certificado expedido por la entidad.
A25: DISTANCIA A SITIO DE PROVISIÓN DE ASFALTOS (KM) | C25: Digite la distancia al sitio de provisión de asfaltos de acuerdo al certificado expedido por la entidad.
A26: PÓLIZA DE RCE EXIGIBLE A LA INTERVENTORÍA | B26: SI | C26: Elegir de la lista desplegable si se solicitará a la interventoría la póliza de responsabilidad civil extracontractual
A31: HADY LORENA
A32: Secretaría de Planeación e Infraestructura
A46: Fecha de actualización: 22 de FEBRERO de 2021 | B46: Nota 1: El archivo contiene referencias circulares, por lo tanto se debe tener activo el calculo iterativo de las fórmulas

Sheet FICHA TECNICA
A1: ='DATOS INICIALES'!B3 -> REPARACION DE PUENTE DE MADERA PARA CAMINOS DE HERRADURA QUE CONECTA LA VEREDA CHAMBUSCADO CON LA VEREDA LA ARGELIA Y DEMAS VEREDAS VECINAS DEL MUNICIPIO DE DABEIBA ANTIOQUIA.
A4: ITEM | B4: DESCRIPCION | C4: UNIDAD | D4: CANTIDAD | E4: V. UNITARIO | F4: V. SUBTOTAL
A5: 1 | B5: TRANSPORTE DE MATERIALES E INSUMOS | F5: =SUBTOTAL(9,F6:F7) -> 0
A6: 1.1 | B6: Transporte de Insumos para construccion para distancias de 0 a 2000 m medidos a partir de 100 m. en lomo de mula | C6: M3/KM | D6: =MEMORIAS!H8 -> 9.5316
A7: 1.2 | B7: Transporte de materiales e insumos de construccion para distancias de 0- 70km - desde zona urbana hasta vereda la argelia. | C7: M3/KM | D7: =MEMORIAS!H28 -> 374
A8: 2 | B8: EXCAVACIONES Y MOVIMIENTOS DE TIERRA. | F8: =SUBTOTAL(9,F9:F10) -> 0
A9: 2.1 | B9: Excavacion manual en materal comun, no incluye transporte. Solo acarreo interno. | C9: M3 | D9: =MEMORIAS!H50 -> 6
A10: 2.2 | B10: Lleno manual para estructuras con material de préstamo (tipo arenilla) hasta obtener una densidad mínima del 95%, de la obtenida en el ensayo del Proctor modificado. Incluye, material, acarreo interno, conformación, compactación | C10: M3 | D10: =MEMORIAS!H71 -> 6
A11: 3 | B11: ESTRUCTURAS EN CONCRETO. | F11: =SUBTOTAL(9,F12:F13) -> 0
A12: 3.1 | B12: Suministro, transporte y colocación de Concreto Clase D (21MPa) para Muros, aletas y demas estructuras, formaleta para acabado a la vista, desmoldante, y todos los demás elementos necesarios para su correcta construcción y funcionamiento | C12: M3 | D12: =MEMORIAS!H92 -> 2
A13: 3.2 | B13: Concreto Clase H (Ciclópeo con concreto clase D - 21 MPa y Piedra de 2" a 4") | C13: M3 | D13: =MEMORIAS!H115 -> 1
A14: 4 | B14: ACERO DE REFUERZO Y SUB ESTRUCTURA DEL PUENTE | F14: =SUBTOTAL(9,F15:F15) -> 0
A15: 4.1 | B15: Suministro, transporte y colocación de Acero de refuerzo fy=420 Mpa (Grado 60) | C15: KG | D15: =MEMORIAS!H135 -> 91
A16: 5 | B16: ELEMENTOS EN MADERA PARA LA SUPER ESTRUCTURA DEL PUENTE DE MADERA | F16: =SUBTOTAL(9,F17:F19) -> 0
A17: 5.1 | B17: Remplazo de vigas Principales (DURMIENTES) de madera, dispuestas de forma longitudinal con dimenesiones de 6" x 4" x 6ml para estructura del puente. | C17: ML | D17: =MEMORIAS!H158 -> 36
A18: 5.2 | B18: Remplazo de vigas secundarias en cuartones de madera de 3" x 4" x 3m, en zona de (VIGATRANSVERSAL) distribuidos en toda la longitud del puente de 12m, incluye elementos de fijacion y todo lo necesario para su correcto funcionamiento. | C18: UND | D18: =MEMORIAS!H178 -> 8
A19: 5.3 | B19: Remplazo de Vigas secundarias cuartones de madera de 3" x 3" x 2m en zona de (viga TRANSVERSAL- INTERMEDIOS) distribuidos en toda la longitud del puente de 12m, incluye elementos de fijacion y todo lo necesario para su correcto funcionamiento. | C19: UND | D19: =MEMORIAS!H198 -> 8
A20: 6 | B20: ELEMENTOS EN MADERA PARA PROTECCION LATERAL Y ESTRUCTURA VERTICAL | F20: =SUBTOTAL(9,F21:F23) -> 0
A21: 6.1 | B21: Remplazo de listones de madera 3" x 3" x 1.5 m en zona de (PASAMANOS - ARRIOSTRAMIENTO INCLINADO) distribuidos en toda la longitud del puente de 12m incluye elementos de fijacion y todo lo necesario para su correcto | C21: UND | D21: =MEMORIAS!H218 -> 14
A22: 6.2 | B22: Remplazo de listones de madera de 4" x 2" x 3m para Pasamanos; incluye elementos de fijacion y todo lo necesario para su correcto funcionamiento. | C22: ML | D22: =MEMORIAS!H238 -> 48
A23: 6.3 | B23: Remplazo de cuartones de madera verticales de 3" x 4" x 2.5m para soporte de(PORTICO VERTICAL) distribuidos en toda la longitud del puente de 12m, incluye elementos de fijacion y todo lo necesario para su correcto | C23: UND | D23: =MEMORIAS!H258 -> 14
A24: 7 | B24: ELEMENTOS EN MADERA PARA TABLERO DEL PUENTE - ESTRUCTURA DE CUBIERTA
A25: 7.1 | B25: Remplazo de Tablones de madera de 2" x 8" x 2m en zona de (TABLERO DEL PUENTE) distribuidos en toda la longitud del puente de 12m, incluye elementos de fijacion y todo lo necesario para su correcto funcionamiento. | C25: UND | D25: =MEMORIAS!H278 -> 60
A26: 7.2 | B26: Remplazo de vigas secundarias en listones de madera de 3" x 4" x 2.5 m, en zona de (VIGATRANSVERSAL DEL TECHO) de acuerdo a la longitud del puente de 12m, incluye elementos de fijacion y todo lo necesario para su correcto funcionamiento. | C26: UND | D26: =MEMORIAS!H298 -> 8
A27: 7.3 | B27: Remplazo de vigas secundarias en listones de madera de 3" x 3" x 3m, en zona (LONGITUDINAL DE APOYO ALFARDAS) de acuerdo a la longitud del puente de 12m incluye elementos de fijacion y todo lo necesario para su correcto funcionamiento. | C27: ML | D27: =MEMORIAS!H318 -> 48
A28: 7.4 | B28: Remplazo de Alfardas de madera de 4" x 2" x 2m para estructura de cubierta ; incluye elementos de fijacion y todo lo necesario para su correcto funcionamiento. | C28: UND | D28: =MEMORIAS!H338 -> 30
A29: 7.5 | B29: Remplazo de correas de madera de 2" x 1" x 3m para estructura de cubierta ; incluye elementos de fijacion y todo lo necesario para su correcto funcionamiento. | C29: ML | D29: =MEMORIAS!H358 -> 72
A30: 8 | B30: PINTURA Y ACABADOS PARA COMPONENTES DE MADERA DEL PUENTE | F30: =SUBTOTAL(9,F31:F31) -> 0
A31: 8.1 | B31: Pintura en esmalte para proteccion de elementos de madera del puente (alfardas, vigas principales, vigas secundarias, pasamanos, listones verticales, y estructura de cubierta) | C31: ML | D31: =MEMORIAS!H378 -> 345
A32: 9 | B32: CUBIERTA EN TEJAS DE ZINC PARA TECHO DEL PUENTE | F32: =SUBTOTAL(9,F33:F33) -> 0
A33: 9.1 | B33: suministro tranporte e instalacion de laminas de zinc para techo del puente | C33: M2 | D33: =12*3.6 -> 43.2
B34: COSTOS DIRECTOS
B35: COSTOS INDIRECTOS AU
B36: COSTOS DIRECTOS + INDIRECTOS)
B37: TOTAL COSTOS DEL PROYECTO | F37: =SUM(F36:F36) -> 0
B72: Ingeniero Civil
B73: T. P. 0520274399 ANT.

Sheet MEMORIAS
A1: ='[10]DATOS INICIALES'!$B$1 -> DEPARTAMENTO DE ANTIOQUIA
A2: ='[10]DATOS INICIALES'!$B$2 -> MUNICIPIO DE DABEIBA
A3: ='DATOS INICIALES'!B3 -> REPARACION DE PUENTE DE MADERA PARA CAMINOS DE HERRADURA QUE CONECTA LA VEREDA CHAMBUSCADO CON LA VEREDA LA ARGELIA Y DEMAS VEREDAS VECINAS DEL MUNICIPIO DE DABEIBA ANTIOQUIA.
A5: MEMORIA DE CANTIDADES
A7: ITEM | B7: DESCRIPCIÓN | G7: UNIDAD | H7: CANTIDAD
A8: =PRESUPUESTO!A6 -> 1.1 | B8: =PRESUPUESTO!B6 -> Transporte de Insumos para construccion para distancias de 0 a 2000 m medidos a partir de 100 m. en lomo de mula | G8: =PRESUPUESTO!C6 -> M3/KM | H8: =SUM(H11:H19) -> 9.5316
A10: DETALLE | C10: FACTOR | D10: CANTIDAD | E10: DISTANCIA | F10: B(M2) | G10: C(M3) | H10: TOTAL
A11: 1 | B11: insumos para concretos de 21mp m3 | C11: 1 | D11: =H92 -> 2 | E11: 1.5 | F11: 1 | G11: 0 | H11: =+IF(A11=0,"",IF(AND(E11=0,F11=0,G11=0),C11*D11,IF(AND(F11=0,G11=0),C11*D11*E11,IF(G11=0,C11*D11*E11*F11,C11*D11*E11*F11*G11)))) -> 3
A12: 2 | B12: insumos para concreto ciclopeo m3 | C12: 1 | D12: =H115 -> 1 | E12: 1.5 | F12: 1 | G12: 0 | H12: =+IF(A12=0,"",IF(AND(E12=0,F12=0,G12=0),C12*D12,IF(AND(F12=0,G12=0),C12*D12*E12,IF(G12=0,C12*D12*E12*F12,C12*D12*E12*F12*G12)))) -> 1.5
A13: 3 | B13: aceros de refuerzo kg | C13: 0.007 | D13: =H135 -> 91 | E13: 1.5 | F13: 1 | G13: 0 | H13: =+IF(A13=0,"",IF(AND(E13=0,F13=0,G13=0),C13*D13,IF(AND(F13=0,G13=0),C13*D13*E13,IF(G13=0,C13*D13*E13*F13,C13*D13*E13*F13*G13)))) -> 0.9555
A14: 4 | B14: madera para el puente sumado todos los ml de madera ml | C14: 0.007 | D14: =H378 -> 345 | E14: 1.5 | F14: 1 | G14: 0 | H14: =+IF(A14=0,"",IF(AND(E14=0,F14=0,G14=0),C14*D14,IF(AND(F14=0,G14=0),C14*D14*E14,IF(G14=0,C14*D14*E14*F14,C14*D14*E14*F14*G14)))) -> 3.6225
A15: 5 | B15: material para el techo en tejas de zinc onduladas m2 | C15: 0.007 | D15: =PRESUPUESTO!D33 -> 43.2 | E15: 1.5 | F15: 1 | G15: 0 | H15: =+IF(A15=0,"",IF(AND(E15=0,F15=0,G15=0),C15*D15,IF(AND(F15=0,G15=0),C15*D15*E15,IF(G15=0,C15*D15*E15*F15,C15*D15*E15*F15*G15)))) -> 0.4536
A20: =+"TOTAL CANTIDAD ITEM "&A9 -> TOTAL CANTIDAD ITEM | H20: =SUM(H11:H19) -> 9.5316
A21: ='[10]DATOS INICIALES'!$B$1 -> DEPARTAMENTO DE ANTIOQUIA
A22: ='[10]DATOS INICIALES'!$B$2 -> MUNICIPIO DE DABEIBA
A23: ='DATOS INICIALES'!B7 -> REPARACION DE PUENTE DE MADERA PARA CAMINOS DE HERRADURA QUE CONECTA LA VEREDA CHAMBUSCADO CON LA VEREDA LA ARGELIA Y DEMAS VEREDAS VECINAS DEL MUNICIPIO DE DABEIBA ANTIOQUIA.
A25: MEMORIA DE CANTIDADES
A27: ITEM | B27: DESCRIPCIÓN | G27: UNIDAD | H27: CANTIDAD
A28: =PRESUPUESTO!A7 -> 1.2 | B28: =PRESUPUESTO!B7 -> Transporte de materiales e insumos de construccion para distancias de 0- 70km - desde zona urbana hasta vereda la argelia. | G28: =PRESUPUESTO!C7 -> M3/KM | H28: =IFERROR(ROUND(IF(SUM(H31:H39)=0,"",SUM(H31:H39)),0),"") -> 374
A30: DETALLE | C30: FACTOR | D30: CANTIDAD | E30: DISTANCIA | F30: B(M2) | G30: C(M3) | H30: TOTAL
A31: 1 | B31: insumos para concretos de 21mp m3 | C31: 1 | D31: =D11 -> 2 | E31: 48 | F31: 1 | G31: 0 | H31: =+IF(A31=0,"",IF(AND(E31=0,F31=0,G31=0),C31*D31,IF(AND(F31=0,G31=0),C31*D31*E31,IF(G31=0,C31*D31*E31*F31,C31*D31*E31*F31*G31)))) -> 96
A32: 2 | B32: insumos para concreto ciclopeo m3 | C32: 1 | D32: =D12 -> 1 | E32: 48 | F32: 1 | G32: 0 | H32: =+IF(A32=0,"",IF(AND(E32=0,F32=0,G32=0),C32*D32,IF(AND(F32=0,G32=0),C32*D32*E32,IF(G32=0,C32*D32*E32*F32,C32*D32*E32*F32*G32)))) -> 48
A33: 3 | B33: aceros de refuerzo kg | C33: 0.01 | D33: =D13 -> 91 | E33: 48 | F33: 1 | G33: 0 | H33: =+IF(A33=0,"",IF(AND(E33=0,F33=0,G33=0),C33*D33,IF(AND(F33=0,G33=0),C33*D33*E33,IF(G33=0,C33*D33*E33*F33,C33*D33*E33*F33*G33)))) -> 43.68
A34: 4 | B34: madera para el puente sumado todos los ml de madera ml | C34: 0.01 | D34: =D14 -> 345 | E34: 48 | F34: 1 | G34: 0 | H34: =+IF(A34=0,"",IF(AND(E34=0,F34=0,G34=0),C34*D34,IF(AND(F34=0,G34=0),C34*D34*E34,IF(G34=0,C34*D34*E34*F34,C34*D34*E34*F34*G34)))) -> 165.6
A35: 5 | B35: material para el techo en tejas de zinc onduladas m2 | C35: 0.01 | D35: =D15 -> 43.2 | E35: 48 | F35: 1 | G35: 0 | H35: =+IF(A35=0,"",IF(AND(E35=0,F35=0,G35=0),C35*D35,IF(AND(F35=0,G35=0),C35*D35*E35,IF(G35=0,C35*D35*E35*F35,C35*D35*E35*F35*G35)))) -> 20.736
A40: =+"TOTAL CANTIDAD ITEM "&A29 -> TOTAL CANTIDAD ITEM | H40: =IFERROR(ROUND(IF(SUM(H31:H39)=0,"",SUM(H31:H39)),0),"") -> 374
A43: ='[10]DATOS INICIALES'!$B$1 -> DEPARTAMENTO DE ANTIOQUIA
A44: ='[10]DATOS INICIALES'!$B$2 -> MUNICIPIO DE DABEIBA
A45: ='DATOS INICIALES'!B7 -> REPARACION DE PUENTE DE MADERA PARA CAMINOS DE HERRADURA QUE CONECTA LA VEREDA CHAMBUSCADO CON LA VEREDA LA ARGELIA Y DEMAS VEREDAS VECINAS DEL MUNICIPIO DE DABEIBA ANTIOQUIA.
A47: MEMORIA DE CANTIDADES
A49: ITEM | B49: DESCRIPCIÓN | G49: UNIDAD | H49: CANTIDAD
A50: =PRESUPUESTO!A9 -> 2.1 | B50: =PRESUPUESTO!B9 -> Excavacion manual en materal comun, no incluye transporte. Solo acarreo interno. | G50: M2 | H50: =IFERROR(ROUND(IF(SUM(H53:H61)=0,"",SUM(H53:H61)),0),"") -> 6
A52: DETALLE | C52: FACTOR | D52: CANTIDAD | E52: A (ML) | F52: B(M2) | G52: C(M3) | H52: TOTAL
A53: 1 | B53: zona para cimentacion de aletas | C53: 1 | D53: 2 | E53: 3 | F53: 1 | G53: 0.5 | H53: =+IF(A53=0,"",IF(AND(E53=0,F53=0,G53=0),C53*D53,IF(AND(F53=0,G53=0),C53*D53*E53,IF(G53=0,C53*D53*E53*F53,C53*D53*E53*F53*G53)))) -> 3
A54: 2 | B54: excavacion zona de aproximacion | C54: 1 | D54: 2 | E54: 3 | F54: 1 | G54: 0.5 | H54: =+IF(A54=0,"",IF(AND(E54=0,F54=0,G54=0),C54*D54,IF(AND(F54=0,G54=0),C54*D54*E54,IF(G54=0,C54*D54*E54*F54,C54*D54*E54*F54*G54)))) -> 3
A62: =+"TOTAL CANTIDAD ITEM "&A51 -> TOTAL CANTIDAD ITEM | H62: =IFERROR(ROUND(IF(SUM(H53:H61)=0,"",SUM(H53:H61)),0),"") -> 6
A64: ='[10]DATOS INICIALES'!$B$1 -> DEPARTAMENTO DE ANTIOQUIA
A65: ='[10]DATOS INICIALES'!$B$2 -> MUNICIPIO DE DABEIBA
A66: ='DATOS INICIALES'!B7 -> REPARACION DE PUENTE DE MADERA PARA CAMINOS DE HERRADURA QUE CONECTA LA VEREDA CHAMBUSCADO CON LA VEREDA LA ARGELIA Y DEMAS VEREDAS VECINAS DEL MUNICIPIO DE DABEIBA ANTIOQUIA.
A68: MEMORIA DE CANTIDADES
...

Sheet PRESUPUESTO
A1: ='DATOS INICIALES'!B3 -> REPARACION DE PUENTE DE MADERA PARA CAMINOS DE HERRADURA QUE CONECTA LA VEREDA CHAMBUSCADO CON LA VEREDA LA ARGELIA Y DEMAS VEREDAS VECINAS DEL MUNICIPIO DE DABEIBA ANTIOQUIA.
A4: ITEM | B4: DESCRIPCION | C4: UNIDAD | D4: CANTIDAD | E4: V. UNITARIO | F4: V. SUBTOTAL
A5: 1 | B5: TRANSPORTE DE MATERIALES E INSUMOS | F5: =SUBTOTAL(9,F6:F7) -> 2336603.2
A6: 1.1 | B6: Transporte de Insumos para construccion para distancias de 0 a 2000 m medidos a partir de 100 m. en lomo de mula | C6: M3/KM | D6: =MEMORIAS!H8 -> 9.5316 | E6: ='1.1'!J33 -> 166667 | F6: =Tabla3[[#This Row],[CANTIDAD]]*Tabla3[[#This Row],[V. UNITARIO]] -> 1588603.2
A7: 1.2 | B7: Transporte de materiales e insumos de construccion para distancias de 0- 70km - desde zona urbana hasta vereda la argelia. | C7: M3/KM | D7: =MEMORIAS!H28 -> 374 | E7: ='1.2'!J32 -> 2000 | F7: =Tabla3[[#This Row],[CANTIDAD]]*Tabla3[[#This Row],[V. UNITARIO]] -> 748000
A8: 2 | B8: EXCAVACIONES Y MOVIMIENTOS DE TIERRA. | F8: =SUBTOTAL(9,F9:F10) -> 820374
A9: 2.1 | B9: Excavacion manual en materal comun, no incluye transporte. Solo acarreo interno. | C9: M3 | D9: =MEMORIAS!H50 -> 6 | E9: ='2,1'!J32 -> 37679 | F9: =PRESUPUESTO!$D9*PRESUPUESTO!$E9 -> 226074
A10: 2.2 | B10: Lleno manual para estructuras con material de préstamo (tipo arenilla) hasta obtener una densidad mínima del 95%, de la obtenida en el ensayo del Proctor modificado. Incluye, material, acarreo interno, conformación, compactación | C10: M3 | D10: =MEMORIAS!H71 -> 6 | E10: ='2.2'!J33 -> 99050 | F10: =PRESUPUESTO!$D10*PRESUPUESTO!$E10 -> 594300
A11: 3 | B11: ESTRUCTURAS EN CONCRETO. | F11: =SUBTOTAL(9,F12:F13) -> 2751567
A12: 3.1 | B12: Suministro, transporte y colocación de Concreto Clase D (21MPa) para Muros, aletas y demas estructuras, formaleta para acabado a la vista, desmoldante, y todos los demás elementos necesarios para su correcta construcción y funcionamiento | C12: M3 | D12: =MEMORIAS!H92 -> 2 | E12: ='3,1'!J41 -> 1023427 | F12: =PRESUPUESTO!$D12*PRESUPUESTO!$E12 -> 2046854
A13: 3.2 | B13: Concreto Clase H (Ciclópeo con concreto clase D - 21 MPa y Piedra de 2" a 4") | C13: M3 | D13: =MEMORIAS!H115 -> 1 | E13: ='3,2'!J30 -> 704713 | F13: =PRESUPUESTO!$D13*PRESUPUESTO!$E13 -> 704713
A14: 4 | B14: ACERO DE REFUERZO Y SUB ESTRUCTURA DEL PUENTE | F14: =SUBTOTAL(9,F15:F15) -> 794248
A15: 4.1 | B15: Suministro, transporte y colocación de Acero de refuerzo fy=420 Mpa (Grado 60) | C15: KG | D15: =MEMORIAS!H135 -> 91 | E15: ='4,1'!J29 -> 8728 | F15: =PRESUPUESTO!$D15*PRESUPUESTO!$E15 -> 794248
A16: 5 | B16: ELEMENTOS EN MADERA PARA LA SUPER ESTRUCTURA DEL PUENTE DE MADERA | F16: =SUBTOTAL(9,F17:F19) -> 7612208
A17: 5.1 | B17: Remplazo de vigas Principales (DURMIENTES) de madera, dispuestas de forma longitudinal con dimenesiones de 6" x 4" x 6ml para estructura del puente. | C17: ML | D17: =MEMORIAS!H158 -> 36 | E17: ='5,1'!J33 -> 169564 | F17: =PRESUPUESTO!$D17*PRESUPUESTO!$E17 -> 6104304
A18: 5.2 | B18: Remplazo de vigas secundarias en cuartones de madera de 3" x 4" x 3m, en zona de (VIGATRANSVERSAL) distribuidos en toda la longitud del puente de 12m, incluye elementos de fijacion y todo lo necesario para su correcto funcionamiento. | C18: UND | D18: =MEMORIAS!H178 -> 8 | E18: ='5.2'!J30 -> 130244 | F18: =PRESUPUESTO!$D18*PRESUPUESTO!$E18 -> 1041952
A19: 5.3 | B19: Remplazo de Vigas secundarias cuartones de madera de 3" x 3" x 2m en zona de (viga TRANSVERSAL- INTERMEDIOS) distribuidos en toda la longitud del puente de 12m, incluye elementos de fijacion y todo lo necesario para su correcto funcionamiento. | C19: UND | D19: =MEMORIAS!H198 -> 8 | E19: ='5.3'!J30 -> 58244 | F19: =PRESUPUESTO!$D19*PRESUPUESTO!$E19 -> 465952
A20: 6 | B20: ELEMENTOS EN MADERA PARA PROTECCION LATERAL Y ESTRUCTURA VERTICAL | F20: =SUBTOTAL(9,F21:F23) -> 3526954
A21: 6.1 | B21: Remplazo de listones de madera 3" x 3" x 1.5 m en zona de (PASAMANOS - ARRIOSTRAMIENTO INCLINADO) distribuidos en toda la longitud del puente de 12m incluye elementos de fijacion y todo lo necesario para su correcto | C21: UND | D21: =MEMORIAS!H218 -> 14 | E21: ='6,1'!J36 -> 67359 | F21: =PRESUPUESTO!$D21*PRESUPUESTO!$E21 -> 943026
A22: 6.2 | B22: Remplazo de listones de madera de 4" x 2" x 3m para Pasamanos; incluye elementos de fijacion y todo lo necesario para su correcto funcionamiento. | C22: ML | D22: =MEMORIAS!H238 -> 48 | E22: ='6.2'!J35 -> 21794 | F22: =PRESUPUESTO!$D22*PRESUPUESTO!$E22 -> 1046112
A23: 6.3 | B23: Remplazo de cuartones de madera verticales de 3" x 4" x 2.5m para soporte de(PORTICO VERTICAL) distribuidos en toda la longitud del puente de 12m, incluye elementos de fijacion y todo lo necesario para su correcto | C23: UND | D23: =MEMORIAS!H258 -> 14 | E23: ='6.3'!J35 -> 109844 | F23: =PRESUPUESTO!$D23*PRESUPUESTO!$E23 -> 1537816
A24: 7 | B24: ELEMENTOS EN MADERA PARA TABLERO DEL PUENTE - ESTRUCTURA DE CUBIERTA | F24: =SUBTOTAL(9,F25:F29) -> 7637608
A25: 7.1 | B25: Remplazo de Tablones de madera de 2" x 8" x 2m en zona de (TABLERO DEL PUENTE) distribuidos en toda la longitud del puente de 12m, incluye elementos de fijacion y todo lo necesario para su correcto funcionamiento. | C25: UND | D25: =MEMORIAS!H278 -> 60 | E25: ='7,1'!J32 -> 54344 | F25: =PRESUPUESTO!$D25*PRESUPUESTO!$E25 -> 3260640
A26: 7.2 | B26: Remplazo de vigas secundarias en listones de madera de 3" x 4" x 2.5 m, en zona de (VIGATRANSVERSAL DEL TECHO) de acuerdo a la longitud del puente de 12m, incluye elementos de fijacion y todo lo necesario para su correcto funcionamiento. | C26: UND | D26: =MEMORIAS!H298 -> 8 | E26: ='7.2'!J30 -> 109844 | F26: =PRESUPUESTO!$D26*PRESUPUESTO!$E26 -> 878752
A27: 7.3 | B27: Remplazo de vigas secundarias en listones de madera de 3" x 3" x 3m, en zona (LONGITUDINAL DE APOYO ALFARDAS) de acuerdo a la longitud del puente de 12m incluye elementos de fijacion y todo lo necesario para su correcto funcionamiento. | C27: ML | D27: =MEMORIAS!H318 -> 48 | E27: ='7.3'!J30 -> 30637 | F27: =PRESUPUESTO!$D27*PRESUPUESTO!$E27 -> 1470576
A28: 7.4 | B28: Remplazo de Alfardas de madera de 4" x 2" x 2m para estructura de cubierta ; incluye elementos de fijacion y todo lo necesario para su correcto funcionamiento. | C28: UND | D28: =MEMORIAS!H338 -> 30 | E28: ='7.4'!J35 -> 42244 | F28: =PRESUPUESTO!$D28*PRESUPUESTO!$E28 -> 1267320
A29: 7.5 | B29: Remplazo de correas de madera de 2" x 1" x 3m para estructura de cubierta ; incluye elementos de fijacion y todo lo necesario para su correcto funcionamiento. | C29: ML | D29: =MEMORIAS!H358 -> 72 | E29: ='7.5'!J35 -> 10560 | F29: =PRESUPUESTO!$D29*PRESUPUESTO!$E29 -> 760320
A30: 8 | B30: PINTURA Y ACABADOS PARA COMPONENTES DE MADERA DEL PUENTE | F30: =SUBTOTAL(9,F31:F31) -> 2224215
A31: 8.1 | B31: Pintura en esmalte para proteccion de elementos de madera del puente (alfardas, vigas principales, vigas secundarias, pasamanos, listones verticales, y estructura de cubierta) | C31: ML | D31: =MEMORIAS!H378 -> 345 | E31: ='8.1'!J32 -> 6447 | F31: =PRESUPUESTO!$D31*PRESUPUESTO!$E31 -> 2224215
A32: 9 | B32: CUBIERTA EN TEJAS DE ZINC PARA TECHO DEL PUENTE | F32: =SUBTOTAL(9,F33:F33) -> 1163376
A33: 9.1 | B33: suministro tranporte e instalacion de laminas de zinc para techo del puente | C33: M2 | D33: =12*3.6 -> 43.2 | E33: ='9.1'!J32 -> 26930 | F33: =PRESUPUESTO!$D33*PRESUPUESTO!$E33 -> 1163376
B34: COSTOS DIRECTOS | F34: =SUBTOTAL(9,F5:F33) -> 28867153 | H34: =F5+F8+F11+F14+F16+F20+F24+F30+F32 -> 28867153
B35: COSTOS INDIRECTOS AU | E35: =AIU!I48 -> 0.3719 | F35: =F34*PRESUPUESTO!$E35 -> 10735694
B36: COSTOS DIRECTOS + INDIRECTOS) | F36: =F34+F35 -> 39602847
B37: ADMINISTRACION EDURHA DABEIBA | E37: 0.01 | F37: =F36*PRESUPUESTO!$E37 -> 396028.47
B38: TOTAL COSTOS DEL PROYECTO | F38: =SUM(F36:F37) -> 39998876
B40: LEONARDO FAVIO VILLALOBOS
B41: T.P: 25850-032141 CND
B42: Ingeniero C
B73: Ingeniero Civil
...

Sheet POLIZAS OBRA
A1: DEPARTAMENTO DE ANTIOQUIA
A2: ='DATOS INICIALES'!B6 -> MUNICIPIO DE DABEIBA
A3: ='DATOS INICIALES'!B3 -> REPARACION DE PUENTE DE MADERA PARA CAMINOS DE HERRADURA QUE CONECTA LA VEREDA CHAMBUSCADO CON LA VEREDA LA ARGELIA Y DEMAS VEREDAS VECINAS DEL MUNICIPIO DE DABEIBA ANTIOQUIA.
A5: CÁLCULO DE PÓLIZAS DE OBRA
A6: VALOR DEL CONTRATO ( $ ) | B6: =PRESUPUESTO!F36 -> 39602847 | C6: =IFERROR(B6/'DATOS INICIALES'!B12,"") -> 27.820757
A7: PLAZO DEL CONTRATO | B7: 1 | C7: =+IFERROR(B7*30,"") -> 30
A8: ANTICIPO | B8: 0 | C8: =+IFERROR(B8*B6,"") -> 0
A10: TIPO DE GARANTÍA | B10: VALOR ASEGURADO | E10: COBERTURA ( DÍAS ) | F10: TASA ANUAL | G10: PRIMA
B11: % | C11: BASE | D11: VALOR
A12: CUMPLIMIENTO | B12: 0.2 | C12: =$B$6 -> 39602847 | D12: =IFERROR(B12*C12,"") -> 7920569.5 | E12: =IFERROR($C$7+180,"") -> 210 | F12: 0.002 | G12: =IFERROR(F12*D12*E12/360,"") -> 9240.6644
A13: BUEN MANEJO Y CORRECTA INVERSIÓN DEL ANTICIPO | B13: 1 | C13: =$C$8 -> 0 | D13: =IFERROR(B13*C13,"") -> 0 | E13: =IFERROR($C$7+180,"") -> 210 | F13: 0.0015 | G13: =IFERROR(F13*D13*E13/360,"") -> 0
A14: SALARIOS Y PRESTACIONES SOCIALES | B14: 0.2 | C14: =$B$6 -> 39602847 | D14: =IFERROR(B14*C14,"") -> 7920569.5 | E14: =IFERROR($C$7+1080,"") -> 1110 | F14: 0.0015 | G14: =IFERROR(F14*D14*E14/360,"") -> 36632.634
A15: ESTABILIDAD Y CALIDAD DE LA OBRAS | B15: 0.2 | C15: =$B$6 -> 39602847 | D15: =IFERROR(B15*C15,"") -> 7920569.5 | E15: =IF($B$6="","",1800) -> 1800 | F15: 0.002 | G15: =IFERROR(F15*D15*E15/360,"") -> 79205.695
A16: DECRETO 1082 SMMLV RESPONSABILIDAD CIVIL | B16: SMMLV | C16: MONTO ASEGURABLE | E16: PLAZO MESES | F16: TASA ANUAL | G16: PRIMA
A17: =+IF(B6="","",IF(C6<=1500,200,IF(C6<=2500,300,IF(C6<=5000,400,IF(C6<=10000,500,"5%"))))) -> 200 | B17: ='DATOS INICIALES'!B12 -> 1423500 | C17: =IFERROR(IF(C6>10000,B6+5%,A17*B17),"") -> 284700000 | E17: =B7 -> 1 | F17: 0.002 | G17: =IFERROR(F17*E17*C17/12,"") -> 47450
A18: SUBTOTAL PRIMA | G18: =IF(SUM(G12:G15,G17)=0,"",SUM(G12:G15,G17)) -> 172528.99
A19: GASTOS DE EXPEDICIÓN | G19: =IF(G19="","",20000) -> 20000
A20: IVA | G20: =IFERROR((G18+G19)*0.19,"") -> 36580.509
A21: TOTAL POLIZAS | G21: =IF(G18="","",SUM(G18:G20)) -> 229109.5
A28: INGENIERO BANCO DE PROYECTOS

Sheet AIU
A1: DEPARTAMENTO DE ANTIOQUIA
A2: ='DATOS INICIALES'!B2 -> MUNICIPIO DE DABEIBA
A3: ='DATOS INICIALES'!B3 -> REPARACION DE PUENTE DE MADERA PARA CAMINOS DE HERRADURA QUE CONECTA LA VEREDA CHAMBUSCADO CON LA VEREDA LA ARGELIA Y DEMAS VEREDAS VECINAS DEL MUNICIPIO DE DABEIBA ANTIOQUIA.
A5: ADMINISTRACIÓN, IMPREVISTOS Y UTILIDADES - AIU
A7: ITEM | B7: CÓDIGO | C7: DESCRIPCIÓN | D7: CANT | E7: VALOR MENSUAL | F7: PREST. SOC. | G7: DEDIC. % | H7: PLAZO | I7: VALOR PARCIAL
A8: 1 | B8: EQUIPO PROFESIONAL | I8: =IF(SUM(I9:I12)=0,"",SUM(I9:I12)) -> 2491500
A9: 1.1 | B9: =IF(C9="","",INDEX(CODIGOSMANODEOBRA,MATCH($C9,'INSUMOS MANO DE OBRA'!$B$7:$B$61,0))) -> MO003 | C9: RESIDENTE DE OBRA | D9: 1 | E9: 3000000 | F9: =IF(C9="","",IFERROR(ROUND((VLOOKUP($B9,INSUMOSMANODEOBRA,5,0)-1)*E9,0),"")) -> 1530000 | G9: 0.55 | H9: ='DATOS INICIALES'!B18 -> 1 | I9: =+IF(D9=0,"",IFERROR(D9*(E9+F9)*G9*H9,"")) -> 2491500
A10: 1.2 | B10: =IF(C10="","",INDEX(CODIGOSMANODEOBRA,MATCH($C10,'INSUMOS MANO DE OBRA'!$B$7:$B$61,0))) | E10: =IF(C10="","",IFERROR(VLOOKUP($B10,INSUMOSMANODEOBRA,4,0),"")) | F10: =IF(C10="","",IFERROR(ROUND((VLOOKUP($B10,INSUMOSMANODEOBRA,5,0)-1)*E10,0),"")) | I10: =+IF(D10=0,"",IFERROR(D10*(E10+F10)*G10*H10,""))
A11: 1.4 | B11: =IF(C11="","",INDEX(CODIGOSMANODEOBRA,MATCH($C11,'INSUMOS MANO DE OBRA'!$B$7:$B$61,0))) | E11: =IF(C11="","",IFERROR(VLOOKUP($B11,INSUMOSMANODEOBRA,4,0),"")) | F11: =IF(C11="","",IFERROR(ROUND((VLOOKUP($B11,INSUMOSMANODEOBRA,5,0)-1)*E11,0),"")) | I11: =+IF(D11=0,"",IFERROR(D11*(E11+F11)*G11*H11,""))
A12: 1.6 | B12: =IF(C12="","",INDEX(CODIGOSMANODEOBRA,MATCH($C12,'INSUMOS MANO DE OBRA'!$B$7:$B$61,0))) | E12: =IF(C12="","",IFERROR(VLOOKUP($B12,INSUMOSMANODEOBRA,4,0),"")) | F12: =IF(C12="","",IFERROR(ROUND((VLOOKUP($B12,INSUMOSMANODEOBRA,5,0)-1)*E12,0),"")) | I12: =+IF(D12=0,"",IFERROR(D12*(E12+F12)*G12*H12,""))
A13: 2 | B13: PERSONAL TÉCNICO NO PROFESIONAL DE OBRA - VIÁTICOS | I13: =IF(SUM(I14:I15)=0,"",SUM(I14:I15))
A14: 2.1 | B14: =IF(C14="","",INDEX(CODIGOSMANODEOBRA,MATCH($C14,'INSUMOS MANO DE OBRA'!$B$7:$B$61,0))) | D14: 1 | E14: =IF(C14="","",IFERROR(VLOOKUP($B14,INSUMOSMANODEOBRA,4,0),"")) | F14: =IF(C14="","",IFERROR(ROUND((VLOOKUP($B14,INSUMOSMANODEOBRA,5,0)-1)*E14,0),"")) | I14: =+IF(D14=0,"",IFERROR(D14*(E14+F14)*G14*H14,""))
A15: 2.4 | D15: =+IF(SUM(D9:D10)=0,"",SUM(D9:D10)) -> 1 | I15: =+IFERROR(D15*E15*H15,"") -> 0
A16: 3 | B16: GASTOS OFICINA CENTRAL | I16: =IF(SUM(I17:I19)=0,"",SUM(I17:I18)) -> 233800
A17: 3.1 | B17: =IF(C17="","",INDEX(CODIGOSMANODEOBRA,MATCH($C17,'INSUMOS MANO DE OBRA'!$B$7:$B$61,0))) -> MO013 | C17: SECRETARIA | D17: 1 | E17: =IF(C17="","",IFERROR(VLOOKUP($B17,INSUMOSMANODEOBRA,4,0),"")) -> 1300000 | F17: =IF(C17="","",IFERROR(ROUND((VLOOKUP($B17,INSUMOSMANODEOBRA,5,0)-1)*E17,0),"")) -> 988000 | G17: 0.1 | H17: 1 | I17: =+IF(D17=0,"",IFERROR(D17*(E17+F17)*G17*H17,"")) -> 228800
A18: 3.4 | C18: PAPELERIA | D18: 1 | E18: 50000 | G18: 0.1 | H18: 1 | I18: =+IF(D18=0,"",IFERROR(D18*(E18+F18)*G18*H18,"")) -> 5000
A19: 3.5 | C19: ARRENDAMIENTO + SERVICIOS | D19: 1 | E19: 300000 | G19: 0.1 | H19: 1 | I19: =+IF(D19=0,"",IFERROR(D19*(E19+F19)*G19*H19,"")) -> 30000
A20: 4 | B20: OFICINA Y CAMPAMENTO EN OBRA | I20: =IF(SUM(I21:I22)=0,"",SUM(I21:I22))
A21: 4.1 | B21: =IF(C21="","",INDEX(CODIGOSSERVICIOS,MATCH($C21,'INSUMOS SERVICIOS'!B7:B21,0))) | D21: 1 | E21: =IF(C21="","",(VLOOKUP($B21,INSUMOSSERVICIOS,4,0))) | I21: =IFERROR(D21*E21*H21,"")
A22: 4.2 | B22: =IF(C22="","",INDEX(CODIGOEQUIPOS,MATCH($C22,'[11]INSUMOS EQUIPOS'!B7:B39,0))) | D22: 1 | E22: =IF(C22="","",(VLOOKUP($B22,INSUMOSEQUIPOS,4,0))) | I22: =IFERROR(D22*E22*H22,"")
A23: 5 | B23: SISTEMA DE CÓMPUTO Y COMUNICACIONES | I23: =IF(SUM(I24:I26)=0,"",SUM(I24:I26))
A24: 5.1 | B24: =IF(C24="","",INDEX(CODIGOEQUIPOS,MATCH($C24,'[11]INSUMOS EQUIPOS'!$B$7:$B$39,0))) | D24: 1 | E24: =IF(C24="","",(VLOOKUP($B24,INSUMOSEQUIPOS,4,FALSE))) | I24: =IF(D24=0,"",IFERROR(D24*E24*H24,""))
A25: 5.2 | B25: =IF(C25="","",INDEX(CODIGOEQUIPOS,MATCH($C25,'[11]INSUMOS EQUIPOS'!$B$7:$B$39,0))) | D25: 1 | E25: =IF(C25="","",(VLOOKUP($B25,INSUMOSEQUIPOS,4,FALSE))) | I25: =IF(D25=0,"",IFERROR(D25*E25*H25,""))
A26: 5.3 | B26: =IF(C26="","",INDEX(CODIGOEQUIPOS,MATCH($C26,'[11]INSUMOS EQUIPOS'!$B$7:$B$39,0))) | D26: 2 | E26: =IF(C26="","",(VLOOKUP($B26,INSUMOSEQUIPOS,4,FALSE))) | I26: =IF(D26=0,"",IFERROR(D26*E26*H26,""))
A27: 6 | B27: SERVICIOS DE LABORATORIO | I27: =IF(SUM(I28:I29)=0,"",SUM(I28:I29))
A28: 6.1 | B28: =IF(C28="","",INDEX(CODIGOSSERVICIOS,MATCH($C28,'INSUMOS SERVICIOS'!$B$7:$B$21,0))) | E28: =IF(C28="","",(VLOOKUP($B28,INSUMOSSERVICIOS,4,0))) | I28: =IF(D28=0,"",IFERROR(D28*E28,""))
A29: 6.2 | B29: =IF(C29="","",INDEX(CODIGOSSERVICIOS,MATCH($C29,'INSUMOS SERVICIOS'!$B$7:$B$21,0))) | E29: =IF(C29="","",(VLOOKUP($B29,INSUMOSSERVICIOS,4,0))) | I29: =IF(D29=0,"",IFERROR(D29*E29,""))
A30: 6.3 | B30: =IF(C30="","",INDEX(CODIGOSSERVICIOS,MATCH($C30,'INSUMOS SERVICIOS'!$B$7:$B$21,0))) | E30: =IF(C30="","",(VLOOKUP($B30,INSUMOSSERVICIOS,4,0))) | I30: =IF(D30=0,"",IFERROR(D30*E30,""))
A31: 7 | B31: VALLA CONTRACTUAL | I31: =IF(SUM(I32)=0,"",SUM(I32))
A32: 7.1 | B32: =IF(C32="","",INDEX(CODIGOMATERIALES,MATCH($C32,'[11]INSUMOS MATERIALES'!$B$7:$B$51,0))) | E32: =IF(C32="","",(VLOOKUP($B32,INSUMOSMATERIALES,4,0))) | I32: =IF(D32=0,"",IFERROR(D32*E32,""))
A33: 8 | B33: GASTOS DE LEGALIZACIÓN DEL CONTRATO | I33: =IF(SUM(I34:I40)=0,"",SUM(I34:I40)) -> 6565565.1
A34: 8.1 | C34: PÓLIZAS | I34: =IF('POLIZAS OBRA'!$G$21=0,"",'POLIZAS OBRA'!$G$21) -> 229109.5
A35: 8.2 | C35: IMPUESTO DE CONTRIBUCIÓN ESPECIAL 5% | D35: 0.05 | E35: =PRESUPUESTO!F36 -> 39602847 | I35: =IFERROR(IF(D35*E35=0,"",D35*E35),"") -> 1980142.4
A36: 8.3 | C36: ESTAMPILLAS PROJUSTICIA | D36: 0.02 | E36: =E35 -> 39602847 | I36: =IFERROR(IF(D36*E36=0,"",D36*E36),"") -> 792056.95
A37: 8.3.1 | C37: Pro Hospital | D37: 0.01 | E37: =E36 -> 39602847 | I37: =IFERROR(IF(D37*E37=0,"",D37*E37),"") -> 396028.47
A38: 8.3.2 | C38: Pro cultura | D38: 0.02 | E38: =E37 -> 39602847 | I38: =IFERROR(IF(D38*E38=0,"",D38*E38),"") -> 792056.95
A39: 8.3.3 | C39: Pro Anciano | D39: 0.04 | E39: =E38 -> 39602847 | I39: =IFERROR(IF(D39*E39=0,"",D39*E39),"") -> 1584113.9
A40: 8.3.4 | C40: Pro Deporte y Recreación | D40: 0.02 | E40: =E39 -> 39602847 | I40: =IFERROR(IF(D40*E40=0,"",D40*E40),"") -> 792056.95
A41: SUBTOTAL DE COSTOS DE ADMINISTRACIÓN | I41: =IF(SUM(I8,I13,I16,I20,I23,I27,I31,I33)=0,"",SUM(I8,I13,I16,I20,I23,I27,I31,I33)) -> 9290865.1
A42: AJUSTE ADMINISTRACIÓN POR REDONDE DE DECIMALES | I42: 66
...

Sheet INSUMOS MATERIALES
A1: DEPARTAMENTO DE ANTIOQUIA
A2: ='DATOS INICIALES'!$B$2 -> MUNICIPIO DE DABEIBA
A3: ='DATOS INICIALES'!$B$3 -> REPARACION DE PUENTE DE MADERA PARA CAMINOS DE HERRADURA QUE CONECTA LA VEREDA CHAMBUSCADO CON LA VEREDA LA ARGELIA Y DEMAS VEREDAS VECINAS DEL MUNICIPIO DE DABEIBA ANTIOQUIA.
A5: LISTADO DE INSUMOS - MATERIALES
A7: CÓDIGO | B7: DESCRIPCIÓN | C7: UNIDAD | D7: VALOR UNITARIO
B8: APU AUXILIARES
A9: MA001 | B9: CONCRETO 1421 PSI (10 MPA) EN OBRA | C9: M3 | D9: =IFERROR(VLOOKUP(A9,APUAUXILIARES,7,0),"")
A10: MA002 | B10: CONCRETO 1563 PSI (11 MPA) EN OBRA | C10: M3 | D10: =IFERROR(VLOOKUP(A10,APUAUXILIARES,7,0),"")
A11: MA003 | B11: CONCRETO 1705 PSI (12 MPA) EN OBRA | C11: M3 | D11: =IFERROR(VLOOKUP(A11,APUAUXILIARES,7,0),"")
A12: MA004 | B12: CONCRETO 1989 PSI (14 MPA) EN OBRA | C12: M3 | D12: =IFERROR(VLOOKUP(A12,APUAUXILIARES,7,0),"")
A13: MA005 | B13: CONCRETO 2274 PSI (16 MPA) EN OBRA | C13: M3 | D13: =IFERROR(VLOOKUP(A13,APUAUXILIARES,7,0),"")
A14: MA006 | B14: CONCRETO 2387 PSI (16 MPA) EN OBRA | C14: M3 | D14: =IFERROR(VLOOKUP(A14,APUAUXILIARES,7,0),"")
A15: MA007 | B15: CONCRETO 2686 PSI (19 MPA) EN OBRA | C15: M3 | D15: =IFERROR(VLOOKUP(A15,APUAUXILIARES,7,0),"")
A16: MA008 | B16: CONCRETO 2842 PSI (20 MPA) EN OBRA | C16: M3 | D16: =IFERROR(VLOOKUP(A16,APUAUXILIARES,7,0),"")
A17: MA009 | B17: CONCRETO 2984 PSI (21 MPA) EN OBRA | C17: M3 | D17: ='APU AUXILIARES (2)'!G173 -> 714543
A18: MA010 | B18: CONCRETO 3211 PSI (22 MPA) EN OBRA | C18: M3 | D18: =IFERROR(VLOOKUP(A18,APUAUXILIARES,7,0),"")
A19: MA011 | B19: CONCRETO 3410 PSI (24 MPA) EN OBRA | C19: M3 | D19: =IFERROR(VLOOKUP(A19,APUAUXILIARES,7,0),"")
A20: MA012 | B20: CONCRETO 3979 PSI (27 MPA) EN OBRA | C20: M3 | D20: =IFERROR(VLOOKUP(A20,APUAUXILIARES,7,0),"")
A21: MA013 | B21: MORTERO 1:4 EN OBRA (REVOQUE) | C21: M3 | D21: =IFERROR(VLOOKUP(A21,APUAUXILIARES,7,0),"")
A22: MA014 | B22: MORTERO 1:4 EN OBRA (GROUT) | C22: M3 | D22: =IFERROR(VLOOKUP(A22,APUAUXILIARES,7,0),"")
A23: MA015 | B23: MORTERO 1:4 EN OBRA (PEGA) | C23: M3 | D23: =IFERROR(VLOOKUP(A23,APUAUXILIARES,7,0),"")
A24: MA016 | B24: MORTERO 1:5 EN OBRA (REVOQUE) | C24: M3 | D24: =+IFERROR(VLOOKUP(A24,APU_AUXILIARES,7,0),"")
A25: MA017 | B25: MORTERO 1:5 EN OBRA (PEGA) | C25: M3 | D25: =+IFERROR(VLOOKUP(A25,APU_AUXILIARES,7,0),"")
A26: MA018 | B26: MORTERO 1:6 EN OBRA (PEGA) | C26: M3 | D26: =+IFERROR(VLOOKUP(A26,APU_AUXILIARES,7,0),"")
A27: MA019 | B27: FORMALETA PARA MUROS, ALETAS, DISIPADORES Y ESTRIBOS (6 USOS) | C27: M2 | D27: =+IFERROR(VLOOKUP(A27,APU_AUXILIARES,7,0),"")
B28: MATERIALES
A29: MA020 | B29: CEMENTO GRIS (50 KG) PORTLAND TIPO I | C29: SC | D29: 39000
A30: MA021 | B30: ARENA DE PEGA | C30: M3 | D30: 38500
A31: MA022 | B31: ARENA DE REVOQUE | C31: M3 | D31: 50000
A32: MA023 | B32: ARENA FINA PARA CONCRETOS | C32: M3 | D32: 50000 | E32: =34000*1.19 -> 40460
A33: MA024 | B33: MATERIAL MIXTO DE RIO - | C33: M3 | D33: 80000
A34: MA025 | B34: AGUA | C34: LT | D34: 50
A35: MA026 | B35: Impermeabilizante para concreto tipo sika plastocrete o similar | C35: KG | D35: 16000
A36: MA027 | B36: Super T de 19 mm. (6 usos y incluye desperdicio del 10%) | C36: M2 | D36: 73000
A37: MA028 | B37: ACERO REFUERZO G-60 | C37: KG | D37: 4500
A38: MA029 | B38: ALAMBRE NEGRO PARA AMARRE C 18 | C38: KG | D38: 6800
A39: MA030 | B39: LARGUERO MADERA COMÚN 4CMX8CMX2.80 | C39: UN | D39: 11000
A40: MA031 | B40: TABLERO AGLOMERADO MDP (SUPER T) 1.83 X 2.44 | C40: UN | D40: 149000
A41: MA032 | B41: CLAVOS COMUNES 1½ A 5" | C41: LB | D41: 3600
A42: MA033 | B42: listones de madera de 4" x 2" x 3m DE ALTA RESISTENCIA | C42: und | D42: 35000
...

Sheet INSUMOS EQUIPOS
A1: DEPARTAMENTO DE ANTIOQUIA
A2: ='[13]DATOS INICIALES'!$B$2 -> MUNICIPIO DE DABEIBA
A3: ='DATOS INICIALES'!B3 -> REPARACION DE PUENTE DE MADERA PARA CAMINOS DE HERRADURA QUE CONECTA LA VEREDA CHAMBUSCADO CON LA VEREDA LA ARGELIA Y DEMAS VEREDAS VECINAS DEL MUNICIPIO DE DABEIBA ANTIOQUIA.
A5: LISTADO DE INSUMOS - EQUIPOS
A7: CÓDIGO | B7: DESCRIPCIÓN | C7: UNIDAD | D7: VALOR UNITARIO
A8: EQ001 | B8: =+"HERRAMIENTA MENOR "&"("&D8*100&"% DE LA MANO DE OBRA)" -> HERRAMIENTA MENOR (10% DE LA MANO DE OBRA) | C8: % | D8: 0.1
A9: EQ002 | B9: ESTACIÓN TOTAL Y NIVEL DE PRECISION | C9: DÍA | D9: 90000
A10: EQ003 | B10: NIVEL DE PRECISIÓN | C10: DÍA | D10: 52000
A11: EQ004 | B11: CONCRETADORA 1.5 SACOS A GASOLINA | C11: DÍA | D11: 75000
A12: EQ005 | B12: VEHÍCULO DOBLE TRACCIÓN, DOBLE CABINA, 2000 CC O SUPERIOR (MODELO 2015 O SUPERIOR) TARIFA DE ALQUILER TIEMPO COMPLETO, INCLUYE COMBUSTIBLE Y CONDUCTOR. SE DEBE GARANTIZAR PERMANENCIA DE LOS VEHÍCULOS DURANTE TODA LA EJECUCIÓN DEL PROYECTO. | C12: MES | D12: 5513000
A13: EQ006 | B13: Motosierra a gasolina [dia] | C13: DIA | D13: 61000
A14: EQ007 | B14: TARIFA PUESTO DE TRABAJO DEL PERSONAL DE OFICINA DE CAMPO, INCLUYE: ALQUILER DE UN (1) EQUIPO DE COMPUTO COMPLETO, ESCRITORIO, SILLA Y OTROS ENSERES DE OFICINA POR PUESTO DE TRABAJO | C14: MES | D14: 50000
A15: EQ008 | B15: IMPRESORA EN OBRA (ALQUILER) | C15: MES | D15: 40000
A16: EQ009 | B16: COMUNICACIONES (TELÉFONO, FAX, CELULAR, INTERNET, ETC.) MENSUAL EN CAMPO | C16: MES | D16: 40000
A17: EQ010 | B17: RADIOTELÉFONOS PARE-SIGA | C17: MES | D17: 51800
A18: EQ011 | B18: ALQUILER BAÑOS PORTÁTILES + MANTENIMIENTO Y LIMPIEZA | C18: MES | D18: 1200000
A19: EQ012 | B19: EQUIPO COMPLETO PARA GEORREFERENCIACIÓN Y CAPTURA , ALMACENAMIENTO, ANALISIS, TRANSFORMACIÓN Y PRESENTACIÓN DE TODA LA INFORMACIÓN GEOGRÁFICA Y SUS ATRIBUTOS, INCLUYE SOFTWARE | C19: MES | D19: 650000
A20: EQ013 | B20: Andamio estructural multidireccional modulo estandar 1.4 x 1.4 x 2 m | C20: DIA | D20: 25000
... A44: EQ037 | B44: PULIDORA DE CORTE | C44: DIA | D44: 30000
B49: INGENIERO BANCO DE PROYECTOS

Sheet INSUMOS TRANSPORTES
A1: DEPARTAMENTO DE ANTIOQUIA
A2: ='DATOS INICIALES'!B6 -> MUNICIPIO DE DABEIBA
A3: ='DATOS INICIALES'!B3 -> REPARACION DE PUENTE DE MADERA PARA CAMINOS DE HERRADURA QUE CONECTA LA VEREDA CHAMBUSCADO CON LA VEREDA LA ARGELIA Y DEMAS VEREDAS VECINAS DEL MUNICIPIO DE DABEIBA ANTIOQUIA.
A5: LISTADO DE INSUMOS - TRANSPORTES
A7: CÓDIGO | B7: DESCRIPCIÓN | C7: UNIDAD | D7: VALOR UNITARIO
A8: TR001 | B8: TRANSPORTE DE INSUMOS GENERALES 0-1KM | C8: TON-KM | D8: 4250
A9: TR002 | B9: TRANSPORTE DE MATERIALES DE PLAYA (ARENILLON, PIEDRA RODADA DE RIO DMAX=3/4") 0-10KM | C9: M3-KM | D9: 3000
A10: TR003 | B10: TRANSPORTE DE MATERIAL DE EXCAVACIÓN | C10: M3-KM | D10: 3000
A11: TR004 | B11: TRANSPORTE DE ESCOMBROS | C11: M3-KM | D11: 3000
A12: TR005 | B12: TRANSPORTE DE MATERIALES GRANULARES | C12: M3-KM | D12: 3000
A13: TR006 | B13: TRANSPORTE DE MEZCLAS ASFÁLTICAS | C13: TON-KM | D13: 3000
A14: TR007 | B14: TRANSPORTE DE INSUMOS GENERALES 0-10 KM | C14: TON-KM | D14: 4250
A15: TR008 | B15: TRANSPORTE DE INSUMOS GENERALES 11-30 KM | C15: TON-KM | D15: 2480
A16: TR009 | B16: TRANSPORTE DE INSUMOS GENERALES 31-70 KM | C16: TON-KM | D16: 1300
A17: TR010 | B17: TRANSPORTE DE INSUMOS GENERALES 71-150 KM | C17: TON-KM | D17: 950
A18: TR011 | B18: TRANSPORTE DE INSUMOS GENERALES 151-310 KM | C18: TON-KM | D18: 560
A19: TR012 | B19: TRANSPORTE DE INSUMOS GENERALES MAYOR A 310 KM | C19: TON-KM | D19: 280
... A29: TR022 | B29: DISPOSICION FINAL DERECHO A BOTADERO | C29: M3-KM | D29: 4000
B35: INGENIERO BANCO DE PROYECTOS

Sheet INSUMOS SERVICIOS
A1: DEPARTAMENTO DE ANTIOQUIA
A2: ='DATOS INICIALES'!B6 -> MUNICIPIO DE DABEIBA
A3: ='DATOS INICIALES'!B3 -> REPARACION DE PUENTE DE MADERA PARA CAMINOS DE HERRADURA QUE CONECTA LA VEREDA CHAMBUSCADO CON LA VEREDA LA ARGELIA Y DEMAS VEREDAS VECINAS DEL MUNICIPIO DE DABEIBA ANTIOQUIA.
A5: LISTADO DE INSUMOS - SERVICIOS
A7: CÓDIGO | B7: DESCRIPCIÓN | C7: UNIDAD | D7: VALOR UNITARIO
A8: SE005 | B8: ADQUISICIÓN DE CARTOGRAFIA (IMÁGENES DE SATELITE Y FOTOS AÉREAS EXISTENTES) S/COMPROBANTE PAGO | C8: UN | D8: 100000
A9: SE003 | B9: ARRIENDO OFICINA DE CAMPO + DOTACIÓN | C9: MES | D9: 400000
A10: SE001 | B10: COMISIÓN TOPOGRÁFICA (1 TOP. + 1 CAD. 1 + 1 CAD. 2) | C10: DÍA | D10: 516617.34
A11: SE002 | B11: COMISIÓN TOPOGRÁFICA (1 TOP. + 1 CAD. 1) | C11: DÍA | D11: 447639.44
A12: SEL009 | B12: Compactación, densidad, estabilidad y flujo por briqueta para asfaltos | C12: UN | D12: 72000
A13: SE004 | B13: DERECHO A BOTADERO | C13: M3 | D13: 5000
A14: SEL003 | B14: Determinación de terrones de arcilla y partículas deleznables en los agregados | C14: UN | D14: 79000
A15: SEL006 | B15: Diseños de mezcla para una resistencia determinada (Incluye ensayos a agregados y verificación de resistencia) | C15: UN | D15: 737000
A16: SEL008 | B16: Densidad de compactación del suelo en campo, método del cono de arena | C16: UN | D16: 45000
A17: SEL001 | B17: Granulometría por tamizado con lavado sobre tamiz No 200 | C17: UN | D17: 107000
A18: SEL005 | B18: Relación de Soporte del Suelo en el laboratorio (CBR en el laboratorio) remodelado y sumergido. Suelos granulares (3 puntos) | C18: UN | D18: 368000
A19: SEL004 | B19: Relaciones de humedad - masa unitaria seca en los suelos (ensayo modificado de compactación - Proctor Modificado) con corrección del peso unitario y contenido de agua | C19: UN | D19: 147000
... A21: SEL002 | B21: Resistencia al desgaste de los agregados de tamaños menores a 37,5 mm (1 1/2") por medio de la máquina de los ángeles. | C21: UN | D21: 145000
B30: INGENIERO BANCO DE PROYECTOS

Sheet INSUMOS MANO DE OBRA
A1: DEPARTAMENTO DE ANTIOQUIA
A2: ='DATOS INICIALES'!B2 -> MUNICIPIO DE DABEIBA
A3: ='DATOS INICIALES'!B3 -> REPARACION DE PUENTE DE MADERA PARA CAMINOS DE HERRADURA QUE CONECTA LA VEREDA CHAMBUSCADO CON LA VEREDA LA ARGELIA Y DEMAS VEREDAS VECINAS DEL MUNICIPIO DE DABEIBA ANTIOQUIA.
A5: LISTADO DE INSUMOS - MANO DE OBRA
A7: CÓDIGO | B7: CARGO | C7: CLASE | D7: SALARIO MENSUAL | E7: FACTOR PRESTACIONAL | F7: JORNAL | G7: PRESTACIONES | H7: JORNAL TOTAL
A8: MO001 | B8: =IFERROR(IF(HLOOKUP($A8,FACTORPRESTACIONAL,2,0)="","",HLOOKUP($A8,FACTORPRESTACIONAL,2,0)),"") -> DIRECTOR DE OBRA | C8: =IFERROR(IF(HLOOKUP($A8,FACTORPRESTACIONAL,2,0)="","",HLOOKUP($A8,FACTORPRESTACIONAL,3,0)),"") -> ADMÓN | D8: =IFERROR(IF(HLOOKUP($A8,FACTORPRESTACIONAL,2,0)="","",HLOOKUP($A8,FACTORPRESTACIONAL,5,0)),"") -> 6500000 | E8: =IFERROR(IF(HLOOKUP($A8,FACTORPRESTACIONAL,2,0)="","",HLOOKUP($A8,FACTORPRESTACIONAL,26,0)),"") -> 1.5 | F8: =IFERROR(IF(HLOOKUP($A8,FACTORPRESTACIONAL,2,0)="","",HLOOKUP($A8,FACTORPRESTACIONAL,24,0)),"") -> 213699 | G8: =IFERROR(IF(HLOOKUP($A8,FACTORPRESTACIONAL,2,0)="","",HLOOKUP($A8,FACTORPRESTACIONAL,25,0)),"") -> 106911 | H8: =IFERROR(F8+G8,"") -> 320610
A9: MO002 | B9: =IFERROR(IF(HLOOKUP($A9,FACTORPRESTACIONAL,2,0)="","",HLOOKUP($A9,FACTORPRESTACIONAL,2,0)),"") -> DIRECTOR DE INTERVENTORÍA | C9: =IFERROR(IF(HLOOKUP($A9,FACTORPRESTACIONAL,2,0)="","",HLOOKUP($A9,FACTORPRESTACIONAL,3,0)),"") -> ADMÓN | D9: =IFERROR(IF(HLOOKUP($A9,FACTORPRESTACIONAL,2,0)="","",HLOOKUP($A9,FACTORPRESTACIONAL,5,0)),"") -> 6500000 | E9: =IFERROR(IF(HLOOKUP($A9,FACTORPRESTACIONAL,2,0)="","",HLOOKUP($A9,FACTORPRESTACIONAL,26,0)),"") -> 1.5 | F9: =IFERROR(IF(HLOOKUP($A9,FACTORPRESTACIONAL,2,0)="","",HLOOKUP($A9,FACTORPRESTACIONAL,24,0)),"") -> 213699 | G9: =IFERROR(IF(HLOOKUP($A9,FACTORPRESTACIONAL,2,0)="","",HLOOKUP($A9,FACTORPRESTACIONAL,25,0)),"") -> 106911 | H9: =IFERROR(F9+G9,"") -> 320610
A10: MO003 | B10: =IFERROR(IF(HLOOKUP($A10,FACTORPRESTACIONAL,2,0)="","",HLOOKUP($A10,FACTORPRESTACIONAL,2,0)),"") -> RESIDENTE DE OBRA | C10: =IFERROR(IF(HLOOKUP($A10,FACTORPRESTACIONAL,2,0)="","",HLOOKUP($A10,FACTORPRESTACIONAL,3,0)),"") -> ADMÓN | D10: =IFERROR(IF(HLOOKUP($A10,FACTORPRESTACIONAL,2,0)="","",HLOOKUP($A10,FACTORPRESTACIONAL,5,0)),"") -> 3900000 | E10: =IFERROR(IF(HLOOKUP($A10,FACTORPRESTACIONAL,2,0)="","",HLOOKUP($A10,FACTORPRESTACIONAL,26,0)),"") -> 1.51 | F10: =IFERROR(IF(HLOOKUP($A10,FACTORPRESTACIONAL,2,0)="","",HLOOKUP($A10,FACTORPRESTACIONAL,24,0)),"") -> 128219 | G10: =IFERROR(IF(HLOOKUP($A10,FACTORPRESTACIONAL,2,0)="","",HLOOKUP($A10,FACTORPRESTACIONAL,25,0)),"") -> 65112 | H10: =IFERROR(F10+G10,"") -> 193331
A11: MO004 | B11: =IFERROR(IF(HLOOKUP($A11,FACTORPRESTACIONAL,2,0)="","",HLOOKUP($A11,FACTORPRESTACIONAL,2,0)),"") -> RESIDENTE DE INTERVENTORÍA | C11: =IFERROR(IF(HLOOKUP($A11,FACTORPRESTACIONAL,2,0)="","",HLOOKUP($A11,FACTORPRESTACIONAL,3,0)),"") -> ADMÓN | D11: =IFERROR(IF(HLOOKUP($A11,FACTORPRESTACIONAL,2,0)="","",HLOOKUP($A11,FACTORPRESTACIONAL,5,0)),"") -> 3900000 | E11: =IFERROR(IF(HLOOKUP($A11,FACTORPRESTACIONAL,2,0)="","",HLOOKUP($A11,FACTORPRESTACIONAL,26,0)),"") -> 1.51 | F11: =IFERROR(IF(HLOOKUP($A11,FACTORPRESTACIONAL,2,0)="","",HLOOKUP($A11,FACTORPRESTACIONAL,24,0)),"") -> 128219 | G11: =IFERROR(IF(HLOOKUP($A11,FACTORPRESTACIONAL,2,0)="","",HLOOKUP($A11,FACTORPRESTACIONAL,25,0)),"") -> 65112 | H11: =IFERROR(F11+G11,"") -> 193331
A12: MO005 | B12: =IFERROR(IF(HLOOKUP($A12,FACTORPRESTACIONAL,2,0)="","",HLOOKUP($A12,FACTORPRESTACIONAL,2,0)),"") -> RESIDENTE AMBIENTAL | C12: =IFERROR(IF(HLOOKUP($A12,FACTORPRESTACIONAL,2,0)="","",HLOOKUP($A12,FACTORPRESTACIONAL,3,0)),"") -> ADMÓN | D12: =IFERROR(IF(HLOOKUP($A12,FACTORPRESTACIONAL,2,0)="","",HLOOKUP($A12,FACTORPRESTACIONAL,5,0)),"") -> 3510000 | E12: =IFERROR(IF(HLOOKUP($A12,FACTORPRESTACIONAL,2,0)="","",HLOOKUP($A12,FACTORPRESTACIONAL,26,0)),"") -> 1.51 | F12: =IFERROR(IF(HLOOKUP($A12,FACTORPRESTACIONAL,2,0)="","",HLOOKUP($A12,FACTORPRESTACIONAL,24,0)),"") -> 115397 | G12: =IFERROR(IF(HLOOKUP($A12,FACTORPRESTACIONAL,2,0)="","",HLOOKUP($A12,FACTORPRESTACIONAL,25,0)),"") -> 58842 | H12: =IFERROR(F12+G12,"") -> 174239
A13: MO006 | B13: =IFERROR(IF(HLOOKUP($A13,FACTORPRESTACIONAL,2,0)="","",HLOOKUP($A13,FACTORPRESTACIONAL,2,0)),"") -> RESIDENTE SOCIAL | C13: =IFERROR(IF(HLOOKUP($A13,FACTORPRESTACIONAL,2,0)="","",HLOOKUP($A13,FACTORPRESTACIONAL,3,0)),"") -> ADMÓN | D13: =IFERROR(IF(HLOOKUP($A13,FACTORPRESTACIONAL,2,0)="","",HLOOKUP($A13,FACTORPRESTACIONAL,5,0)),"") -> 3900000 | E13: =IFERROR(IF(HLOOKUP($A13,FACTORPRESTACIONAL,2,0)="","",HLOOKUP($A13,FACTORPRESTACIONAL,26,0)),"") -> 1.51 | F13: =IFERROR(IF(HLOOKUP($A13,FACTORPRESTACIONAL,2,0)="","",HLOOKUP($A13,FACTORPRESTACIONAL,24,0)),"") -> 128219 | G13: =IFERROR(IF(HLOOKUP($A13,FACTORPRESTACIONAL,2,0)="","",HLOOKUP($A13,FACTORPRESTACIONAL,25,0)),"") -> 65112 | H13: =IFERROR(F13+G13,"") -> 193331
A14: MO007 | B14: =IFERROR(IF(HLOOKUP($A14,FACTORPRESTACIONAL,2,0)="","",HLOOKUP($A14,FACTORPRESTACIONAL,2,0)),"") -> AUXILIAR DE RESIDENCIA | C14: =IFERROR(IF(HLOOKUP($A14,FACTORPRESTACIONAL,2,0)="","",HLOOKUP($A14,FACTORPRESTACIONAL,3,0)),"") -> ADMÓN | D14: =IFERROR(IF(HLOOKUP($A14,FACTORPRESTACIONAL,2,0)="","",HLOOKUP($A14,FACTORPRESTACIONAL,5,0)),"") -> 2600000 | E14: =IFERROR(IF(HLOOKUP($A14,FACTORPRESTACIONAL,2,0)="","",HLOOKUP($A14,FACTORPRESTACIONAL,26,0)),"") -> 1.62 | F14: =IFERROR(IF(HLOOKUP($A14,FACTORPRESTACIONAL,2,0)="","",HLOOKUP($A14,FACTORPRESTACIONAL,24,0)),"") -> 85479 | G14: =IFERROR(IF(HLOOKUP($A14,FACTORPRESTACIONAL,2,0)="","",HLOOKUP($A14,FACTORPRESTACIONAL,25,0)),"") -> 53178 | H14: =IFERROR(F14+G14,"") -> 138657
A15: MO008 | B15: =IFERROR(IF(HLOOKUP($A15,FACTORPRESTACIONAL,2,0)="","",HLOOKUP($A15,FACTORPRESTACIONAL,2,0)),"") -> TECNÓLOGO SST | C15: =IFERROR(IF(HLOOKUP($A15,FACTORPRESTACIONAL,2,0)="","",HLOOKUP($A15,FACTORPRESTACIONAL,3,0)),"") -> ADMÓN | D15: =IFERROR(IF(HLOOKUP($A15,FACTORPRESTACIONAL,2,0)="","",HLOOKUP($A15,FACTORPRESTACIONAL,5,0)),"") -> 2990000 | E15: =IFERROR(IF(HLOOKUP($A15,FACTORPRESTACIONAL,2,0)="","",HLOOKUP($A15,FACTORPRESTACIONAL,26,0)),"") -> 1.51 | F15: =IFERROR(IF(HLOOKUP($A15,FACTORPRESTACIONAL,2,0)="","",HLOOKUP($A15,FACTORPRESTACIONAL,24,0)),"") -> 98301 | G15: =IFERROR(IF(HLOOKUP($A15,FACTORPRESTACIONAL,2,0)="","",HLOOKUP($A15,FACTORPRESTACIONAL,25,0)),"") -> 50482 | H15: =IFERROR(F15+G15,"") -> 148783
A16: MO009 | B16: =IFERROR(IF(HLOOKUP($A16,FACTORPRESTACIONAL,2,0)="","",HLOOKUP($A16,FACTORPRESTACIONAL,2,0)),"") -> ASESOR LEGAL | C16: =IFERROR(IF(HLOOKUP($A16,FACTORPRESTACIONAL,2,0)="","",HLOOKUP($A16,FACTORPRESTACIONAL,3,0)),"") -> ADMÓN | D16: =IFERROR(IF(HLOOKUP($A16,FACTORPRESTACIONAL,2,0)="","",HLOOKUP($A16,FACTORPRESTACIONAL,5,0)),"") -> 8710000 | E16: =IFERROR(IF(HLOOKUP($A16,FACTORPRESTACIONAL,2,0)="","",HLOOKUP($A16,FACTORPRESTACIONAL,26,0)),"") -> 1.5 | F16: =IFERROR(IF(HLOOKUP($A16,FACTORPRESTACIONAL,2,0)="","",HLOOKUP($A16,FACTORPRESTACIONAL,24,0)),"") -> 286356 | G16: =IFERROR(IF(HLOOKUP($A16,FACTORPRESTACIONAL,2,0)="","",HLOOKUP($A16,FACTORPRESTACIONAL,25,0)),"") -> 142441 | H16: =IFERROR(F16+G16,"") -> 428797
A17: MO010 | B17: =IFERROR(IF(HLOOKUP($A17,FACTORPRESTACIONAL,2,0)="","",HLOOKUP($A17,FACTORPRESTACIONAL,2,0)),"") -> CONTADOR | C17: =IFERROR(IF(HLOOKUP($A17,FACTORPRESTACIONAL,2,0)="","",HLOOKUP($A17,FACTORPRESTACIONAL,3,0)),"") -> ADMÓN | D17: =IFERROR(IF(HLOOKUP($A17,FACTORPRESTACIONAL,2,0)="","",HLOOKUP($A17,FACTORPRESTACIONAL,5,0)),"") -> 5980000 | E17: =IFERROR(IF(HLOOKUP($A17,FACTORPRESTACIONAL,2,0)="","",HLOOKUP($A17,FACTORPRESTACIONAL,26,0)),"") -> 1.5 | F17: =IFERROR(IF(HLOOKUP($A17,FACTORPRESTACIONAL,2,0)="","",HLOOKUP($A17,FACTORPRESTACIONAL,24,0)),"") -> 196603 | G17: =IFERROR(IF(HLOOKUP($A17,FACTORPRESTACIONAL,2,0)="","",HLOOKUP($A17,FACTORPRESTACIONAL,25,0)),"") -> 98551 | H17: =IFERROR(F17+G17,"") -> 295154
A18: MO011 | B18: =IFERROR(IF(HLOOKUP($A18,FACTORPRESTACIONAL,2,0)="","",HLOOKUP($A18,FACTORPRESTACIONAL,2,0)),"") -> ALMACENISTA | C18: =IFERROR(IF(HLOOKUP($A18,FACTORPRESTACIONAL,2,0)="","",HLOOKUP($A18,FACTORPRESTACIONAL,3,0)),"") -> ADMÓN | D18: =IFERROR(IF(HLOOKUP($A18,FACTORPRESTACIONAL,2,0)="","",HLOOKUP($A18,FACTORPRESTACIONAL,5,0)),"") -> 2405000 | E18: =IFERROR(IF(HLOOKUP($A18,FACTORPRESTACIONAL,2,0)="","",HLOOKUP($A18,FACTORPRESTACIONAL,26,0)),"") -> 1.63 | F18: =IFERROR(IF(HLOOKUP($A18,FACTORPRESTACIONAL,2,0)="","",HLOOKUP($A18,FACTORPRESTACIONAL,24,0)),"") -> 79068 | G18: =IFERROR(IF(HLOOKUP($A18,FACTORPRESTACIONAL,2,0)="","",HLOOKUP($A18,FACTORPRESTACIONAL,25,0)),"") -> 50043 | H18: =IFERROR(F18+G18,"") -> 129111
A19: MO012 | B19: =IFERROR(IF(HLOOKUP($A19,FACTORPRESTACIONAL,2,0)="","",HLOOKUP($A19,FACTORPRESTACIONAL,2,0)),"") -> AUXILIAR DE ALMACÉN | C19: =IFERROR(IF(HLOOKUP($A19,FACTORPRESTACIONAL,2,0)="","",HLOOKUP($A19,FACTORPRESTACIONAL,3,0)),"") -> ADMÓN | D19: =IFERROR(IF(HLOOKUP($A19,FACTORPRESTACIONAL,2,0)="","",HLOOKUP($A19,FACTORPRESTACIONAL,5,0)),"") -> 1885000 | E19: =IFERROR(IF(HLOOKUP($A19,FACTORPRESTACIONAL,2,0)="","",HLOOKUP($A19,FACTORPRESTACIONAL,26,0)),"") -> 1.67 | F19: =IFERROR(IF(HLOOKUP($A19,FACTORPRESTACIONAL,2,0)="","",HLOOKUP($A19,FACTORPRESTACIONAL,24,0)),"") -> 61973 | G19: =IFERROR(IF(HLOOKUP($A19,FACTORPRESTACIONAL,2,0)="","",HLOOKUP($A19,FACTORPRESTACIONAL,25,0)),"") -> 41683 | H19: =IFERROR(F19+G19,"") -> 103656
... A61: MO054 | B61: =IFERROR(IF(HLOOKUP($A61,FACTORPRESTACIONAL,2,0)="","",HLOOKUP($A61,FACTORPRESTACIONAL,2,0)),"") -> TÉCNICO AMBIENTAL | C61: =IFERROR(IF(HLOOKUP($A61,FACTORPRESTACIONAL,2,0)="","",HLOOKUP($A61,FACTORPRESTACIONAL,3,0)),"") -> ADMÓN | D61: =IFERROR(IF(HLOOKUP($A61,FACTORPRESTACIONAL,2,0)="","",HLOOKUP($A61,FACTORPRESTACIONAL,5,0)),"") -> 2600000 | E61: =IFERROR(IF(HLOOKUP($A61,FACTORPRESTACIONAL,2,0)="","",HLOOKUP($A61,FACTORPRESTACIONAL,26,0)),"") -> 1.62 | F61: =IFERROR(IF(HLOOKUP($A61,FACTORPRESTACIONAL,2,0)="","",HLOOKUP($A61,FACTORPRESTACIONAL,24,0)),"") -> 85479 | G61: =IFERROR(IF(HLOOKUP($A61,FACTORPRESTACIONAL,2,0)="","",HLOOKUP($A61,FACTORPRESTACIONAL,25,0)),"") -> 53178 | H61: =IFERROR(F61+G61,"") -> 138657
B70: MARLON A PEREZ H
B71: INGENIERO BANCO DE PROYECTOS

Sheet 1.1
B2: ITEM | C2: DESCRIPCIÓN | J2: UNIDAD
B3: =PRESUPUESTO!A6 -> 1.1 | C3: =PRESUPUESTO!B6 -> Transporte de Insumos para construccion para distancias de 0 a 2000 m medidos a partir de 100 m. en lomo de mula | J3: =PRESUPUESTO!C6 -> M3/KM
B5: l. EQUIPO
B6: Descripción | F6: Marca | G6: Tipo | H6: Tarifa/Hora-Día | I6: Rendimiento | J6: Valor-Unit
I10: Sub-Total: | J10: =ROUND(SUM(J7:J9),0) -> 0
B11: ll. MATERIALES
B12: Descripción | G12: Unidad | H12: Cantidad | I12: Precio-Unit | J12: Valor-Unit | L12: UNA MULA COBRA 50 MIL PESOS LA CARGA LA CUAL CONSTA DE 2 BULTOS
L14: 1 btos | M14: transporte | N14: 25000
L15: 1 m3 | M15: son | N15: 25 bultos
L17: 1 bulto | N17: 0,04M3
L18: 25 bultos | N18: 1M3
I19: Sub-Total: | J19: =ROUND(SUM(J13:J18),0) -> 0
B20: lll. TRANSPORTE | L20: 25 BULTOS | M20: a | N20: 20000
B21: Descripción | F21: Volumen(m3)-Peso (ton) | G21: Distancia | H21: Cantidad (m3- Km / ton-Km) | I21: Tarifa | J21: Valor-Unit
L22: 25*25000 | M22: =N20*25 -> 500000 | N22: esto para 3 km
B23: Transporte en mula de material m3-km (MATERIALES DE CONSTRUCCION) | F23: =0.04*25 -> 1 | G23: 1 | H23: =F23*G23 -> 1 | I23: 166667 | J23: =ROUND(H23*I23,0) -> 166667
J24: =ROUND(H24*I24,0) -> 0
I25: Sub-Total: | J25: =SUM(J22:J24) -> 166667 | L25: ahora convertimos esto a 1 km
B26: lll. MANO DE OBRA | L26: tarifa para 3km | M26: distancia | N26: costo m3/km
B27: Descripción | G27: Jornal | H27: Jornal Total (+Prestaciones) | I27: Rendimiento | J27: Valor-Unit | L27: 500000 | M27: 3 | N27: =L27/M27 -> 166666.67
I31: Sub-Total: | J31: =SUM(J28:J30) -> 0
I33: Total Costo Directo: | J33: =SUM(J10,J19,J25,J31) -> 166667
B34: V. COSTOS INDIRECTOS
B35: Descripción | I35: Porcentaje | J35: Valor Total
B36: Administración (A): | I36: 0.25 | J36: =ROUND(I36*$J$33,0) -> 41667
B37: Utilidad (U): | I37: 0.05 | J37: =ROUND(I37*$J$33,0) -> 8333
B38: Imprevistos (I): | J38: =ROUND(I38*$J$33,0) -> 0
B39: Total sobrecostos: | I39: =SUM(I36:I38) -> 0.3 | J39: =ROUND(I39*$J$33,0) -> 50000
H40: Sub-Total: | I40: =I39 -> 0.3 | J40: =J39 -> 50000
I42: Precio Unitario Total: | J42: =ROUND(SUM(J33,J40),0) -> 216667

Sheet 1.2
B2: ITEM | C2: DESCRIPCIÓN | J2: UNIDAD
B3: =PRESUPUESTO!A7 -> 1.2 | C3: =PRESUPUESTO!B7 -> Transporte de materiales e insumos de construccion para distancias de 0- 70km - desde zona urbana hasta vereda la argelia. | J3: =PRESUPUESTO!C7 -> M3/KM
B5: l. EQUIPO
B6: Descripción | F6: Marca | G6: Tipo | H6: Tarifa/Hora-Día | I6: Rendimiento | J6: Valor-Unit
I12: Sub-Total: | J12: =ROUND(SUM(J7:J11),0) -> 0
B13: ll. MATERIALES
B14: Descripción | G14: Unidad | H14: Cantidad | I14: Precio-Unit | J14: Valor-Unit
I18: Sub-Total: | J18: =ROUND(SUM(J15:J17),0) -> 0
B19: lll. TRANSPORTE
B20: Descripción | F20: Volumen(m3)-Peso (ton) | G20: Distancia | H20: Cantidad (m3- Km / ton-Km) | I20: Tarifa | J20: Valor-Unit
B22: ='INSUMOS TRANSPORTES'!B23 -> TRANSPORTE DE MATERIALES DE PLAYA, TIERRA O ESCOMBROS 71-150 KM | F22: 1 | G22: 1 | H22: =F22*G22 -> 1 | I22: ='INSUMOS TRANSPORTES'!D22 -> 2000 | J22: =ROUND(H22*I22,0) -> 2000
I24: Sub-Total: | J24: =SUM(J21:J23) -> 2000
B25: lll. MANO DE OBRA
B26: Descripción | G26: Jornal | H26: Jornal Total (+Prestaciones) | I26: Rendimiento | J26: Valor-Unit
I30: Sub-Total: | J30: =SUM(J27:J29) -> 0
I32: Total Costo Directo: | J32: =SUM(J12,J18,J24,J30) -> 2000
B33: V. COSTOS INDIRECTOS
B34: Descripción | I34: Porcentaje | J34: Valor Total
B35: Administración (A): | I35: 0.25 | J35: =ROUND(I35*$J$32,0) -> 500
B36: Utilidad (U): | I36: 0.05 | J36: =ROUND(I36*$J$32,0) -> 100
B37: Imprevistos (I): | J37: =ROUND(I37*$J$32,0) -> 0
B38: Total sobrecostos: | I38: =SUM(I35:I37) -> 0.3 | J38: =ROUND(I38*$J$32,0) -> 600
H39: Sub-Total: | I39: =I38 -> 0.3 | J39: =J38 -> 600
I41: Precio Unitario Total: | J41: =ROUND(SUM(J32,J39),0) -> 2600

Sheet 2,1
B2: ITEM | C2: DESCRIPCIÓN | J2: UNIDAD
B3: 2.1 | C3: =PRESUPUESTO!B9 -> Excavacion manual en materal comun, no incluye transporte. Solo acarreo interno. | J3: M3
B5: l. EQUIPO
B6: Descripción | F6: Marca | G6: Tipo | H6: Tarifa/Hora-Día | I6: Rendimiento | J6: Valor-Unit
B10: Herramienta menor 10% mano de obra | H10: =J30 -> 25163 | I10: 0.1 | J10: =ROUND(H10*I10,0) -> 2516
I12: Sub-Total: | J12: =ROUND(SUM(J7:J11),0) -> 2516
B13: ll. MATERIALES
B14: Descripción | G14: Unidad | H14: Cantidad | I14: Precio-Unit | J14: Valor-Unit
J15: =ROUND(H15*I15,0) -> 0
I18: Sub-Total: | J18: =ROUND(SUM(J15:J17),0) -> 0
B19: lll. TRANSPORTE
B20: Descripción | F20: Volumen(m3)-Peso (ton) | G20: Distancia | H20: Cantidad (m3- Km / ton-Km) | I20: Tarifa | J20: Valor-Unit
B22: acarreo interno | F22: 1 | G22: 1 | H22: =F22*G22 -> 1 | I22: 10000 | J22: =ROUND(H22*I22,0) -> 10000
I24: Sub-Total: | J24: =SUM(J21:J23) -> 10000
B25: lll. MANO DE OBRA
B26: Descripción | G26: Jornal | H26: Jornal Total (+Prestaciones) | I26: Rendimiento | J26: Valor-Unit
B28: Oficial | G28: 10000 | H28: =G28*1.83 -> 18300 | I28: 8 | J28: =ROUND(H28/I28,0) -> 2288
B29: Ayudantes raso (2) | G29: =50000*2 -> 100000 | H29: =G29*1.83 -> 183000 | I29: 8 | J29: =ROUND(H29/I29,0) -> 22875
I30: Sub-Total: | J30: =SUM(J27:J29) -> 25163
I32: Total Costo Directo: | J32: =SUM(J12,J18,J24,J30) -> 37679
B33: V. COSTOS INDIRECTOS
B34: Descripción | I34: Porcentaje | J34: Valor Total
B35: Administración (A): | I35: 0.25 | J35: =ROUND(I35*$J$32,0) -> 9420
B36: Utilidad (U): | I36: 0.05 | J36: =ROUND(I36*$J$32,0) -> 1884
B37: Imprevistos (I): | J37: =ROUND(I37*$J$32,0) -> 0
B38: Total sobrecostos: | I38: =SUM(I35:I37) -> 0.3 | J38: =ROUND(I38*$J$32,0) -> 11304
H39: Sub-Total: | I39: =I38 -> 0.3 | J39: =J38 -> 11304
I41: Precio Unitario Total: | J41: =ROUND(SUM(J32,J39),0) -> 48983

Sheet 2.2
B2: ITEM | C2: DESCRIPCIÓN | J2: UNIDAD
B3: =PRESUPUESTO!A10 -> 2.2 | C3: =PRESUPUESTO!B10 -> Lleno manual para estructuras con material de préstamo (tipo arenilla) hasta obtener una densidad mínima del 95%, de la obtenida en el ensayo del Proctor modificado. Incluye, material, acarreo interno, conformación, compactación | J3: =PRESUPUESTO!C10 -> M3
B5: l. EQUIPO
