Workbook
Name \b: #REF!
Name \b: #REF!
Name \c: #REF!
Name \c: #REF!
Name \c: #REF!
Name \e: #REF!
Name \i: #REF!
Name \i: #REF!
Name \m: #REF!
Name \m: #REF!
Name \r: #REF!
Name \r: #REF!
Name \t: #REF!
Name \t: #REF!
Name \v: #REF!
Name \x: #REF!
Name \x: #REF!
Name \z: #REF!
Name _: #REF!
Name __CAP10: #REF!
Name __CAP10: #REF!
Name _000000: #REF!
Name _000000: #REF!
Name _0000000000000000: #REF!
Name _0000000000000000: #REF!
Name _000002: #REF!
Name _000002: #REF!
Name _CAP1: #REF!
Name _CAP1: #REF!
Name _CAP10: #REF!
Name _CAP10: #REF!
Name _CAP11: #REF!
Name _CAP11: #REF!
Name _CAP12: #REF!
Name _CAP12: #REF!
Name _CAP13: #REF!
Name _CAP13: #REF!
Name _CAP2: #REF!
Name _CAP2: #REF!
Name _CAP3: #REF!
Name _CAP3: #REF!
Name _CAP30: #REF!
Name _CAP30: #REF!
Name _CAP4: #REF!
Name _CAP4: #REF!
Name _CAP5: #REF!
Name _CAP5: #REF!
Name _CAP6: #REF!
Name _CAP6: #REF!
Name _CAP7: #REF!
Name _CAP7: #REF!
Name _CAP8: #REF!
Name _CAP8: #REF!
Name _CAP9: #REF!
Name _CAP9: #REF!
Name _Key1: #REF!
Name _Key1: #REF!
Name _MAYORESYMENORES: #REF!
Name _MAYORESYMENORES: #REF!
Name _Order1: 255

Sheet PPTO SINT
B2: "MANTENIMIENTO Y MEJORAMIENTO PARA CASA DE LA CULTURA DEL CASCO URBANO DE PALESTINA, MUNICIPIO DE PALESTINA CALDAS"
B4: LOCALIZACIÓN | D4: CASA DE LA CULTURA, PALESTINA CALDAS
D5: Adecuación para las instalaciones de la Casa de La Cultura del Municipio de Palestina, Caldas.
B6: PRESUPUESTO DE OBRA PÚBLICA
B7: ÍTEM | C7: DESCRIPCIÓN | D7: UNIDAD | E7: CANTIDAD | F7: V/UNITARIO | G7: V/TOTAL | J7: 10 | K7: 11 | L7: 12 | M7: 13 | N7: 14 | O7: 15 | P7: 16 | Q7: 17 | R7: 18
B8: 1 | C8: DEMOLICIÓN | G8: =G13+G11+G10+G9+G12 -> 9173199
B9: 1.2 | C9: =[1]A.P.U!$C$16363 -> DESMONTE PUERTAS (INCLUYE RETIRO) | D9: UND | E9: 14 | F9: =[1]A.P.U!$I$16363 -> 42934 | G9: =F9*E9 -> 601076
B10: 1.3 | C10: =[1]A.P.U!$C$16350 -> DESMONTE DE VENTANERIA | D10: M2 | E10: =1.6*7 -> 11.2 | F10: =[1]A.P.U!$I$16350 -> 17583 | G10: =F10*E10 -> 196929.6
B11: 1.4 | C11: =[1]A.P.U!$C$16379 -> DESMONTE DE CANALES Y BAJANTES | D11: ML | E11: =E15+E17 -> 44.9 | F11: =[1]A.P.U!$I$16379 -> 5659 | G11: =F11*E11 -> 254089.1
B12: 1.5 | C12: =[1]A.P.U!$C$16368 -> DESMONTE PISOS EN MADERA | D12: M2 | E12: 159.44 | F12: =[1]A.P.U!$I$16368 -> 16333 | G12: =F12*E12 -> 2604133.5
B13: 1.6 | C13: =[1]A.P.U!$C$16304 -> DESMONTE DE CUBIERTA DE TECHO EN TEJA DE BARRO Y MADERA INCLUYE RETIRO | D13: M2 | E13: =250.76 -> 250.76 | F13: =[1]A.P.U!$I$16304 -> 22001 | G13: =F13*E13 -> 5516970.8
B14: 2 | C14: CUBIERTA | G14: =G15+G17+G18+G16 -> 24421456
B15: 2.1 | C15: =[1]A.P.U!$C$8541 -> SUMINISTRO, TRANSPORTE E INSTALACION CANAL EN LAMINA GALVANIZADA CAL .20 D/ 0.82 M. (SUMINISTRO E INSTALACIÓN CON WASH PRIMER + ESMALTE + ANCLAJE A MURO + SILICONA) | D15: ML | E15: 22.7 | F15: =[1]A.P.U!$I$8541 -> 130262 | G15: =F15*E15 -> 2956947.4
B16: 2.2 | C16: =[1]A.P.U!$C$2690 -> SUMINISTRO, TRANSPORTE E INSTALACIÓN DE LISTÓN CHANUL DE MADERA PARA CUBIERTA DE 4 X 9 (SEGÚN DISEÑO) | D16: ML | E16: 126.8 | F16: =[1]A.P.U!$I$2690 -> 53980 | G16: =F16*E16 -> 6844664
B17: 2.3 | C17: =[1]A.P.U!$C$879 -> SUMINISTRO, TRANSPORTE E INSTALACION BAJANTE AGUAS LLUVIAS PVC 4" (INCLUYE CODO, UNION Y ACCESORIOS DE FIJACION) | D17: ML | E17: 22.2 | F17: =[1]A.P.U!$I$16930 -> 3763 | G17: =F17*E17 -> 83538.6
B18: 2.4 | C18: =[1]A.P.U!$C$8610 -> SUMINISTRO TRANSPORTE, E INSTLACION DE TEJA DE BARRO PARA CUBIERTA TIPO COLONIAL. (INCLUYE TODOS LOS ELEMENTOS Y ACCESORIOS NECESARIOS PARA SU CORRECTA INSTALACION. ALMACENAMIENTO EN SITIO QUE DISPONGA EL INTERVENTOR. LOS MATERIALES QUE NO PUEDAN SER REUTILIZABLES A CRITERIO DE LA ENTIDAD CONTRATANTE ESTARAN A CARGO DEL CONTRATISTA PARA EL CARGUE, RETIRO Y DISPOSICION DE ESCOMBROS.) | D18: M2 | E18: =250.76 -> 250.76 | F18: =[1]A.P.U!$I$8610 -> 57969 | G18: =F18*E18 -> 14536306
B19: 3 | C19: ACABADOS | G19: =G20+G21+G23+G24+G22 -> 57583535
B20: 3.1 | C20: =[1]A.P.U!$C$10334 -> SUMINISTRO, TRANSPORTE E INSTALACION PASAMANOS EN MADERA TIPO CEDRO 2,5 X 18 X 300 CM (INCLUYE ACCESORIOS DE INSTALACIÓN) | D20: ML | E20: 31.2 | F20: =[1]A.P.U!$I$10334 -> 54667 | G20: =F20*E20 -> 1705610.4
B21: 3.2 | C21: =[1]A.P.U!$C$10343 -> SUMINISTRO, TRANSPORTE E INSTALACION PUERTA DE MADERA, ENTAMBORADA | D21: M2 | E21: 31.5 | F21: =[1]A.P.U!$I$10343 -> 480530 | G21: =F21*E21 -> 15136695
B22: 3.3 | C22: =[1]A.P.U!$C$9497 -> SUMINISTRO, TRANSPORTE E INSTALACIÓN PISO EN TABLA DE ALGARROBO 18X1,8 MM Y CUARTÓN DE CHANUL 8X4 CM CADA 35 CM SELLADO CON BARNIZ MARINO. INCLUYE PLATINA ANGULAR DE ACERO DE 1 1/12 X 1/8". INCLUYE PULIDA DE PISO CON LIJA | D22: M2 | E22: 104.44 | F22: =[1]A.P.U!$I$9497 -> 300529 | G22: =F22*E22 -> 31387249
B23: 3.4 | C23: =[1]A.P.U!$C$11118 -> SUMINISTRO, TRANSPORTE E INSTALACION ESTUCO Y PINTURA TIPO KORAZA O SIMILAR 3 MANOS FACHADAS (INCLUYE ESTUCO, 1 MANO EN PINTURA TIPO 2 Y DOS MANOS EN PINTURA TIPO KORAZA O SIMILAR, FILOS Y DILATACIONES). COLOR SEGÚN DISEÑO. | D23: M2 | E23: =84.2+29.85 -> 114.05 | F23: =[1]A.P.U!$I$11118 -> 30324 | G23: =F23*E23 -> 3458452.2
B24: 3.5 | C24: =[1]A.P.U!$C$11005 -> SUMINISTRO, TRANSPORTE E INSTALACION ESTUCO Y VINILO 3 MANOS SOBRE MURO INTERIOR (INCLUYE ESTUCO, 1 MANO EN PINTURA TIPO 2 Y DOS MANOS EN PINTURA TIPO 1, FILOS Y DILATACIONES). COLOR SEGÚN DISEÑO POR M2 | D24: M2 | E24: 224.9 | F24: =[1]A.P.U!$I$11005 -> 26214 | G24: =F24*E24 -> 5895528.6
B25: 4 | C25: ELÉCTRICO | G25: =G27+G26+G28+G29+G30+G31+G32+G33 -> 10715726
B26: 4.1 | C26: =[1]A.P.U!$C$7127 -> SUMINISTRO E INSTALACIÓN SALIDA DE ILUMINACIÓN EN TUBERÍA CONDUIT EMT1/2", CABLE 12 AWG | D26: UND | E26: 1 | F26: =[1]A.P.U!$I$7116 -> 143608 | G26: =F26*E26 -> 143608
B27: 4.2 | C27: =[1]A.P.U!$C$6353 -> SUMINISTRO, TRANSPORTE E INSTALACION SUMINISTRO E INSTALACIÓN DE LUMINARIA DE EMPOTRAR TIPO BALA PANEL LED REDONDO, 14W BLANCO OPAL. 1200lm . INCLUYE DRIVER SC | D27: UND | E27: 22 | F27: =[1]A.P.U!$I$6353 -> 313217 | G27: =F27*E27 -> 6890774
B28: 4.3 | C28: SUMINISTRO E INSTALACIÓN DE TOMACORRIENTE DOBLE CON POLO A TIERRA DE INCRUSTAR | D28: UND | E28: 24 | F28: 22165.5 | G28: =F28*E28 -> 531972
B29: 4.4 | C29: SUMINISTRO E INSTALACIÓN DE CANALETA PLASTICA DE 100X45 X 2MT | D29: UND | E29: 18 | F29: 86850 | G29: =F29*E29 -> 1563300
B30: 4.5 | C30: SUMINISTRO E INSTALACIÓN DE CAJA RECTANGULAR SENCILLA PARA CANALETA DE 100X45 | D30: UND | E30: 12 | F30: 12150 | G30: =F30*E30 -> 145800
B31: 4.6 | C31: SUMINISTRO E INSTALACIÓN DE CHAZOS DE 1/4" CON TORNILLO DRYWALL DE 1" X 50 UND | D31: UND | E31: 2 | F31: 31350 | G31: =F31*E31 -> 62700
B32: 4.7 | C32: SUMINISTRO E INSTALACIÓN DE CABLE 3X12 AWG HFFR LS Cu | D32: ML | E32: 50 | F32: 21104.44 | G32: =F32*E32 -> 1055222
B33: 4.8 | C33: SUMINISTRO E INSTALACIÓN DE CONECTORES AUTODESFORRE X100 UND | D33: UND | E33: 1 | F33: 322350 | G33: =F33*E33 -> 322350
B34: 5 | C34: OTROS | G34: =G35 -> 327308.31
B35: 5.1 | C35: ASEO GENERAL | D35: M2 | E35: =(12.5+12.5+8.4)*2.55 -> 85.17 | F35: =[2]A.P.U!$I$12032 -> 3843 | G35: =F35*E35 -> 327308.31
D36: TOTAL COSTO DIRECTO | G36: =G8+G14+G34+G19+G25 -> 1.0222122e+08
D37: ADMINISTRACION: | F37: =ROUND('ANÁLISIS AIU '!H32,4) -> 0.2702 | G37: =G36*F37 -> 27620175
D38: IMPREVISTO: | F38: =+'ANÁLISIS AIU '!H33 -> 0 | G38: =+'ANÁLISIS AIU '!I33 -> 0
B39: Proyectó: FELIPE DUQUE RODRÍGUEZ | D39: UTILIDAD: | F39: ='ANÁLISIS AIU '!H34 -> 0.05 | G39: =G36*F39 -> 5111061.2
B40: Arquitecto Contratista | D40: COSTO TOTAL | G40: =G36+G37+G39 -> 1.3495246e+08
B41: TP: A19152018-1053824966

Sheet CRONOG CON FLUJO
B2: LOCALIZACIÓN
B3: DESCRIPCIÓN GENERAL
B4: TIEMPO EN SEMANAS
B5: CRONOGRAMA DE OBRA CON FLUJO DE INVERSIÓN | C5: VALOR CAPITULO - INC AIU | D5: 1 | E5: 2 | F5: 3 | G5: 4
G6: LIQUIDACIÓN DEL CONTRATO
B8: CAPITULO 1
B10: CAPITULO 1,1 | C10: ='PPTO SINT'!#REF! -> #REF!
C12: ='PPTO SINT'!G40 -> 1.3495246e+08 | D12: =SUM(D8:D11) -> 0 | F12: =SUM(F8:F11) -> 0
D13: =+D12 -> 0 | F13: =+F12+D13 -> 0
C18: Proyectó: FELIPE DUQUE RODRÍGUEZ
C19: Arquitecto Contratista
C20: TP: A19152018-1053824966

Sheet ANÁLISIS AIU 
C1: MUNICIPIO DE PALESTINA CALDAS
C3: ='PPTO SINT'!B2 -> "MANTENIMIENTO Y MEJORAMIENTO PARA CASA DE LA CULTURA DEL CASCO URBANO DE PALESTINA, MUNICIPIO DE PALESTINA CALDAS"
C5: CALCULO DEL AIU
C6: PALESTINA
A7: ÍTEM | B7: Personal Administrativo
A8: 1 | B8: DESCRIPCIÓN | C8: Salario y/u honorario | D8: Factor prestacional | E8: Aux de movilidad | F8: SUB TOTAL | G8: % dedicación | H8: Meses | I8: TOTAL
A9: 1.01 | B9: Ingeniero residente de obra | C9: 2300000 | D9: 0.598 | E9: 0 | F9: =+C9*(1+D9)+E9+E9 -> 3675400 | G9: 0.25 | H9: 1.5 | I9: =+F9*G9*H9 -> 1378275
A10: 1.02 | B10: Técnico SST | C10: 1400000 | D10: 0.598 | E10: 0 | F10: =+C10*(1+D10)+E10+E10 -> 2237200 | G10: 0.25 | H10: 1.5 | I10: =+F10*G10*H10 -> 838950
A11: 1.03 | B11: Maestro de obra | C11: 2100000 | D11: 0.598 | E11: 0 | F11: =+C11*(1+D11)+E11+E11 -> 3355800 | G11: 0.25 | H11: 1.5 | I11: =+F11*G11*H11 -> 1258425
B12: SUB TOTAL | I12: =SUM(I9:I11) -> 3475650
A13: 2 | B13: Elementos operativos | F13: Cant | G13: Unidad | H13: Valor unitario | I13: Vr total
A14: 2.06 | B14: Elementos para trabajo en alturas | F14: 1 | G14: mes | H14: 250000 | I14: =+F14*H14 -> 250000
A15: 2.07 | B15: Servicios públicos de obra | F15: 1 | G15: mes | H15: 80000 | I15: =+F15*H15 -> 80000
A16: 2.09 | B16: Servicio de mensajeria | F16: 1 | G16: mes | H16: 15000 | I16: =+F16*H16 -> 15000
B17: SUB TOTAL | I17: =SUM(I14:I16) -> 345000
A18: 3 | B18: IMPUESTOS Y VALORES AGREGADOS | F18: Cant (%) | G18: Vr. Unitario | H18: Valor total | I18: Vr total
A19: 3 | B19: Gastos bancarios 4 x 1000 | D19: 1.151 | F19: 0.004 | G19: =I31 -> 1.0222122e+08 | H19: =(G19*F19)*D19 -> 470626.52 | I19: =H19 -> 470626.52
A20: 3.01 | B20: Industria y Comercio | D20: 1.151 | F20: 0.01 | G20: =I31 -> 1.0222122e+08 | H20: =(G20*F20)*D20 -> 1176566.3 | I20: =H20 -> 1176566.3
A21: 3.02 | B21: Adulto Mayor | D21: 1.151 | F21: 0.04 | G21: =I31 -> 1.0222122e+08 | H21: =(G21*F21)*D21 -> 4706265.2 | I21: =H21 -> 4706265.2
A22: 3.03 | B22: Pro cultura | D22: 1.151 | F22: 0.01 | G22: =I31 -> 1.0222122e+08 | H22: =(G22*F22)*D22 -> 1176566.3 | I22: =H22 -> 1176566.3
A23: 3.04 | B23: Universidad | D23: 1.151 | F23: 0.01 | G23: =I31 -> 1.0222122e+08 | H23: =(G23*F23)*D23 -> 1176566.3 | I23: =H23 -> 1176566.3
A24: 3.05 | B24: Seguridad ciudadana | D24: 1.151 | F24: 0.05 | G24: =I31 -> 1.0222122e+08 | H24: =(G24*F24)*D24 -> 5882831.5 | I24: =H24 -> 5882831.5
B25: SUB TOTAL | I25: =SUM(I19:I24) -> 14589422
F26: Valor mensual de la administración | I26: =I12+I17+(I25) -> 18410072
F27: Periodo de ejecución | I27: 45
F28: Valor total de la administración | I28: =(I26/30)*I27 -> 27615108
F29: % de administración | I29: =+I28/I31 -> 0.27015043
B31: TOTAL COSTO DIRECTO | I31: ='PPTO SINT'!G36 -> 1.0222122e+08
B32: ADMINISTRACIÓN | H32: =I29 -> 0.27015043 | I32: =+ROUND(I31*H32,0) -> 27615108
B33: IMPREVISTO | H33: 0 | I33: =+ROUND(I31*H33,0) -> 0
B34: UTILIDAD | H34: 0.05 | I34: =+ROUND(I31*H34,0) -> 5111061
B35: COSTO TOTAL | I35: =SUM(I31:I34) -> 1.3494739e+08
B37: FELIPE DUQUE RODRIGUEZ TP: A19152018-1053824966

Sheet APU
B8: PROYECTO: | C8: "MANTENIMIENTO Y MEJORAMIENTO PARA CASA DE LA CULTURA DEL CASCO URBANO DE PALESTINA, MUNICIPIO DE PALESTINA CALDAS"
B13: Fecha de elaboración | D13: 45869
B15: ANÁLISIS DE PRECIOS UNITARIOS
B18: 1.1 | C18: DESMONTE PUERTAS (INCLUYE RETIRO) | D18: Actividad | E18: UND | I18: 42934
C19: CUADRILLA AA TIPO 1 (1 OFICIAL + 1 AYUDANTE) (Albañileria) | D19: Cuadrilla | E19: HR | F19: 1 | G19: 31029 | H19: 31029
C20: VOLQUETA 6M3 (CARGUE A MANO) | D20: Equipos | E20: VJE | F20: 0.04 | G20: 162197 | H20: 6488
C21: EQUIPO BASICO (HERRAMIENTA MENOR) | D21: Herramienta | E21: UND | F21: 1 | G21: 3484 | H21: 3484
C22: ACARREO INTERNO | D22: Insumos | E22: UND | F22: 1.06 | G22: 1824 | H22: 1933
C23: ACARREO INTERNO | D23: Insumos | E23: UND | F23: 0.3 | G23: 1824 | H23: 547
B25: 1.2 | C25: DESMONTE DE VENTANERIA | D25: Actividad | E25: M2 | I25: 17583
C26: CUADRILLA AA TIPO 1 (1 OFICIAL + 1 AYUDANTE) (Albañileria) | D26: Cuadrilla | E26: HR | F26: 0.35 | G26: 31029 | H26: 10860
C27: VOLQUETA 6M3 (CARGUE A MANO) | D27: Equipos | E27: VJE | F27: 0.03 | G27: 162197 | H27: 4866
C28: EQUIPO BASICO (HERRAMIENTA MENOR) | D28: Herramienta | E28: UND | F28: 0.35 | G28: 3484 | H28: 1219
C29: ACARREO INTERNO | D29: Insumos | E29: UND | F29: 0.35 | G29: 1824 | H29: 638
B31: 1.3 | C31: DESMONTE DE CANALES Y BAJANTES | D31: Actividad | E31: ML | I31: 5657
C32: CUADRILLA AA TIPO 2 (1 OFICIAL + 2 AYUDANTE) (Albañileria) | D32: Cuadrilla | E32: HR | F32: 0.1 | G32: 42963 | H32: 4296
C33: ANDAMIO METALICO CERTIFICADO, INCLUYE ESCALERILLA CON BARANDAS Y PLATAFORMAS DE TRABAJO | D33: Equipos | E33: UND | F33: 0.04 | G33: 9968 | H33: 399
C34: VOLQUETA 6M3 (CARGUE A MANO) | D34: Equipos | E34: VJE | F34: 0.002 | G34: 162197 | H34: 324
C35: EQUIPO BASICO (HERRAMIENTA MENOR) | D35: Herramienta | E35: UND | F35: 0.1 | G35: 3484 | H35: 348
C36: ACARREO INTERNO | D36: Insumos | E36: UND | F36: 0.159 | G36: 1824 | H36: 290
B38: 1.4 | C38: DESMONTE PISOS EN MADERA | D38: Actividad | E38: M2 | I38: 16333
C39: CUADRILLA AA TIPO 2 (1 OFICIAL + 2 AYUDANTE) (Albañileria) | D39: Cuadrilla | E39: HR | F39: 0.3 | G39: 42963 | H39: 12889
C40: VOLQUETA 6M3 (CARGUE A MANO) | D40: Equipos | E40: VJE | F40: 0.01 | G40: 162197 | H40: 1622
C41: EQUIPO BASICO (HERRAMIENTA MENOR) | D41: Herramienta | E41: UND | F41: 0.3 | G41: 3484 | H41: 1045
C42: ACARREO INTERNO | D42: Insumos | E42: UND | F42: 0.426 | G42: 1824 | H42: 777
B44: 1.4 | C44: DESMONTE DE CUBIERTA DE TECHO EN TEJA DE BARRO Y MADERA INCLUYE RETIRO | D44: Actividad | E44: M2 | I44: 22001
C45: CUADRILLA AA TIPO 1 (1 OFICIAL + 1 AYUDANTE) (Albañileria) | D45: Cuadrilla | E45: HR | F45: 0.3 | G45: 31029 | H45: 9309
C46: ANDAMIO METALICO CERTIFICADO, INCLUYE ESCALERILLA CON BARANDAS Y PLATAFORMAS DE TRABAJO | D46: Equipos | E46: UND | F46: 0.3 | G46: 9968 | H46: 2990
C47: VOLQUETA 6M3 (CARGUE A MANO) | D47: Equipos | E47: VJE | F47: 0.05 | G47: 162197 | H47: 8110
C48: EQUIPO BASICO (HERRAMIENTA MENOR) | D48: Herramienta | E48: UND | F48: 0.3 | G48: 3484 | H48: 1045
C49: ACARREO INTERNO | D49: Insumos | E49: UND | F49: 0.3 | G49: 1824 | H49: 547
B51: 2.1 | C51: SUMINISTRO, TRANSPORTE E INSTALACION CANAL EN LAMINA GALVANIZADA CAL .20 D/ 0.82 M. (SUMINISTRO E INSTALACIÓN CON WASH PRIMER + ESMALTE + ANCLAJE A MURO + SILICONA) | D51: Actividad | E51: ML | I51: 130262
C52: CUADRILLA DD TIPO 2 (1 OFICIAL + 2 AYUDANTE) (Carpinteria) | D52: Cuadrilla | E52: HR | F52: 1.8 | G52: 47170 | H52: 84906
C53: EQUIPO DE TRANSPORTE | D53: Equipos | E53: DIA | F53: 0.0046 | G53: 180217 | H53: 829
C54: ESCALERA CERTIFICADA | D54: Equipos | E54: DIA | F54: 0.013 | G54: 52265 | H54: 679
C55: EQUIPO BASICO (HERRAMIENTA MENOR) | D55: Herramienta | E55: UND | F55: 0.18 | G55: 3484 | H55: 627
C56: ESMALTE SINTETICO PINTULUX - TIPO PINTUCO REF. SEGÚN COLOR DISEÑO O SIMILAR | D56: Insumos | E56: GAL | F56: 0.027 | G56: 121956 | H56: 3293
C57: WASH PRIMER COMPONENTE A - 1/4 GL REF. 509A O SIMILAR | D57: Insumos | E57: UND | F57: 0.082 | G57: 39008 | H57: 3199
C58: WASH PRIMER COMPONENTE B - 1/4 GL REF. 509B O SIMILAR | D58: Insumos | E58: UND | F58: 0.082 | G58: 26005 | H58: 2132
C59: ACARREO INTERNO | D59: Insumos | E59: UND | F59: 0.2 | G59: 1824 | H59: 365
...

Sheet APUS
A1: CAPITULO 1 – CUBIERTA | I1: 1 | J1: 2 | K1: 3 | L1: 4 | M1: 5
I2: ÍTEM | J2: EQUIPOS Y HERRAMIENTAS | K2: MATERIALES (INSUMOS) | L2: TRANSPORTE | M2: MANO DE OBRA NO CALIFICADA | N2: TOTAL
A3: ÍTEM | B3: DESCRIPCIÓN | F3: UNIDAD | G3: VALOR UNIT | I3: 1.1 | J3: =G27 -> 0 | K3: =G13 -> 17792 | M3: =G19 -> 1895 | N3: =SUM(J3:M3) -> 19687
A4: =#REF! -> #REF! | B4: =#REF! -> #REF! | F4: =#REF! -> #REF! | G4: =G9+G15+G21+G26 -> 43033
A6: MATERIALES
A7: DESCRIPCIÓN | C7: UNIDAD | D7: CANTIDAD | E7: DESPERDICIO | F7: VALOR UNIT. | G7: VALOR PARCIAL
A8: Tejas, caballetes, flanches, amarras y otros elementos a reemplazar | C8: GLB | D8: 1 | F8: 9670 | G8: =ROUND(D8*F8,0) -> 9670
F9: SUBTOTAL MATERIALES | G9: =SUM(G8:G8) -> 9670
A10: MANO DE OBRA
A11: TRABAJADOR | B11: CANTIDAD | C11: JORNAL | D11: PRESTACIONAL | E11: JORNAL TOTAL | F11: RENDIMIENTO | G11: VALOR PARCIAL
A12: Ayudante | B12: 1 | C12: 33832.667 | D12: 1.85 | E12: =ROUND(C12*D12*B12,2) -> 62590.43 | F12: 0.15 | G12: =ROUND(E12*F12,0) -> 9389
A13: Oficial | B13: 1 | C13: 64116.867 | D13: 1.85 | E13: =ROUND(B13*C13*D13,2) -> 118616.2 | F13: =+F12 -> 0.15 | G13: =ROUND(E13*F13,0) -> 17792
F15: SUBTOTAL MANO DE OBRA | G15: =SUM(G12:G13) -> 27181
A16: EQUIPO
A17: DESCRIPCIÓN | D17: USO | E17: TARIFA HORA | F17: RENDIMIENTO | G17: VALOR UNIT.
A18: Herramienta Menor | D18: MANUAL | E18: 3311 | F18: 0.8 | G18: =ROUND(E18*F18,0) -> 2649
A19: Andamio metálico certificado, incluye escalerilla con barandas y plataformas de trabajo | E19: 9475 | F19: 0.2 | G19: =ROUND(E19*F19,0) -> 1895
F21: SUBTOTAL EQUIPO | G21: =SUM(G18:G19) -> 4544
A22: OTROS
A23: DESCRIPCIÓN | D23: USO | E23: VALOR | F23: RENDIMIENTO | G23: VALOR UNIT.
A24: Acarreo interno | E24: 1733 | F24: 0.5 | G24: =+ROUND(E24*F24,0) -> 867
A25: Volqueta 6m3 | D25: Vje | E25: 154179 | F25: 0.005 | G25: =ROUND(E25*F25,0) -> 771
F26: SUBTOTAL OTROS | G26: =+G25+G24 -> 1638
E28: COSTO DIRECTO | F28: =+G26+G21+G15+G9 -> 43033 | G28: =ROUND(F28,0) -> 43033
A30: Proyectó: Felipe Duque Rodríguez
A31: Arquitecto Contratista
A32: TP: A19152018-1053824966

Sheet CADENA DE VALOR
C2: CADENA DE VALOR
C4: CAPITULO | D4: EQUIPOS | E4: MATERIALES | F4: OTROS/TRANSPORTE | G4: MANO DE OBRA NO CALIFICADA | H4: OTROS GASTOS (AIU) | I4: TOTALES
A5: 1 | C5: =VLOOKUP($A5,'PPTO SINT'!$B$9:$R$35,2,FALSE()) -> #N/A | D5: =VLOOKUP($A5,'PPTO SINT'!$B$9:$R$35,11,FALSE()) -> #N/A | E5: =VLOOKUP($A5,'PPTO SINT'!$B$9:$R$35,13,FALSE()) -> #N/A | F5: =VLOOKUP($A5,'PPTO SINT'!$B$9:$R$35,15,FALSE()) -> #N/A | G5: =VLOOKUP($A5,'PPTO SINT'!$B$9:$R$35,17,FALSE()) -> #N/A | H5: =VLOOKUP($A5,'PPTO SINT'!$B$9:$R$35,18,FALSE()) -> #N/A | I5: =SUM(D5:H5) -> #N/A
A6: 2 | C6: =VLOOKUP($A6,'PPTO SINT'!$B$9:$R$35,2,FALSE()) -> CUBIERTA | D6: =VLOOKUP($A6,'PPTO SINT'!$B$9:$R$35,11,FALSE()) -> 0 | E6: =VLOOKUP($A6,'PPTO SINT'!$B$9:$R$35,13,FALSE()) -> 0 | F6: =VLOOKUP($A6,'PPTO SINT'!$B$9:$R$35,15,FALSE()) -> 0 | G6: =VLOOKUP($A6,'PPTO SINT'!$B$9:$R$35,17,FALSE()) -> 0 | H6: =VLOOKUP($A6,'PPTO SINT'!$B$9:$R$35,18,FALSE()) -> #REF! | I6: =SUM(D6:H6) -> #REF!
A7: 3 | C7: =VLOOKUP($A7,'PPTO SINT'!$B$9:$R$35,2,FALSE()) -> ACABADOS | D7: =VLOOKUP($A7,'PPTO SINT'!$B$9:$R$39,11,FALSE()) -> 0 | E7: =VLOOKUP($A7,'PPTO SINT'!$B$9:$R$39,13,FALSE()) -> 0 | F7: =VLOOKUP($A7,'PPTO SINT'!$B$9:$R$39,15,FALSE()) -> 0 | G7: =VLOOKUP($A7,'PPTO SINT'!$B$9:$R$39,17,FALSE()) -> 0 | H7: =VLOOKUP($A7,'PPTO SINT'!$B$9:$R$39,18,FALSE()) -> #REF! | I7: =SUM(D7:H7) -> #REF!
A8: 4 | C8: =VLOOKUP($A8,'PPTO SINT'!$B$9:$R$35,2,FALSE()) -> ELÉCTRICO | D8: =VLOOKUP($A8,'PPTO SINT'!$B$9:$R$39,11,FALSE()) -> 0 | E8: =VLOOKUP($A8,'PPTO SINT'!$B$9:$R$39,13,FALSE()) -> 0 | F8: =VLOOKUP($A8,'PPTO SINT'!$B$9:$R$39,15,FALSE()) -> 0 | G8: =VLOOKUP($A8,'PPTO SINT'!$B$9:$R$39,17,FALSE()) -> 0 | H8: =VLOOKUP($A8,'PPTO SINT'!$B$9:$R$39,18,FALSE()) -> #REF! | I8: =SUM(D8:H8) -> #REF!
A9: 5 | C9: =VLOOKUP($A9,'PPTO SINT'!$B$9:$R$35,2,FALSE()) -> OTROS | D9: =VLOOKUP($A9,'PPTO SINT'!$B$9:$R$39,11,FALSE()) -> 0 | E9: =VLOOKUP($A9,'PPTO SINT'!$B$9:$R$39,13,FALSE()) -> 0 | F9: =VLOOKUP($A9,'PPTO SINT'!$B$9:$R$39,15,FALSE()) -> 0 | G9: =VLOOKUP($A9,'PPTO SINT'!$B$9:$R$39,17,FALSE()) -> 0 | H9: =VLOOKUP($A9,'PPTO SINT'!$B$9:$R$39,18,FALSE()) -> #REF! | I9: =SUM(D9:H9) -> #REF!
A10: 6 | C10: =VLOOKUP($A10,'PPTO SINT'!$B$9:$R$35,2,FALSE()) -> #N/A | D10: =VLOOKUP($A10,'PPTO SINT'!$B$9:$R$39,11,FALSE()) -> #N/A | E10: =VLOOKUP($A10,'PPTO SINT'!$B$9:$R$39,13,FALSE()) -> #N/A | F10: =VLOOKUP($A10,'PPTO SINT'!$B$9:$R$39,15,FALSE()) -> #N/A | G10: =VLOOKUP($A10,'PPTO SINT'!$B$9:$R$39,17,FALSE()) -> #N/A | H10: =VLOOKUP($A10,'PPTO SINT'!$B$9:$R$39,18,FALSE()) -> #N/A | I10: =SUM(D10:H10) -> #N/A
C12: COSTO TOTAL | D12: =SUM(D5:D11) -> #N/A | E12: =SUM(E5:E11) -> #N/A | F12: =SUM(F5:F11) -> #N/A | G12: =SUM(G5:G11) -> #N/A | H12: =SUM(H5:H11) -> #N/A | I12: =SUM(D12:H12) -> #N/A
H14: Valor total | I14: =SUM(I12:I12) -> #N/A
C16: Proyectó: NARCIZO ANTONIO SÁNCHEZ CASTRO
C17: Ingeniero civil Contratista
C18: TP: 17202-402767CLD
