Workbook
Name _Hlk204877529: 'Presupuesto oficial'!$B$11

Sheet Presupuesto oficial
A6: Adquirir a título de compraventa los elementos para la atención de necesidades de custodia documental en archivo central de la Regional Vaupés.
A8: PRESUPUESTO OFICIAL
A9: ÍTEM | B9: DESCRIPCIÓN | C9: UNIDAD DE MEDIDA | D9: CANTIDAD | E9: VR. UNIT. PROMEDIO | F9: VALOR TOTAL
A10: 1 | B10: Estanterías fijas para archivo con altura hasta 2.2.m (Ver ficha técnica) | C10: Un | D10: 21 | E10: =+'Estudio de mercado ok'!E10 -> 1109000 | F10: =D10*E10 -> 23289000 | G10: 23750000 | H10: =F10 -> 23289000 | I10: =G10-H10 -> 461000
A11: 2 | B11: Deshumidificador industrial con bomba y manguera de drenaje, portátil con ruedas (Ver ficha técnica) | C11: Un | D11: 1 | E11: =+'Estudio de mercado ok'!E11 -> 5545000 | F11: =D11*E11 -> 5545000 | G11: 15046247 | H11: =F11+F12+F13 -> 15010829 | I11: =G11-H11 -> 35418
A12: 3 | B12: Termohigrómetro con almacenamiento de datos y candado de seguridad (Ver ficha técnica) | C12: Un | D12: 1 | E12: =+'Estudio de mercado ok'!E12 -> 3861379 | F12: =D12*E12 -> 3861379 | I12: =I10+I11 -> 496418
A13: 4 | B13: Aspiradora con filtro de Agua (Ver ficha técnica) | C13: Un | D13: 1 | E13: =+'Estudio de mercado ok'!E13 -> 5604450 | F13: =D13*E13 -> 5604450 | J13: =I12-I14 -> 0
A14: TOTAL | F14: =SUM(F10:F13) -> 38299829 | G14: =G10+G11 -> 38796247 | H14: =H10+H11 -> 38299829 | I14: =I10+I11 -> 496418
A18: ELABORÓ: | B18: CLAUDIA MARYEM BORRERO PÉREZ - PROFESIONAL INFRAESTRUCTURA
B19: MILTON HARRY VALENCIA SARMIENTO - PROFESIONAL INFRAESTRUCTURA

Sheet Estudio de mercado ok
A6: Adquirir a título de compraventa los elementos para la atención de necesidades de custodia documental en archivo central de la Regional Vaupés.
A8: ESTUDIO DE MERCADO
A9: ÍTEM | B9: DESCRIPCIÓN | C9: UNIDAD DE MEDIDA | D9: CANTIDAD | E9: VR. UNIT. PROMEDIO | F9: VALOR TOTAL
A10: 1 | B10: ='Presupuesto oficial'!B10 -> Estanterías fijas para archivo con altura hasta 2.2.m (Ver ficha técnica) | C10: ='Presupuesto oficial'!C10 -> Un | D10: 25 | E10: =Estanterias!G10 -> 1109000 | F10: =D10*E10 -> 27725000
A11: 2 | B11: ='Presupuesto oficial'!B11 -> Deshumidificador industrial con bomba y manguera de drenaje, portátil con ruedas (Ver ficha técnica) | C11: ='Presupuesto oficial'!C11 -> Un | D11: ='Presupuesto oficial'!D11 -> 1 | E11: =Deshumidificador!G10 -> 5545000 | F11: =D11*E11 -> 5545000 | H11: =F10 -> 27725000
A12: 3 | B12: ='Presupuesto oficial'!B12 -> Termohigrómetro con almacenamiento de datos y candado de seguridad (Ver ficha técnica) | C12: ='Presupuesto oficial'!C12 -> Un | D12: ='Presupuesto oficial'!D12 -> 1 | E12: =Termohigrómetro!H10 -> 3861379 | F12: =D12*E12 -> 3861379 | H12: =F11+F12+F13 -> 15010829
A13: 4 | B13: ='Presupuesto oficial'!B13 -> Aspiradora con filtro de Agua (Ver ficha técnica) | C13: ='Presupuesto oficial'!C13 -> Un | D13: ='Presupuesto oficial'!D13 -> 1 | E13: =Aspiradora!G10 -> 5604450 | F13: =D13*E13 -> 5604450 | H13: =SUM(H11:H12) -> 42735829
A15: TOTAL | F15: =SUM(F10:F14) -> 42735829
A19: ELABORÓ: | B19: CLAUDIA MARYEM BORRERO PÉREZ - PROFESIONAL INFRAESTRUCTURA
B20: MILTON HARRY VALENCIA SARMIENTO - PROFESIONAL INFRAESTRUCTURA

Sheet Estanterias
A6: Adquirir a título de compraventa los elementos para la atención de necesidades de custodia documental en archivo central de la Regional Vaupés.
A8: COTIZACION No. 1
A9: ÍTEM | B9: DESCRIPCIÓN | C9: UNIDAD DE MEDIDA | D9: CANTIDAD | E9: HyJ S.A.S. | F9: Miguel A. Bambagüe Murcia | G9: VALOR TOTAL
A10: 1 | B10: ='Presupuesto oficial'!B10 -> Estanterías fijas para archivo con altura hasta 2.2.m (Ver ficha técnica) | C10: Un | D10: 25 | E10: 1100000 | F10: 1118000 | G10: =(E10+F10)/2 -> 1109000
A12: ELABORÓ: | B12: CLAUDIA MARYEM BORRERO PÉREZ - PROFESIONAL INFRAESTRUCTURA
B13: MILTON HARRY VALENCIA SARMIENTO - PROFESIONAL INFRAESTRUCTURA

Sheet Deshumidificador
A6: Adquirir a título de compraventa los elementos para la atención de necesidades de custodia documental en archivo central de la Regional Vaupés.
A8: COTIZACION No. 1
A9: ÍTEM | B9: DESCRIPCIÓN | C9: UNIDAD DE MEDIDA | D9: CANTIDAD | E9: HyJ S.A.S. | F9: Miguel A. Bambagüe Murcia | G9: VALOR TOTAL
A10: 1 | B10: ='Presupuesto oficial'!_Hlk204877529 -> Deshumidificador industrial con bomba y manguera de drenaje, portátil con ruedas (Ver ficha técnica) | C10: un | D10: 1 | E10: 5560000 | F10: 5530000 | G10: =(E10+F10)/2 -> 5545000
A12: ELABORÓ: | B12: CLAUDIA MARYEM BORRERO PÉREZ - PROFESIONAL INFRAESTRUCTURA
B13: MILTON HARRY VALENCIA SARMIENTO - PROFESIONAL INFRAESTRUCTURA

Sheet Termohigrómetro
A6: Adquirir a título de compraventa los elementos para la atención de necesidades de custodia documental en archivo central de la Regional Vaupés.
A8: COTIZACION No. 1
A9: ÍTEM | B9: DESCRIPCIÓN | C9: UNIDAD DE MEDIDA | D9: CANTIDAD | E9: ViaIndustrial.com | F9: HOMECENTER | G9: MNT -Soluciones Tecnológicas | H9: VALOR TOTAL
A10: 1 | B10: ='Presupuesto oficial'!B12 -> Termohigrómetro con almacenamiento de datos y candado de seguridad (Ver ficha técnica) | C10: un | D10: 1 | E10: 5707240 | F10: 3139900 | G10: 2736997 | H10: =(E10+F10+G10)/3 -> 3861379
A12: ELABORÓ: | B12: CLAUDIA MARYEM BORRERO PÉREZ - PROFESIONAL INFRAESTRUCTURA
B13: MILTON HARRY VALENCIA SARMIENTO - PROFESIONAL INFRAESTRUCTURA

Sheet Aspiradora
A6: Adquirir a título de compraventa los elementos para la atención de necesidades de custodia documental en archivo central de la Regional Vaupés.
A8: COTIZACION No. 1
A9: ÍTEM | B9: DESCRIPCIÓN | C9: UNIDAD DE MEDIDA | D9: CANTIDAD | E9: EQUIPMATER.CO | F9: MAQUITEC DE COLOMBIA SAS | G9: VALOR TOTAL
A10: 1 | B10: ='Presupuesto oficial'!B13 -> Aspiradora con filtro de Agua (Ver ficha técnica) | C10: un | D10: 1 | E10: 5609000 | F10: 5599900 | G10: =(E10+F10)/2 -> 5604450
A12: ELABORÓ: | B12: CLAUDIA MARYEM BORRERO PÉREZ - PROFESIONAL INFRAESTRUCTURA
B13: MILTON HARRY VALENCIA SARMIENTO - PROFESIONAL INFRAESTRUCTURA
