Workbook
Name \0: #REF!
Name \0: #REF!
Name \a: #REF!
Name \b: #REF!
Name \b: #REF!
Name \c: #REF!
Name \c: #REF!
Name \e: #REF!
Name \e: #REF!
Name \f: #REF!
Name \i: #REF!
Name \i: #REF!
Name \m: #REF!
Name \m: #REF!
Name \r: #REF!
Name \r: #REF!
Name \s: #REF!
Name \t: #REF!
Name \t: #REF!
Name \x: #REF!
Name \x: #REF!
Name \z: #REF!
Name \z: #REF!
Name _: #REF!
Name __________________________________________________i1: #REF!
Name _________________________________________________i1: #REF!
Name ________________________________________________i1: #REF!
Name _______________________________________________i1: #REF!
Name ______________________________________________i1: #REF!
Name _____________________________________________i1: #REF!
Name ____________________________________________i1: #REF!
Name ___________________________________________i1: #REF!
Name __________________________________________i1: #REF!
Name _________________________________________i1: #REF!
Name ________________________________________i1: #REF!
Name _______________________________________i1: #REF!
Name ______________________________________i1: #REF!
Name _____________________________________i1: #REF!
Name ____________________________________i1: #REF!
Name ___________________________________i1: #REF!
Name __________________________________i1: #REF!
Name _________________________________i1: #REF!
Name ________________________________i1: #REF!
Name _______________________________i1: #REF!
Name ______________________________i1: #REF!
Name _____________________________i1: #REF!
Name ____________________________i1: #REF!
Name ___________________________i1: #REF!
Name __________________________AFC1: #REF!
Name __________________________AFC3: #REF!
Name __________________________AFC5: #REF!
Name __________________________BGC1: #REF!
Name __________________________BGC3: #REF!
Name __________________________BGC5: #REF!
Name __________________________CAC1: #REF!
Name __________________________CAC3: #REF!
Name __________________________CAC5: #REF!
Name __________________________i1: #REF!
Name __________________________rc: #REF!
Name __________________________SBC1: #REF!

Sheet PRESUPUESTO
F1: #VALUE!
B3: Municipio de Santa Rosa de Osos | C3: 2025
A5: PRESUPUESTO
A6: ITEM | B6: DESCRIPCIÓN | C6: UND | D6: CANT | E6: VALOR UNITARIO | F6: VALOR TOTAL
B8: PRESUPUESTO PARA LAS OBRAS DE MITIGACIÓN DEL PUENTE EL CANEY
A9: 1 | B9: DETALLE
A10: 1,1 | B10: Excavación mecánica en material granular, para la conformación de la estructura. Incluye retiro del material hasta, perfilado y nivelación del fondo. | C10: m³ | D10: =+'1,1'!J34 -> 73.92 | E10: =+APUS!H30 -> 34303.088 | F10: =+ROUND(D10*E10,0) -> 2535684
A11: 1,2 | B11: Suministro e instalación de concreto Ciclópeo clase D 21 Mpa. Incluye transporte del concreto. No incluye refuerzo | C11: m³ | D11: =+'1,2'!J36 -> 93.96 | E11: =+APUS!H60 -> 689211.45 | F11: =+ROUND(D11*E11,0) -> 64758308
B12: VALOR TOTAL COSTO DIRECTO DE OBRA | F12: =SUM(F10:F11) -> 67293992
B13: ADMINISTRACION | C13: A | E13: =AU!K41 -> 0.25632394 | F13: =+F12*E13 -> 17249061
B14: UTILIDAD | C14: U | E14: 0.05 | F14: =+F12*E14 -> 3364699.6
A16: A | B16: TOTAL VALOR OBRA | F16: =SUM(F12:F14) -> 87907753
B17: HONORARIOS EDUNA | E17: 0.02 | F17: =F16*E17 -> 1758155.1
B18: IVA SOBRE HONORARIOS | E18: 0.19 | F18: =F17*E18 -> 334049.46
A19: B | B19: TOTAL HONORARIOS | F19: =F17+F18 -> 2092204.5
A20: C | B20: TOTAL PROYECTOS (A+B) | F20: =F16+F19 -> 89999957

Sheet AU
B2: DISCRIMINACION DE LA ADMINISTRACION Y LA UTILIDAD
D3: Unidad | E3: Cant | F3: % | G3: VALOR EN $ | H3: Cantidad | I3: FP | J3: SUBTOTALES ($) | K3: PORCENTAJE (%)
C5: COSTO DIRECTO DEL PROYECTO | G5: =+PRESUPUESTO!F12 -> 67293992
C6: COSTO TOTAL DEL PROYECTO | G6: =+PRESUPUESTO!F16 -> 87907753
B8: 1. | C8: IMPUESTOS MUNICIPALES
B9: 1.1 | C9: Impuestos Municipales. De acuerdo al estatuto tributario de la entidad | J9: =SUM(J10:J14) -> 9757628.8 | K9: =SUM(K10:K15) -> 0.1452
C10: Estampilla pro adulto mayor | D10: % | H10: 0.04 | J10: =G5*H10 -> 2691759.7 | K10: 0.04
C11: Estampilla procultura | D11: % | H11: 0.02 | J11: =G5*H11 -> 1345879.8 | K11: 0.02
C12: Tasa pro deportes recreación | D12: % | H12: 0.015 | J12: =G5*H12 -> 1009409.9 | K12: 0.015
C13: Fondo de seguridad - Ley 418 de 1997 | D13: % | H13: 0.05 | J13: =G5*H13 -> 3364699.6 | K13: 0.05
C14: Estampilla para la Justicia Familiar | D14: % | H14: 0.02 | J14: =G5*H14 -> 1345879.8 | K14: 0.02
C15: Sobretasa bomberil | D15: % | H15: =2%*0.8% -> 0.00016 | J15: =G6*H15 -> 14065.24 | K15: 0.0002
B16: 1.2 | C16: Costos de legalización | J16: =SUM(J17:J17) -> 483492.64 | K16: =K17 -> 0.0071847817
B17: 1.2.2 | C17: Pólizas de Cumplimiento y RCE | D17: 1 | G17: =G6*0.55% -> 483492.64 | J17: =+G17*D17 -> 483492.64 | K17: =J17/G5 -> 0.0071847817
B19: 1.3 | C19: Costos del personal de administración del contrato | J19: =+SUM(J20:J22) -> 6857939 | K19: =SUM(K20:K22) -> 0.10191012
B20: 1.3.2 | C20: Ingeniero Civil Residente | D20: Mes | E20: 1 | F20: 1 | G20: 4000000 | H20: 1 | I20: 1.4478 | J20: =E20*F20*G20*H20*I20 -> 5791200 | K20: =J20/G5 -> 0.086058203
B21: 1.3.3 | C21: Profesional SISO | D21: Mes | E21: 1 | F21: 0.4 | G21: 1842000 | H21: 1 | I21: 1.4478 | J21: =+H21*G21*F21*I21*E21 -> 1066739 | K21: =+J21/G5 -> 0.015851921
B24: 1.4 | C24: Otros costos | J24: =+SUM(J25:J29) -> 150000 | K24: =SUM(K25:K29) -> 0.0017063341
B25: 1.4.1 | C25: Arrendamientos, bodegas, servicios Públicos, gastos de papelería, equipos (alquiler), gastos bancarios, caja menor | D25: Und | G25: 600000 | H25: 0 | J25: =+H25*G25 -> 0 | K25: =+J25/$G$5 -> 0
B26: 1.4.2 | C26: Ensayos de laboratorio de concretos y densidades, se cancela contra factura y resultado | D26: Und | H26: 1 | J26: =+H26*G26 -> 0 | K26: =+J26/$G$5 -> 0
B27: 1.4.4 | C27: Señalética durante el tiempo de la obra y cerramiento en Sarán | D27: GL | G27: 150000 | H27: 1 | J27: =+H27*G27 -> 150000 | K27: =+J27/$G$6 -> 0.0017063341
B28: 1.4.5 | C28: Vallas de Información con estructura metálica | D28: GL | H28: 0 | J28: =+H28*G28 -> 0 | K28: =+J28/$G$5 -> 0
B29: 1.4.6 | C29: Alojamiento y alimentación personal | D29: mes | G29: 0 | H29: 3 | J29: =+H29*G29 -> 0 | K29: =+J29/$G$5 -> 0
B31: 1.5 | C31: Oficina Central | J31: =+SUM(J32:J39) -> 0 | K31: =SUM(K32:K39) -> 0
B32: 1.5.1 | C32: Gerencia | D32: Und | F32: 0 | G32: 11495000 | H32: 4 | I32: 1.4478 | J32: =+G32*F32*H32*I32 -> 0 | K32: =+J32/$G$6 -> 0
B33: 1.5.2 | C33: Jefe de Talento Humano | D33: Und | F33: 0 | G33: 3024000 | H33: 4 | I33: 1.4478 | J33: =+G33*F33*H33*I33 -> 0 | K33: =+J33/$G$6 -> 0
B34: 1.5.3 | C34: Auxiliar contabilidad | D34: Und | F34: 0 | G34: 2350000 | H34: 4 | I34: 1.4478 | J34: =+G34*F34*H34*I34 -> 0 | K34: =+J34/$G$6 -> 0
B35: 1.5.4 | C35: Jefe de Compras | D35: Und | F35: 0 | G35: 3472000 | H35: 4 | I35: 1.4478 | J35: =+G35*F35*H35*I35 -> 0 | K35: =+J35/$G$6 -> 0
B36: 1.5.5 | C36: Mensajería | D36: Und | F36: 0 | G36: 1924903 | H36: 4 | I36: 1.4478 | J36: =+G36*F36*H36*I36 -> 0 | K36: =+J36/$G$6 -> 0
B37: 1.5.6 | C37: Contadora | D37: Und | F37: 0 | G37: 4815000 | H37: 4 | I37: 1.4478 | J37: =+G37*F37*H37*I37 -> 0 | K37: =+J37/$G$6 -> 0
B38: 1.5.7 | C38: Facturación | D38: Und | F38: 0 | G38: 2770000 | H38: 4 | I38: 1.4478 | J38: =+G38*F38*H38*I38 -> 0 | K38: =+J38/$G$6 -> 0
B39: 1.5.8 | C39: Locativos | D39: Und | F39: 0 | G39: 4370000 | H39: 4 | I39: 1.4478 | J39: =+G39*F39*H39*I39 -> 0 | K39: =+J39/$G$6 -> 0
C41: TOTAL ADMINISTRACIÓN | J41: =ROUND(+J24+J19+J16+J9+J31,0) -> 17249061 | K41: =+J41/$G$5 -> 0.25632394 | M41: =G5*27% -> 18169378
C43: UTILIDAD | D43: % | H43: 0.05 | J43: =ROUND(+H43*G5,0) -> 3364700 | K43: =+J43/$G$5 -> 0.050000006
C45: TOTAL AU (%) | J45: =+J41+J43 -> 20613761 | K45: =+J45/G5 -> 0.30632394 | L45: No coincide con lo presentado en la hoja "presupuesto"

Sheet APUS
B1: ALCALDIA DE SANTA ROSA DE OSOS | L1: MATERIALES | M1: UNIDAD | N1: COSTO
B2: SECRETARIA DE PLANEACION E INFRAESTRUCTURA | L2: ayudante raso | M2: día | N2: 86864.125 | P2: =+N4+N3 -> 287325.61
L3: ayudante entendido | M3: día | N3: 108917.81 | P3: =+P2+N3 -> 396243.42
L4: Oficial | M4: día | N4: 178407.8
B5: ÍTEM | C5: Excavación mecánica en material granular, para la conformación de la estructura. Incluye retiro del material hasta, perfilado y nivelación del fondo. | H5: UNIDAD | L5: Rastrillero | M5: día | N5: 178407.8
B6: 1.1 | H6: m3 | L6: cuadrilla de demoliciones | M6: día | N6: 352136.05
B7: I. EQUIPO | L7: Cuadrilla Asfalto: 1 encargado+ 7 ayu +2 rastrillero+1 liguero | M7: día | N7: 1073782.3
B8: Descripción | D8: Unidad | E8: Precio Unit. | F8: Cantidad | G8: Valor Unit. | H8: Valor Parcial | L8: cuadrilla mvo tierra | M8: día | N8: 352136.05
B9: herramienta menor (5%) M.O | D9: 1 | E9: =H29 -> 0 | F9: 0.05 | G9: =D9*E9*F9 -> 0 | H9: =G9 -> 0
B10: retroexcavadora de oruga | D10: 1 | E10: =243000*1.1 -> 267300 | F10: =1/8 -> 0.125 | G10: =D10*E10*F10 -> 33412.5 | H10: =G10 -> 33412.5
H12: 0
G13: Sub-Total | H13: =SUM(H9:H12) -> 33412.5
B14: II. MATERIALES EN OBRA
B15: Descripción | D15: Unidad | E15: Precio Unit. | F15: Cantidad | G15: Valor Unit. | H15: Valor Parcial
G18: Sub-Total | H18: 0
B19: III. TRANSPORTES
B20: Material | D20: DISTANCIA | E20: Cantidad | F20: Precio Unit. | G20: Tarifa | H20: Valor-Unit.
B21: Transporte de material de excavación | D21: 0.5 | E21: 1 | F21: 1781.1767 | G21: =D21*E21*F21 -> 890.58835 | H21: =G21 -> 890.58835
B22: Derechos de explotación y/o disposición de materiales
G24: Sub-Total | H24: =SUM(H21:H23) -> 890.58835
B25: IV. MANO DE OBRA
B26: Mano de Obra | D26: CANTIDAD | E26: Jornal Total | F26: Rendimiento/Día | G26: Valor Unit. | H26: Valor Parcial
B27: ayudante raso | D27: 0 | E27: =N2 -> 86864.125 | F27: =1/20 -> 0.05 | G27: =D27*E27*F27 -> 0 | H27: =G27 -> 0
B28: 0 | H28: 0
G29: Sub-Total | H29: =SUM(H27:H28) -> 0
D30: Total Costo Directo | H30: =H13+H18+H24+H29 -> 34303.088
B32: ITEM | C32: Suministro e instalación de concreto Ciclópeo clase D 21 Mpa. Incluye transporte del concreto. No incluye refuerzo. | H32: UNIDAD
B33: 1.2 | H33: m3
B34: I. EQUIPO
B35: Descripción | D35: Unidad | E35: Precio Unit. | F35: Cantidad | G35: Valor Unit. | H35: Valor Parcial
B36: herramienta menor (5%) M.O | D36: 1 | E36: =H59 -> 122545.68 | F36: 0.05 | G36: =E36*F36 -> 6127.2842 | H36: =G36 -> 6127.2842
B37: Vibrador de concreto | D37: hora | E37: 10561 | F37: =1/2 -> 0.5 | G37: =E37*F37 -> 5280.5 | H37: =G37 -> 5280.5
B38: Mezcladora de concreto 1 bulto | D38: hora | E38: 8220 | F38: 1 | G38: =E38*F38 -> 8220 | H38: =G38 -> 8220
B39: planta eléctrica incluye gasolina y operador | D39: hora | E39: 33000 | F39: 0.89251459 | G39: =E39*F39 -> 29452.982 | H39: =G39 -> 29452.982
G40: Sub-Total | H40: =SUM(H36:H39) -> 49080.766
B41: II. MATERIALES EN OBRA
B42: Descripción | D42: Unidad | E42: Precio Unit. | F42: Cantidad | G42: Valor Unit. | H42: Valor Parcial
B43: Cemento | D43: kg | E43: 900 | F43: 262.5 | G43: =E43*F43 -> 236250 | H43: =G43 -> 236250
B44: Agregado triturado | D44: m3 | E44: =139000*1.1 -> 152900 | F44: 0.55 | G44: =E44*F44 -> 84095 | H44: =G44 -> 84095
B45: Arena de concreto | D45: m3 | E45: =139000*1.1 -> 152900 | F45: 0.4 | G45: =E45*F45 -> 61160 | H45: =G45 -> 61160
...

Sheet 1,1
B1: =PRESUPUESTO!A1 -> 0 | D1: MEMORIAS DE CANTIDADES DE OBRA | O1: =PRESUPUESTO!F1 -> #VALUE!
B6: ÍTEM | D6: {=RIGHT(CELL("nombrearchivo",D6),LEN(CELL("nombrearchivo",D6))-SEARCH("]",CELL("nombrearchivo",D6)))} -> 1,1 | E6: DESCRIPCIÓN | G6: =VLOOKUP(D6,PRESUPUESTO!A8:E16,2,FALSE) -> Excavación mecánica en material granular, para la conformación de la estructura. Incluye retiro del material hasta, perfilado y nivelación del fondo. | M6: UNIDAD | N6: =VLOOKUP(D6,PRESUPUESTO!A8:E16,3,FALSE) -> m³
K7: LOCALIZACIÓN / ESQUEMA
B8: No | C8: DESCRIPCIÓN | D8: DIMENSIONES | I8: CANTIDAD | J8: TOTAL
D9: LARGO | E9: ANCHO | F9: ALTO | G9: AREA | H9: VOLUMEN
C10: Limpieza de terreno | D10: 8 | E10: 2 | F10: 0.3 | J10: =+PRODUCT(D10:I10) -> 4.8
C11: Excavación LLAVE BAJO NIVEL FREÁTICO | D11: 12 | E11: 1.5 | F11: 1.5 | J11: =+PRODUCT(D11:I11) -> 27
C12: Excavación MODULO # 1 | D12: 9 | E12: 1.3 | F12: 0.9 | J12: =+PRODUCT(D12:I12) -> 10.53
C13: Excavación MODULO # 2 | D13: 9 | E13: 1.4 | F13: 0.9 | J13: =+PRODUCT(D13:I13) -> 11.34
C14: Excavación MODULO # 3 | D14: 9 | E14: 1.5 | F14: 0.9 | J14: =+PRODUCT(D14:I14) -> 12.15
C15: Excavación MODULO # 4 | D15: 9 | E15: 1.5 | F15: 0.6 | J15: =+PRODUCT(D15:I15) -> 8.1
J16: =+PRODUCT(D16:I16) -> 0
J17: =+PRODUCT(D17:I17) -> 0
J18: =+PRODUCT(D18:I18) -> 0
J19: =+PRODUCT(D19:I19) -> 0
B34: TOTAL ACTIVIDAD | J34: =SUM(J10:J33) -> 73.92
B35: ACUMULADAS EN EL ACTA ANTERIOR
B36: TOTAL CANTIDADES ACUMULADAS
B37: OBSERVACIONES:
B39: ELABORÓ | E39: APROBÓ | H39: REVISÓ

Sheet 1,2
B1: =PRESUPUESTO!A1 -> 0 | D1: MEMORIAS DE CANTIDADES DE OBRA | O1: =PRESUPUESTO!F1 -> #VALUE!
B6: ÍTEM | D6: {=RIGHT(CELL("nombrearchivo",D6),LEN(CELL("nombrearchivo",D6))-SEARCH("]",CELL("nombrearchivo",D6)))} -> 1,2 | E6: DESCRIPCIÓN | G6: =VLOOKUP(D6,PRESUPUESTO!A8:E16,2,FALSE) -> Suministro e instalación de concreto Ciclópeo clase D 21 Mpa. Incluye transporte del concreto. No incluye refuerzo | M6: UNIDAD | N6: =VLOOKUP(D6,PRESUPUESTO!A8:E16,3,FALSE) -> m³
K7: LOCALIZACIÓN / ESQUEMA
B8: No | C8: DESCRIPCIÓN | D8: DIMENSIONES | I8: CANTIDAD | J8: TOTAL
D9: LARGO | E9: ANCHO | F9: ALTO | G9: AREA | H9: VOLUMEN
B10: A | C10: LLAVE BAJO NIVEL FREÁTICO | D10: 12 | E10: 1.5 | F10: 1 | J10: =+PRODUCT(D10:I10) -> 18
C11: MODULO # 1 | D11: 12 | E11: 1.8 | F11: 0.9 | J11: =+PRODUCT(D11:I11) -> 19.44
C12: MODULO # 2 | D12: 12 | E12: 1.9 | F12: 0.9 | J12: =+PRODUCT(D12:I12) -> 20.52
C13: MODULO # 3 | D13: 12 | E13: 2 | F13: 0.9 | J13: =+PRODUCT(D13:I13) -> 21.6
C14: MODULO # 4 | D14: 12 | E14: 2 | F14: 0.6 | J14: =+PRODUCT(D14:I14) -> 14.4
J15: =+PRODUCT(D15:I15) -> 0
J16: =+PRODUCT(D16:I16) -> 0
J17: =+PRODUCT(D17:I17) -> 0
J18: =+PRODUCT(D18:I18) -> 0
J19: =+PRODUCT(D19:I19) -> 0
J20: =+PRODUCT(D20:I20) -> 0
J21: =+PRODUCT(D21:I21) -> 0
J22: =+PRODUCT(D22:I22) -> 0
J23: =+PRODUCT(D23:I23) -> 0
J24: =+PRODUCT(D24:I24) -> 0
J25: =+PRODUCT(D25:I25) -> 0
J26: =+PRODUCT(D26:I26) -> 0
... J30: =+PRODUCT(D30:I30) -> 0
B36: TOTAL ACTIVIDAD | J36: =SUM(J10:J35) -> 93.96
B37: ACUMULADAS EN EL ACTA ANTERIOR
B38: TOTAL CANTIDADES ACUMULADAS
B39: OBSERVACIONES:
B41: ELABORÓ | E41: APROBÓ | H41: REVISÓ
