Workbook
Name \0: '[1]SALARIO LEGAL'!#REF!
Name \0: '[1]SALARIO LEGAL'!#REF!
Name \0: '[1]SALARIO LEGAL'!#REF!
Name \a: #REF!
Name \a: #REF!
Name \a: #REF!
Name \a: #REF!
Name \a: #REF!
Name \a: #REF!
Name \a: #REF!
Name \a: #REF!
Name \b: #REF!
Name \b: #REF!
Name \b: #REF!
Name \c: '[1]SALARIO LEGAL'!#REF!
Name \c: '[1]SALARIO LEGAL'!#REF!
Name \c: '[1]SALARIO LEGAL'!#REF!
Name \eliminar: [2]RESUM96!#REF!
Name \eliminar: [2]RESUM96!#REF!
Name \eliminar: [2]RESUM96!#REF!
Name \eliminar1: [2]RESUM96!#REF!
Name \eliminar1: [2]RESUM96!#REF!
Name \eliminar1: [2]RESUM96!#REF!
Name \g: #REF!
Name \g: #REF!
Name \g: #REF!
Name \i: [3]INSUMOS!#REF!
Name \i: [3]INSUMOS!#REF!
Name \i: [3]INSUMOS!#REF!
Name \k: '[4]7422CW00'!#REF!
Name \k: '[4]7422CW00'!#REF!
Name \k: '[4]7422CW00'!#REF!
Name \l: '[1]SALARIO LEGAL'!#REF!
Name \l: '[1]SALARIO LEGAL'!#REF!
Name \l: '[1]SALARIO LEGAL'!#REF!
Name \m: [3]INSUMOS!#REF!
Name \m: [3]INSUMOS!#REF!
Name \m: [3]INSUMOS!#REF!
Name \ñ: '[4]7422CW00'!#REF!
Name \ñ: '[4]7422CW00'!#REF!
Name \ñ: '[4]7422CW00'!#REF!
Name \p: '[1]SALARIO LEGAL'!#REF!
Name \p: '[1]SALARIO LEGAL'!#REF!
Name \p: '[1]SALARIO LEGAL'!#REF!
Name \q: #REF!
Name \q: #REF!
Name \q: #REF!
Name \r: [3]INSUMOS!#REF!
Name \r: [3]INSUMOS!#REF!
Name \r: [3]INSUMOS!#REF!
Name \s: #REF!
Name \s: #REF!
Name \s: #REF!
Name \s: #REF!
Name \s: #REF!
Name \s: #REF!
Name \s: #REF!
Name \s: #REF!
Name \t: [3]INSUMOS!#REF!
Name \t: [3]INSUMOS!#REF!

Sheet PRESUPUESTO OFICIAL 
C3: INSTITUTO NACIONAL DE VÍAS
C4: DIRECCIÓN TÉCNICA
C5: LICITACIÓN PÚBLICA
C6: MEJORAMIENTO, REHABILITACIÓN Y MANTENIMIENTO, GESTIÓN PREDIAL, SOCIAL Y AMBIENTAL SOSTENIBLE DE LA CARRETERA CÚCUTA - SARDINATA - OCAÑA - AGUACLARA, INCLUYE EL NUEVO PUENTE SOBRE EL RÍO ZULIA, EN EL DEPARTAMENTO DE NORTE DE SANTANDER, EN MARCO DEL PROGRAMA DE OBRA PÚBLICA "CONCLUIR Y CONCLUIR PARA LA REACTIVACIÓN DE LAS REGIONES"
C14: PRESUPUESTO OFICIAL
C15: FORMULARIO 1
C18: Nº | D18: ITEM DE PAGO | E18: ESPECIFICACIONES | G18: DESCRIPCIÓN | H18: UND. | I18: CANTIDAD | J18: VALOR UNITARIO | K18: VALOR TOTAL
E19: GENERAL | F19: PARTICULAR
C20: EXPLANACIONES
C21: 1 | D21: 200.2 | E21: 200-13 | G21: Desmonte y limpieza en zonas no boscosas | H21: Ha | I21: 7 | J21: 1148533 | K21: 8039731
C22: 2 | D22: 201.7 | E22: 201-13 | G22: Demolición de Estructuras | H22: m3 | I22: 5 | J22: 113261 | K22: 566305
C23: 3 | D23: 201.16 | E23: 201-13 | G23: Remoción de cercas de alambre | H23: m | I23: 240 | J23: 4233 | K23: 1015920
C24: 4 | D24: 210.2.1 | E24: 210-13 | G24: Excavación en roca de la explanación y canales | H24: m3 | I24: 9510 | J24: 62829 | K24: 597503790
C25: 5 | D25: 210.2.2 | E25: 210-13 | G25: Excavaciones en material común de la Explanación y Canales | H25: m3 | I25: 16127 | J25: 10619 | K25: 171252613
C26: 6 | D26: 211.1 | E26: 211-13 | G26: Remoción de Derrumbes | H26: m3 | I26: 6700 | J26: 9708 | K26: 65043600
C27: 7 | D27: 220.1 | E27: 220.1 | G27: Terraplenes | H27: m3 | I27: 1183 | J27: 13091 | K27: 15486653
C28: 8 | D28: 230.1P | F28: 230.1P | G28: Mejoramiento de la subrasante con adición de materiales | H28: m3 | I28: 5136 | J28: 10377 | K28: 53296272
C29: 9 | D29: 231.1P | F29: 231P | G29: Material para mejoramiento de Subrasante (no incluye transporte) (compacto) | H29: m3 | I29: 5136 | J29: 34185 | K29: 175574160
C30: 10 | D30: 231.1 | E30: 231-13 | G30: Geotextil para separación de suelos de subrasante y capas granulares | H30: m2 | I30: 2000 | J30: 7462 | K30: 14924000
C31: Subtotal | K31: 1102703044
C32: BASES, SUBBASES Y AFIRMADOS
C33: 11 | D33: 320.1P | F33: 320.1P | G33: Subbase Granular clase A (No incluye Transporte) | H33: m3 | I33: 2870 | J33: 80691 | K33: 231583170
C34: 12 | D34: 320.4P | F34: 320.4P | G34: Sub‐base granular para bacheo clase A (No incluye Transporte) | H34: m3 | I34: 91 | J34: 100196 | K34: 9117836
C35: 13 | D35: 330.1P | F35: 330.1P | G35: Base granular clase A (No incluye Transporte) | H35: m3 | I35: 2142 | J35: 100265 | K35: 214767630
C36: 14 | D36: 330.4P | F36: 330.4P | G36: Base granular para bacheo clase A (No incluye Transporte) | H36: m3 | I36: 61 | J36: 115406 | K36: 7039766
C37: Subtotal | K37: 462508402
C38: PAVIMENTOS ASFALTICOS
C39: 15 | D39: 420.2 | E39: 420-13 | G39: Riego de imprimación con emulsión asfáltica CRL‐1 | H39: m2 | I39: 107400 | J39: 2916 | K39: 313178400
C40: 16 | D40: 421.1 | E40: 421-13 | G40: Riego de liga con emulsión asfáltica CRR-1 | H40: m2 | I40: 2270 | J40: 1847 | K40: 4192690
C41: 17 | D41: 450.1P | F41: 450.1P | G41: Mezcla densa en caliente tipo MDC‐25 (No incluye Transporte) | H41: m3 | I41: 904 | J41: 762028 | K41: 688873312
C42: 18 | D42: 450.2P | F42: 450.2P | G42: Mezcla densa en caliente Tipo MDC-19 (No incluye Transporte) | H42: m3 | I42: 6201 | J42: 773403 | K42: 4795872003
C43: 19 | D43: 450.3P | F43: 450.3P | G43: Mezcla densa en caliente tipo MDC -19 modificada con polímeros tipo III (No incluye Transporte) | H43: m3 | I43: 571 | J43: 952153 | K43: 543679363
C44: 20 | D44: 450.10P | F44: 450.10P | G44: Mezcla densa en caliente Tipo MSC-25 para bacheos (No incluye Transporte) | H44: m3 | I44: 90 | J44: 790249 | K44: 71122410
C45: 21 | D45: 460.1P | F45: 460.1P | G45: Fresado de pavimento asfaltico | H45: m3 | I45: 6964 | J45: 83887 | K45: 584189068
C46: 22 | D46: 465.1 | E46: 465-13 | G46: Excavación para reparación de pavimento asfáltico existente incluyendo el corte y la remoción de las capas asfálticas y de las subyacentes. | H46: m3 | I46: 321 | J46: 78663 | K46: 25250823
C47: Subtotal | K47: 7026358069
C48: ESTRUCTURAS Y DRENAJES
C49: 23 | D49: 600.1.1 | E49: 600-13 | G49: Excavaciones varias sin clasificar | H49: m3 | I49: 584 | J49: 32575 | K49: 19023800
C50: 24 | D50: 600.2.1 | E50: 600-13 | G50: Excavaciones varias en roca en seco | H50: m3 | I50: 1239 | J50: 81546 | K50: 101035494
C51: 25 | D51: 600.2.3 | E51: 600-13 | G51: Excavaciones varias en material comun en seco | H51: m3 | I51: 637 | J51: 25940 | K51: 16523780
...

Sheet PROPUESTA ECONÓMICA
C3: INSTITUTO NACIONAL DE VÍAS
C4: DIRECCIÓN TÉCNICA
C5: LICITACIÓN PÚBLICA
C6: MEJORAMIENTO, REHABILITACIÓN Y MANTENIMIENTO, GESTIÓN PREDIAL, SOCIAL Y AMBIENTAL SOSTENIBLE DE LA CARRETERA CÚCUTA - SARDINATA - OCAÑA - AGUACLARA, INCLUYE EL NUEVO PUENTE SOBRE EL RÍO ZULIA, EN EL DEPARTAMENTO DE NORTE DE SANTANDER, EN MARCO DEL PROGRAMA DE OBRA PÚBLICA "CONCLUIR Y CONCLUIR PARA LA REACTIVACIÓN DE LAS REGIONES"
C14: PROPUESTA ECONÓMICA
C15: FORMULARIO 1
C18: Nº | D18: ITEM DE PAGO | E18: ESPECIFICACIONES | G18: DESCRIPCIÓN | H18: UND. | I18: CANTIDAD | J18: VALOR UNITARIO | K18: VALOR TOTAL
E19: GENERAL | F19: PARTICULAR
C20: EXPLANACIONES
C21: 1 | D21: 200.2 | E21: 200-13 | G21: Desmonte y limpieza en zonas no boscosas | H21: Ha | I21: 7
C22: 2 | D22: 201.7 | E22: 201-13 | G22: Demolición de Estructuras | H22: m3 | I22: 5
C23: 3 | D23: 201.16 | E23: 201-13 | G23: Remoción de cercas de alambre | H23: m | I23: 240
C24: 4 | D24: 210.2.1 | E24: 210-13 | G24: Excavación en roca de la explanación y canales | H24: m3 | I24: 9510
C25: 5 | D25: 210.2.2 | E25: 210-13 | G25: Excavaciones en material común de la Explanación y Canales | H25: m3 | I25: 16127
C26: 6 | D26: 211.1 | E26: 211-13 | G26: Remoción de Derrumbes | H26: m3 | I26: 6700
C27: 7 | D27: 220.1 | E27: 220.1 | G27: Terraplenes | H27: m3 | I27: 1183
C28: 8 | D28: 230.1P | F28: 230.1P | G28: Mejoramiento de la subrasante con adición de materiales | H28: m3 | I28: 5136
C29: 9 | D29: 231.1P | F29: 231P | G29: Material para mejoramiento de Subrasante (no incluye transporte) (compacto) | H29: m3 | I29: 5136
C30: 10 | D30: 231.1 | E30: 231-13 | G30: Geotextil para separación de suelos de subrasante y capas granulares | H30: m2 | I30: 2000
C31: Subtotal
C32: BASES, SUBBASES Y AFIRMADOS
C33: 11 | D33: 320.1P | F33: 320.1P | G33: Subbase Granular clase A (No incluye Transporte) | H33: m3 | I33: 2870
C34: 12 | D34: 320.4P | F34: 320.4P | G34: Sub‐base granular para bacheo clase A (No incluye Transporte) | H34: m3 | I34: 91
C35: 13 | D35: 330.1P | F35: 330.1P | G35: Base granular clase A (No incluye Transporte) | H35: m3 | I35: 2142
C36: 14 | D36: 330.4P | F36: 330.4P | G36: Base granular para bacheo clase A (No incluye Transporte) | H36: m3 | I36: 61
C37: Subtotal
C38: PAVIMENTOS ASFALTICOS
C39: 15 | D39: 420.2 | E39: 420-13 | G39: Riego de imprimación con emulsión asfáltica CRL‐1 | H39: m2 | I39: 107400
C40: 16 | D40: 421.1 | E40: 421-13 | G40: Riego de liga con emulsión asfáltica CRR-1 | H40: m2 | I40: 2270
C41: 17 | D41: 450.1P | F41: 450.1P | G41: Mezcla densa en caliente tipo MDC‐25 (No incluye Transporte) | H41: m3 | I41: 904
C42: 18 | D42: 450.2P | F42: 450.2P | G42: Mezcla densa en caliente Tipo MDC-19 (No incluye Transporte) | H42: m3 | I42: 6201
C43: 19 | D43: 450.3P | F43: 450.3P | G43: Mezcla densa en caliente tipo MDC -19 modificada con polímeros tipo III (No incluye Transporte) | H43: m3 | I43: 571
C44: 20 | D44: 450.10P | F44: 450.10P | G44: Mezcla densa en caliente Tipo MSC-25 para bacheos (No incluye Transporte) | H44: m3 | I44: 90
C45: 21 | D45: 460.1P | F45: 460.1P | G45: Fresado de pavimento asfaltico | H45: m3 | I45: 6964
C46: 22 | D46: 465.1 | E46: 465-13 | G46: Excavación para reparación de pavimento asfáltico existente incluyendo el corte y la remoción de las capas asfálticas y de las subyacentes. | H46: m3 | I46: 321
C47: Subtotal
C48: ESTRUCTURAS Y DRENAJES
C49: 23 | D49: 600.1.1 | E49: 600-13 | G49: Excavaciones varias sin clasificar | H49: m3 | I49: 584
C50: 24 | D50: 600.2.1 | E50: 600-13 | G50: Excavaciones varias en roca en seco | H50: m3 | I50: 1239
C51: 25 | D51: 600.2.3 | E51: 600-13 | G51: Excavaciones varias en material comun en seco | H51: m3 | I51: 637
...

Sheet 200.2
K2: CÓDIGO | L2: MINFRA-MN-IN-10-FR-1
C3: INSTITUTO NACIONAL DE VIAS
C4: DIRECCION TECNICA | K4: VERSIÓN | L4: 2
C5: PROCESO GESTIÓN DE LA INFRAESTRUCTURA VIAL
C6: MANUAL DE INTERVENTORÍA OBRA PUBLICA | K6: PÁGINA | L6: 1 | M6: DE | N6: 1
C8: ANALISIS DE PRECIOS UNITARIOS
K10: FECHA | L10: DD | M10: MM | N10: AA
L11: XXX | M11: XXX | N11: XXX
B12: ITEMS DE LA PROPUESTA ECONÓMICA | H12: ITEMS NO PREVISTOS
B14: UNIDAD EJECUTORA: | D14: XXXXXXXXXX | I14: DIRECCIÓN TERRITORIAL: | J14: XXXXXXXXXX
B20: CONTRATO No. | D20: XXXXXXXXXX | G20: DE | H20: XXXXXXXXXX
B21: OBJETO DEL CONTRATO | D21: MEJORAMIENTO, REHABILITACION Y MANTENIMIENTO, GESTION PREDIAL, SOCIAL Y AMBIENTAL SOSTENIBLE DE LA CARRETERA CUCUTA-SARDINATA-OCAÑA-AGUACLARA, INCLUYE EL NUEVO PUENTE SOBRE EL RIO ZULIA, EN EL DEPARTAMENTO DE NORTE DE SANTANDER, EN MARCO DEL PROGRAMA DE OBRA PUBLICA "CONCLUIR Y CONCLUIR PARA LA REACTIVACIÓN DE LAS REGIONES"
B24: CONTRATISTA : | D24: XXXXXXXXXX
B26: INTERVENTOR | D26: XXXXXXXXXX
B28: GESTOR TECNICO DE CONTRATO | E28: XXXXXXXXXX
B30: FECHA CIERRE DE LICITACIÓN Y/O SELECCIÓN ABREVIADA | G30: XXXXXXXXXX
B32: DATOS ESPECÍFICOS
B34: ITEM | C34: DESCRIPCIÓN | L34: UNIDAD | N34: CANTIDAD
B35: 200.2 | C35: Desmonte y limpieza en zonas no boscosas | L35: Ha | N35: 7
B36: I. EQUIPO
B39: DESCRIPCIÓN | G39: MARCA | I39: TIPO | K39: TARIFA/HORA | L39: RENDIMIENTO | N39: Vr. UNITARIO
B40: GUADAÑADORA | K40: 7350 | L40: 0.09 | N40: 81666.667
B41: MOTOSIERRA | K41: 9660 | L41: 1 | N41: 9660
B42: HERRAMIENTA MENOR (10%MO) | N42: 47360
N43: 138686.67
B44: II. MATERIALES
B47: DESCRIPCIÓN | J47: UNIDAD | K47: CANTIDAD | L47: PRECIO UNIT. | N47: Vr. UNITARIO
B50: SUBTOTAL $ | N50: 0
B51: III. TRANSPORTES
B54: MATERIAL | I54: VOL. o PESO | J54: DISTANCIA | K54: M3 o Ton/Km | L54: TARIFA | N54: Vr. UNITARIO
B55: MATERIAL SOBRANTE | I55: 30 | J55: 10 | K55: 300 | L55: 904 | N55: 271200
B57: SUBTOTAL $ | N57: 271200
B58: IV. MANO DE OBRA
B61: TRABAJADOR | I61: JORNAL | J61: PRESTACIONES | K61: JORNAL TOTAL | L61: RENDIMIENTO | N61: Vr. UNITARIO
B62: OBRERO (4) | I62: 128000 | J62: 1.85 | K62: 236800 | L62: 0.5 | N62: 473600
B66: SUBTOTAL $ | N66: 473600
B68: TOTAL COSTO DIRECTO $ | N68: 883486.67
B69: V. COSTOS INDIRECTOS
B72: Descripción | K72: Porcentaje | L72: Valor Total
B73: ADMINISTRACION | K73: 0.2 | L73: 176697.33
...

Sheet 201.7
K2: CÓDIGO | L2: MINFRA-MN-IN-10-FR-1
C3: INSTITUTO NACIONAL DE VIAS
C4: DIRECCION TECNICA | K4: VERSIÓN | L4: 2
C5: PROCESO GESTIÓN DE LA INFRAESTRUCTURA VIAL
C6: MANUAL DE INTERVENTORÍA OBRA PUBLICA | K6: PÁGINA | L6: 1 | M6: DE | N6: 1
C8: ANALISIS DE PRECIOS UNITARIOS
K10: FECHA | L10: DD | M10: MM | N10: AA
L11: XXX | M11: XXX | N11: XXX
B12: ITEMS DE LA PROPUESTA ECONÓMICA | H12: ITEMS NO PREVISTOS
B13: UNIDAD EJECUTORA: | D13: XXXXXXXXXX | I13: DIRECCIÓN TERRITORIAL: | J13: XXXXXXXXXX
B19: CONTRATO No. | D19: XXXXXXXXXX | G19: DE | H19: XXXXXXXXXX
B20: OBJETO DEL CONTRATO | D20: MEJORAMIENTO, REHABILITACION Y MANTENIMIENTO, GESTION PREDIAL, SOCIAL Y AMBIENTAL SOSTENIBLE DE LA CARRETERA CUCUTA-SARDINATA-OCAÑA-AGUACLARA, INCLUYE EL NUEVO PUENTE SOBRE EL RIO ZULIA, EN EL DEPARTAMENTO DE NORTE DE SANTANDER, EN MARCO DEL PROGRAMA DE OBRA PUBLICA "CONCLUIR Y CONCLUIR PARA LA REACTIVACIÓN DE LAS REGIONES"
B23: CONTRATISTA : | D23: XXXXXXXXXX
B25: INTERVENTOR | D25: XXXXXXXXXX
B27: GESTOR TECNICO DE CONTRATO | E27: XXXXXXXXXX
B29: FECHA CIERRE DE LICITACIÓN Y/O SELECCIÓN ABREVIADA | G29: XXXXXXXXXX
B31: DATOS ESPECÍFICOS
B33: ITEM | C33: DESCRIPCIÓN | L33: UNIDAD | N33: CANTIDAD
B34: 201.7 | C34: Demolición de Estructuras | L34: m3 | N34: 5
B35: I. EQUIPO
B38: DESCRIPCIÓN | G38: MARCA | I38: TIPO | K38: TARIFA/HORA | L38: RENDIMIENTO | N38: Vr. UNITARIO
B39: COMPRESOR CON MARTILLO | K39: 102000 | L39: 2.5 | N39: 40800
B40: EQUIPO DE OXICORTE | K40: 17000 | L40: 2.5 | N40: 6800
B41: RETROEXCAVADORA | K41: 180000 | L41: 12 | N41: 15000
B42: HERRAMIENTA MENOR (10%MO) | N42: 888
N43: 63488
B44: II. MATERIALES
B47: DESCRIPCIÓN | J47: UNIDAD | K47: CANTIDAD | L47: PRECIO UNIT. | N47: Vr. UNITARIO
B48: DERECHOS DISPOSICION DE MATERIALES (INCLUYE CONFORMACIÓN Y COMPACTACIÓN DE SITIOS DE DISPOSICIÓN DE SOBRANTES) | J48: M3 | K48: 1.4 | L48: 1500 | N48: 2100
B50: SUBTOTAL $ | N50: 2100
B51: III. TRANSPORTES
B54: MATERIAL | I54: VOL. o PESO | J54: DISTANCIA | K54: M3 o Ton/Km | L54: TARIFA | N54: Vr. UNITARIO
B55: TRANSPORTE DE MATERIAL | I55: 1.4 | J55: 10 | K55: 14 | L55: 904 | N55: 12656
B57: SUBTOTAL $ | N57: 12656
B58: IV. MANO DE OBRA
B61: TRABAJADOR | I61: JORNAL | J61: PRESTACIONES | K61: JORNAL TOTAL | L61: RENDIMIENTO | N61: Vr. UNITARIO
B62: OBRERO (3) | I62: 96000 | J62: 1.85 | K62: 177600 | L62: 20 | N62: 8880
B66: SUBTOTAL $ | N66: 8880
B68: TOTAL COSTO DIRECTO $ | N68: 87124
B69: V. COSTOS INDIRECTOS
...

Sheet 201.16
K2: CÓDIGO | L2: MINFRA-MN-IN-10-FR-1
C3: INSTITUTO NACIONAL DE VIAS
C4: DIRECCION TECNICA | K4: VERSIÓN | L4: 2
C5: PROCESO GESTIÓN DE LA INFRAESTRUCTURA VIAL
C6: MANUAL DE INTERVENTORÍA OBRA PUBLICA | K6: PÁGINA | L6: 1 | M6: DE | N6: 1
C8: ANALISIS DE PRECIOS UNITARIOS
K10: FECHA | L10: DD | M10: MM | N10: AA
L11: XXX | M11: XXX | N11: XXX
B12: ITEMS DE LA PROPUESTA ECONÓMICA | H12: ITEMS NO PREVISTOS
B13: UNIDAD EJECUTORA: | D13: XXXXXXXXXX | I13: DIRECCIÓN TERRITORIAL: | J13: XXXXXXXXXX
B19: CONTRATO No. | D19: XXXXXXXXXX | G19: DE | H19: XXXXXXXXXX
B20: OBJETO DEL CONTRATO | D20: MEJORAMIENTO, REHABILITACION Y MANTENIMIENTO, GESTION PREDIAL, SOCIAL Y AMBIENTAL SOSTENIBLE DE LA CARRETERA CUCUTA-SARDINATA-OCAÑA-AGUACLARA, INCLUYE EL NUEVO PUENTE SOBRE EL RIO ZULIA, EN EL DEPARTAMENTO DE NORTE DE SANTANDER, EN MARCO DEL PROGRAMA DE OBRA PUBLICA "CONCLUIR Y CONCLUIR PARA LA REACTIVACIÓN DE LAS REGIONES"
B23: CONTRATISTA : | D23: XXXXXXXXXX
B25: INTERVENTOR | D25: XXXXXXXXXX
B27: GESTOR TECNICO DE CONTRATO | E27: XXXXXXXXXX
B29: FECHA CIERRE DE LICITACIÓN Y/O SELECCIÓN ABREVIADA | G29: XXXXXXXXXX
B31: DATOS ESPECÍFICOS
B33: ITEM | C33: DESCRIPCIÓN | L33: UNIDAD | N33: CANTIDAD
B34: 201.16 | C34: Remoción de cercas de alambre | L34: m | N34: 240
B35: I. EQUIPO
B38: DESCRIPCIÓN | G38: MARCA | I38: TIPO | K38: TARIFA/HORA | L38: RENDIMIENTO | N38: Vr. UNITARIO
B39: HERRAMIENTAMENOR (10%MO) | N39: 296
N43: 296
B44: II. MATERIALES
B47: DESCRIPCIÓN | J47: UNIDAD | K47: CANTIDAD | L47: PRECIO UNIT. | N47: Vr. UNITARIO
L48: 0 | N48: 0
B50: SUBTOTAL $ | N50: 0
B51: III. TRANSPORTES
B54: MATERIAL | I54: VOL. o PESO | J54: DISTANCIA | K54: M3 o Ton/Km | L54: TARIFA | N54: Vr. UNITARIO
N55: 0
B57: SUBTOTAL $ | N57: 0
B58: IV. MANO DE OBRA
B61: TRABAJADOR | I61: JORNAL | J61: PRESTACIONES | K61: JORNAL TOTAL | L61: RENDIMIENTO | N61: Vr. UNITARIO
B62: OBRERO (4) | I62: 128000 | J62: 1.85 | K62: 236800 | L62: 80 | N62: 2960
B66: SUBTOTAL $ | N66: 2960
B68: TOTAL COSTO DIRECTO $ | N68: 3256
B69: V. COSTOS INDIRECTOS
B72: Descripción | K72: Porcentaje | L72: Valor Total
B73: ADMINISTRACION | K73: 0.2 | L73: 651.2
B74: IMPREVISTOS | K74: 0.05 | L74: 162.8
...

Sheet 210.2.1
K2: CÓDIGO | L2: MINFRA-MN-IN-10-FR-1
C3: INSTITUTO NACIONAL DE VIAS
C4: DIRECCION TECNICA | K4: VERSIÓN | L4: 2
C5: PROCESO GESTIÓN DE LA INFRAESTRUCTURA VIAL
C6: MANUAL DE INTERVENTORÍA OBRA PUBLICA | K6: PÁGINA | L6: 1 | M6: DE | N6: 1
C8: ANALISIS DE PRECIOS UNITARIOS
K10: FECHA | L10: DD | M10: MM | N10: AA
L11: XXX | M11: XXX | N11: XXX
B12: ITEMS DE LA PROPUESTA ECONÓMICA | H12: ITEMS NO PREVISTOS
B13: UNIDAD EJECUTORA: | D13: XXXXXXXXXX | I13: DIRECCIÓN TERRITORIAL: | J13: XXXXXXXXXX
B19: CONTRATO No. | D19: XXXXXXXXXX | G19: DE | H19: XXXXXXXXXX
B20: OBJETO DEL CONTRATO | D20: MEJORAMIENTO, REHABILITACION Y MANTENIMIENTO, GESTION PREDIAL, SOCIAL Y AMBIENTAL SOSTENIBLE DE LA CARRETERA CUCUTA-SARDINATA-OCAÑA-AGUACLARA, INCLUYE EL NUEVO PUENTE SOBRE EL RIO ZULIA, EN EL DEPARTAMENTO DE NORTE DE SANTANDER, EN MARCO DEL PROGRAMA DE OBRA PUBLICA "CONCLUIR Y CONCLUIR PARA LA REACTIVACIÓN DE LAS REGIONES"
B23: CONTRATISTA : | D23: XXXXXXXXXX
B25: INTERVENTOR | D25: XXXXXXXXXX
B27: GESTOR TECNICO DE CONTRATO | E27: XXXXXXXXXX
B29: FECHA CIERRE DE LICITACIÓN Y/O SELECCIÓN ABREVIADA | G29: XXXXXXXXXX
B31: DATOS ESPECÍFICOS
B33: ITEM | C33: DESCRIPCIÓN | L33: UNIDAD | N33: CANTIDAD
B34: 210.2.1 | C34: Excavación en roca de la explanación y canales | L34: m3 | N34: 9510
B35: I. EQUIPO
B38: DESCRIPCIÓN | G38: MARCA | I38: TIPO | K38: TARIFA/HORA | L38: RENDIMIENTO | N38: Vr. UNITARIO
B39: RETROEXCAVADORA | K39: 180000 | L39: 35 | N39: 5142.8571
B40: COMPRESOR CON MARTILLO | K40: 102000 | L40: 35 | N40: 2914.2857
B41: EQUIPO DE PERFORACION TRACKDRILL | K41: 176400 | L41: 35 | N41: 5040
B42: HERRAMIENTA MENOR (5%MO) | N42: 40.303571
N43: 13137.446
B44: II. MATERIALES
B45: II. MATERIALES
B47: DESCRIPCIÓN | J47: UNIDAD | K47: CANTIDAD | L47: PRECIO UNIT. | N47: Vr. UNITARIO
B48: CORDON DETONANTE | J48: ML | K48: 2 | L48: 2200 | N48: 4400
B49: EXPLOSIVOS 75% | J49: LB | K49: 0.4 | L49: 12000 | N49: 4800
B50: FULMINANTES | J50: U | K50: 0.5 | L50: 662 | N50: 331
B51: MECHA LENTA | J51: ML | K51: 0.5 | L51: 4000 | N51: 2000
B52: ESCOLTA Y TRANSPORTE | L52: 20755.8 | N52: 20755.8
B53: DERECHOS DISPOSICION DE MATERIALES (INCLUYE CONFORMACIÓN Y COMPACTACIÓN DE SITIOS DE DISPOSICIÓN DE SOBRANTES) | J53: M3 | K53: 1.4 | L53: 1500 | N53: 2100
B55: SUBTOTAL $ | N55: 34386.8
B56: III. TRANSPORTES
B57: III. TRANSPORTES
B59: MATERIAL | I59: VOL. o PESO | J59: DISTANCIA | K59: M3 o Ton/Km | L59: TARIFA | N59: Vr. UNITARIO
N60: 0
...

Sheet 210.2.2
K2: CÓDIGO | L2: MINFRA-MN-IN-10-FR-1
C3: INSTITUTO NACIONAL DE VIAS
C4: DIRECCION TECNICA | K4: VERSIÓN | L4: 2
C5: PROCESO GESTIÓN DE LA INFRAESTRUCTURA VIAL
C6: MANUAL DE INTERVENTORÍA OBRA PUBLICA | K6: PÁGINA | L6: 1 | M6: DE | N6: 1
C8: ANALISIS DE PRECIOS UNITARIOS
K10: FECHA | L10: DD | M10: MM | N10: AA
L11: XXX | M11: XXX | N11: XXX
B12: ITEMS DE LA PROPUESTA ECONÓMICA | H12: ITEMS NO PREVISTOS
B13: UNIDAD EJECUTORA: | D13: XXXXXXXXXX | I13: DIRECCIÓN TERRITORIAL: | J13: XXXXXXXXXX
B19: CONTRATO No. | D19: XXXXXXXXXX | G19: DE | H19: XXXXXXXXXX
B20: OBJETO DEL CONTRATO | D20: MEJORAMIENTO, REHABILITACION Y MANTENIMIENTO, GESTION PREDIAL, SOCIAL Y AMBIENTAL SOSTENIBLE DE LA CARRETERA CUCUTA-SARDINATA-OCAÑA-AGUACLARA, INCLUYE EL NUEVO PUENTE SOBRE EL RIO ZULIA, EN EL DEPARTAMENTO DE NORTE DE SANTANDER, EN MARCO DEL PROGRAMA DE OBRA PUBLICA "CONCLUIR Y CONCLUIR PARA LA REACTIVACIÓN DE LAS REGIONES"
B23: CONTRATISTA : | D23: XXXXXXXXXX
B25: INTERVENTOR | D25: XXXXXXXXXX
B27: GESTOR TECNICO DE CONTRATO | E27: XXXXXXXXXX
B29: FECHA CIERRE DE LICITACIÓN Y/O SELECCIÓN ABREVIADA | G29: XXXXXXXXXX
B31: DATOS ESPECÍFICOS
B33: ITEM | C33: DESCRIPCIÓN | K33: GRUPO DE AJUSTE | L33: UNIDAD | N33: CANTIDAD
B34: 210.2.2 | C34: Excavaciones en material común de la Explanación y Canales | L34: m3 | N34: 16127
B35: I. EQUIPO
B36: I. EQUIPO
B38: DESCRIPCIÓN | G38: MARCA | I38: TIPO | K38: TARIFA/HORA | L38: RENDIMIENTO | N38: Vr. UNITARIO
B39: RETROEXCAVADORA | K39: 180000 | L39: 50 | N39: 3600
B40: BULDOZER | K40: 150000 | L40: 65 | N40: 2307.6923
B41: HERRAMIENTA MENOR (5%MO) | N41: 14.8
N44: 5922.4923
B45: II. MATERIALES
B46: II. MATERIALES
B48: DESCRIPCIÓN | J48: UNIDAD | K48: CANTIDAD | L48: PRECIO UNIT. | N48: Vr. UNITARIO
B49: DERECHOS DISPOSICION DE MATERIALES (INCLUYE CONFORMACIÓN Y COMPACTACIÓN DE SITIOS DE DISPOSICIÓN DE SOBRANTES) | J49: M3 | K49: 1.3 | L49: 1500 | N49: 1950
B54: SUBTOTAL $ | N54: 1950
B55: III. TRANSPORTES
B56: III. TRANSPORTES
B58: MATERIAL | I58: VOL. o PESO | J58: DISTANCIA | K58: M3 o Ton/Km | L58: TARIFA | N58: Vr. UNITARIO
N59: 0
B61: SUBTOTAL $ | N61: 0
B62: IV. MANO DE OBRA
B63: IV. MANO DE OBRA
B65: TRABAJADOR | I65: JORNAL | J65: PRESTACIONES | K65: JORNAL TOTAL | L65: RENDIMIENTO | N65: Vr. UNITARIO
B66: OBRERO (2) | I66: 64000 | J66: 1.85 | K66: 118400 | L66: 400 | N66: 296
...

Sheet 211.1
K2: CÓDIGO | L2: MINFRA-MN-IN-10-FR-1
C3: INSTITUTO NACIONAL DE VIAS
C4: DIRECCION TECNICA | K4: VERSIÓN | L4: 2
C5: PROCESO GESTIÓN DE LA INFRAESTRUCTURA VIAL
C6: MANUAL DE INTERVENTORÍA OBRA PUBLICA | K6: PÁGINA | L6: 1 | M6: DE | N6: 1
C8: ANALISIS DE PRECIOS UNITARIOS
K10: FECHA | L10: DD | M10: MM | N10: AA
L11: XXX | M11: XXX | N11: XXX
B12: ITEMS DE LA PROPUESTA ECONÓMICA | H12: ITEMS NO PREVISTOS
B13: UNIDAD EJECUTORA: | D13: XXXXXXXXXX | I13: DIRECCIÓN TERRITORIAL: | J13: XXXXXXXXXX
B19: CONTRATO No. | D19: XXXXXXXXXX | G19: DE | H19: XXXXXXXXXX
B20: OBJETO DEL CONTRATO | D20: MEJORAMIENTO, REHABILITACION Y MANTENIMIENTO, GESTION PREDIAL, SOCIAL Y AMBIENTAL SOSTENIBLE DE LA CARRETERA CUCUTA-SARDINATA-OCAÑA-AGUACLARA, INCLUYE EL NUEVO PUENTE SOBRE EL RIO ZULIA, EN EL DEPARTAMENTO DE NORTE DE SANTANDER, EN MARCO DEL PROGRAMA DE OBRA PUBLICA "CONCLUIR Y CONCLUIR PARA LA REACTIVACIÓN DE LAS REGIONES"
B23: CONTRATISTA : | D23: XXXXXXXXXX
B25: INTERVENTOR | D25: XXXXXXXXXX
B27: GESTOR TECNICO DE CONTRATO | E27: XXXXXXXXXX
B29: FECHA CIERRE DE LICITACIÓN Y/O SELECCIÓN ABREVIADA | G29: XXXXXXXXXX
B31: DATOS ESPECÍFICOS
B33: ITEM | C33: DESCRIPCIÓN | K33: GRUPO DE AJUSTE | L33: UNIDAD | N33: CANTIDAD
B34: 211.1 | C34: Remoción de Derrumbes | L34: m3 | N34: 6700
B35: I. EQUIPO
B36: I. EQUIPO
B38: DESCRIPCIÓN | G38: MARCA | I38: TIPO | K38: TARIFA/HORA | L38: RENDIMIENTO | N38: Vr. UNITARIO
B39: CARGADOR | K39: 150000 | L39: 30 | N39: 5000
B40: HERRAMIENTA MENOR (5%MO) | N40: 24.666667
N43: 5024.6667
B44: II. MATERIALES
B45: II. MATERIALES
B47: DESCRIPCIÓN | J47: UNIDAD | K47: CANTIDAD | L47: PRECIO UNIT. | N47: Vr. UNITARIO
B48: DERECHOS DISPOSICION DE MATERIALES (INCLUYE CONFORMACIÓN Y COMPACTACIÓN DE SITIOS DE DISPOSICIÓN DE SOBRANTES) | J48: M3 | K48: 1.3 | L48: 1500 | N48: 1950
B53: SUBTOTAL $ | N53: 1950
B54: III. TRANSPORTES
B55: III. TRANSPORTES
B57: MATERIAL | I57: VOL. o PESO | J57: DISTANCIA | K57: M3 o Ton/Km | L57: TARIFA | N57: Vr. UNITARIO
N58: 0
B60: SUBTOTAL $ | N60: 0
B61: IV. MANO DE OBRA
B62: IV. MANO DE OBRA
B64: TRABAJADOR | I64: JORNAL | J64: PRESTACIONES | K64: JORNAL TOTAL | L64: RENDIMIENTO | N64: Vr. UNITARIO
B65: OBRERO (2) | I65: 64000 | J65: 1.85 | K65: 118400 | L65: 240 | N65: 493.33333
B69: SUBTOTAL $ | N69: 493.33333
...

Sheet 220.1
K2: CÓDIGO | L2: MINFRA-MN-IN-10-FR-1
C3: INSTITUTO NACIONAL DE VIAS
C4: DIRECCION TECNICA | K4: VERSIÓN | L4: 2
C5: PROCESO GESTIÓN DE LA INFRAESTRUCTURA VIAL
C6: MANUAL DE INTERVENTORÍA OBRA PUBLICA | K6: PÁGINA | L6: 1 | M6: DE | N6: 1
C8: ANALISIS DE PRECIOS UNITARIOS
K10: FECHA | L10: DD | M10: MM | N10: AA
L11: XXX | M11: XXX | N11: XXX
B12: ITEMS DE LA PROPUESTA ECONÓMICA | H12: ITEMS NO PREVISTOS
B13: UNIDAD EJECUTORA: | D13: XXXXXXXXXX | I13: DIRECCIÓN TERRITORIAL: | J13: XXXXXXXXXX
B19: CONTRATO No. | D19: XXXXXXXXXX | G19: DE | H19: XXXXXXXXXX
B20: OBJETO DEL CONTRATO | D20: MEJORAMIENTO, REHABILITACION Y MANTENIMIENTO, GESTION PREDIAL, SOCIAL Y AMBIENTAL SOSTENIBLE DE LA CARRETERA CUCUTA-SARDINATA-OCAÑA-AGUACLARA, INCLUYE EL NUEVO PUENTE SOBRE EL RIO ZULIA, EN EL DEPARTAMENTO DE NORTE DE SANTANDER, EN MARCO DEL PROGRAMA DE OBRA PUBLICA "CONCLUIR Y CONCLUIR PARA LA REACTIVACIÓN DE LAS REGIONES"
B23: CONTRATISTA : | D23: XXXXXXXXXX
B25: INTERVENTOR | D25: XXXXXXXXXX
B27: GESTOR TECNICO DE CONTRATO | E27: XXXXXXXXXX
B29: FECHA CIERRE DE LICITACIÓN Y/O SELECCIÓN ABREVIADA | G29: XXXXXXXXXX
B31: DATOS ESPECÍFICOS
B33: ITEM | C33: DESCRIPCIÓN | K33: GRUPO DE AJUSTE | L33: UNIDAD | N33: CANTIDAD
B34: 220.1 | C34: Terraplenes | L34: m3 | N34: 1183
B35: I. EQUIPO
B36: I. EQUIPO
B38: DESCRIPCIÓN | G38: MARCA | I38: TIPO | K38: TARIFA/HORA | L38: RENDIMIENTO | N38: Vr. UNITARIO
B39: CARROTANQUE DE AGUA 1000 LITROS | K39: 88000 | L39: 40 | N39: 2200
B40: MOTONIVELADORA | K40: 190000 | L40: 40 | N40: 4750
B41: VIBROCOMPACTADOR | K41: 110000 | L41: 40 | N41: 2750
N43: 9700
B44: II. MATERIALES
B45: II. MATERIALES
B47: DESCRIPCIÓN | J47: UNIDAD | K47: CANTIDAD | L47: PRECIO UNIT. | N47: Vr. UNITARIO
B53: SUBTOTAL $ | N53: 0
B54: III. TRANSPORTES
B55: III. TRANSPORTES
B57: MATERIAL | I57: VOL. o PESO | J57: DISTANCIA | K57: M3 o Ton/Km | L57: TARIFA | N57: Vr. UNITARIO
N58: 0
B60: SUBTOTAL $ | N60: 0
B61: IV. MANO DE OBRA
B62: IV. MANO DE OBRA
B64: TRABAJADOR | I64: JORNAL | J64: PRESTACIONES | K64: JORNAL TOTAL | L64: RENDIMIENTO | N64: Vr. UNITARIO
B65: OBRERO (2) | I65: 64000 | J65: 1.85 | K65: 118400 | L65: 320 | N65: 370
B69: SUBTOTAL $ | N69: 370
...

Sheet 230.1P
K2: CÓDIGO | L2: MINFRA-MN-IN-10-FR-1
C3: INSTITUTO NACIONAL DE VIAS
C4: DIRECCION TECNICA | K4: VERSIÓN | L4: 2
C5: PROCESO GESTIÓN DE LA INFRAESTRUCTURA VIAL
C6: MANUAL DE INTERVENTORÍA OBRA PUBLICA | K6: PÁGINA | L6: 1 | M6: DE | N6: 1
C8: ANALISIS DE PRECIOS UNITARIOS
K10: FECHA | L10: DD | M10: MM | N10: AA
L11: XXX | M11: XXX | N11: XXX
B12: ITEMS DE LA PROPUESTA ECONÓMICA | H12: ITEMS NO PREVISTOS
B13: UNIDAD EJECUTORA: | D13: XXXXXXXXXX | I13: DIRECCIÓN TERRITORIAL: | J13: XXXXXXXXXX
B19: CONTRATO No. | D19: XXXXXXXXXX | G19: DE | H19: XXXXXXXXXX
B20: OBJETO DEL CONTRATO | D20: MEJORAMIENTO, REHABILITACION Y MANTENIMIENTO, GESTION PREDIAL, SOCIAL Y AMBIENTAL SOSTENIBLE DE LA CARRETERA CUCUTA-SARDINATA-OCAÑA-AGUACLARA, INCLUYE EL NUEVO PUENTE SOBRE EL RIO ZULIA, EN EL DEPARTAMENTO DE NORTE DE SANTANDER, EN MARCO DEL PROGRAMA DE OBRA PUBLICA "CONCLUIR Y CONCLUIR PARA LA REACTIVACIÓN DE LAS REGIONES"
B23: CONTRATISTA : | D23: XXXXXXXXXX
B25: INTERVENTOR | D25: XXXXXXXXXX
B27: GESTOR TECNICO DE CONTRATO | E27: XXXXXXXXXX
B29: FECHA CIERRE DE LICITACIÓN Y/O SELECCIÓN ABREVIADA | G29: XXXXXXXXXX
B31: DATOS ESPECÍFICOS
B33: ITEM | C33: DESCRIPCIÓN | K33: GRUPO DE AJUSTE | L33: UNIDAD | N33: CANTIDAD
B34: 230.1P | C34: Mejoramiento de la subrasante con adición de materiales | L34: m3 | N34: 5136
B35: I. EQUIPO
B36: I. EQUIPO
B38: DESCRIPCIÓN | G38: MARCA | I38: TIPO | K38: TARIFA/HORA | L38: RENDIMIENTO | N38: Vr. UNITARIO
B39: MOTONIVELADORA | K39: 190000 | L39: 50 | N39: 3800
B40: VIBROCOMPACTADOR | K40: 110000 | L40: 50 | N40: 2200
B41: CARROTANQUE DE AGUA 1000 LITROS | K41: 88000 | L41: 50 | N41: 1760
N43: 7760
B44: II. MATERIALES
B45: II. MATERIALES
B47: DESCRIPCIÓN | J47: UNIDAD | K47: CANTIDAD | L47: PRECIO UNIT. | N47: Vr. UNITARIO
B53: SUBTOTAL $ | N53: 0
B54: III. TRANSPORTES
B55: III. TRANSPORTES
B57: MATERIAL | I57: VOL. o PESO | J57: DISTANCIA | K57: M3 o Ton/Km | L57: TARIFA | N57: Vr. UNITARIO
N58: 0
B60: SUBTOTAL $ | N60: 0
B61: IV. MANO DE OBRA
B62: IV. MANO DE OBRA
B64: TRABAJADOR | I64: JORNAL | J64: PRESTACIONES | K64: JORNAL TOTAL | L64: RENDIMIENTO | N64: Vr. UNITARIO
B65: OBRERO (3) | I65: 96000 | J65: 1.85 | K65: 177600 | L65: 800 | N65: 222
B69: SUBTOTAL $ | N69: 222
...

Sheet 231.1P
K2: CÓDIGO | L2: MINFRA-MN-IN-10-FR-1
C3: INSTITUTO NACIONAL DE VIAS
C4: DIRECCION TECNICA | K4: VERSIÓN | L4: 2
C5: PROCESO GESTIÓN DE LA INFRAESTRUCTURA VIAL
C6: MANUAL DE INTERVENTORÍA OBRA PUBLICA | K6: PÁGINA | L6: 1 | M6: DE | N6: 1
C8: ANALISIS DE PRECIOS UNITARIOS
K10: FECHA | L10: DD | M10: MM | N10: AA
L11: XXX | M11: XXX | N11: XXX
B12: ITEMS DE LA PROPUESTA ECONÓMICA | H12: ITEMS NO PREVISTOS
B13: UNIDAD EJECUTORA: | D13: XXXXXXXXXX | I13: DIRECCIÓN TERRITORIAL: | J13: XXXXXXXXXX
B19: CONTRATO No. | D19: XXXXXXXXXX | G19: DE | H19: XXXXXXXXXX
B20: OBJETO DEL CONTRATO | D20: MEJORAMIENTO, REHABILITACION Y MANTENIMIENTO, GESTION PREDIAL, SOCIAL Y AMBIENTAL SOSTENIBLE DE LA CARRETERA CUCUTA-SARDINATA-OCAÑA-AGUACLARA, INCLUYE EL NUEVO PUENTE SOBRE EL RIO ZULIA, EN EL DEPARTAMENTO DE NORTE DE SANTANDER, EN MARCO DEL PROGRAMA DE OBRA PUBLICA "CONCLUIR Y CONCLUIR PARA LA REACTIVACIÓN DE LAS REGIONES"
B23: CONTRATISTA : | D23: XXXXXXXXXX
B25: INTERVENTOR | D25: XXXXXXXXXX
B27: GESTOR TECNICO DE CONTRATO | E27: XXXXXXXXXX
B29: FECHA CIERRE DE LICITACIÓN Y/O SELECCIÓN ABREVIADA | G29: XXXXXXXXXX
B31: DATOS ESPECÍFICOS
B33: ITEM | C33: DESCRIPCIÓN | K33: GRUPO DE AJUSTE | L33: UNIDAD | N33: CANTIDAD
B34: 231.1P | C34: Material para mejoramiento de Subrasante (no incluye transporte) (compacto) | L34: m3 | N34: 5136
B35: I. EQUIPO
B38: DESCRIPCIÓN | G38: MARCA | I38: TIPO | K38: TARIFA/HORA | L38: RENDIMIENTO | N38: Vr. UNITARIO
B42: SUBTOTAL $ | N42: 0
B43: II. MATERIALES
B46: DESCRIPCIÓN | J46: UNIDAD | K46: CANTIDAD | L46: PRECIO UNIT. | N46: Vr. UNITARIO
B47: Material para mejoramiento de sub rasante taño maximo 4" (crudo de rio) | J47: M3 | K47: 1.3 | L47: 20000 | N47: 26000
B49: SUBTOTAL $ | N49: 26000
B50: III. TRANSPORTES
B53: MATERIAL | I53: VOL. o PESO | J53: DISTANCIA | K53: M3 o Ton/Km | L53: TARIFA | N53: Vr. UNITARIO
B56: SUBTOTAL $ | N56: 0
B57: IV. MANO DE OBRA
B60: TRABAJADOR | I60: JORNAL | J60: PRESTACIONES | K60: JORNAL TOTAL | L60: RENDIMIENTO | N60: Vr. UNITARIO
B61: OBREROS (2) | I61: 64000 | J61: 1.85 | K61: 118400 | L61: 400 | N61: 296
B65: SUBTOTAL $ | N65: 296
B67: TOTAL COSTO DIRECTO $ | N67: 26296
B68: V. COSTOS INDIRECTOS
B71: Descripción | K71: Porcentaje | L71: Valor Total
B72: ADMINISTRACION | K72: 0.2 | L72: 5259.2
B73: IMPREVISTOS | K73: 0.05 | L73: 1314.8
B74: UTILIDAD | K74: 0.05 | L74: 1314.8
B75: SUBTOTAL $ | N75: 7888.8
...

Sheet 231.1
K2: CÓDIGO | L2: MINFRA-MN-IN-10-FR-1
C3: INSTITUTO NACIONAL DE VIAS
C4: DIRECCION TECNICA | K4: VERSIÓN | L4: 2
C5: PROCESO GESTIÓN DE LA INFRAESTRUCTURA VIAL
C6: MANUAL DE INTERVENTORÍA OBRA PUBLICA | K6: PÁGINA | L6: 1 | M6: DE | N6: 1
C8: ANALISIS DE PRECIOS UNITARIOS
K10: FECHA | L10: DD | M10: MM | N10: AA
L11: XXX | M11: XXX | N11: XXX
B12: ITEMS DE LA PROPUESTA ECONÓMICA | H12: ITEMS NO PREVISTOS
B13: UNIDAD EJECUTORA: | D13: XXXXXXXXXX | I13: DIRECCIÓN TERRITORIAL: | J13: XXXXXXXXXX
B19: CONTRATO No. | D19: XXXXXXXXXX | G19: DE | H19: XXXXXXXXXX
B20: OBJETO DEL CONTRATO | D20: MEJORAMIENTO, REHABILITACION Y MANTENIMIENTO, GESTION PREDIAL, SOCIAL Y AMBIENTAL SOSTENIBLE DE LA CARRETERA CUCUTA-SARDINATA-OCAÑA-AGUACLARA, INCLUYE EL NUEVO PUENTE SOBRE EL RIO ZULIA, EN EL DEPARTAMENTO DE NORTE DE SANTANDER, EN MARCO DEL PROGRAMA DE OBRA PUBLICA "CONCLUIR Y CONCLUIR PARA LA REACTIVACIÓN DE LAS REGIONES"
B23: CONTRATISTA : | D23: XXXXXXXXXX
B25: INTERVENTOR | D25: XXXXXXXXXX
B27: GESTOR TECNICO DE CONTRATO | E27: XXXXXXXXXX
B29: FECHA CIERRE DE LICITACIÓN Y/O SELECCIÓN ABREVIADA | G29: XXXXXXXXXX
B31: DATOS ESPECÍFICOS
B33: ITEM | C33: DESCRIPCIÓN | K33: GRUPO DE AJUSTE | L33: UNIDAD | N33: CANTIDAD
B34: 231.1 | C34: Geotextil para separación de suelos de subrasante y capas granulares | L34: m2 | N34: 2000
B35: I. EQUIPO
B36: I. EQUIPO
B38: DESCRIPCIÓN | G38: MARCA | I38: TIPO | K38: TARIFA/HORA | L38: RENDIMIENTO | N38: Vr. UNITARIO
B39: HERRAMIENTA MENOR (5%MO) | N39: 37.616667
N43: 37.616667
B44: II. MATERIALES
B45: II. MATERIALES
B47: DESCRIPCIÓN | J47: UNIDAD | K47: CANTIDAD | L47: PRECIO UNIT. | N47: Vr. UNITARIO
B48: GEOTEXTIL | J48: M2 | K48: 1.1 | L48: 4500 | N48: 4950
B53: SUBTOTAL $ | N53: 4950
B54: III. TRANSPORTES
B55: III. TRANSPORTES
B57: MATERIAL | I57: VOL. o PESO | J57: DISTANCIA | K57: M3 o Ton/Km | L57: TARIFA | N57: Vr. UNITARIO
N58: 0
B60: SUBTOTAL $ | N60: 0
B61: IV. MANO DE OBRA
B62: IV. MANO DE OBRA
B64: TRABAJADOR | I64: JORNAL | J64: PRESTACIONES | K64: JORNAL TOTAL | L64: RENDIMIENTO | N64: Vr. UNITARIO
B65: OBRERO (2) | I65: 64000 | J65: 1.85 | K65: 118400 | L65: 300 | N65: 394.66667
B66: OFICIAL (1) | I66: 58000 | J66: 1.85 | K66: 107300 | L66: 300 | N66: 357.66667
B69: SUBTOTAL $ | N69: 752.33333
...

Sheet 320.1P
K2: CÓDIGO | L2: MINFRA-MN-IN-10-FR-1
C3: INSTITUTO NACIONAL DE VIAS
C4: DIRECCION TECNICA | K4: VERSIÓN | L4: 2
C5: PROCESO GESTIÓN DE LA INFRAESTRUCTURA VIAL
C6: MANUAL DE INTERVENTORÍA OBRA PUBLICA | K6: PÁGINA | L6: 1 | M6: DE | N6: 1
C8: ANALISIS DE PRECIOS UNITARIOS
K10: FECHA | L10: DD | M10: MM | N10: AA
L11: XXX | M11: XXX | N11: XXX
B12: ITEMS DE LA PROPUESTA ECONÓMICA | H12: ITEMS NO PREVISTOS
B13: UNIDAD EJECUTORA: | D13: XXXXXXXXXX | I13: DIRECCIÓN TERRITORIAL: | J13: XXXXXXXXXX
B19: CONTRATO No. | D19: XXXXXXXXXX | G19: DE | H19: XXXXXXXXXX
B20: OBJETO DEL CONTRATO | D20: MEJORAMIENTO, REHABILITACION Y MANTENIMIENTO, GESTION PREDIAL, SOCIAL Y AMBIENTAL SOSTENIBLE DE LA CARRETERA CUCUTA-SARDINATA-OCAÑA-AGUACLARA, INCLUYE EL NUEVO PUENTE SOBRE EL RIO ZULIA, EN EL DEPARTAMENTO DE NORTE DE SANTANDER, EN MARCO DEL PROGRAMA DE OBRA PUBLICA "CONCLUIR Y CONCLUIR PARA LA REACTIVACIÓN DE LAS REGIONES"
B23: CONTRATISTA : | D23: XXXXXXXXXX
B25: INTERVENTOR | D25: XXXXXXXXXX
B27: GESTOR TECNICO DE CONTRATO | E27: XXXXXXXXXX
B29: FECHA CIERRE DE LICITACIÓN Y/O SELECCIÓN ABREVIADA | G29: XXXXXXXXXX
B31: DATOS ESPECÍFICOS
B33: ITEM | C33: DESCRIPCIÓN | K33: GRUPO DE AJUSTE | L33: UNIDAD | N33: CANTIDAD
B34: 320.1P | C34: Subbase Granular clase A (No incluye Transporte) | L34: m3 | N34: 2870
B35: I. EQUIPO
B38: DESCRIPCIÓN | G38: MARCA | I38: TIPO | K38: TARIFA/HORA | L38: RENDIMIENTO | N38: Vr. UNITARIO
B39: MOTONIVELADORA | K39: 190000 | L39: 40 | N39: 4750
B40: COMPACTADOR VIBRATORIO | K40: 110000 | L40: 40 | N40: 2750
B41: CARROTANQUE DE AGUA 1000 LITROS | K41: 88000 | L41: 40 | N41: 2200
B42: SUBTOTAL $ | N42: 9700
B43: II. MATERIALES
B46: DESCRIPCIÓN | J46: UNIDAD | K46: CANTIDAD | L46: PRECIO UNIT. | N46: Vr. UNITARIO
B47: MATERIAL DE SUBBASE CLASE A | J47: M3 | K47: 1.3 | L47: 40000 | N47: 52000
B49: SUBTOTAL $ | N49: 52000
B50: III. TRANSPORTES
B53: MATERIAL | I53: VOL. o PESO | J53: DISTANCIA | K53: M3 o Ton/Km | L53: TARIFA | N53: Vr. UNITARIO
B56: SUBTOTAL $ | N56: 0
B57: IV. MANO DE OBRA
B60: TRABAJADOR | I60: JORNAL | J60: PRESTACIONES | K60: JORNAL TOTAL | L60: RENDIMIENTO | N60: Vr. UNITARIO
B61: OBREROS (2) | I61: 64000 | J61: 1.85 | K61: 118400 | L61: 320 | N61: 370
B65: SUBTOTAL $ | N65: 370
B67: TOTAL COSTO DIRECTO $ | N67: 62070
B68: V. COSTOS INDIRECTOS
B71: Descripción | K71: Porcentaje | L71: Valor Total
B72: ADMINISTRACION | K72: 0.2 | L72: 12414
...

Sheet 320.4 P
K2: CÓDIGO | L2: MINFRA-MN-IN-10-FR-1
C3: INSTITUTO NACIONAL DE VIAS
C4: DIRECCION TECNICA | K4: VERSIÓN | L4: 2
C5: PROCESO GESTIÓN DE LA INFRAESTRUCTURA VIAL
C6: MANUAL DE INTERVENTORÍA OBRA PUBLICA | K6: PÁGINA | L6: 1 | M6: DE | N6: 1
C8: ANALISIS DE PRECIOS UNITARIOS
K10: FECHA | L10: DD | M10: MM | N10: AA
L11: XXX | M11: XXX | N11: XXX
B12: ITEMS DE LA PROPUESTA ECONÓMICA | H12: ITEMS NO PREVISTOS
B13: UNIDAD EJECUTORA: | D13: XXXXXXXXXX | I13: DIRECCIÓN TERRITORIAL: | J13: XXXXXXXXXX
B19: CONTRATO No. | D19: XXXXXXXXXX | G19: DE | H19: XXXXXXXXXX
B20: OBJETO DEL CONTRATO | D20: MEJORAMIENTO, REHABILITACION Y MANTENIMIENTO, GESTION PREDIAL, SOCIAL Y AMBIENTAL SOSTENIBLE DE LA CARRETERA CUCUTA-SARDINATA-OCAÑA-AGUACLARA, INCLUYE EL NUEVO PUENTE SOBRE EL RIO ZULIA, EN EL DEPARTAMENTO DE NORTE DE SANTANDER, EN MARCO DEL PROGRAMA DE OBRA PUBLICA "CONCLUIR Y CONCLUIR PARA LA REACTIVACIÓN DE LAS REGIONES"
B23: CONTRATISTA : | D23: XXXXXXXXXX
B25: INTERVENTOR | D25: XXXXXXXXXX
B27: GESTOR TECNICO DE CONTRATO | E27: XXXXXXXXXX
B29: FECHA CIERRE DE LICITACIÓN Y/O SELECCIÓN ABREVIADA | G29: XXXXXXXXXX
B31: DATOS ESPECÍFICOS
B33: ITEM | C33: DESCRIPCIÓN | K33: GRUPO DE AJUSTE | L33: UNIDAD | N33: CANTIDAD
B34: 320.4P | C34: Sub‐base granular para bacheo clase A (No incluye Transporte) | L34: m3 | N34: 91
B35: I. EQUIPO
B38: DESCRIPCIÓN | G38: MARCA | I38: TIPO | K38: TARIFA/HORA | L38: RENDIMIENTO | N38: Vr. UNITARIO
B39: VIBROCOMPACTADOR TIPO BENITIN. | K39: 75600 | L39: 4 | N39: 18900
B40: HERRAMIENTA MENOR (5%MO) | N40: 74
B42: SUBTOTAL $ | N42: 18974
B43: II. MATERIALES
B46: DESCRIPCIÓN | J46: UNIDAD | K46: CANTIDAD | L46: PRECIO UNIT. | N46: Vr. UNITARIO
B47: MATERIAL DE SUBBASE CLASE A | J47: M3 | K47: 1.3 | L47: 40000 | N47: 52000
B48: AGUA | J48: LT | K48: 30 | L48: 80 | N48: 2400
B49: SUBTOTAL $ | N49: 54400
B50: III. TRANSPORTES
B53: MATERIAL | I53: VOL. o PESO | J53: DISTANCIA | K53: M3 o Ton/Km | L53: TARIFA | N53: Vr. UNITARIO
B56: SUBTOTAL $ | N56: 0
B57: IV. MANO DE OBRA
B60: TRABAJADOR | I60: JORNAL | J60: PRESTACIONES | K60: JORNAL TOTAL | L60: RENDIMIENTO | N60: Vr. UNITARIO
B61: OBREROS (2) | I61: 64000 | J61: 1.85 | K61: 118400 | L61: 32 | N61: 3700
B65: SUBTOTAL $ | N65: 3700
B67: TOTAL COSTO DIRECTO $ | N67: 77074
B68: V. COSTOS INDIRECTOS
B71: Descripción | K71: Porcentaje | L71: Valor Total
B72: ADMINISTRACION | K72: 0.2 | L72: 15414.8
...

Sheet 330.1P
K2: CÓDIGO | L2: MINFRA-MN-IN-10-FR-1
C3: INSTITUTO NACIONAL DE VIAS
C4: DIRECCION TECNICA | K4: VERSIÓN | L4: 2
C5: PROCESO GESTIÓN DE LA INFRAESTRUCTURA VIAL
C6: MANUAL DE INTERVENTORÍA OBRA PUBLICA | K6: PÁGINA | L6: 1 | M6: DE | N6: 1
C8: ANALISIS DE PRECIOS UNITARIOS
K10: FECHA | L10: DD | M10: MM | N10: AA
L11: XXX | M11: XXX | N11: XXX
B12: ITEMS DE LA PROPUESTA ECONÓMICA | H12: ITEMS NO PREVISTOS
B13: UNIDAD EJECUTORA: | D13: XXXXXXXXXX | I13: DIRECCIÓN TERRITORIAL: | J13: XXXXXXXXXX
B19: CONTRATO No. | D19: XXXXXXXXXX | G19: DE | H19: XXXXXXXXXX
B20: OBJETO DEL CONTRATO | D20: MEJORAMIENTO, REHABILITACION Y MANTENIMIENTO, GESTION PREDIAL, SOCIAL Y AMBIENTAL SOSTENIBLE DE LA CARRETERA CUCUTA-SARDINATA-OCAÑA-AGUACLARA, INCLUYE EL NUEVO PUENTE SOBRE EL RIO ZULIA, EN EL DEPARTAMENTO DE NORTE DE SANTANDER, EN MARCO DEL PROGRAMA DE OBRA PUBLICA "CONCLUIR Y CONCLUIR PARA LA REACTIVACIÓN DE LAS REGIONES"
B23: CONTRATISTA : | D23: XXXXXXXXXX
B25: INTERVENTOR | D25: XXXXXXXXXX
B27: GESTOR TECNICO DE CONTRATO | E27: XXXXXXXXXX
B29: FECHA CIERRE DE LICITACIÓN Y/O SELECCIÓN ABREVIADA | G29: XXXXXXXXXX
B31: DATOS ESPECÍFICOS
B33: ITEM | C33: DESCRIPCIÓN | K33: GRUPO DE AJUSTE | L33: UNIDAD | N33: CANTIDAD
B34: 330.1P | C34: Base granular clase A (No incluye Transporte) | L34: m3 | N34: 2142
B35: I. EQUIPO
B38: DESCRIPCIÓN | G38: MARCA | I38: TIPO | K38: TARIFA/HORA | L38: RENDIMIENTO | N38: Vr. UNITARIO
B39: MOTONIVELADORA | K39: 190000 | L39: 30 | N39: 6333.3333
B40: COMPACTADOR VIBRATORIO | K40: 110000 | L40: 30 | N40: 3666.6667
B41: CARROTANQUE DE AGUA 1000 LITROS | K41: 88000 | L41: 30 | N41: 2933.3333
B42: SUBTOTAL $ | N42: 12933.333
B43: II. MATERIALES
B46: DESCRIPCIÓN | J46: UNIDAD | K46: CANTIDAD | L46: PRECIO UNIT. | N46: Vr. UNITARIO
B47: MATERIAL DE BASE PROCESADO EN PLANTA CLASE A | J47: M3 | K47: 1.3 | L47: 49000 | N47: 63700
B49: SUBTOTAL $ | N49: 63700
B50: III. TRANSPORTES
B53: MATERIAL | I53: VOL. o PESO | J53: DISTANCIA | K53: M3 o Ton/Km | L53: TARIFA | N53: Vr. UNITARIO
B56: SUBTOTAL $ | N56: 0
B57: IV. MANO DE OBRA
B60: TRABAJADOR | I60: JORNAL | J60: PRESTACIONES | K60: JORNAL TOTAL | L60: RENDIMIENTO | N60: Vr. UNITARIO
B61: OBREROS (2) | I61: 64000 | J61: 1.85 | K61: 118400 | L61: 240 | N61: 493.33333
B65: SUBTOTAL $ | N65: 493.33333
B67: TOTAL COSTO DIRECTO $ | N67: 77126.667
B68: V. COSTOS INDIRECTOS
B71: Descripción | K71: Porcentaje | L71: Valor Total
B72: ADMINISTRACION | K72: 0.2 | L72: 15425.333
...

Sheet 330.4P
K2: CÓDIGO | L2: MINFRA-MN-IN-10-FR-1
C3: INSTITUTO NACIONAL DE VIAS
C4: DIRECCION TECNICA | K4: VERSIÓN | L4: 2
C5: PROCESO GESTIÓN DE LA INFRAESTRUCTURA VIAL
C6: MANUAL DE INTERVENTORÍA OBRA PUBLICA | K6: PÁGINA | L6: 1 | M6: DE | N6: 1
C8: ANALISIS DE PRECIOS UNITARIOS
K10: FECHA | L10: DD | M10: MM | N10: AA
L11: XXX | M11: XXX | N11: XXX
B12: ITEMS DE LA PROPUESTA ECONÓMICA | H12: ITEMS NO PREVISTOS
B13: UNIDAD EJECUTORA: | D13: XXXXXXXXXX | I13: DIRECCIÓN TERRITORIAL: | J13: XXXXXXXXXX
B19: CONTRATO No. | D19: XXXXXXXXXX | G19: DE | H19: XXXXXXXXXX
B20: OBJETO DEL CONTRATO | D20: MEJORAMIENTO, REHABILITACION Y MANTENIMIENTO, GESTION PREDIAL, SOCIAL Y AMBIENTAL SOSTENIBLE DE LA CARRETERA CUCUTA-SARDINATA-OCAÑA-AGUACLARA, INCLUYE EL NUEVO PUENTE SOBRE EL RIO ZULIA, EN EL DEPARTAMENTO DE NORTE DE SANTANDER, EN MARCO DEL PROGRAMA DE OBRA PUBLICA "CONCLUIR Y CONCLUIR PARA LA REACTIVACIÓN DE LAS REGIONES"
B23: CONTRATISTA : | D23: XXXXXXXXXX
B25: INTERVENTOR | D25: XXXXXXXXXX
B27: GESTOR TECNICO DE CONTRATO | E27: XXXXXXXXXX
B29: FECHA CIERRE DE LICITACIÓN Y/O SELECCIÓN ABREVIADA | G29: XXXXXXXXXX
B31: DATOS ESPECÍFICOS
B33: ITEM | C33: DESCRIPCIÓN | K33: GRUPO DE AJUSTE | L33: UNIDAD | N33: CANTIDAD
B34: 330.4P | C34: Base granular para bacheo clase A (No incluye Transporte) | L34: m3 | N34: 61
B35: I. EQUIPO
B38: DESCRIPCIÓN | G38: MARCA | I38: TIPO | K38: TARIFA/HORA | L38: RENDIMIENTO | N38: Vr. UNITARIO
B39: VIBROCOMPACTADOR TIPO BENITIN. | K39: 75600 | L39: 4 | N39: 18900
B40: HERRAMIENTA MENOR (5%MO) | N40: 74
B42: SUBTOTAL $ | N42: 18974
B43: II. MATERIALES
B46: DESCRIPCIÓN | J46: UNIDAD | K46: CANTIDAD | L46: PRECIO UNIT. | N46: Vr. UNITARIO
B47: MATERIAL DE BASE PROCESADO EN PLANTA CLASE A | J47: M3 | K47: 1.3 | L47: 49000 | N47: 63700
B48: AGUA | J48: LT | K48: 30 | L48: 80 | N48: 2400
B49: SUBTOTAL $ | N49: 66100
B50: III. TRANSPORTES
B53: MATERIAL | I53: VOL. o PESO | J53: DISTANCIA | K53: M3 o Ton/Km | L53: TARIFA | N53: Vr. UNITARIO
B56: SUBTOTAL $ | N56: 0
B57: IV. MANO DE OBRA
B60: TRABAJADOR | I60: JORNAL | J60: PRESTACIONES | K60: JORNAL TOTAL | L60: RENDIMIENTO | N60: Vr. UNITARIO
B61: OBREROS (2) | I61: 64000 | J61: 1.85 | K61: 118400 | L61: 32 | N61: 3700
B65: SUBTOTAL $ | N65: 3700
B67: TOTAL COSTO DIRECTO $ | N67: 88774
B68: V. COSTOS INDIRECTOS
B71: Descripción | K71: Porcentaje | L71: Valor Total
B72: ADMINISTRACION | K72: 0.2 | L72: 17754.8
...

Sheet 420.2
K2: CÓDIGO | L2: MINFRA-MN-IN-10-FR-1
C3: INSTITUTO NACIONAL DE VIAS
C4: DIRECCION TECNICA | K4: VERSIÓN | L4: 2
C5: PROCESO GESTIÓN DE LA INFRAESTRUCTURA VIAL
C6: MANUAL DE INTERVENTORÍA OBRA PUBLICA | K6: PÁGINA | L6: 1 | M6: DE | N6: 1
C8: ANALISIS DE PRECIOS UNITARIOS
K10: FECHA | L10: DD | M10: MM | N10: AA
L11: XXX | M11: XXX | N11: XXX
B12: ITEMS DE LA PROPUESTA ECONÓMICA | H12: ITEMS NO PREVISTOS
B13: UNIDAD EJECUTORA: | D13: XXXXXXXXXX | I13: DIRECCIÓN TERRITORIAL: | J13: XXXXXXXXXX
B19: CONTRATO No. | D19: XXXXXXXXXX | G19: DE | H19: XXXXXXXXXX
B20: OBJETO DEL CONTRATO | D20: MEJORAMIENTO, REHABILITACION Y MANTENIMIENTO, GESTION PREDIAL, SOCIAL Y AMBIENTAL SOSTENIBLE DE LA CARRETERA CUCUTA-SARDINATA-OCAÑA-AGUACLARA, INCLUYE EL NUEVO PUENTE SOBRE EL RIO ZULIA, EN EL DEPARTAMENTO DE NORTE DE SANTANDER, EN MARCO DEL PROGRAMA DE OBRA PUBLICA "CONCLUIR Y CONCLUIR PARA LA REACTIVACIÓN DE LAS REGIONES"
B23: CONTRATISTA : | D23: XXXXXXXXXX
B25: INTERVENTOR | D25: XXXXXXXXXX
B27: GESTOR TECNICO DE CONTRATO | E27: XXXXXXXXXX
B29: FECHA CIERRE DE LICITACIÓN Y/O SELECCIÓN ABREVIADA | G29: XXXXXXXXXX
B31: DATOS ESPECÍFICOS
B33: ITEM | C33: DESCRIPCIÓN | K33: GRUPO DE AJUSTE | L33: UNIDAD | N33: CANTIDAD
B34: 420.2 | C34: Riego de imprimación con emulsión asfáltica CRL‐1 | L34: m2 | N34: 107400
B35: I. EQUIPO
B38: DESCRIPCIÓN | G38: MARCA | I38: TIPO
B39: CARROTANQUE IRRIGADOR DE ASFALTO | K39: 109000 | L39: 500 | N39: 218
B40: COMPRESOR (BARRIDO Y SOPLADO) | K40: 66000 | L40: 500 | N40: 132
B41: HERRAMIENTA MENOR (2%MO) | N41: 0.592
B42: SUBTOTAL $ | N42: 350.592
B43: II. MATERIALES
B46: DESCRIPCIÓN | J46: UNIDAD | K46: CANTIDAD | L46: PRECIO UNIT. | N46: Vr. UNITARIO
B47: EMULSION ASFALTICA CRL-1 | J47: LT | K47: 1 | L47: 1851 | N47: 1851
B48: AGUA | J48: LT | K48: 0.15 | L48: 80 | N48: 12
B49: SUBTOTAL $ | N49: 1863
B50: III. TRANSPORTES
B53: MATERIAL | I53: VOL. o PESO | J53: DISTANCIA | K53: M3 o Ton/Km | L53: TARIFA | N53: Vr. UNITARIO
N54: 0
B56: SUBTOTAL $ | N56: 0
B57: IV. MANO DE OBRA
B60: TRABAJADOR | I60: JORNAL | J60: PRESTACIONES | K60: JORNAL TOTAL | L60: RENDIMIENTO | N60: Vr. UNITARIO
B61: OBREROS (2) | I61: 64000 | J61: 1.85 | K61: 118400 | L61: 4000 | N61: 29.6
B65: SUBTOTAL $ | N65: 29.6
B67: TOTAL COSTO DIRECTO $ | N67: 2243.192
B68: V. COSTOS INDIRECTOS
...

Sheet 421.1
K2: CÓDIGO | L2: MINFRA-MN-IN-10-FR-1
C3: INSTITUTO NACIONAL DE VIAS
C4: DIRECCION TECNICA | K4: VERSIÓN | L4: 2
C5: PROCESO GESTIÓN DE LA INFRAESTRUCTURA VIAL
C6: MANUAL DE INTERVENTORÍA OBRA PUBLICA | K6: PÁGINA | L6: 1 | M6: DE | N6: 1
C8: ANALISIS DE PRECIOS UNITARIOS
K10: FECHA | L10: DD | M10: MM | N10: AA
L11: XXX | M11: XXX | N11: XXX
B12: ITEMS DE LA PROPUESTA ECONÓMICA | H12: ITEMS NO PREVISTOS
B13: UNIDAD EJECUTORA: | D13: XXXXXXXXXX | I13: DIRECCIÓN TERRITORIAL: | J13: XXXXXXXXXX
B19: CONTRATO No. | D19: XXXXXXXXXX | G19: DE | H19: XXXXXXXXXX
B20: OBJETO DEL CONTRATO | D20: MEJORAMIENTO, REHABILITACION Y MANTENIMIENTO, GESTION PREDIAL, SOCIAL Y AMBIENTAL SOSTENIBLE DE LA CARRETERA CUCUTA-SARDINATA-OCAÑA-AGUACLARA, INCLUYE EL NUEVO PUENTE SOBRE EL RIO ZULIA, EN EL DEPARTAMENTO DE NORTE DE SANTANDER, EN MARCO DEL PROGRAMA DE OBRA PUBLICA "CONCLUIR Y CONCLUIR PARA LA REACTIVACIÓN DE LAS REGIONES"
B23: CONTRATISTA : | D23: XXXXXXXXXX
B25: INTERVENTOR | D25: XXXXXXXXXX
B27: GESTOR TECNICO DE CONTRATO | E27: XXXXXXXXXX
B29: FECHA CIERRE DE LICITACIÓN Y/O SELECCIÓN ABREVIADA | G29: XXXXXXXXXX
B31: DATOS ESPECÍFICOS
B33: ITEM | C33: DESCRIPCIÓN | K33: GRUPO DE AJUSTE | L33: UNIDAD | N33: CANTIDAD
B34: 421.1 | C34: Riego de liga con emulsión asfáltica CRR-1 | L34: m2 | N34: 2270
B35: I. EQUIPO
B38: DESCRIPCIÓN | G38: MARCA | I38: TIPO
B39: CARROTANQUE IRRIGADOR DE ASFALTO | K39: 109000 | L39: 500 | N39: 218
B40: COMPRESOR (BARRIDO Y SOPLADO) | K40: 66000 | L40: 500 | N40: 132
B41: HERRAMIENTA MENOR (2%MO) | N41: 0.592
B42: SUBTOTAL $ | N42: 350.592
B43: II. MATERIALES
B46: DESCRIPCIÓN | J46: UNIDAD | K46: CANTIDAD | L46: PRECIO UNIT. | N46: Vr. UNITARIO
B47: EMULSION ASFALTICA CRR-1 | J47: LT | K47: 0.5 | L47: 2057 | N47: 1028.5
B48: AGUA | J48: LT | K48: 0.15 | L48: 80 | N48: 12
B49: SUBTOTAL $ | N49: 1040.5
B50: III. TRANSPORTES
B53: MATERIAL | I53: VOL. o PESO | J53: DISTANCIA | K53: M3 o Ton/Km | L53: TARIFA | N53: Vr. UNITARIO
N54: 0
B56: SUBTOTAL $ | N56: 0
B57: IV. MANO DE OBRA
B60: TRABAJADOR | I60: JORNAL | J60: PRESTACIONES | K60: JORNAL TOTAL | L60: RENDIMIENTO | N60: Vr. UNITARIO
B61: OBREROS (2) | I61: 64000 | J61: 1.85 | K61: 118400 | L61: 4000 | N61: 29.6
B65: SUBTOTAL $ | N65: 29.6
B67: TOTAL COSTO DIRECTO $ | N67: 1420.692
B68: V. COSTOS INDIRECTOS
...

Sheet 450.1P
K2: CÓDIGO | L2: MINFRA-MN-IN-10-FR-1
C3: INSTITUTO NACIONAL DE VIAS
C4: DIRECCION TECNICA | K4: VERSIÓN | L4: 2
C5: PROCESO GESTIÓN DE LA INFRAESTRUCTURA VIAL
C6: MANUAL DE INTERVENTORÍA OBRA PUBLICA | K6: PÁGINA | L6: 1 | M6: DE | N6: 1
C8: ANALISIS DE PRECIOS UNITARIOS
K10: FECHA | L10: DD | M10: MM | N10: AA
L11: XXX | M11: XXX | N11: XXX
B12: ITEMS DE LA PROPUESTA ECONÓMICA | H12: ITEMS NO PREVISTOS
B13: UNIDAD EJECUTORA: | D13: XXXXXXXXXX | I13: DIRECCIÓN TERRITORIAL: | J13: XXXXXXXXXX
B19: CONTRATO No. | D19: XXXXXXXXXX | G19: DE | H19: XXXXXXXXXX
B20: OBJETO DEL CONTRATO | D20: MEJORAMIENTO, REHABILITACION Y MANTENIMIENTO, GESTION PREDIAL, SOCIAL Y AMBIENTAL SOSTENIBLE DE LA CARRETERA CUCUTA-SARDINATA-OCAÑA-AGUACLARA, INCLUYE EL NUEVO PUENTE SOBRE EL RIO ZULIA, EN EL DEPARTAMENTO DE NORTE DE SANTANDER, EN MARCO DEL PROGRAMA DE OBRA PUBLICA "CONCLUIR Y CONCLUIR PARA LA REACTIVACIÓN DE LAS REGIONES"
B23: CONTRATISTA : | D23: XXXXXXXXXX
B25: INTERVENTOR | D25: XXXXXXXXXX
B27: GESTOR TECNICO DE CONTRATO | E27: XXXXXXXXXX
B29: FECHA CIERRE DE LICITACIÓN Y/O SELECCIÓN ABREVIADA | G29: XXXXXXXXXX
B31: DATOS ESPECÍFICOS
B33: ITEM | C33: DESCRIPCIÓN | K33: GRUPO DE AJUSTE | L33: UNIDAD | N33: CANTIDAD
B34: 450.1P | C34: Mezcla densa en caliente tipo MDC‐25 (No incluye Transporte) | L34: m3 | N34: 904
B35: I. EQUIPO
B38: DESCRIPCIÓN | G38: MARCA | I38: TIPO
B39: TERMINADORA DE ASFALTO | K39: 280000 | L39: 15 | N39: 18666.667
B40: COMPACTADOR VIBRATORIO | K40: 110000 | L40: 15 | N40: 7333.3333
B41: COMPACTADOR NEUMATICO | K41: 113000 | L41: 15 | N41: 7533.3333
B42: HERRAMIENTA MENOR (5%MO) | N42: 423.44444
B43: SUBTOTAL $ | N43: 33956.778
B44: II. MATERIALES
B47: DESCRIPCIÓN | J47: UNIDAD | K47: CANTIDAD | L47: PRECIO UNIT. | N47: Vr. UNITARIO
B48: MATERIAL MEZCLA DENSA MDC-25 | J48: M3 | K48: 1.25 | L48: 435000 | N48: 543750
B50: SUBTOTAL $ | N50: 543750
B51: III. TRANSPORTES
B54: MATERIAL | I54: VOL. o PESO | J54: DISTANCIA | K54: M3 o Ton/Km | L54: TARIFA | N54: Vr. UNITARIO
B57: SUBTOTAL $ | N57: 0
B58: IV. MANO DE OBRA
B61: TRABAJADOR | I61: JORNAL | J61: PRESTACIONES | K61: JORNAL TOTAL | L61: RENDIMIENTO | N61: Vr. UNITARIO
B62: OBREROS (8) | I62: 256000 | J62: 1.85 | K62: 473600 | L62: 90 | N62: 5262.2222
B63: RASTRILLEROS (2) | I63: 98000 | J63: 1.85 | K63: 181300 | L63: 90 | N63: 2014.4444
B64: OFICIAL (1) | I64: 58000 | J64: 1.85 | K64: 107300 | L64: 90 | N64: 1192.2222
B65: SUBTOTAL $ | N65: 8468.8889
B67: TOTAL COSTO DIRECTO $ | N67: 586175.67
...

Sheet 450.2 P
K2: CÓDIGO | L2: MINFRA-MN-IN-10-FR-1
C3: INSTITUTO NACIONAL DE VIAS
C4: DIRECCION TECNICA | K4: VERSIÓN | L4: 2
C5: PROCESO GESTIÓN DE LA INFRAESTRUCTURA VIAL
C6: MANUAL DE INTERVENTORÍA OBRA PUBLICA | K6: PÁGINA | L6: 1 | M6: DE | N6: 1
C8: ANALISIS DE PRECIOS UNITARIOS
K10: FECHA | L10: DD | M10: MM | N10: AA
L11: XXX | M11: XXX | N11: XXX
B12: ITEMS DE LA PROPUESTA ECONÓMICA | H12: ITEMS NO PREVISTOS
B13: UNIDAD EJECUTORA: | D13: XXXXXXXXXX | I13: DIRECCIÓN TERRITORIAL: | J13: XXXXXXXXXX
B19: CONTRATO No. | D19: XXXXXXXXXX | G19: DE | H19: XXXXXXXXXX
B20: OBJETO DEL CONTRATO | D20: MEJORAMIENTO, REHABILITACION Y MANTENIMIENTO, GESTION PREDIAL, SOCIAL Y AMBIENTAL SOSTENIBLE DE LA CARRETERA CUCUTA-SARDINATA-OCAÑA-AGUACLARA, INCLUYE EL NUEVO PUENTE SOBRE EL RIO ZULIA, EN EL DEPARTAMENTO DE NORTE DE SANTANDER, EN MARCO DEL PROGRAMA DE OBRA PUBLICA "CONCLUIR Y CONCLUIR PARA LA REACTIVACIÓN DE LAS REGIONES"
B23: CONTRATISTA : | D23: XXXXXXXXXX
B25: INTERVENTOR | D25: XXXXXXXXXX
B27: GESTOR TECNICO DE CONTRATO | E27: XXXXXXXXXX
B29: FECHA CIERRE DE LICITACIÓN Y/O SELECCIÓN ABREVIADA | G29: XXXXXXXXXX
B31: DATOS ESPECÍFICOS
B33: ITEM | C33: DESCRIPCIÓN | K33: GRUPO DE AJUSTE | L33: UNIDAD | N33: CANTIDAD
B34: 450.2P | C34: Mezcla densa en caliente Tipo MDC-19 (No incluye Transporte) | L34: m3 | N34: 6201
B35: I. EQUIPO
B38: DESCRIPCIÓN | G38: MARCA | I38: TIPO
B39: TERMINADORA DE ASFALTO | K39: 280000 | L39: 15 | N39: 18666.667
B40: COMPACTADOR VIBRATORIO | K40: 110000 | L40: 15 | N40: 7333.3333
B41: COMPACTADOR NEUMATICO | K41: 113000 | L41: 15 | N41: 7533.3333
B42: HERRAMIENTA MENOR (5%MO) | N42: 423.44444
B43: SUBTOTAL $ | N43: 33956.778
B44: II. MATERIALES
B47: DESCRIPCIÓN | J47: UNIDAD | K47: CANTIDAD | L47: PRECIO UNIT. | N47: Vr. UNITARIO
B48: MATERIAL MEZCLA DENSA MDC-19 | J48: M3 | K48: 1.25 | L48: 442000 | N48: 552500
B50: SUBTOTAL $ | N50: 552500
B51: III. TRANSPORTES
B54: MATERIAL | I54: VOL. o PESO | J54: DISTANCIA | K54: M3 o Ton/Km | L54: TARIFA | N54: Vr. UNITARIO
B57: SUBTOTAL $ | N57: 0
B58: IV. MANO DE OBRA
B61: TRABAJADOR | I61: JORNAL | J61: PRESTACIONES | K61: JORNAL TOTAL | L61: RENDIMIENTO | N61: Vr. UNITARIO
B62: OBREROS (8) | I62: 256000 | J62: 1.85 | K62: 473600 | L62: 90 | N62: 5262.2222
B63: RASTRILLEROS (2) | I63: 98000 | J63: 1.85 | K63: 181300 | L63: 90 | N63: 2014.4444
B64: OFICIAL (1) | I64: 58000 | J64: 1.85 | K64: 107300 | L64: 90 | N64: 1192.2222
B65: SUBTOTAL $ | N65: 8468.8889
B67: TOTAL COSTO DIRECTO $ | N67: 594925.67
...

Sheet 450.3P
K2: CÓDIGO | L2: MINFRA-MN-IN-10-FR-1
C3: INSTITUTO NACIONAL DE VIAS
C4: DIRECCION TECNICA | K4: VERSIÓN | L4: 2
C5: PROCESO GESTIÓN DE LA INFRAESTRUCTURA VIAL
C6: MANUAL DE INTERVENTORÍA OBRA PUBLICA | K6: PÁGINA | L6: 1 | M6: DE | N6: 1
C8: ANALISIS DE PRECIOS UNITARIOS
K10: FECHA | L10: DD | M10: MM | N10: AA
L11: XXX | M11: XXX | N11: XXX
B12: ITEMS DE LA PROPUESTA ECONÓMICA | H12: ITEMS NO PREVISTOS
B13: UNIDAD EJECUTORA: | D13: XXXXXXXXXX | I13: DIRECCIÓN TERRITORIAL: | J13: XXXXXXXXXX
B19: CONTRATO No. | D19: XXXXXXXXXX | G19: DE | H19: XXXXXXXXXX
B20: OBJETO DEL CONTRATO | D20: MEJORAMIENTO, REHABILITACION Y MANTENIMIENTO, GESTION PREDIAL, SOCIAL Y AMBIENTAL SOSTENIBLE DE LA CARRETERA CUCUTA-SARDINATA-OCAÑA-AGUACLARA, INCLUYE EL NUEVO PUENTE SOBRE EL RIO ZULIA, EN EL DEPARTAMENTO DE NORTE DE SANTANDER, EN MARCO DEL PROGRAMA DE OBRA PUBLICA "CONCLUIR Y CONCLUIR PARA LA REACTIVACIÓN DE LAS REGIONES"
B23: CONTRATISTA : | D23: XXXXXXXXXX
B25: INTERVENTOR | D25: XXXXXXXXXX
B27: GESTOR TECNICO DE CONTRATO | E27: XXXXXXXXXX
B29: FECHA CIERRE DE LICITACIÓN Y/O SELECCIÓN ABREVIADA | G29: XXXXXXXXXX
B31: DATOS ESPECÍFICOS
B33: ITEM | C33: DESCRIPCIÓN | K33: GRUPO DE AJUSTE | L33: UNIDAD | N33: CANTIDAD
B34: 450.3P | C34: Mezcla densa en caliente tipo MDC -19 modificada con polímeros tipo III (No incluye Transporte) | L34: m3 | N34: 571
B35: I. EQUIPO
B38: DESCRIPCIÓN | G38: MARCA | I38: TIPO
B39: TERMINADORA DE ASFALTO | K39: 280000 | L39: 15 | N39: 18666.667
B40: COMPACTADOR VIBRATORIO | K40: 110000 | L40: 15 | N40: 7333.3333
B41: COMPACTADOR NEUMATICO | K41: 113000 | L41: 15 | N41: 7533.3333
B42: HERRAMIENTA MENOR (5%MO) | N42: 423.44444
B43: SUBTOTAL $ | N43: 33956.778
B44: II. MATERIALES
B47: DESCRIPCIÓN | J47: UNIDAD | K47: CANTIDAD | L47: PRECIO UNIT. | N47: Vr. UNITARIO
B48: MEZCLA DENSA MDC-19 CON POLIMEROS TIPO III | J48: M3 | K48: 1.25 | L48: 552000 | N48: 690000
B50: SUBTOTAL $ | N50: 690000
B51: III. TRANSPORTES
B54: MATERIAL | I54: VOL. o PESO | J54: DISTANCIA | K54: M3 o Ton/Km | L54: TARIFA | N54: Vr. UNITARIO
B57: SUBTOTAL $ | N57: 0
B58: IV. MANO DE OBRA
B61: TRABAJADOR | I61: JORNAL | J61: PRESTACIONES | K61: JORNAL TOTAL | L61: RENDIMIENTO | N61: Vr. UNITARIO
B62: OBREROS (8) | I62: 256000 | J62: 1.85 | K62: 473600 | L62: 90 | N62: 5262.2222
B63: RASTRILLEROS (2) | I63: 98000 | J63: 1.85 | K63: 181300 | L63: 90 | N63: 2014.4444
B64: OFICIAL (1) | I64: 58000 | J64: 1.85 | K64: 107300 | L64: 90 | N64: 1192.2222
B65: SUBTOTAL $ | N65: 8468.8889
B67: TOTAL COSTO DIRECTO $ | N67: 732425.67
...

Sheet 450.10P
K2: CÓDIGO | L2: MINFRA-MN-IN-10-FR-1
C3: INSTITUTO NACIONAL DE VIAS
C4: DIRECCION TECNICA | K4: VERSIÓN | L4: 2
C5: PROCESO GESTIÓN DE LA INFRAESTRUCTURA VIAL
C6: MANUAL DE INTERVENTORÍA OBRA PUBLICA | K6: PÁGINA | L6: 1 | M6: DE | N6: 1
C8: ANALISIS DE PRECIOS UNITARIOS
K10: FECHA | L10: DD | M10: MM | N10: AA
L11: XXX | M11: XXX | N11: XXX
B12: ITEMS DE LA PROPUESTA ECONÓMICA | H12: ITEMS NO PREVISTOS
B13: UNIDAD EJECUTORA: | D13: XXXXXXXXXX | I13: DIRECCIÓN TERRITORIAL: | J13: XXXXXXXXXX
B19: CONTRATO No. | D19: XXXXXXXXXX | G19: DE | H19: XXXXXXXXXX
B20: OBJETO DEL CONTRATO | D20: MEJORAMIENTO, REHABILITACION Y MANTENIMIENTO, GESTION PREDIAL, SOCIAL Y AMBIENTAL SOSTENIBLE DE LA CARRETERA CUCUTA-SARDINATA-OCAÑA-AGUACLARA, INCLUYE EL NUEVO PUENTE SOBRE EL RIO ZULIA, EN EL DEPARTAMENTO DE NORTE DE SANTANDER, EN MARCO DEL PROGRAMA DE OBRA PUBLICA "CONCLUIR Y CONCLUIR PARA LA REACTIVACIÓN DE LAS REGIONES"
B23: CONTRATISTA : | D23: XXXXXXXXXX
B25: INTERVENTOR | D25: XXXXXXXXXX
B27: GESTOR TECNICO DE CONTRATO | E27: XXXXXXXXXX
B29: FECHA CIERRE DE LICITACIÓN Y/O SELECCIÓN ABREVIADA | G29: XXXXXXXXXX
B31: DATOS ESPECÍFICOS
B33: ITEM | C33: DESCRIPCIÓN | K33: GRUPO DE AJUSTE | L33: UNIDAD | N33: CANTIDAD
B34: 450.10P | C34: Mezcla densa en caliente Tipo MSC-25 para bacheos (No incluye Transporte) | L34: m3 | N34: 90
B35: I. EQUIPO
B38: DESCRIPCIÓN | G38: MARCA | I38: TIPO
B39: COMPACTADOR VIBRATORIO | K39: 110000 | L39: 8 | N39: 13750
B40: COMPACTADOR NEUMATICO | K40: 113000 | L40: 8 | N40: 14125
B41: HERRAMIENTA MENOR (5%MO) | N41: 608.95833
B42: SUBTOTAL $ | N42: 28483.958
B43: II. MATERIALES
B46: DESCRIPCIÓN | J46: UNIDAD | K46: CANTIDAD | L46: PRECIO UNIT. | N46: Vr. UNITARIO
B47: MEZCLA SEMIDENSA MSC-25 | J47: M3 | K47: 1.25 | L47: 435000 | N47: 543750
B48: EMULSIÓN ASFALTICA CRL-1 | J48: LT | K48: 12.5 | L48: 1851 | N48: 23137.5
B49: AGUA | J49: LT | K49: 4.17 | L49: 80 | N49: 333.6
B50: SUBTOTAL $ | N50: 567221.1
B51: III. TRANSPORTES
B54: MATERIAL | I54: VOL. o PESO | J54: DISTANCIA | K54: M3 o Ton/Km | L54: TARIFA | N54: Vr. UNITARIO
B57: SUBTOTAL $ | N57: 0
B58: IV. MANO DE OBRA
B61: TRABAJADOR | I61: JORNAL | J61: PRESTACIONES | K61: JORNAL TOTAL | L61: RENDIMIENTO | N61: Vr. UNITARIO
B62: OBREROS (5) | I62: 160000 | J62: 1.85 | K62: 296000 | L62: 48 | N62: 6166.6667
B63: RASTRILLEROS (2) | I63: 98000 | J63: 1.85 | K63: 181300 | L63: 48 | N63: 3777.0833
B64: OFICIAL (1) | I64: 58000 | J64: 1.85 | K64: 107300 | L64: 48 | N64: 2235.4167
B66: SUBTOTAL $ | N66: 12179.167
...

Sheet 460.1P
K2: CÓDIGO | L2: MINFRA-MN-IN-10-FR-1
C3: INSTITUTO NACIONAL DE VIAS
C4: DIRECCION TECNICA | K4: VERSIÓN | L4: 2
C5: PROCESO GESTIÓN DE LA INFRAESTRUCTURA VIAL
C6: MANUAL DE INTERVENTORÍA OBRA PUBLICA | K6: PÁGINA | L6: 1 | M6: DE | N6: 1
C8: ANALISIS DE PRECIOS UNITARIOS
K10: FECHA | L10: DD | M10: MM | N10: AA
L11: XXX | M11: XXX | N11: XXX
B12: ITEMS DE LA PROPUESTA ECONÓMICA | H12: ITEMS NO PREVISTOS
B13: UNIDAD EJECUTORA: | D13: XXXXXXXXXX | I13: DIRECCIÓN TERRITORIAL: | J13: XXXXXXXXXX
B19: CONTRATO No. | D19: XXXXXXXXXX | G19: DE | H19: XXXXXXXXXX
B20: OBJETO DEL CONTRATO | D20: MEJORAMIENTO, REHABILITACION Y MANTENIMIENTO, GESTION PREDIAL, SOCIAL Y AMBIENTAL SOSTENIBLE DE LA CARRETERA CUCUTA-SARDINATA-OCAÑA-AGUACLARA, INCLUYE EL NUEVO PUENTE SOBRE EL RIO ZULIA, EN EL DEPARTAMENTO DE NORTE DE SANTANDER, EN MARCO DEL PROGRAMA DE OBRA PUBLICA "CONCLUIR Y CONCLUIR PARA LA REACTIVACIÓN DE LAS REGIONES"
B23: CONTRATISTA : | D23: XXXXXXXXXX
B25: INTERVENTOR | D25: XXXXXXXXXX
B27: GESTOR TECNICO DE CONTRATO | E27: XXXXXXXXXX
B29: FECHA CIERRE DE LICITACIÓN Y/O SELECCIÓN ABREVIADA | G29: XXXXXXXXXX
B31: DATOS ESPECÍFICOS
B33: ITEM | C33: DESCRIPCIÓN | K33: GRUPO DE AJUSTE | L33: UNIDAD | N33: CANTIDAD
B34: 460.1P | C34: Fresado de pavimento asfaltico | L34: m3 | N34: 6964
B35: I. EQUIPO
B38: DESCRIPCIÓN | G38: MARCA | I38: TIPO | K38: TARIFA/HORA | L38: RENDIMIENTO
B39: FRESADORA DE PAVIMENTO | K39: 536500 | L39: 15 | N39: 35766.667
B40: BARREDORA MECANICA DE CEPILLO | K40: 69000 | L40: 15 | N40: 4600
B41: CARGADOR | K41: 150000 | L41: 15 | N41: 10000
B43: SUBTOTAL $ | N43: 50366.667
B44: II. MATERIALES
B47: DESCRIPCIÓN | J47: UNIDAD | K47: CANTIDAD | L47: PRECIO UNIT. | N47: Vr. UNITARIO
B48: DERECHOS DISPOSICION DE MATERIALES (INCLUYE CONFORMACIÓN Y COMPACTACIÓN DE SITIOS DE DISPOSICIÓN DE SOBRANTES) | J48: M3 | K48: 1.25 | L48: 1500 | N48: 1875
B50: SUBTOTAL $ | N50: 1875
B51: III. TRANSPORTES
B54: MATERIAL | I54: VOL. o PESO | J54: DISTANCIA | K54: M3 o Ton/Km | L54: TARIFA | N54: Vr. UNITARIO
B55: MATERIAL FRESADO | I55: 1.25 | J55: 10 | K55: 12.5 | L55: 904 | N55: 11300
B57: SUBTOTAL $ | N57: 11300
B58: IV. MANO DE OBRA
B61: TRABAJADOR | I61: JORNAL | J61: PRESTACIONES | K61: JORNAL TOTAL | L61: RENDIMIENTO | N61: Vr. UNITARIO
B62: OBREROS (2) | I62: 64000 | J62: 1.85 | K62: 118400 | L62: 120 | N62: 986.66667
B66: SUBTOTAL $ | N66: 986.66667
B68: TOTAL COSTO DIRECTO $ | N68: 64528.333
