Workbook
Name A: [2]PRECIOS!$J$61
Name A: #REF!
Name COD: #REF!
Name COD: #REF!
Name COD: #REF!
Name CODIGO: #REF!
Name CODIGO: #REF!
Name CODIGO: #REF!
Name CODIGOS: #REF!
Name CODIGOS: #REF!
Name CODIGOS: #REF!
Name ESTADO: #REF!
Name ESTADO: #REF!
Name ESTADO: #REF!
Name LUGAR: #REF!
Name LUGAR: #REF!
Name LUGAR: #REF!
Name ND: #REF!
Name ND: #REF!
Name ND: #REF!
Name O: [2]PRECIOS!$J$60
Name O: #REF!
Name P: [2]PRECIOS!$I$55
Name P: #REF!
Name TAB_GESTORES: #REF!
Name TAB_GESTORES: #REF!
Name TAB_GESTORES: #REF!
Name TAB_POS_FIN: #REF!
Name TAB_POS_FIN: #REF!
Name TAB_POS_FIN: #REF!
Name UBICACIONES: #REF!
Name UBICACIONES: #REF!
Name UBICACIONES: #REF!
Name UNIDADES: #REF!
Name UNIDADES: #REF!
Name UNIDADES: #REF!
Name VALIDADION_ENCABEZADO: [4]PLANTILLA_COMPROMETIDO!$AF$6:$AH$10
Name VALIDADION_ENCABEZADO: #REF!

Sheet PPTO VENT MECAN
A1: INSTITUTO NACIONAL DE MEDICINA LEGAL Y CIENCIAS FORENSE
A2: PRESUPUESTO DEL SISTEMA DE VENTILACION SALA AUXILIAR
A5: ITEM | B5: DESCRIPCIÓN | C5: UNIDAD | D5: CANT. | E5: VALOR UNITARIO | F5: VALOR TOTAL | H5: VR UNITARIO CON IVA | I5: VR TOTAL CON IVA
A6: CAPITULO SISTEMA DE INYECCION Y EXTRACCION EXTRACCIÒN | I6: =+SUBTOTAL(9,I7:I33) -> 63823102
A7: 1 | B7: Sistema de ventilacion mecanica (extraccion) con ventilador centrífugo de mínimo 1.500 CFM de un nivel sonoro dentro de la sala de necropsias máximo de 70 dB, con su respectivo banco de filtros con gran capacidad para el tratamiento de olores y retención de compuestos volátiles. El sistema de filtración consiste en: prefiltros pleat o similar para retención de particulas con una eficiencia de 30%, filtros de carbón activado tipo granular o peletizado para retención de olores y vapores con un tiempo de residencia no inferior a 0,05 segundos. El ventilador centrífugo debe tener la presión suficiente para mantener el caudal nominal con una saturación del banco de filtros que produzca una caida de presión en el sistema filtrante de 4 pulgadas de agua, mas las caidas de presión por la distancia y figuras de la ductería. El banco de filtros debe estar dotado de manómetros que nos indiquen la diferencia de presión entre areas de filtración en pulgadas de agua. La unidad debe pintarse del mismo color de las unidades existentes. Dentro del presupuesto se debe considerar una base soporte en angulo o pertfil cuadrado con la suficiente resistencia para soportar el equipo en operanción sin que se presente vibración. tambien se debe considerar dentro del presupuesto la construcciòn de una base soporte en concreto. | C7: unidad | D7: 1 | E7: 15680497 | F7: =D7*E7 -> 15680497 | H7: =+ROUND(E7*1.19,2) -> 18659791 | I7: =+D7*H7 -> 18659791
A8: 2 | B8: Ducto en lámina galvanizada 16X16 pulgadas, debidamente reforzados e instalados con sus respectiva soportería y acoplado a la unidad manejadora del item 1, Incluir templetes y soporteria necesaria para su instalaciòn. Debe incluirse al final del ducto y dentro del presupuesto un cuello de sisne con malla para eviar el ingreso de agua, materiales y aminales al interior del ducto | C8: Metros | D8: 6 | E8: 319058 | F8: =D8*E8 -> 1914348 | H8: =+ROUND(E8*1.19,2) -> 379679.02 | I8: =+D8*H8 -> 2278074.1
A9: 3 | B9: Ducto en lámina galvanizada 20X12 pulgadas, debidamente reforzados e instalados con sus respectiva soportería y acoplado a la unidad manejadora del item 1, Incluir las obras civiles con pasa muro, con sus respectivos resanes | C9: Metros | D9: 6 | E9: 319058 | F9: =D9*E9 -> 1914348 | H9: =+ROUND(E9*1.19,2) -> 379679.02 | I9: =+D9*H9 -> 2278074.1
A10: 4 | B10: Ducto en lámina galvanizada 14X12 pulgadas, debidamente reforzados e instalados con sus respectiva soportería y acoplado a la ducteria del item 2, Incluir las obras civiles con pasa muro, con sus respectivos resanes | C10: Metros | D10: 1.5 | E10: 259144 | F10: =D10*E10 -> 388716 | H10: =+ROUND(E10*1.19,2) -> 308381.36 | I10: =+D10*H10 -> 462572.04
A11: 5 | B11: Ducto en lámina galvanizada 12X10 pulgadas, debidamente reforzados e instalados con sus respectiva soportería y acoplado a la unidad manejadora del item 1, Incluir las obras civiles con pasa muro, con sus respectivos resanes | C11: Metros | D11: 1.5 | E11: 171912 | F11: =D11*E11 -> 257868 | H11: =+ROUND(E11*1.19,2) -> 204575.28 | I11: =+D11*H11 -> 306862.92
A12: 6 | B12: suministro e instalaciòn de codos 90° en lámina glavanizada para ducto 20X12 pulgadas vertical, debidamente acoplado a la ductería de la misma dimensión | C12: unidad | D12: 4 | E12: 446832 | F12: =D12*E12 -> 1787328 | H12: =+ROUND(E12*1.19,2) -> 531730.08 | I12: =+D12*H12 -> 2126920.3
A13: 7 | B13: suministro e instalaciòn de codos 90° en lámina glavanizada para ducto 20X12 pulgadas horizontal, debidamente acoplado a la ductería de la misma dimensión | C13: unidad | D13: 2 | E13: 446832 | F13: =D13*E13 -> 893664 | H13: =+ROUND(E13*1.19,2) -> 531730.08 | I13: =+D13*H13 -> 1063460.2
A14: 8 | B14: Suministro e instalaciòn de tramos de ducto de 1 metro en lámina galvanizada 12X12 pulgadas, acoplados a la ductería central debidamente reforzados e instalados con sus respectiva soportería a rejillas de la misma dimensión | C14: unidad | D14: 3 | E14: 187572 | F14: =D14*E14 -> 562716 | H14: =+ROUND(E14*1.19,2) -> 223210.68 | I14: =+D14*H14 -> 669632.04
A15: 9 | B15: Tapas finales de ducto en lámina galvanizada 12X10" | C15: unidad | D15: 1 | E15: 17400 | F15: =D15*E15 -> 17400 | H15: =+ROUND(E15*1.19,2) -> 20706 | I15: =+D15*H15 -> 20706
A16: 10 | B16: Reducción en lámina glavanizada para ducto 20X12 pulgadas a 14X12 pulgadas, debidamente acoplado a la ductería de las mismas dimensiones | C16: Metros | D16: 1 | E16: 319116 | F16: =D16*E16 -> 319116 | H16: =+ROUND(E16*1.19,2) -> 379748.04 | I16: =+D16*H16 -> 379748.04
A17: 11 | B17: Reducción en lámina glavanizada para ducto 14X12 pulgadas a 12X10 pulgadas, debidamente acoplado a la ductería de las mismas dimensiones | C17: Metros | D17: 1 | E17: 259260 | F17: =D17*E17 -> 259260 | H17: =+ROUND(E17*1.19,2) -> 308519.4 | I17: =+D17*H17 -> 308519.4
A18: 12 | B18: Dampers regulación de caudal en el tramo de ductería de 12X12 pulgadas | C18: Metros | D18: 3 | E18: 208800 | F18: =D18*E18 -> 626400 | H18: =+ROUND(E18*1.19,2) -> 248472 | I18: =+D18*H18 -> 745416
... A33: 27 | B33: Botonera de arranque y parada para control de las unidades manejadoras | C33: unidad | D33: 2 | E33: 400000 | F33: =D33*E33 -> 800000 | H33: =+ROUND(E33*1.19,2) -> 476000 | I33: =+D33*H33 -> 952000
A34: SUBTOTAL | F34: =SUM(F7:F33) -> 53632859
A35: CAPITULO MANTENIMIENTO SISTEMA DE EXTRACCIÒN E INYECCION SALA DE NECROPSIAS | I35: =+SUM(I36:I80) -> 51843735
A36: 1 | B36: Suministro e instalacion de banda de lona de salida de unidad manejadora del sistema de inyeccion de aire de la sala de necropsias que se acopla a ducto de 19X 12 pulgadas(lona de 65 pulgada X 10 pulgadas) incluye el cambio del pisa lona y tornilleria donde se requiera | C36: unidad | D36: 1 | E36: 180000 | F36: =D36*E36 -> 180000 | H36: =+ROUND(E36*1.19,2) -> 214200 | I36: =+D36*H36 -> 214200
A37: 2 | B37: Suministro e instalacion de banda de lona de salida de unidad manejadora del sistema de extracción de aire de la sala de necropsias que se acopla a ducto de 24X 17 pulgadas(lona de 85 pulgada X 12 pulgadas) incluye el cambio del pisa lona y tornilleria donde se requiera | C37: Metros | D37: 1 | E37: 180000 | F37: =D37*E37 -> 180000 | H37: =+ROUND(E37*1.19,2) -> 214200 | I37: =+D37*H37 -> 214200
A38: 3 | B38: Suministro e instalacion de banda de lona de entrada de unidad manejadora del sistema de extracción de aire de la sala de necropsias que se acopla a ducto de 20X 24 pulgadas(lona de 92 pulgada X 12 pulgadas) incluye el cambio del pisa lona y tornilleria donde se requiera | C38: Metros | D38: 1 | E38: 216000 | F38: =D38*E38 -> 216000 | H38: =+ROUND(E38*1.19,2) -> 257040 | I38: =+D38*H38 -> 257040
A39: 4 | B39: Suministro e instalacion de banda de lona de acople ventilador a ducto de descarga 18X24 pulgadas de unidad manejadora del sistema de extracción de aire de la sala de necropsias (lona de 92 pulgada X 12 pulgadas) incluye el suministro de pisa lona y tornilleria en el contorno de la boca del ventilador y del ducto de salida de la manejadora | C39: Metros | D39: 1 | E39: 216000 | F39: =D39*E39 -> 216000 | H39: =+ROUND(E39*1.19,2) -> 257040 | I39: =+D39*H39 -> 257040
A40: 5 | B40: Sellado de ducteria en general con sikaflex | C40: global | D40: 1 | E40: 200000 | F40: =D40*E40 -> 200000 | H40: =+ROUND(E40*1.19,2) -> 238000 | I40: =+D40*H40 -> 238000
A41: 6 | B41: Retiro de la ducteria ubicada sobre el vielo razo del sistema de extraccion e inyección de aire de la sala de necropsias | C41: global | D41: 1 | E41: 1800000 | F41: =D41*E41 -> 1800000 | H41: =+ROUND(E41*1.19,2) -> 2142000 | I41: =+D41*H41 -> 2142000
A42: 7 | B42: Resane de pasa muro del ducto de ingreso a sala de necropsias de de 24X20 pulgadas | C42: global | D42: 1 | E42: 480000 | F42: =D42*E42 -> 480000 | H42: =+ROUND(E42*1.19,2) -> 571200 | I42: =+D42*H42 -> 571200
A43: 8 | B43: Ducto en lámina galvanizada 24X16 pulgadas, debidamente reforzados e instalados con sus respectiva soportería y acoplado a la reduccion de la misma dimension, | C43: Metros | D43: 3.5 | E43: 398808 | F43: =D43*E43 -> 1395828 | H43: =+ROUND(E43*1.19,2) -> 474581.52 | I43: =+D43*H43 -> 1661035.3
A44: 9 | B44: Ducto en lámina galvanizada 24X10 pulgadas, debidamente reforzados e instalados con sus respectiva soportería y acoplado a la reduccion de la misma dimension y al ducto del item7 (en 2 tramos) | C44: Metros | D44: 9 | E44: 338991 | F44: =D44*E44 -> 3050919 | H44: =+ROUND(E44*1.19,2) -> 403399.29 | I44: =+D44*H44 -> 3630593.6
A45: 10 | B45: Ducto en lámina galvanizada 16X12 pulgadas, debidamente reforzados e instalados con sus respectiva soportería y acoplado al ducto del item 8, | C45: Metros | D45: 2 | E45: 279270 | F45: =D45*E45 -> 558540 | H45: =+ROUND(E45*1.19,2) -> 332331.3 | I45: =+D45*H45 -> 664662.6
A46: 11 | B46: Ducto en lámina galvanizada 16X10 pulgadas, debidamente reforzados e instalados con sus respectiva soportería y acoplado al ducto del item 8, | C46: Metros | D46: 3 | E46: 259260 | F46: =D46*E46 -> 777780 | H46: =+ROUND(E46*1.19,2) -> 308519.4 | I46: =+D46*H46 -> 925558.2
A47: 12 | B47: Ducto en lámina galvanizada 12X10 pulgadas, debidamente reforzados e instalados con sus respectiva soportería y acoplado al ducto del item 9, item 8 y al ducto existente que ingresa a la sala de necropsias (en 5 tramos) | C47: Metros | D47: 11 | E47: 171912 | F47: =D47*E47 -> 1891032 | H47: =+ROUND(E47*1.19,2) -> 204575.28 | I47: =+D47*H47 -> 2250328.1
... A80: 45 | B80: Sellar ventana tipo rejilla de 80X80 (en vidrio) | C80: unidad | D80: 1 | E80: 500000 | F80: =D80*E80 -> 500000 | H80: =+ROUND(E80*1.19,2) -> 595000 | I80: =+D80*H80 -> 595000
A81: SUBTOTAL | F81: =SUM(F36:F80) -> 43566164 | I81: =+D81*H81 -> 0
A82: SUB -TOTAL | F82: =F81+F34 -> 97199023 | I82: =+D82*H82 -> 0
A83: IVA 19% | F83: =F82*0.19 -> 18467814 | I83: =+D83*H83 -> 0
A84: TOTAL | F84: =F82+F83 -> 1.1566684e+08

Sheet PTAS VENTANAS
A1: =+#REF! -> #REF!
A2: COTIZACIONES PUERTAS, VENTANAS Y VIDRIOS
E3: SUPERVENTANAS COTIZACION 1 | I3: NELSON DAZA- COTIZACION 2
A4: ITEM | B4: DESCRIPCION | C4: UNIDAD | D4: CANTIDAD | E4: VR. UNITARIO | F4: VR TOTAL | G4: VR TOTAL CON TRANSPORTE E IVA | H4: VR M2 | I4: VR. UNITARIO | J4: VR TOTAL CON TRANSPORTE E IVA | K4: VR M2 | L4: PROMEDIO | M4: OBSERVACION
A5: =+PRESUPUESTO!B75 -> 13.1. | B5: =+PRESUPUESTO!C75 -> Suministro e instalación de puerta enrrollable eléctrica de fleje cerrado calibre 22 con pintura electrostática, operador hulk uso industrial, con botonera pesada de control, posibilidad de apertura manual, con dos (2) fotoceldas antiaplastamiento Tamaño del vano (paso libre) de 2.15 ancho x 2.35 alto. La altura libre del espacio es de 2.87 m. Plano No. 4 | C5: =+PRESUPUESTO!D75 -> UN | D5: =+PRESUPUESTO!E75 -> 1 | E5: 320000 | F5: 320000 | G5: =+F5*(1+F19) -> 383028.01 | H5: =+(G5/(0.9*0.8)) -> 531983.35 | I5: 354000 | J5: =+D5*I5 -> 354000 | K5: =+J5/(0.9*0.8) -> 491666.67 | L5: =+ROUND(AVERAGE(G5,J5),0) -> 368514
A6: =+PRESUPUESTO!B84 -> 14.6. | B6: =+PRESUPUESTO!C84 -> Tapa en lámina alfajor (trampa de grasas) de 1/8" doblada en "C" de 2.05 x 1.10 cm aprox. Dos compartimientos cada uno de dos hojas de 0.86 x 0.43 m aprox con contramarco de 1 1/4" espesor 3/16"embebido con uñas de anclaje; Cada hoja con dos bisagras de pistón laterales de apertura 180° cada hoja, manija soldada pibotadas sobrepuesta en la tapa, tapa luz en platina de 1" de 1/8", anticorrosivo y dos manos de pintura esmalte. Plano No. 8 | C6: =+PRESUPUESTO!D84 -> ML | D6: =+PRESUPUESTO!E84 -> 1 | E6: 5540869 | F6: =+D6*E6 -> 5540869 | G6: =+F6*(1+$F$19) -> 6632212.7 | H6: =+G6/(1.4*2.45) -> 1933589.7 | K6: =+D6*I6 -> 0 | L6: =+G6 -> 6632212.7
A7: =+PRESUPUESTO!B85 -> 14.7. | B7: =+PRESUPUESTO!C85 -> Arreglo de cerramiento y puerta vehicular en reja conformada por perfiles tubulares 76 x 38 mm, ángulos 60 x 40 mm altura 2,15 m Incluye cambio de perfiles y angulos corroidos, cambio de rodamientos y ruedas de pista, cambio de topes, anclajes y cualquier elemento corroido para dejar en correcto estado de funcionamiento | C7: =+PRESUPUESTO!D85 -> M2 | D7: =+PRESUPUESTO!E85 -> 52 | E7: 5791257 | F7: =+D7*E7 -> 301145364 | G7: =+F7*(1+$F$19) -> 3.6045972e+08 | H7: =+G7/(1.5*2.45) -> 98084278 | K7: =+D7*I7 -> 0 | L7: =+G7 -> 3.6045972e+08
K8: =+D8*I8 -> 0
A9: =+PRESUPUESTO!B76 -> 13.2. | B9: =+PRESUPUESTO!C76 -> Suministro e instalación de puerta automatica sencilla de 1 hoja corrediza lateral en vidrio laminado 5+5 templado con PVB color hielo, operador (Componente de automatismo de la puerta: motor, programación, carros deslizantes, riel, baterias, tarjeta electrónica, pestillo (Seguro) electromecánico, banda deslizante, correas, poleas, ets.), zocalos inferior y superior en aluminio, con sensores de movimiento de entrada y salida, fotoceldas de seguridad, baterías de respaldo, dos controles remotos, selector de llave de cuatro posiciones. Tamaño Vano (paso libre) ancho 1.50 m y alto 2.35 m. Acceso morgue. Plano No. 5 | K9: =+D9*I9 -> 0
B10: 1.50 X 0.80 M = 1.20 M2 (2 UND) | C10: UN | D10: 2 | E10: 216000 | F10: =+D10*E10 -> 432000 | G10: =+F10*(1+$F$19) -> 517087.82 | H10: =+G10/(2*1.5*0.8) -> 215453.26 | I10: =264000/2 -> 132000 | J10: =+D10*I10 -> 264000 | K10: =+J10/(2*1.5*0.8) -> 110000 | L10: =+AVERAGE(K10) -> 110000 | M10: NO SE UTILIZA EL PROMEDIO YA QUE LOS VALORES DE SUPERVENTANAS ESTAN FUERA DE MERCADO
B11: 1,50 X 0,30 M= 0.45 M2 (2 UND) | C11: UN | D11: 2 | E11: 81000 | F11: =+D11*E11 -> 162000 | G11: =+F11*(1+$F$19) -> 193907.93 | H11: =+G11/(2*0.45) -> 215453.26 | I11: 49500 | J11: =+D11*I11 -> 99000 | K11: =+J11/(2*1.5*0.3) -> 110000 | L11: =+AVERAGE(K11) -> 110000
B12: 0.85 X 0.30 M = 0.26 M2 (1 UND) | C12: UN | D12: 1 | E12: 45900 | F12: =+D12*E12 -> 45900 | G12: =+F12*(1+$F$19) -> 54940.581 | H12: =+G12/0.26 -> 211309.93 | I12: =56100/2 -> 28050 | J12: =+D12*I12 -> 28050 | K12: =+J12/(0.85*0.3) -> 110000 | L12: =+AVERAGE(K12) -> 110000
B14: SUBTOTAL SIN TRANSPORTE | F14: =+SUM(F5:F12) -> 307646133
B15: TRANSPORTE | F15: 1800000
B16: SOBTOTAL | F16: =+F14+F15 -> 309446133
B17: IVA | C17: 0.19 | F17: =+F16*C17 -> 58794765
B18: TOTAL | F18: =+F16+F17 -> 3.682409e+08 | G18: =+SUM(G4:G12) -> 3.682409e+08 | J18: =+SUM(J5:J12) -> 745050
F19: =+F18/F14-1 -> 0.19696254
A22: ITEM | B22: DESCRIPCION | C22: UNIDAD | D22: CANTIDAD | E22: R & R AUTOMATISMOS SAS COTIZACION 3 | I22: IVEGAS SAS COTIZACION 4 | L22: PROMEDIO | M22: OBSERVACION
A23: =+PRESUPUESTO!B77 -> 13.3. | B23: =+PRESUPUESTO!C77 -> Suministro e instalacion de división en vidrio templado 10 mm altura 2.10 m soportada en postes de acero inoxidable 2.5" anclados con brida y chazos expansivos a piso y muros. Incluye soporte de vidrios en acero inoxidable, puerta de hoja sencilla en vidrio templado 10 mm soportada sobre poste en acero inoxidable 2.5 "con bisagra evolvente, con portacerradura y cerradura de palanca Yale o Schlage. Recepción clínica. Palno No. 6 | C23: =+PRESUPUESTO!D77 -> M2 | D23: 1 | E23: 15288644 | F23: =+D23*E23 -> 15288644 | G23: =+F23 -> 15288644 | I23: 19924170 | J23: =+D23*I23 -> 19924170 | L23: =+AVERAGE(G23,J23) -> 17606407
A24: ITEM | B24: DESCRIPCION | C24: UNIDAD | D24: CANTIDAD | E24: R & R AUTOMATISMOS SAS COTIZACION 5 | I24: COINTERACEROS SAS COTIZACION 6 | L24: PROMEDIO | M24: OBSERVACION
A25: =+PRESUPUESTO!B86 -> 14.8. | B25: =+PRESUPUESTO!C86 -> Suministro e instalacion de baranda protectora en acero inoxidable largo 1.60 x 1.20 alto marrco 1 1/2" cal 16 y verticales en 3/4" ; Incluye soportes acero inoxidable para fijar en muro y piso. Plano No. 9. Acceso Morgue | C25: =+PRESUPUESTO!D86 -> UN | D25: =+PRESUPUESTO!E86 -> 1 | E25: 1380000 | F25: =+D25*E25 -> 1380000 | G25: =+F25*1.19 -> 1642200 | I25: 1200000 | J25: 1428000 | L25: =+AVERAGE(G25,J25) -> 1535100

Sheet ENCHAPES
A1: =+#REF! -> #REF!
A2: CANTIDADES DE ENCHAPES
D4: POCETAS ASEO | G4: COCINETA | J4: VESTIER HOMBRES | M4: VESTIER MUJERES | P4: TOTAL | Q4: FC | R4: TOTAL | S4: NOTAS
A5: N° | B5: TULUA | C5: UND | D5: PERIMETRO | E5: ALTURA | F5: TOTAL | G5: PERIMETRO | H5: ALTURA | I5: TOTAL | J5: PERIMETRO | K5: ALTURA | L5: TOTAL | M5: PERIMETRO | N5: ALTURA | O5: TOTAL
A7: =+PRESUPUESTO!B62 -> 10.1. | B7: =+PRESUPUESTO!C62 -> Conformación de poceta de aseo enchapada interior y exteriormente en ceramica Boticino blanco 45 x 45 cm o similar. Incluye pegante tipo pegacor y filos con win de aluminio | C7: =+PRESUPUESTO!D62 -> UN | F7: 2 | I7: =+ROUND(G7*H7,2) -> 0 | L7: =+ROUND(J7*K7,2) -> 0 | O7: =+ROUND(M7*N7,2) -> 0 | P7: =+F7+I7+L7+O7 -> 2 | Q7: 1 | R7: =+P7*Q7 -> 2
A8: =+PRESUPUESTO!B63 -> 10.2. | B8: =+PRESUPUESTO!C63 -> Suministro e instalación de ceramica Boticino Blanco 45 x 45 cm o similar incluye pegante tipo pegacor y boquilla (vestier hombres y mujeres y cocineta) | C8: =+PRESUPUESTO!D63 -> M2 | G8: =3.36+0.57+0.57 -> 4.5 | H8: 0.7 | I8: =+ROUND(G8*H8,2) -> 3.15 | J8: 18.7 | K8: 2.33 | L8: =+ROUND(J8*K8,2) -> 43.57 | M8: 18.7 | N8: 2.33 | O8: =+ROUND(M8*N8,2) -> 43.57 | P8: =+F8+I8+L8+O8 -> 90.29 | Q8: 1.1 | R8: =+ROUND(P8*Q8,0) -> 99

Sheet FLANCHES
A1: =+#REF! -> #REF!
A2: CANTIDADES DE FLANCHES
D4: ZONA 1-1 | G4: ZONA 1-2 | J4: ZONA 1-3 | M4: ZONA 2-1 | P4: TOTAL | Q4: FC | R4: TOTAL CON FC | S4: NOTAS
A5: N° | B5: TULUA | C5: UND | D5: LONGITUD | E5: ALTURA | F5: TOTAL | G5: LONGITUD | H5: ALTURA | I5: TOTAL | J5: LONGITUD | K5: ALTURA | L5: TOTAL | M5: LONGITUD | N5: ALTURA | O5: TOTAL
A7: =+PRESUPUESTO!B80 -> 14.2. | B7: =+PRESUPUESTO!C80 -> Suministro e instalación de flanches en lamina galvanizada cal 24, desarrollo 22.5 cm (2.5 - 15 - 5 cm) , incluye anclaje superior y lateral con tornillo cabeza hexagonal con arandela y empaque de neopreno punta broca 10 x 1 1/2" cada 30 cms. Incluye desmonte de flanches existentes (Zona 1-1, Zona 1-2 , Zona 1-3 y Zona 2-1) Plano No. 7 | C7: =+PRESUPUESTO!D80 -> ML | D7: =3.61+3.17+2.71+1.81+4.19+1.23 -> 16.72 | F7: =+D7 -> 16.72 | G7: 13.21 | I7: =+G7 -> 13.21 | J7: 7.23 | L7: =+J7 -> 7.23 | M7: =3.6+3.17+2.71 -> 9.48 | O7: =+M7 -> 9.48 | P7: =+F7+I7+L7+O7 -> 46.64 | Q7: 1.1 | R7: =+ROUND(P7*Q7,0) -> 51
A8: =+PRESUPUESTO!B81 -> 14.3. | B8: =+PRESUPUESTO!C81 -> Suministro e instalación de flanches en lamina galvanizada cal 24 desarrollo entre 0,45 y 1.00 m. incluye anclajes con tornillo cabeza hexagonal con arandela y empaque de neopreno punta broca 10 x 1 1/2" cada 30 cms. Incluye desmonte de flanches existentes (Zona 1-1) Plano No. 7 | C8: =+PRESUPUESTO!D81 -> ML | D8: =3.61+3.17+2.71+1.81+4.19+1.23 -> 16.72 | F8: =+D8 -> 16.72 | I8: =+G8 -> 0 | L8: =+J8 -> 0 | O8: =+M8 -> 0 | P8: =+F8+I8+L8+O8 -> 16.72 | Q8: 1.1 | R8: =+ROUND(P8*Q8,0) -> 18
A9: =+PRESUPUESTO!B82 -> 14.4. | B9: =+PRESUPUESTO!C82 -> Suministro e instalación de flanches en lamina galvanizada cal 24, desarrollo 1.05 a 1.65 m, incluye anclajes con tornillo cabeza hexagonal con arandela y empaque de neopreno punta broca 10 x 1 1/2" cada 30 cms. Incluye desmonte de flanches existentes (Zona 1-2 , Zona 1-3 y Zona 2-1) Plano No. 7. | C9: =+PRESUPUESTO!D82 -> ML | F9: =+D9 -> 0 | G9: =10.69+2.52 -> 13.21 | I9: =+G9 -> 13.21 | J9: =1.81+4.19+1.23 -> 7.23 | L9: =+J9 -> 7.23 | M9: =3.6+3.17+2.71 -> 9.48 | O9: =+M9 -> 9.48 | P9: =+F9+I9+L9+O9 -> 29.92 | Q9: 1.1 | R9: =+ROUND(P9*Q9,0) -> 33

Sheet FORMATO OFERTA ECONOMICA
C3: Formulario 1 - Propuesta económica - Licitación de obra pública de infraestructura social
C4: Código | D4: CCE-EICP-FM-116 | E4: Versión
C6: FORMATO DE OFERTA ECONOMICA - LOTE 2 CARTAGENA
C8: Nº | D8: ÍTEM DE PAGO | E8: ESPECIFICACIONES | F8: DESCRIPCIÓN | G8: UND. | H8: CANTIDAD | I8: VALOR UNITARIO | J8: VALOR TOTAL
E9: GENERAL
C10: I | F10: PRELIMINARES
C11: 1.1 | F11: Demolición de acabado de piso en enchape cerámico, epóxico o tablón de gres y afinado hasta de 10 cm. (VER ANEXO TÉCNICO). | G11: M2 | H11: 70 | I11: 21959 | J11: =+H11*I11 -> 1537130 | M11: Demolición de acabado de piso en enchape cerámico, epóxico o tablón de gres y afinado hasta de 10 cm. (VER ANEXO TÉCNICO). | N11: TRUE | O11: M2 | P11: TRUE | Q11: 70 | R11: TRUE
C12: 1.2 | F12: Desmonte de aparatos sanitarios (sanitario y orinales). (VER ANEXO TÉCNICO). | G12: UND | H12: 18 | I12: 35140 | J12: =+H12*I12 -> 632520 | M12: Desmonte de aparatos sanitarios (sanitario y orinales). (VER ANEXO TÉCNICO). | N12: TRUE | O12: UND | P12: TRUE | Q12: 18 | R12: TRUE
C13: 1.3 | F13: Desmonte de divisiones de baño en lámina metálica. (VER ANEXO TÉCNICO). | G13: M2 | H13: 21 | I13: 19119 | J13: =+H13*I13 -> 401499 | M13: Desmonte de divisiones de baño en lámina metálica. (VER ANEXO TÉCNICO). | N13: TRUE | O13: M2 | P13: TRUE | Q13: 20 | R13: FALSE
C14: 1.4 | F14: Demolición de pañete y terminado de muro en sitios afectados por humedad hasta encontrar mampostería (VER ANEXO TÉCNICO). | G14: M2 | H14: 95 | I14: 19391 | J14: =+H14*I14 -> 1842145 | M14: Demolición de pañete y terminado de muro en sitios afectados por humedad hasta encontrar mampostería (VER ANEXO TÉCNICO). | N14: TRUE | O14: M2 | P14: TRUE | Q14: 95 | R14: TRUE
C15: 1.5 | F15: Regatas para instalación de puntos hidráulicos, sanitarios y/o eléctricos (VER ANEXO TÉCNICO). | G15: ML | H15: 15 | I15: 9415 | J15: =+H15*I15 -> 141225 | M15: Regatas para instalación de puntos hidráulicos, sanitarios y/o eléctricos (VER ANEXO TÉCNICO). | N15: TRUE | O15: ML | P15: TRUE | Q15: 15 | R15: TRUE
C16: 1.6 | F16: Desmonte de cielorraso en superboard, fibra mineral, PVC, madera o láminas metálicas, incluye desmonte de elementos de estructura de cielorraso (VER ANEXO TÉCNICO). | G16: M2 | H16: 70 | I16: 22349 | J16: =+H16*I16 -> 1564430 | M16: Desmonte de cielorraso en superboard, fibra mineral, PVC, madera o láminas metálicas, incluye desmonte de elementos de estructura de cielorraso (VER ANEXO TÉCNICO). | N16: TRUE | O16: M2 | P16: TRUE | Q16: 70 | R16: TRUE
C17: 1.7 | F17: Desmonte de guarda camillas, incluye el desmonte de todos los componentes (VER ANEXO TÉCNICO). | G17: ML | H17: 35 | I17: 5137 | J17: =+H17*I17 -> 179795 | M17: Desmonte de guarda camillas, incluye el desmonte de todos los componentes (VER ANEXO TÉCNICO). | N17: TRUE | O17: ML | P17: TRUE | Q17: 35 | R17: TRUE
C18: 1.8 | F18: Desmonte, adecuación y reinstalación de mesas de necropsias (VER ANEXO TÉCNICO). | G18: UND | H18: 4 | I18: 295278 | J18: =+H18*I18 -> 1181112 | M18: Desmonte, adecuación y reinstalación de mesas de necropsias (VER ANEXO TÉCNICO). | N18: TRUE | O18: UND | P18: TRUE | Q18: 4 | R18: TRUE
C19: 1.9 | F19: Desmonte y reinstalación de puertas o ventanas. (VER ANEXO TÉCNICO). | G19: UND | H19: 20 | I19: 74139 | J19: =+H19*I19 -> 1482780 | M19: Desmonte y reinstalación de puertas o ventanas. (VER ANEXO TÉCNICO). | N19: TRUE | O19: UND | P19: TRUE | Q19: 20 | R19: TRUE
C20: 1.10 | F20: Retiro de membrana impermeabilizante existente, incluye retiro de todos los elementos que conforman la estructura de la misma (VER ANEXO TÉCNICO). | G20: M2 | H20: 310 | I20: 14569 | J20: =+H20*I20 -> 4516390 | M20: Retiro de membrana impermeabilizante existente, incluye retiro de todos los elementos que conforman la estructura de la misma (VER ANEXO TÉCNICO). | N20: TRUE | O20: M2 | P20: TRUE | Q20: 310 | R20: TRUE
C21: 1.11 | F21: Demolición de piso existente, incluye demolición de mortero de nivelación hasta encontrar placa estructural (VER ANEXO TÉCNICO). | G21: M2 | H21: 60 | I21: 36234 | J21: =+H21*I21 -> 2174040 | M21: Demolición de piso existente, incluye demolición de mortero de nivelación hasta encontrar placa estructural (VER ANEXO TÉCNICO). | N21: TRUE | O21: M2 | P21: TRUE | Q21: 60 | R21: TRUE
C22: 1.12 | F22: Desmonte, almacenaje y reinstalación de mobiliario y equipos existentes, (VER ANEXO TÉCNICO). | G22: M2 | H22: 35 | I22: 21987 | J22: =+H22*I22 -> 769545 | M22: Desmonte, almacenaje y reinstalación de mobiliario y equipos existentes, (VER ANEXO TÉCNICO). | N22: TRUE | O22: M2 | P22: TRUE | Q22: 35 | R22: TRUE
... C24: 1.14 | F24: Desmonte y limpieza de láminas de cielorraso en fibra mineral. (VER ANEXO TÉCNICO). | G24: M2 | H24: 7 | I24: 9885 | J24: =+H24*I24 -> 69195 | M24: Desmonte y limpieza de láminas de cielorraso en fibra mineral. (VER ANEXO TÉCNICO). | N24: TRUE | O24: M2 | P24: TRUE | Q24: 7 | R24: TRUE
C25: II | F25: INSTALACIONES HIDROSANITARIAS | M25: INSTALACIONES HIDROSANITARIAS | N25: TRUE | O25: 0 | P25: TRUE | Q25: 0 | R25: TRUE
C26: 2.1 | F26: Punto Sanitario de 2", incluye tubería hasta 1,50 m, accesorios PVC (VER ANEXO TÉCNICO). | G26: UND | H26: 4 | I26: 127809 | J26: =+H26*I26 -> 511236 | M26: Punto Sanitario de 2", incluye tubería hasta 1,50 m, accesorios PVC (VER ANEXO TÉCNICO). | N26: TRUE | O26: UND | P26: TRUE | Q26: 4 | R26: TRUE
C27: 2.2 | F27: Tubería PVC-sanitaria ∅2", incluye tubería PVC, accesorios PVC (VER ANEXO TÉCNICO). | G27: ML | H27: 20 | I27: 27673 | J27: =+H27*I27 -> 553460 | M27: Tubería PVC-sanitaria ∅2", incluye tubería PVC, accesorios PVC (VER ANEXO TÉCNICO). | N27: TRUE | O27: ML | P27: TRUE | Q27: 20 | R27: TRUE
C28: 2.3 | F28: Punto agua fría de ∅1/2", incluye tubería hasta 1,5 m, accesorios de PVC (VER ANEXO TÉCNICO). | G28: UND | H28: 5 | I28: 26889 | J28: =+H28*I28 -> 134445 | M28: Punto agua fría de ∅1/2", incluye tubería hasta 1,5 m, accesorios de PVC (VER ANEXO TÉCNICO). | N28: TRUE | O28: UND | P28: TRUE | Q28: 4 | R28: FALSE
C29: 2.4 | F29: Red agua fría PVC presión ∅1/2", Incluye tubería de PVC RDE 9, accesorios de PVC (VER ANEXO TÉCNICO). | G29: ML | H29: 15 | I29: 26122 | J29: =+H29*I29 -> 391830 | M29: Red agua fría PVC presión ∅1/2", Incluye tubería de PVC RDE 9, accesorios de PVC (VER ANEXO TÉCNICO). | N29: TRUE | O29: ML | P29: TRUE | Q29: 15 | R29: TRUE
C30: 2.5 | F30: Registro PVC 1/2" (Válvula 235 PSI) tipo pesado (VER ANEXO TÉCNICO). | G30: UND | H30: 4 | I30: 46192 | J30: =+H30*I30 -> 184768 | M30: Registro PVC 1/2" (Válvula 235 PSI) tipo pesado (VER ANEXO TÉCNICO). | N30: TRUE | O30: UND | P30: TRUE | Q30: 4 | R30: TRUE
C31: 2.6 | F31: Sondeo de punto sanitario y/o desagüe con sonda eléctrica (VER ANEXO TÉCNICO). | G31: UND. | H31: 18 | I31: 45705 | J31: =+H31*I31 -> 822690 | M31: Sondeo de punto sanitario y/o desagüe con sonda eléctrica (VER ANEXO TÉCNICO). | N31: TRUE | O31: UND. | P31: TRUE | Q31: 18 | R31: TRUE
C32: III | F32: MUROS, PAÑETES Y ENCHAPES | M32: MUROS, PAÑETES Y ENCHAPES | N32: TRUE | O32: 0 | P32: TRUE | Q32: 0 | R32: TRUE
C33: 3.1 | F33: Pañete liso impermeabilizado 1:3, (VER ANEXO TÉCNICO). | G33: M2 | H33: 87 | I33: 52600 | J33: =+H33*I33 -> 4576200 | M33: Pañete liso impermeabilizado 1:3, (VER ANEXO TÉCNICO). | N33: TRUE | O33: M2 | P33: TRUE | Q33: 87 | R33: TRUE
C34: 3.2 | F34: Cambio de piezas rotas o en mal estado en enchape cerámico (piso-pared) homologando caracteristicas existentes (VER ANEXO TÉCNICO). | G34: UN | H34: 20 | I34: 24146 | J34: =+H34*I34 -> 482920 | M34: Cambio de piezas rotas o en mal estado en enchape cerámico (piso-pared) homologando caracteristicas existentes (VER ANEXO TÉCNICO). | N34: TRUE | O34: UN | P34: TRUE | Q34: 20 | R34: TRUE
C35: 3.3 | F35: Mantenimiento y renovación de mesones de lavamanos en material pétreo 0,60 m de ancho (VER ANEXO TÉCNICO). | G35: ML | H35: 10 | I35: 167775 | J35: =+H35*I35 -> 1677750 | M35: Mantenimiento y renovación de mesones de lavamanos en material pétreo 0,60 m de ancho (VER ANEXO TÉCNICO). | N35: TRUE | O35: ML | P35: TRUE | Q35: 10 | R35: TRUE
C36: IV | F36: BASES Y PISOS | M36: BASES Y PISOS | N36: TRUE | O36: 0 | P36: TRUE | Q36: 0 | R36: TRUE
C37: 4.1 | F37: Construcción de guarda escoba media caña en granito lavado de 0,10 m. x 0,10 m., (VER ANEXO TÉCNICO). | G37: ML | H37: 26 | I37: 103639 | J37: =+H37*I37 -> 2694614 | M37: Construcción de guarda escoba media caña en granito lavado de 0,10 m. x 0,10 m., (VER ANEXO TÉCNICO). | N37: TRUE | O37: ML | P37: TRUE | Q37: 26 | R37: TRUE
C38: 4.2 | F38: Alistado de piso y pendientado en mortero impermeabilizado 1 :3 (VER ANEXO TÉCNICO). | G38: M2 | H38: 45 | I38: 63952 | J38: =+H38*I38 -> 2877840 | M38: Alistado de piso y pendientado en mortero impermeabilizado 1 :3 (VER ANEXO TÉCNICO). | N38: TRUE | O38: M2 | P38: TRUE | Q38: 45 | R38: TRUE
C39: 4.3 | F39: Reparación de piso epóxico semiliso color plano, incluye preparación de la superficie, tratamiento de fisuras, recubrimiento epóxico multicapa 3 mm y todos los elementos y materiales necesarios para su ejecución. (VER ANEXO TÉCNICO) | G39: M2 | H39: 45 | I39: 394790 | J39: =+H39*I39 -> 17765550 | M39: Reparación de piso epóxico semiliso color plano, incluye preparación de la superficie, tratamiento de fisuras, recubrimiento epóxico multicapa 3 mm y todos los elementos y materiales necesarios para su ejecución. (VER ANEXO TÉCNICO) | N39: TRUE | O39: M2 | P39: TRUE | Q39: 45 | R39: TRUE
C40: 4.4 | F40: Reparación de mediacaña (zócalo) en mortero epóxico, semiliso color plano, altura r= 3 cm, h= 9 cm, incluye preparación de la superficie. | G40: ML | H40: 27 | I40: 111694 | J40: =+H40*I40 -> 3015738 | M40: Reparación de mediacaña (zócalo) en mortero epóxico, semiliso color plano, altura r= 3 cm, h= 9 cm, incluye preparación de la superficie. | N40: TRUE | O40: ML | P40: TRUE | Q40: 27 | R40: TRUE
C41: 4.5 | F41: Placa de contrapiso en concreto de 3,000 psi, (VER ANEXO TÉCNICO). | G41: M2 | H41: 45 | I41: 128727 | J41: =+H41*I41 -> 5792715 | M41: Placa de contrapiso en concreto de 3,000 psi, (VER ANEXO TÉCNICO). | N41: TRUE | O41: M2 | P41: TRUE | Q41: 45 | R41: TRUE
C42: 4.6 | F42: Suministro e instalación acabado de piso en gravilla lavada grano 1 color a escoger (VER ANEXO TÉCNICO). | G42: M2 | H42: 16 | I42: 86331 | J42: =+H42*I42 -> 1381296 | M42: Suministro e instalación acabado de piso en gravilla lavada grano 1 color a escoger (VER ANEXO TÉCNICO). | N42: TRUE | O42: M2 | P42: TRUE | Q42: 16 | R42: TRUE
C43: V | F43: CIELORRASOS | M43: CIELORRASOS | N43: TRUE | O43: 0 | P43: TRUE | Q43: 0 | R43: TRUE
C44: 5.1 | F44: Suministro e instalación de cielorraso en lámina de superboard 6mm. (VER ANEXO TÉCNICO). | G44: M2 | H44: 70 | I44: 93698 | J44: =+H44*I44 -> 6558860 | M44: Suministro e instalación de cielorraso en lámina de superboard 6mm. (VER ANEXO TÉCNICO). | N44: TRUE | O44: M2 | P44: TRUE | Q44: 70 | R44: TRUE
C45: 5.2 | F45: Cambio de láminas de cielorraso en fibra mineral (VER ANEXO TÉCNICO). | G45: UND | H45: 20 | I45: 30007 | J45: =+H45*I45 -> 600140 | M45: Cambio de láminas de cielorraso en fibra mineral (VER ANEXO TÉCNICO). | N45: TRUE | O45: UND | P45: TRUE | Q45: 20 | R45: TRUE
...

Sheet PINTURA
A1: =+#REF! -> #REF!
A2: CANTIDADES DE PINTURA
D4: RECEPCION Y DEPOSITO | H4: PRE Y POST | L4: MORGUE PPAL | P4: CABINAS Y NEVERAS | T4: SEPTICOS | X4: CTO ASEO | AB4: BASURAS | AF4: VESTIERES | AJ4: ARCHIV0 | AN4: CORREDOR FRENTE ARCHIVO | AR4: CORREDOR POSTERIOR CONSULT | AV4: CORREDOR WC FUNCIONARIOS | AZ4: CORREDOR ADMIN | BD4: WC DISCAPACITADOS SALA ESP | BH4: WC HOMBRES SALA ESP | BL4: WC MUJERES SALA ESP | BP4: FACHADAS | BT4: CERRAMIENTO VERDE-REJA PRE Y POST | BX4: WC HOMBRES Y MUJERES | CB4: TOTAL (AREA O ML) | CC4: FC | CD4: TOTAL
A5: N° | B5: TULUA | C5: UND | D5: PERIMETRO | E5: ALTURA | F5: TOTAL MUROS | G5: TOTAL TECHOS | H5: PERIMETRO | I5: ALTURA | J5: TOTAL MUROS | K5: TOTAL TECHOS | L5: PERIMETRO | M5: ALTURA | N5: TOTAL MUROS | O5: TOTAL TECHOS | P5: PERIMETRO | Q5: ALTURA | R5: TOTAL MUROS | S5: TOTAL TECHOS | T5: PERIMETRO | U5: ALTURA | V5: TOTAL MUROS | W5: TOTAL TECHOS | X5: PERIMETRO | Y5: ALTURA | Z5: TOTAL MUROS | AA5: TOTAL TECHOS | AB5: PERIMETRO | AC5: ALTURA | AD5: TOTAL MUROS | AE5: TOTAL TECHOS | AF5: PERIMETRO | AG5: ALTURA | AH5: TOTAL MUROS | AI5: TOTAL TECHOS | AJ5: PERIMETRO | AK5: ALTURA | AL5: TOTAL MUROS | AM5: TOTAL TECHOS | AN5: PERIMETRO | AO5: ALTURA | AP5: TOTAL MUROS | AQ5: TOTAL TECHOS | AR5: PERIMETRO | AS5: ALTURA | AT5: TOTAL MUROS | AU5: TOTAL TECHOS | AV5: PERIMETRO | AW5: ALTURA | AX5: TOTAL MUROS | AY5: TOTAL TECHOS | AZ5: PERIMETRO | BA5: ALTURA | BB5: TOTAL MUROS | BC5: TOTAL TECHOS | BD5: PERIMETRO | BE5: ALTURA | BF5: TOTAL MUROS | BG5: TOTAL TECHOS | BH5: PERIMETRO | BI5: ALTURA | BJ5: TOTAL MUROS | BK5: TOTAL TECHOS | BL5: PERIMETRO | BM5: ALTURA | BN5: TOTAL MUROS | BO5: TOTAL TECHOS | BP5: PERIMETRO | BQ5: ALTURA | BR5: TOTAL MUROS | BS5: TOTAL TECHOS | BT5: PERIMETRO | BU5: ALTURA | BV5: TOTAL MUROS | BW5: TOTAL TECHOS | BX5: PERIMETRO | BY5: ALTURA | BZ5: TOTAL MUROS | CA5: TOTAL TECHOS
A7: =+PRESUPUESTO!B12 -> 1.4. | B7: =+PRESUPUESTO!C12 -> Raspado de estuco y pintura, hasta encontrar pañete. Incluye limpieza de pañete. Incluye cargue y el retiro de escombros a botadero autorizado. | C7: =+PRESUPUESTO!D12 -> M2 | F7: =+D7*E7 -> 0 | J7: =+H7*I7 -> 0 | L7: =+'AREAS Y PERIMETROS'!C12 -> 30.9 | M7: 1 | N7: =+L7*M7 -> 30.9 | R7: =+P7*Q7 -> 0 | S7: =+ROUND(P7*Q7,2) -> 0 | V7: =+T7*U7 -> 0 | W7: =+ROUND(T7*U7,2) -> 0 | Z7: =+X7*Y7 -> 0 | AA7: =+ROUND(X7*Y7,2) -> 0 | AD7: =+AB7*AC7 -> 0 | AE7: =+ROUND(AB7*AC7,2) -> 0 | AH7: =+AF7*AG7 -> 0 | AI7: =+ROUND(AF7*AG7,2) -> 0 | AL7: =+AJ7*AK7 -> 0 | AM7: =+ROUND(AJ7*AK7,2) -> 0 | AP7: =+AN7*AO7 -> 0 | AQ7: =+ROUND(AN7*AO7,2) -> 0 | AT7: =+AR7*AS7 -> 0 | AU7: =+ROUND(AR7*AS7,2) -> 0 | AX7: =+AV7*AW7 -> 0 | AY7: =+ROUND(AV7*AW7,2) -> 0 | BB7: =+AZ7*BA7 -> 0 | BC7: =+ROUND(AZ7*BA7,2) -> 0 | BF7: =+BD7*BE7 -> 0 | BG7: =+ROUND(BD7*BE7,2) -> 0 | BJ7: =+BH7*BI7 -> 0 | BK7: =+ROUND(BH7*BI7,2) -> 0 | BN7: =+BL7*BM7 -> 0 | BO7: =+ROUND(BL7*BM7,2) -> 0 | BR7: =+BP7*BQ7 -> 0 | BS7: =+ROUND(BP7*BQ7,2) -> 0 | BV7: =+BT7*BU7 -> 0 | BW7: =+ROUND(BT7*BU7,2) -> 0 | BZ7: =+BX7*BY7 -> 0 | CA7: =+ROUND(BX7*BY7,2) -> 0 | CB7: =ROUND(+F7+G7+J7+K7+N7+O7+R7+S7+V7+W7+Z7+AA7+AD7+AE7+AH7+AI7+AL7+AM7+AP7+AQ7+AT7+AU7+AX7+AY7+BB7+BC7+BF7+BG7+BJ7+BK7++BN7+BO7+BR7+BS7+BV7+BW7+BZ7+CA7,0) -> 31 | CC7: 1.1 | CD7: =+ROUND(CB7*CC7,0) -> 34
A8: =+PRESUPUESTO!B21 -> 1.13. | B8: =+PRESUPUESTO!C21 -> Raspado de pintura, retiro de cintas en muros o cielorrasos en superboard. Incluye cargue y el retiro de escombros a botadero autorizado. | C8: =+PRESUPUESTO!D21 -> M2 | F8: =+D8*E8 -> 0 | G8: =+'AREAS Y PERIMETROS'!B14 -> 11.68 | J8: =+H8*I8 -> 0 | N8: =+L8*M8 -> 0 | R8: =+P8*Q8 -> 0 | S8: =+'AREAS Y PERIMETROS'!B11 -> 8 | V8: =+T8*U8 -> 0 | W8: =+'AREAS Y PERIMETROS'!B10 -> 15.8 | Z8: =+X8*Y8 -> 0 | AA8: =+'AREAS Y PERIMETROS'!B8 -> 3.28 | AD8: =+AB8*AC8 -> 0 | AE8: =+'AREAS Y PERIMETROS'!B9 -> 4.71 | AH8: =+AF8*AG8 -> 0 | AL8: =+AJ8*AK8 -> 0 | AM8: =+'AREAS Y PERIMETROS'!B7 -> 11.21 | AP8: =+AN8*AO8 -> 0 | AQ8: =+'AREAS Y PERIMETROS'!B17 -> 17.41 | AT8: =+AR8*AS8 -> 0 | AU8: =+'AREAS Y PERIMETROS'!B18 -> 11.73 | AX8: =+AV8*AW8 -> 0 | AY8: =+'AREAS Y PERIMETROS'!B19 -> 5.37 | BB8: =+AZ8*BA8 -> 0 | BC8: =+'AREAS Y PERIMETROS'!B20 -> 10.28 | BF8: =+BD8*BE8 -> 0 | BG8: =+'AREAS Y PERIMETROS'!B25 -> 5.4 | BJ8: =+BH8*BI8 -> 0 | BK8: =+'AREAS Y PERIMETROS'!B23 -> 2.49 | BN8: =+BL8*BM8 -> 0 | BO8: =+'AREAS Y PERIMETROS'!B24 -> 2.49 | BR8: =+BP8*BQ8 -> 0 | BV8: =+BT8*BU8 -> 0 | BW8: =+'AREAS Y PERIMETROS'!F24 -> 0 | BZ8: =+BX8*BY8 -> 0 | CA8: =+'AREAS Y PERIMETROS'!J24 -> 0 | CB8: =ROUND(+F8+G8+J8+K8+N8+O8+R8+S8+V8+W8+Z8+AA8+AD8+AE8+AH8+AI8+AL8+AM8+AP8+AQ8+AT8+AU8+AX8+AY8+BB8+BC8+BF8+BG8+BJ8+BK8++BN8+BO8+BR8+BS8+BV8+BW8+BZ8+CA8,0) -> 110 | CC8: 1.1 | CD8: =+ROUND(CB8*CC8,0) -> 121
A9: =+PRESUPUESTO!B23 -> 1.15. | B9: =+PRESUPUESTO!C23 -> Desmonte de cielorraso en superboard. Incluye retiro de mediacañas entre muro y cielorraso, rejillas plásticas y cualquier elemento adherido, cargue y retiro de escombros a botadero autorizado | C9: =+PRESUPUESTO!D23 -> M2 | K9: =+'AREAS Y PERIMETROS'!B13 -> 23.27 | O9: =+'AREAS Y PERIMETROS'!B12 -> 35.1 | AI9: =+'AREAS Y PERIMETROS'!B15 -> 16.1 | CB9: =ROUND(+F9+G9+J9+K9+N9+O9+R9+S9+V9+W9+Z9+AA9+AD9+AE9+AH9+AI9+AL9+AM9+AP9+AQ9+AT9+AU9+AX9+AY9+BB9+BC9+BF9+BG9+BJ9+BK9++BN9+BO9+BR9+BS9+BV9+BW9+BZ9+CA9,0) -> 74 | CC9: 1.1 | CD9: =+ROUND(CB9*CC9,0) -> 81
F10: =+D10*E10 -> 0 | J10: =+H10*I10 -> 0 | N10: =+L10*M10 -> 0 | R10: =+P10*Q10 -> 0 | V10: =+T10*U10 -> 0 | Z10: =+X10*Y10 -> 0 | AD10: =+AB10*AC10 -> 0 | AH10: =+AF10*AG10 -> 0 | AL10: =+AJ10*AK10 -> 0 | AP10: =+AN10*AO10 -> 0 | AT10: =+AR10*AS10 -> 0 | AX10: =+AV10*AW10 -> 0 | BB10: =+AZ10*BA10 -> 0 | BF10: =+BD10*BE10 -> 0 | BJ10: =+BH10*BI10 -> 0 | BN10: =+BL10*BM10 -> 0 | BR10: =+BP10*BQ10 -> 0 | BV10: =+BT10*BU10 -> 0 | BZ10: =+BX10*BY10 -> 0 | CB10: =ROUND(+F10+G10+J10+K10+N10+O10+R10+S10+V10+W10+Z10+AA10+AD10+AE10+AH10+AI10+AL10+AM10+AP10+AQ10+AT10+AU10+AX10+AY10+BB10+BC10+BF10+BG10+BJ10+BK10++BN10+BO10+BR10+BS10+BV10+BW10+BZ10+CA10,2) -> 0 | CD10: =+ROUND(CB10*CC10,0) -> 0
A11: =+PRESUPUESTO!B93 -> 15.1. | B11: =+PRESUPUESTO!C93 -> Estuco plástico, incluye filos (esquineras plásticas), dilataciones (juntas de control plasticas en "Z" y "U"), carteras de vanos y medidas inferiores a 1.0 m | C11: =+PRESUPUESTO!D93 -> M2 | F11: =+D11*E11 -> 0 | J11: =+H11*I11 -> 0 | L11: =+L7 -> 30.9 | M11: 1 | N11: =+L11*M11 -> 30.9 | R11: =+P11*Q11 -> 0 | S11: =+ROUND(P11*Q11,2) -> 0 | T11: =+T7 -> 0 | V11: =+T11*U11 -> 0 | W11: =+ROUND(T11*U11,2) -> 0 | Z11: =+X11*Y11 -> 0 | AA11: =+ROUND(X11*Y11,2) -> 0 | AD11: =+AB11*AC11 -> 0 | AE11: =+ROUND(AB11*AC11,2) -> 0 | AH11: =+AF11*AG11 -> 0 | AI11: =+ROUND(AF11*AG11,2) -> 0 | AL11: =+AJ11*AK11 -> 0 | AM11: =+ROUND(AJ11*AK11,2) -> 0 | AP11: =+AN11*AO11 -> 0 | AQ11: =+ROUND(AN11*AO11,2) -> 0 | AT11: =+AR11*AS11 -> 0 | AU11: =+ROUND(AR11*AS11,2) -> 0 | AX11: =+AV11*AW11 -> 0 | AY11: =+ROUND(AV11*AW11,2) -> 0 | BB11: =+AZ11*BA11 -> 0 | BC11: =+ROUND(AZ11*BA11,2) -> 0 | BF11: =+BD11*BE11 -> 0 | BG11: =+ROUND(BD11*BE11,2) -> 0 | BJ11: =+BH11*BI11 -> 0 | BK11: =+ROUND(BH11*BI11,2) -> 0 | BN11: =+BL11*BM11 -> 0 | BO11: =+ROUND(BL11*BM11,2) -> 0 | BR11: =+BP11*BQ11 -> 0 | BS11: =+ROUND(BP11*BQ11,2) -> 0 | BV11: =+BT11*BU11 -> 0 | BW11: =+ROUND(BT11*BU11,2) -> 0 | BZ11: =+BX11*BY11 -> 0 | CA11: =+ROUND(BX11*BY11,2) -> 0 | CB11: =ROUND(+F11+G11+J11+K11+N11+O11+R11+S11+V11+W11+Z11+AA11+AD11+AE11+AH11+AI11+AL11+AM11+AP11+AQ11+AT11+AU11+AX11+AY11+BB11+BC11+BF11+BG11+BJ11+BK11++BN11+BO11+BR11+BS11+BV11+BW11+BZ11+CA11,0) -> 31 | CC11: 1.1 | CD11: =+ROUND(CB11*CC11,0) -> 34
A12: =+PRESUPUESTO!B94 -> 15.2. | B12: =+PRESUPUESTO!C94 -> Suministro e instalación de pintura epóxica poliamida, recubrimiento protector para muros y techos interiores en zonas asépticas de dos componentes (componente A pintura epóxica, componente B catalizador poliamídico), acabado semibrillante, tres manos, color blanco (áreas patologia) incluye resanes con estuco plástico, encintado de cielos, filos, dilataciones, carteras, mediacañas verticales y medidas inferiores a 1.00 m | C12: =+PRESUPUESTO!D94 -> M2 | D12: =+'AREAS Y PERIMETROS'!C14 -> 18.95 | E12: 2.9 | F12: =+D12*E12 -> 54.955 | G12: =+G8 -> 11.68 | H12: =+'AREAS Y PERIMETROS'!C13 -> 20.16 | I12: 2.9 | J12: =+H12*I12 -> 58.464 | K12: =+'AREAS Y PERIMETROS'!B13 -> 23.27 | L12: =+'AREAS Y PERIMETROS'!C12 -> 30.9 | M12: 2.9 | N12: =+L12*M12 -> 89.61 | O12: =+'AREAS Y PERIMETROS'!B12 -> 35.1 | P12: =+'AREAS Y PERIMETROS'!C11 -> 12.23 | Q12: 2.9 | R12: =+P12*Q12 -> 35.467 | S12: =+S8 -> 8 | T12: =+'AREAS Y PERIMETROS'!C10 -> 16.31 | U12: 2.9 | V12: =+T12*U12 -> 47.299 | W12: =+W8 -> 15.8 | X12: =+'AREAS Y PERIMETROS'!C8 -> 7.39 | Y12: 2.9 | Z12: =+X12*Y12 -> 21.431 | AA12: =+AA8 -> 3.28 | AB12: =+'AREAS Y PERIMETROS'!C9 -> 8.85 | AC12: 2.9 | AD12: =+AB12*AC12 -> 25.665 | AE12: =+AE8 -> 4.71 | AH12: =+AF12*AG12 -> 0 | AI12: =+AI8 -> 0 | AL12: =+AJ12*AK12 -> 0 | AP12: =+AN12*AO12 -> 0 | AQ12: =+ROUND(AN12*AO12,2) -> 0 | AT12: =+AR12*AS12 -> 0 | AU12: =+ROUND(AR12*AS12,2) -> 0 | AX12: =+AV12*AW12 -> 0 | AY12: =+ROUND(AV12*AW12,2) -> 0 | BB12: =+AZ12*BA12 -> 0 | BC12: =+ROUND(AZ12*BA12,2) -> 0 | BF12: =+BD12*BE12 -> 0 | BG12: =+ROUND(BD12*BE12,2) -> 0 | BJ12: =+BH12*BI12 -> 0 | BK12: =+ROUND(BH12*BI12,2) -> 0 | BN12: =+BL12*BM12 -> 0 | BO12: =+ROUND(BL12*BM12,2) -> 0 | BR12: =+BP12*BQ12 -> 0 | BS12: =+ROUND(BP12*BQ12,2) -> 0 | BV12: =+BT12*BU12 -> 0 | BW12: =+ROUND(BT12*BU12,2) -> 0 | BZ12: =+BX12*BY12 -> 0 | CA12: =+ROUND(BX12*BY12,2) -> 0 | CB12: =ROUND(+F12+G12+J12+K12+N12+O12+R12+S12+V12+W12+Z12+AA12+AD12+AE12+AH12+AI12+AL12+AM12+AP12+AQ12+AT12+AU12+AX12+AY12+BB12+BC12+BF12+BG12+BJ12+BK12++BN12+BO12+BR12+BS12+BV12+BW12+BZ12+CA12,0) -> 435 | CC12: 1.1 | CD12: =+ROUND(CB12*CC12,0) -> 479
A13: =+PRESUPUESTO!B95 -> 15.3. | B13: =+PRESUPUESTO!C95 -> Suministro e instalación de vinilo tipo 1 tres manos para muros o cielorrasos (color a escoger) incluye medidas menores a 1.00 m incluye filos y dilataciones. Incluye resanes en estuco plástic, encintado cielorrasos y todos los materiales y trabajos necesarios para su correcta ejecución. | C13: =+PRESUPUESTO!D95 -> M2 | F13: =+D13*E13 -> 0 | J13: =+H13*I13 -> 0 | N13: =+L13*M13 -> 0 | O13: =+ROUND(L13*M13,2) -> 0 | R13: =+P13*Q13 -> 0 | S13: =+ROUND(P13*Q13,2) -> 0 | V13: =+T13*U13 -> 0 | W13: =+ROUND(T13*U13,2) -> 0 | Z13: =+X13*Y13 -> 0 | AA13: =+ROUND(X13*Y13,2) -> 0 | AD13: =+AB13*AC13 -> 0 | AE13: =+ROUND(AB13*AC13,2) -> 0 | AH13: =+AF13*AG13 -> 0 | AI13: =+'AREAS Y PERIMETROS'!B15 -> 16.1 | AL13: =+AJ13*AK13 -> 0 | AM13: =+'AREAS Y PERIMETROS'!B7 -> 11.21 | AP13: =+AN13*AO13 -> 0 | AT13: =+AR13*AS13 -> 0 | AX13: =+AV13*AW13 -> 0 | AY13: =+'AREAS Y PERIMETROS'!B19 -> 5.37 | BB13: =+AZ13*BA13 -> 0 | BC13: =+'AREAS Y PERIMETROS'!B20 -> 10.28 | BF13: =+BD13*BE13 -> 0 | BG13: =+'AREAS Y PERIMETROS'!B25 -> 5.4 | BJ13: =+BH13*BI13 -> 0 | BK13: =+'AREAS Y PERIMETROS'!B23 -> 2.49 | BN13: =+BL13*BM13 -> 0 | BO13: =+'AREAS Y PERIMETROS'!B24 -> 2.49 | BR13: =+BP13*BQ13 -> 0 | BV13: =+BT13*BU13 -> 0 | BZ13: =+BX13*BY13 -> 0 | CB13: =ROUND(+F13+G13+J13+K13+N13+O13+R13+S13+V13+W13+Z13+AA13+AD13+AE13+AH13+AI13+AL13+AM13+AP13+AQ13+AT13+AU13+AX13+AY13+BB13+BC13+BF13+BG13+BJ13+BK13++BN13+BO13+BR13+BS13+BV13+BW13+BZ13+CA13,0) -> 53 | CC13: 1.1 | CD13: =+ROUND(CB13*CC13,0) -> 58
A14: =+PRESUPUESTO!B96 -> 15.4. | B14: =+PRESUPUESTO!C96 -> Suministro e instalación de pintura koraza 5 años para techos exteriores, dos manos, color a escoger. Incluye medidas inferiores a 1.00 m. Incluye: resanes en estuco plástico, encintado cielorrasos y todos los materiales y trabajos necesarios para su correcta ejecución. | C14: =+PRESUPUESTO!D96 -> M2 | F14: =+D14*E14 -> 0 | J14: =+H14*I14 -> 0 | N14: =+L14*M14 -> 0 | O14: =+ROUND(L14*M14,2) -> 0 | R14: =+P14*Q14 -> 0 | S14: =+ROUND(P14*Q14,2) -> 0 | V14: =+T14*U14 -> 0 | W14: =+ROUND(T14*U14,2) -> 0 | Z14: =+X14*Y14 -> 0 | AA14: =+ROUND(X14*Y14,2) -> 0 | AD14: =+AB14*AC14 -> 0 | AE14: =+ROUND(AB14*AC14,2) -> 0 | AH14: =+AF14*AG14 -> 0 | AL14: =+AJ14*AK14 -> 0 | AP14: =+AN14*AO14 -> 0 | AQ14: =+'AREAS Y PERIMETROS'!B17 -> 17.41 | AT14: =+AR14*AS14 -> 0 | AU14: =+'AREAS Y PERIMETROS'!B18 -> 11.73 | AX14: =+AV14*AW14 -> 0 | BB14: =+AZ14*BA14 -> 0 | BC14: =+'AREAS Y PERIMETROS'!F27*1.1 -> 0 | BF14: =+BD14*BE14 -> 0 | BG14: =+'AREAS Y PERIMETROS'!F27*1.1 -> 0 | BJ14: =+BH14*BI14 -> 0 | BK14: =+'AREAS Y PERIMETROS'!J27*1.1 -> 0 | BN14: =+BL14*BM14 -> 0 | BO14: =+'AREAS Y PERIMETROS'!J27*1.1 -> 0 | BR14: =+BP14*BQ14 -> 0 | BS14: =+'AREAS Y PERIMETROS'!N27*1.1 -> 0 | BV14: =+BT14*BU14 -> 0 | BW14: =+'AREAS Y PERIMETROS'!R27*1.1 -> 0 | BZ14: =+BX14*BY14 -> 0 | CA14: =+'AREAS Y PERIMETROS'!V27*1.1 -> 0 | CB14: =ROUND(+F14+G14+J14+K14+N14+O14+R14+S14+V14+W14+Z14+AA14+AD14+AE14+AH14+AI14+AL14+AM14+AP14+AQ14+AT14+AU14+AX14+AY14+BB14+BC14+BF14+BG14+BJ14+BK14++BN14+BO14+BR14+BS14+BV14+BW14+BZ14+CA14,0) -> 29 | CC14: 1.1 | CD14: =+ROUND(CB14*CC14,0) -> 32
A15: =+PRESUPUESTO!B97 -> 15.5. | B15: =+PRESUPUESTO!C97 -> Suministro e instalación de pintura esmalte mate superlavable exterior dos manos (color a escoger), incluye medidas menores a 1.00 m. Incluye una mano de anticorrosivo gris o negro y todos los materiales y trabajos necesarios para su correcta ejecución (Fachada metalica vertical) | C15: =+PRESUPUESTO!D97 -> M2 | F15: =+D15*E15 -> 0 | J15: =+H15*I15 -> 0 | N15: =+L15*M15 -> 0 | R15: =+P15*Q15 -> 0 | V15: =+T15*U15 -> 0 | Z15: =+X15*Y15 -> 0 | AD15: =+AB15*AC15 -> 0 | AH15: =+AF15*AG15 -> 0 | AI15: =+ROUND(AF15*AG15,2) -> 0 | AL15: =+AJ15*AK15 -> 0 | AM15: =+ROUND(AJ15*AK15,2) -> 0 | AP15: =+AN15*AO15 -> 0 | AT15: =+AR15*AS15 -> 0 | AX15: =+AV15*AW15 -> 0 | BB15: =+AZ15*BA15 -> 0 | BF15: =+BD15*BE15 -> 0 | BJ15: =+BH15*BI15 -> 0 | BN15: =+BL15*BM15 -> 0 | BP15: =31.19+16.72+13.21+7.23+17.99+9.48 -> 95.82 | BQ15: 1.95 | BR15: =+BP15*BQ15 -> 186.849 | BV15: =+BT15*BU15 -> 0 | BZ15: =+BX15*BY15 -> 0 | CB15: =ROUND(+F15+G15+J15+K15+N15+O15+R15+S15+V15+W15+Z15+AA15+AD15+AE15+AH15+AI15+AL15+AM15+AP15+AQ15+AT15+AU15+AX15+AY15+BB15+BC15+BF15+BG15+BJ15+BK15++BN15+BO15+BR15+BS15+BV15+BW15+BZ15+CA15,0) -> 187 | CC15: 1.1 | CD15: =+ROUND(CB15*CC15,0) -> 206
A16: =+PRESUPUESTO!B98 -> 15.6. | B16: =+PRESUPUESTO!C98 -> Suministro e instalación de pintura esmalte mate superlavable exterior dos manos (color a escoger) cuatro caras, incluye medidas menores a 1.00 m. Incluye una mano de anticorrosivo gris o verde y todos los materiales y trabajos necesarios para su correcta ejecución (Pergola fachada principal y cerramiento anterior y posterior) | C16: =+PRESUPUESTO!D98 -> M2 | F16: =+D16*E16 -> 0 | J16: =+H16*I16 -> 0 | N16: =+L16*M16 -> 0 | R16: =+P16*Q16 -> 0 | V16: =+T16*U16 -> 0 | Z16: =+X16*Y16 -> 0 | AD16: =+AB16*AC16 -> 0 | AH16: =+AF16*AG16 -> 0 | AI16: =+AF16*AG16 -> 0 | AL16: =+AJ16*AK16 -> 0 | AM16: =+AJ16*AK16 -> 0 | AP16: =+AN16*AO16 -> 0 | AR16: 12.9 | AS16: 2.7 | AT16: =+AR16*AS16 -> 34.83 | AX16: =+AV16*AW16 -> 0 | BB16: =+AZ16*BA16 -> 0 | BF16: =+BD16*BE16 -> 0 | BJ16: =+BH16*BI16 -> 0 | BN16: =+BL16*BM16 -> 0 | BP16: 31.32 | BQ16: 2.4 | BR16: =+BP16*BQ16 -> 75.168 | BT16: =17.7+7.1+3.48 -> 28.28 | BU16: 2.1 | BV16: =+BT16*BU16 -> 59.388 | BZ16: =+BX16*BY16 -> 0 | CB16: =ROUND(+F16+G16+J16+K16+N16+O16+R16+S16+V16+W16+Z16+AA16+AD16+AE16+AH16+AI16+AL16+AM16+AP16+AQ16+AT16+AU16+AX16+AY16+BB16+BC16+BF16+BG16+BJ16+BK16++BN16+BO16+BR16+BS16+BV16+BW16+BZ16+CA16,0) -> 169 | CC16: 1.1 | CD16: =+ROUND(CB16*CC16,0) -> 186
A17: =+PRESUPUESTO!B99 -> 15.7. | B17: =+PRESUPUESTO!C99 -> Suministro e instalación de pintura esmalte mate superlavable exterior dos manos (color a escoger) dos caras, incluye medidas menores a 1.00 m y pintura de marcos. Incluye una mano de anticorrosivo gris o verde y todos los materiales y trabajos necesarios para su correcta ejecución (Puertas metalicas) | C17: =+PRESUPUESTO!D99 -> M2 | D17: =0.8*2 -> 1.6 | E17: 2.34 | F17: =+D17*E17 -> 3.744 | H17: 0.8 | I17: 2.34 | J17: =+H17*I17 -> 1.872 | N17: =+L17*M17 -> 0 | P17: 0.9 | Q17: 2.34 | R17: =+P17*Q17 -> 2.106 | T17: 1.45 | U17: 2.34 | V17: =+T17*U17 -> 3.393 | X17: 1.32 | Y17: 2.08 | Z17: =+X17*Y17 -> 2.7456 | AB17: 1.32 | AC17: 2.08 | AD17: =+AB17*AC17 -> 2.7456 | AF17: =0.8*2 -> 1.6 | AG17: 2.32 | AH17: =+AF17*AG17 -> 3.712 | AL17: =+AJ17*AK17 -> 0 | AP17: =+AN17*AO17 -> 0 | AT17: =+AR17*AS17 -> 0 | AX17: =+AV17*AW17 -> 0 | BB17: =+AZ17*BA17 -> 0 | BD17: 0.9 | BE17: 2.35 | BF17: =+BD17*BE17 -> 2.115 | BI17: 2.35 | BJ17: =+BH17*BI17 -> 0 | BL17: =0.75*2 -> 1.5 | BM17: 2.35 | BN17: =+BL17*BM17 -> 3.525 | BR17: =+BP17*BQ17 -> 0 | BV17: =+BT17*BU17 -> 0 | BX17: 1.5 | BY17: 2.25 | BZ17: =+BX17*BY17 -> 3.375 | CB17: =ROUND(+F17+G17+J17+K17+N17+O17+R17+S17+V17+W17+Z17+AA17+AD17+AE17+AH17+AI17+AL17+AM17+AP17+AQ17+AT17+AU17+AX17+AY17+BB17+BC17+BF17+BG17+BJ17+BK17++BN17+BO17+BR17+BS17+BV17+BW17+BZ17+CA17,0) -> 29 | CC17: 1.1 | CD17: =+ROUND(CB17*CC17,0) -> 32
A18: =+PRESUPUESTO!B100 -> 15.8. | B18: =+PRESUPUESTO!C100 -> Conformación de media caña remate muro-cieloraso de 1 ". Incluye todos los materiales para su construcción | C18: =+PRESUPUESTO!D100 -> ML | D18: =+'AREAS Y PERIMETROS'!C14 -> 18.95 | H18: =+'AREAS Y PERIMETROS'!C13 -> 20.16 | L18: =+'AREAS Y PERIMETROS'!C12 -> 30.9 | P18: =+'AREAS Y PERIMETROS'!C11 -> 12.23 | T18: =+'AREAS Y PERIMETROS'!C10 -> 16.31 | X18: =+'AREAS Y PERIMETROS'!C8 -> 7.39 | AB18: =+'AREAS Y PERIMETROS'!C9 -> 8.85 | CB18: =+D18+H18+L18+P18+T18+X18+AB18+AF18+AJ18+AN18+AR18+AV18+AZ18+BD18+BH18+BL18+BP18+BT18+BX18 -> 114.79 | CC18: 1.1 | CD18: =+ROUND(CB18*CC18,0) -> 126
F19: =+D19*E19 -> 0 | J19: =+H19*I19 -> 0 | N19: =+L19*M19 -> 0 | R19: =+P19*Q19 -> 0 | V19: =+T19*U19 -> 0 | Z19: =+X19*Y19 -> 0 | AD19: =+AB19*AC19 -> 0 | AH19: =+AF19*AG19 -> 0 | AL19: =+AJ19*AK19 -> 0 | AP19: =+AN19*AO19 -> 0 | AT19: =+AR19*AS19 -> 0 | AX19: =+AV19*AW19 -> 0 | BB19: =+AZ19*BA19 -> 0 | BF19: =+BD19*BE19 -> 0 | BJ19: =+BH19*BI19 -> 0 | BN19: =+BL19*BM19 -> 0 | BR19: =+BP19*BQ19 -> 0 | BV19: =+BT19*BU19 -> 0 | CB19: =+F19+G19+J19+K19+N19+O19+R19+S19+V19+W19+Z19+AA19+AD19+AE19+AL19+AM19+AT19+AU19+AX19+AY19+BB19+BC19+BF19+BG19+BJ19+BK19+BR19+BS19+BV19+BW19+BZ19+CA19 -> 0 | CD19: =+CB19*CC19 -> 0
B20: TOTAL | CD20: =+CB20*CC20 -> 0

Sheet AREAS Y PERIMETROS
A2: UNIDAD BASICA DE TULUA
A3: FECHA | B3: 45386
A5: ESPACIO | B5: AREA | C5: PERIMETRO | D5: LARGO | E5: ALTO/ANCHO
A7: ARCHIVO | B7: 11.21 | C7: 13.64
A8: CTO ASEO | B8: 3.28 | C8: 7.39
A9: CTO BASURAS | B9: 4.71 | C9: 8.85
A10: MORGUE SEPTICOS | B10: 15.8 | C10: 16.31
A11: CTO CABINAS | B11: 8 | C11: 12.23
A12: MORGUE PPAL | B12: 35.1 | C12: 30.9
A13: AREA PRE Y POST | B13: 23.27 | C13: 20.16
A14: RECEPCION CUERPOS Y DEPOSITO | B14: 11.68 | C14: 18.95
A15: VESTIER HOMBRES-MUJERES | B15: 16.1 | C15: =18.7*2 -> 37.4 | E15: 2.35
A16: CUARTO FRIO | B16: 14.3 | C16: 15.16
A17: CIRCULACION FRENTE ARCHIVO | B17: 17.41
A18: CORREDOR POSTERIOR CONSULTORIOS | B18: 11.73
A19: CORREDOR BAÑOS FUNCIONARIOS | B19: 5.37
A20: CORREDOR ADMON | B20: 10.28
A21: ESPEJO DE AGUA | B21: 44.33 | C21: 18.42
A22: MUROS PATIO CORTINA AGUA | B22: =+C22*E22 -> 40.524 | C22: 18.42 | E22: 2.2 | F22: 2.2
A23: BAÑO PUBLICO HOMBRES | B23: 2.49 | C23: 6.6 | E23: 2.6
A24: BAÑO PUBLICO MUJERES | B24: 2.49 | C24: 6.6 | E24: 2.6
A25: BAÑO PUBLICO DISCAPACITADOS | B25: 5.4 | C25: 10.26 | E25: 2.6
A26: AREA DE VOLADIZO COSTADO DERECHO U | B26: 46.01
A27: AREA VOLADIZO COSTADO IZQUIERDO | B27: 7.65
A28: FACHADA METALICA VERTICAL | B28: =+C28*E28 -> 186.849 | C28: =31.19+16.72+13.21+7.23+17.99+9.48 -> 95.82 | E28: 1.95
A29: FACHADA TRASLUCIDA ILUMINACION MORGUE | B29: =+D29*E29 -> 16.029 | D29: =2.04*3+1.05*2 -> 8.22 | E29: 1.95
A30: CERRAMIENTO EN REJA PTA VEHICULAR | B30: =+D30*E30 -> 53.32 | D30: =17.7+7.1 -> 24.8 | E30: 2.15
A31: CERRAMIENTO EN REJA VENTANA PRE Y POST | B31: =+D31*E31 -> 7.308 | D31: 3.48 | E31: 2.1
A32: CERRAMIENTO EN MALLA ESLABONADA | B32: =+D32*E32 -> 152.694 | D32: 84.83 | E32: 1.8
A33: POLICARBONATO FACHADA PPAL | B33: =+D33*E33 -> 86.5425 | D33: =13.45+8.75+9.12+(0.05*3) -> 31.47 | E33: 2.75
A34: POLICARBONATO FACHADA POSTERIOR | B34: =+D34*E34 -> 27.6 | D34: 18.4 | E34: 1.5
A35: PERGOLA FACHADA PPAL | B35: =+D35*E35 -> 74.856 | D35: 31.19 | E35: 2.4
A36: CUBIERTA PLANA EQUIPOS | B36: =+C36 -> 38 | C36: 38
A37: ANDEN POSTERIOR REJA | B37: =+D37*E37 -> 18.38 | D37: 18.38 | E37: 1
A38: ANDEN OFICINA JEFATURA | B38: =+D38*E38 -> 5 | D38: 5 | E38: 1
A39: ANDEN LATERAL ADOQUIN | B39: 206.94

Sheet PRESUPUESTO
B2: INSTITUTO NACIONAL DE MEDICINA LEGAL Y CIENCIAS FORENSES
B3: =+#REF! -> #REF!
B5: ANEXO - PRESUPUESTO DETALLADO | I5: PRESUPUESTO CON UNITARIOS CALCULADOS
B7: ÍTEM | C7: DESCRIPCION | D7: UND | E7: CANT | F7: VR. UNITARIO | G7: VR. TOTAL | I7: VR. UNITARIO CALCULADO | J7: VR. TOTAL | L7: VERIFICACIÓN | O7: FACTOR | P7: ANCHO | Q7: LARGO | R7: ALTO | S7: UND | T7: PERIMETRO | U7: AREA | V7: ALTURA | W7: TOTAL | X7: NOTAS
B8: 1. | C8: PRELIMINARES | G8: =+SUBTOTAL(9,G9:G24) -> #REF! | J8: =+SUBTOTAL(9,J9:J24) -> 11434610
B9: 1.1. | C9: Desmonte de teja trapezoidal fachada vertical traslucida | D9: M2 | E9: =+W9 -> 18 | F9: =+'EST.MERCADO.'!Z9 -> #REF! | G9: =+F9*E9 -> #REF! | I9: 16104 | J9: =+E9*I9 -> 289872 | L9: =+F9 -> #REF! | M9: =+L9*E9 -> #REF! | N9: =+IF(M9=G9,"ok","error") -> #REF! | O9: 1.1 | Q9: 8.22 | R9: 1.95 | S9: =+ROUND(O9*P9*Q9*R9,2) -> 0 | W9: =+ROUND(O9*Q9*R9,0) -> 18
B10: 1.2. | C10: Desmonte de puertas dobles en lámina. Incluye retiro de marco, resane de vano y filos y ubicación temporal en sitio establecido por la entidad. | D10: UN | E10: =+W10 -> 3 | F10: =+'EST.MERCADO.'!Z10 -> #REF! | G10: =+F10*E10 -> #REF! | I10: 149240 | J10: =+E10*I10 -> 447720 | L10: =+F10 -> #REF! | M10: =+L10*E10 -> #REF! | N10: =+IF(M10=G10,"ok","error") -> #REF! | O10: 1 | S10: 3 | W10: =+ROUND(O10*S10,0) -> 3 | X10: 2 UND PUERTAS DE ACCESO EXTERIOR A PRE Y POST +1 UND ACCESO SALA PPAL
B11: 1.3. | C11: Desmonte y reinstalacion de puertas o ventanas. Incluye cargue y ubicación temporal en sitio establecido por la entidad. Incluye resane de vano y filos | D11: UN | E11: =+W11 -> 16 | F11: =+'EST.MERCADO.'!Z11 -> #REF! | G11: =+F11*E11 -> #REF! | I11: 48840 | J11: =+E11*I11 -> 781440 | L11: =+F11 -> #REF! | M11: =+L11*E11 -> #REF! | N11: =+IF(M11=G11,"ok","error") -> #REF! | O11: 1 | S11: 16 | W11: =+ROUND(O11*S11,0) -> 16 | X11: RECEPCION CPOS + DEPOSITO + CABINAS + SALA AUXILIAR + BASURAS + EXT BASURAS + 2 VESTIER HOMBRES + 2 VERTIER MIJERES + WC HOMBRES + WC MUJERES + WC ESPERA HOMBRES + WC ESPERA MUJERES + WC DISCAPACITADOS =
B12: 1.4. | C12: Raspado de estuco y pintura, hasta encontrar pañete. Incluye limpieza de pañete. Incluye cargue y el retiro de escombros a botadero autorizado. | D12: M2 | E12: =+W12 -> 15 | F12: =+'EST.MERCADO.'!Z12 -> #REF! | G12: =+F12*E12 -> #REF! | I12: 11679 | J12: =+E12*I12 -> 175185 | L12: =+F12 -> #REF! | M12: =+L12*E12 -> #REF! | N12: =+IF(M12=G12,"ok","error") -> #REF! | O12: 1.1 | Q12: =(1.92*2+0.62*2)+(1.3*2+0.65*2)+(1.85*2+0.6*2) -> 13.88 | R12: 1 | S12: 1 | W12: =+ROUND(O12*Q12*R12*S12,0) -> 15 | X12: AREA DAÑOS MUROS DE MORGUE
B13: 1.5. | C13: Desmonte de cubierta en policarbonato alveolar, incluidos, amarres, flanches, fijaciones y demás elementos existentes, incluye maquinaria, mano de obra, cargue, retiro y disposición final de escombros en botadero autorizado (de ser requerido) | D13: M2 | E13: =+W13 -> 120 | F13: =+'EST.MERCADO.'!Z13 -> #REF! | G13: =+F13*E13 -> #REF! | I13: 17430 | J13: =+E13*I13 -> 2091600 | L13: =+F13 -> #REF! | M13: =+L13*E13 -> #REF! | N13: =+IF(M13=G13,"ok","error") -> #REF! | O13: 1.05 | U13: =+'AREAS Y PERIMETROS'!B33+'AREAS Y PERIMETROS'!B34 -> 114.1425 | W13: =+ROUND(O13*U13,0) -> 120
B14: 1.6. | C14: Desmonte y reinstalacion de protectores guardacamillas. Incluye disposición y almacenamiento temporal (morgue pptal, septicos, pre y pos) | D14: ML | E14: =+W14 -> 52 | F14: =+'EST.MERCADO.'!Z14 -> #REF! | G14: =+F14*E14 -> #REF! | I14: 19154 | J14: =+E14*I14 -> 996008 | L14: =+F14 -> #REF! | M14: =+L14*E14 -> #REF! | N14: =+IF(M14=G14,"ok","error") -> #REF! | O14: 1 | Q14: =+(3.64+3.52)*2+3.18+1.04+3.53+5.77+3.51+0.15+0.54+0.15+1.76+1.78+1.02+14.87 -> 51.62 | W14: =+ROUND(O14*Q14,0) -> 52 | X14: PRE Y POST, MORGUE PPAL Y SEPTICOS
B15: 1.7. | C15: Demolición de acabado de piso en enchape cerámico, epóxico u otro, afinado y placa de concreto hasta de 15 cms. Incluye cargue y el retiro de escombros a botadero autorizado (Cuarto frio y morgue ppal) | D15: M2 | E15: =+W15 -> 23 | F15: =+'EST.MERCADO.'!Z15 -> #REF! | G15: =+F15*E15 -> #REF! | I15: 57085 | J15: =+E15*I15 -> 1312955 | L15: =+F15 -> #REF! | M15: =+L15*E15 -> #REF! | N15: =+IF(M15=G15,"ok","error") -> #REF! | O15: 1.1 | U15: =+'AREAS Y PERIMETROS'!B16+'AREAS Y PERIMETROS'!B12*0.2 -> 21.32 | W15: =+ROUND(O15*U15,0) -> 23 | X15: CUARTO FRIO + 20% MORGUE PPTAL
B16: 1.8. | C16: Demolición de acabado de piso en enchape cerámico, epóxico y afinado hasta de 10 cms. Incluye retiro de rejillas de carcamos, contramarcos, cualquier elemento sobre el piso cargue y el retiro de escombros a botadero autorizado. (Pre y pos, recepcion, morgue ppal, cto cabinas , cto aseo, cto basuras y baño-vestieres) | D16: M2 | E16: =+W16 -> 130 | F16: =+'EST.MERCADO.'!Z16 -> #REF! | G16: =+F16*E16 -> #REF! | I16: 19540 | J16: =+E16*I16 -> 2540200 | L16: =+F16 -> #REF! | M16: =+L16*E16 -> #REF! | N16: =+IF(M16=G16,"ok","error") -> #REF! | O16: 1.1 | U16: =+SUM('AREAS Y PERIMETROS'!$B$8:$B$15) -> 117.94 | W16: =+ROUND(O16*U16,0) -> 130 | X16: ASEO, SEPTICOS, CABINAS, MORGUE PPAL RECEPCION, OFICINA RECEPCION
B17: 1.9. | C17: Desmonte de aparatos sanitarios. | D17: UN | E17: =+W17 -> 6 | F17: =+'EST.MERCADO.'!Z17 -> #REF! | G17: =+F17*E17 -> #REF! | I17: 24420 | J17: =+E17*I17 -> 146520 | L17: =+F17 -> #REF! | M17: =+L17*E17 -> #REF! | N17: =+IF(M17=G17,"ok","error") -> #REF! | O17: 1 | S17: 6 | W17: =+ROUND(O17*S17,0) -> 6 | X17: SANITARIOS Y LAVAMANOS VESTIERES + 2 SANITARIOS EN BAÑOS
B18: 1.10. | C18: Desmonte de lavamanos quirúrgicos | D18: UN | E18: =+W18 -> 2 | F18: =+'EST.MERCADO.'!Z18 -> #REF! | G18: =+F18*E18 -> #REF! | I18: 24420 | J18: =+E18*I18 -> 48840 | L18: =+F18 -> #REF! | M18: =+L18*E18 -> #REF! | N18: =+IF(M18=G18,"ok","error") -> #REF! | O18: 1 | S18: 2 | W18: =+ROUND(O18*S18,0) -> 2 | X18: SEPTICOS Y PASILLO MORGUE PPAL
B19: 1.11. | C19: Retiro de impermeabilización de placa equipos. Incluye cargue, retiro y disposición final de escombros en botadero autorizado | D19: M2 | E19: =+W19 -> 38 | F19: =+'EST.MERCADO.'!Z19 -> #REF! | G19: =+F19*E19 -> #REF! | I19: 14452 | J19: =+E19*I19 -> 549176 | L19: =+F19 -> #REF! | M19: =+L19*E19 -> #REF! | N19: =+IF(M19=G19,"ok","error") -> #REF! | O19: 1 | U19: =+'AREAS Y PERIMETROS'!B36 -> 38 | W19: =+ROUND(O19*U19,0) -> 38 | X19: CUBIERTA DE EQUIPOS
B20: 1.12. | C20: Limpieza de muros y pisos con hidrolavadora. Incluye todos los trabajos necesarios para su correcta ejecución. | D20: M2 | E20: =+W20 -> 16 | F20: =+'EST.MERCADO.'!Z20 -> #REF! | G20: =+F20*E20 -> #REF! | I20: 4459 | J20: =+E20*I20 -> 71344 | L20: =+F20 -> #REF! | M20: =+L20*E20 -> #REF! | N20: =+IF(M20=G20,"ok","error") -> #REF! | O20: 1.1 | Q20: =+'AREAS Y PERIMETROS'!B23+'AREAS Y PERIMETROS'!B24 -> 4.98 | R20: 2.87 | U20: 0 | W20: =+ROUND(((Q20*R20)*O20),0) -> 16 | X20: MUROS BAÑO PUBLICO DE HOMBRES Y MUJERES
B21: 1.13. | C21: Raspado de pintura, retiro de cintas en muros o cielorrasos en superboard. Incluye cargue y el retiro de escombros a botadero autorizado. | D21: M2 | E21: =+PINTURA!CB8 -> 110 | F21: =+'EST.MERCADO.'!Z21 -> #REF! | G21: =+F21*E21 -> #REF! | I21: 7005 | J21: =+E21*I21 -> 770550 | L21: =+F21 -> #REF! | M21: =+L21*E21 -> #REF! | N21: =+IF(M21=G21,"ok","error") -> #REF! | X21: ASEO, SEPTICOS, CABINAS, MORGUE PPAL RECEPCION, OFICINA RECEPCION Y MUROS DE VESTIERES
B22: 1.14. | C22: Demolición de enchape existente. Incluye cargue y retiro de excombros a botadero autorizado | D22: M2 | E22: =+W22 -> 1 | F22: =+'EST.MERCADO.'!Z22 -> #REF! | G22: =+F22*E22 -> #REF! | I22: 15064 | J22: =+E22*I22 -> 15064 | L22: =+F22 -> #REF! | M22: =+L22*E22 -> #REF! | N22: =+IF(M22=G22,"ok","error") -> #REF! | O22: 1.1 | Q22: 1.2 | R22: 0.4 | U22: =1*0.67 -> 0.67 | W22: =+ROUND(Q22*R22+U22,0) -> 1 | X22: COCINETA + POCETA BASURAS
