Workbook

Sheet DETALLE DE OFERTA
A1: ÁREA METROPOLITANA DEL VALLE DE ABURRÁ
A2: LICITACIÓN PUBLICA – LP 009 de 2025
A3: DETALLE DE OFERTA - FORMULARIO # 12 (PROPONENTE ADJUDICATARIO)
A4: Programacion del mantenimiento
C5: 365 | H5: Diario | I5: =ROUNDUP(C5*$C$12,0) -> 61
C6: 52 | H6: Semanal | I6: =ROUNDUP(C6*$C$12,0) -> 9
C7: 24 | H7: Quincenal | I7: =ROUND(C7*$C$12,0) -> 4
C8: 12 | H8: Mensual | I8: =ROUNDUP(C8*$C$12,0) -> 2
C9: 6 | H9: Bimensual | I9: =ROUNDUP(C9*$C$12,0) -> 1
C10: 4 | E10: =MOD(C13,12) -> 2 | H10: Trimestral | I10: =ROUNDUP(C10*$C$12,0) -> 1
C11: 2 | E11: =INT(C12) -> 0 | H11: Semestral | I11: =ROUNDUP(C11*$C$12,0) -> 1
C12: =C13/12 -> 0.16666667 | E12: =ROUNDUP(C12,0) -> 1 | H12: Anual | I12: =IF(AND(E10>0,E10<7),E11,E12) -> 0
C13: 2
A16: OBJETO: “REALIZAR EL MANTENIMIENTO PREVENTIVO Y CORRECTIVO PARA LOS CUARTOS DE MAQUINAS DE LAS PISCINAS, PLANTA DE TRATAMIENTO DE AGUAS RESIDUALES Y LLUVIAS DEL PARQUE METROPOLITANO DE LAS AGUAS”.
A17: ITEM | B17: GRUPO | C17: CODIGO | E17: CANT. DE EQUIPOS | F17: Importancia (1 - alta, 3 - baja) si es igual o menos de un mes | G17: ITEM | H17: MANTENIMIENTO PREDICTIVO/PREVENTIVO | J17: FRECUENCIA | K17: CANT. SEGÚN FRECUENCIA | L17: CANT. TOTAL (FRECUENCIA X EQUIPOS) | M17: VALOR OFERTADO UNITARIO ANTES DE IVA | N17: SUBTOTAL ANTES DE IVA (Frecuencia X Equipos) | O17: IVA | P17: VALOR OFERTADO TOTAL CON IVA
A18: 1 | B18: GABINETE | C18: 16GB | D18: Tablero de indicadores en el 2do piso (ancho x alto x profundidad) 130 x 114 x 25 Sin variadores Vol. Tablero 0.37 m3 | E18: 1 | F18: 1 | G18: A | H18: =VLOOKUP(G18,'Descripcion de actividades'!$A$3:$B$40,2,FALSE) -> Limpieza e inspeccion de los sistemas | I18: =VLOOKUP(G18,'Descripcion de actividades'!$A$3:$C$40,3,FALSE) -> 0 | J18: Semestral | K18: =VLOOKUP(J18,$H$5:$I$12,2,FALSE) -> 1 | L18: =IF($C$13<=1,IF(F18=1,E18*K18,IF(F18=2,E18*K18,IF(F18=3,0,"Revisar 2"))),E18*K18) -> 1 | N18: =M18*L18 -> 0 | O18: =ROUND(N18*0.19,0) -> 0 | P18: =N18+O18 -> 0
E19: 1 | F19: 1 | G19: B | H19: =VLOOKUP(G19,'Descripcion de actividades'!$A$3:$B$40,2,FALSE) -> Inspeccion de red de tierra en los sistemas | I19: =VLOOKUP(G19,'Descripcion de actividades'!$A$3:$C$40,3,FALSE) -> Resistencia electrica en la red de tierra física. Equipos de medicion con certificado de calibración vigente para ambos. | J19: Semestral | K19: =VLOOKUP(J19,$H$5:$I$12,2,FALSE) -> 1 | L19: =IF($C$13<=1,IF(F19=1,E19*K19,IF(F19=2,E19*K19,IF(F19=3,0,"Revisar 2"))),E19*K19) -> 1 | N19: =M19*L19 -> 0 | O19: =ROUND(N19*0.19,0) -> 0 | P19: =N19+O19 -> 0
E20: 1 | F20: 1 | G20: C | H20: =VLOOKUP(G20,'Descripcion de actividades'!$A$3:$B$40,2,FALSE) -> Inspeccion de red de tierra en los sistemas | I20: =VLOOKUP(G20,'Descripcion de actividades'!$A$3:$C$40,3,FALSE) -> Pruebas de continuidad en la red de tierra física. Equipos de medicion con certificado de calibración vigente para ambos. para ambos. | J20: Semestral | K20: =VLOOKUP(J20,$H$5:$I$12,2,FALSE) -> 1 | L20: =IF($C$13<=1,IF(F20=1,E20*K20,IF(F20=2,E20*K20,IF(F20=3,0,"Revisar 2"))),E20*K20) -> 1 | N20: =M20*L20 -> 0 | O20: =ROUND(N20*0.19,0) -> 0 | P20: =N20+O20 -> 0
E21: 1 | F21: 3 | G21: D | H21: =VLOOKUP(G21,'Descripcion de actividades'!$A$3:$B$40,2,FALSE) -> Desbalance en el suministro electrico (Calidad de la energia) | I21: =VLOOKUP(G21,'Descripcion de actividades'!$A$3:$C$40,3,FALSE) -> Desequilibrio de tension en sistemas. Equipos de medicion con certificado de calibración vigente para ambos. | J21: Semestral | K21: =VLOOKUP(J21,$H$5:$I$12,2,FALSE) -> 1 | L21: =IF($C$13<=1,IF(F21=1,E21*K21,IF(F21=2,E21*K21,IF(F21=3,0,"Revisar 2"))),E21*K21) -> 1 | N21: =M21*L21 -> 0 | O21: =ROUND(N21*0.19,0) -> 0 | P21: =N21+O21 -> 0
E22: 1 | F22: 3 | G22: E | H22: =VLOOKUP(G22,'Descripcion de actividades'!$A$3:$B$40,2,FALSE) -> Desbalance en el suministro electrico (Calidad de la energia) | I22: =VLOOKUP(G22,'Descripcion de actividades'!$A$3:$C$40,3,FALSE) -> Desequilibrio de corriente en sistemas. Equipos de medicion con certificado de calibración vigente para ambos. | J22: Semestral | K22: =VLOOKUP(J22,$H$5:$I$12,2,FALSE) -> 1 | L22: =IF($C$13<=1,IF(F22=1,E22*K22,IF(F22=2,E22*K22,IF(F22=3,0,"Revisar 2"))),E22*K22) -> 1 | N22: =M22*L22 -> 0 | O22: =ROUND(N22*0.19,0) -> 0 | P22: =N22+O22 -> 0
E23: 1 | F23: 2 | G23: F | H23: =VLOOKUP(G23,'Descripcion de actividades'!$A$3:$B$40,2,FALSE) -> Monitoreo de los parametros electricos. | I23: =VLOOKUP(G23,'Descripcion de actividades'!$A$3:$C$40,3,FALSE) -> Calidad de la energía: Voltaje, corriente, potencia activa, potencia reactiva, armonicos. Equipos de medicion con certificado de calibración vigente para ambos. | J23: Bimensual | K23: =VLOOKUP(J23,$H$5:$I$12,2,FALSE) -> 1 | L23: =IF($C$13<=1,IF(F23=1,E23*K23,IF(F23=2,E23*K23,IF(F23=3,0,"Revisar 2"))),E23*K23) -> 1 | N23: =M23*L23 -> 0 | O23: =ROUND(N23*0.19,0) -> 0 | P23: =N23+O23 -> 0
E24: 1 | F24: 3 | G24: G | H24: =VLOOKUP(G24,'Descripcion de actividades'!$A$3:$B$40,2,FALSE) -> Pruebas de arranque en cada uno de los equipos | I24: =VLOOKUP(G24,'Descripcion de actividades'!$A$3:$C$40,3,FALSE) -> Cheque de condiciones de operación, valor de la presion de trabajo | J24: Semanal | K24: =VLOOKUP(J24,$H$5:$I$12,2,FALSE) -> 9 | L24: =IF($C$13<=1,IF(F24=1,E24*K24,IF(F24=2,E24*K24,IF(F24=3,0,"Revisar 2"))),E24*K24) -> 9 | N24: =M24*L24 -> 0 | O24: =ROUND(N24*0.19,0) -> 0 | P24: =N24+O24 -> 0
E25: 1 | F25: 3 | G25: H | H25: =VLOOKUP(G25,'Descripcion de actividades'!$A$3:$B$40,2,FALSE) -> Analisis por termografia | I25: =VLOOKUP(G25,'Descripcion de actividades'!$A$3:$C$40,3,FALSE) -> Analisis del termograma. Equipos de medicion con certificado de calibración vigente para ambos. | J25: Semestral | K25: =VLOOKUP(J25,$H$5:$I$12,2,FALSE) -> 1 | L25: =IF($C$13<=1,IF(F25=1,E25*K25,IF(F25=2,E25*K25,IF(F25=3,0,"Revisar 2"))),E25*K25) -> 1 | N25: =M25*L25 -> 0 | O25: =ROUND(N25*0.19,0) -> 0 | P25: =N25+O25 -> 0
E26: 1 | F26: 1 | G26: K | H26: =VLOOKUP(G26,'Descripcion de actividades'!$A$3:$B$40,2,FALSE) -> Lubricacion, engrase, revision y ajuste tornilleria de los sistemas (sin desarme) | I26: =VLOOKUP(G26,'Descripcion de actividades'!$A$3:$C$40,3,FALSE) -> 0 | J26: Semestral | K26: =VLOOKUP(J26,$H$5:$I$12,2,FALSE) -> 1 | L26: =IF($C$13<=1,IF(F26=1,E26*K26,IF(F26=2,E26*K26,IF(F26=3,0,"Revisar 2"))),E26*K26) -> 1 | N26: =M26*L26 -> 0 | O26: =ROUND(N26*0.19,0) -> 0 | P26: =N26+O26 -> 0
E27: 1 | F27: 3 | G27: T | H27: =VLOOKUP(G27,'Descripcion de actividades'!$A$3:$B$40,2,FALSE) -> Informe de analisis de los equipo | I27: =VLOOKUP(G27,'Descripcion de actividades'!$A$3:$C$40,3,FALSE) -> Informe estado o condición del equipo según los parametros descritos en el MANUAL DE OPTIMIZACIÓN DE SISTEMAS DE BOMBEO, eficicia de energetica industrial en colombia, del ministerio de minas y energia | J27: Semestral | K27: =VLOOKUP(J27,$H$5:$I$12,2,FALSE) -> 1 | L27: =IF($C$13<=1,IF(F27=1,E27*K27,IF(F27=2,E27*K27,IF(F27=3,0,"Revisar 2"))),E27*K27) -> 1 | N27: =M27*L27 -> 0 | O27: =ROUND(N27*0.19,0) -> 0 | P27: =N27+O27 -> 0
C28: 1GB 9GB 10GB 17GB | D28: sin variador Vol. Tablero entre 0 - 1 m3 (inclusive) | E28: 4 | F28: 1 | G28: A | H28: =VLOOKUP(G28,'Descripcion de actividades'!$A$3:$B$40,2,FALSE) -> Limpieza e inspeccion de los sistemas | I28: =VLOOKUP(G28,'Descripcion de actividades'!$A$3:$C$40,3,FALSE) -> 0 | J28: Trimestral | K28: =VLOOKUP(J28,$H$5:$I$12,2,FALSE) -> 1 | L28: =IF($C$13<=1,IF(F28=1,E28*K28,IF(F28=2,E28*K28,IF(F28=3,0,"Revisar 2"))),E28*K28) -> 4 | N28: =M28*L28 -> 0 | O28: =ROUND(N28*0.19,0) -> 0 | P28: =N28+O28 -> 0
E29: 4 | F29: 1 | G29: B | H29: =VLOOKUP(G29,'Descripcion de actividades'!$A$3:$B$40,2,FALSE) -> Inspeccion de red de tierra en los sistemas | I29: =VLOOKUP(G29,'Descripcion de actividades'!$A$3:$C$40,3,FALSE) -> Resistencia electrica en la red de tierra física. Equipos de medicion con certificado de calibración vigente para ambos. | J29: Semestral | K29: =VLOOKUP(J29,$H$5:$I$12,2,FALSE) -> 1 | L29: =IF($C$13<=1,IF(F29=1,E29*K29,IF(F29=2,E29*K29,IF(F29=3,0,"Revisar 2"))),E29*K29) -> 4 | N29: =M29*L29 -> 0 | O29: =ROUND(N29*0.19,0) -> 0 | P29: =N29+O29 -> 0
E30: 4 | F30: 1 | G30: C | H30: =VLOOKUP(G30,'Descripcion de actividades'!$A$3:$B$40,2,FALSE) -> Inspeccion de red de tierra en los sistemas | I30: =VLOOKUP(G30,'Descripcion de actividades'!$A$3:$C$40,3,FALSE) -> Pruebas de continuidad en la red de tierra física. Equipos de medicion con certificado de calibración vigente para ambos. para ambos. | J30: Semestral | K30: =VLOOKUP(J30,$H$5:$I$12,2,FALSE) -> 1 | L30: =IF($C$13<=1,IF(F30=1,E30*K30,IF(F30=2,E30*K30,IF(F30=3,0,"Revisar 2"))),E30*K30) -> 4 | N30: =M30*L30 -> 0 | O30: =ROUND(N30*0.19,0) -> 0 | P30: =N30+O30 -> 0
E31: 4 | F31: 3 | G31: D | H31: =VLOOKUP(G31,'Descripcion de actividades'!$A$3:$B$40,2,FALSE) -> Desbalance en el suministro electrico (Calidad de la energia) | I31: =VLOOKUP(G31,'Descripcion de actividades'!$A$3:$C$40,3,FALSE) -> Desequilibrio de tension en sistemas. Equipos de medicion con certificado de calibración vigente para ambos. | J31: Semestral | K31: =VLOOKUP(J31,$H$5:$I$12,2,FALSE) -> 1 | L31: =IF($C$13<=1,IF(F31=1,E31*K31,IF(F31=2,E31*K31,IF(F31=3,0,"Revisar 2"))),E31*K31) -> 4 | N31: =M31*L31 -> 0 | O31: =ROUND(N31*0.19,0) -> 0 | P31: =N31+O31 -> 0
E32: 4 | F32: 3 | G32: E | H32: =VLOOKUP(G32,'Descripcion de actividades'!$A$3:$B$40,2,FALSE) -> Desbalance en el suministro electrico (Calidad de la energia) | I32: =VLOOKUP(G32,'Descripcion de actividades'!$A$3:$C$40,3,FALSE) -> Desequilibrio de corriente en sistemas. Equipos de medicion con certificado de calibración vigente para ambos. | J32: Semestral | K32: =VLOOKUP(J32,$H$5:$I$12,2,FALSE) -> 1 | L32: =IF($C$13<=1,IF(F32=1,E32*K32,IF(F32=2,E32*K32,IF(F32=3,0,"Revisar 2"))),E32*K32) -> 4 | N32: =M32*L32 -> 0 | O32: =ROUND(N32*0.19,0) -> 0 | P32: =N32+O32 -> 0
E33: 4 | F33: 2 | G33: F | H33: =VLOOKUP(G33,'Descripcion de actividades'!$A$3:$B$40,2,FALSE) -> Monitoreo de los parametros electricos. | I33: =VLOOKUP(G33,'Descripcion de actividades'!$A$3:$C$40,3,FALSE) -> Calidad de la energía: Voltaje, corriente, potencia activa, potencia reactiva, armonicos. Equipos de medicion con certificado de calibración vigente para ambos. | J33: Bimensual | K33: =VLOOKUP(J33,$H$5:$I$12,2,FALSE) -> 1 | L33: =IF($C$13<=1,IF(F33=1,E33*K33,IF(F33=2,E33*K33,IF(F33=3,0,"Revisar 2"))),E33*K33) -> 4 | N33: =M33*L33 -> 0 | O33: =ROUND(N33*0.19,0) -> 0 | P33: =N33+O33 -> 0
E34: 4 | F34: 3 | G34: G | H34: =VLOOKUP(G34,'Descripcion de actividades'!$A$3:$B$40,2,FALSE) -> Pruebas de arranque en cada uno de los equipos | I34: =VLOOKUP(G34,'Descripcion de actividades'!$A$3:$C$40,3,FALSE) -> Cheque de condiciones de operación, valor de la presion de trabajo | J34: Semanal | K34: =VLOOKUP(J34,$H$5:$I$12,2,FALSE) -> 9 | L34: =IF($C$13<=1,IF(F34=1,E34*K34,IF(F34=2,E34*K34,IF(F34=3,0,"Revisar 2"))),E34*K34) -> 36 | N34: =M34*L34 -> 0 | O34: =ROUND(N34*0.19,0) -> 0 | P34: =N34+O34 -> 0
E35: 4 | F35: 3 | G35: H | H35: =VLOOKUP(G35,'Descripcion de actividades'!$A$3:$B$40,2,FALSE) -> Analisis por termografia | I35: =VLOOKUP(G35,'Descripcion de actividades'!$A$3:$C$40,3,FALSE) -> Analisis del termograma. Equipos de medicion con certificado de calibración vigente para ambos. | J35: Semestral | K35: =VLOOKUP(J35,$H$5:$I$12,2,FALSE) -> 1 | L35: =IF($C$13<=1,IF(F35=1,E35*K35,IF(F35=2,E35*K35,IF(F35=3,0,"Revisar 2"))),E35*K35) -> 4 | N35: =M35*L35 -> 0 | O35: =ROUND(N35*0.19,0) -> 0 | P35: =N35+O35 -> 0
E36: 4 | F36: 1 | G36: K | H36: =VLOOKUP(G36,'Descripcion de actividades'!$A$3:$B$40,2,FALSE) -> Lubricacion, engrase, revision y ajuste tornilleria de los sistemas (sin desarme) | I36: =VLOOKUP(G36,'Descripcion de actividades'!$A$3:$C$40,3,FALSE) -> 0 | J36: Semestral | K36: =VLOOKUP(J36,$H$5:$I$12,2,FALSE) -> 1 | L36: =IF($C$13<=1,IF(F36=1,E36*K36,IF(F36=2,E36*K36,IF(F36=3,0,"Revisar 2"))),E36*K36) -> 4 | N36: =M36*L36 -> 0 | O36: =ROUND(N36*0.19,0) -> 0 | P36: =N36+O36 -> 0
E37: 4 | F37: 3 | G37: P | H37: =VLOOKUP(G37,'Descripcion de actividades'!$A$3:$B$40,2,FALSE) -> Analisis de aislamiento a los sistemas | I37: =VLOOKUP(G37,'Descripcion de actividades'!$A$3:$C$40,3,FALSE) -> Analisis de resistencia de aislamiento con correccion de temperatura. Equipos de medicion con certificado de calibración vigente para ambos. | J37: Semestral | K37: =VLOOKUP(J37,$H$5:$I$12,2,FALSE) -> 1 | L37: =IF($C$13<=1,IF(F37=1,E37*K37,IF(F37=2,E37*K37,IF(F37=3,0,"Revisar 2"))),E37*K37) -> 4 | N37: =M37*L37 -> 0 | O37: =ROUND(N37*0.19,0) -> 0 | P37: =N37+O37 -> 0
E38: 4 | F38: 3 | G38: T | H38: =VLOOKUP(G38,'Descripcion de actividades'!$A$3:$B$40,2,FALSE) -> Informe de analisis de los equipo | I38: =VLOOKUP(G38,'Descripcion de actividades'!$A$3:$C$40,3,FALSE) -> Informe estado o condición del equipo según los parametros descritos en el MANUAL DE OPTIMIZACIÓN DE SISTEMAS DE BOMBEO, eficicia de energetica industrial en colombia, del ministerio de minas y energia | J38: Semestral | K38: =VLOOKUP(J38,$H$5:$I$12,2,FALSE) -> 1 | L38: =IF($C$13<=1,IF(F38=1,E38*K38,IF(F38=2,E38*K38,IF(F38=3,0,"Revisar 2"))),E38*K38) -> 4 | N38: =M38*L38 -> 0 | O38: =ROUND(N38*0.19,0) -> 0 | P38: =N38+O38 -> 0
C39: 15GB | D39: sin variador Vol. Tablero 1 - 5 m3 (Inclusive) | E39: 1 | F39: 1 | G39: A | H39: =VLOOKUP(G39,'Descripcion de actividades'!$A$3:$B$40,2,FALSE) -> Limpieza e inspeccion de los sistemas | I39: =VLOOKUP(G39,'Descripcion de actividades'!$A$3:$C$40,3,FALSE) -> 0 | J39: =J29 -> Semestral | K39: =VLOOKUP(J39,$H$5:$I$12,2,FALSE) -> 1 | L39: =IF($C$13<=1,IF(F39=1,E39*K39,IF(F39=2,E39*K39,IF(F39=3,0,"Revisar 2"))),E39*K39) -> 1 | N39: =M39*L39 -> 0 | O39: =ROUND(N39*0.19,0) -> 0 | P39: =N39+O39 -> 0
E40: 1 | F40: 1 | G40: B | H40: =VLOOKUP(G40,'Descripcion de actividades'!$A$3:$B$40,2,FALSE) -> Inspeccion de red de tierra en los sistemas | I40: =VLOOKUP(G40,'Descripcion de actividades'!$A$3:$C$40,3,FALSE) -> Resistencia electrica en la red de tierra física. Equipos de medicion con certificado de calibración vigente para ambos. | J40: Semestral | K40: =VLOOKUP(J40,$H$5:$I$12,2,FALSE) -> 1 | L40: =IF($C$13<=1,IF(F40=1,E40*K40,IF(F40=2,E40*K40,IF(F40=3,0,"Revisar 2"))),E40*K40) -> 1 | N40: =M40*L40 -> 0 | O40: =ROUND(N40*0.19,0) -> 0 | P40: =N40+O40 -> 0
E41: 1 | F41: 1 | G41: C | H41: =VLOOKUP(G41,'Descripcion de actividades'!$A$3:$B$40,2,FALSE) -> Inspeccion de red de tierra en los sistemas | I41: =VLOOKUP(G41,'Descripcion de actividades'!$A$3:$C$40,3,FALSE) -> Pruebas de continuidad en la red de tierra física. Equipos de medicion con certificado de calibración vigente para ambos. para ambos. | J41: Semestral | K41: =VLOOKUP(J41,$H$5:$I$12,2,FALSE) -> 1 | L41: =IF($C$13<=1,IF(F41=1,E41*K41,IF(F41=2,E41*K41,IF(F41=3,0,"Revisar 2"))),E41*K41) -> 1 | N41: =M41*L41 -> 0 | O41: =ROUND(N41*0.19,0) -> 0 | P41: =N41+O41 -> 0
E42: 1 | F42: 3 | G42: D | H42: =VLOOKUP(G42,'Descripcion de actividades'!$A$3:$B$40,2,FALSE) -> Desbalance en el suministro electrico (Calidad de la energia) | I42: =VLOOKUP(G42,'Descripcion de actividades'!$A$3:$C$40,3,FALSE) -> Desequilibrio de tension en sistemas. Equipos de medicion con certificado de calibración vigente para ambos. | J42: Semestral | K42: =VLOOKUP(J42,$H$5:$I$12,2,FALSE) -> 1 | L42: =IF($C$13<=1,IF(F42=1,E42*K42,IF(F42=2,E42*K42,IF(F42=3,0,"Revisar 2"))),E42*K42) -> 1 | N42: =M42*L42 -> 0 | O42: =ROUND(N42*0.19,0) -> 0 | P42: =N42+O42 -> 0
...

Sheet Descripcion de actividades
A2: Item | B2: Descripcion | C2: Sub descripcion
A3: A | B3: Limpieza e inspeccion de los sistemas
A4: B | B4: Inspeccion de red de tierra en los sistemas | C4: Resistencia electrica en la red de tierra física. Equipos de medicion con certificado de calibración vigente para ambos.
A5: C | B5: Inspeccion de red de tierra en los sistemas | C5: Pruebas de continuidad en la red de tierra física. Equipos de medicion con certificado de calibración vigente para ambos. para ambos.
A6: D | B6: Desbalance en el suministro electrico (Calidad de la energia) | C6: Desequilibrio de tension en sistemas. Equipos de medicion con certificado de calibración vigente para ambos.
A7: E | B7: Desbalance en el suministro electrico (Calidad de la energia) | C7: Desequilibrio de corriente en sistemas. Equipos de medicion con certificado de calibración vigente para ambos.
A8: F | B8: Monitoreo de los parametros electricos. | C8: Calidad de la energía: Voltaje, corriente, potencia activa, potencia reactiva, armonicos. Equipos de medicion con certificado de calibración vigente para ambos.
A9: G | B9: Pruebas de arranque en cada uno de los equipos | C9: Cheque de condiciones de operación, valor de la presion de trabajo
A10: H | B10: Analisis por termografia | C10: Analisis del termograma. Equipos de medicion con certificado de calibración vigente para ambos.
A11: I | B11: Revision e inspeccion de fugas en todo el sistema
A12: J | B12: Revision y analisis de ajuste e interferencias mecanicas | C12: Revision de anclajes, cimentaciones y soporteria de los equipo
A13: K | B13: Lubricacion, engrase, revision y ajuste tornilleria de los sistemas (sin desarme)
A14: L | B14: Chequeo de presion y caudal de entrada y salida del sistema | C14: Monitoreo de la curva caudal vs adt del sistema: Medición de caudal volumétrico por ultrasonido no intrusivo,altura dinámica total con celda de presión diferencial con certificado de calibración vigente para ambos.
A15: M | B15: Analisis de vibraciones | C15: Analisis de vibraciones: Medición de vibraciones conjunto bomba motor que cumplan con la reglamentación ISO 10816-3 con certificado de calibración vigente para ambos.
A16: N | B16: Analisis de alineacion por equipo de alineacion laser | C16: Verificacion con alineacion laser con el método 1: 9-12-3. El método del reloj, también conocido como 9-12-3, es el origen de todas las alineaciones de ejes. Equipos de medicion con certificado de calibración vigente para ambos.
A17: O | B17: Analisis de balanceo mecanico del sistema | C17: Analisis de balanceo mecanico del sistema con la reglamentacion ISO 1940
A18: P | B18: Analisis de aislamiento a los sistemas | C18: Analisis de resistencia de aislamiento con correccion de temperatura. Equipos de medicion con certificado de calibración vigente para ambos.
A19: Q | B19: Analisis de aislamiento a los sistemas | C19: Indice de polarizacion. Equipos de medicion con certificado de calibración vigente para ambos.
A20: R | B20: Analisis de aislamiento a los sistemas | C20: Absorcion dielectrica. Equipos de medicion con certificado de calibración vigente para ambos.
A21: S | B21: Analisis de aceite dielectrico
A22: T | B22: Informe de analisis de los equipo | C22: Informe estado o condición del equipo según los parametros descritos en el MANUAL DE OPTIMIZACIÓN DE SISTEMAS DE BOMBEO, eficicia de energetica industrial en colombia, del ministerio de minas y energia
A23: U | B23: Cambios de empaquetadura de los sistemas
A24: V | B24: Calibracion del sistema
A25: W | B25: Cambio del kit de reparacion.
A26: X
A27: Y
A28: Z
A29: AA
A30: BB
A31: CC
A32: DD
A33: EE
A34: FF
A35: GG
A36: HH
A37: II
... A40: LL

Sheet Descripcion equipos
B2: cuarto | C2: maquina | D2: codigo | E2: especificacion | F2: foto
B3: Máxima | C3: Gabinete | D3: 1GB | E3: (ancho x alto x profundidad) 79 x 80 x 23. sin variador Vol. Tablero 0.14 m3
C5: bomba | D5: 1M1-1B1 | E5: 30 HP
C7: bomba | D7: 1M2-1B2 | E7: 20 HP
C9: bomba | D9: 1M3-1B3 | E9: 20 HP
C11: bomba | D11: 1M4-1B4 | E11: 20 HP
C13: reforzadora | D13: 1MB | E13: 2 HP
C15: achique | D15: 1BA | E15: 2 HP
C17: cloro | D17: 1CLO | E17: Clorador regal eyector grundfos
C19: soda | D19: 1DOS | E19: DDC 15-4 AR-PP/E/C-F-31I002FG
C21: filtro arena | D21: FILTRO ARENA | E21: peso operación: 11000 kgr vacío: 1600 kgr Diámetro: 1.22 m, long: 4.57 mts. Capacidad almacenamiento: 5.62 m3
C23: abasto | D23: ABASTO | E23: 3 pulg.
B25: Curvos neumaticos | C25: gabinete | D25: 2GB | E25: (ancho x alto x profundidad) 160 x 190 x 45 con 3 variadores Vol. Tablero 1.368 m3
C27: bomba | D27: 2M1-2B1 | E27: 20 HP
C29: bomba | D29: 2M2-2B2 | E29: 30 HP
C31: bomba | D31: 2M3-2B3 | E31: 30 HP
C33: reforzadora | D33: 2MB | E33: 1.8 HP
C35: achique | D35: 2BA | E35: 2 HP
C37: cloro | D37: 2CLO | E37: Clorador regal eyector grundfos
C39: soda | D39: 2DOS | E39: DDC 15-4 AR-PP/E/C-F-31I002FG
C41: filtro arena | D41: FILTRO ARENA | E41: peso operación: 4500 kgr vacío: 1000 kgr Diámetro: 1.22 m, long: 1.83 mts. Capacidad almacenamiento: 2.43 m3
C43: abasto | D43: ABASTO | E43: 3 pulg.
B45: Familiar | C45: gabinete | D45: 3GB | E45: (ancho x alto x profundidad) 160 x 190 x 45 con 2 variadores Vol. Tablero 1.368 m3
C47: bomba | D47: 3M1-3B1 | E47: 20 HP
C49: bomba | D49: 3M2-3B2 | E49: 15 HP
C51: bomba | D51: 3M3-3B3 | E51: 15 HP
C53: bomba | D53: 3M4-3B4 | E53: 75 HP
C55: reforzadora | D55: 3MB | E55: 2 HP
C57: achique | D57: 3BA | E57: 2 HP
C59: cloro | D59: 3CLO | E59: Clorador grundfos eyector grundfos
C61: soda | D61: 3DOS | E61: DDC 15-4 AR-PP/E/C-F-31I002FG
C63: filtro arena | D63: FILTRO ARENA | E63: peso operación: 4500 kgr vacío: 1000 kgr Diámetro: 1.22 m, long: 1.83 mts. Capacidad almacenamiento: 2.43 m3
C65: abasto | D65: ABASTO | E65: 3 pulg.
B67: Curvos velocidad | C67: gabinete | D67: 4GB | E67: (ancho x alto x profundidad) 160 x 190 x 45 con 1 variador Vol. Tablero 1.368 m3
C69: bomba | D69: 4M1-4B1 | E69: 25 HP
C71: bomba | D71: 4M2-4B2 | E71: 20 HP
C73: bomba | D73: 4M3-4B3 | E73: 20 HP
C75: bomba | D75: 4M4-4B4 | E75: 20 HP
C77: reforzadora | D77: 4MB | E77: 2 HP
C79: achique | D79: 4BA | E79: 2 HP
...
