Workbook

Sheet Cantidades Señalización SST2025
A1: #VALUE! | B1: TIPOS Y CARACTERÍSTICAS DE LA SEÑALIZACIÓN EN EL MARCO DE SST QUE SE ENTREGAN EN LOS CENTROS DE TRABAJO | X1: #VALUE!
A2: TIPO DE SEÑALIZACIÓN | D2: Prohibición | E2: Prohibición | F2: Prohibición | G2: Precaución | H2: Precaución | I2: Precaución | J2: Precaución | K2: Precaución | L2: Precaución | M2: Precaución | N2: Uso obligatorio | O2: DEMARCACIÓN | P2: Informativa | Q2: Informativa | R2: Informativa | S2: Informativa | T2: Informativa | U2: Precaución | V2: Precaución | W2: Precaución | X2: TOTAL
A3: MEDIDAS Y RECOMENDACIONES | D3: 30 X 20 CM Calibre 2 mm (texto en español y subtexto en inglés) con sistema braille | E3: 30 x 30 cm Calibre 2 mm (texto en español y subtexto en inglés) con sistema braille | F3: 30 x 30 cm Calibre 2 mm (texto en español y subtexto en inglés) con sistema braille | G3: 30 x 30 cm Calibre 2 mm (texto en español y subtexto en inglés) con sistema braille | H3: 30 x 30 cm Calibre 2 mm (texto en español y subtexto en inglés) con sistema braille | I3: 30 x 30 cm Calibre 2 mm (texto en español y subtexto en inglés) con sistema braille | J3: 30 x 30 cm Calibre 2 mm (texto en español y subtexto en inglés) con sistema braille | K3: 30 x 30 cm Calibre 2 mm (texto en español y subtexto en inglés) con sistema braille | L3: 30 x 40 cm Calibre 2 mm (texto en español y subtexto en inglés) con sistema braille | M3: 30 x 30 cm Calibre 2 mm (texto en español y subtexto en inglés) con sistema braille | N3: 30 x 30 cm Calibre 2 mm (texto en español y subtexto en inglés) con sistema braille | O3: Cinta amarilla Caja con un Ancho: 5 cm (min) grosor por 20 metros de largocon fotoluminicencia | P3: 30 x 20 cm Calibre 2 mm (texto en español y subtexto en inglés) con sistema braille | Q3: Señalización de Botiquines | R3: 20 x 15 CM Calibre 2 mm (texto en español y subtexto en inglés) FOTOLUMINISCIENTE (10 horas de luminosidad) | S3: 60 x 60 CM Calibre 2 mm (texto en español y subtexto en inglés) FOTOLUMINISCIENTE (10 horas de luminosidad) | T3: 30 x 22 cm Calibre 2 mm (texto en español y subtexto en inglés) | U3: 30 x 40 CM Calibre 2 mm (texto en español y subtexto en inglés) con sistema braille | V3: 30 x 40 cm Calibre 2 mm (texto en español y subtexto en inglés) con sistema braille | W3: 30 x 40 cm Calibre 2 mm (texto en español y subtexto en inglés) con sistema braille
A4: DESCRIPCIÓN O TEXTO | D4: Acceso Restringido | E4: No correr por las escaleras | F4: No correr en los pasillos | G4: Suelo irregular | H4: Cuidado con el escalón | I4: Cambio del nivel del piso | J4: Suelo Resbaladizo | K4: Riesgo de tropezar | L4: Caída a distinto nivel | M4: Proyección de balones | N4: Obligatorio Agarrarse del pasamanos | O4: Cintas fotoluminiscentes y antideslizantes en escaleras | P4: Primeros auxilios | Q4: Señalización de Botiquines | R4: Señalización camilla | S4: Señalización y demarcación del Punto de encuentro | T4: Libre de humo | U4: Riesgo biológico | V4: Peligro sustancias químicas | W4: Peligro Riesgo Eléctrico
A5: EJEMPLO DE SEÑAL | D5: #VALUE! | E5: #VALUE! | F5: #VALUE! | G5: #VALUE! | H5: #VALUE! | I5: #VALUE! | J5: #VALUE! | K5: #VALUE! | L5: #VALUE! | M5: #VALUE! | N5: #VALUE! | O5: #VALUE! | P5: #VALUE! | Q5: #VALUE! | R5: #VALUE! | S5: #VALUE! | T5: #VALUE! | U5: #VALUE! | V5: #VALUE! | W5: #VALUE!
A6: NOMBRE_ESTABLECIMIENTO_EDUCATIVO | B6: NOMBRE_LOCALIDAD | C6: DIRECCION-GEO
A7: SECRETARIA DE EDUACION | B7: NIVEL CENTRAL | C7: Av. El Dorado #66-63, Teusaquillo, Bogotá, Cundinamarca | D7: 2 | E7: 1 | F7: 1 | G7: 1 | H7: 1 | I7: 0 | J7: 0 | K7: 2 | L7: 2 | M7: 3 | N7: 4 | O7: 0 | P7: 0 | Q7: 0 | R7: 0 | S7: 0 | T7: 155 | U7: 0 | V7: 2 | W7: 0 | X7: =SUM(D7:W7) -> 174
A8: DLE PUENTE ARANDA | B8: PUENTE ARANDA | C8: Carrera 34 No. 12-17 | D8: 0 | E8: 0 | F8: 0 | G8: 0 | H8: 0 | I8: 0 | J8: 0 | K8: 0 | L8: 0 | M8: 0 | N8: 0 | O8: 0 | P8: 0 | Q8: 0 | R8: 0 | S8: 0 | T8: 3 | U8: 0 | V8: 0 | W8: 0 | X8: =SUM(D8:W8) -> 3
A9: DLE LOS MARTIRES | B9: LOS MARTIRES | C9: CALLE 1A No 28-41 | D9: 0 | E9: 0 | F9: 0 | G9: 0 | H9: 0 | I9: 0 | J9: 0 | K9: 0 | L9: 0 | M9: 0 | N9: 0 | O9: 0 | P9: 0 | Q9: 0 | R9: 0 | S9: 0 | T9: 3 | U9: 0 | V9: 0 | W9: 0 | X9: =SUM(D9:W9) -> 3
A10: DLE ANTONIO NARIÑO | B10: ANTONIO NARIÑO | C10: Calle 14 Sur N° 12C-26 | D10: 0 | E10: 0 | F10: 0 | G10: 0 | H10: 0 | I10: 0 | J10: 0 | K10: 0 | L10: 0 | M10: 0 | N10: 0 | O10: 0 | P10: 0 | Q10: 0 | R10: 0 | S10: 0 | T10: 3 | U10: 0 | V10: 0 | W10: 0 | X10: =SUM(D10:W10) -> 3
A11: DLE USAQUEN | B11: USAQUEN | C11: Calle 127C # 9a-03 | D11: 0 | E11: 0 | F11: 0 | G11: 0 | H11: 0 | I11: 0 | J11: 0 | K11: 0 | L11: 0 | M11: 0 | N11: 0 | O11: 0 | P11: 0 | Q11: 0 | R11: 0 | S11: 0 | T11: 3 | U11: 0 | V11: 0 | W11: 0 | X11: =SUM(D11:W11) -> 3
A12: DLE FONTIBON | B12: FONTIBON | C12: Calle 25 B No. 81-55 Modelia | D12: 0 | E12: 0 | F12: 0 | G12: 0 | H12: 0 | I12: 0 | J12: 0 | K12: 0 | L12: 0 | M12: 0 | N12: 0 | O12: 0 | P12: 0 | Q12: 0 | R12: 0 | S12: 0 | T12: 3 | U12: 0 | V12: 0 | W12: 0 | X12: =SUM(D12:W12) -> 3
A13: DLE SANTA FE | B13: SANTAFE | C13: Carrera 7 Nº 22-44 Segundo piso | D13: 0 | E13: 0 | F13: 0 | G13: 0 | H13: 0 | I13: 0 | J13: 0 | K13: 0 | L13: 0 | M13: 0 | N13: 0 | O13: 0 | P13: 0 | Q13: 0 | R13: 0 | S13: 0 | T13: 3 | U13: 0 | V13: 0 | W13: 0 | X13: =SUM(D13:W13) -> 3
A14: DLE SAN CRISTOBAL | B14: SAN CRISTOBAL | C14: Cra. 5A No. 27-19 Sur Obra Salesiana del Niño Jesus - Edificio Mama Margarita - Piso 3 | D14: 0 | E14: 0 | F14: 0 | G14: 0 | H14: 0 | I14: 0 | J14: 0 | K14: 0 | L14: 0 | M14: 0 | N14: 0 | O14: 0 | P14: 0 | Q14: 0 | R14: 0 | S14: 0 | T14: 3 | U14: 0 | V14: 0 | W14: 0 | X14: =SUM(D14:W14) -> 3
A15: DLE CIUDAD BOLIVAR | B15: CIUDAD BOLIVAR | C15: Calle 59 B Sur N° 45 D- 27 | D15: 0 | E15: 0 | F15: 0 | G15: 0 | H15: 0 | I15: 0 | J15: 0 | K15: 0 | L15: 0 | M15: 0 | N15: 0 | O15: 0 | P15: 0 | Q15: 0 | R15: 0 | S15: 0 | T15: 3 | U15: 0 | V15: 0 | W15: 0 | X15: =SUM(D15:W15) -> 3
A16: DLE TUNJUELITO | B16: TUNJUELITO | C16: Cll 48B Sur N° 27-80 | D16: 0 | E16: 0 | F16: 0 | G16: 0 | H16: 0 | I16: 0 | J16: 0 | K16: 0 | L16: 0 | M16: 0 | N16: 0 | O16: 0 | P16: 0 | Q16: 0 | R16: 0 | S16: 0 | T16: 3 | U16: 0 | V16: 0 | W16: 0 | X16: =SUM(D16:W16) -> 3
A17: DLE RAFAEL URIBE | B17: RAFAEL URIBE URIBE | C17: Av. Caracas N°. 29-13 sur | D17: 0 | E17: 0 | F17: 0 | G17: 0 | H17: 0 | I17: 0 | J17: 0 | K17: 0 | L17: 0 | M17: 0 | N17: 0 | O17: 0 | P17: 0 | Q17: 0 | R17: 0 | S17: 0 | T17: 3 | U17: 0 | V17: 0 | W17: 0 | X17: =SUM(D17:W17) -> 3
A18: DLE BOSA | B18: BOSA | C18: Calle 61 Sur No.80 H 28 | D18: 0 | E18: 0 | F18: 0 | G18: 0 | H18: 0 | I18: 0 | J18: 0 | K18: 0 | L18: 0 | M18: 0 | N18: 0 | O18: 0 | P18: 0 | Q18: 0 | R18: 0 | S18: 0 | T18: 3 | U18: 0 | V18: 0 | W18: 0 | X18: =SUM(D18:W18) -> 3
... A26: DLE SUBA | B26: SUBA | C26: Carrera 58 N°. 167 - 20 | D26: 0 | E26: 0 | F26: 0 | G26: 0 | H26: 0 | I26: 0 | J26: 0 | K26: 0 | L26: 0 | M26: 0 | N26: 0 | O26: 0 | P26: 0 | Q26: 0 | R26: 0 | S26: 0 | T26: 3 | U26: 0 | V26: 0 | W26: 0 | X26: =SUM(D26:W26) -> 3
A27: COLEGIO AQUILEO PARRA (IED) | B27: =+VLOOKUP(A27,Hoja2!$A$2:$B$728,2,0) -> USAQUEN | C27: Calle 127C # 9a-03 | D27: 0 | E27: 0 | F27: 0 | G27: 0 | H27: 0 | I27: 0 | J27: 0 | K27: 0 | L27: 0 | M27: 0 | N27: 0 | O27: 0 | P27: 0 | Q27: 0 | R27: 0 | S27: 0 | T27: 3 | U27: 0 | V27: 0 | W27: 0 | X27: =SUM(D27:W27) -> 3
A28: COLEGIO AGUSTIN FERNANDEZ (IED) | B28: =+VLOOKUP(A28,Hoja2!$A$2:$B$728,2,0) -> USAQUEN | C28: Calle 127C # 9a-03 | D28: 0 | E28: 0 | F28: 0 | G28: 0 | H28: 0 | I28: 0 | J28: 0 | K28: 0 | L28: 0 | M28: 0 | N28: 0 | O28: 0 | P28: 0 | Q28: 0 | R28: 0 | S28: 0 | T28: 12 | U28: 0 | V28: 0 | W28: 0 | X28: =SUM(D28:W28) -> 12
A29: COLEGIO FRIEDRICH NAUMANN (IED) | B29: =+VLOOKUP(A29,Hoja2!$A$2:$B$728,2,0) -> USAQUEN | C29: Calle 127C # 9a-03 | D29: 0 | E29: 0 | F29: 0 | G29: 0 | H29: 0 | I29: 0 | J29: 0 | K29: 0 | L29: 0 | M29: 0 | N29: 0 | O29: 0 | P29: 0 | Q29: 0 | R29: 0 | S29: 0 | T29: 6 | U29: 0 | V29: 0 | W29: 0 | X29: =SUM(D29:W29) -> 6
A30: COLEGIO TOBERIN (IED) | B30: =+VLOOKUP(A30,Hoja2!$A$2:$B$728,2,0) -> USAQUEN | C30: Calle 127C # 9a-03 | D30: 0 | E30: 0 | F30: 0 | G30: 0 | H30: 0 | I30: 0 | J30: 0 | K30: 0 | L30: 0 | M30: 0 | N30: 0 | O30: 0 | P30: 0 | Q30: 0 | R30: 0 | S30: 0 | T30: 9 | U30: 0 | V30: 0 | W30: 0 | X30: =SUM(D30:W30) -> 9
A31: COLEGIO NUEVO HORIZONTE (IED) | B31: =+VLOOKUP(A31,Hoja2!$A$2:$B$728,2,0) -> USAQUEN | C31: KR 5 B # 189 B - 30 | D31: 2 | E31: 0 | F31: 0 | G31: 0 | H31: 0 | I31: 0 | J31: 0 | K31: 0 | L31: 0 | M31: 0 | N31: 0 | O31: 0 | P31: 0 | Q31: 0 | R31: 4 | S31: 0 | T31: 12 | U31: 1 | V31: 2 | W31: 1 | X31: =SUM(D31:W31) -> 22
A32: COLEGIO SALUDCOOP NORTE (IED) | B32: =+VLOOKUP(A32,Hoja2!$A$2:$B$728,2,0) -> USAQUEN | C32: Calle 127C # 9a-03 | D32: 0 | E32: 0 | F32: 0 | G32: 0 | H32: 0 | I32: 0 | J32: 0 | K32: 0 | L32: 0 | M32: 0 | N32: 0 | O32: 0 | P32: 0 | Q32: 0 | R32: 0 | S32: 0 | T32: 3 | U32: 0 | V32: 0 | W32: 0 | X32: =SUM(D32:W32) -> 3
A33: COLEGIO USAQUEN (IED) | B33: =+VLOOKUP(A33,Hoja2!$A$2:$B$728,2,0) -> USAQUEN | C33: Calle 127C # 9a-03 | D33: 0 | E33: 0 | F33: 0 | G33: 0 | H33: 0 | I33: 0 | J33: 0 | K33: 0 | L33: 0 | M33: 0 | N33: 0 | O33: 0 | P33: 0 | Q33: 0 | R33: 0 | S33: 0 | T33: 6 | U33: 0 | V33: 0 | W33: 0 | X33: =SUM(D33:W33) -> 6
A34: COLEGIO UNION COLOMBIA (IED) | B34: =+VLOOKUP(A34,Hoja2!$A$2:$B$728,2,0) -> USAQUEN | C34: KR 7 A # 182 A - 07 | D34: 0 | E34: 0 | F34: 0 | G34: 2 | H34: 2 | I34: 2 | J34: 2 | K34: 4 | L34: 4 | M34: 0 | N34: 4 | O34: 0 | P34: 0 | Q34: 0 | R34: 0 | S34: 0 | T34: 6 | U34: 0 | V34: 0 | W34: 0 | X34: =SUM(D34:W34) -> 26
A35: COLEGIO DIVINO MAESTRO (IED) | B35: =+VLOOKUP(A35,Hoja2!$A$2:$B$728,2,0) -> USAQUEN | C35: KR 8 C # 163 B - 20 | D35: 3 | E35: 0 | F35: 0 | G35: 3 | H35: 3 | I35: 3 | J35: 3 | K35: 6 | L35: 3 | M35: 0 | N35: 3 | O35: 0 | P35: 0 | Q35: 0 | R35: 0 | S35: 0 | T35: 9 | U35: 1 | V35: 3 | W35: 1 | X35: =SUM(D35:W35) -> 41
A36: COLEGIO CRISTOBAL COLON (IED) | B36: =+VLOOKUP(A36,Hoja2!$A$2:$B$728,2,0) -> USAQUEN | C36: Calle 127C # 9a-03 | D36: 0 | E36: 0 | F36: 0 | G36: 0 | H36: 0 | I36: 0 | J36: 0 | K36: 0 | L36: 0 | M36: 0 | N36: 0 | O36: 0 | P36: 0 | Q36: 0 | R36: 0 | S36: 0 | T36: 9 | U36: 0 | V36: 0 | W36: 0 | X36: =SUM(D36:W36) -> 9
A37: COLEGIO GENERAL SANTANDER (IED) | B37: =+VLOOKUP(A37,Hoja2!$A$2:$B$728,2,0) -> USAQUEN | C37: Calle 127C # 9a-03 | D37: 0 | E37: 0 | F37: 0 | G37: 0 | H37: 0 | I37: 0 | J37: 0 | K37: 0 | L37: 0 | M37: 0 | N37: 0 | O37: 0 | P37: 0 | Q37: 0 | R37: 0 | S37: 0 | T37: 3 | U37: 0 | V37: 0 | W37: 0 | X37: =SUM(D37:W37) -> 3
A38: COLEGIO SIMON RODRIGUEZ (IED) | B38: =+VLOOKUP(A38,Hoja2!$A$2:$B$728,2,0) -> CHAPINERO | C38: Carrera 27A # 40A-28 | D38: 0 | E38: 0 | F38: 0 | G38: 0 | H38: 0 | I38: 0 | J38: 0 | K38: 0 | L38: 0 | M38: 4 | N38: 0 | O38: 0 | P38: 0 | Q38: 0 | R38: 0 | S38: 0 | T38: 9 | U38: 0 | V38: 0 | W38: 0 | X38: =SUM(D38:W38) -> 13
... A402: COLEGIO GIMNASIO DEL CAMPO JUAN DE LA CRUZ VARELA (IED) | B402: =+VLOOKUP(A402,Hoja2!$A$2:$B$728,2,0) -> SUMAPAZ | C402: Kilometro 35 vía San Juan de Sumapaz, Vereda Santa Rosa de Bodegas, Corregimiento de Nazareth. | D402: 0 | E402: 0 | F402: 0 | G402: 0 | H402: 0 | I402: 0 | J402: 0 | K402: 0 | L402: 0 | M402: 0 | N402: 0 | O402: 0 | P402: 0 | Q402: 0 | R402: 0 | S402: 0 | T402: 42 | U402: 0 | V402: 0 | W402: 0 | X402: =SUM(D402:W402) -> 42
A403: TOTAL | D403: =SUM(D7:D402) -> 65 | E403: =SUM(E7:E402) -> 50 | F403: =SUM(F7:F402) -> 50 | G403: =SUM(G7:G402) -> 85 | H403: =SUM(H7:H402) -> 105 | I403: =SUM(I7:I402) -> 200 | J403: =SUM(J7:J402) -> 77 | K403: =SUM(K7:K402) -> 90 | ... X403: =SUM(X7:X402) -> 4272

Sheet CARACTERISTICAS_SEÑALES SST
A1: CARACTERÍSTICAS TÉCNICAS Y TIPOS DE SEÑALIZACIÓN REQUERIDAS EN EL MARCO DE SEGURIDAD Y SALUD EN EL TRABAJO
A2: 1 | B2: TIPO SEÑALIZACIÓN Seguridad e higiene Industrial
A3: 2 | B3: USO DE LA SEÑALIZACIÓN: Promover la prevención de los accidentes y las enfermedades profesionales, a través de la comunicación gráfica, advirtiendo y reconociendo a tiempo los posibles riesgos presentes en las diferentes áreas laborales.
A4: 3 | B4: COLORES Y PICTOGRAMAS Colores y pictogramas plasmados por cada tipo de señal estandarizados con la normatividad nacional vigente: Resolución 2400 de 1979 "Por la cual se establecen algunas disposiciones sobre vivienda, higiene y seguridad en los establecimientos de trabajo Artículos 202 y 203" y Norma Técnica Colombiana 1461: Higiene y seguridad, Colores y señales de seguridad
A5: 4 | B5: FICHA TÉCNICA SEÑALIZACIÓN SIN BRAILLE: Material: Poliestireno Original Cal.80 Vinilo adhesivo Blanco: ARCLAD Impresión Digital: ROLAND Cabezales Dx7 GOLD Tintas: SUNCHEMICAL STREAMLINE GBL FREE Laminado: Barniz UV Screen Matte EXC90375 Método de instalación: Cinta Doble faz espumada 3M Perimetral
A6: 5 | B6: FICHA TÉCNICA SEÑALIZACIÓN CON BRAILLE: Material: Poliestireno Original Cal.80 Vinilo adhesivo Blanco: ARCLAD Impresión Digital: ROLAND Cabezales Dx7 GOLD Tintas: SUNCHEMICAL STREAMLINE GBL FREE Laminado: Barniz UV Screen Matte EXC90375 Pieza Acrílica: Acrílico Blanco Original 3MM BOLD Método de instalación: Cinta Doble faz espumada 3M Perimetral
A7: 6 | B7: SISTEMA BRAILLE Peso por esfera: 0.260000gr Color primario: Negro Material: Acrílico Tamaño: .059" La instalación y las esferas en el sistema braille que cumplan con los reglamentos establecidos con la norma internacional ADA.
A8: 7 | B8: SEÑALIZACIÓN REFLECTIVA: Material: Poliestireno Original Cal.80 Vinilo adhesivo Blanco: ARCLAD Vinilo adhesivo Reflectivo Blanco: 3M Impresión Digital: ROLAND Cabezales Dx7 GOLD Tintas: SUNCHEMICAL STREAMLINE GBL FREE Laminado: Barniz UV Screen Matte EXC90375 Pieza Acrílica: Acrílico Blanco Original 3MM BOLD Método de instalación: Cinta Doble faz espumada 3M Perimetral
A9: 8 | B9: FICHA TÉCNICA VINILO FOTOLUMINISCENTE: Tiempo de Brillo: 10 Horas Color: Verde Material: PVC adhesivo Durabilidad: Brillo 7 años en intemperie, Brillo 20 años en interiores
A10: 9 | B10: ESCUDO ENTIDAD TODA La señalización debe inclur el logo de la Entidad ubicado en la parte inferior derecha
A11: 10 | B11: DIMENSIONES Y NECESIDADES ESPECÍFICAS POR TIPO DE SEÑAL:
A12: PELIGRO LOCATIVO
A13: TIPO DE SEÑALIZACIÓN | B13: DIMENSIONES Y NECESIDADES | C13: DESCRIPCIÓN O TEXTO | D13: EJEMPLO DE SEÑAL
A14: Prohibición | B14: 30 X 20 CM Calibre 2 mm (texto en español y subtexto en inglés) con sistema braille | C14: Acceso Restringido | D14: #VALUE!
A15: Prohibición | B15: 30 x 30 cm Calibre 2 mm (texto en español y subtexto en inglés) con sistema braille | C15: No correr por las escaleras | D15: #VALUE!
A16: Prohibición | B16: 30 x 30 cm Calibre 2 mm (texto en español y subtexto en inglés) con sistema braille | C16: No correr en los pasillos | D16: #VALUE!
A17: Precaución | B17: 30 x 30 cm Calibre 2 mm (texto en español y subtexto en inglés) con sistema braille | C17: Suelo irregular | D17: #VALUE!
A18: Precaución | B18: 30 x 30 cm Calibre 2 mm (texto en español y subtexto en inglés) con sistema braille | C18: Cuidado con el escalón | D18: #VALUE!
A19: Precaución | B19: 30 x 30 cm Calibre 2 mm (texto en español y subtexto en inglés) con sistema braille | C19: Cambio del nivel del piso | D19: #VALUE!
A20: Precaución | B20: 30 x 30 cm Calibre 2 mm (texto en español y subtexto en inglés) con sistema braille | C20: Suelo Resbaladizo | D20: #VALUE!
A21: Precaución | B21: 30 x 30 cm Calibre 2 mm (texto en español y subtexto en inglés) con sistema braille | C21: Riesgo de tropezar | D21: #VALUE!
A22: Precaución | B22: 30 x 40 cm Calibre 2 mm (texto en español y subtexto en inglés) con sistema braille | C22: Caída a distinto nivel | D22: #VALUE!
A23: Precaución | B23: 30 x 30 cm Calibre 2 mm (texto en español y subtexto en inglés) con sistema braille | C23: Proyección de balones | D23: #VALUE!
A24: Uso obligatorio | B24: 30 x 30 cm Calibre 2 mm (texto en español y subtexto en inglés) con sistema braille | C24: Obligatorio Agarrarse del pasamanos | D24: #VALUE!
A25: DEMARCACIÓN | B25: Cinta amarilla Caja con un Ancho: 5 cm (min) grosor por 20 metros de largocon fotoluminicencia | C25: Cintas fotoluminiscentes y antideslizantes en escaleras | D25: #VALUE!
... A33: Precaución | B33: 30 x 40 cm Calibre 2 mm (texto en español y subtexto en inglés) con sistema braille | C33: Peligro Riesgo Eléctrico | D33: #VALUE!

Sheet Hoja2
A1: NOMBRE_ESTABLECIMIENTO_EDUCATIVO | B1: NOMBRE_LOCALIDAD
A2: COLEGIO AQUILEO PARRA (IED) | B2: USAQUEN
A3: COLEGIO AGUSTIN FERNANDEZ (IED) | B3: USAQUEN
A4: COLEGIO AGUSTIN FERNANDEZ (IED) | B4: USAQUEN
A5: COLEGIO AGUSTIN FERNANDEZ (IED) | B5: USAQUEN
A6: COLEGIO AGUSTIN FERNANDEZ (IED) | B6: USAQUEN
A7: COLEGIO FRIEDRICH NAUMANN (IED) | B7: USAQUEN
A8: COLEGIO FRIEDRICH NAUMANN (IED) | B8: USAQUEN
A9: COLEGIO TOBERIN (IED) | B9: USAQUEN
A10: COLEGIO TOBERIN (IED) | B10: USAQUEN
A11: COLEGIO TOBERIN (IED) | B11: USAQUEN
A12: COLEGIO NUEVO HORIZONTE (IED) | B12: USAQUEN
... A728: COLEGIO GIMNASIO DEL CAMPO JUAN DE LA CRUZ VARELA (IED) | B728: SUMAPAZ
