Workbook

Sheet ANEXO 1
A1: ANEXO 1
C2: ANÁLISIS DE COTIZACIONES
C3: ACTUALIZACION DE ENROLAMIENTOS (CONTROLES) BIOMETRICOS DE RECONOCIMIENTO FACIAL Y BANCO DE BATERÍAS PARA UPS MARCA EMERSON PARA EL LABORATORIO DEL GRUPO DE INFORMÁTICA FORENSE CTI.
F5: SIT S.A.S. | H5: LA CURACAO | J5: SURAMERICANA DE VIDEO Y SONIDO SAS | L5: INSITEL S.A. | N5: ANALISIS DE VARIABLES
F6: COTIZACIÓN 1 | H6: COTIZACIÓN 2 | J6: COTIZACIÓN 3 | L6: COTIZACIÓN 4 | N6: VALORES SIN IVA | S6: VALOR SELECCIONADO
A7: I. ACTUALIZACION DE ENROLAMIENTOS (CONTROLES) BIOMETRICOS DE RECONOCIMIENTO FACIAL PARA EL LABORATORIO DEL GRUPO DE INFORMÁTICA FORENSE CTI. | F7: VALOR UNITARIO SIN IVA | H7: VALOR UNITARIO SIN IVA | J7: VALOR UNITARIO SIN IVA | L7: VALOR UNITARIO SIN IVA | N7: VALOR UNITARIO SIN IVA | O7: VALOR UNITARIO SIN IVA | P7: VALOR UNITARIO SIN IVA | Q7: VALOR UNITARIO SIN IVA | S7: VALOR UNITARIO SIN IVA | T7: IVA | U7: VALOR UNITARIO INCLUIDO IVA | V7: VALOR TOTAL INCLUIDO IVA
A8: ITEM | B8: DESCRIPCIÓN | C8: UNIDAD DE MEDIDA | D8: CANTIDAD | N8: COTIZACIÓN MÁS BAJA | O8: COTIZACIÓN MÁS ALTA | P8: PROMEDIO | Q8: MEDIA ARITMÉTICA BAJA
A9: 1 | B9: PAQUETE DE SOFTWARE DSS PROFESSIONAL V8 QUE INCLUYA LICENCIAS DE PUERTA, 1 POR CADA ACCESO. SOPORTES PARA MONTAJE Y ANCLAJE EN SITIO, Y RECONFIGIURACION DE CABLEADO ESTRUCTURADO. CERTIFICACION DE CABLEADO. (SEGÚN FICHA TÉCNICA) | C9: LICENCIA | D9: 16 | F9: 739700 | H9: 804000 | J9: 115297 | L9: 57494.85 | N9: =ROUND(MIN(F9,H9),2) -> 739700 | O9: =ROUND(MAX(F9,H9),2) -> 804000 | P9: =ROUND(AVERAGE(F9,H9),2) -> 771850 | Q9: =ROUND(AVERAGE(N9,P9),2) -> 755775 | S9: =P9 -> 771850 | T9: =ROUND(S9*19%,2) -> 146651.5 | U9: =ROUND(S9+T9,2) -> 918501.5 | V9: =ROUND(U9*D9,2) -> 14696024
A10: 2 | B10: CONTROLADOR DE ACCESO DE RECONOCIMIENTO FACIAL INCORPORA DETECCIÓN DE MÁSCARA FACIAL Y DETECCIÓN DE CASCO DE SEGURIDAD. (SEGÚN FICHA TÉCNICA) | C10: EQUIPO | D10: 16 | F10: 2730919 | H10: 1404850 | J10: 756000 | L10: 17907859 | N10: =ROUND(MIN(F10,H10,J10),2) -> 756000 | O10: =ROUND(MAX(F10,H10,J10),2) -> 2730919 | P10: =ROUND(AVERAGE(F10,H10,J10),2) -> 1630589.7 | Q10: =ROUND(AVERAGE(N10,P10),2) -> 1193294.8 | S10: =P10 -> 1630589.7 | T10: =ROUND(S10*19%,2) -> 309812.04 | U10: =ROUND(S10+T10,2) -> 1940401.7 | V10: =ROUND(U10*D10,2) -> 31046427
A11: 3 | B11: CERRADURAS MAGNÉTICAS (SEGÚN FICHA TÉCNICA) | C11: UNIDAD | D11: 12 | F11: 553776 | H11: 254600 | J11: 511000 | L11: 124382.87 | N11: =ROUND(MIN(F11,H11,J11),2) -> 254600 | O11: =ROUND(MAX(F11,H11,J11),2) -> 553776 | P11: =ROUND(AVERAGE(F11,H11,J11),2) -> 439792 | Q11: =ROUND(AVERAGE(N11,P11),2) -> 347196 | S11: =P11 -> 439792 | T11: =ROUND(S11*19%,2) -> 83560.48 | U11: =ROUND(S11+T11,2) -> 523352.48 | V11: =ROUND(U11*D11,2) -> 6280229.8
A12: 4 | B12: SOPORTES CERRADURA MAGNÉTICAS (SEGÚN FICHA TÉCNICA) | C12: UNIDAD | D12: 12 | F12: 85000 | H12: 63500 | J12: 75600 | L12: 81142.8 | N12: =ROUND(MIN(F12,H12,J12,L12),2) -> 63500 | O12: =ROUND(MAX(F12,H12,J12,L12),2) -> 85000 | P12: =ROUND(AVERAGE(F12,H12,J12,L12),2) -> 76310.7 | Q12: =ROUND(AVERAGE(N12,P12),2) -> 69905.35 | S12: =P12 -> 76310.7 | T12: =ROUND(S12*19%,2) -> 14499.03 | U12: =ROUND(S12+T12,2) -> 90809.73 | V12: =ROUND(U12*D12,2) -> 1089716.8
A13: 5 | B13: BOTONES DE PUERTA DISEÑO PROFESIONAL (SEGÚN FICHA TÉCNICA) | C13: UNIDAD | D13: 12 | F13: 266633 | H13: 110000 | J13: 310000 | L13: 65777.51 | N13: =ROUND(MIN(F13,H13,J13),2) -> 110000 | O13: =ROUND(MAX(F13,H13,J13),2) -> 310000 | P13: =ROUND(AVERAGE(F13,H13,J13),2) -> 228877.67 | Q13: =ROUND(AVERAGE(N13,P13),2) -> 169438.84 | S13: =P13 -> 228877.67 | T13: =ROUND(S13*19%,2) -> 43486.76 | U13: =ROUND(S13+T13,2) -> 272364.43 | V13: =ROUND(U13*D13,2) -> 3268373.2
A14: 6 | B14: CONTROL FOTOELÉCTRICO PARA EVITAR EL FALLO MECÁNICO (SEGÚN FICHA TÉCNICA) | C14: UNIDAD | D14: 12 | F14: 718776 | H14: 104500 | J14: 3192000 | L14: 167104.92 | N14: =ROUND(MIN(H14,L14),2) -> 104500 | O14: =ROUND(MAX(H14,L14),2) -> 167104.92 | P14: =ROUND(AVERAGE(H14,L14),2) -> 135802.46 | Q14: =ROUND(AVERAGE(N14,P14),2) -> 120151.23 | S14: =P14 -> 135802.46 | T14: =ROUND(S14*19%,2) -> 25802.47 | U14: =ROUND(S14+T14,2) -> 161604.93 | V14: =ROUND(U14*D14,2) -> 1939259.2
A15: 7 | B15: LICENCIAMIENTO HERRAMIENTA ADMINISTRATIVA (LICENCIAMIENTO ADMINISTRATIVO DE LA APLICACIÓN, CON SOPORTE DE WINDOWS 10 IOT.) POR UN AÑO MÍNIMO. (SEGÚN FICHA TÉCNICA) | C15: LICENCIA | D15: 1 | F15: 1850000 | H15: 1200000 | J15: 7280000 | L15: 919917.57 | N15: =ROUND(MIN(F15,H15,L15),2) -> 919917.57 | O15: =ROUND(MAX(F15,H15,L15),2) -> 1850000 | P15: =ROUND(AVERAGE(F15,H15,L15),2) -> 1323305.9 | Q15: =ROUND(AVERAGE(N15,P15),2) -> 1121611.7 | S15: =P15 -> 1323305.9 | T15: =ROUND(S15*19%,2) -> 251428.11 | U15: =ROUND(S15+T15,2) -> 1574734 | V15: =ROUND(U15*D15,2) -> 1574734
A16: 8 | B16: GENERADOR DE REPORTES (SOFTWARE GENERADOR DE REPORTES - CRYSTAL REPORTS. LICENCIA), POR UN AÑO MÍNIMO. (SEGÚN FICHA TÉCNICA) | C16: UNIDAD | D16: 1 | F16: 3450000 | H16: 6500000 | J16: 8971200 | L16: 5367092.4 | N16: =ROUND(MIN(F16,H16,L16),2) -> 3450000 | O16: =ROUND(MAX(F16,H16,L16),2) -> 6500000 | P16: =ROUND(AVERAGE(F16,H16,L16),2) -> 5105697.5 | Q16: =ROUND(AVERAGE(N16,P16),2) -> 4277848.7 | S16: =P16 -> 5105697.5 | T16: =ROUND(S16*19%,2) -> 970082.52 | U16: =ROUND(S16+T16,2) -> 6075780 | V16: =ROUND(U16*D16,2) -> 6075780
A17: 9 | B17: EQUIPO O SERVIDOR DE ADMINISTRACIÓN (SEGÚN FICHA TÉCNICA) | C17: EQUIPO | D17: 1 | F17: 6850000 | H17: 32700000 | J17: 11060000 | L17: 25065737 | N17: =ROUND(MIN(F17,J17),2) -> 6850000 | O17: =ROUND(MAX(F17,J17),2) -> 11060000 | P17: =ROUND(AVERAGE(F17,J17),2) -> 8955000 | Q17: =ROUND(AVERAGE(N17,P17),2) -> 7902500 | S17: =P17 -> 8955000 | T17: =ROUND(S17*19%,2) -> 1701450 | U17: =ROUND(S17+T17,2) -> 10656450 | V17: =ROUND(U17*D17,2) -> 10656450
A18: TOTAL ACTUALIZACION DE ENROLAMIENTOS (CONTROLES) BIOMETRICOS DE RECONOCIMIENTO FACIAL | V18: =SUM(V9:V17) -> 76626994
A20: II. ACTUALIZACION DE BANCO DE BATERÍAS PARA UPS MARCA EMERSON PARA EL LABORATORIO DEL GRUPO DE INFORMÁTICA FORENSE CTI. | F20: VALOR UNITARIO SIN IVA | H20: VALOR UNITARIO SIN IVA | J20: VALOR UNITARIO SIN IVA | L20: VALOR UNITARIO SIN IVA | S20: VALOR UNITARIO SIN IVA | T20: IVA | U20: VALOR UNITARIO INCLUIDO IVA | V20: VALOR TOTAL INCLUIDO IVA
A21: ITEM | B21: DESCRIPCIÓN | C21: UNIDAD DE MEDIDA | D21: CANTIDAD
A22: 1 | B22: UPS (MARCA EMERSON), - CAMBIO DE BANCO DE BATERÍAS (SEGÚN FICHA TÉCNICA) | C22: UNIDAD | D22: 24 | F22: 1885714 | H22: 2177083 | J22: 29960000 | L22: 1931366 | N22: =ROUND(MIN(F22,H22,L22),2) -> 1885714 | O22: =ROUND(MAX(F22,H22,L22),2) -> 2177083 | P22: =ROUND(AVERAGE(F22,H22,L22),2) -> 1998054.3 | Q22: =ROUND(AVERAGE(N22,P22),2) -> 1941884.2 | S22: =P22 -> 1998054.3 | T22: =ROUND(S22*19%,2) -> 379630.32 | U22: =ROUND(S22+T22,2) -> 2377684.6 | V22: =ROUND(U22*D22,2) -> 57064432
A23: TOTAL ACTUALIZACION DE BANCO DE BATERÍAS PARA UPS MARCA EMERSON | V23: =SUM(V22) -> 57064432
A25: TOTAL ACTUALIZACION DE ENROLAMIENTOS (CONTROLES) BIOMETRICOS DE RECONOCIMIENTO FACIAL Y ACTUALIZACION DE BANCO DE BATERÍAS PARA UPS MARCA EMERSON | V25: =ROUND((V18+V23),2) -> 1.3369143e+08
A27: NOTAS:
A28: 1. El oferente debe indicar MARCA y MODELO de los equipos están cotizando y/o LINK del producto. 2. El oferente, en la estructuración de su oferta económica, deberá presentar máximo dos decimales, con el fin de no afectar el cálculo de variables como IVA, AYS o AIU. En el caso que se presenten más de dos decimales, se recomienda utilizar el método de redondeo estándar, esto es, si el tercer decimal es menor que 5, el segundo decimal se mantiene; si el tercer decimal es igual o mayor que 5, el segundo decimal se incrementa en uno.
A30: Fecha de elaboración: 02/09/2025
A32: Proyectó: | C32: Revisó:
A33: Firma | C33: Firma
A34: Nombre | C34: Nombre
A35: Cargo: | C35: Cargo:
A36: Área: | C36: Área:

Sheet ANEXO 2
A1: ANEXO 2
C2: ANÁLISIS PARA ESTABLECER EL VALOR FINAL
C3: ACTUALIZACION DE ENROLAMIENTOS (CONTROLES) BIOMETRICOS DE RECONOCIMIENTO FACIAL Y BANCO DE BATERÍAS PARA UPS MARCA EMERSON PARA EL LABORATORIO DEL GRUPO DE INFORMÁTICA FORENSE CTI.
G5: ANÁLISIS DE COTIZACIONES | L5: VALOR SELECCIONADO
A6: I. ACTUALIZACION DE ENROLAMIENTOS (CONTROLES) BIOMETRICOS DE RECONOCIMIENTO FACIAL PARA EL LABORATORIO DEL GRUPO DE INFORMÁTICA FORENSE CTI. | G6: VALOR UNITARIO SIN IVA | H6: IVA | I6: VALOR UNITARIO INCLUIDO IVA | J6: VALOR TOTAL INCLUIDO IVA | L6: VALOR UNITARIO SIN IVA | M6: IVA | N6: VALOR UNITARIO INCLUIDO IVA | O6: VALOR TOTAL INCLUIDO IVA
A7: ITEM | B7: DESCRIPCIÓN | C7: UNIDAD DE MEDIDA | D7: CANTIDAD
A8: 1 | B8: PAQUETE DE SOFTWARE DSS PROFESSIONAL V8 QUE INCLUYA LICENCIAS DE PUERTA, 1 POR CADA ACCESO. SOPORTES PARA MONTAJE Y ANCLAJE EN SITIO, Y RECONFIGIURACION DE CABLEADO ESTRUCTURADO. CERTIFICACION DE CABLEADO. (SEGÚN FICHA TÉCNICA) | C8: LICENCIA | D8: 16 | G8: ='ANEXO 1'!S9 -> 771850 | H8: =ROUND(G8*19%,2) -> 146651.5 | I8: =ROUND(G8+H8,2) -> 918501.5 | J8: =ROUND(I8*D8,2) -> 14696024 | L8: =G8 -> 771850 | M8: =ROUND(L8*19%,2) -> 146651.5 | N8: =ROUND(L8+M8,2) -> 918501.5 | O8: =ROUND(N8*$D8,2) -> 14696024
A9: 2 | B9: CONTROLADOR DE ACCESO DE RECONOCIMIENTO FACIAL INCORPORA DETECCIÓN DE MÁSCARA FACIAL Y DETECCIÓN DE CASCO DE SEGURIDAD. (SEGÚN FICHA TÉCNICA) | C9: EQUIPO | D9: 16 | G9: ='ANEXO 1'!S10 -> 1630589.7 | H9: =ROUND(G9*19%,2) -> 309812.04 | I9: =ROUND(G9+H9,2) -> 1940401.7 | J9: =ROUND(I9*D9,2) -> 31046427 | L9: =G9 -> 1630589.7 | M9: =ROUND(L9*19%,2) -> 309812.04 | N9: =ROUND(L9+M9,2) -> 1940401.7 | O9: =ROUND(N9*$D9,2) -> 31046427
A10: 3 | B10: CERRADURAS MAGNÉTICAS (SEGÚN FICHA TÉCNICA) | C10: UNIDAD | D10: 12 | G10: ='ANEXO 1'!S11 -> 439792 | H10: =ROUND(G10*19%,2) -> 83560.48 | I10: =ROUND(G10+H10,2) -> 523352.48 | J10: =ROUND(I10*D10,2) -> 6280229.8 | L10: =G10 -> 439792 | M10: =ROUND(L10*19%,2) -> 83560.48 | N10: =ROUND(L10+M10,2) -> 523352.48 | O10: =ROUND(N10*$D10,2) -> 6280229.8
A11: 4 | B11: SOPORTES CERRADURA MAGNÉTICAS (SEGÚN FICHA TÉCNICA) | C11: UNIDAD | D11: 12 | G11: ='ANEXO 1'!S12 -> 76310.7 | H11: =ROUND(G11*19%,2) -> 14499.03 | I11: =ROUND(G11+H11,2) -> 90809.73 | J11: =ROUND(I11*D11,2) -> 1089716.8 | L11: =G11 -> 76310.7 | M11: =ROUND(L11*19%,2) -> 14499.03 | N11: =ROUND(L11+M11,2) -> 90809.73 | O11: =ROUND(N11*$D11,2) -> 1089716.8
A12: 5 | B12: BOTONES DE PUERTA DISEÑO PROFESIONAL (SEGÚN FICHA TÉCNICA) | C12: UNIDAD | D12: 12 | G12: ='ANEXO 1'!S13 -> 228877.67 | H12: =ROUND(G12*19%,2) -> 43486.76 | I12: =ROUND(G12+H12,2) -> 272364.43 | J12: =ROUND(I12*D12,2) -> 3268373.2 | L12: =G12 -> 228877.67 | M12: =ROUND(L12*19%,2) -> 43486.76 | N12: =ROUND(L12+M12,2) -> 272364.43 | O12: =ROUND(N12*$D12,2) -> 3268373.2
A13: 6 | B13: CONTROL FOTOELÉCTRICO PARA EVITAR EL FALLO MECÁNICO (SEGÚN FICHA TÉCNICA) | C13: UNIDAD | D13: 12 | G13: ='ANEXO 1'!S14 -> 135802.46 | H13: =ROUND(G13*19%,2) -> 25802.47 | I13: =ROUND(G13+H13,2) -> 161604.93 | J13: =ROUND(I13*D13,2) -> 1939259.2 | L13: =G13 -> 135802.46 | M13: =ROUND(L13*19%,2) -> 25802.47 | N13: =ROUND(L13+M13,2) -> 161604.93 | O13: =ROUND(N13*$D13,2) -> 1939259.2
A14: 7 | B14: LICENCIAMIENTO HERRAMIENTA ADMINISTRATIVA (LICENCIAMIENTO ADMINISTRATIVO DE LA APLICACIÓN, CON SOPORTE DE WINDOWS 10 IOT.) POR UN AÑO MÍNIMO. (SEGÚN FICHA TÉCNICA) | C14: LICENCIA | D14: 1 | G14: ='ANEXO 1'!S15 -> 1323305.9 | H14: =ROUND(G14*19%,2) -> 251428.11 | I14: =ROUND(G14+H14,2) -> 1574734 | J14: =ROUND(I14*D14,2) -> 1574734 | L14: =G14 -> 1323305.9 | M14: =ROUND(L14*19%,2) -> 251428.11 | N14: =ROUND(L14+M14,2) -> 1574734 | O14: =ROUND(N14*$D14,2) -> 1574734
A15: 8 | B15: GENERADOR DE REPORTES (SOFTWARE GENERADOR DE REPORTES - CRYSTAL REPORTS. LICENCIA), POR UN AÑO MÍNIMO. (SEGÚN FICHA TÉCNICA) | C15: UNIDAD | D15: 1 | G15: ='ANEXO 1'!S16 -> 5105697.5 | H15: =ROUND(G15*19%,2) -> 970082.52 | I15: =ROUND(G15+H15,2) -> 6075780 | J15: =ROUND(I15*D15,2) -> 6075780 | L15: =G15 -> 5105697.5 | M15: =ROUND(L15*19%,2) -> 970082.52 | N15: =ROUND(L15+M15,2) -> 6075780 | O15: =ROUND(N15*$D15,2) -> 6075780
A16: 9 | B16: EQUIPO O SERVIDOR DE ADMINISTRACIÓN (SEGÚN FICHA TÉCNICA) | C16: EQUIPO | D16: 1 | G16: ='ANEXO 1'!S17 -> 8955000 | H16: =ROUND(G16*19%,2) -> 1701450 | I16: =ROUND(G16+H16,2) -> 10656450 | J16: =ROUND(I16*D16,2) -> 10656450 | L16: =G16 -> 8955000 | M16: =ROUND(L16*19%,2) -> 1701450 | N16: =ROUND(L16+M16,2) -> 10656450 | O16: =ROUND(N16*$D16,2) -> 10656450
A17: TOTAL ACTUALIZACION DE ENROLAMIENTOS (CONTROLES) BIOMETRICOS DE RECONOCIMIENTO FACIAL | J17: =SUM(J8:J16) -> 76626994 | O17: =SUM(O8:O16) -> 76626994
A19: II. ACTUALIZACION DE BANCO DE BATERÍAS PARA UPS MARCA EMERSON PARA EL LABORATORIO DEL GRUPO DE INFORMÁTICA FORENSE CTI. | G19: VALOR UNITARIO SIN IVA | H19: IVA | I19: VALOR UNITARIO INCLUIDO IVA | J19: VALOR TOTAL INCLUIDO IVA | L19: VALOR UNITARIO SIN IVA | M19: IVA | N19: VALOR UNITARIO INCLUIDO IVA | O19: VALOR TOTAL INCLUIDO IVA
A20: ITEM | B20: DESCRIPCIÓN | C20: UNIDAD DE MEDIDA | D20: CANTIDAD
A21: 1 | B21: UPS (MARCA EMERSON), - CAMBIO DE BANCO DE BATERÍAS (SEGÚN FICHA TÉCNICA) | C21: UNIDAD | D21: 24 | G21: ='ANEXO 1'!S22 -> 1998054.3 | H21: =ROUND(G21*19%,2) -> 379630.32 | I21: =ROUND(G21+H21,2) -> 2377684.6 | J21: =ROUND(I21*D21,2) -> 57064432 | L21: =G21 -> 1998054.3 | M21: =ROUND(L21*19%,2) -> 379630.32 | N21: =ROUND(L21+M21,2) -> 2377684.6 | O21: =ROUND(N21*$D21,2) -> 57064432
A22: TOTAL ACTUALIZACION DE BANCO DE BATERÍAS PARA UPS MARCA EMERSON | J22: =SUM(J21) -> 57064432 | O22: =SUM(O21) -> 57064432
A24: TOTAL ACTUALIZACION DE ENROLAMIENTOS (CONTROLES) BIOMETRICOS DE RECONOCIMIENTO FACIAL Y ACTUALIZACION DE BANCO DE BATERÍAS PARA UPS MARCA EMERSON | J24: =ROUND((J17+J22),2) -> 1.3369143e+08 | O24: =ROUND((O17+O22),2) -> 1.3369143e+08
A27: Fecha de elaboración: 02/09/2025
A29: Proyectó: | C29: Revisó:
A30: Firma | C30: Firma
A31: Nombre | C31: Nombre
A32: Cargo: | C32: Cargo:
A33: Área: | C33: Área:

Sheet ANEXO 3
A1: ANEXO 3
C2: ESTUDIO DE MERCADO DEFINITIVO
C3: ACTUALIZACION DE ENROLAMIENTOS (CONTROLES) BIOMETRICOS DE RECONOCIMIENTO FACIAL Y BANCO DE BATERÍAS PARA UPS MARCA EMERSON PARA EL LABORATORIO DEL GRUPO DE INFORMÁTICA FORENSE CTI.
F5: VALOR SELECCIONADO
A6: I. ACTUALIZACION DE ENROLAMIENTOS (CONTROLES) BIOMETRICOS DE RECONOCIMIENTO FACIAL PARA EL LABORATORIO DEL GRUPO DE INFORMÁTICA FORENSE CTI. | F6: VALOR UNITARIO SIN IVA | G6: IVA | H6: VALOR UNITARIO INCLUIDO IVA | I6: VALOR TOTAL INCLUIDO IVA
A7: ITEM | B7: DESCRIPCIÓN | C7: UNIDAD DE MEDIDA | D7: CANTIDAD
A8: 1 | B8: PAQUETE DE SOFTWARE DSS PROFESSIONAL V8 QUE INCLUYA LICENCIAS DE PUERTA, 1 POR CADA ACCESO. SOPORTES PARA MONTAJE Y ANCLAJE EN SITIO, Y RECONFIGIURACION DE CABLEADO ESTRUCTURADO. CERTIFICACION DE CABLEADO. (SEGÚN FICHA TÉCNICA) | C8: LICENCIA | D8: 16 | F8: ='ANEXO 2'!L8 -> 771850 | G8: =ROUND(F8*19%,2) -> 146651.5 | H8: =ROUND(F8+G8,2) -> 918501.5 | I8: =ROUND(H8*$D8,2) -> 14696024
A9: 2 | B9: CONTROLADOR DE ACCESO DE RECONOCIMIENTO FACIAL INCORPORA DETECCIÓN DE MÁSCARA FACIAL Y DETECCIÓN DE CASCO DE SEGURIDAD. (SEGÚN FICHA TÉCNICA) | C9: EQUIPO | D9: 16 | F9: ='ANEXO 2'!L9 -> 1630589.7 | G9: =ROUND(F9*19%,2) -> 309812.04 | H9: =ROUND(F9+G9,2) -> 1940401.7 | I9: =ROUND(H9*$D9,2) -> 31046427
A10: 3 | B10: CERRADURAS MAGNÉTICAS (SEGÚN FICHA TÉCNICA) | C10: UNIDAD | D10: 12 | F10: ='ANEXO 2'!L10 -> 439792 | G10: =ROUND(F10*19%,2) -> 83560.48 | H10: =ROUND(F10+G10,2) -> 523352.48 | I10: =ROUND(H10*$D10,2) -> 6280229.8
A11: 4 | B11: SOPORTES CERRADURA MAGNÉTICAS (SEGÚN FICHA TÉCNICA) | C11: UNIDAD | D11: 12 | F11: ='ANEXO 2'!L11 -> 76310.7 | G11: =ROUND(F11*19%,2) -> 14499.03 | H11: =ROUND(F11+G11,2) -> 90809.73 | I11: =ROUND(H11*$D11,2) -> 1089716.8
A12: 5 | B12: BOTONES DE PUERTA DISEÑO PROFESIONAL (SEGÚN FICHA TÉCNICA) | C12: UNIDAD | D12: 12 | F12: ='ANEXO 2'!L12 -> 228877.67 | G12: =ROUND(F12*19%,2) -> 43486.76 | H12: =ROUND(F12+G12,2) -> 272364.43 | I12: =ROUND(H12*$D12,2) -> 3268373.2
A13: 6 | B13: CONTROL FOTOELÉCTRICO PARA EVITAR EL FALLO MECÁNICO (SEGÚN FICHA TÉCNICA) | C13: UNIDAD | D13: 12 | F13: ='ANEXO 2'!L13 -> 135802.46 | G13: =ROUND(F13*19%,2) -> 25802.47 | H13: =ROUND(F13+G13,2) -> 161604.93 | I13: =ROUND(H13*$D13,2) -> 1939259.2
A14: 7 | B14: LICENCIAMIENTO HERRAMIENTA ADMINISTRATIVA (LICENCIAMIENTO ADMINISTRATIVO DE LA APLICACIÓN, CON SOPORTE DE WINDOWS 10 IOT.) POR UN AÑO MÍNIMO. (SEGÚN FICHA TÉCNICA) | C14: LICENCIA | D14: 1 | F14: ='ANEXO 2'!L14 -> 1323305.9 | G14: =ROUND(F14*19%,2) -> 251428.11 | H14: =ROUND(F14+G14,2) -> 1574734 | I14: =ROUND(H14*$D14,2) -> 1574734
A15: 8 | B15: GENERADOR DE REPORTES (SOFTWARE GENERADOR DE REPORTES - CRYSTAL REPORTS. LICENCIA), POR UN AÑO MÍNIMO. (SEGÚN FICHA TÉCNICA) | C15: UNIDAD | D15: 1 | F15: ='ANEXO 2'!L15 -> 5105697.5 | G15: =ROUND(F15*19%,2) -> 970082.52 | H15: =ROUND(F15+G15,2) -> 6075780 | I15: =ROUND(H15*$D15,2) -> 6075780
A16: 9 | B16: EQUIPO O SERVIDOR DE ADMINISTRACIÓN (SEGÚN FICHA TÉCNICA) | C16: EQUIPO | D16: 1 | F16: ='ANEXO 2'!L16 -> 8955000 | G16: =ROUND(F16*19%,2) -> 1701450 | H16: =ROUND(F16+G16,2) -> 10656450 | I16: =ROUND(H16*$D16,2) -> 10656450
A17: TOTAL ACTUALIZACION DE ENROLAMIENTOS (CONTROLES) BIOMETRICOS DE RECONOCIMIENTO FACIAL | I17: =SUM(I8:I16) -> 76626994
A19: II. ACTUALIZACION DE BANCO DE BATERÍAS PARA UPS MARCA EMERSON PARA EL LABORATORIO DEL GRUPO DE INFORMÁTICA FORENSE CTI. | F19: VALOR UNITARIO SIN IVA | G19: IVA | H19: VALOR UNITARIO INCLUIDO IVA | I19: VALOR TOTAL INCLUIDO IVA
A20: ITEM | B20: DESCRIPCIÓN | C20: UNIDAD DE MEDIDA | D20: CANTIDAD
A21: 1 | B21: UPS (MARCA EMERSON), - CAMBIO DE BANCO DE BATERÍAS (SEGÚN FICHA TÉCNICA) | C21: UNIDAD | D21: 24 | F21: ='ANEXO 2'!L21 -> 1998054.3 | G21: =ROUND(F21*19%,2) -> 379630.32 | H21: =ROUND(F21+G21,2) -> 2377684.6 | I21: =ROUND(H21*$D21,2) -> 57064432
A22: TOTAL ACTUALIZACION DE BANCO DE BATERÍAS PARA UPS MARCA EMERSON | I22: =SUM(I21) -> 57064432
A24: TOTAL ACTUALIZACION DE ENROLAMIENTOS (CONTROLES) BIOMETRICOS DE RECONOCIMIENTO FACIAL Y ACTUALIZACION DE BANCO DE BATERÍAS PARA UPS MARCA EMERSON | I24: =ROUND((I17+I22),2) -> 1.3369143e+08
A26: NOTAS:
A27: 1. El oferente debe indicar MARCA y MODELO de los equipos están cotizando y/o LINK del producto. 2. El oferente, en la estructuración de su oferta económica, deberá presentar máximo dos decimales, con el fin de no afectar el cálculo de variables como IVA, AYS o AIU. En el caso que se presenten más de dos decimales, se recomienda utilizar el método de redondeo estándar, esto es, si el tercer decimal es menor que 5, el segundo decimal se mantiene; si el tercer decimal es igual o mayor que 5, el segundo decimal se incrementa en uno.
A29: Fecha de elaboración: 02/09/2025
A31: Proyectó: | C31: Revisó:
A32: Firma | C32: Firma
A33: Nombre | C33: Nombre
A34: Cargo: | C34: Cargo:
A35: Área: | C35: Área:
