Workbook
Name _________________________________apu1: [1]INSUMOS!#REF!
Name ________________________________apu1: [1]INSUMOS!#REF!
Name _______________________________apu1: [1]INSUMOS!#REF!
Name ______________________________apu1: [1]INSUMOS!#REF!
Name ____________________________apu1: [1]INSUMOS!#REF!
Name ___________________________apu1: [1]INSUMOS!#REF!
Name __________________________apu1: [1]INSUMOS!#REF!
Name _________________________apu1: [1]INSUMOS!#REF!
Name ________________________apu1: [1]INSUMOS!#REF!
Name _______________________apu1: [1]INSUMOS!#REF!
Name _____________________apu1: [1]INSUMOS!#REF!
Name ____________________apu1: [1]INSUMOS!#REF!
Name ___________________apu1: [1]INSUMOS!#REF!
Name __________________apu1: [1]INSUMOS!#REF!
Name _________________apu1: [1]INSUMOS!#REF!
Name ________________apu1: [1]INSUMOS!#REF!
Name _______________apu1: [1]INSUMOS!#REF!
Name ______________apu1: [1]INSUMOS!#REF!
Name _____________apu1: [1]INSUMOS!#REF!
Name ____________apu1: [1]INSUMOS!#REF!
Name ___________apu1: [1]INSUMOS!#REF!
Name __________apu1: [1]INSUMOS!#REF!
Name _________apu1: [1]INSUMOS!#REF!
Name ________apu1: [1]INSUMOS!#REF!
Name _______apu1: [1]INSUMOS!#REF!
Name ______apu1: [1]INSUMOS!#REF!
Name _____apu1: [1]INSUMOS!#REF!
Name ____apu1: [1]INSUMOS!#REF!
Name ___apu1: [1]INSUMOS!#REF!
Name __apu1: [1]INSUMOS!#REF!
Name _a1: [1]INSUMOS!#REF!
Name _apu1: [1]INSUMOS!#REF!
Name _Key1: [1]INSUMOS!#REF!
Name _Order1: 255
Name _Sort: [1]INSUMOS!#REF!
Name a: [2]Insumos!#REF!
Name A.PVC: '[3]factores A.N.'!$M$7:$M$33
Name adfasdfsa: [2]Insumos!#REF!
Name adfasfadfa: [2]Insumos!#REF!
Name adsfadsfasdfafdasfdasfd: [1]INSUMOS!#REF!
Name adsfadsfasfasdfasfdasdfadsfdsafdsa: [2]Insumos!#REF!
Name afdaffaf: [2]Insumos!#REF!
Name AGUA: [4]INSUMOS!$D$4
Name ALAMB: [4]INSUMOS!$D$169
Name ANTISB: [4]INSUMOS!$D$181
Name asdfadsfadsfafda: [2]Insumos!#REF!
Name asdfasdf: [1]INSUMOS!#REF!
Name b: [2]Insumos!#REF!
Name Bd_2: [5]FACTORES!#REF!
Name BuiltIn_Print_Area: "$#REF!.$A$1:$#REF!.$F$5"
Name BuiltIn_Print_Titles: "$#REF!.$A$#REF!:$#REF!.$IV$#REF!"
Name CANTIDAD: '[6]LISTA DE CANTIDADES'!$A$7:$X$1122
Name CANTIDAD: '[6]LISTA DE CANTIDADES'!$A$7:$X$1122
Name Capitulo: [7]Capitulos!$B$1:$B$65536
Name CASQ: [8]FACTORES!#REF!
Name CEM: [4]INSUMOS!$D$275
Name cesped: [9]Mater!#REF!
Name CILIND: [10]TUBERIA!$AE$10:$AE$14
Name CON.TUB: [5]TUBERIA!#REF!
Name cora: [1]INSUMOS!#REF!

Sheet PPTO
A1: PARQUES NACIONALES NATURALES DE COLOMBIA
A2: SF ISLA DE LA COROTA
A3: CÁLCULO INTERVENTORIA
A5: PROYECTO | D5: =+A2 -> SF ISLA DE LA COROTA
A6: TIEMPO TOTAL EN MESES | G6: MESES | H6: 8
A9: COSTOS DE PERSONAL PROFESIONAL | D9: A | E9: B | F9: C | G9: D | H9: J
D10: REMUNERACION MENSUAL | E10: CANTIDAD DE PERSONAS | F10: % DE DEDICACION | G10: Tiempo Total en meses | H10: VALOR TOTAL (A*B*C*D)
A11: CARGO / OFICIO (1)
A12: ETAPA DE APROPIACIÓN DE DISEÑOS, PRECONSTRUCCIÓN, LOGISTICA, CONSTRUCCIÓN Y LIQUIDACIÓN
A13: Director de Interventoría | C13: Título profesional de ingeniero civil o arquitecto con titulo de postgrado en gerencia de obra o gerencia de proyectos o afines. Experiencia general de seis (6) años contados a partir de la expedición de la tarjeta profesional. Experiencia especifica certificada de cuatro (04) años como Director de Interventoría en contratos de construcción de edificaciones. | D13: 0 | E13: 1 | F13: 0.2 | G13: 8 | H13: =ROUND((D13*E13*F13*G13),0) -> 0
A14: Residente Interventoría | C14: Título profesional de arquitecto. Experiencia general de seis (6) años contados a partir de la expedición de la tarjeta profesional. Experiencia especifica certificada de cuatro (04) años como residente de Interventoría en contratos de construcción de edificaciones. Experiencia como residente de Interventoría en un (01) proyecto en construcción liviana en madera. | D14: 0 | E14: 1 | F14: 1 | G14: 8 | H14: =ROUND((D14*E14*F14*G14),0) -> 0
A15: Profesional SISOMA | C15: Título profesional de ingeniero ambiental con titulo de postgrado en SST (Seguridad y Salud en el trabajo), o afines, con licencia vigente. Experiencia general de tres (03) años contados a partir de la expedición de la tarjeta profesional. Experiencia especifica certificada de dos (02) años como residente SISOMA de interventoría (Seguridad Industrial, Seguridad Ocupacional y Medio Ambiente o afines) de obras civiles. | D15: 0 | E15: 1 | F15: 1 | G15: 8 | H15: =ROUND((D15*E15*F15*G15),0) -> 0
A16: Ingeniero Estructural | C16: Título profesional de ingeniero civil con titulo de postgrado en el área de especialista estructural o afines. Experiencia general de seis (6) años contados a partir de la expedición de la tarjeta profesional. Experiencia especifica certificada de cuatro (04) años como especialista estructural de Interventoría en contratos de construcción de edificaciones. Experiencia como diseñador estructural en un (01) proyecto de estructura liviana en madera. | D16: 0 | E16: 1 | F16: 0.5 | G16: 5 | H16: =ROUND((D16*E16*F16*G16),0) -> 0
A17: Ingeniero Eléctrico | C17: Título profesional de ingeniero electricista o ingeniero eléctrico. Experiencia general de cuatro (04) años contados a partir de la expedición de la tarjeta profesional. Experiencia especifica certificada de tres (03) años como especialista eléctricista de Interventoría en contratos de construcción de edificaciones. | D17: 0 | E17: 1 | F17: 0.2 | G17: 2 | H17: =ROUND((D17*E17*F17*G17),0) -> 0
A18: Auxiliar administrativo | C18: Título de Técnico Laboral en Auxiliar Administrativo. Experiencia general de un (03) años contados a partir de la fecha de grado. Experiencia especifica certificada de un (01) año como Auxiliar Administrativo. | D18: 0 | E18: 1 | F18: 0.5 | G18: 8 | H18: =ROUND((D18*E18*F18*G18),0) -> 0
A19: Secretaria | C19: Título de Técnico Laboral en Secretariado. Experiencia general de un (03) años contados a partir de la fecha de grado. Experiencia especifica certificada de un (01) año como Secretaria/o. | D19: 0 | E19: 1 | F19: 0.5 | G19: 8 | H19: =ROUND((D19*E19*F19*G19),0) -> 0
A20: Abogado | C20: Título profesional de abogado con titulo de postgrado en contratación estatal o afines. Experiencia general de seis (6) años contados a partir de la expedición de la tarjeta profesional. Experiencia especifica certificada de tres (03) años de ejecución de proyectos del sector público, relacionados con conocimientos especializados en derecho constitucional, derecho y contencioso administrativos, derecho contractual, administrativo, gestión pública y del régimen disciplinario, fiscal y penal en Colombia. | D20: 0 | E20: 1 | F20: 0.1 | G20: 8 | H20: =ROUND((D20*E20*F20*G20),0) -> 0
A21: SUBTOTAL COSTOS DE PERSONAL (1) | H21: =SUM(H13:H20) -> 0
A22: FACTOR MULTIPLICADOR (2)
A23: (1) TOTAL COSTOS DE PERSONAL ETAPA DE CONSTRUCCION | H23: =ROUND(H21*H22,0) -> 0
A26: GASTOS LEGALES
A27: IVA (19%) | H27: =H23*0.19 -> 0
A28: ( 2 ) TOTAL IVA | H28: =SUM(H27) -> 0
A30: COSTO = (1) + (2) = (3) | H30: =ROUND(H23+H28,0) -> 0
A31: (3) COSTO TOTAL INTERVENTORIA | H31: =H30 -> 0
A33: TOTAL COSTOS INTERVENTORIA | H33: =H31 -> 0
A35: NOTA: La oferta debe registrar los precios unitarios incluido IVA. Si el proponente no incluye el impuesto del IVA, este nuevo valor no podrá ser reconocido por PARQUES NACIONALES NATURALES DE COLOMBIA y el proponente deberá asumir el costo del impuesto. Solo se pagarán los precios contratados y, por tanto, no reconocerá suma alguna por impuestos ni reajustes a los precios ofertados.
B36: PRECIOS UNITARIOS DEL PROPONENTE
B37: PORCENTAJES DEL PROPONENTE
A38: Firma: ___________________ Nombre o Razón Social del Proponente: ________________ NIT: _________________ Nombre del Representante Legal: ______________________ Documento de Identidad N.º ____________ de ___________ Dirección: _________________________________________ Teléfonos: ______________________________ Ciudad: ________________________________ Correo electrónico: _______________________

Sheet FM
B2: CALCULO DE PRESTACIONES:
B4: Salario
B5: Salario | C5: 1
B6: Total: | C6: =+C5 -> 1
B7: Prestaciones Legales
B8: Cesantías | C8: 0.0833
B9: Intereses sobre cesantías | C9: 0.01
B10: Vacaciones anuales | C10: 0.0417
B11: Primas anuales | C11: 0.0833
B12: Total: | C12: =+C8+C9+C10+C11 -> 0.2183
B13: Aportes Patronales
B14: Caja de compensación | C14: 0.04
B15: Aportes SENA | C15: 0.02
B16: ICBF | C16: 0.03
B17: Salud, Pensión, ARL | C17: =12%+8.5%+6.96% -> 0.2746
B18: Total: | C18: =+C17+C16+C15+C14 -> 0.3646
B20: Total | C20: =+C6+C12+C18 -> 1.5829 | D20: Mayor a 2 SMMLV
B23: CALCULO DE PRESTACIONES:
B25: Salario
B26: Salario | C26: 1
B27: Total: | C27: =+C26 -> 1
B28: Prestaciones Legales
B29: Cesantías | C29: 0.0833
B30: Intereses sobre cesantías | C30: 0.01
B31: Vacaciones anuales | C31: 0.0417
B32: Primas anuales | C32: 0.0833
B33: Transporte | C33: 0.06
B34: Total: | C34: =+C29+C30+C31+C32+C33 -> 0.2783
B35: Aportes Patronales | E35: =162000/(1300000*2) -> 0.062307692
B36: Caja de compensación | C36: 0.04
B37: Aportes SENA | C37: 0.02
B38: ICBF | C38: 0.03
B39: Salud, Pensión, ARL | C39: =12%+8.5%+6.96% -> 0.2746
B40: Total: | C40: =+C39+C38+C37+C36 -> 0.3646
B42: Total | C42: =+C27+C34+C40 -> 1.6429 | D42: Menor a 2 SMMLV

Sheet AIU
A1: DESGLOSE DE ADMINISTRACIÓN
A3: Adecuación SUBSEDE
B6: COSTO DIRECTO ESTIMADO DE OBRA (CD) | F6: ='[23]OFERTA ECONÓMICA'!G169 -> #REF!
B7: ADMINISTRACIÓN (A) | E7: =+ROUND(I88/F6,4) -> #REF! | F7: =+E7*F6 -> #REF!
B8: IMPREVISTOS (I) | E8: 0.01 | F8: =+ROUND(F6*E8,0) -> #REF!
B9: UTILIDADES (U) | E9: 0.03 | F9: =+ROUND(F6*E9,0) -> #REF!
B10: IVA SOBRE UTILIDAD (U) | E10: 0.19 | F10: =+ROUND(F9*E10,0) -> #REF!
B12: TOTAL ETAPA DE CONSTRUCCIÓN INCLUIDO AIU E IVA SOBRE LA UTILIDAD | F12: =ROUND(SUM(F6:F11),0) -> #REF!
B14: TERMINO ESTIMADO DE EJECUCIÓN DEL CONTRATO | E14: 3.5 | F14: MESES
A16: A. ADMINISTRACIÓN
A18: 1. COSTOS DE PERSONAL (Según Necesidad)
A19: # | B19: CARGO | C19: CANT. | D19: UND | E19: TIEMPO (MES) A | F19: DEDICACIÓN MES | G19: ASIGNACIÓN BÁSICA | H19: FACTOR PRESTACIONAL | I19: SALARIO MÁS PRESTACIONES
F20: B | G20: C | H20: D | I20: E = A * B * C * D
A21: 1.1 PERSONAL REQUERIDO PROFESIONAL.
A22: 1,1,1 | B22: DIRECTOR DE OBRA | C22: 1 | E22: =+$E$14 -> 3.5 | F22: 0.1 | G22: =+'MER PERS'!N8 -> #REF! | H22: =+FM!C20 -> 1.5829 | I22: =+C22*E22*F22*G22*H22 -> #REF!
A23: 1,1,2 | B23: RESIDENTE DE OBRA | C23: 1 | E23: =+$E$14 -> 3.5 | F23: 1 | G23: =+'MER PERS'!$N$11 -> #REF! | H23: =+FM!C20 -> 1.5829 | I23: =+C23*E23*F23*G23*H23 -> #REF!
A24: 1,1,3 | B24: ING. ESTRUCTURAL | C24: 0 | F24: 0.1 | G24: =+'MER PERS'!$N$8 -> #REF! | H24: =+FM!C20 -> 1.5829 | I24: =+C24*E24*F24*G24*H24 -> #REF!
A25: 1,1,4 | B25: ING. ELÉCTRICO | C25: 1 | E25: =+$E$14 -> 3.5 | F25: 0.1 | G25: ='MER PERS'!N11 -> #REF! | H25: =+FM!C20 -> 1.5829 | I25: =+C25*E25*F25*G25*H25 -> #REF!
A26: 1,1,5 | B26: ING. SANITARIO | C26: 1 | E26: =+$E$14 -> 3.5 | F26: 0.1 | G26: ='MER PERS'!N11 -> #REF! | H26: =+FM!C20 -> 1.5829 | I26: =+C26*E26*F26*G26*H26 -> #REF!
A27: 1,1,6 | B27: SISOMA | C27: 0 | F27: 1 | G27: =+'MER PERS'!N12 -> #REF! | H27: =+FM!C20 -> 1.5829 | I27: =+C27*E27*F27*G27*H27 -> #REF!
A28: 1,1,7 | B28: DISEÑADOR ESTRUCTURAL (ETAPA APROPIACIÓN DE DISEÑOS) | C28: 0 | G28: =+'MER PERS'!$N$8 -> #REF! | H28: =+FM!C20 -> 1.5829 | I28: =+C28*E28*F28*G28*H28 -> #REF!
A29: 1,1,8 | B29: ING. ELÉCTRICO (ETAPA APROPIACIÓN DE DISEÑOS) | C29: 0 | G29: =+'MER PERS'!$N$11 -> #REF! | H29: =+FM!C20 -> 1.5829 | I29: =+C29*E29*F29*G29*H29 -> #REF!
A30: 1.2 PERSONAL TÉCNICO Y PERSONAL AUXILIAR TÉCNICO (Según Necesidad)
A31: 1,2,1 | B31: TÉCNICO O TECNÓLOGO SST | C31: 1 | E31: =+$E$14 -> 3.5 | F31: 1 | G31: ='MER PERS'!N14 -> #REF! | H31: =+FM!C20 -> 1.5829 | I31: =+C31*E31*F31*G31*H31 -> #REF!
A32: 1,2,2 | B32: MAESTRO DE OBRA O CARPINTERO GENERAL | C32: 0 | E32: =+$E$14 -> 3.5 | F32: 1 | G32: =+'MER PERS'!N15 -> #REF! | H32: =+FM!C20 -> 1.5829 | I32: =+C32*E32*F32*G32*H32 -> #REF!
A33: 1.3 PERSONAL ADMINISTRATIVO (Según Necesidad)
A34: 1,3,1 | B34: GERENCIA | C34: 0 | E34: =+E14 -> 3.5 | F34: 1 | G34: =+'MER PERS'!N18 -> #REF! | H34: =+FM!C42 -> 1.6429 | I34: =+C34*E34*F34*G34*H34 -> #REF!
A35: 1,3,2 | B35: AUXILIAR ADMINISTRATIVO-ALMACENISTA | C35: 0 | E35: =+E14 -> 3.5 | F35: 1 | G35: =+'MER PERS'!N18 -> #REF! | H35: =+FM!C42 -> 1.6429 | I35: =+C35*E35*F35*G35*H35 -> #REF!
A36: 1,3,3 | B36: SECRETARIA | C36: 0 | E36: =+E14 -> 3.5 | F36: 1 | G36: =+'MER PERS'!N18 -> #REF! | H36: =+FM!C42 -> 1.6429 | I36: =+C36*E36*F36*G36*H36 -> #REF!
A37: 1,3,4 | B37: CONTADOR | C37: 0 | E37: =+E14 -> 3.5 | F37: 0.5 | G37: =+'MER PERS'!N11 -> #REF! | H37: =+FM!C20 -> 1.5829 | I37: =+C37*E37*F37*G37*H37 -> #REF!
A38: 1,3,5 | B38: VIGILANTE | C38: 0 | E38: =+E14 -> 3.5 | F38: 1 | G38: =+'MER PERS'!N12 -> #REF! | H38: =+FM!C20 -> 1.5829 | I38: =+C38*E38*F38*G38*H38 -> #REF!
A39: SUBTOTAL COSTOS DE PERSONAL (1) | I39: =SUM(I22:I38) -> #REF!
A40: 1
A41: 2. GASTOS OPERACIONALES (Según Necesidad)
A42: 2.1 ADMINISTRATIVO
A43: 2.1.1 | B43: ARRENDAMIENTO OFICINA - CAMPAMENTO | C43: 1 | D43: MES | G43: 6500000 | I43: =+C43*E43*G43 -> 0
A44: 2.1.2 | B44: PLAN CORPORATIVO DE COMUNICACIONES | D44: MES | E44: =+E14 -> 3.5 | G44: 120000 | I44: =+C44*E44*G44 -> 0
A45: 2.1.3 | B45: PAPELERÍA E IMPRESIONES | C45: 1 | D45: MES | E45: =+E14 -> 3.5 | G45: 200000 | I45: =+C45*E45*G45 -> 700000
A46: 2.1.4 | B46: INFORMES MENSUALES Y PLANOS RECORD | C46: 1 | D46: MES | E46: =+E14 -> 3.5 | G46: 200000 | I46: =+C46*E46*G46 -> 700000
A47: 2.1.5 | B47: ALQUILER DE EQUIPOS DE COMPUTO | C47: 1 | D47: MES | E47: =+E14 -> 3.5 | G47: 300000 | I47: =+C47*E47*G47 -> 1050000
...

Sheet TRANSPORTE
B1: TRANSPORTE - TORRE VIGIA (12/12/2020)
B2: DESCRIPCIÓN | C2: UND | D2: VALOR UNIT | E2: VALOR TOTAL/TON | F2: VALOR TOTAL/KG | G2: VALOR TOTAL/KG (2023)
B3: Transporte terrestre Medellin - Barranquilla. Aprox 761 km | C3: TON/KM | D3: 440 | E3: =+D3*761 -> 334840 | F3: =+E3/1000 -> 334.84 | G3: 431.96
B4: Transporte fluvial Barranquilla (Puerto) - El Torno. Aprox 8 km | C4: TON/KM | D4: 15000 | E4: =+D4*8 -> 120000 | F4: =+E4/1000 -> 120 | G4: 154.82
B5: Transporte fluvial El Torno - Barranquilla (Puerto). Aprox 8 km | C5: TON/KM | D5: 15000 | E5: =+D5*8 -> 120000 | F5: =+E5/1000 -> 120 | G5: 154.82
B8: TRANSPORTE SENDERO EL MANGLAR (29/06/2022)
B9: DESCRIPCIÓN | C9: UNIDAD | D9: VLR/UNITARIO | E9: VALOR UNIT (2023)
B10: TRANSPORTE DE MATERIAL (VOLQUETA ACARREO) | C10: VIAJE | D10: 250000 | E10: 274500
B11: TRANSPORTE RIO NEGRO-VIPIS (730 km y 2 tn) | C11: VIAJE | D11: 2233333 | E11: 2452199.6
