Workbook

Sheet EXPERIENCIA GRAL
B1: CONCURSO DE MERITOS N° 01 DE 2020
B2: VERIFICACION DE EXPERIENCIA
B3: REQUISITOS TÉCNICOS HABILITANTES
B4: A – EXPERIENCIA GENERAL HABILITANTE DEL PROPONENTE
A5: Para el presente proceso de selección, la Nación – Consejo Superior de la Judicatura, solicita a los proponentes, sean personas naturales o jurídicas, presentar el Registro Único de Proponentes (RUP), de acuerdo con el Clasificador de Bienes y Servicios de la UNSPSC, dónde se verifique una experiencia mínima requerida hasta el tercer nivel, conforme al Artículo 2.2.1.1.1.5.3 del Decreto 1082 de 2015, de 342 SMMLV, en los códigos 81141900 ( Servicios de investigación y desarrollo de tecnología manufacturera), 80101500 (Servicios de consultoría de negocios y administración corporativa) 81102700 (Servicios de diseño e ingeniería de sistemas instrumentados de control) 80101600 (Gerencia de proyectos) y 81111700 (Sistemas de manejo de información MIS)
A6: ÍTEM | B6: OFERENTES | C6: CONTRATOS REPORTADOS | D6: CODIGO UNSPCS | E6: TOTAL EXPERIENCIA VÁLIDA EN SMLMV | F6: VERIFICACION Cumple/No cumple | G6: OBSERVACIONES
A7: 1 | B7: CRECE SAS | C7: Aportó RUP del 14/09/2020, en el cual se verificó la existencia de los contratos citados como experiencia, así: CERTIFICACIÓN O CONTRATO 1 Contratante: BOGOTA DISTRITO CAPITAL - SECRETARIA DISTRITAL DE DESARROLLO ECONOMICO Objeto: Diseñar, estructurar y formular un documento propuesta de política pública distrital de emprendimiento. Consecutivo RUP No. 102. (Págs. 31 reverso y 32 anverso RUP) Códigos: 80101500 – 80101600. Cuantía: 622,12 SMLMV CERTIFICACIÓN O CONTRATO 2 Contratante: MUNICIPIO DE TUNJA Objeto: Consultoría para realizar el estudio técnico de modernización y reestructuración de la administración central de la Alcaldía de Tunja. Consecutivo RUP No. 81. (Pág. 25 reverso RUP) Códigos: 80101500 – 80101600 – 81102700. Cuantía: 387,96 SMLMV CERTIFICACIÓN O CONTRATO 3 Contratante: COMISION NACIONAL DE TELEVISION Objeto: El rediseño del mapa de procesos y desagregación de la cadena de valor de los procesos, a partir del direccionamiento estratégico de la entidad, así como el modelamiento del deber ser de todos los procesos y procedimientos, para el posterior dimensionamiento de la nueva estructura organizacional, que demanda el proyecto de modernización de la Comisión Nacional de Televisión. Consecutivo RUP No. 14. (Pág. 8 reverso RUP) Códigos: 80101500 – 80101600 – 81102700. Cuantía: 298,73 SMLMV Cuantía total Valida certificada: 1.308,81 SMLMV | D7: 80101500 – 80101600 – 81102700 | E7: =622.12+387.96+298.73 -> 1308.81 | F7: Cumple
A8: 2 | B8: BETA GROUP SERVICES SAS | C8: Aportó RUP del 16/09/2020, en el cual se verificó la existencia de los contratos citados como experiencia, así: CERTIFICACIÓN O CONTRATO 1 Contratante: Secretaria Secretaria Jurídica Distrital de La Alcaldia Mayor de Bogota. Objeto: Realizar la interventoría del contrato resultante del concurso de méritos CM-001-2017 que tiene por objeto "elaborar el análisis y diseño del sistema de información integrado de la Secretaria Jurídica Distrital". Consecutivo RUP No. 22. (Pag.17 reverso y 18 anverso) Códigos: 80101500 - 80101600 - 81102700 - 81111700 Cuantía: 795,68 CERTIFICACIÓN O CONTRATO 2 Contratante: MINISTERIO DE MINAS Y ENERGIA. Objeto: Contratar los servicios de una consultoría para desarrollar las funciones de "Administrador Independiente" del reporte de cotejo EITI Colombia año 2018, de acuerdo con los parámetros y requerimientos establecidos por el CTN, la Secretaría Técnica y el estándar EITI. Consecutivo RUP No. 102. (Págs. 20 anverso y 21 reverso RUP) Códigos: 80101600 - 81111700 Cuantía: 482,94 SMLMV Cuantía total Valida certificada: 1.278,62 SMLMV | D8: 80101600 - 81111700 | E8: 482.94 | F8: Cumple | G8: Para el presente proceso solo se tiene en cuenta los servicios de consultoria prestados por el oferente.
A9: 3 | B9: FORSECURITY SAS | C9: Aportó RUP del 15/09/2020, en el cual se verificó la existencia de los contratos citados como experiencia, así: CONTRATO 1 Contratante: CORPORACIÓN SOCIAL BUEN CORAZÓN Consecutivo RUP N° 1 (Pág. 5 anverso) Códigos: 80101500 – 80101600. Cuantía: 338,88 SMLMV CONTRATO 2 Contratante: RESINS OF COLOMBIA SAS Consecutivo RUP N° 2 (Pág. 5 reverso) Códigos: 80101500 – 80101600. Cuantía: 128,78 SMLMV | D9: 80101500 – 80101600 | E9: =338.88+128.78 -> 467.66 | F9: Cumple
A10: 4 | B10: BOOST BC | C10: Aportó RUP del01/10/2020, en el cual se verificó la existencia de los contratos citados como experiencia, así: CERTIFICACIÓN O CONTRATO 1 Contratante: LATINUS COLOMBIA SAS Consecutivo RUP No. 21. (Págs. 9 de 24 RUP) Códigos: 80101500. Cuantía: 870.25 SMLMV CERTIFICACIÓN O CONTRATO 2 Contratante: GOBERNACIÓN DEL TOLIMA Consecutivo RUP No. 40 (Pág. 13 de 24 RUP) Códigos: 80101500 – 80101600. Cuantía: 410.88 SMLMV CERTIFICACIÓN O CONTRATO 3 Contratante: NAVICOL LOGISTIC SAS. Consecutivo RUP No. 14. (Pág. 8 reverso RUP) Códigos: 80101500 – 80101600. Cuantía: 1.135,10 SMLMV Cuantía total Valida certificada: 2416.23 SMLMV | D10: 80101500 – 80101600 | E10: =SUM(870.25+410.88+1135.1) -> 2416.23 | F10: Cumple
A11: 5 | B11: BISA CORPORATION LTDA | C11: Aportó RUP del 16/09/2020, en el cual se verificó la existencia de los contratos citados como experiencia, así: CERTIFICACIÓN O CONTRATO 1 Contratante:INSTITUTO DE DESARROLLO URBANO - IDU Consecutivo RUP No. 1 (Págs. 6 reverso y 7 anverso RUP) Códigos: 80101500 – 80101600 - 81102700 - 81111700 - 81141900 Cuantía: 596,07 SMLMV CERTIFICACIÓN O CONTRATO 2 Contratante:SECRETARIA DISTRITAL DE DESARROLLO ECONOMICO Consecutivo RUP No. 2 (Pag. 7 reverso RUP) Códigos: 80101500 – 80101600 – 81111700-81141900 Cuantía: 730,10 SMLMV CERTIFICACIÓN O CONTRATO 3 Contratante: MINISTERIO DE MINAS Y ENERGIA Consecutivo RUP No. 3 (Pág. 8 reverso RUP) Códigos: 80101500 – 80101600 – 81111700-81141900 Cuantía: 593,72 SMLMV Cuantía total Valida certificada: 1.919,89 SMLMV | D11: 80101500 - 80101600 - 81101700 - 81111700 - 81141900 | E11: 1919.89 | F11: Cumple
A12: 6 | B12: ALINA TECH S.A.S | C12: En documento RUP aportado, con fecha de expdición 23/09/2020, se verifica la existencia de los siguientes contratos, reportados en la sección Experiencia: CERTIFICACIÓN O CONTRATO 1: Contratante: HOSPITAL FEDERICO LLERAS ACOSTA DE IBAGUE TOLIMA - EMPRESA SOCIAL DEL ESTADO Consecutivo RUP No. 1. (Págs. 4 anverso y reverso RUP) Códigos: 80101500 – 80101600. Cuantía: 29,82 SMLMV CERTIFICACIÓN O CONTRATO 2: Contratante: PROFESSIONAL SERVICES S.A.S Consecutivo RUP No. 4. (Págs. 5 anverso RUP) Códigos: 81111700 Cuantía: 118,92 SMLMV CERTIFICACIÓN O CONTRATO 3: Contratante: INVERSIONES TECNOLOGICAS DE AMERICA S.A Consecutivo RUP No. 6. (Págs. 5 reverso RUP) Códigos: 80101600 - 81111700 Cuantía: 900,11 SMLMV | D12: 80101500 80101600 81111700 | E12: =29.82+118.92+900.11 -> 1048.85 | F12: Cumple
A13: 7 | B13: CAMERFIRMA | C13: Aportó RUP del 30/09/2020, en el cual se verificó la existencia de los contratos citados como experiencia, así: CERTIFICACIÓN O CONTRATO 1 Contratante: ENEL ITALIA S.R.L. Consecutivo RUP (Págs. 7 y 8 RUP) Códigos: 80101600. Cuantía:40,352,28 SMLMV C Cuantía total Valida certificada: 40,352,28 SMLMV | D13: 80101600 | E13: 40,352,28 | F13: No Cumple | G13: RUP No está en firme debe allegar el documento en firme dentro del término del traslado del informe, para habilitar su evaluación.

Sheet EXPERIENCIA ESPECIFICA
B1: CONCURSO DE MERITOS N° 01 DE 2020
B2: VERIFICACION DE EXPERIENCIA
B3: REQUISITOS TÉCNICOS HABILITANTES
B4: B - EXPERIENCIA ESPECIFICA
A5: Los proponentes deberán presentar máximo tres (3) certificaciones o contratos, que correspondan a cualquiera de los códigos UNSPSC exigidos, cuyo objeto sea la prestación de servicios de consultoría empresarial o en transformación digital o en estudios o en diseños o en análisis o en revisión o en evaluación de aspectos económicos, financieros y de impacto, o que dentro del desarrollo del contrato se pueda identificar actividades u obligaciones que guarden relación directa con una o varias de las fases o etapas de ejecución y entregables definidos en el anexo de especificaciones técnicas. La sumatoria de los contratos debe ser superior a 171 SMMLV.Esta verificación se realizará respecto de los contratos que se indiquen en el Formato de Experiencia del Proponente.
A6: ÍTEM | B6: OFERENTES | C6: VERIFICACIÓN | D6: VERIFICACION Cumple/No cumple
A7: 1 | B7: CRECE SAS | C7: Aportó RUP del 14/09/2020, en el cual se verificó la existencia de los contratos citados como experiencia, así: CERTIFICACIÓN O CONTRATO 1 Contratante: BOGOTA DISTRITO CAPITAL - SECRETARIA DISTRITAL DE DESARROLLO ECONOMICO Objeto: Diseñar, estructurar y formular un documento propuesta de política pública distrital de emprendimiento. Consecutivo RUP No. 102. (Págs. 31 reverso y 32 anverso RUP) Códigos: 80101500 – 80101600. Cuantía: 622,12 SMLMV CERTIFICACIÓN O CONTRATO 2 Contratante: MUNICIPIO DE TUNJA Objeto: Consultoría para realizar el estudio técnico de modernización y reestructuración de la administración central de la Alcaldía de Tunja. Consecutivo RUP No. 81. (Pág. 25 reverso RUP) Códigos: 80101500 – 80101600 – 81102700. Cuantía: 387,96 SMLMV CERTIFICACIÓN O CONTRATO 3 Contratante: COMISION NACIONAL DE TELEVISION Objeto: El rediseño del mapa de procesos y desagregación de la cadena de valor de los procesos, a partir del direccionamiento estratégico de la entidad, así como el modelamiento del deber ser de todos los procesos y procedimientos, para el posterior dimensionamiento de la nueva estructura organizacional, que demanda el proyecto de modernización de la Comisión Nacional de Televisión. Consecutivo RUP No. 14. (Pág. 8 reverso RUP) Códigos: 80101500 – 80101600 – 81102700. Cuantía: 298,73 SMLMV Cuantía total Valida certificada: 1.308,81 SMLMV | D7: Cumple
A8: 2 | B8: BETA GROUP SERVICES SAS | C8: Aportó RUP del 16/09/2020, en el cual se verificó la existencia de los contratos citados como experiencia, así: CERTIFICACIÓN O CONTRATO 2 Contratante: MINISTERIO DE MINAS Y ENERGIA. Objeto: Contratar los servicios de una consultoría para desarrollar las funciones de "Administrador Independiente" del reporte de cotejo EITI Colombia año 2018, de acuerdo con los parámetros y requerimientos establecidos por el CTN, la Secretaría Técnica y el estándar EITI. Consecutivo RUP No. 102. (Págs. 20 anverso y 21 reverso RUP) Códigos: 80101600 - 81111700 Cuantía: 482,94 SMLMV Cuantía total Valida certificada: 482,94 SMLMV | D8: Cumple
A9: 3 | B9: FORSECURITY SAS | C9: Aportó RUP del 15/09/2020, en el cual se verificó la existencia de los contratos citados como experiencia, así: CERTIFICACIÓN O CONTRATO 1 Contratante: CORPORACION ESTRATEGIAS EMPRESARIALES Objeto: Suministro de productos y servicios de tecnologia para el mejoramiento de los procesos internos de la Compañia. Consecutivo RUP No. 9 (Págs. 8) Códigos: 80101500 – 80101600- 81111700- 81102700 Cuantía: 633,96 SMLMV CERTIFICACIÓN O CONTRATO 2 Contratante: UNIDAD ADMINISTRATIVA ESPECIAL DE ATENCION Y REPARACION INTEGRAL A LAS VICTIMA Objeto: Actualizar el diseño de la arquitectura empresarial y el plan estratégico de tecnologias de la información para la gestion de las tecnologias de la información para la Unidad para el horizonte 2019 - 2021, bajo los estandares y lineamientos definidos, establecidos y adoptados en el marco de referencia de la arquitectura empresarial para la gestio de TI(MRAE) de la política de gobierno digital. Consecutivo RUP No. 13 (Pág. 9 reverso y 10 anverso) Códigos: 80101500 – 80101600 – 81102700. Cuantía: 1676,39 SMLMV | D9: Cumple
A10: 4 | B10: BOOST BC | C10: Aportó RUP del01/10/2020, en el cual se verificó la existencia de los contratos citados como experiencia, así: CERTIFICACIÓN O CONTRATO 64 Contratante: OPEN GLASS SYSTEMS SAS Consecutivo RUP No. 64 (página 21 RUP) Códigos: 80101500.- 80101600 Cuantía: 637,95 SMLMV CERTIFICACIÓN O CONTRATO 65 Contratante: BUENAVENTURA DISTRITO ESPECIAL INDUSTRIAL Consecutivo RUP No. 65 (Pág. 22 de 24 RUP) Códigos: 80101500 – 80101600. Cuantía: 90,56 SMLMV | D10: Cumple
A11: 5 | B11: BISA CORPORATION LTDA | C11: Aportó RUP del 16/09/2020, en el cual se verificó la existencia de los contratos citados como experiencia, así: CERTIFICACIÓN O CONTRATO 1 Contratante: AGENCIA NACIONAL DEL ESPECTRO - ANE Objeto: Contratar los servicios de consultoría para el diagnóstico, análisis, diseño e implementación de la primera fase de aequitectura empresarial de LA ANE, alineada con el Plan Estratégico de la Entidad. Consecutivo RUP No. 103. (Págs. 110 reverso RUP) Códigos: 80101500 – 80101600 - 81102700 - 81111700 - 81141900 Cuantía: 1,094,41 SMLMV CERTIFICACIÓN O CONTRATO 2 Contratante: AUTORIDAD NACIONAL DE LICENCIAS AMBIENTALES - ANLA Objeto: Realizar el diagnóstico e implementación de gestión de proyectos y de mecanismnos de control para el ciclo de vida de desarrollo de software de la Autoridad Nacional de Licencias Ambientales - ANLA Consecutivo RUP No. 120. (Pág. 127 reverso RUP) Códigos: 80101500 – 80101600 - 81102700 - 81111700 - 81141900. Cuantía: 108,31 SMLMV CERTIFICACIÓN O CONTRATO 3 Contratante: CEDEP - SIKUANI S.A.S. Objeto: Contratar los servicios de consultoría, diagnóstico, análisis, diseño e implementación de la primera fase de Arquitectura Empresarial. Consecutivo RUP No. 124. (Pág. 130 reverso y 131 anverso RUP) Códigos: 80101500 – 80101600 - 81102700 - 81111700 - 81141900. Cuantía: 80,19 SMLMV Cuantía total Valida certificada: 1.282,91 SMLMV | D11: Cumple
A12: 6 | B12: ALINA TECH S.A.S | C12: Aporta las certificaciones de los siguientes contratos: CERTIFICACIÓN O CONTRATO 1 Contratante: INFOTIC SOLUCIONES INTELIGENTES Objeto: Prestar los servicios profesionales especializados para llevar a cabo el proyecto de implementación de arquitectura empresarial -AE dados los lineamientos expuestos por el MINTIC de acuerdo con el Manual de Gobierno en línea vigente a la fecha, alineado al marco de referencia de arquitectura empresarial ; así como la formulación del Plan estratégico de tecnologías de información- PETI acorde a los lineamientos expuestos por el MINTIC de acuerdo con el Manual de Gobierno en línea y alineado al marco de referencia de arquitectura empresarial para la Gestión TI Gobierno , que se integra a la estrategia GEL, con el fin de orientar sobre mejores prácticas, guías y estándares que faciliten el uso adecuado de la tecnología para soportar los diferentes servicios de la ESAP y el cumplimiento de su misión. Duración y fecha del contrato: 5 meses - 3/11/2017 a 10/03/2018 Consecutivo RUP No. 41 (Págs. 12 anverso RUP) Códigos: 80101500 - 80101600 - 811111700 Cuantía: 1.008 SMMLV CERTIFICACIÓN O CONTRATO 2 Contratante: SUPERINTENDENCIA DEL SUBSIDIO FAMILIAR Objeto: Elaboración e implementación de instrumentos para el fortalecimiento de la Arquitectura Empresarial que soportan las actividades de Inspección Vigilancia y Control (IVC) de acuerdo con el alcance técnico. Duración y fecha del contrato: 6 meses 29/06/2018 a 21/12/2018 Consecutivo RUP No. 55 (Págs. 14 reverso RUP) Códigos: 80101500 - 80101600 -81111700 Cuantía: 915,20 SMMLV CERTIFICACIÓN O CONTRATO 3 Contratante: LUNEL INTEGRACION ESTRATEGICA S A S Objeto: Desarrollar e implementar TIC aplicadas a los procesos estratégicos, misionales y de apoyo, que permita estructurar los servicios de información de la entidad alineados a las políticas, digital; así como el fortalecimiento de las TIC en los procesos académicos de la Escuela Superior de Administración Pública ESAP Duración y fecha del contrato: 9 meses - 01/04/2019 a 31/12/2019 Consecutivo RUP No. 67 (Págs. 16 reverso y 17 anverso RUP) Códigos: 80101500 - 80101600 - 81111700 Cuantía: 1534,14 SMMLV Aporta el formato "Experiencia del proponente" debidamente suscrito por el Representante Legal, sin embargo no registra el valor del contrato en SMMLV sino en pesos. | D12: Cumple
A13: 7 | B13: CAMERFIRMA | C13: Aportó RUP del 30/09/2020, en el cual se verificó la existencia de los contratos citados como experiencia, así: CERTIFICACIÓN O CONTRATO 1 Contratante: Hector José Garcia Santiago Objeto: Prestar los servicios de servicios de asesoría, evolución, análisis y acompañamiento, en torno a la normativa relativa a la modernización de Estado y nuevas tecnologías respecto del sector Notarial. Consecutivo RUP Contrato ejecutado No. 2 (Págs. 26 RUP) Códigos: 80101600. Cuantía: 30,19 SMLMV CERTIFICACIÓN O CONTRATO 2 Contratante: Hector José Garcia Santiago Objeto: Entregar a EL CONTRATANTE tres documentos entregables, cuyo contenido corresponderá al establecido en la cláusula tercera del presente documento. Consecutivo RUP Contrato ejecutado No. 3 (Págs. 26 y 27 RUP) Códigos: 80101500 – 80101600 – 81102700. Cuantía: 166,32 SMLMV CERTIFICACIÓN O CONTRATO 3 Contratante: ENEL ITALIA S.R.L. Objeto: Renovación de los servicios "OPEN DIGITAL INFOCERT" Consecutivo RUP Contrato ejecutado No. 1 (Pág. 7 y 8 RUP) Códigos: 80101600 Cuantía: 40,352,28 SMLMV Cuantía total Valida certificada: 40.548,79 SMLMV | D13: No Cumple RUP No está en firme debe allegar el documento en firme dentro del término del traslado del informe, para habilitar su evaluación.

Sheet EQUIPO  DE TRABAJO
B1: CONCURSO DE MERITOS N° 01 DE 2020
B2: VERIFICACION DE EXPERIENCIA
B3: REQUISITOS TÉCNICOS HABILITANTES
B4: C - EQUIPO DE TRABAJO
A5: ÍTEM | B5: OFERENTES | C5: Gerente del Proyecto | E5: Un (1) Profesional en Derecho | G5: Un (1) Profesional en Derecho | I5: Un (1) Consultor | K5: Un (1) Experto en Transformación Digital | M5: Un (1) Arquitecto Empresarial o de Software
C6: Formación • Profesional en Ingenieria de Sistemas, Ingeniería Industrial o ciencias jurídicas, sociales, administrativas, informática, telemática, electrónica o contables, o afines. • Posgrado en gerencia de proyectos o evaluación de proyectos o gestión de proyectos. Experiencia. • Profesional: Mínimo cinco (5) años. • Específica: Mínimo de tres (3) años de experiencia en gerencia de proyectos, soluciones tecnológicas, transformación digital o desarrollo de software y mínimo 1 año de experiencia en ejecución de proyectos con el sector público. | E6: Formación • Profesional en Derecho o afines • Posgrado en Contratación Pública o Contratación Estatal o Contratación del Sector Público o Evaluación y Contratación de Proyectos Públicos o Derecho Contractual Público o Derecho Administrativo. Experiencia • Profesional: Mínimo cinco (5) años. • Específica: Debe referir experiencia certificada de mínimo dos (2) años en contratación estatal | G6: Formación • Profesional en Derecho. Experiencia • Profesional: Mínimo cuatro (4) años. • Especifica: Mínimo de dos (2) años en proyectos de desarrollo de soluciones de sistematización en nube y tecnologías móviles, Gobierno Electrónico y/o Comercio electrónico; en su defecto, podrá acredtiar posgrado en Derecho Informático y de las nuevas tecnologías o Derecho y nuevas Tecnologías. | I6: Formación • Profesional en Ingeniería Industrial o Ciencias Administrativas o Financieras o Contables o Econòmicas o afines. Experiencia • Profesional: Mínimo tres (3) años. • Específica: Debe referir experiencia en mínimo dos (2) proyectos relacionados con consultorías o estudios o definición de presupuestos o procesos y procedimientos | K6: Formación • Profesional en Ingeniería de Sistemas o Informática o Electrónica o de Telecomunicaciones o afines. Experiencia • Profesional: Mínimo dos (2) años. • Específica: Debe referir experiencia en mínimo dos (2) proyectos relacionados con la transformación digital o diseño de sistemas de informaciòn o tecnologias de la información y la comunicaciòn. | M6: Formación • Profesional en Ingeniería de Sistemas o Informática o Telemática o Electrónica o de Telecomunicaciones o Industrial o afines. Experiencia • Profesional: Mínimo tres (3) años. • Específica: Debe referir experiencia minimo de dos (2) años en proyectos de arquitectura empresarial o de software. Nota: Para los perfiles de Arquitecto Empresarial o de Software y Experto en Transformación Digital, uno de los dos debe certificar mínimo dos (2) años de experiencia en compañías de ciberseguridad y/o Certificación digital/ firmas digitales o electrónicas. | O6: CONSOLIDADO
C7: CUMPLE / NO CUMPLE | D7: VERIFICACIÓN | E7: CUMPLE / NO CUMPLE | F7: VERIFICACIÓN | G7: CUMPLE / NO CUMPLE | H7: VERIFICACIÓN | I7: CUMPLE / NO CUMPLE | J7: VERIFICACIÓN | K7: CUMPLE / NO CUMPLE | L7: VERIFICACIÓN | M7: CUMPLE / NO CUMPLE | N7: VERIFICACIÓN | O7: CUMPLE / NO CUMPLE
A8: 1 | B8: CRECE SAS | C8: Cumple | D8: Formación: • Profesional en INGENIERÍA DE SISTEMAS de la UNIVERSIDAD CATÓLICA DE COLOMBIA. • Posgrado: Especialista en Gerencia de Proyectos de Sistemas de Información. • Matrícula Profesional No. 25255118123CND • Fecha de Expedición: 21/04/2005 Experiencia: • Las certificaciones aportadas acreditan experiencia profesional y específica superior a la mínima requerida. Carta de Compromiso: Se aportó el documento debidamente suscrito. | E8: Cumple | F8: Formación: • Profesional en DERECHO de la UNIVERSIDAD DEL MAGDALENA. • Posgrado: Especialista en Derecho Administrativo. • Tarjeta Profesional No. 245316 • Fecha de Expedición: 23/07/2014 Experiencia: • Las certificaciones aportadas acreditan experiencia profesional y específica superior a la mínima requerida. Carta de Compromiso: Se aportó el documento debidamente suscrito. | G8: Cumple | H8: Formación: • Profesional en DERECHO de la UNIVERSIDAD AUTÓNOMA DE BUCARAMANGA. • Tarjeta Profesional No. 150366 • Fecha de Expedición: 10/07/2006 Experiencia: • Las certificaciones aportadas acreditan experiencia profesional superior a la mínima requerida. Se precisa que aportó Posgrado como Especialista en Derecho Informático y de las Nuevas Tecnología. Carta de Compromiso: Se aportó el documento debidamente suscrito. | I8: Cumple | J8: Formación: • Profesional en INGENIERÍA INDUSTRIAL de la UNIVERSIDAD CATÓLICA DE COLOMBIA. • Matrícula Profesional No. 25228224806CND • Fecha de Expedición: 02/04/2012 Experiencia: • Las certificaciones aportadas acreditan experiencia profesional y específica superior a la mínima requerida. Carta de Compromiso: Se aportó el documento debidamente suscrito. | K8: No cumple | L8: Formación: • Profesional en INGENIERÍA DE SISTEMAS de la UNIVERSIDAD CATÓLICA DE COLOMBIA. • Matrícula Profesional No. 25255169406CND • Fecha de Expedición: 21/05/2009 Experiencia: • Las certificaciones aportadas acreditan experiencia profesional superior a la mínima requerida. No obstante OBSERVACIÓN: NO se pudo verificar la expriencia en mínimo dos (2) proyectos relacionados con la transformación digital o diseño de sistemas de información o tecnologías de información y la comunicación.(SE SOLICITA ACLARAR LA CERTIFICACIÓN ACLARANDO LOS PROYECTOS EN LOS QUE HA PARTICIPADO) SI acreditó mínimo dos (2) años de experiencia en compañías de ciberseguridad y/o Certificación digital/ firmas digitales o electrónicas. (VERIDDICA - Identificación Plástica S.A.S.) Carta de Compromiso: Se aportó el documento debidamente suscrito. | M8: Cumple | N8: Formación: • Profesional en INGENIERÍA DE SISTEMAS de la UNIVERSIDAD INCCA DE COLOMBIA. • Matrícula Profesional No. 68255225108STD • Fecha de Expedición: 02/04/2012 Experiencia: • Las certificaciones aportadas acreditan experiencia profesional y específica superior a la mínima requerida. Carta de Compromiso: Se aportó el documento debidamente suscrito. | O8: No Cumple
A9: 2 | B9: BETA GROUP SERVICES SAS | C9: Cumple | D9: Formación: • Profesional en INGENIERÍA DE SISTEMAS de la CORPORACIÓN UNIVERSITARIA PILOTO DE COLOMBIA. • Posgrado: Especialista en Gerencia de Proyectos. • Matrícula Profesional No.25255138201CND • Fecha de Expedición: 15/12/2006 Experiencia: • Las certificaciones aportadas acreditan experiencia profesional y específica superior a la mínima requerida. Carta de Compromiso: Se aportó el documento debídamente suscrito. | E9: Cumple | F9: Formación: • Profesional en DERECHO de la UNIVERSIDAD LIBRE. • Posgrado: Especialista en Derecho Administrativo . • Matrícula Profesional No.112540 • Fecha de Expedición: 31/01/2002 Experiencia: • Las certificaciones aportadas acreditan experiencia profesional y específica superior a la mínima requerida. Carta de Compromiso: Se aportó el documento debídamente suscrito. | G9: Cumple | H9: Formación: • Profesional en DERECHO de la UNIVERSIDAD DE ANTIOQUIA. • Posgrado: Especialista en Derecho Informatico y de las Nuevas tecnologias. • Matrícula Profesional No.134329 • Fecha de Expedición: 14/10/2004 Experiencia: • Las certificaciones aportadas acreditan experiencia profesional superior a la mínima requerida. Se precisa que aportó Posgrado como Especialista en Derecho Informático y de las Nuevas Tecnología. Carta de Compromiso: Se aportó el documento debídamente suscrito. | I9: Cumple | J9: Formación: • Profesional en CONTADURIA de la UNIVERSIDAD JORGE TADEO LOZANO. • Posgrado: Especialista en Gestión de Proyectos. • Matrícula Profesional No.6073 • Fecha de Expedición: 03/IX/1981. Experiencia: • Las certificaciones aportadas acreditan experiencia profesional y específica superior a la mínima requerida. Carta de Compromiso: Se aportó el documento debídamente suscrito. | K9: Cumple | L9: Formación: • Profesional en INGENIERIA DE SISTEMAS de la UNIVERSITARIA DE COLOMBIA • Posgrado: • Matrícula Profesional No.25255-396141 CND • Fecha de Expedición:10/08/2018. Experiencia: •Las certificaciones aportadas acreditan experiencia profesional y específica superior a la mínima requerida.. Carta de Compromiso: Se aportó el documento debídamente suscrito. | M9: No Cumple | N9: Formación: • Profesional en INGENIERIA DE SISTEMAS de la UNIVERSITARIA FRANCISCO DE PAULA SANTANDER • Posgrado: ESPECIALISTA EN GERENCIA DE TECNOLOGIA • Matrícula Profesional No.5425572028NTS • Fecha de Expedición:14/05/1998. Experiencia: • Las certificaciones aportadas acreditan experiencia profesional y específica superior a la mínima requerida. Carta de Compromiso: Se aportó el documento debídamente suscrito. OBSERVACIÓN: Una vez revisado el cumplimiento de la Nota unica del lIteral C. Equipo de Trabajo del Pliego de Condiciones Definitivo, no fue posible verificar a la firma Tecnologies & consulting, como una compañia que realice alguna actividad relacioanada con la ciberseguridad y/o Certificación digital/ firmas digitales o electrónicas. | O9: No Cumple
A10: 3 | B10: FORSECURITY SAS | C10: Cumple | D10: Formación: • Profesional en INGENIERÍA DE SISTEMAS de la UNIVERSIDAD INCCA DE COLOMBIA. • Posgrado: Especialista en Gerencia de Proyectos UNIVERSIDAD PILOTO • Matrícula Profesional Vigente • Fecha de Expedición: 16/02/2006 Experiencia: • Las certificaciones aportadas acreditan experiencia profesional y específica superior a la mínima requerida. Carta de Compromiso: Se aportó el documento debídamente suscrito. | E10: Cumple | F10: Formación: • Profesional en DERECHO de la UNIVERSIDAD LIBRE. • Posgrado: Especialista en Contratación Estatal y negocios juridicos de la Administración • Tarjeta Profesional No.152866 • Fecha de Expedición: 17 de octubre de 2006 Experiencia: • Las certificación aportada acreditan experiencia profesional y específica requerida. Carta de Compromiso: Se aportó el documento debídamente suscrito. | G10: No Cumple | H10: Formación: • Profesional en DERECHO de la UNIVERSIDAD SANTO TOMÁS TUNJA • Tarjeta Profesional No.257210 • Fecha de Expedición:19 de mayo 2015 Experiencia: • La certificación aportada acredita experiencia específica, pero no en todas las areas requeridas (solo Gobierno Digital) Carta de Compromiso: Se aportó el documento debídamente suscrito. | I10: Cumple | J10: Formación: • Profesional en CONTADURIA PUBLICA de la UNIVERSIDAD FRANCISCO DE PAULA SANTANDER • Tarjeta Profesional No.133983 • Fecha de Expedición:10 de abril de 2008 Experiencia: • La certificación aportada acredita experiencia profesional y específica requeridas. Carta de Compromiso: Se aportó el documento debídamente suscrito. | K10: No cumple | L10: Formación: • Profesional en INGENIERIA DE SISTEMAS de la CORPORACION UNIVERSITARIA DE LA COSTA • Matrícula Profesional No.13255-210997 • Fecha de Expedición: 18 de agosto de 2011 Experiencia: • La certificación aportada acredita experiencia profesional y específica requeridas. Carta de Compromiso: Se aportó el documento debídamente suscrito. OBSERVACIÓN: Una vez revisado el cumplimiento de la Nota unica del lIteral C. Equipo de Trabajo del Pliego de Condiciones Definitivo, no se pudo verificar que la firma Qubits sea una compañia de ciberseguridad y/o Certificación digital/ firmas digitales o electrónicas. (SE SOLICITA ACLARAR DE MANERA SOPORTADA QUE LA EMPRESA QUE CERTIFICA LA EXPERIENCIA ES UNA COMPAÑIA que realiza alguna actividad relacionada con la ciberseguridad y/o Certificación digital/ firmas digitales o electrónica | M10: Cumple | N10: Formación: • Profesional en INGENIERIA DE SISTEMAS de la UNIVERSIDAD MANUELA BELTRAN • Matrícula Profesional No.25255-168246 • Fecha de Expedición: 18 de agosto de 2011 Experiencia: • La certificación aportada acredita experiencia profesional y específica requeridas. Carta de Compromiso: Se aportó el documento debídamente suscrito. | O10: No Cumple
A11: 4 | B11: BOOST BC | C11: Cumple | D11: Formación: • Profesional en Ingenieria Industrial- Fundación Universitaria de Boyacá. • Posgrado: Especialista en Gerencia de Proyectos.EAN. • Matrícula Profesional No.15228182935BYC • Fecha de Expedición: 18/03/2010 Experiencia: • Las certificaciones aportadas acreditan experiencia profesional y específica superior a la mínima requerida. Carta de compromiso: Se aportó el documento debídamente suscrito. | E11: Cumple | F11: Formación: • Profesional en Dereco- Universidad Libre de Colombia. • Posgrado: Especialista en Derecho Administrativo- U. Libtre. • Tarjeta Profesional No.195395 • Fecha de Expedición: 28/09/2010 Experiencia: • Las certificaciones aportadas acreditan experiencia profesional y específica superior a la mínima requerida. | G11: No Cumple | H11: Formación: • Profesional en Derecho • Tarjeta Profesional No.164875 • Fecha de Expedición: 24/01/2008 Experiencia: • Las certificaciones aportadas acreditan experiencia profesional y específica pero no aporta copia del contrato. NOTA: SE SOLICITA APORTAR LA COPIA DEL CONTRATO TAL COMO LO SOLICITA LA NOTA DEL PLIEGO. Si la experiencia de los integrantes del equipo de trabajo ha sido adquirida con el oferente, debe aportar los siguientes documentos: ➢ Copia de la certificación expedida por la firma contratista en mención, que acredite las funciones desarrolladas por el profesional como parte del equipo de trabajo para el mencionado contrato. | I11: No Cumple | J11: Formación: • Profesional en Economía Experiencia: • Las certificaciones aportadas acreditan experiencia en la misma firma pero no aporta copia del contrato. • Las certificaciones aportadas acreditan experiencia profesional y específica pero no aporta copia del contrato. NOTA: SE SOLICITA APORTAR LA COPIA DEL CONTRATO TAL COMO LO SOLICITA LA NOTA DEL PLIEGO. Si la experiencia de los integrantes del equipo de trabajo ha sido adquirida con el oferente, debe aportar los siguientes documentos: ➢ Copia de la certificación expedida por la firma contratista en mención, que acredite las funciones desarrolladas por el profesional como parte del equipo de trabajo para el mencionado contrato. | K11: No Cumple | L11: Formación: • Profesional en Ingeniería Informática - Magister en Arquitecturas de Tecnoligías de la Informacuión- U. de los Andes. Experiencia: • Las certificaciones aportadas acreditan experiencia profesional y específica superior a la mínima requerida, pero no aporta copia del contrato. NOTA: SE SOLICITA APORTAR LA COPIA DEL CONTRATO TAL COMO LO SOLICITA LA NOTA DEL PLIEGO. Si la experiencia de los integrantes del equipo de trabajo ha sido adquirida con el oferente, debe aportar los siguientes documentos: ➢ Copia de la certificación expedida por la firma contratista en mención, que acredite las funciones desarrolladas por el profesional como parte del equipo de trabajo para el mencionado contrato. | M11: Cumple | N11: Formación: • Profesional en Ingeniería Industrial- Universidad Indisustrial de Santander. Experiencia: • TRANSFORMACION DIGITAL, Ciber Seguridad.. LATINUS S.A. – THE IT COMPANY. | O11: No Cumple
A12: 5 | B12: BISA CORPORATION LTDA | C12: Cumple | D12: Formación: • Profesional en INGENIERÍA DE SISTEMAS de la UNIVERSIDAD NACIONAL DE COLOMBIA. • Posgrado: Especialista en Gerencia de Proyectos. • Matrícula Profesional No. 25255145044 COPNIA • Se valida Matricula profesional en la pagina de COPNIA • Fecha de Expedición: 19/07/2007 Experiencia: • Las certificaciones aportadas acreditan experiencia profesional y específica superior a la mínima requerida. Carta de compromiso: Se aportó el documento debídamente suscrito. | E12: Cumple | F12: Formación: • Profesional en DERECHO de la UNIVERSIDAD NACIONAL DE COLOMBIA. • Posgrado: Maestria en Derecho Administrativo, Especialista en Gerencia de Proyectos y Contratación Estatal. • Tarjeta Profesional No. 169160 RNA • Se valida tarjeta profesional en la pagina SIRNA • Fecha de Expedición: 15/05/2008 Experiencia: • Las certificaciones aportadas acreditan experiencia profesional superior a la mínima requerida, y cumple experiencia especifica Carta de compromiso: Se aportó el documento debídamente suscrito. | G12: Cumple | H12: Formación: • Profesional en DERECHO de la UNIVERSIDAD LIBRE. • Posgrado: Magister en Derecho Privado y de los Negocios, Especialista en Gerencia de Proyectos. • Tarjeta Profesional No. 149622 RNA • Se valida tarjeta profesional en la pagina SIRNA • Fecha de Expedición: 07/06/2006 Experiencia: • Las certificaciones aportadas acreditan experiencia profesional superior a la mínima requerida, y cumple experiencia especifica. Carta de compromiso: Se aportó el documento debídamente suscrito. | I12: Cumple | J12: Formación: • Profesional en INGENIERIA INDUSTRIAL de la UNIVERSIDAD DE LA SABANA. • Posgrado: Diseño y Gestión de Procesos, énfasis en Logística • Tarjeta Profesional No. 25228181694CND • Se valida Matricula profesional en la pagina de COPNIA • Fecha de Expedición: 18/02/2010 Experiencia: • Las certificaciones aportadas acreditan experiencia profesional superior a la mínima requerida, y cumple experiencia especifica Carta de compromiso: Se aportó el documento debídamente suscrito. | K12: No Cumple | L12: Formación: • Profesional en INGENIERIA ELECTRONICA de la UNIVERSIDAD DISTRITAL. • Posgrado: Diseño y Gestión de Procesos, énfasis en Logística • Tarjeta Profesional No. CN206-32646 • Se valida Matricula profesional en la pagina de CPNIEMyPA • Fecha de Expedición: 22/08/2000 Experiencia: • Las certificaciones aportadas acreditan experiencia profesional superior a la mínima requerida, pero no cumple con la experiencia especifica. OBSERVACIÓN: Una vez revisado el cumplimiento de la Nota unica del lIteral C. Equipo de Trabajo del Pliego de Condiciones Definitivo, no fue posible verificar a la firma Tecnologies & consulting, como una compañia que realice alguna actividad relacioanada con la ciberseguridad y/o Certificación digital/ firmas digitales o electrónicas. (SE SOLICITA ACLARAR DE MANERA SOPORTADA QUE LA EMPRESA QUE CERTIFICA LA EXPERIENCIA ES UNA COMPAÑIA QUE REALIZA ALGUNA ACTIVIDAD RELACIONADA CON LA CIBERSEGURIDAD Y/O CERTIFICACIÓN DIGITAL/ FIRMAS DIGITALES O ELECTRÓNICA) Carta de compromiso: Se aportó el documento debídamente suscrito. | M12: Cumple | N12: Formación: • Profesional en INGENIERIA DE SISTEMAS de la UNIVERSIDAD CATOLICA DE COLOMBIA. • Posgrado: Especialista en Ingeniaria de Software y en Gerencia de Proyectos • Tarjeta Profesional No. 25255-250065 CND • Se valida Matricula profesional en la pagina de COPNIA • Fecha de Expedición: 29/04/2013 Experiencia: • Las certificaciones aportadas acreditan experiencia profesional superior a la mínima requerida, y cumple experiencia especifica Carta de compromiso: Se aportó el documento debídamente suscrito. | O12: No Cumple
A13: 6 | B13: ALINA TECH S.A.S | C13: CUMPLE | D13: Formación: - Profesional en Ingeniera Electrónica, Pontificia Universidad Javeriana - 2001 - Especialista en Evaluación y Desarrollo de Proyectos, Universidad del Rosario - 2007 Experiencia: Las certificaciones aportadas acreditan experiencia profesional superior a la mínima requerida. Las certificaciones aportadas acreditan experiencia profesional específica superior a la mínima requerida. Carta de compromiso: Aporta el documento debídamente suscrito por el Representante legal y la Gerente de proyecto. | E13: CUMPLE | F13: Formación: - Profesional en Derecho, Univesidad Libre - 2006. - Especialista en Contratación Estatal, Universidad de la Sabana - 2011 Experiencia: Las certificaciones aportadas acreditan experiencia profesional superior a la mínima requerida. Las certificaciones aportadas acreditan experiencia profesional específica superior a la mínima requerida. Carta de compromiso: Aporta el documento debídamente suscrito por el Representante legal y el Profesional en Derecho. | G13: CUMPLE | H13: Formación: - Profesional en Derecho, Univesidad de los Andes - 2015. Experiencia: Las certificaciones aportadas acreditan experiencia profesional superior a la mínima requerida. Las certificaciones aportadas acreditan experiencia profesional específica superior a la mínima requerida. Carta de compromiso: Aporta el documento debídamente suscrito por el Representante legal y el Profesional en Derecho. | I13: CUMPLE | J13: Formación: - Profesional en Administración de Empresas, Corporación Unificada de Educación Superior CUN, 2012. Experiencia: Las certificaciones aportadas acreditan experiencia profesional superior a la mínima requerida. Las certificaciones aportadas acreditan experiencia profesional específica superior a la mínima requerida. Carta de compromiso: Aporta el documento debídamente suscrito por el Representante legal y la consultora. | K13: CUMPLE | L13: Formación: - Profesional en Ingenieriía Electrónica, Universidad Santo Tomás, 2009 Experiencia: Las certificaciones aportadas acreditan experiencia profesional superior a la mínima requerida. Las certificaciones aportadas acreditan experiencia profesional específica superior a la mínima requerida. Adicionalmente, acredita experiencia requerida en una empresa de cyber seguridad. Carta de compromiso: Aporta el documento debídamente suscrito por el Representante legal y el experto. | M13: CUMPLE | N13: Formación: - Profesional en Ingeniería Electrónica, Escuela Colombiana de Ingenieriía Julio Garavito, 2005 Experiencia: Las certificaciones aportadas acreditan experiencia profesional superior a la mínima requerida. Las certificaciones aportadas acreditan experiencia profesional específica superior a la mínima requerida. Carta de compromiso: Aporta el documento debídamente suscrito por el Representante legal y el arquitecto empresarial. | O13: Cumple
A14: 7 | B14: CAMERFIRMA | C14: Cumple | D14: Formación: • Profesional en INGENIERÍA DE SISTEMAS de la UNIVERSIDAD FRANCISCO DE PAULA SANTANDER • Posgrado: Especialización en Gestión de Proyectos Informaticos • Acta de grado No. 16217 - Ingeniero de Sistemas No. 0017993 Con Matricula No. 15-0647 • Fecha de Expedición: 10/09/1997 Experiencia: • Las certificaciones aportadas acreditan experiencia profesional y específica superior a la mínima requerida. Carta de ompromiso: Se aportó el documento debídamente suscrito. | E14: Cumple | F14: Formación: • Profesional - Abogado de la UNIVERSIDAD LIBRE • Especialización: En Derecho Administrativo • Tarjeta Profesional No.258439 • Fecha de Expedición: 2/06/2015 Experiencia: • Las certificaciones aportadas acreditan experiencia profesional y específica superior a la mínima requerida. Carta de ompromiso: Se aportó el documento debídamente suscrito. | G14: Cumple | H14: Formación: • Profesional - Abogado de la UNIVERSIDAD JAVERIANA • Maestria: En Derecho Informático y de las Nuevas Tecnologías • Tarjeta Profesional No. 140329-D1 • Fecha de Expedición: 14/06/2005 Experiencia: • Las certificaciones aportadas acreditan experiencia profesional y específica superior a la mínima requerida. Carta de ompromiso: Se aportó el documento debídamente suscrito. | I14: Cumple | J14: Formación: • Profesional en Administración de Empresas UNIVERSIDAD NACIONAL DE COLOMBIA • Especialización: En Gerencia de Mercadeo UNIVERSIDAD LA SALLE • Acta de grado No. 2749 • Fecha de Expedición: 13/08/2004 Experiencia: • Las certificaciones aportadas acreditan experiencia profesional y específica superior a la mínima requerida. Carta de ompromiso: Se aportó el documento debídamente suscrito. | K14: Cumple | L14: Formación: • Profesional en Ingenieria de Sistemas CORPORACION UNIVERSITARIA REMINGTON • Especialización: En Alta Gerencia • Diploma registrado en el Libro 5 - Folio 8065 • Fecha de Expedición: 10/10/2009 Experiencia: • Las certificaciones aportadas acreditan experiencia profesional y específica superior a la mínima requerida. Carta de ompromiso: Se aportó el documento debídamente suscrito.No presento datos | M14: Cumple | N14: Formación: • Profesional en Ingenieria de Sistemas UNIVERSIDAD INDUSTRIAL DE SANTANDER • Matricula Profesional No. 6825537735STD • Fecha de Expedición: 22/11/1990 Experiencia: • Las certificaciones aportadas acreditan experiencia profesional y específica superior a la mínima requerida. Carta de ompromiso: Se aportó el documento debídamente suscrito. | O14: Cumple

Sheet COMPROM. ESPECIF. TECN.
B1: CONCURSO DE MERITOS N° 01 DE 2020
B2: VERIFICACION DE EXPERIENCIA
B3: REQUISITOS TÉCNICOS HABILITANTES
B4: D - COMPROMISO ESPECIFICACIONES TÉCNICAS
A5: El proponente debe presentar documento suscrito por el representante legal mediante el cual se compromete que, en caso de resultar adjudicatario, se obliga a cumplir con las especificaciones y características requeridas que se encuentran consignadas en el Anexo de Especificaciones Técnicas.
A6: ÍTEM | B6: OFERENTES | C6: VERIFICACIÓN | D6: VERIFICACION Cumple/No cumple
A7: 1 | B7: CRECE SAS | C7: Aportó documento suscrito por el Representante Legal, sobre el compromiso exigido | D7: Cumple
A8: 2 | B8: BETA GROUP SERVICES SAS | C8: Aportó documento suscrito por el Representante Legal, sobre el compromiso exigido (ACEPTACION ESP TECNICA.pdf) | D8: Cumple
A9: 3 | B9: FORSECURITY SAS | C9: Aportó anexo de especificaciones técnicas suscrito por la Representante Legal, asumiendo el compromiso exigido | D9: Cumple
A10: 4 | B10: BOOST BC | C10: Aportó documento suscrito por el Representante Legal, sobre el compromiso exigido (Anexo 1) | D10: Cumple
A11: 5 | B11: BISA CORPORATION LTDA | C11: Aportó documento suscrito por el Representante Legal, sobre el compromiso exigido | D11: Cumple
A12: 6 | B12: ALINA TECH S.A.S | C12: Aportó documento suscrito por el Representante Legal, sobre el compromiso exigido en especificaciones técnicas | D12: Cumple
A13: 7 | B13: CAMERFIRMA | C13: Aportó documento suscrito por el Representante Legal, sobre el compromiso exigido | D13: Cumple

Sheet FORMAC. ACADEMICA Y PUBL.
B1: CONCURSO DE MERITOS N° 01 DE 2020
B2: EVALUACIÓN DE LA OFERTA
B3: A – FORMACIÓN ACADÉMICA Y LAS PUBLICACIONES TÉCNICAS Y CIENTÍFICAS DEL EQUIPO DE TRABAJO
A4: Se asignará 35 puntos al proponente que acredite tres (3) o más miembros de su equipo de trabajo con formación académica adicional (otra profesión, especialización, maestría o doctorado) y experiencia adicional, mayor o igual a un (1) año en proyectos de consultoría de tecnología, que superen los requisitos mínimos exigidos para cada perfil, o que demuestren publicaciones técnicas o científicas. Se asignará 20 puntos al proponente que acredite dos (2) miembros de su equipo de trabajo con formación académica adicional (otra profesión, especialización, maestría o doctorado) y experiencia adicional, mayor o igual a un (1) año en proyectos de consultoría de tecnología, que superen los requisitos mínimos exigidos para cada perfil, o que demuestren publicaciones técnicas o científicas. Se asignará 10 puntos al proponente que acredite un (1) miembro de su equipo de trabajo con formación académica adicional (otra profesión, especialización, maestría o doctorado) y experiencia adicional, mayor o igual a un (1) año en proyectos de consultoría de tecnología, que superen los requisitos mínimos exigidos para cada perfil, o que demuestren publicaciones técnicas o científicas.
A5: ÍTEM | B5: OFERENTES | C5: VERIFICACIÓN | D5: TOTAL PUNTOS
A6: 1 | B6: CRECE SAS | C6: 1. Gerente del Proyecto: Aportó título de posgrado adicional y experiencia adicional superior a un (1) año en proyectos de consultoría de tecnología. 2. Consultor: Aportó título de posgrado adicional y experiencia adicional superior a un (1) año en proyectos de consultoría de tecnología. 3. Arquitecto Empresarial: Aportó título de posgrado adicional y experiencia adicional superior a un (1) año en proyectos de consultoría de tecnología. | D6: 0
A7: 2 | B7: BETA GROUP SERVICES SAS | C7: 1.Gerente de Proyectos: Aportó título de posgrado adicional. Observacion: Aportó título de posgrado adicional y experiencia adicional superior a un (1) año en proyectos de consultoría de tecnología. 2. Profesional en Derecho - Tecnico : Aportó título de Maestria adicional. Observacion: Con las certificaciones adicionales presentadas por el proponente, no fue posible verificar el cumplimiento o exigencia de un (1) año en proyectos de consultoría de tecnología, que superen los requisitos mínimos exigidos para cada perfil. 3. Consultor: Aportó título de posgrado adicional y experiencia adicional superior a un (1) año en proyectos de consultoría de tecnología. . | D7: 0
A8: 3 | B8: FORSECURITY SAS | C8: 1. Experto en tranformación digital: Aportó título de posgrado adicional y experiencia adicional superior a un (1) año en proyectos de consultoría de tecnología. 2. Profesional en Derecho: Aportó título de posgrado adicional y experiencia adicional superior a un (1) año en proyectos de consultoría de tecnología. 3. Consultor: Aportó título de posgrado adicional y experiencia adicional superior a un (1) año en proyectos de consultoría de tecnología. | D8: 0
A9: 4 | B9: BOOST BC | C9: 1. Gerente del Proyecto: Aportó título de magister y experiencia adicional superior a un (1) año en proyectos de consultoría de tecnología. 2. Consultor: Aportó título de posgrado adicional y experiencia adicional superior a un (1) año en proyectos de consultoría de tecnología. 3. Arquitecto Empresarial: Aportó título de Magister y experiencia adicional superior a un (1) año en proyectos de consultoría de tecnología. | D9: 0
A10: 5 | B10: BISA CORPORATION LTDA | C10: 1. Gerente del Proyecto: Aportó título de posgrado adicional y experiencia adicional superior a un (1) año en proyectos de consultoría de tecnología. 2. Abogado 02: Aportó título de posgrado adicional y se evidencian varias publicaciones técnicas o cientificas publicadas. 3. Experto en Transformación Digital: Aportó título de posgrado adicional y experiencia adicional superior a un (1) año en proyectos de consultoría de tecnología. | D10: 0
A11: 6 | B11: ALINA TECH S.A.S | C11: 1. Experto en transformación digital: Aporta título de Mágister en Gerencia Estratégica de Tecnologías de Información y experiencia adicional superior a un (1) en proyectos de consultoría de tecnología. 2. Arquitecto Empresarial: Aportó título de Magister en Gestión de la Información, y experiencia adicional superior a un (1) año en proyectos de consultoría de tecnología. 3. Profesional en Derecho: Aportó título de Mágister en Derecho Público para la Gestión Administrativa, y experiencia adicional igual a un (1) año en proyectos de consultoría de tecnología. | D11: 35
A12: 7 | B12: CAMERFIRMA | C12: 1. Profesional en Derecho: Aportó título de Maestria adicional y experiencia adicional superior a un (1) año en proyectos de consultoría de tecnología en el sectot público y privado. 2. Consultor: Aportó título de Especialización adicional y experiencia adicional superior a un (1) año en proyectos de consultoría de tecnología. 3. Arquitecto Empresarial: Aportó título de Especialización adicional y experiencia adicional superior a un (1) año en proyectos de consultoría de tecnología. | D12: 0

Sheet PERSONAL ADICIONAL 
B1: CONCURSO DE MERITOS N° 01 DE 2020
B2: EVALUACIÓN DE LA OFERTA
B3: B. PERSONAL ADICIONAL AL EQUIPO DE TRABAJO
A4: Se asignará 54 puntos al proponente que ofrezca tres (3) o más miembros adicionales al equipo mínimo de trabajo, cada uno de los cuales deberá reforzar cualquiera de los perfiles a excepción del perfil del gerente de proyectos. Se aclara que los miembros adicionales deben ocupar perfiles diferentes. Se asignará 27 puntos al proponente que ofrezca dos (2) miembros adicionales al equipo mínimo de trabajo, cada uno de los cuales deberá reforzar cualquiera de los perfiles a excepción del perfil del gerente de proyectos. Se aclara que los miembros adicionales deben ocupar perfiles diferentes. Se asignará 13 puntos al proponente que ofrezca un (1) miembro adicional al equipo mínimo de trabajo el cual deberá reforzar cualquiera de los perfiles a excepción del perfil del gerente de proyectos
A5: ÍTEM | B5: OFERENTES | C5: VERIFICACIÓN | D5: TOTAL PUNTOS
A6: 1 | B6: CRECE SAS | C6: Aportó tres (3) perfiles adicionales (Profesional en Derecho TIC - Arquitecto Empresarial - Consultor), los cuales cumplen los requisitos mínimos exigidos para cada perfil. | D6: 0
A7: 2 | B7: BETA GROUP SERVICES SAS | C7: Aportó tres (3) perfiles adicionlaes ( Dos Profesionales en Derecho y un Consultor) | D7: 0
A8: 3 | B8: FORSECURITY SAS | C8: Aporto tres (3) perfiles adicionales (Experto en transformación digital - Arquitecto Empresarial o de Software - Consultor | D8: 0
A9: 4 | B9: BOOST BC | C9: No aportó personal adicional | D9: 0
A10: 5 | B10: BISA CORPORATION LTDA | C10: Aportó tres (3) perfiles adicionales (Profesional en Derecho - Arquitecto Empresarial y Consultor | D10: 0
A11: 6 | B11: ALINA TECH S.A.S | C11: Aportó documentos para ofrecer tres (3) perfiles adicionales: - Profesional en Derecho Abogado Experiencia profesional: Certifica 4,8 años. Experiencia específica: Certifica 4,4 años Se valida información de TP. - Experto en transformación digital Ingeniero Electrónico Experiencia profesional: Certifica 3,5 años. Certiicado en LPT, ECSA, CEH, y aporta certificado laboral de más de dos años en una empresa de cyber seguridad, en lal cual se evidencian certificaciones relacionadas. (htps://www.theeaglelabs.com/en/certifications.html) Se valida información de TP. - Consultor Adm. de Empresas Experiencia profesional: Certifica 6, 6 años. Registra experiencia por medio de participación en más de dos (2) proyectos de consultoría. Se valida información TP. Aporta carta relacionando los perfiles adicionales. Nota: El Experto en transformación digital no aporta evidencia taxativa de experiencia en mínimo dos (2) proyectos relacionados con la transformación digital o diseño de sistemas de informaciòn o tecnologias de la información y la comunicación. Nota 1. Con el fin de evaluar este aspecto el personal adicional debe allegar los mismos documentos exigidos para el equipo de trabajo mínimo, según el perfil. | D11: 27
A12: 7 | B12: CAMERFIRMA | C12: Aportó cuatro (4) perfiles adicones Profesional en Derecho, Consultor, Esperto en Transformación Digital y Profesional en Derecho (Con Énfacis en Tecnología) | D12: 0

Sheet APOYO INDUSTRIA NAL
B1: CONCURSO DE MÉRITOS N° 01 DE 2020
B2: EVALUACIÓN DE LA OFERTA
B3: C. APOYO A LA INDUSTRIA NACIONAL
A4: Se asignará el puntaje indicado para este ítem, de conformidad con lo dispuesto por el Artículo 2 de la Ley 816 de 2003, en concordancia con el Artículo 2.2.1.2.4.1.3 del Decreto 1082 de 2015, así: Se asignaran 10 Puntos si el origen de los servicios ofrecidos son nacionales, por cuanto es prestado por empresas constituidas de acuerdo con la legislación nacional o por personas naturales colombianas Se asignaran 5 Puntos si el proponente es constituido como empresa extranjera que incorporen componente colombiano servicios profesionales, técnicos y operativos
A5: ÍTEM | B5: OFERENTES | C5: VERIFICACIÓN | D5: TOTAL PUNTOS
A6: 1 | B6: CRECE SAS | C6: Aportó manifestación suscrita por el Representante Legal, sobre el origen de los servicios 100% nacional | D6: 0
A7: 2 | B7: BETA GROUP SERVICES SAS | C7: Aportó manifestación suscrita por el Representante Legal, sobre el origen de los servicios 100% nacional | D7: 0
A8: 3 | B8: FORSECURITY SAS | C8: Aportó manifestación suscrita por el Representante Legal, sobre el origen de los servicios 100% nacional | D8: 0
A9: 4 | B9: BOOST BC | C9: Aportó manifestación suscrita por el Representante Legal, sobre el origen de los servicios 100% nacional (Anexo 1) | D9: 0
A10: 5 | B10: BISA CORPORATION LTDA | C10: Aportó manifestación suscrita por el Representante Legal, sobre el origen de los servicios 100% nacional | D10: 0
A11: 6 | B11: ALINA TECH S.A.S | C11: Aportó manifestación suscrita por el Representante Legal, sobre el origen de los servicios 100% nacional | D11: 10
A12: 7 | B12: CAMERFIRMA | C12: Aportó manifestación suscrita por el Representante Legal, sobre el origen de los servicios 100% nacional | D12: 0

Sheet TRABAJ.DISCAPACIDAD
B1: CONCURSO DE MERITOS N° 01 DE 2020
B2: EVALUACIÓN DE LA OFERTA
B3: D. INCENTIVO ADICIONAL PARA PROPONENTES CON TRABAJADORES CON DISCAPACIDAD. (1% ADICIONAL DEL PUNTAJE TOTAL)
A4: Se asigna puntaje adicional indicado para este ítem, de conformidad con lo dispuesto en el Artículo 1° del Decreto 392 de 2018, que adiciona la Subsección 2 de la Sección 4 del Capítulo 2 del Título 1 de la Parte 2 del Libro 2 del Decreto 082 de 2015. Se asignará el uno por ciento 1% del total de los puntos establecidos en el pliego de condiciones, a quienes acrediten el número mínimo de trabajadores con discapacidad, a través de los siguiente dos (2) dos documentos: 1. La persona natural, el representante legal de la persona jurídica o el reviso fiscal, certificará el número total de trabajadores vinculados a la planta de personal del proponente o sus integrantes a la fecha de cierre del proceso. 2. Acreditar el número mínimo de personas con discapacidad en su planta de personal, de conformidad con lo señalado en el certificado expedido por el Ministerio de Trabajo, el cual deberá estar vigente a la fecha de cierre del proceso de selección. Para lo cual se tendrá en cuenta la tabla señalada en el Decreto 392 del 2018:
A5: ÍTEM | B5: OFERENTES | C5: VERIFICACIÓN | D5: PUNTOS
A6: 1 | B6: CRECE SAS | C6: No aportó documentos | D6: 0
A7: 2 | B7: BETA GROUP SERVICES SAS | C7: Aportó documento | D7: 0
A8: 3 | B8: FORSECURITY SAS | C8: No aportó documentos | D8: 0
A9: 4 | B9: BOOST BC | C9: No aportó documentos | D9: 0
A10: 5 | B10: BISA CORPORATION LTDA | C10: Aportó certificación del Ministerio de Trabajo | D10: 0
A11: 6 | B11: ALINA TECH S.A.S | C11: Aporta documentos que validan la contratación de una (1) persona en condición de discapacidad, en su planta de personal, inferior a 30 empleados. | D11: 1
A12: 7 | B12: CAMERFIRMA | C12: No aportó documentos | D12: 0

Sheet CONSOLIDADO
B1: CONCURSO DE MERITOS N° 01 DE 2020
B2: CONSOLIDADO VERIFICACION Y EVALUACIÓN TECNICA
A3: OBJETO | C3: Consultoría para determinar la mejor alternativa para la modernización tecnológica de la tarjeta profesional de abogado y la construcción de los estudios y documentos bases para la adquisición
C4: REQUISITOS TECNICOS HABILITANTES | G4: EVALUACION DE LA OFERTA
A5: Nº | B5: OFERENTES | C5: EXPERIENCIA GENERAL | D5: EXPERIENCIA ESPECIFICA | E5: EQUIPO DE TRABAJO | F5: COMPROM. ESPECIF. TÉCNICAS | G5: FORMAC. ACADEMICA Y PUBL. | H5: PERSONAL ADICIONAL | I5: APOYO INDUSTRIA NACIONAL | J5: TRABAJADORES DISCAPAC. | K5: TOTAL PUNTOS
A6: 1 | B6: CRECE SAS | C6: ='EXPERIENCIA GRAL'!F7 -> Cumple | D6: ='EXPERIENCIA ESPECIFICA'!D7 -> Cumple | E6: ='EQUIPO DE TRABAJO'!O8 -> No Cumple | F6: ='COMPROM. ESPECIF. TECN.'!D7 -> Cumple | G6: ='FORMAC. ACADEMICA Y PUBL.'!D6 -> 0 | H6: ='PERSONAL ADICIONAL '!D6 -> 0 | I6: ='APOYO INDUSTRIA NAL'!D6 -> 0 | J6: =TRABAJ.DISCAPACIDAD!D6 -> 0 | K6: =G6+H6+I6+J6 -> 0
A7: 2 | B7: BETA GROUP SERVICES SAS | C7: ='EXPERIENCIA GRAL'!F8 -> Cumple | D7: ='EXPERIENCIA ESPECIFICA'!D8 -> Cumple | E7: ='EQUIPO DE TRABAJO'!O9 -> No Cumple | F7: ='COMPROM. ESPECIF. TECN.'!D8 -> Cumple | G7: ='FORMAC. ACADEMICA Y PUBL.'!D7 -> 0 | H7: ='PERSONAL ADICIONAL '!D7 -> 0 | I7: ='APOYO INDUSTRIA NAL'!D7 -> 0 | J7: =TRABAJ.DISCAPACIDAD!D7 -> 0 | K7: =G7+H7+I7+J7 -> 0
A8: 3 | B8: FORSECURITY SAS | C8: ='EXPERIENCIA GRAL'!F9 -> Cumple | D8: ='EXPERIENCIA ESPECIFICA'!D9 -> Cumple | E8: ='EQUIPO DE TRABAJO'!O10 -> No Cumple | F8: ='COMPROM. ESPECIF. TECN.'!D9 -> Cumple | G8: ='FORMAC. ACADEMICA Y PUBL.'!D8 -> 0 | H8: ='PERSONAL ADICIONAL '!D8 -> 0 | I8: ='APOYO INDUSTRIA NAL'!D8 -> 0 | J8: =TRABAJ.DISCAPACIDAD!D8 -> 0 | K8: =G8+H8+I8+J8 -> 0
A9: 4 | B9: BOOST BC | C9: ='EXPERIENCIA GRAL'!F10 -> Cumple | D9: ='EXPERIENCIA ESPECIFICA'!D10 -> Cumple | E9: ='EQUIPO DE TRABAJO'!O11 -> No Cumple | F9: ='COMPROM. ESPECIF. TECN.'!D10 -> Cumple | G9: ='FORMAC. ACADEMICA Y PUBL.'!D9 -> 0 | H9: ='PERSONAL ADICIONAL '!D9 -> 0 | I9: ='APOYO INDUSTRIA NAL'!D9 -> 0 | J9: =TRABAJ.DISCAPACIDAD!D9 -> 0 | K9: =G9+H9+I9+J9 -> 0
A10: 5 | B10: BISA CORPORATION LTDA | C10: ='EXPERIENCIA GRAL'!F11 -> Cumple | D10: ='EXPERIENCIA ESPECIFICA'!D11 -> Cumple | E10: ='EQUIPO DE TRABAJO'!O12 -> No Cumple | F10: ='COMPROM. ESPECIF. TECN.'!D11 -> Cumple | G10: ='FORMAC. ACADEMICA Y PUBL.'!D10 -> 0 | H10: ='PERSONAL ADICIONAL '!D10 -> 0 | I10: ='APOYO INDUSTRIA NAL'!D10 -> 0 | J10: =TRABAJ.DISCAPACIDAD!D10 -> 0 | K10: =G10+H10+I10+J10 -> 0
A11: 6 | B11: ALINA TECH S.A.S | C11: ='EXPERIENCIA GRAL'!F12 -> Cumple | D11: ='EXPERIENCIA ESPECIFICA'!D12 -> Cumple | E11: ='EQUIPO DE TRABAJO'!O13 -> Cumple | F11: ='COMPROM. ESPECIF. TECN.'!D12 -> Cumple | G11: ='FORMAC. ACADEMICA Y PUBL.'!D11 -> 35 | H11: ='PERSONAL ADICIONAL '!D11 -> 27 | I11: ='APOYO INDUSTRIA NAL'!D11 -> 10 | J11: =TRABAJ.DISCAPACIDAD!D11 -> 1 | K11: =G11+H11+I11+J11 -> 73
A12: 7 | B12: CAMERFIRMA | C12: ='EXPERIENCIA GRAL'!F13 -> No Cumple | D12: No Cumple | E12: ='EQUIPO DE TRABAJO'!O14 -> Cumple | F12: ='COMPROM. ESPECIF. TECN.'!D13 -> Cumple | G12: ='FORMAC. ACADEMICA Y PUBL.'!D12 -> 0 | H12: ='PERSONAL ADICIONAL '!D12 -> 0 | I12: ='APOYO INDUSTRIA NAL'!D12 -> 0 | J12: =TRABAJ.DISCAPACIDAD!D12 -> 0 | K12: =G12+H12+I12+J12 -> 0
B14: NOTA : SE ACLARA QUE SOLO SE OTORGA PUNTAJE A LOS PROPONENTES HABILITADOS.
