Workbook
Name PRINT_AREA_MI: #N/A
Name PRINT_AREA_MI: #N/A
Name Print_Area1: #N/A
Name PRINT_TITLES_MI: #N/A
Name PRINT_TITLES_MI: #N/A
Name Print_Titles1: #N/A

Sheet LISTA DE OFERENTES
A1: FONDO DE DESARROLLO LOCAL DE KENNEDY
A2: FDLK-CMA-003-2025
A3: No. | B3: NOMBRE OFERENTE | C3: REPRESENTANTE LEGAL | D3: TIPO DE OFERENTE | E3: CONSORCIADO 1 | F3: CONSORCIADO 2 | G3: CONSORCIADO 3 | H3: CONSORCIADO 4
A4: 1 | B4: CONSORCIO INGESCOR R 8 | C4: AURA ELENA LÓPEZ MENDOZA | D4: CONSORCIO | E4: INGESCOR LTDA - 90% | F4: JUAN CARLOS RÍOS URUETA - 10%
A5: 2 | B5: CONSORCIO INTER 3A | C5: RICAUTE ALVAREZ PARRADO | D5: CONSORCIO | E5: ARCELIA ARIAS DIAZ - 35% | F5: NORTON FERNANDO ARENAS PRADA - 10% | G5: MCPP INGENIERIA SAS - 55%
A6: 3 | B6: GRUPO METRO COLOMBIA SAS | C6: OSCAR ALFREDO MONTOYA CASTRO | D6: EMPRESA | E6: GRUPO METRO COLOMBIA SAS - 100%
A7: 4 | B7: CONSORCIO ECOS KENNEDY 003 | C7: MAURICIO GOMEZ CAICEDO | D7: CONSORCIO | E7: ESTRUCTURADOR COLOMBIA SAS - 50% | F7: ECOSENDA SAS - 50%
A8: 5 | B8: COMPAÑÍA DE PROYECTOS TECNICOS CPT S.A | C8: JORGE ENRIQUE ALFARO DE LOS RIOS | D8: EMPRESA | E8: COMPAÑÍA DE PROYECTOS TECNICOS CPT S.A - 100%
A9: 6 | B9: CONSORCIO INTERMALLA VIAL LK | C9: JULIÁN PASTOR VALBUENA LÓPEZ | D9: CONSORCIO | E9: ECG INGENIERÍA SAS - 50% | F9: INGENIERIA Y CONSULTORIA INGECON SAS - 50%
A10: 7 | B10: SADING GROUP S.A.S | C10: JUAN CARLOS REYES VANEGAS | D10: EMPRESA | E10: SADING GROUP S.A.S - 100%
A11: 8 | B11: CONSORCIO INTERKENNEDY AI | C11: DANIEL ARMANDO SILVA ROZO | D11: CONSORCIO | E11: AIRTIFICIAL CW INFRASTRUCTURES COLOMBIA S.A.S. - 90% | F11: INNOBRAS LTD - 10%
A12: 9 | B12: CONSORCIO KENNEDY003 | C12: ANDREA DEL PILAR PEÑA SANCHEZ | D12: CONSORCIO | E12: ICING S.A.S. - 90% | F12: COPEBA S.A.S. - 10%
A13: 10 | B13: CIVING INGENIEROS CONTRATISTAS S.A.S | C13: STEFAN IVAN VALLEJO PACHON | D13: EMPRESA | E13: CIVING INGENIEROS CONTRATISTAS S.A.S - 100%
A14: 11 | B14: CONSORCIO EMPRESARIAL | C14: HUGO ALFREDO POSSO MONCADA | D14: CONSORCIO | E14: GRUPO POSSO SAS - 50% | F14: INGENIERIA MONCADA GUERRERO SA - 50%
A15: 12 | B15: CONSORCIO KENNEDY INTERESVIAL | C15: CESAR AUGUSTO CAMARCO CAMARGO | D15: CONSORCIO | E15: KALPA INGENIERIA SAS SOCIEDAD DE BENEFICIO E INTERES COLECTIVO - BIC - 99% | F15: MEDINA & RIVERA INGENIEROS ASOCIADOS SOCIEDAD POR ACCIONES SIMPLIFICADA 1%
A16: 13 | B16: UNIOBRAS DEL ORIENTE SAS | C16: MIRIAM LUZ GUTIERREZ CORREA | D16: EMPRESA | E16: UNIOBRAS DEL ORIENTE SAS - 100%
A17: 14 | B17: CONSORCIO HUPK VIAS DE KENNEDY | C17: JUAN PABLO PRADA CADAVID | D17: CONSORCIO | E17: HUPERNIKAO INGENIERIA SAS - 50% | F17: SISTEMA INGENIERIA, SUCURSAL COLOMBIA - 50%
A18: 15 | B18: INGEVAL SAS | C18: CLAUDIA MILENA TRUJILLO ANGEL | D18: EMPRESA | E18: INGEVAL SAS - 100%
A19: 16 | B19: CONSORCIO MALLA VIAL G&G | C19: ALFREDO PEREZ SANTOS | D19: CONSORCIO | E19: GESTORA DE PROYECTOS DE INGENIERIA E INFRAESTRUCTURA S.A.S. - 60% | F19: DISEÑOS INTERVENTORIAS Y SERVICIOS S.A.S - 40%
A20: 17 | B20: CONSORCIO KENNEDY LGI | C20: CAMILO ADOLFO NAGED RODRIGUEZ | D20: CONSORCIO | E20: GEOTECNIA Y CIMIENTOS INGEOCIM SAS - 50% | F20: LINEA GLOBAL INGENIERIA SAS - 50%
A21: 18 | B21: ICE SAS | C21: CARLOS ALBERTO DONADO | D21: EMPRESA | E21: ICE SAS - 100%
A22: 19 | B22: CONSORCIO INTERKENNEDY CC | C22: CLAUDIA PATRICIA CORREA MALAVER | D22: CONSORCIO | E22: CEMOSA COLOMBIA - 50% | F22: CEMOSA INGENIERIA Y CONTROL SAS - 50%
A23: 20 | B23: CONSORCIO INTER VIAS KENNEDY | C23: JORGE GOMEZ FALLA | D23: CONSORCIO | E23: JGF SERVICIOS SAS - 50% | F23: COBA B&C SAS - 50%
A24: 21 | B24: HMV SOLUCIONES SAS | C24: EDUARDO ENRIQUE RAMOS ARNEDO | D24: PERSONA NATURAL | E24: HMV SOLUCIONES SAS - 100%
A25: 22 | B25: UMBRELLA INTERNATIONAL S.A.S | C25: KYARA NAYVITH ALMEIDA GAMARRA | D25: PERSONA NATURAL | E25: UMBRELLA INTERNATIONAL S.A.S - 100%
A26: 23 | B26: CONSORCIO DS | C26: ALEJANDRO ALBA QUINTERO | D26: CONSORCIO | E26: SESAC S.A - 90% | F26: DEIGMA S.A.S. - 10%
A27: 24 | B27: CONSORCIO INTERKENNEDY MV | C27: ANDRES FELIPE QUINTERO CORDOBA | D27: CONSORCIO | E27: HG INGENIERÍA Y DESARROLLOS SAS - 50% | F27: COMPAÑÍA DE INTERVENTORÍAS Y CONSULTORÍAS DE LA COSTA SAS - 50%
A28: 25 | B28: CONSULTORES DONOVAN S.A.S | C28: KELLY JOHANNA GRAST SÁNCHEZ | D28: PERSONA NATURAL | E28: CONSULTORES DONOVAN S.A.S - 100%
A29: 26 | B29: CONSORCIO KENNEDY JINT 3 | C29: CESAR AUGUSTO PALACIOS WILCHES | D29: CONSORCIO | E29: JPS INGENIERIA S.A.S. - 90% | F29: INTING S.A.S. - 10%
A30: 27 | B30: CONSORCIO CONSERVACION MO 003 | C30: DANIEL ERNESTO RUIZ PARRA | D30: CONSORCIO | E30: MSING S.A.S - 50% | F30: OBRAS Y PROYECTOS RP SAS - 50%
A31: 28 | B31: CONSORCIO SERBET KENNEDY | C31: PAOLO MAFIOLI PUCHE | D31: CONSORCIO | E31: SERVINC SAS - 90% | F31: BETMAF SAS - 10%
A32: 29 | B32: INTERLAB INGENIERIA S.A.S | C32: LUISA FERNANDA RAMÍREZ TOVAR | D32: PERSONA NATURAL | E32: INTERLAB INGENIERIA S.A.S - 100%
A33: 30 | B33: CONSORCIO KENNEDY 2025 | C33: ADALBERTO FLOREZ SALGADO | D33: CONSORCIO | E33: CONSTRUCTORA P-F LTDA - 50% | F33: AIDOCN LTDA - 50%
A34: 31 | B34: MGC VIAS KENNEDY. | C34: JULIO CESAR CAREY RIVERA | D34: CONSORCIO | E34: MARC PROYECTOS SAS - 30% | F34: CON Y CON SAS - 30% | G34: GESTORES Y CONSULTORES G&C LTDA - 40%
A35: 32 | B35: CONSORCIO TECNOLOGICO 11. | C35: RAFAEL JAVIER GUISA RUEDA | D35: CONSORCIO | E35: RAFAEL JAVIER GUISA RUEDA - 50% | F35: INTERVENTORIAS Y CONSTRUCCIONES S.A.S - 50%
A36: 33 | B36: CONSORCIO INTERPROVIAL KENNEDY | C36: JUAN JOSE OLIVELLA LOPEZ | D36: CONSORCIO | E36: CONSULTORIA E INTERVENTORIAS TECNICAS PROFESIONALES S.A.S - 90% | F36: TCONTROL S.A.S. - 10%
A37: 34 | B37: CONSORCIO TECHOTIBA. | C37: DIEGO MAURICIO GALÁN ECHEVERRI | D37: CONSORCIO | E37: CODIPRO INGENIERIA Y ARQUITECTURA LTDA. CONSTRUCCIONES, DISEÑOS Y PROYECTOS - 50% | F37: INGENIERIA DE PROYECTOS AML S.A.S. - 40% | G37: VÍAS Y CANALES S.A.S. NIT. - 10%
A38: 35 | B38: IAR PROYECTOS SAS | C38: RAFAEL VILLAR OSPINA | D38: PERSONA JURIDICA | E38: IAR PROYECTOS SAS - 100%
A39: 36 | B39: CONSORCIO INTERURBANO | C39: FREDY LEAL MENDOZA | D39: CONSORCIO | E39: BATEMAN INGENIERIA SAS - 90% | F39: GH INGENIERIA Y CONSULTORIA SAS - 10%
A40: 37 | B40: CONSORCIO INTERVIAL KENNEDY. | C40: ALFREDO JOSÉ LEPESQUEUR MARTÍNEZ | D40: CONSORCIO | E40: AS INGENIERÍA Y CONSULTORÍA S.A.S. - 90% | F40: CONSULTORIAS DEL LLANO S.A.S - 10%
...

Sheet CONDICIONES GENERALES
M3: cada contrato debe cumplir con alguno de estos códigos 81101500, 81102200, 80101600
A6: OBJETO: REALIZAR LA INTERVENTORIA, TECNICA, ADMINISTRATIVA, JURIDICA, FINANCIERA, SOCIAL, AMBIENTAL Y DE SEGURIDAD Y SALUD EN EL TRABAJO AL CONTRATO QUE TIENE COMO OBJETO "REALIZAR LAS OBRAS DE CONSERVACIÓN DE LA MALLA VIAL Y ESPACIO PÚBLICO ASOCIADO EN LA LOCALIDAD DE KENNEDY, BOGOTÁ, D.C. A TRAVÉS DEL SISTEMA DE PRECIOS UNITARIOS FIJOS Y A MONTO AGOTABLE
A8: Los contratos para acreditar la experiencia deben cumplir las siguientes características: Que hayan contenido la ejecución de:
A9: EXPERIENCIA GENERAL
A10: INTERVENTORIA A LA CONSTRUCCIÓN O RECONSTRUCCIÓN O REHABILITACIÓN O ADECUACIÓN O AMPLIACIÓN O MEJORAMIENTO O MANTENIMIENTO O REPAVIMENTACIÓN O PAVIMENTACIÓN O CONSERVACIÓN DE INFRAESTRUCTURA VIAL PARA TRÁFICO VEHICULAR DE VÍAS URBANAS O DE VÍAS PRIMARIAS O SECUNDARIAS
A11: Nota 1: No se aceptará experiencia en contratos cuyo objeto o alcance sea exclusivamente en cualquiera de las siguientes actividades de interventoría a: componentes de seguridad vial o semaforización o puentes.
A12: Nota 2: En todo caso la interventoría a la obra civil en infraestructura vial que se pretenda acreditar como experiencia, debe demostrar la interventoría a la intervención en la estructura del pavimento.
A13: Nota 3: La entidad de acuerdo con la complejidad técnica del proyecto revisará y/o analizará la categorización correspondiente a las vías a intervenir objeto del proceso de Selección y con base en esto, determinará si corresponden a Vías Arteriales, Principales y/o Secundarias o de acuerdo con las clasificaciones y/o categorías incluidas para las ciudades y/o municipios o su equivalente en el evento de proyectos ejecutados fuera del territorio nacional y con base en esto solicitará la Experiencia en la interventoría a la Intervención de Vías Urbanas.
A15: EXPERIENCIA ESPECIFICA
A16: Por lo menos uno (1) de los contratos válidos aportados como experiencia general debe acreditar que se hayan realizado interventoría a las actividades de diagnóstico y/o estudios y diseños, para actividades de conservación de vías.
A17: Y
A18: Por lo menos uno (1) de los contratos válidos aportados como experiencia general debe acreditar la interventoría a la intervención de redes de servicios públicos.
A19: NÚMERO DE CONTRATOS: C. El Proponente podrá aportar mínimo uno (1) y máximo cinco (5) contratos para la evaluación y asignación de puntaje por concepto de experiencia.
... A24: CONDICIÓN 5: F: Cuando el contrato que se pretende acreditar como experiencia haya sido ejecutado en Consorcio o en Unión Temporal, el valor a considerar será el registrado en el Registro Único de Proponentes (RUP), o documento válido, en caso de que el integrante no esté obligado a tener RUP. En estos casos la experiencia se multiplicará por el porcentaje de participación que tuvo el integrante o los integrantes.

Sheet EXPERIENCIA DEL PROPONENTE
A1: FONDO DE DESARROLLO LOCAL DE KENNEDY
A2: FDLK-CMA-003-2025
A3: REQUISITOS PONDERABLE - EXPERIENCIA DEL PROPONENTE | T3: CUMPLE
T4: NO CUMPLE
A8: 1 | E8: =VLOOKUP(A8,'LISTA DE OFERENTES'!$A$4:$H$102,2,FALSE) -> CONSORCIO INGESCOR R 8
A9: NÚMERO DE CONTRATOS PRESENTADOS | B9: 1 | C9: PRESUPUESTO OFICIAL EN SMMLV | D9: =$D$1591 -> 1380.1114
A10: PROMEDIO DE SMMLV | C10: =H23/B9 -> 2609.9288
A11: TERMINO DE EJECUCION EXIGIDO | C11: 45923
A12: TOTAL SALARIOS MINIMOS ACREDITADOS | C12: =+IF(H23>D9,"CUMPLE","NO CUMPLE") -> CUMPLE
A13: CONDICIONES DE EXPERIENCIA | I13: CONDICION N°. 1 (VER TABLA AL FINAL DE LA HOJA) | J13: CONDICION N°. 2 (VER TABLA AL FINAL DE LA HOJA) | K13: CONDICION N°. 4 (VER TABLA AL FINAL DE LA HOJA) | M13: VALIDACIÓN CONDICIONES | N13: CONCLUSIÓN EXPERIENCIA GENERAL | O13: EXPERIENCIA ESPECIFICA 1 INTERVENTORÍA A ACTIVIDADES DE DIAGNOSTICO Y/O ESTUDIOS Y DISEÑOS PARA CONSERVACIÓN DE MALLA VIAL | P13: EXPERIENCIA ESPECIFICA 2 INTERVENTORÍA A INTERVENCIONES DE REDES DE SERVICIOS PUBLICOS | Q13: CONCLUSIÓN ACREDITACIÓN EXPERIENCIA GENERAL, Y EXPERIENCIA ESPECIFICA | R13: OBSERVACIÓN Y RESPUESTA A OBSERVACIONES
A14: Objeto del Contrato | B14: Entidad Contratante | D14: Valor Contrato | E14: Año de ejecución aportado | F14: Valor del Contrato en SMMLV | G14: Participación UT/CONSORCIO | H14: Participación en SMMLV | I14: Término de ejecución aportado | J14: CODIGO UNSPSC SEGMENTOS 80 Y 81 | K14: Valor exigido 50%SMMLV | L14: Valor aportado
A15: =VLOOKUP(A8,'LISTA DE OFERENTES'!$A$4:$H$102,5,FALSE) -> INGESCOR LTDA - 90% | K15: =$D$1591*0.5 -> 690.05571 | M15: CUMPLE | Q15: =+IF(AND(N23="CUMPLE",O23="CUMPLE",P23="CUMPLE"),"CUMPLE","NO CUMPLE") -> CUMPLE
A16: CONTRATAR LA INTERVENTORÍA TÉCNICA, ADMINISTRATIVA, FINANCIERA Y AMBIENTAL AL CONTRATO DE OBRA CUYO OBJETO ES: MEJORAMIENTO DE LA SEGUNDA ETAPA DE LA VÍA IBAGUÉ - ROVIRA EN EL DEPARTAMENTO DEL TOLIMA | B16: GOBERNACION DEL TOLIMA | D16: 3728469682 | E16: 2022 | F16: =D16/(VLOOKUP(E16,$D$1618:$E$1652,2,FALSE)) -> 3728.4697 | G16: 0.5 | H16: =F16*G16 -> 1864.2348 | I16: 44922 | J16: CUMPLE | L16: =+SUM(I16:I18) -> 130945 | N16: CUMPLE | O16: CUMPLE | P16: NO CUMPLE
A17: "INTERVENTORÍA TÉCNICA, ADMINISTRATIVA, FINANCIERA Y AMBIENTAL AL CONTRATO ESTATAL DE OBRA LP-03-2013, CUYO OBJETO ES LA RECONSTRUCCIÓN DE VÍAS Y ANDENES DEL CORREDOR VIAL PERTENECIENTE A LA RUTA CECAR - ETAPA I, PERTENECIENTE AL SISTEMA ESTRATÉGICO DE TRANSPORTE PÚBLICO DE PASAJEROS DE LA CIUDAD DE SINCELEJO | B17: METRO SABANAS S.A.S | D17: 822325500 | E17: 2015 | F17: =D17/(VLOOKUP(E17,$D$1618:$E$1652,2,FALSE)) -> 1276.2094 | G17: 0.35 | H17: =F17*G17 -> 446.67328 | I17: 42294 | J17: CUMPLE | N17: CUMPLE | O17: NO CUMPLE | P17: CUMPLE
A18: “INTERVENTORIA TECNICA, ADMINISTRATIVA, FINANCIERA Y AMBIENTAL PARA EL MEJORAMIENTO, MANTENIMIENTO Y CONSERVACION DE VIAS PARA CONECTIVIDAD REGIONAL, FINANCIADOS CON RECURSOS DE LA ENAJENACIÓN DE ISAGEN EN EL DEPARTAMENTO DE CALDAS, VIA ARMA - LA LORENA - PLAN DE ORO | B18: INVIAS | D18: 755764760 | E18: 2019 | F18: =D18/(VLOOKUP(E18,$D$1618:$E$1652,2,FALSE)) -> 912.63152 | G18: 0.2 | H18: =F18*G18 -> 182.5263 | I18: 43729 | J18: CUMPLE | N18: CUMPLE | O18: CUMPLE | P18: NO CUMPLE
A19: =VLOOKUP(A8,'LISTA DE OFERENTES'!$A$4:$H$102,6,FALSE) -> JUAN CARLOS RÍOS URUETA - 10%
A20: CONTRATAR LA INTERVENTORÍA TÉCNICA, ADMINISTRATIVA, FINANCIERA Y AMBIENTAL AL CONTRATO DE OBRA CUYO OBJETO ES: MEJORAMIENTO DE LA SEGUNDA ETAPA DE LA VÍA IBAGUÉ - ROVIRA EN EL DEPARTAMENTO DEL TOLIMA | B20: GOBERNACION DEL TOLIMA | D20: 3728469682 | E20: 2022 | F20: =D20/(VLOOKUP(E20,$D$1618:$E$1652,2,FALSE)) -> 3728.4697 | G20: 0.2 | H20: =F20*G20 -> 745.69394 | I20: 44922 | J20: CUMPLE | L20: =+SUM(I20:I22) -> 130945 | N20: CUMPLE | O20: CUMPLE | P20: NO CUMPLE
A21: "INTERVENTORÍA TÉCNICA, ADMINISTRATIVA, FINANCIERA Y AMBIENTAL AL CONTRATO ESTATAL DE OBRA LP-03-2013, CUYO OBJETO ES LA RECONSTRUCCIÓN DE VÍAS Y ANDENES DEL CORREDOR VIAL PERTENECIENTE A LA RUTA CECAR - ETAPA I, PERTENECIENTE AL SISTEMA ESTRATÉGICO DE TRANSPORTE PÚBLICO DE PASAJEROS DE LA CIUDAD DE SINCELEJO | B21: METRO SABANAS S.A.S | D21: 822325500 | E21: 2015 | F21: =D21/(VLOOKUP(E21,$D$1618:$E$1652,2,FALSE)) -> 1276.2094 | G21: 0.05 | H21: =F21*G21 -> 63.810468 | I21: 42294 | J21: CUMPLE | N21: CUMPLE | O21: NO CUMPLE | P21: CUMPLE
A22: “INTERVENTORIA TECNICA, ADMINISTRATIVA, FINANCIERA Y AMBIENTAL PARA EL MEJORAMIENTO, MANTENIMIENTO Y CONSERVACION DE VIAS PARA CONECTIVIDAD REGIONAL, FINANCIADOS CON RECURSOS DE LA ENAJENACIÓN DE ISAGEN EN EL DEPARTAMENTO DE CALDAS, VIA ARMA - LA LORENA - PLAN DE ORO | B22: INVIAS | D22: 755764760 | E22: 2019 | F22: =D22/(VLOOKUP(E22,$D$1618:$E$1652,2,FALSE)) -> 912.63152 | G22: 0.6 | H22: =F22*G22 -> 547.57891 | I22: 43729 | J22: CUMPLE | N22: CUMPLE | O22: CUMPLE | P22: NO CUMPLE
A23: TOTALES | F23: =+SUM(F15:F22) -> 11834.621 | H23: =+SUM(H16,H20) -> 2609.9288 | I23: CONCLUSIÓN EXPERIENCIA DEL PROPONENTE | N23: CUMPLE | O23: =IF(_xlfn.XLOOKUP("CUMPLE",O19:O22,O19:O22,"NO CUMPLE",0,1)="CUMPLE","CUMPLE","NO CUMPLE") -> CUMPLE | P23: =IF(_xlfn.XLOOKUP("CUMPLE",P19:P22,P19:P22,"NO CUMPLE",0,1)="CUMPLE","CUMPLE","NO CUMPLE") -> CUMPLE | R23: =+IF(AND(M15="CUMPLE",Q15="CUMPLE"),"HABILITADO","NO HABILITADO") -> HABILITADO
A26: =1+A8 -> 2 | E26: =VLOOKUP(A26,'LISTA DE OFERENTES'!$A$4:$H$102,2,FALSE) -> CONSORCIO INTER 3A
A27: NÚMERO DE CONTRATOS PRESENTADOS | B27: 3 | C27: PRESUPUESTO OFICIAL EN SMMLV | D27: =$D$1591 -> 1380.1114
A28: PROMEDIO DE SMMLV | C28: =H41/B27 -> 2135.9474
A29: TERMINO DE EJECUCION EXIGIDO | C29: 45923
A30: TOTAL SALARIOS MINIMOS ACREDITADOS | C30: =+IF(H41>D27,"CUMPLE","NO CUMPLE") -> CUMPLE
A31: CONDICIONES DE EXPERIENCIA | I31: CONDICION N°. 1 (VER TABLA AL FINAL DE LA HOJA) | J31: CONDICION N°. 2 (VER TABLA AL FINAL DE LA HOJA) | K31: CONDICION N°. 4 (VER TABLA AL FINAL DE LA HOJA) | M31: VALIDACIÓN CONDICIONES | N31: CONCLUSIÓN EXPERIENCIA GENERAL | O31: EXPERIENCIA ESPECIFICA 1 INTERVENTORÍA A ACTIVIDADES DE DIAGNOSTICO Y/O ESTUDIOS Y DISEÑOS PARA CONSERVACIÓN DE MALLA VIAL | P31: EXPERIENCIA ESPECIFICA 2 INTERVENTORÍA A INTERVENCIONES DE REDES DE SERVICIOS PUBLICOS | Q31: CONCLUSIÓN ACREDITACIÓN EXPERIENCIA GENERAL, Y EXPERIENCIA ESPECIFICA | R31: OBSERVACIÓN Y RESPUESTA A OBSERVACIONES
A32: Objeto del Contrato | B32: Entidad Contratante | D32: Valor Contrato | E32: Año de ejecución aportado | F32: Valor del Contrato en SMMLV | G32: Participación UT/CONSORCIO | H32: Participación en SMMLV | I32: Término de ejecución aportado | J32: CODIGO UNSPSC SEGMENTOS 80 Y 81 | K32: Valor exigido 50%SMMLV | L32: Valor aportado
A33: =VLOOKUP(A26,'LISTA DE OFERENTES'!$A$4:$H$102,5,FALSE) -> ARCELIA ARIAS DIAZ - 35% | K33: =$D$1591*0.5 -> 690.05571 | M33: CUMPLE | Q33: =+IF(AND(N41="CUMPLE",O41="CUMPLE",P41="CUMPLE"),"CUMPLE","NO CUMPLE") -> CUMPLE
A34: INTERVENTORIA TECNICA, ADMINISTRATIVA, FINANCIERA LEGAL, SOCIAL Y AMBIENTAL PARA LA CONSERVACION DE LA INFRAESTRUCTURA DEL SISTEMA INTEGRADO DE TRNSPORTE PUBLICO TRONCALES DEL SISTEMA TRANSMILENIO Y RUTAS AUXILIARES ALIMENTADORAS, COMPLEMENTARIAS Y ESPECIALES, TRONCAL AVENIDA NQS, COMPRENDIDA ENTRE LA CALLE 92 Y EL LIMITE CON EL MUNICIPIO DE SOACHA Y RUTAS AUXILIARES, ALIMENTADORAS, COMPLEMENTARIAS Y ESPECIALES, LOCALIDAD DE BOSA Y CIUDAD BOLIVAR EN BOGOTA D.C. (GRUPO) | B34: IDU | D34: 1021656449 | E34: 2014 | F34: =D34/(VLOOKUP(E34,$D$1618:$E$1652,2,FALSE)) -> 1658.5332 | G34: 0.5 | H34: =F34*G34 -> 829.2666 | I34: 41720 | J34: CUMPLE | L34: =SUM(H34:H35) -> 1271.3597 | N34: CUMPLE | O34: CUMPLE | P34: CUMPLE
A35: INTERVENTORIA PARA EL MEJORAMIENTO, GESTION PREDIAL, SOCIAL Y AMBIENTAL DE LA VIA POPAYAN - TOTORO - INZA, RUTA 2602 SECTOR CORDOBA - TOTORO - POPAYAN EN EL DEPARTAMENTO DEL CAUCA PARA EL PROGRAMA "VIAS PARA LA EQUIDAD" | B35: INVIAS | D35: 10041326844 | E35: 2021 | F35: =D35/(VLOOKUP(E35,$D$1618:$E$1652,2,FALSE)) -> 11052.327 | G35: 0.04 | H35: =F35*G35 -> 442.0931 | I35: 44347 | J35: CUMPLE | N35: CUMPLE | O35: NO CUMPLE | P35: NO CUMPLE
A36: =VLOOKUP(A26,'LISTA DE OFERENTES'!$A$4:$H$102,6,FALSE) -> NORTON FERNANDO ARENAS PRADA - 10%
A37: =VLOOKUP(A26,'LISTA DE OFERENTES'!$A$4:$H$102,7,FALSE) -> MCPP INGENIERIA SAS - 55%
A38: INTERVENTORIA PARA LA REHABILITACION Y MEJORAMIENTO DE LA VIA PUENTE CAMACHO - GARAGOA - LAS JUNTAS PR00 + 000 AL PR75 - 000, CON UNA LONGITUD DE 62,7 KM, DEPARTAMENTO DE BOYACA | B38: INVIAS | D38: 7475314282 | E38: 2018 | F38: =D38/(VLOOKUP(E38,$D$1618:$E$1652,2,FALSE)) -> 9568.5003 | G38: 0.3 | H38: =F38*G38 -> 2870.5501 | I38: 43357 | J38: CUMPLE | L38: =SUM(H38:H40) -> 5136.4824 | N38: CUMPLE | O38: CUMPLE | P38: NO CUMPLE
A39: INTERVENTORIA TECNICA, ADMINISTRATIVA, FINANCIERA LEGAL, SOCIAL Y AMBIENTAL PARA LA CONSERVACION DE LA INFRAESTRUCTURA DEL SISTEMA INTEGRADO DE TRNSPORTE PUBLICO TRONCALES DEL SISTEMA TRANSMILENIO Y RUTAS AUXILIARES ALIMENTADORAS, COMPLEMENTARIAS Y ESPECIALES, TRONCAL AVENIDA NQS, COMPRENDIDA ENTRE LA CALLE 92 Y EL LIMITE CON EL MUNICIPIO DE SOACHA Y RUTAS AUXILIARES, ALIMENTADORAS, COMPLEMENTARIAS Y ESPECIALES, LOCALIDAD DE BOSA Y CIUDAD BOLIVAR EN BOGOTA D.C. (GRUPO) | B39: IDU | D39: 1021656449 | E39: 2014 | F39: =D39/(VLOOKUP(E39,$D$1618:$E$1652,2,FALSE)) -> 1658.5332 | G39: 0.3 | H39: =F39*G39 -> 497.55996 | I39: 41720 | J39: CUMPLE | N39: CUMPLE | O39: CUMPLE | P39: CUMPLE
A40: INTERVENTORIA PARA EL MEJORAMIENTO, GESTION PREDIAL, SOCIAL Y AMBIENTAL DE LA VIA POPAYAN - TOTORO - INZA, RUTA 2602 SECTOR CORDOBA - TOTORO - POPAYAN EN EL DEPARTAMENTO DEL CAUCA PARA EL PROGRAMA "VIAS PARA LA EQUIDAD" | B40: INVIAS | D40: 10041326844 | E40: 2021 | F40: =D40/(VLOOKUP(E40,$D$1618:$E$1652,2,FALSE)) -> 11052.327 | G40: 0.16 | H40: =F40*G40 -> 1768.3724 | I40: 44347 | J40: CUMPLE | N40: CUMPLE | O40: NO CUMPLE | P40: NO CUMPLE
A41: TOTALES | F41: =+SUM(F33:F40) -> 34990.222 | H41: =+SUM(H33:H40) -> 6407.8421 | I41: CONCLUSIÓN EXPERIENCIA DEL PROPONENTE | N41: CUMPLE | O41: =IF(_xlfn.XLOOKUP("CUMPLE",O34:O40,O34:O40,"NO CUMPLE",0,1)="CUMPLE","CUMPLE","NO CUMPLE") -> CUMPLE | P41: =IF(_xlfn.XLOOKUP("CUMPLE",P34:P40,P34:P40,"NO CUMPLE",0,1)="CUMPLE","CUMPLE","NO CUMPLE") -> CUMPLE | R41: =+IF(AND(M33="CUMPLE",Q33="CUMPLE"),"HABILITADO","NO HABILITADO") -> HABILITADO
A44: =1+A26 -> 3 | E44: =VLOOKUP(A44,'LISTA DE OFERENTES'!$A$4:$H$102,2,FALSE) -> GRUPO METRO COLOMBIA SAS
A45: NÚMERO DE CONTRATOS PRESENTADOS | B45: 4 | C45: PRESUPUESTO OFICIAL EN SMMLV | D45: =$D$1591 -> 1380.1114
A46: PROMEDIO DE SMMLV | C46: =H57/B45 -> 2578.4218
A47: TERMINO DE EJECUCION EXIGIDO | C47: 45923
...

Sheet REQUISITOS HAB. TECNICOS
A1: FONDO DE DESARROLLO LOCAL DE KENNEDY | I1: CUMPLE
A2: FDLK-CMA-003-2025 | I2: NO CUMPLE
A3: REQUISITOS HABILITANTES TÉCNICOS
A4: REALIZAR LA INTERVENTORIA, TECNICA, ADMINISTRATIVA, JURIDICA, FINANCIERA, SOCIAL, AMBIENTAL Y DE SEGURIDAD Y SALUD EN EL TRABAJO AL CONTRATO QUE TIENE COMO OBJETO "REALIZAR LAS OBRAS DE CONSERVACIÓN DE LA MALLA VIAL Y ESPACIO PÚBLICO ASOCIADO EN LA LOCALIDAD DE KENNEDY, BOGOTÁ, D.C. A TRAVÉS DEL SISTEMA DE PRECIOS UNITARIOS FIJOS Y A MONTO AGOTABLE
A5: No. | B5: OFERENTE | C5: FORMATO 8 - ACEPTACIÓN Y CUMPLIMIENTO PERSONAL CLAVE | D5: EXIGENCIA MINIMA DE LA EXPERIENCIA | E5: OFERTA ECONOMICA | F5: CONSOLIDADO | G5: OBSERVACIONES
A6: 1 | B6: =+VLOOKUP(A6,'LISTA DE OFERENTES'!$A$4:$B$102,2,FALSE) -> CONSORCIO INGESCOR R 8 | C6: CUMPLE | D6: CUMPLE | E6: CUMPLE | F6: =+IF(AND(C6="CUMPLE",D6="CUMPLE",E6="CUMPLE"),"CUMPLE","NO CUMPLE") -> CUMPLE
A7: 2 | B7: =+VLOOKUP(A7,'LISTA DE OFERENTES'!$A$4:$B$102,2,FALSE) -> CONSORCIO INTER 3A | C7: CUMPLE | D7: CUMPLE | E7: CUMPLE | F7: =+IF(AND(C7="CUMPLE",D7="CUMPLE",E7="CUMPLE"),"CUMPLE","NO CUMPLE") -> CUMPLE
A8: 3 | B8: =+VLOOKUP(A8,'LISTA DE OFERENTES'!$A$4:$B$102,2,FALSE) -> GRUPO METRO COLOMBIA SAS | C8: CUMPLE | D8: CUMPLE | E8: CUMPLE | F8: =+IF(AND(C8="CUMPLE",D8="CUMPLE",E8="CUMPLE"),"CUMPLE","NO CUMPLE") -> CUMPLE
A9: 4 | B9: =+VLOOKUP(A9,'LISTA DE OFERENTES'!$A$4:$B$102,2,FALSE) -> CONSORCIO ECOS KENNEDY 003 | C9: CUMPLE | D9: CUMPLE | E9: CUMPLE | F9: =+IF(AND(C9="CUMPLE",D9="CUMPLE",E9="CUMPLE"),"CUMPLE","NO CUMPLE") -> CUMPLE
A10: 5 | B10: =+VLOOKUP(A10,'LISTA DE OFERENTES'!$A$4:$B$102,2,FALSE) -> COMPAÑÍA DE PROYECTOS TECNICOS CPT S.A | C10: CUMPLE | D10: CUMPLE | E10: CUMPLE | F10: =+IF(AND(C10="CUMPLE",D10="CUMPLE",E10="CUMPLE"),"CUMPLE","NO CUMPLE") -> CUMPLE
A11: 6 | B11: =+VLOOKUP(A11,'LISTA DE OFERENTES'!$A$4:$B$102,2,FALSE) -> CONSORCIO INTERMALLA VIAL LK | C11: CUMPLE | D11: CUMPLE | E11: CUMPLE | F11: =+IF(AND(C11="CUMPLE",D11="CUMPLE",E11="CUMPLE"),"CUMPLE","NO CUMPLE") -> CUMPLE
A12: 7 | B12: =+VLOOKUP(A12,'LISTA DE OFERENTES'!$A$4:$B$102,2,FALSE) -> SADING GROUP S.A.S | C12: CUMPLE | D12: CUMPLE | E12: CUMPLE | F12: =+IF(AND(C12="CUMPLE",D12="CUMPLE",E12="CUMPLE"),"CUMPLE","NO CUMPLE") -> CUMPLE
A13: 8 | B13: =+VLOOKUP(A13,'LISTA DE OFERENTES'!$A$4:$B$102,2,FALSE) -> CONSORCIO INTERKENNEDY AI | C13: CUMPLE | D13: CUMPLE | E13: CUMPLE | F13: =+IF(AND(C13="CUMPLE",D13="CUMPLE",E13="CUMPLE"),"CUMPLE","NO CUMPLE") -> CUMPLE
A14: 9 | B14: =+VLOOKUP(A14,'LISTA DE OFERENTES'!$A$4:$B$102,2,FALSE) -> CONSORCIO KENNEDY003 | C14: CUMPLE | D14: CUMPLE | E14: CUMPLE | F14: =+IF(AND(C14="CUMPLE",D14="CUMPLE",E14="CUMPLE"),"CUMPLE","NO CUMPLE") -> CUMPLE
A15: 10 | B15: =+VLOOKUP(A15,'LISTA DE OFERENTES'!$A$4:$B$102,2,FALSE) -> CIVING INGENIEROS CONTRATISTAS S.A.S | C15: CUMPLE | D15: CUMPLE | E15: CUMPLE | F15: =+IF(AND(C15="CUMPLE",D15="CUMPLE",E15="CUMPLE"),"CUMPLE","NO CUMPLE") -> CUMPLE
A16: 11 | B16: =+VLOOKUP(A16,'LISTA DE OFERENTES'!$A$4:$B$102,2,FALSE) -> CONSORCIO EMPRESARIAL | C16: CUMPLE | D16: CUMPLE | E16: CUMPLE | F16: =+IF(AND(C16="CUMPLE",D16="CUMPLE",E16="CUMPLE"),"CUMPLE","NO CUMPLE") -> CUMPLE
A17: 12 | B17: =+VLOOKUP(A17,'LISTA DE OFERENTES'!$A$4:$B$102,2,FALSE) -> CONSORCIO KENNEDY INTERESVIAL | C17: CUMPLE | D17: CUMPLE | E17: CUMPLE | F17: =+IF(AND(C17="CUMPLE",D17="CUMPLE",E17="CUMPLE"),"CUMPLE","NO CUMPLE") -> CUMPLE
... A33: 28 | B33: =+VLOOKUP(A33,'LISTA DE OFERENTES'!$A$4:$B$102,2,FALSE) -> CONSORCIO SERBET KENNEDY | C33: CUMPLE | D33: CUMPLE | E33: CUMPLE | F33: =+IF(AND(C33="CUMPLE",D33="CUMPLE",E33="CUMPLE"),"CUMPLE","NO CUMPLE") -> CUMPLE
A34: 29 | B34: =+VLOOKUP(A34,'LISTA DE OFERENTES'!$A$4:$B$102,2,FALSE) -> INTERLAB INGENIERIA S.A.S | C34: CUMPLE | D34: CUMPLE | E34: NO CUMPLE | F34: =+IF(AND(C34="CUMPLE",D34="CUMPLE",E34="CUMPLE"),"CUMPLE","NO CUMPLE") -> NO CUMPLE | G34: EL OFERENTE NO APORTA LA OFERTA EN EL FORMULARIO 1. PROPUESTA ECONÓMICA, INCLUIDO EN EL PRESENTE PROCESO DE SELECCIÓN ESTIPULADO POR LA ENTIDAD Y PUBLICADO EN LA PLATAFORMA SECOP II
A35: 30 | B35: =+VLOOKUP(A35,'LISTA DE OFERENTES'!$A$4:$B$102,2,FALSE) -> CONSORCIO KENNEDY 2025 | C35: CUMPLE | D35: CUMPLE | E35: CUMPLE | F35: =+IF(AND(C35="CUMPLE",D35="CUMPLE",E35="CUMPLE"),"CUMPLE","NO CUMPLE") -> CUMPLE
A36: 31 | B36: =+VLOOKUP(A36,'LISTA DE OFERENTES'!$A$4:$B$102,2,FALSE) -> MGC VIAS KENNEDY. | C36: CUMPLE | D36: CUMPLE | E36: CUMPLE | F36: =+IF(AND(C36="CUMPLE",D36="CUMPLE",E36="CUMPLE"),"CUMPLE","NO CUMPLE") -> CUMPLE
A37: 32 | B37: =+VLOOKUP(A37,'LISTA DE OFERENTES'!$A$4:$B$102,2,FALSE) -> CONSORCIO TECNOLOGICO 11. | C37: CUMPLE | D37: CUMPLE | E37: CUMPLE | F37: =+IF(AND(C37="CUMPLE",D37="CUMPLE",E37="CUMPLE"),"CUMPLE","NO CUMPLE") -> CUMPLE
A38: 33 | B38: =+VLOOKUP(A38,'LISTA DE OFERENTES'!$A$4:$B$102,2,FALSE) -> CONSORCIO INTERPROVIAL KENNEDY | C38: CUMPLE | D38: CUMPLE | E38: CUMPLE | F38: =+IF(AND(C38="CUMPLE",D38="CUMPLE",E38="CUMPLE"),"CUMPLE","NO CUMPLE") -> CUMPLE
A39: 34 | B39: =+VLOOKUP(A39,'LISTA DE OFERENTES'!$A$4:$B$102,2,FALSE) -> CONSORCIO TECHOTIBA. | C39: CUMPLE | D39: CUMPLE | E39: CUMPLE | F39: =+IF(AND(C39="CUMPLE",D39="CUMPLE",E39="CUMPLE"),"CUMPLE","NO CUMPLE") -> CUMPLE
A40: 35 | B40: =+VLOOKUP(A40,'LISTA DE OFERENTES'!$A$4:$B$102,2,FALSE) -> IAR PROYECTOS SAS | C40: CUMPLE | D40: CUMPLE | E40: CUMPLE | F40: =+IF(AND(C40="CUMPLE",D40="CUMPLE",E40="CUMPLE"),"CUMPLE","NO CUMPLE") -> CUMPLE
A41: 36 | B41: =+VLOOKUP(A41,'LISTA DE OFERENTES'!$A$4:$B$102,2,FALSE) -> CONSORCIO INTERURBANO | C41: CUMPLE | D41: CUMPLE | E41: CUMPLE | F41: =+IF(AND(C41="CUMPLE",D41="CUMPLE",E41="CUMPLE"),"CUMPLE","NO CUMPLE") -> CUMPLE
A42: 37 | B42: =+VLOOKUP(A42,'LISTA DE OFERENTES'!$A$4:$B$102,2,FALSE) -> CONSORCIO INTERVIAL KENNEDY. | C42: CUMPLE | D42: CUMPLE | E42: CUMPLE | F42: =+IF(AND(C42="CUMPLE",D42="CUMPLE",E42="CUMPLE"),"CUMPLE","NO CUMPLE") -> CUMPLE
A43: 38 | B43: =+VLOOKUP(A43,'LISTA DE OFERENTES'!$A$4:$B$102,2,FALSE) -> CONSORCIO SPL INGENIERÍA 78 | C43: CUMPLE | D43: CUMPLE | E43: CUMPLE | F43: =+IF(AND(C43="CUMPLE",D43="CUMPLE",E43="CUMPLE"),"CUMPLE","NO CUMPLE") -> CUMPLE
A44: 39 | B44: =+VLOOKUP(A44,'LISTA DE OFERENTES'!$A$4:$B$102,2,FALSE) -> CONSORCIO VIAL TAED KENNEDY | C44: CUMPLE | D44: CUMPLE | E44: CUMPLE | F44: =+IF(AND(C44="CUMPLE",D44="CUMPLE",E44="CUMPLE"),"CUMPLE","NO CUMPLE") -> CUMPLE
A45: 40 | B45: =+VLOOKUP(A45,'LISTA DE OFERENTES'!$A$4:$B$102,2,FALSE) -> CONSORCIO CONEXIÓN VIAL KENNEDY. | C45: CUMPLE | D45: CUMPLE | E45: CUMPLE | F45: =+IF(AND(C45="CUMPLE",D45="CUMPLE",E45="CUMPLE"),"CUMPLE","NO CUMPLE") -> CUMPLE
A46: 41 | B46: =+VLOOKUP(A46,'LISTA DE OFERENTES'!$A$4:$B$102,2,FALSE) -> CB INGENIEROS S.A.S | C46: CUMPLE | D46: CUMPLE | E46: CUMPLE | F46: =+IF(AND(C46="CUMPLE",D46="CUMPLE",E46="CUMPLE"),"CUMPLE","NO CUMPLE") -> CUMPLE
... A99: 94 | B99: =+VLOOKUP(A99,'LISTA DE OFERENTES'!$A$4:$B$102,2,FALSE) -> CONSORCIO VIAS LOCALES AEPRO | C99: CUMPLE | D99: CUMPLE | E99: CUMPLE | F99: =+IF(AND(C99="CUMPLE",D99="CUMPLE",E99="CUMPLE"),"CUMPLE","NO CUMPLE") -> CUMPLE
A100: 95 | B100: =+VLOOKUP(A100,'LISTA DE OFERENTES'!$A$4:$B$102,2,FALSE) -> CONSORCIO INTEGRAL KENNEDY | C100: CUMPLE | D100: NO CUMPLE | E100: CUMPLE | F100: =+IF(AND(C100="CUMPLE",D100="CUMPLE",E100="CUMPLE"),"CUMPLE","NO CUMPLE") -> NO CUMPLE | G100: El proponente no aporta el documento consorcial para poder llevar a cabo la evaluación técnica.
A101: 96 | B101: =+VLOOKUP(A101,'LISTA DE OFERENTES'!$A$4:$B$102,2,FALSE) -> CONSORCIO INTERVENTORÍA COANDINA | C101: CUMPLE | D101: CUMPLE | E101: CUMPLE | F101: =+IF(AND(C101="CUMPLE",D101="CUMPLE",E101="CUMPLE"),"CUMPLE","NO CUMPLE") -> CUMPLE
A102: 97 | B102: =+VLOOKUP(A102,'LISTA DE OFERENTES'!$A$4:$B$102,2,FALSE) -> CONSORCIO GAB VIAL KENNEDY | C102: CUMPLE | D102: CUMPLE | E102: CUMPLE | F102: =+IF(AND(C102="CUMPLE",D102="CUMPLE",E102="CUMPLE"),"CUMPLE","NO CUMPLE") -> CUMPLE
A103: 98 | B103: =+VLOOKUP(A103,'LISTA DE OFERENTES'!$A$4:$B$102,2,FALSE) -> CONSORCIO INT CONSERVACION 2025 | C103: CUMPLE | D103: CUMPLE | E103: CUMPLE | F103: =+IF(AND(C103="CUMPLE",D103="CUMPLE",E103="CUMPLE"),"CUMPLE","NO CUMPLE") -> CUMPLE
A104: 99 | B104: =+VLOOKUP(A104,'LISTA DE OFERENTES'!$A$4:$B$102,2,FALSE) -> CONSORCIO INTERKENNEDY 2025 | C104: CUMPLE | D104: CUMPLE | E104: CUMPLE | F104: =+IF(AND(C104="CUMPLE",D104="CUMPLE",E104="CUMPLE"),"CUMPLE","NO CUMPLE") -> CUMPLE

Sheet RESUMEN EVALUACIÓN
A1: FONDO DE DESARROLLO LOCAL DE KENNEDY
A2: FDLK-CMA-003-2025
A3: REALIZAR LA INTERVENTORIA, TECNICA, ADMINISTRATIVA, JURIDICA, FINANCIERA, SOCIAL, AMBIENTAL Y DE SEGURIDAD Y SALUD EN EL TRABAJO AL CONTRATO QUE TIENE COMO OBJETO "REALIZAR LAS OBRAS DE CONSERVACIÓN DE LA MALLA VIAL Y ESPACIO PÚBLICO ASOCIADO EN LA LOCALIDAD DE KENNEDY, BOGOTÁ, D.C. A TRAVÉS DEL SISTEMA DE PRECIOS UNITARIOS FIJOS Y A MONTO AGOTABLE
B5: NOMBRE DEL OFERENTE | C5: CAPACIDAD FINANCIERA | D5: CAPACIDAD JURIDICA | E5: CAPACIDAD TÉCNICA | F5: INFORME FINAL | G5: OBSERVACIONES
A6: 1 | B6: =+VLOOKUP(A6,'LISTA DE OFERENTES'!$A$4:$B$102,2,FALSE) -> CONSORCIO INGESCOR R 8 | C6: CUMPLE | D6: CUMPLE | E6: =+VLOOKUP(A6,'REQUISITOS HAB. TECNICOS'!$A$6:$F$104,6,FALSE) -> CUMPLE | F6: =+IF(AND(C6="CUMPLE",D6="CUMPLE",E6="CUMPLE"),"HABILITADO","NO HABILITADO") -> HABILITADO
A7: 2 | B7: =+VLOOKUP(A7,'LISTA DE OFERENTES'!$A$4:$B$102,2,FALSE) -> CONSORCIO INTER 3A | C7: CUMPLE | D7: CUMPLE | E7: =+VLOOKUP(A7,'REQUISITOS HAB. TECNICOS'!$A$6:$F$104,6,FALSE) -> CUMPLE | F7: =+IF(AND(C7="CUMPLE",D7="CUMPLE",E7="CUMPLE"),"HABILITADO","NO HABILITADO") -> HABILITADO
A8: 3 | B8: =+VLOOKUP(A8,'LISTA DE OFERENTES'!$A$4:$B$102,2,FALSE) -> GRUPO METRO COLOMBIA SAS | C8: CUMPLE | D8: CUMPLE | E8: =+VLOOKUP(A8,'REQUISITOS HAB. TECNICOS'!$A$6:$F$104,6,FALSE) -> CUMPLE | F8: =+IF(AND(C8="CUMPLE",D8="CUMPLE",E8="CUMPLE"),"HABILITADO","NO HABILITADO") -> HABILITADO
A9: 4 | B9: =+VLOOKUP(A9,'LISTA DE OFERENTES'!$A$4:$B$102,2,FALSE) -> CONSORCIO ECOS KENNEDY 003 | C9: CUMPLE | D9: CUMPLE | E9: =+VLOOKUP(A9,'REQUISITOS HAB. TECNICOS'!$A$6:$F$104,6,FALSE) -> CUMPLE | F9: =+IF(AND(C9="CUMPLE",D9="CUMPLE",E9="CUMPLE"),"HABILITADO","NO HABILITADO") -> HABILITADO
A10: 5 | B10: =+VLOOKUP(A10,'LISTA DE OFERENTES'!$A$4:$B$102,2,FALSE) -> COMPAÑÍA DE PROYECTOS TECNICOS CPT S.A | C10: CUMPLE | D10: CUMPLE | E10: =+VLOOKUP(A10,'REQUISITOS HAB. TECNICOS'!$A$6:$F$104,6,FALSE) -> CUMPLE | F10: =+IF(AND(C10="CUMPLE",D10="CUMPLE",E10="CUMPLE"),"HABILITADO","NO HABILITADO") -> HABILITADO
A11: 6 | B11: =+VLOOKUP(A11,'LISTA DE OFERENTES'!$A$4:$B$102,2,FALSE) -> CONSORCIO INTERMALLA VIAL LK | C11: CUMPLE | D11: CUMPLE | E11: =+VLOOKUP(A11,'REQUISITOS HAB. TECNICOS'!$A$6:$F$104,6,FALSE) -> CUMPLE | F11: =+IF(AND(C11="CUMPLE",D11="CUMPLE",E11="CUMPLE"),"HABILITADO","NO HABILITADO") -> HABILITADO
A12: 7 | B12: =+VLOOKUP(A12,'LISTA DE OFERENTES'!$A$4:$B$102,2,FALSE) -> SADING GROUP S.A.S | C12: CUMPLE | D12: CUMPLE | E12: =+VLOOKUP(A12,'REQUISITOS HAB. TECNICOS'!$A$6:$F$104,6,FALSE) -> CUMPLE | F12: =+IF(AND(C12="CUMPLE",D12="CUMPLE",E12="CUMPLE"),"HABILITADO","NO HABILITADO") -> HABILITADO
A13: 8 | B13: =+VLOOKUP(A13,'LISTA DE OFERENTES'!$A$4:$B$102,2,FALSE) -> CONSORCIO INTERKENNEDY AI | C13: CUMPLE | D13: CUMPLE | E13: =+VLOOKUP(A13,'REQUISITOS HAB. TECNICOS'!$A$6:$F$104,6,FALSE) -> CUMPLE | F13: =+IF(AND(C13="CUMPLE",D13="CUMPLE",E13="CUMPLE"),"HABILITADO","NO HABILITADO") -> HABILITADO
A14: 9 | B14: =+VLOOKUP(A14,'LISTA DE OFERENTES'!$A$4:$B$102,2,FALSE) -> CONSORCIO KENNEDY003 | C14: CUMPLE | D14: CUMPLE | E14: =+VLOOKUP(A14,'REQUISITOS HAB. TECNICOS'!$A$6:$F$104,6,FALSE) -> CUMPLE | F14: =+IF(AND(C14="CUMPLE",D14="CUMPLE",E14="CUMPLE"),"HABILITADO","NO HABILITADO") -> HABILITADO
A15: 10 | B15: =+VLOOKUP(A15,'LISTA DE OFERENTES'!$A$4:$B$102,2,FALSE) -> CIVING INGENIEROS CONTRATISTAS S.A.S | C15: CUMPLE | D15: CUMPLE | E15: =+VLOOKUP(A15,'REQUISITOS HAB. TECNICOS'!$A$6:$F$104,6,FALSE) -> CUMPLE | F15: =+IF(AND(C15="CUMPLE",D15="CUMPLE",E15="CUMPLE"),"HABILITADO","NO HABILITADO") -> HABILITADO
A16: 11 | B16: =+VLOOKUP(A16,'LISTA DE OFERENTES'!$A$4:$B$102,2,FALSE) -> CONSORCIO EMPRESARIAL | C16: CUMPLE | D16: CUMPLE | E16: =+VLOOKUP(A16,'REQUISITOS HAB. TECNICOS'!$A$6:$F$104,6,FALSE) -> CUMPLE | F16: =+IF(AND(C16="CUMPLE",D16="CUMPLE",E16="CUMPLE"),"HABILITADO","NO HABILITADO") -> HABILITADO
A17: 12 | B17: =+VLOOKUP(A17,'LISTA DE OFERENTES'!$A$4:$B$102,2,FALSE) -> CONSORCIO KENNEDY INTERESVIAL | C17: CUMPLE | D17: CUMPLE | E17: =+VLOOKUP(A17,'REQUISITOS HAB. TECNICOS'!$A$6:$F$104,6,FALSE) -> CUMPLE | F17: =+IF(AND(C17="CUMPLE",D17="CUMPLE",E17="CUMPLE"),"HABILITADO","NO HABILITADO") -> HABILITADO
... A104: 99 | B104: =+VLOOKUP(A104,'LISTA DE OFERENTES'!$A$4:$B$102,2,FALSE) -> CONSORCIO INTERKENNEDY 2025 | C104: CUMPLE | D104: NO CUMPLE | E104: =+VLOOKUP(A104,'REQUISITOS HAB. TECNICOS'!$A$6:$F$104,6,FALSE) -> CUMPLE | F104: =+IF(AND(C104="CUMPLE",D104="CUMPLE",E104="CUMPLE"),"HABILITADO","NO HABILITADO") -> NO HABILITADO

Sheet MEDIANA VALOR ABS
A1: EXPERIENCIA DEL PROPONENTE
A2: CANTIDAD DE SMMLV QUE REPRESENTAN EL PROMEDIO DE LOS CONTRATOS VALIDOS PARA ACREDITAR EXPERIENCIA | H2: PUNTAJE MAXIMO | I2: 67.5
A3: FDLK-CMA-003-2025 | H3: TRM VIGENTE 14/10/2025 | I3: 3913.24
H4: PRIMERAS DOS CIFRAS DEC.TRM | I4: 24
H5: OFERENTES HABILITADOS | I5: 82
A10: No. | B10: OFERENTES | C10: Promedio SMMLV | D10: MEDIANA | E10: DIFERENCIA CON LA MEDIA GEOMETRICA | F10: PUNTAJE
A11: 1 | B11: =VLOOKUP(A11,'LISTA DE OFERENTES'!$A$4:$B$102,2,FALSE) -> CONSORCIO INGESCOR R 8 | C11: =+'EXPERIENCIA DEL PROPONENTE'!C10 -> 2609.9288 | D11: =+MEDIAN(C11:C92) -> 2367.8809 | E11: =$D$11-C11 -> -242.04792 | F11: =+IF(((1-(ABS(($D$11-C11)/$D$11)))*$I$2)>=0,((1-(ABS(($D$11-C11)/$D$11)))*$I$2),0) -> 60.60006
A12: 2 | B12: =VLOOKUP(A12,'LISTA DE OFERENTES'!$A$4:$B$102,2,FALSE) -> CONSORCIO INTER 3A | C12: =+'EXPERIENCIA DEL PROPONENTE'!C28 -> 2135.9474 | E12: =$D$11-C12 -> 231.93348 | F12: =+IF(((1-(ABS(($D$11-C12)/$D$11)))*$I$2)>=0,((1-(ABS(($D$11-C12)/$D$11)))*$I$2),0) -> 60.888388
A13: 3 | B13: =VLOOKUP(A13,'LISTA DE OFERENTES'!$A$4:$B$102,2,FALSE) -> GRUPO METRO COLOMBIA SAS | C13: =+'EXPERIENCIA DEL PROPONENTE'!C46 -> 2578.4218 | E13: =$D$11-C13 -> -210.54092 | F13: =+IF(((1-(ABS(($D$11-C13)/$D$11)))*$I$2)>=0,((1-(ABS(($D$11-C13)/$D$11)))*$I$2),0) -> 61.498215
A14: 4 | B14: =VLOOKUP(A14,'LISTA DE OFERENTES'!$A$4:$B$102,2,FALSE) -> CONSORCIO ECOS KENNEDY 003 | C14: =+'EXPERIENCIA DEL PROPONENTE'!C62 -> 2829.4829 | E14: =$D$11-C14 -> -461.60209 | F14: =+IF(((1-(ABS(($D$11-C14)/$D$11)))*$I$2)>=0,((1-(ABS(($D$11-C14)/$D$11)))*$I$2),0) -> 54.341339
A15: 5 | B15: =VLOOKUP(A15,'LISTA DE OFERENTES'!$A$4:$B$102,2,FALSE) -> COMPAÑÍA DE PROYECTOS TECNICOS CPT S.A | C15: =+'EXPERIENCIA DEL PROPONENTE'!C76 -> 2554.2574 | E15: =$D$11-C15 -> -186.37652 | F15: =+IF(((1-(ABS(($D$11-C15)/$D$11)))*$I$2)>=0,((1-(ABS(($D$11-C15)/$D$11)))*$I$2),0) -> 62.187057
A16: 6 | B16: =VLOOKUP(A16,'LISTA DE OFERENTES'!$A$4:$B$102,2,FALSE) -> CONSORCIO INTERMALLA VIAL LK | C16: =+'EXPERIENCIA DEL PROPONENTE'!C90 -> 3032.336 | E16: =$D$11-C16 -> -664.45515 | F16: =+IF(((1-(ABS(($D$11-C16)/$D$11)))*$I$2)>=0,((1-(ABS(($D$11-C16)/$D$11)))*$I$2),0) -> 48.558708
A17: 7 | B17: =VLOOKUP(A17,'LISTA DE OFERENTES'!$A$4:$B$102,2,FALSE) -> SADING GROUP S.A.S | C17: =+'EXPERIENCIA DEL PROPONENTE'!C107 -> 2803.2848 | E17: =$D$11-C17 -> -435.40398 | F17: =+IF(((1-(ABS(($D$11-C17)/$D$11)))*$I$2)>=0,((1-(ABS(($D$11-C17)/$D$11)))*$I$2),0) -> 55.088156
A18: 8 | B18: =VLOOKUP(A18,'LISTA DE OFERENTES'!$A$4:$B$102,2,FALSE) -> CONSORCIO INTERKENNEDY AI | C18: =+'EXPERIENCIA DEL PROPONENTE'!C121 -> 3109.4273 | E18: =$D$11-C18 -> -741.54644 | F18: =+IF(((1-(ABS(($D$11-C18)/$D$11)))*$I$2)>=0,((1-(ABS(($D$11-C18)/$D$11)))*$I$2),0) -> 46.361105
A19: 9 | B19: =VLOOKUP(A19,'LISTA DE OFERENTES'!$A$4:$B$102,2,FALSE) -> CONSORCIO KENNEDY003 | C19: =+'EXPERIENCIA DEL PROPONENTE'!C135 -> 2277.6317 | E19: =$D$11-C19 -> 90.249126 | F19: =+IF(((1-(ABS(($D$11-C19)/$D$11)))*$I$2)>=0,((1-(ABS(($D$11-C19)/$D$11)))*$I$2),0) -> 64.927313
A20: 10 | B20: =VLOOKUP(A20,'LISTA DE OFERENTES'!$A$4:$B$102,2,FALSE) -> CIVING INGENIEROS CONTRATISTAS S.A.S | C20: =+'EXPERIENCIA DEL PROPONENTE'!C151 -> 3603.5391 | E20: =$D$11-C20 -> -1235.6582 | F20: =+IF(((1-(ABS(($D$11-C20)/$D$11)))*$I$2)>=0,((1-(ABS(($D$11-C20)/$D$11)))*$I$2),0) -> 32.275707
A21: 11 | B21: =VLOOKUP(A21,'LISTA DE OFERENTES'!$A$4:$B$102,2,FALSE) -> CONSORCIO EMPRESARIAL | C21: =+'EXPERIENCIA DEL PROPONENTE'!C165 -> 2517.6333 | E21: =$D$11-C21 -> -149.75248 | F21: =+IF(((1-(ABS(($D$11-C21)/$D$11)))*$I$2)>=0,((1-(ABS(($D$11-C21)/$D$11)))*$I$2),0) -> 63.231081
A22: 12 | B22: =VLOOKUP(A22,'LISTA DE OFERENTES'!$A$4:$B$102,2,FALSE) -> CONSORCIO KENNEDY INTERESVIAL | C22: =+'EXPERIENCIA DEL PROPONENTE'!C182 -> 1437.9543 | E22: =$D$11-C22 -> 929.92651 | F22: =+IF(((1-(ABS(($D$11-C22)/$D$11)))*$I$2)>=0,((1-(ABS(($D$11-C22)/$D$11)))*$I$2),0) -> 40.991048
A23: 13 | B23: =VLOOKUP(A23,'LISTA DE OFERENTES'!$A$4:$B$102,2,FALSE) -> UNIOBRAS DEL ORIENTE SAS | C23: =+'EXPERIENCIA DEL PROPONENTE'!C198 -> 10623.268 | E23: =$D$11-C23 -> -8255.3871 | F23: =+IF(((1-(ABS(($D$11-C23)/$D$11)))*$I$2)>=0,((1-(ABS(($D$11-C23)/$D$11)))*$I$2),0) -> 0
A24: 14 | B24: =VLOOKUP(A24,'LISTA DE OFERENTES'!$A$4:$B$102,2,FALSE) -> CONSORCIO HUPK VIAS DE KENNEDY | C24: =+'EXPERIENCIA DEL PROPONENTE'!C211 -> 3102.2126 | E24: =$D$11-C24 -> -734.33177 | F24: =+IF(((1-(ABS(($D$11-C24)/$D$11)))*$I$2)>=0,((1-(ABS(($D$11-C24)/$D$11)))*$I$2),0) -> 46.56677
A25: 15 | B25: =VLOOKUP(A25,'LISTA DE OFERENTES'!$A$4:$B$102,2,FALSE) -> INGEVAL SAS | C25: =+'EXPERIENCIA DEL PROPONENTE'!C227 -> 2659.9108 | E25: =$D$11-C25 -> -292.02994 | F25: =+IF(((1-(ABS(($D$11-C25)/$D$11)))*$I$2)>=0,((1-(ABS(($D$11-C25)/$D$11)))*$I$2),0) -> 59.175248
A26: 16 | B26: =VLOOKUP(A26,'LISTA DE OFERENTES'!$A$4:$B$102,2,FALSE) -> CONSORCIO MALLA VIAL G&G | C26: =+'EXPERIENCIA DEL PROPONENTE'!C241 -> 3050.3413 | E26: =$D$11-C26 -> -682.46049 | F26: =+IF(((1-(ABS(($D$11-C26)/$D$11)))*$I$2)>=0,((1-(ABS(($D$11-C26)/$D$11)))*$I$2),0) -> 48.045439
A27: 17 | B27: =VLOOKUP(A27,'LISTA DE OFERENTES'!$A$4:$B$102,2,FALSE) -> CONSORCIO KENNEDY LGI | C27: =+'EXPERIENCIA DEL PROPONENTE'!C257 -> 2564.5436 | E27: =$D$11-C27 -> -196.6628 | F27: =+IF(((1-(ABS(($D$11-C27)/$D$11)))*$I$2)>=0,((1-(ABS(($D$11-C27)/$D$11)))*$I$2),0) -> 61.893832
A28: 20 | B28: =VLOOKUP(A28,'LISTA DE OFERENTES'!$A$4:$B$102,2,FALSE) -> CONSORCIO INTER VIAS KENNEDY | C28: =+'EXPERIENCIA DEL PROPONENTE'!C305 -> 2189.3724 | E28: =$D$11-C28 -> 178.50845 | F28: =+IF(((1-(ABS(($D$11-C28)/$D$11)))*$I$2)>=0,((1-(ABS(($D$11-C28)/$D$11)))*$I$2),0) -> 62.411349
A29: 21 | B29: =VLOOKUP(A29,'LISTA DE OFERENTES'!$A$4:$B$102,2,FALSE) -> HMV SOLUCIONES SAS | C29: =+'EXPERIENCIA DEL PROPONENTE'!C323 -> 2291.3577 | E29: =$D$11-C29 -> 76.523148 | F29: =+IF(((1-(ABS(($D$11-C29)/$D$11)))*$I$2)>=0,((1-(ABS(($D$11-C29)/$D$11)))*$I$2),0) -> 65.318593
A30: 22 | B30: =VLOOKUP(A30,'LISTA DE OFERENTES'!$A$4:$B$102,2,FALSE) -> UMBRELLA INTERNATIONAL S.A.S | C30: =+'EXPERIENCIA DEL PROPONENTE'!C337 -> 2235.4583 | E30: =$D$11-C30 -> 132.42253 | F30: =+IF(((1-(ABS(($D$11-C30)/$D$11)))*$I$2)>=0,((1-(ABS(($D$11-C30)/$D$11)))*$I$2),0) -> 63.725097
A31: 24 | B31: =VLOOKUP(A31,'LISTA DE OFERENTES'!$A$4:$B$102,2,FALSE) -> CONSORCIO INTERKENNEDY MV | C31: =+'EXPERIENCIA DEL PROPONENTE'!C366 -> 1518.6179 | E31: =$D$11-C31 -> 849.26291 | F31: =+IF(((1-(ABS(($D$11-C31)/$D$11)))*$I$2)>=0,((1-(ABS(($D$11-C31)/$D$11)))*$I$2),0) -> 43.290485
A32: 25 | B32: =VLOOKUP(A32,'LISTA DE OFERENTES'!$A$4:$B$102,2,FALSE) -> CONSULTORES DONOVAN S.A.S | C32: =+'EXPERIENCIA DEL PROPONENTE'!C380 -> 2363.0029 | E32: =$D$11-C32 -> 4.8779673 | F32: 67.5
A33: 26 | B33: =VLOOKUP(A33,'LISTA DE OFERENTES'!$A$4:$B$102,2,FALSE) -> CONSORCIO KENNEDY JINT 3 | C33: =+'EXPERIENCIA DEL PROPONENTE'!C394 -> 2408.3421 | E33: =$D$11-C33 -> -40.461257 | F33: =+IF(((1-(ABS(($D$11-C33)/$D$11)))*$I$2)>=0,((1-(ABS(($D$11-C33)/$D$11)))*$I$2),0) -> 66.346591
A34: 27 | B34: =VLOOKUP(A34,'LISTA DE OFERENTES'!$A$4:$B$102,2,FALSE) -> CONSORCIO CONSERVACION MO 003 | C34: =+'EXPERIENCIA DEL PROPONENTE'!C409 -> 2130.2172 | E34: =$D$11-C34 -> 237.66364 | F34: =+IF(((1-(ABS(($D$11-C34)/$D$11)))*$I$2)>=0,((1-(ABS(($D$11-C34)/$D$11)))*$I$2),0) -> 60.725041
A35: 28 | B35: =VLOOKUP(A35,'LISTA DE OFERENTES'!$A$4:$B$102,2,FALSE) -> CONSORCIO SERBET KENNEDY | C35: =+'EXPERIENCIA DEL PROPONENTE'!C424 -> 2100.888 | E35: =$D$11-C35 -> 266.99284 | F35: =+IF(((1-(ABS(($D$11-C35)/$D$11)))*$I$2)>=0,((1-(ABS(($D$11-C35)/$D$11)))*$I$2),0) -> 59.888968
A36: 30 | B36: =VLOOKUP(A36,'LISTA DE OFERENTES'!$A$4:$B$102,2,FALSE) -> CONSORCIO KENNEDY 2025 | C36: =+'EXPERIENCIA DEL PROPONENTE'!C455 -> 698.53388 | E36: =$D$11-C36 -> 1669.347 | F36: =+IF(((1-(ABS(($D$11-C36)/$D$11)))*$I$2)>=0,((1-(ABS(($D$11-C36)/$D$11)))*$I$2),0) -> 19.912757
A37: 31 | B37: =VLOOKUP(A37,'LISTA DE OFERENTES'!$A$4:$B$102,2,FALSE) -> MGC VIAS KENNEDY. | C37: =+'EXPERIENCIA DEL PROPONENTE'!C470 -> 2734.4303 | E37: =$D$11-C37 -> -366.54944 | F37: =+IF(((1-(ABS(($D$11-C37)/$D$11)))*$I$2)>=0,((1-(ABS(($D$11-C37)/$D$11)))*$I$2),0) -> 57.050958
A38: 32 | B38: =VLOOKUP(A38,'LISTA DE OFERENTES'!$A$4:$B$102,2,FALSE) -> CONSORCIO TECNOLOGICO 11. | C38: =+'EXPERIENCIA DEL PROPONENTE'!C486 -> 1954.9702 | E38: =$D$11-C38 -> 412.91061 | F38: =+IF(((1-(ABS(($D$11-C38)/$D$11)))*$I$2)>=0,((1-(ABS(($D$11-C38)/$D$11)))*$I$2),0) -> 55.729363
A39: 33 | B39: =VLOOKUP(A39,'LISTA DE OFERENTES'!$A$4:$B$102,2,FALSE) -> CONSORCIO INTERPROVIAL KENNEDY | C39: =+'EXPERIENCIA DEL PROPONENTE'!C502 -> 9386.1365 | E39: =$D$11-C39 -> -7018.2557 | F39: =+IF(((1-(ABS(($D$11-C39)/$D$11)))*$I$2)>=0,((1-(ABS(($D$11-C39)/$D$11)))*$I$2),0) -> 0
A40: 34 | B40: =VLOOKUP(A40,'LISTA DE OFERENTES'!$A$4:$B$102,2,FALSE) -> CONSORCIO TECHOTIBA. | C40: =+'EXPERIENCIA DEL PROPONENTE'!C515 -> 2241.5004 | E40: =$D$11-C40 -> 126.38041 | F40: =+IF(((1-(ABS(($D$11-C40)/$D$11)))*$I$2)>=0,((1-(ABS(($D$11-C40)/$D$11)))*$I$2),0) -> 63.897337
A41: 35 | B41: =VLOOKUP(A41,'LISTA DE OFERENTES'!$A$4:$B$102,2,FALSE) -> IAR PROYECTOS SAS | C41: =+'EXPERIENCIA DEL PROPONENTE'!C533 -> 2343.8201 | E41: =$D$11-C41 -> 24.060767 | F41: =+IF(((1-(ABS(($D$11-C41)/$D$11)))*$I$2)>=0,((1-(ABS(($D$11-C41)/$D$11)))*$I$2),0) -> 66.814112
A42: 36 | B42: =VLOOKUP(A42,'LISTA DE OFERENTES'!$A$4:$B$102,2,FALSE) -> CONSORCIO INTERURBANO | C42: =+'EXPERIENCIA DEL PROPONENTE'!C547 -> 7436.2021 | E42: =$D$11-C42 -> -5068.3212 | F42: =+IF(((1-(ABS(($D$11-C42)/$D$11)))*$I$2)>=0,((1-(ABS(($D$11-C42)/$D$11)))*$I$2),0) -> 0
A43: 38 | B43: =VLOOKUP(A43,'LISTA DE OFERENTES'!$A$4:$B$102,2,FALSE) -> CONSORCIO SPL INGENIERÍA 78 | C43: =+'EXPERIENCIA DEL PROPONENTE'!C579 -> 1128.4264 | E43: =$D$11-C43 -> 1239.4544 | F43: =+IF(((1-(ABS(($D$11-C43)/$D$11)))*$I$2)>=0,((1-(ABS(($D$11-C43)/$D$11)))*$I$2),0) -> 32.16749
A44: 40 | B44: =VLOOKUP(A44,'LISTA DE OFERENTES'!$A$4:$B$102,2,FALSE) -> CONSORCIO CONEXIÓN VIAL KENNEDY. | C44: =+'EXPERIENCIA DEL PROPONENTE'!C609 -> 2552.7695 | E44: =$D$11-C44 -> -184.88863 | F44: =+IF(((1-(ABS(($D$11-C44)/$D$11)))*$I$2)>=0,((1-(ABS(($D$11-C44)/$D$11)))*$I$2),0) -> 62.229472
...

Sheet OBRAS INCONCLUSAS
A1: FONDO DE DESARROLLO LOCAL DE KENNEDY
A2: FDLK-CMA-003-2025
A3: REALIZAR LA INTERVENTORIA, TECNICA, ADMINISTRATIVA, JURIDICA, FINANCIERA, SOCIAL, AMBIENTAL Y DE SEGURIDAD Y SALUD EN EL TRABAJO AL CONTRATO QUE TIENE COMO OBJETO "REALIZAR LAS OBRAS DE CONSERVACIÓN DE LA MALLA VIAL Y ESPACIO PÚBLICO ASOCIADO EN LA LOCALIDAD DE KENNEDY, BOGOTÁ, D.C. A TRAVÉS DEL SISTEMA DE PRECIOS UNITARIOS FIJOS Y A MONTO AGOTABLE
A5: No. | B5: NOMBRE DEL OFERENTE | C5: VERIFICACIÓN REGISTRO NACIONAL DE OBRAS INCONCLUSAS
A6: 1 | B6: =VLOOKUP(A6,'LISTA DE OFERENTES'!$A$4:$B$102,2,FALSE) -> CONSORCIO INGESCOR R 8 | C6: NO REGISTRA OBRAS INCONCLUSAS
A7: 2 | B7: =VLOOKUP(A7,'LISTA DE OFERENTES'!$A$4:$B$102,2,FALSE) -> CONSORCIO INTER 3A | C7: NO REGISTRA OBRAS INCONCLUSAS
A8: 3 | B8: =VLOOKUP(A8,'LISTA DE OFERENTES'!$A$4:$B$102,2,FALSE) -> GRUPO METRO COLOMBIA SAS | C8: NO REGISTRA OBRAS INCONCLUSAS
A9: 4 | B9: =VLOOKUP(A9,'LISTA DE OFERENTES'!$A$4:$B$102,2,FALSE) -> CONSORCIO ECOS KENNEDY 003 | C9: NO REGISTRA OBRAS INCONCLUSAS
A10: 5 | B10: =VLOOKUP(A10,'LISTA DE OFERENTES'!$A$4:$B$102,2,FALSE) -> COMPAÑÍA DE PROYECTOS TECNICOS CPT S.A | C10: NO REGISTRA OBRAS INCONCLUSAS
A11: 6 | B11: =VLOOKUP(A11,'LISTA DE OFERENTES'!$A$4:$B$102,2,FALSE) -> CONSORCIO INTERMALLA VIAL LK | C11: NO REGISTRA OBRAS INCONCLUSAS
A12: 7 | B12: =VLOOKUP(A12,'LISTA DE OFERENTES'!$A$4:$B$102,2,FALSE) -> SADING GROUP S.A.S | C12: NO REGISTRA OBRAS INCONCLUSAS
A13: 8 | B13: =VLOOKUP(A13,'LISTA DE OFERENTES'!$A$4:$B$102,2,FALSE) -> CONSORCIO INTERKENNEDY AI | C13: NO REGISTRA OBRAS INCONCLUSAS
A14: 9 | B14: =VLOOKUP(A14,'LISTA DE OFERENTES'!$A$4:$B$102,2,FALSE) -> CONSORCIO KENNEDY003 | C14: NO REGISTRA OBRAS INCONCLUSAS
A15: 10 | B15: =VLOOKUP(A15,'LISTA DE OFERENTES'!$A$4:$B$102,2,FALSE) -> CIVING INGENIEROS CONTRATISTAS S.A.S | C15: NO REGISTRA OBRAS INCONCLUSAS
A16: 11 | B16: =VLOOKUP(A16,'LISTA DE OFERENTES'!$A$4:$B$102,2,FALSE) -> CONSORCIO EMPRESARIAL | C16: NO REGISTRA OBRAS INCONCLUSAS
A17: 12 | B17: =VLOOKUP(A17,'LISTA DE OFERENTES'!$A$4:$B$102,2,FALSE) -> CONSORCIO KENNEDY INTERESVIAL | C17: NO REGISTRA OBRAS INCONCLUSAS
... A104: 99 | B104: =VLOOKUP(A104,'LISTA DE OFERENTES'!$A$4:$B$102,2,FALSE) -> CONSORCIO INTERKENNEDY 2025 | C104: YOHAN FAHIR BERMUDEZ PARRA REGISTRA REPORTE DE OBRAS INCONCLUSAS

Sheet F. PONDERABLES
A1: FONDO DE DESARROLLO LOCAL DE KENNEDY
A2: LICITACIÓN DE OBRA PÚBLICA FDLK-CMA-003-2025
A3: FACTORES PONDERABLES
A6: NOMBRE OFERENTE | C6: EXPERIENCIA DEL PROPONENTE (67,5 PUNTOS) | D6: EQUIPO DE TRABAJO (10 PUNTOS) | E6: FACTOR DE SOSTENIBILIDAD (1 PUNTO) | F6: APOYO A LA INDUSTRIA NACIONAL (20 PUNTOS) | G6: VINCULACIÓN DE PERSONAS CON DISCAPACIDAD (1 PUNTO) | H6: EMPRENDIMIENTO Y EMPRESAS MUJERES (0,25 PUNTOS) | I6: MIPYME (0,25 PUNTOS) | J6: MULTAS Y SANCIONES (-2 PUNTOS) | K6: OBRAS INCONCLUSAS (-1 PUNTO) | L6: PUNTAJE TOTAL | M6: OBSERVACIONES
A7: 1 | B7: =VLOOKUP(A7,'LISTA DE OFERENTES'!$A$4:$B$102,2,FALSE) -> CONSORCIO INGESCOR R 8 | C7: =+VLOOKUP(A7,'MEDIANA VALOR ABS'!$A$11:$F$92,6,FALSE) -> 60.60006 | D7: 10 | E7: 1 | F7: 20 | G7: 1 | H7: 0.25 | I7: 0.25 | J7: 0 | K7: 0 | L7: =SUM(C7:K7) -> 93.10006
A8: 2 | B8: =VLOOKUP(A8,'LISTA DE OFERENTES'!$A$4:$B$102,2,FALSE) -> CONSORCIO INTER 3A | C8: =+VLOOKUP(A8,'MEDIANA VALOR ABS'!$A$11:$F$92,6,FALSE) -> 60.888388 | D8: 10 | E8: 1 | F8: 20 | G8: 1 | H8: 0.25 | I8: 0.25 | J8: 0 | K8: 0 | L8: =SUM(C8:K8) -> 93.388388
A9: 3 | B9: =VLOOKUP(A9,'LISTA DE OFERENTES'!$A$4:$B$102,2,FALSE) -> GRUPO METRO COLOMBIA SAS | C9: =+VLOOKUP(A9,'MEDIANA VALOR ABS'!$A$11:$F$92,6,FALSE) -> 61.498215 | D9: 10 | E9: 1 | F9: 20 | G9: 1 | H9: 0.25 | I9: 0.25 | J9: 0 | K9: 0 | L9: =SUM(C9:K9) -> 93.998215
A10: 4 | B10: =VLOOKUP(A10,'LISTA DE OFERENTES'!$A$4:$B$102,2,FALSE) -> CONSORCIO ECOS KENNEDY 003 | C10: =+VLOOKUP(A10,'MEDIANA VALOR ABS'!$A$11:$F$92,6,FALSE) -> 54.341339 | D10: 10 | E10: 1 | F10: 0 | G10: 1 | H10: 0.25 | I10: 0.25 | J10: 0 | K10: 0 | L10: =SUM(C10:K10) -> 66.841339 | M10: No se otorga puntaje por apoyo a la industria nacional considerando que el ofrecimiento fue del 40% mas no del 100% según lo solicitado en el numeral 4.1.7.1. PROMOCION DE SERVICIOS NACIONALES O CON TRATO NACIONAL
A11: 5 | B11: =VLOOKUP(A11,'LISTA DE OFERENTES'!$A$4:$B$102,2,FALSE) -> COMPAÑÍA DE PROYECTOS TECNICOS CPT S.A | C11: =+VLOOKUP(A11,'MEDIANA VALOR ABS'!$A$11:$F$92,6,FALSE) -> 62.187057 | D11: 10 | E11: 1 | F11: 20 | G11: 1 | H11: 0.25 | I11: 0.25 | J11: 0 | K11: 0 | L11: =SUM(C11:K11) -> 94.687057
A12: 6 | B12: =VLOOKUP(A12,'LISTA DE OFERENTES'!$A$4:$B$102,2,FALSE) -> CONSORCIO INTERMALLA VIAL LK | C12: =+VLOOKUP(A12,'MEDIANA VALOR ABS'!$A$11:$F$92,6,FALSE) -> 48.558708 | D12: 10 | E12: 1 | F12: 20 | G12: 1 | H12: 0.25 | I12: 0.25 | J12: 0 | K12: 0 | L12: =SUM(C12:K12) -> 81.058708
A13: 7 | B13: =VLOOKUP(A13,'LISTA DE OFERENTES'!$A$4:$B$102,2,FALSE) -> SADING GROUP S.A.S | C13: =+VLOOKUP(A13,'MEDIANA VALOR ABS'!$A$11:$F$92,6,FALSE) -> 55.088156 | D13: 10 | E13: 1 | F13: 0 | G13: 1 | H13: 0.25 | I13: 0.25 | J13: 0 | K13: 0 | L13: =SUM(C13:K13) -> 67.588156 | M13: No se otorga puntaje por apoyo a la industria nacional considerando que el ofrecimiento fue del 90% mas no del 100% según lo solicitado en el numeral 4.1.7.1. PROMOCION DE SERVICIOS NACIONALES O CON TRATO NACIONAL
A14: 8 | B14: =VLOOKUP(A14,'LISTA DE OFERENTES'!$A$4:$B$102,2,FALSE) -> CONSORCIO INTERKENNEDY AI | C14: =+VLOOKUP(A14,'MEDIANA VALOR ABS'!$A$11:$F$92,6,FALSE) -> 46.361105 | D14: 10 | E14: 1 | F14: 20 | G14: 1 | H14: 0.25 | I14: 0.25 | J14: 0 | K14: 0 | L14: =SUM(C14:K14) -> 78.861105
A15: 9 | B15: =VLOOKUP(A15,'LISTA DE OFERENTES'!$A$4:$B$102,2,FALSE) -> CONSORCIO KENNEDY003 | C15: =+VLOOKUP(A15,'MEDIANA VALOR ABS'!$A$11:$F$92,6,FALSE) -> 64.927313 | D15: 10 | E15: 1 | F15: 20 | G15: 1 | H15: 0.25 | I15: 0.25 | J15: 0 | K15: 0 | L15: =SUM(C15:K15) -> 97.427313
A16: 10 | B16: =VLOOKUP(A16,'LISTA DE OFERENTES'!$A$4:$B$102,2,FALSE) -> CIVING INGENIEROS CONTRATISTAS S.A.S | C16: =+VLOOKUP(A16,'MEDIANA VALOR ABS'!$A$11:$F$92,6,FALSE) -> 32.275707 | D16: 10 | E16: 1 | F16: 20 | G16: 1 | H16: 0.25 | I16: 0.25 | J16: 0 | K16: 0 | L16: =SUM(C16:K16) -> 64.775707
A17: 11 | B17: =VLOOKUP(A17,'LISTA DE OFERENTES'!$A$4:$B$102,2,FALSE) -> CONSORCIO EMPRESARIAL | C17: =+VLOOKUP(A17,'MEDIANA VALOR ABS'!$A$11:$F$92,6,FALSE) -> 63.231081 | D17: 10 | E17: 1 | F17: 20 | G17: 1 | H17: 0.25 | I17: 0.25 | J17: 0 | K17: 0 | L17: =SUM(C17:K17) -> 95.731081
A18: 12 | B18: =VLOOKUP(A18,'LISTA DE OFERENTES'!$A$4:$B$102,2,FALSE) -> CONSORCIO KENNEDY INTERESVIAL | C18: =+VLOOKUP(A18,'MEDIANA VALOR ABS'!$A$11:$F$92,6,FALSE) -> 40.991048 | D18: 10 | E18: 1 | F18: 20 | G18: 1 | H18: 0.25 | I18: 0.25 | J18: 0 | K18: 0 | L18: =SUM(C18:K18) -> 73.491048
A19: 13 | B19: =VLOOKUP(A19,'LISTA DE OFERENTES'!$A$4:$B$102,2,FALSE) -> UNIOBRAS DEL ORIENTE SAS | C19: =+VLOOKUP(A19,'MEDIANA VALOR ABS'!$A$11:$F$92,6,FALSE) -> 0 | D19: 10 | E19: 1 | F19: 0 | G19: 1 | H19: 0.25 | I19: 0.25 | J19: 0 | K19: 0 | L19: =SUM(C19:K19) -> 12.5 | M19: No se otorga puntaje por apoyo a la industria nacional considerando que el ofrecimiento fue del 80% mas no del 100% según lo solicitado en el numeral 4.1.7.1. PROMOCION DE SERVICIOS NACIONALES O CON TRATO NACIONAL
A20: 14 | B20: =VLOOKUP(A20,'LISTA DE OFERENTES'!$A$4:$B$102,2,FALSE) -> CONSORCIO HUPK VIAS DE KENNEDY | C20: =+VLOOKUP(A20,'MEDIANA VALOR ABS'!$A$11:$F$92,6,FALSE) -> 46.56677 | D20: 10 | E20: 1 | F20: 20 | G20: 1 | H20: 0.25 | I20: 0.25 | J20: 0 | K20: 0 | L20: =SUM(C20:K20) -> 79.06677
A21: 15 | B21: =VLOOKUP(A21,'LISTA DE OFERENTES'!$A$4:$B$102,2,FALSE) -> INGEVAL SAS | C21: =+VLOOKUP(A21,'MEDIANA VALOR ABS'!$A$11:$F$92,6,FALSE) -> 59.175248 | D21: 10 | E21: 1 | F21: 20 | G21: 1 | H21: 0.25 | I21: 0.25 | J21: 0 | K21: 0 | L21: =SUM(C21:K21) -> 91.675248
A22: 16 | B22: =VLOOKUP(A22,'LISTA DE OFERENTES'!$A$4:$B$102,2,FALSE) -> CONSORCIO MALLA VIAL G&G | C22: =+VLOOKUP(A22,'MEDIANA VALOR ABS'!$A$11:$F$92,6,FALSE) -> 48.045439 | D22: 10 | E22: 1 | F22: 0 | G22: 1 | H22: 0.25 | I22: 0.25 | J22: 0 | K22: 0 | L22: =SUM(C22:K22) -> 60.545439 | M22: No se otorga puntaje por apoyo a la industria nacional considerando que el ofrecimiento fue del 90% mas no del 100% según lo solicitado en el numeral 4.1.7.1. PROMOCION DE SERVICIOS NACIONALES O CON TRATO NACIONAL
A23: 17 | B23: =VLOOKUP(A23,'LISTA DE OFERENTES'!$A$4:$B$102,2,FALSE) -> CONSORCIO KENNEDY LGI | C23: =+VLOOKUP(A23,'MEDIANA VALOR ABS'!$A$11:$F$92,6,FALSE) -> 61.893832 | D23: 10 | E23: 1 | F23: 20 | G23: 1 | H23: 0.25 | I23: 0.25 | J23: 0 | K23: 0 | L23: =SUM(C23:K23) -> 94.393832
A24: 18 | B24: =VLOOKUP(A24,'LISTA DE OFERENTES'!$A$4:$B$102,2,FALSE) -> ICE SAS | C24: =+VLOOKUP(A24,'MEDIANA VALOR ABS'!$A$11:$F$92,6,FALSE) -> #N/A | D24: 10 | E24: 1 | F24: 20 | G24: 1 | H24: 0 | I24: 0.25 | J24: 0 | K24: 0 | L24: =SUM(C24:K24) -> #N/A | M24: No acredita documentos de EMPRENDIMIENTOS Y EMPRESAS DE MUJERES
A25: 19 | B25: =VLOOKUP(A25,'LISTA DE OFERENTES'!$A$4:$B$102,2,FALSE) -> CONSORCIO INTERKENNEDY CC | C25: =+VLOOKUP(A25,'MEDIANA VALOR ABS'!$A$11:$F$92,6,FALSE) -> #N/A | D25: 10 | E25: 1 | F25: 0 | G25: 1 | H25: 0 | I25: 0.25 | J25: 0 | K25: 0 | L25: =SUM(C25:K25) -> #N/A | M25: No se otorga puntaje por apoyo a la industria nacional considerando que el ofrecimiento fue del 90% mas no del 100% según lo solicitado en el numeral 4.1.7.1. PROMOCION DE SERVICIOS NACIONALES O CON TRATO NACIONAL No acredita documentos de EMPRENDIMIENTOS Y EMPRESAS DE MUJERES
A26: 20 | B26: =VLOOKUP(A26,'LISTA DE OFERENTES'!$A$4:$B$102,2,FALSE) -> CONSORCIO INTER VIAS KENNEDY | C26: =+VLOOKUP(A26,'MEDIANA VALOR ABS'!$A$11:$F$92,6,FALSE) -> 62.411349 | D26: 10 | E26: 1 | F26: 20 | G26: 1 | H26: 0.25 | I26: 0.25 | J26: 0 | K26: 0 | L26: =SUM(C26:K26) -> 94.911349
A27: 21 | B27: =VLOOKUP(A27,'LISTA DE OFERENTES'!$A$4:$B$102,2,FALSE) -> HMV SOLUCIONES SAS | C27: =+VLOOKUP(A27,'MEDIANA VALOR ABS'!$A$11:$F$92,6,FALSE) -> 65.318593 | D27: 10 | E27: 1 | F27: 20 | G27: 1 | H27: 0.25 | I27: 0.25 | L27: =SUM(C27:K27) -> 97.818593
A28: 22 | B28: =VLOOKUP(A28,'LISTA DE OFERENTES'!$A$4:$B$102,2,FALSE) -> UMBRELLA INTERNATIONAL S.A.S | C28: =+VLOOKUP(A28,'MEDIANA VALOR ABS'!$A$11:$F$92,6,FALSE) -> 63.725097 | D28: 10 | E28: 1 | F28: 20 | G28: 1 | H28: 0.25 | I28: 0.25 | L28: =SUM(C28:K28) -> 96.225097
A29: 23 | B29: =VLOOKUP(A29,'LISTA DE OFERENTES'!$A$4:$B$102,2,FALSE) -> CONSORCIO DS | C29: =+VLOOKUP(A29,'MEDIANA VALOR ABS'!$A$11:$F$92,6,FALSE) -> #N/A | D29: 10 | E29: 1 | F29: 20 | G29: 1 | H29: 0 | I29: 0.25 | L29: =SUM(C29:K29) -> #N/A | M29: EL OFERENTE NO APORTA DOCUMENTOS PARA OTORGAR EL PUNTAJE POR EMPRENDIMIENTO Y EMPRESAS DE MUJERES
A30: 24 | B30: =VLOOKUP(A30,'LISTA DE OFERENTES'!$A$4:$B$102,2,FALSE) -> CONSORCIO INTERKENNEDY MV | C30: =+VLOOKUP(A30,'MEDIANA VALOR ABS'!$A$11:$F$92,6,FALSE) -> 43.290485 | D30: 10 | E30: 1 | F30: 20 | G30: 1 | H30: 0.25 | I30: 0.25 | L30: =SUM(C30:K30) -> 75.790485
A31: 25 | B31: =VLOOKUP(A31,'LISTA DE OFERENTES'!$A$4:$B$102,2,FALSE) -> CONSULTORES DONOVAN S.A.S | C31: =+VLOOKUP(A31,'MEDIANA VALOR ABS'!$A$11:$F$92,6,FALSE) -> 67.5 | D31: 10 | E31: 1 | F31: 20 | G31: 1 | H31: 0.25 | I31: 0.25 | L31: =SUM(C31:K31) -> 100
A32: 26 | B32: =VLOOKUP(A32,'LISTA DE OFERENTES'!$A$4:$B$102,2,FALSE) -> CONSORCIO KENNEDY JINT 3 | C32: =+VLOOKUP(A32,'MEDIANA VALOR ABS'!$A$11:$F$92,6,FALSE) -> 66.346591 | D32: 10 | E32: 1 | F32: 20 | G32: 1 | H32: 0.25 | I32: 0.25 | L32: =SUM(C32:K32) -> 98.846591
A33: 27 | B33: =VLOOKUP(A33,'LISTA DE OFERENTES'!$A$4:$B$102,2,FALSE) -> CONSORCIO CONSERVACION MO 003 | C33: =+VLOOKUP(A33,'MEDIANA VALOR ABS'!$A$11:$F$92,6,FALSE) -> 60.725041 | D33: 10 | E33: 1 | F33: 20 | G33: 1 | H33: 0.25 | I33: 0.25 | L33: =SUM(C33:K33) -> 93.225041
A34: 28 | B34: =VLOOKUP(A34,'LISTA DE OFERENTES'!$A$4:$B$102,2,FALSE) -> CONSORCIO SERBET KENNEDY | C34: =+VLOOKUP(A34,'MEDIANA VALOR ABS'!$A$11:$F$92,6,FALSE) -> 59.888968 | D34: 10 | E34: 1 | F34: 20 | G34: 1 | H34: 0.25 | I34: 0.25 | L34: =SUM(C34:K34) -> 92.388968
A35: 29 | B35: =VLOOKUP(A35,'LISTA DE OFERENTES'!$A$4:$B$102,2,FALSE) -> INTERLAB INGENIERIA S.A.S | C35: =+VLOOKUP(A35,'MEDIANA VALOR ABS'!$A$11:$F$92,6,FALSE) -> #N/A | D35: 10 | E35: 1 | F35: 20 | G35: 0 | H35: 0.25 | I35: 0.25 | L35: =SUM(C35:K35) -> #N/A | M35: EL OFERENTE NO APORTA DOCUMENTOS PARA OTORGAR EL PUNTAJE POR VINCULACIÓN DE PERSONAS CON DISCAPACIDAD
A36: 30 | B36: =VLOOKUP(A36,'LISTA DE OFERENTES'!$A$4:$B$102,2,FALSE) -> CONSORCIO KENNEDY 2025 | C36: =+VLOOKUP(A36,'MEDIANA VALOR ABS'!$A$11:$F$92,6,FALSE) -> 19.912757 | D36: 10 | E36: 1 | F36: 20 | G36: 1 | H36: 0.25 | I36: 0.25 | L36: =SUM(C36:K36) -> 52.412757
A37: 31 | B37: =VLOOKUP(A37,'LISTA DE OFERENTES'!$A$4:$B$102,2,FALSE) -> MGC VIAS KENNEDY. | C37: =+VLOOKUP(A37,'MEDIANA VALOR ABS'!$A$11:$F$92,6,FALSE) -> 57.050958 | D37: 10 | E37: 1 | F37: 20 | G37: 1 | H37: 0.25 | I37: 0.25 | L37: =SUM(C37:K37) -> 89.550958
A38: 32 | B38: =VLOOKUP(A38,'LISTA DE OFERENTES'!$A$4:$B$102,2,FALSE) -> CONSORCIO TECNOLOGICO 11. | C38: =+VLOOKUP(A38,'MEDIANA VALOR ABS'!$A$11:$F$92,6,FALSE) -> 55.729363 | D38: 10 | E38: 1 | F38: 20 | G38: 1 | H38: 0.25 | I38: 0.25 | L38: =SUM(C38:K38) -> 88.229363
A39: 33 | B39: =VLOOKUP(A39,'LISTA DE OFERENTES'!$A$4:$B$102,2,FALSE) -> CONSORCIO INTERPROVIAL KENNEDY | C39: =+VLOOKUP(A39,'MEDIANA VALOR ABS'!$A$11:$F$92,6,FALSE) -> 0 | D39: 10 | E39: 1 | F39: 20 | G39: 1 | H39: 0.25 | I39: 0.25 | L39: =SUM(C39:K39) -> 32.5
A40: 34 | B40: =VLOOKUP(A40,'LISTA DE OFERENTES'!$A$4:$B$102,2,FALSE) -> CONSORCIO TECHOTIBA. | C40: =+VLOOKUP(A40,'MEDIANA VALOR ABS'!$A$11:$F$92,6,FALSE) -> 63.897337 | D40: 10 | E40: 1 | F40: 20 | G40: 1 | H40: 0.25 | I40: 0.25 | L40: =SUM(C40:K40) -> 96.397337
A41: 35 | B41: =VLOOKUP(A41,'LISTA DE OFERENTES'!$A$4:$B$102,2,FALSE) -> IAR PROYECTOS SAS | C41: =+VLOOKUP(A41,'MEDIANA VALOR ABS'!$A$11:$F$92,6,FALSE) -> 66.814112 | D41: 10 | E41: 1 | F41: 20 | G41: 1 | H41: 0.25 | I41: 0.25 | L41: =SUM(C41:K41) -> 99.314112
A42: 36 | B42: =VLOOKUP(A42,'LISTA DE OFERENTES'!$A$4:$B$102,2,FALSE) -> CONSORCIO INTERURBANO | C42: =+VLOOKUP(A42,'MEDIANA VALOR ABS'!$A$11:$F$92,6,FALSE) -> 0 | D42: 10 | E42: 1 | F42: 20 | G42: 1 | H42: 0 | I42: 0.25 | L42: =SUM(C42:K42) -> 32.25
...

Sheet ORDEN ELEGIBILIDAD
A1: FONDO DE DESARROLLO LOCAL DE KENNEDY
A2: CONCURSO DE MERITOS ABIERTO FDLK-CMA-003-2025
A3: ORDEN DE ELEGIBILIDAD
A7: ORDEN DE ELEGBILIDAD | B7: No. OFERENTE | C7: OFERENTE | D7: PUNTAJE TOTAL
A8: 1 | B8: 25 | C8: =VLOOKUP(B8,'F. PONDERABLES'!$A$7:$L$105,2,FALSE) -> CONSULTORES DONOVAN S.A.S | D8: =VLOOKUP(B8,'F. PONDERABLES'!$A$7:$L$105,12,FALSE) -> 100
A9: 2 | B9: 80 | C9: =VLOOKUP(B9,'F. PONDERABLES'!$A$7:$L$105,2,FALSE) -> CONSORCIO CAS KENNEDY | D9: =VLOOKUP(B9,'F. PONDERABLES'!$A$7:$L$105,12,FALSE) -> 99.860946
A10: 3 | B10: 35 | C10: =VLOOKUP(B10,'F. PONDERABLES'!$A$7:$L$105,2,FALSE) -> IAR PROYECTOS SAS | D10: =VLOOKUP(B10,'F. PONDERABLES'!$A$7:$L$105,12,FALSE) -> 99.314112
A11: 4 | B11: 58 | C11: =VLOOKUP(B11,'F. PONDERABLES'!$A$7:$L$105,2,FALSE) -> INVELER CONSULTORIA S.A.S | D11: =VLOOKUP(B11,'F. PONDERABLES'!$A$7:$L$105,12,FALSE) -> 99.000901
A12: 5 | B12: 56 | C12: =VLOOKUP(B12,'F. PONDERABLES'!$A$7:$L$105,2,FALSE) -> CONSORCIO INTERVIAS KENNEDY 03 | D12: =VLOOKUP(B12,'F. PONDERABLES'!$A$7:$L$105,12,FALSE) -> 98.920038
A13: 6 | B13: 52 | C13: =VLOOKUP(B13,'F. PONDERABLES'!$A$7:$L$105,2,FALSE) -> CONSORCIO CGR KENNEDY. | D13: =VLOOKUP(B13,'F. PONDERABLES'!$A$7:$L$105,12,FALSE) -> 98.857357
A14: 7 | B14: 26 | C14: =VLOOKUP(B14,'F. PONDERABLES'!$A$7:$L$105,2,FALSE) -> CONSORCIO KENNEDY JINT 3 | D14: =VLOOKUP(B14,'F. PONDERABLES'!$A$7:$L$105,12,FALSE) -> 98.846591
A15: 8 | B15: 74 | C15: =VLOOKUP(B15,'F. PONDERABLES'!$A$7:$L$105,2,FALSE) -> CONSORCIO INTERVIAL GINPROSA. | D15: =VLOOKUP(B15,'F. PONDERABLES'!$A$7:$L$105,12,FALSE) -> 98.673236
A16: 9 | B16: 21 | C16: =VLOOKUP(B16,'F. PONDERABLES'!$A$7:$L$105,2,FALSE) -> HMV SOLUCIONES SAS | D16: =VLOOKUP(B16,'F. PONDERABLES'!$A$7:$L$105,12,FALSE) -> 97.818593
A17: 10 | B17: 75 | C17: =VLOOKUP(B17,'F. PONDERABLES'!$A$7:$L$105,2,FALSE) -> CONSORCIO INTERVIAL CAPITAL | D17: =VLOOKUP(B17,'F. PONDERABLES'!$A$7:$L$105,12,FALSE) -> 97.685813
A18: 11 | B18: 9 | C18: =VLOOKUP(B18,'F. PONDERABLES'!$A$7:$L$105,2,FALSE) -> CONSORCIO KENNEDY003 | D18: =VLOOKUP(B18,'F. PONDERABLES'!$A$7:$L$105,12,FALSE) -> 97.427313
A19: 12 | B19: 50 | C19: =VLOOKUP(B19,'F. PONDERABLES'!$A$7:$L$105,2,FALSE) -> BB CONSULTORA SAS | D19: =VLOOKUP(B19,'F. PONDERABLES'!$A$7:$L$105,12,FALSE) -> 97.032083
... A89: 82 | B89: 13 | C89: =VLOOKUP(B89,'F. PONDERABLES'!$A$7:$L$105,2,FALSE) -> UNIOBRAS DEL ORIENTE SAS | D89: =VLOOKUP(B89,'F. PONDERABLES'!$A$7:$L$105,12,FALSE) -> 12.5
