Workbook
Name SIoNO: #REF!

Sheet TABLA DE SMMLV AÑO
A1: PERIODO | B1: MONTO MENSUAL | E1: LOTES OFERTADOS | G1: TIPO PROPONENTE | I1: TABLA
A2: 1980 | B2: 4500 | E2: SI | G2: PLURAL | I2: SUBSANACIÓN
A3: 1981 | B3: 5700 | E3: NO | G3: INDIVIDUAL | I3: CUMPLE
A4: 1982 | B4: 7410
A5: 1983 | B5: 9261
A6: 1984 | B6: 11298
A7: 1985 | B7: 13558
A8: 1986 | B8: 16810
A9: 1987 | B9: 20510
A10: 1988 | B10: 25637
A11: 1989 | B11: 32560
A12: 1990 | B12: 41025
A13: 1991 | B13: 51716
A14: 1992 | B14: 65190
A15: 1993 | B15: 81510
... A41: 2019 | B41: 828116

Sheet DATOS DE OFERTA
C2: ALCALDÍA MUNICIPAL DE LURUACO
C6: NÚMERO DEL PROCESO: | E6: CMA-002-2025
C7: OBJETO: | E7: INTERVENTORIA TECNICA - ADMINISTRATIVA Y FINANCIERA PARA CONSTRUCCIÓN DE ACCESOS PEATONALES BARRIO LA CONCEPCIÓN, CABECERA MUNICIPALDEL MUNICIPIO DE LURUACO. ATLÁNTICO
C9: PRESUPUESTO OFICIAL: | E9: 70846805 | F9: SMLV: | G9: =ROUND(E9/1423500,2) -> 49.77
C10: FECHA DE CIERRE DEL PROCESO: | E10: 45936
B12: DATOS DEL PROPONENTE
D13: NUMERO DEL PROPONENTE: | E13: 5 | F13: TIPO DE PROPONENTE: | G13: PLURAL
D14: NOMBRE DEL PROPONENTE: | E14: CONINTER JMJ SAS | F14: No. INTEGRANTE PLURAL | G14: % PARTICIPACIÓN | H14: % EXP QUE APORTA CERTIFICACIONES VALIDAS
D15: NOMBRE INTEGRANTES DEL PROPONENTE INDIVIDUAL O PLURAL (SI APLICA): | E15: =+E14 -> CONINTER JMJ SAS | G15: 1 | H15: =SUMIF(EVALUACIÓN!$B$16:$B$22,'DATOS DE OFERTA'!E15,EVALUACIÓN!$P$16:$P$22) -> 0
H16: =SUMIF(EVALUACIÓN!$B$16:$B$22,'DATOS DE OFERTA'!E16,EVALUACIÓN!$P$16:$P$22) -> 0
H17: =SUMIF(EVALUACIÓN!$B$16:$B$22,'DATOS DE OFERTA'!E17,EVALUACIÓN!$P$16:$P$22) -> 0
H18: =SUMIF(EVALUACIÓN!$B$16:$B$22,'DATOS DE OFERTA'!E18,EVALUACIÓN!$P$16:$P$22) -> 0
H19: =SUMIF(EVALUACIÓN!$B$16:$B$22,'DATOS DE OFERTA'!E19,EVALUACIÓN!$P$16:$P$22) -> 0
D20: TOTAL PARTICIPACIÓN: | G20: =SUM(G15:G19) -> 1 | H20: =SUM(H15:H19) -> 0
E23: PRESUPUESTO OFICIAL ($): | G23: =E9 -> 70846805
E24: PRESUPUESTO OFICIAL (SMMLV): | G24: =ROUND(G23/1423500,2) -> 49.77
E25: ESTADO DE HABILITACIÓN: | G25: =EVALUACIÓN!F26 -> NO CUMPLE
E26: PROMEDIO EXPERIENCIA VÁLIDA | G26: =EVALUACIÓN!N26 -> #DIV/0!
D30: NOMBRE ROL TÉCNICO EVALUADOR | E30: GERMAN EMILIO MANOTAS

Sheet EVALUACIÓN
B1: ALCALDÍA MUNICIPAL DE LURUACO
B4: NÚMERO DEL PROCESO: | F4: ='DATOS DE OFERTA'!E6 -> CMA-002-2025
B5: OBJETO: | F5: ='DATOS DE OFERTA'!E7 -> INTERVENTORIA TECNICA - ADMINISTRATIVA Y FINANCIERA PARA CONSTRUCCIÓN DE ACCESOS PEATONALES BARRIO LA CONCEPCIÓN, CABECERA MUNICIPALDEL MUNICIPIO DE LURUACO. ATLÁNTICO
A8: PROPUESTA No. | C8: ='DATOS DE OFERTA'!E13 -> 5 | Y8: NO | Z8: SI | AA8: LOTE 1 | AB8: CUMPLE
Y9: ACTA | Z9: NO | AA9: LOTE 2 | AB9: NO CUMPLE
A10: PROPONENTE | C10: ='DATOS DE OFERTA'!E14 -> CONINTER JMJ SAS | Y10: CERTIFICACIÓN | AA10: LOTE 1Y2 | AB10: NO APLICA
Y11: AMBAS
A14: EXPERIENCIA HABILITANTE | R14: OBSERVACION
A15: No. DE ORDEN | B15: INTEGRANTE DEL PROPONENTE QUE ACREDITA LA EXPERIENCIA | C15: ENTIDAD CONTRATANTE | D15: No. DE CONTRATO | E15: OBJETO | F15: No. CONSECUTIVO RUP | G15: SMMLV REGISTRADOS EN EL RUP | H15: LOTE AL QUE APORTA EL CONTRATO (LOTE 1) | I15: CUMPLE CON CLASIFICACIÓN (UNSPSC) SI / NO 80101600 O 81101500 | J15: % DE PARTICIPACIÓN EN EL CONTRATO | K15: LA EXPERIENCIA CUMPLE CON: INTERVENTORIA A LA CONSTRUCCIÓN O RECONSTRUCCIÓN O REHABILITACIÓN O MEJORAMIENTO O REPAVIMENTACIÓN O PAVIMENTACIÓN DE INFRAESTRUCTURA VIAL PARA TRÁFICO VEHICULAR DE VÍAS URBANAS O DE VÍAS PRIMARIAS O SECUNDARIAS O VÍAS PEATONALES O VÍAS PARA TRÁFICO PEATONAL O PROYECTOS DE ESPACIO PUBLICO QUE HAYAN TENIDO COMO ALCANCE LA INTERVENCION DE VIAS PEATONALES. / ESPECIFICA: Por lo menos uno (1) de los contratos válidos aportados como experiencia general debe acreditar la interventoría a la intervención de la estructura de pavimento (asfáltico o hidráulico o articulado o adoquinado o en piedra). Por lo menos uno (1) de los contratos válidos aportados como experiencia general debe acreditar el 70% del Presupuesto Oficial estimado para este proceso de contratación (34,83 SMMLV). Nota 2: Por lo menos uno (1) de los contratos válidos aportados como experiencia general debe acreditar que se hayan realizado actividades de Interventoría al diagnóstico y/o estudios y diseños, para actividades de construcción o mejoramiento o rehabilitación o conservación de vias. | L15: EL PROPONENTE CUMPLE CON LOS REQUISITOS TÉCNICOS MINIMOS Y LOS DESCRITOS EN EL NUMERAL 10.1.4 ACREDITACIÓN DE LA EXPERIENCIA REQUERIDA: I. Contratante II. Objeto del contrato III. Principales actividades ejecutadas IV. Las longitudes, volúmenes, dimensiones, tipologías y demás condiciones de experiencia establecidas en la Matriz 1 – Experiencia, si aplica. V. La fecha de iniciación de la ejecución del contrato. VI. La fecha de terminación de la ejecución del contrato. VII. Nombre y cargo de la persona que expide la certificación. VIII. El porcentaje de participación del integrante del contratista plural. IX. El porcentaje de participación en el valor ejecutado en el caso de contratistas plurales. | M15: En caso tal que no sea posible validar la información mediante el Registro Único de Proponentes (RUP), el “Formato 3 – Experiencia”, o los documentos soporte, la Entidad no tendrá en cuenta dicho contrato para la evaluación y la asignación de puntaje. Esta condición es aplicable en los casos en los cuales sea diligenciado indebidamente el “Formato 3 – Experiencia” y que no puedan ser verificados con el RUP, situación en la cual no será tenido en cuenta dicho contrato para la evaluación y asignación de puntaje. | N15: SMMLV EXPERIENCIA CON OBJETO DEL PROCESO (VERIFICADO) | O15: PRESENTA ACTA Y/O CERTIFICACIÓN | P15: % DE EXPERIENCIA QUE APORTA EL INTEGRANTE | Q15: (SI APLICA) Tratándose de Proponentes Plurales se tendrá en cuenta lo siguiente: i) uno de los integrantes debe aportar como mínimo el cincuenta por ciento (50 %) de la experiencia solicitada; ii) los demás integrantes deben acreditar al menos el cinco por ciento (5 %) de la experiencia solicitada; y iii) sin perjuicio de lo anterior, solo uno (1) de los integrantes, si así lo considera pertinente, podrá no demostrar experiencia. En este último caso, el porcentaje de participación del integrante que no aporta experiencia en la estructura plural no podrá superar el diez por ciento (10 %). | V15: COMPROBACIÓN DE SMMLV
V16: VALOR CONTRATO CERTIFICACIÓN ($) | W16: AÑO TERMINACIÓN CONTRATO | X16: VALOR CONTRATO CERTIFICACIÓN (SMMLV) | Y16: CHEQUEO
A17: 1 | B17: =+'DATOS DE OFERTA'!E15 -> CONINTER JMJ SAS | C17: GOBERNACION DE CORDOBA | D17: 079-2018 | E17: INTERVENTORIA TECNICA, ADMINISTRATIVA, FINANCIERA Y AMBIENTAL PARA LA OBRA “MEJORAMIENTODE LACARRETERA TIERRALTA CASERIOEL15YREABILITACIONDELACARRETERA YE DE LOS MORALES–RIO SINU EN LA VIA A VALENCIAENEL DEPARTAMENTODE CORDOBA TRAMO N°5 | F17: 12 | G17: 128.61 | H17: LOTE 1 | I17: SI | J17: 0.05 | K17: NO | L17: NO CUMPLE | M17: SUBSANACIÓN | N17: =IF(AND(I17="SI",K17="SI",H17="LOTE 1",L17="CUMPLE"),(J17*G17),"0") -> 0 | O17: AMBAS | P17: =N17/'DATOS DE OFERTA'!$G$9 -> 0 | Q17: NO APLICA | R17: APORTA ACTA DE RECIBO FINAL DE CONTRATO 079, ACTA DE LIQUIDACION CONTRATO DE INTERVENTORIA 079, DOCUMENTO DE CONFORMACION DE CONSORCIO, ACTA DE RECIBO PARCIAL DE OBRA Y CERTIFICACION DE CONTRATO. DE LOS DOCUMENTOS ENTREGADOS NO SE SOPORTA EL CUMPLIMEINTO DE LA EXIGENCIA DEL OBJETO CONTRACTUAL. | W17: 2000 | X17: =TRUNC(V17/(IF(W17=0,"",LOOKUP(W17,'TABLA DE SMMLV AÑO'!$A$1:$A$49,'TABLA DE SMMLV AÑO'!$B$1:$B$49))),2) -> 0 | Y17: =+IF(#REF!=X17,"OK",#REF!-X17) -> #REF!
A18: 2 | B18: =+'DATOS DE OFERTA'!E15 -> CONINTER JMJ SAS | C18: MUNICIPIO DE PLANETA RICA | D18: 44-2022 | E18: INTERVENTORIA TECNICA, ADMINISTRATIVA, FINANCIERA, CONTABLEYJURIDICAALPROYECTO CUYOOBJETOESCONSTRUCCIONYREHABILITACION DEPAVIMENTOENCONCRETORIGIDOPARASEGUIR ADELANTE III ZONA URBANA DEL MUNICIPIO DE PLANETA RICA, CORDOBA. | F18: 27 | G18: 392.69 | H18: LOTE 1 | I18: SI | J18: 1 | K18: NO | L18: NO CUMPLE | M18: SUBSANACIÓN | N18: =IF(AND(I18="SI",K18="SI",H18="LOTE 1",L18="CUMPLE"),(J18*G18),"0") -> 0 | O18: AMBAS | P18: =N18/'DATOS DE OFERTA'!$G$9 -> 0 | R18: APORTA CERRTIFICACION DE CONTRATO, ACTA DE LIQUIDACION DE CONTRATO DE INTERVENTORIA, ACTA FINAL DE INTERVENTORIA, ACTA DE INCIO DE INTERVENTORIA, ACTA FINAL DE CONTARTO DE OBRA.DE LOS DOCUMENTOS ENTREGADOS NO SE SOPORTA EL CUMPLIMEINTO DE LA EXIGENCIA DEL OBJETO CONTRACTUAL. | X18: =TRUNC(V18/(IF(W18=0,"",LOOKUP(W18,'TABLA DE SMMLV AÑO'!$A$1:$A$49,'TABLA DE SMMLV AÑO'!$B$1:$B$49))),2) -> #VALUE! | Y18: =+IF(#REF!=X18,"OK",#REF!-X18) -> #REF!
A19: 3 | H19: LOTE 1 | N19: =IF(AND(I19="SI",K19="SI",H19="LOTE 1",L19="CUMPLE"),(J19*G19),"0") -> 0 | P19: =N19/'DATOS DE OFERTA'!$G$9 -> 0 | R19: =P19/'DATOS DE OFERTA'!$G$9 -> 0 | X19: =TRUNC(V19/(IF(W19=0,"",LOOKUP(W19,'TABLA DE SMMLV AÑO'!$A$1:$A$49,'TABLA DE SMMLV AÑO'!$B$1:$B$49))),2) -> #VALUE! | Y19: =+IF(#REF!=X19,"OK",#REF!-X19) -> #REF!
A20: 4 | H20: LOTE 1 | N20: =IF(AND(I20="SI",K20="SI",H20="LOTE 1",L20="CUMPLE"),(J20*G20),"0") -> 0 | P20: =N20/'DATOS DE OFERTA'!$G$9 -> 0 | R20: =P20/'DATOS DE OFERTA'!$G$9 -> 0
A21: 5 | H21: LOTE 1 | N21: =IF(AND(I21="SI",K21="SI",H21="LOTE 1",L21="CUMPLE"),(J21*G21),"0") -> 0 | P21: =N21/'DATOS DE OFERTA'!$G$9 -> 0 | R21: =P21/'DATOS DE OFERTA'!$G$9 -> 0
A22: 6 | H22: LOTE 1 | N22: =IF(AND(I22="SI",K22="SI",H22="LOTE 1",L22="CUMPLE"),(J22*G22),"0") -> 0 | P22: =N22/'DATOS DE OFERTA'!$G$9 -> 0 | R22: =P22/'DATOS DE OFERTA'!$G$9 -> 0 | X22: =TRUNC(V22/(IF(W22=0,"",LOOKUP(W22,'TABLA DE SMMLV AÑO'!$A$1:$A$49,'TABLA DE SMMLV AÑO'!$B$1:$B$49))),2) -> #VALUE! | Y22: =+IF(#REF!=X22,"OK",#REF!-X22) -> #REF!
A23: 7 | H23: LOTE 1 | N23: =IF(AND(I23="SI",K23="SI",H23="LOTE 1",L23="CUMPLE"),(J23*G23),"0") -> 0 | P23: =N23/'DATOS DE OFERTA'!$G$9 -> 0 | R23: =P23/'DATOS DE OFERTA'!$G$9 -> 0 | X23: =TRUNC(V23/(IF(W23=0,"",LOOKUP(W23,'TABLA DE SMMLV AÑO'!$A$1:$A$49,'TABLA DE SMMLV AÑO'!$B$1:$B$49))),2) -> #VALUE! | Y23: =+IF(#REF!=X23,"OK",#REF!-X23) -> #REF!
M24: VALOR SMMLV EXPERIENCIA VÁLIDA | N24: =SUM(N17:N23) -> 0 | Q24: =IF(OR(Q17="CUMPLE",Q17="NO APLICA"),"CUMPLE","NO CUMPLE") -> CUMPLE
A25: “Formato 8 - Aceptación y cumplimiento de la formación académica y la experiencia del personal clave evaluable suscrito por el Proponente persona natural, representante legal de la persona jurídica o representante del Proponente Plural. | F25: CUMPLE | H25: OBSERVACIONES | M25: No. DE CONTRATOS VÁLIDOS | N25: =COUNTIF(N17:N23,">0") -> 0 | P25: {=sumar.si} -> #NAME? | R25: {=sumar.si} -> #NAME?
A26: EVALUACIÓN TÉCNICA DE LA PROPUESTA | F26: =IF(AND(N24>='DATOS DE OFERTA'!G24,EVALUACIÓN!F25="cumple",Q17="CUMPLE"),"CUMPLE","NO CUMPLE") -> NO CUMPLE | H26: 1) JUSTIFICAR Y SUBSANAR LA INFORMACIÓN RELACIONADA CON LA ACREDITACIÓN DE LA EXPERIENCIA DE LOS CONTRATOS APORTADOS. LA SUBSANACIÓN DEBE INCLUIR LOS DOCUMENTOS QUE SOPORTEN DICHA EXPERIENCIA, TALES COMO CERTIFICACIONES, ACTAS, O CUALQUIER OTRO DOCUMENTO QUE ACREDITE CUMPLIENDO CON EL SOPORTE DE LA INFORMAION OBSERVADA. __________________________________________________________ | M26: PROMEDIO EXPERIENCI A VALIDA DEL PROPONENTE | N26: =SUMIFS(N17:N23,L17:L23,"CUMPLE",M17:M23,"CUMPLE")/N25 -> #DIV/0! | P26: =7-(COUNTBLANK(M17:M23)) -> 2 | R26: =7-(COUNTBLANK(O17:O23)) -> 2
V30: P.O. EN PESOS | W30: VALOR DE LA PROPUESTA | X30: VALOR CORREGIDO DE LA PROPUESTA | Y30: VARIACIÓN PORCENTUAL | Z30: VARIACIÓN PORCENTUAL CUMPLE/ NO CUMPLE
A31: ='DATOS DE OFERTA'!E30 -> GERMAN EMILIO MANOTAS | Y31: =IF(W31>0,ABS(W31-X31)/W31,"") | Z31: =+IF(X31>V31,"NO CUMPLE",IF(Y31>1%,"NO CUMPLE","CUMPLE")) -> NO CUMPLE
A32: NOMBRE DEL ROL TECNICO
K35: PARA EFECTOS DE SALARIOS MIN
