Workbook
Name _________________________________________________i1: #REF!
Name ________________________________________________i1: #REF!
Name _______________________________________________i1: #REF!
Name ______________________________________________i1: #REF!
Name _____________________________________________i1: #REF!
Name ____________________________________________i1: #REF!
Name ___________________________________________i1: #REF!
Name __________________________________________i1: #REF!
Name _________________________________________i1: #REF!
Name ________________________________________i1: #REF!
Name _______________________________________i1: #REF!
Name ______________________________________i1: #REF!
Name _____________________________________i1: #REF!
Name ____________________________________i1: #REF!
Name ___________________________________i1: #REF!
Name __________________________________i1: #REF!
Name _________________________________i1: #REF!
Name ________________________________i1: #REF!
Name _______________________________i1: #REF!
Name ______________________________i1: #REF!
Name _____________________________i1: #REF!
Name ____________________________i1: #REF!
Name ___________________________i1: #REF!
Name __________________________i1: #REF!
Name _________________________i1: #REF!
Name ________________________i1: #REF!
Name _______________________i1: #REF!
Name ______________________i1: #REF!
Name _____________________i1: #REF!
Name ____________________i1: #REF!
Name ___________________i1: #REF!
Name __________________A1: IF([0]!Values_Entered,[0]!Header_Row+[0]!Number_of_Payments,[0]!Header_Row)
Name __________________A17000: #REF!
Name __________________A20000: #REF!
Name __________________A30000: #REF!
Name __________________AFC1: [1]INV!$A$25:$D$28
Name __________________AFC3: [1]INV!$F$25:$I$28
Name __________________AFC5: [1]INV!$K$25:$N$28
Name __________________BGC1: [1]INV!$A$5:$D$8
Name __________________BGC3: [1]INV!$F$5:$I$8
Name __________________BGC5: [1]INV!$K$5:$N$8
Name __________________CAC1: [1]INV!$A$19:$D$22
Name __________________CAC3: [1]INV!$F$19:$I$22
Name __________________CAC5: [1]INV!$K$19:$N$22
Name __________________G1: #REF!
Name __________________i1: #REF!
Name __________________MA2: #REF!
Name __________________PJ50: #REF!
Name __________________SBC1: [1]INV!$A$12:$D$15
Name __________________SBC3: [1]INV!$F$12:$I$15
Name __________________SBC5: [1]INV!$K$12:$N$15
Name __________________v1: IF(__________________v8,[0]!Header_Row+__________________v4,[0]!Header_Row)
Name __________________v2: IF(__________________v8,[0]!Header_Row+__________________v4,[0]!Header_Row)
Name __________________v4: #REF!
Name __________________v5: #REF!
Name __________________v6: #REF!
Name __________________v7: Scheduled_Payment+Extra_Payment
Name __________________v8: #REF!
Name __________________w1: IF(__________________w7,[0]!Header_Row+__________________w3,[0]!Header_Row)
Name __________________w2: IF(__________________w7,[0]!Header_Row+__________________w3,[0]!Header_Row)

Sheet DATOS
A1: MIPYME | C1: TAMAÑO | E1: ESTADO | G1: TIPO | I1: LOTE
A2: SI | C2: MIPYME | E2: CUMPLE | G2: PLURAL | I2: SI
A3: NO | C3: OTROS | E3: NO CUMPLE | G3: INDIVIDUAL | I3: NO

Sheet DATOS DE OFERTA
C2: ALCALDÍA MUNICIPAL DE LURUACO
C5: CONCURSO DE MERITOS ABIERTO No. | D5: CMA-002-2025
C6: OBJETO: | D6: INTERVENTORIA TECNICA - ADMINISTRATIVA Y FINANCIERA PARA CONSTRUCCIÓN DE ACCESOS PEATONALES BARRIO LA CONCEPCIÓN, CABECERA MUNICIPALDEL MUNICIPIO DE LURUACO. ATLÁNTICO
C7: PRESUPUESTO OFICIAL: | D7: 70846805 | E7: SMLV: | F7: =D7/1423500 -> 49.769445
C8: FECHA DE CIERRE DEL PROCESO: | D8: 45936
C9: DATOS DEL PROPONENTE
C10: NUMERO DEL PROPONENTE: | D10: 7 | F10: =100%-F19 -> 0 | G10: TIPO PROPONENTE | H10: INDIVIDUAL
C11: NOMBRE DEL PROPONENTE: | D11: SANABRIA SAS | F11: % PARTICIPACION
C12: NOMBRE INTEGRANTES DEL PROPONENTE PLURAL (SI APLICA): | D12: =+D11 -> SANABRIA SAS | F12: 1 | G12: MIPYME
D19: SUMATORIA PROPONENTE PLURAL | F19: =SUM(F12:F18) -> 1 | G19: RESULTADO DE LA EVALUACION FINANCIERA | H19: =IF(AND('EVALUACION FINANCIERA'!$B$26="CUMPLE",'EVALUACION FINANCIERA'!$F$25="CUMPLE"),"CUMPLE","NO CUMPLE") -> CUMPLE
D20: VALOR PROPUESTA ECONÓMICA | F20: =+'OFERTA ECONOMICA'!H57 -> 70846805 | G20: PROPUESTA ECONÓMICA MENOR O IGUAL AL PRESUPUESTO OFICIAL | H20: CUMPLE
D21: FACTOR MULTIPLICADOR | F21: ='OFERTA ECONOMICA'!H35 -> 2.55 | G21: FACTOR MULTIPLICADOR MENOR O IGUAL A 2,55 | H21: =IF(F21>2.55,"NO CUMPLE","CUMPLE") -> CUMPLE
F22: SI | G22: OFERTA ECONOMICA FIRMADA POR EL REPRESENTANTE LEGAL | H22: =IF(F22="SI","CUMPLE","NO CUMPLE") -> CUMPLE
F23: 2 | G23: EL PROPONENTE MODIFICO EL PLAZO TOTAL DE 2 | H23: =IF(F23=2,"CUMPLE","NO CUMPLE") -> CUMPLE
F24: NO | G24: SE EVIDENCIA MÁS DE UNA OFERTA ECONÓMICA OSE ENCUENTRA DENTRO DE CAUSAL DE RECHAZO | H24: CUMPLE
F25: CORRECCION ARITMETICA | H25: NO
F26: RESULTADO DE LA EVALUACION | H26: CUMPLE
C37: NOMBRE EVALUADOR ROL FINANCIERO: | D37: ALVARO JOSE CANTILLO
B43: NUMERO | C43: NOMBRE PRINCIPAL | D43: TIPO DE PROPONENTE | E43: INTEGRANTES | F43: PARTICIPACION | G43: RESULTADO FINANCIERO | H43: RESULTADO OFERTA | I43: FACTOR MULTIPLICADOR | J43: CORRECCION ARITMETICA
B44: =$D$10 -> 7 | C44: =$D$11 -> SANABRIA SAS | D44: =$H$10 -> INDIVIDUAL | E44: 0 | F44: =$F$10 -> 0 | G44: =$H$19 -> CUMPLE | H44: =$H$20 -> CUMPLE | I44: =$H$21 -> CUMPLE | J44: =$H$25 -> NO
B45: =$D$10 -> 7 | C45: =$D$11 -> SANABRIA SAS | D45: =$H$10 -> INDIVIDUAL | E45: =D12 -> SANABRIA SAS | F45: =F12 -> 1 | G45: =$H$19 -> CUMPLE | H45: =$H$20 -> CUMPLE | I45: =$H$21 -> CUMPLE | J45: =$H$25 -> NO
B46: =$D$10 -> 7 | C46: =$D$11 -> SANABRIA SAS | D46: =$H$10 -> INDIVIDUAL | E46: =D13 -> 0 | F46: =F13 -> 0 | G46: =$H$19 -> CUMPLE | H46: =$H$20 -> CUMPLE | I46: =$H$21 -> CUMPLE | J46: =$H$25 -> NO
B47: =$D$10 -> 7 | C47: =$D$11 -> SANABRIA SAS | D47: =$H$10 -> INDIVIDUAL | E47: =D14 -> 0 | F47: =F14 -> 0 | G47: =$H$19 -> CUMPLE | H47: =$H$20 -> CUMPLE | I47: =$H$21 -> CUMPLE | J47: =$H$25 -> NO
B48: =$D$10 -> 7 | C48: =$D$11 -> SANABRIA SAS | D48: =$H$10 -> INDIVIDUAL | E48: =D15 -> 0 | F48: =F15 -> 0 | G48: =$H$19 -> CUMPLE | H48: =$H$20 -> CUMPLE | I48: =$H$21 -> CUMPLE | J48: =$H$25 -> NO
B49: =$D$10 -> 7 | C49: =$D$11 -> SANABRIA SAS | D49: =$H$10 -> INDIVIDUAL | E49: =D16 -> 0 | F49: =F16 -> 0 | G49: =$H$19 -> CUMPLE | H49: =$H$20 -> CUMPLE | I49: =$H$21 -> CUMPLE | J49: =$H$25 -> NO
B50: =$D$10 -> 7 | C50: =$D$11 -> SANABRIA SAS | D50: =$H$10 -> INDIVIDUAL | E50: =D17 -> 0 | F50: =F17 -> 0 | G50: =$H$19 -> CUMPLE | H50: =$H$20 -> CUMPLE | I50: =$H$21 -> CUMPLE | J50: =$H$25 -> NO
B51: =$D$10 -> 7 | C51: =$D$11 -> SANABRIA SAS | D51: =$H$10 -> INDIVIDUAL | E51: =D18 -> 0 | F51: =F18 -> 0 | G51: =$H$19 -> CUMPLE | H51: =$H$20 -> CUMPLE | I51: =$H$21 -> CUMPLE | J51: =$H$25 -> NO

Sheet EVALUACION FINANCIERA
A1: ALCALDÍA MUNICIPAL DE LURUACO
A3: ='DATOS DE OFERTA'!C5 -> CONCURSO DE MERITOS ABIERTO No. | C3: ='DATOS DE OFERTA'!D5 -> CMA-002-2025
A4: OBJETO: | C4: ='DATOS DE OFERTA'!D6 -> INTERVENTORIA TECNICA - ADMINISTRATIVA Y FINANCIERA PARA CONSTRUCCIÓN DE ACCESOS PEATONALES BARRIO LA CONCEPCIÓN, CABECERA MUNICIPALDEL MUNICIPIO DE LURUACO. ATLÁNTICO
C7: EVALUACIÓN FINANCIERA
A8: NOMBRE O RAZON SOCIAL | B8: PARTICIPACIÓN | C8: =IF(COUNTIFS(B9,">=10%",C9,"MIPYME")+COUNTIFS(B10,">=10%",C10,"MIPYME")+COUNTIFS(B11,">=10%",C11,"MIPYME")+COUNTIFS(B12,">=10%",C12,"MIPYME")+COUNTIFS(B13,">=10%",C13,"MIPYME")+COUNTIFS(B14,">=10%",C14,"MIPYME")+COUNTIFS(B15,">=10%",C15,"MIPYME")>=1,"MIPYME","OTROS") -> MIPYME | D8: ACTIVO CORRIENTE | E8: ACTIVO TOTAL | F8: PASIVO CORRIENTE | G8: PASIVO TOTAL | H8: PATRIMONIO | I8: UTILIDAD / PÉRDIDA OPERACIONAL | J8: GASTOS DE INTERESES | K8: INDICE DE LIQUIDEZ
A9: ='DATOS DE OFERTA'!D11 -> SANABRIA SAS | B9: ='DATOS DE OFERTA'!F10 -> 0 | C9: ='DATOS DE OFERTA'!G11 -> 0 | K9: =IFERROR(D9/F9,"INDETERMINADO") -> INDETERMINADO
A10: ='DATOS DE OFERTA'!D12 -> SANABRIA SAS | B10: ='DATOS DE OFERTA'!F12 -> 1 | C10: ='DATOS DE OFERTA'!G12 -> MIPYME | D10: 1346584051 | E10: 1440319685 | F10: 359816997 | G10: 359816997 | H10: 1080502688 | I10: 504516920 | J10: 0 | K10: =IFERROR(D10/F10,"INDETERMINADO") -> 3.7424137
A11: ='DATOS DE OFERTA'!D13 -> 0 | B11: ='DATOS DE OFERTA'!F13 -> 0 | C11: ='DATOS DE OFERTA'!G13 -> 0 | K11: =IFERROR(D11/F11,"INDETERMINADO") -> INDETERMINADO
A12: ='DATOS DE OFERTA'!D14 -> 0 | B12: ='DATOS DE OFERTA'!F14 -> 0 | C12: ='DATOS DE OFERTA'!G14 -> 0 | K12: =IFERROR(D12/F12,"INDETERMINADO") -> INDETERMINADO
A13: ='DATOS DE OFERTA'!D15 -> 0 | B13: ='DATOS DE OFERTA'!F15 -> 0 | C13: ='DATOS DE OFERTA'!G15 -> 0 | K13: =IFERROR(D13/F13,"INDETERMINADO") -> INDETERMINADO
A14: ='DATOS DE OFERTA'!D16 -> 0 | B14: ='DATOS DE OFERTA'!F16 -> 0 | C14: ='DATOS DE OFERTA'!G16 -> 0 | K14: =IFERROR(D14/F14,"INDETERMINADO") -> INDETERMINADO
A15: ='DATOS DE OFERTA'!D17 -> 0 | B15: ='DATOS DE OFERTA'!F17 -> 0 | C15: ='DATOS DE OFERTA'!G17 -> 0 | K15: =IFERROR(D15/F15,"INDETERMINADO") -> INDETERMINADO
A16: ='DATOS DE OFERTA'!D18 -> 0 | B16: ='DATOS DE OFERTA'!F18 -> 0 | C16: ='DATOS DE OFERTA'!G18 -> 0 | K16: =IFERROR(D16/F16,"INDETERMINADO") -> INDETERMINADO
A17: TOTAL | D17: =SUM(D9:D16) -> 1346584051 | E17: =SUM(E9:E16) -> 1440319685 | F17: =SUM(F9:F16) -> 359816997 | G17: =SUM(G9:G16) -> 359816997 | H17: =SUM(H9:H16) -> 1080502688 | I17: =SUM(I9:I16) -> 504516920 | J17: =SUM(J9:J16) -> 0
A19: INDICADORES FINANCIEROS PROPONENETE | C19: INDICADOR ESTABLECIDO MIPYMES | D19: INDICADOR ESTABLECIDO DEMÁS PROPONENTES | E19: ESTADO DEL INDICADOR | F19: OBSERVACIONES:
A20: Índice de Liquidez (Act. Corriente / Pas. Corriente) | B20: =IFERROR(D17/F17,"INDETERMINADO") -> 3.7424137 | C20: 1.1 | D20: 1.2 | E20: =IF($C$8="MIPYME", IF($B$20>=C20,"CUMPLE","NO CUMPLE"), IF($B$20>=D20,"CUMPLE","NO CUMPLE")) -> CUMPLE | F20: Registro unico de Proponentes RUP con fecha de expedicion no mayoa 30 dias calendario anteriores a la fecha de cierre del proceso, vigente y en firme
A21: Índice de Endeudamiento (Act. Total / Pas. Total) | B21: =IFERROR(G17/E17,"INDETERMINADO") -> 0.24981745 | C21: 0.65 | D21: 0.65 | E21: =IF($C$8="MIPYME", IF(OR($B$21="INDETERMINADO",$B$21<=C21),"CUMPLE","NO CUMPLE"), IF(OR($B$21="INDETERMINADO",($B$21<=D21)),"CUMPLE","NO CUMPLE")) -> CUMPLE
A22: Razón de Cobertura de Intereses ( Util. Operacional / Gtos Intereses) | B22: =IFERROR(I17/J17,"INDETERMINADO") -> INDETERMINADO | C22: 1.5 | D22: 1.5 | E22: =IF($C$8="MIPYME", IF($B$22>=C22,"CUMPLE","NO CUMPLE"), IF($B$22>=D22,"CUMPLE","NO CUMPLE")) -> CUMPLE
A23: Rentabilidad del Patrimonio (Util. Operacional / Patrimonio) | B23: =IFERROR(I17/H17,"INDETERMINADO") -> 0.46692796 | C23: 0.02 | D23: 0.03 | E23: =IF($C$8="MIPYME", IF($B$23>=C23,"CUMPLE","NO CUMPLE"), IF($B$23>=D23,"CUMPLE","NO CUMPLE")) -> CUMPLE
A24: Rentabilidad del Activo (Util. Operacional / Act. Total) | B24: =IFERROR(I17/E17,"INDETERMINADO") -> 0.35028121 | C24: 0.01 | D24: 0.02 | E24: =IF($C$8="MIPYME", IF($B$24>=C24,"CUMPLE","NO CUMPLE"), IF($B$24>=D24,"CUMPLE","NO CUMPLE")) -> CUMPLE
A25: Capital de Trabajo (Act. Corriente - Pas. Corriente) | B25: =D17-F17 -> 986767054 | C25: 17711701 | D25: 17711701 | E25: =IF($C$8="MIPYME", IF($B$25>=C25,"CUMPLE","NO CUMPLE"), IF($B$25>=D25,"CUMPLE","NO CUMPLE")) -> CUMPLE | F25: CUMPLE
A26: ESTADO DE EVALUACION | B26: CUMPLE
A29: NOMBRE EVALUADOR ROL FINANCIERO: | B29: ='DATOS DE OFERTA'!D37 -> ALVARO JOSE CANTILLO

Sheet PO
B2: Formulario 1 - Formulario de presupuesto oficial -Interventoría de obra pública de infraestructura de transporte - versión 3
B3: Código | C3: CCE-EICP-FM-70 | E3: Versión | F3: 3
C7: FORMULARIO 1 - PRESUPUESTO
C8: CANT. | D8: CARGO / OFICIO | E8: COSTOS | F8: PRIMA REGIONAL | G8: PARTICPACION | H8: VALOR
E9: DE PERSONAL | F9: NO MODIFICAR | G9: NO MODIFICAR | H9: PARCIAL ($)
C10: (1) | E10: (2) | F10: (3) | G10: (4) | H10: (1)*(2)*(3)*(4) = (5)
C11: COSTOS DIRECTOS DE PERSONAL
C13: PERSONAL PROFESIONAL | M13: CANTIDAD | N13: ITEM | O13: VALOR UNITARIO | P13: MES | Q13: DEDICACION
C14: 1 | D14: Director de Interventoría | E14: 4000000 | G14: =2*50% -> 1 | H14: =+E14*G14 -> 4000000 | M14: =IF(C14='OFERTA ECONOMICA'!C14,"CUMPLE","NO CUMPLE") -> CUMPLE | N14: =IF(D14='OFERTA ECONOMICA'!D14,"CUMPLE","NO CUMPLE") -> CUMPLE | O14: =IF(H14>='OFERTA ECONOMICA'!H14,"CUMPLE","NO CUMPLE") -> CUMPLE | P14: =IF(F14='OFERTA ECONOMICA'!F14,"CUMPLE","NO CUMPLE") -> CUMPLE | Q14: =IF(G14='OFERTA ECONOMICA'!G14,"CUMPLE","NO CUMPLE") -> CUMPLE
C15: 1 | D15: Residente de Interventoría | E15: 3000000 | G15: 2 | H15: =+E15*G15 -> 6000000 | M15: =IF(C15='OFERTA ECONOMICA'!C15,"CUMPLE","NO CUMPLE") -> CUMPLE | N15: =IF(D15='OFERTA ECONOMICA'!D15,"CUMPLE","NO CUMPLE") -> CUMPLE | O15: =IF(H15>='OFERTA ECONOMICA'!H15,"CUMPLE","NO CUMPLE") -> CUMPLE | P15: =IF(F15='OFERTA ECONOMICA'!F15,"CUMPLE","NO CUMPLE") -> CUMPLE | Q15: =IF(G15='OFERTA ECONOMICA'!G15,"CUMPLE","NO CUMPLE") -> CUMPLE
E16: 0 | M16: =IF(C16='OFERTA ECONOMICA'!C16,"CUMPLE","NO CUMPLE") -> CUMPLE | N16: =IF(D16='OFERTA ECONOMICA'!D16,"CUMPLE","NO CUMPLE") -> CUMPLE | O16: =IF(H16>='OFERTA ECONOMICA'!H16,"CUMPLE","NO CUMPLE") -> CUMPLE | P16: =IF(F16='OFERTA ECONOMICA'!F16,"CUMPLE","NO CUMPLE") -> CUMPLE | Q16: =IF(G16='OFERTA ECONOMICA'!G16,"CUMPLE","NO CUMPLE") -> CUMPLE
E17: 0 | M17: =IF(C17='OFERTA ECONOMICA'!C17,"CUMPLE","NO CUMPLE") -> CUMPLE | N17: =IF(D17='OFERTA ECONOMICA'!D17,"CUMPLE","NO CUMPLE") -> CUMPLE | O17: =IF(H17>='OFERTA ECONOMICA'!H17,"CUMPLE","NO CUMPLE") -> CUMPLE | P17: =IF(F17='OFERTA ECONOMICA'!F17,"CUMPLE","NO CUMPLE") -> CUMPLE | Q17: =IF(G17='OFERTA ECONOMICA'!G17,"CUMPLE","NO CUMPLE") -> CUMPLE
E18: 0 | M18: =IF(C18='OFERTA ECONOMICA'!C18,"CUMPLE","NO CUMPLE") -> CUMPLE | N18: =IF(D18='OFERTA ECONOMICA'!D18,"CUMPLE","NO CUMPLE") -> CUMPLE | O18: =IF(H18>='OFERTA ECONOMICA'!H18,"CUMPLE","NO CUMPLE") -> CUMPLE | P18: =IF(F18='OFERTA ECONOMICA'!F18,"CUMPLE","NO CUMPLE") -> CUMPLE | Q18: =IF(G18='OFERTA ECONOMICA'!G18,"CUMPLE","NO CUMPLE") -> CUMPLE
E19: 0 | M19: =IF(C19='OFERTA ECONOMICA'!C19,"CUMPLE","NO CUMPLE") -> CUMPLE | N19: =IF(D19='OFERTA ECONOMICA'!D19,"CUMPLE","NO CUMPLE") -> CUMPLE | O19: =IF(H19>='OFERTA ECONOMICA'!H19,"CUMPLE","NO CUMPLE") -> CUMPLE | P19: =IF(F19='OFERTA ECONOMICA'!F19,"CUMPLE","NO CUMPLE") -> CUMPLE | Q19: =IF(G19='OFERTA ECONOMICA'!G19,"CUMPLE","NO CUMPLE") -> CUMPLE
C20: PERSONAL TÉCNICO | M20: =IF(C20='OFERTA ECONOMICA'!C20,"CUMPLE","NO CUMPLE") -> CUMPLE | N20: =IF(D20='OFERTA ECONOMICA'!D20,"CUMPLE","NO CUMPLE") -> CUMPLE | O20: =IF(H20>='OFERTA ECONOMICA'!H20,"CUMPLE","NO CUMPLE") -> CUMPLE | P20: =IF(F20='OFERTA ECONOMICA'!F20,"CUMPLE","NO CUMPLE") -> CUMPLE | Q20: =IF(G20='OFERTA ECONOMICA'!G20,"CUMPLE","NO CUMPLE") -> CUMPLE
C21: 1 | D21: RESIDENTE SISO | E21: 1800000 | F21: 1 | G21: 2 | H21: =+ROUND(C21*E21*F21*G21,0) -> 3600000 | M21: =IF(C21='OFERTA ECONOMICA'!C21,"CUMPLE","NO CUMPLE") -> CUMPLE | N21: =IF(D21='OFERTA ECONOMICA'!D21,"CUMPLE","NO CUMPLE") -> CUMPLE | O21: =IF(H21>='OFERTA ECONOMICA'!H21,"CUMPLE","NO CUMPLE") -> CUMPLE | P21: =IF(F21='OFERTA ECONOMICA'!F21,"CUMPLE","NO CUMPLE") -> CUMPLE | Q21: =IF(G21='OFERTA ECONOMICA'!G21,"CUMPLE","NO CUMPLE") -> CUMPLE
M22: =IF(C22='OFERTA ECONOMICA'!C22,"CUMPLE","NO CUMPLE") -> CUMPLE | N22: =IF(D22='OFERTA ECONOMICA'!D22,"CUMPLE","NO CUMPLE") -> CUMPLE | O22: =IF(H22>='OFERTA ECONOMICA'!H22,"CUMPLE","NO CUMPLE") -> CUMPLE | P22: =IF(F22='OFERTA ECONOMICA'!F22,"CUMPLE","NO CUMPLE") -> CUMPLE | Q22: =IF(G22='OFERTA ECONOMICA'!G22,"CUMPLE","NO CUMPLE") -> CUMPLE
M25: =IF(C25='OFERTA ECONOMICA'!C25,"CUMPLE","NO CUMPLE") -> CUMPLE | N25: =IF(D25='OFERTA ECONOMICA'!D25,"CUMPLE","NO CUMPLE") -> CUMPLE | O25: =IF(H25>='OFERTA ECONOMICA'!H25,"CUMPLE","NO CUMPLE") -> CUMPLE | P25: =IF(F25='OFERTA ECONOMICA'!F25,"CUMPLE","NO CUMPLE") -> CUMPLE | Q25: =IF(G25='OFERTA ECONOMICA'!G25,"CUMPLE","NO CUMPLE") -> CUMPLE
M26: =IF(C26='OFERTA ECONOMICA'!C26,"CUMPLE","NO CUMPLE") -> CUMPLE | N26: =IF(D26='OFERTA ECONOMICA'!D26,"CUMPLE","NO CUMPLE") -> CUMPLE | O26: =IF(H26>='OFERTA ECONOMICA'!H26,"CUMPLE","NO CUMPLE") -> CUMPLE | P26: =IF(F26='OFERTA ECONOMICA'!F26,"CUMPLE","NO CUMPLE") -> CUMPLE | Q26: =IF(G26='OFERTA ECONOMICA'!G26,"CUMPLE","NO CUMPLE") -> CUMPLE
M27: =IF(C27='OFERTA ECONOMICA'!C27,"CUMPLE","NO CUMPLE") -> CUMPLE | N27: =IF(D27='OFERTA ECONOMICA'!D27,"CUMPLE","NO CUMPLE") -> CUMPLE | O27: =IF(H27>='OFERTA ECONOMICA'!H27,"CUMPLE","NO CUMPLE") -> CUMPLE | P27: =IF(F27='OFERTA ECONOMICA'!F27,"CUMPLE","NO CUMPLE") -> CUMPLE | Q27: =IF(G27='OFERTA ECONOMICA'!G27,"CUMPLE","NO CUMPLE") -> CUMPLE
M28: =IF(C28='OFERTA ECONOMICA'!C28,"CUMPLE","NO CUMPLE") -> CUMPLE | N28: =IF(D28='OFERTA ECONOMICA'!D28,"CUMPLE","NO CUMPLE") -> CUMPLE | O28: =IF(H28>='OFERTA ECONOMICA'!H28,"CUMPLE","NO CUMPLE") -> CUMPLE | P28: =IF(F28='OFERTA ECONOMICA'!F28,"CUMPLE","NO CUMPLE") -> CUMPLE | Q28: =IF(G28='OFERTA ECONOMICA'!G28,"CUMPLE","NO CUMPLE") -> CUMPLE
M29: =IF(C29='OFERTA ECONOMICA'!C29,"CUMPLE","NO CUMPLE") -> CUMPLE | N29: =IF(D29='OFERTA ECONOMICA'!D29,"CUMPLE","NO CUMPLE") -> CUMPLE | O29: =IF(H29>='OFERTA ECONOMICA'!H29,"CUMPLE","NO CUMPLE") -> CUMPLE | P29: =IF(F29='OFERTA ECONOMICA'!F29,"CUMPLE","NO CUMPLE") -> CUMPLE | Q29: =IF(G29='OFERTA ECONOMICA'!G29,"CUMPLE","NO CUMPLE") -> CUMPLE
M30: =IF(C30='OFERTA ECONOMICA'!C30,"CUMPLE","NO CUMPLE") -> CUMPLE | N30: =IF(D30='OFERTA ECONOMICA'!D30,"CUMPLE","NO CUMPLE") -> CUMPLE | O30: =IF(H30>='OFERTA ECONOMICA'!H30,"CUMPLE","NO CUMPLE") -> CUMPLE | P30: =IF(F30='OFERTA ECONOMICA'!F30,"CUMPLE","NO CUMPLE") -> CUMPLE | Q30: =IF(G30='OFERTA ECONOMICA'!G30,"CUMPLE","NO CUMPLE") -> CUMPLE
M32: =IF(C32='OFERTA ECONOMICA'!C32,"CUMPLE","NO CUMPLE") -> CUMPLE | N32: =IF(D32='OFERTA ECONOMICA'!D32,"CUMPLE","NO CUMPLE") -> CUMPLE | O32: =IF(H32>='OFERTA ECONOMICA'!H32,"CUMPLE","NO CUMPLE") -> CUMPLE | P32: =IF(F32='OFERTA ECONOMICA'!F32,"CUMPLE","NO CUMPLE") -> CUMPLE | Q32: =IF(G32='OFERTA ECONOMICA'!G32,"CUMPLE","NO CUMPLE") -> CUMPLE
M33: =IF(C33='OFERTA ECONOMICA'!C33,"CUMPLE","NO CUMPLE") -> CUMPLE | N33: =IF(D33='OFERTA ECONOMICA'!D33,"CUMPLE","NO CUMPLE") -> CUMPLE | O33: =IF(H33>='OFERTA ECONOMICA'!H33,"CUMPLE","NO CUMPLE") -> CUMPLE | P33: =IF(F33='OFERTA ECONOMICA'!F33,"CUMPLE","NO CUMPLE") -> CUMPLE | Q33: =IF(G33='OFERTA ECONOMICA'!G33,"CUMPLE","NO CUMPLE") -> CUMPLE
C34: SUBTOTAL COSTOS DE PERSONAL = SUMATORIA DE (5) = (6) | H34: =+SUM(H14:H19)+SUM(H21:H22)+SUM(H25:H30)+SUM(H32:H33) -> 13600000
C35: FACTOR MULTIPLICADOR (7) | H35: 2.55 | R35: =IF(H35='OFERTA ECONOMICA'!H35,"CUMPLE","NO CUMPLE") -> CUMPLE
C36: SUBTOTAL COSTOS DE PERSONAL = (6) * (7) = (A) | H36: =+ROUND(H34*H35,0) -> 34680000
C37: CANT. | D37: CONCEPTO | E37: UNIDAD | F37: COSTO ($) | G37: UTILIZACIÓN | H37: VALOR
F38: NO MODIFICAR | G38: NO MODIFICAR | H38: PARCIAL ($)
C39: (8) | F39: (9) | G39: (10) | H39: (8)*(9)*(10)=(11)
C40: OTROS COSTOS DIRECTOS
C42: VIATICOS
C43: 1 | D43: Residente de interventoria | E43: Día | F43: 150000 | G43: 2 | H43: =+C43*F43*G43 -> 300000 | M43: =IF(C43='OFERTA ECONOMICA'!C43,"CUMPLE","NO CUMPLE") -> CUMPLE | N43: =IF(D43='OFERTA ECONOMICA'!D43,"CUMPLE","NO CUMPLE") -> CUMPLE | O43: =IF(H43>='OFERTA ECONOMICA'!H43,"CUMPLE","NO CUMPLE") -> CUMPLE | P43: =IF(F43='OFERTA ECONOMICA'!F43,"CUMPLE","NO CUMPLE") -> CUMPLE | Q43: =IF(G43='OFERTA ECONOMICA'!G43,"CUMPLE","NO CUMPLE") -> CUMPLE
C44: COSTOS DE ALQUILER DE EQUIPOS Y OFICINA | M44: =IF(C44='OFERTA ECONOMICA'!C44,"CUMPLE","NO CUMPLE") -> CUMPLE | N44: =IF(D44='OFERTA ECONOMICA'!D44,"CUMPLE","NO CUMPLE") -> CUMPLE | O44: =IF(H44>='OFERTA ECONOMICA'!H44,"CUMPLE","NO CUMPLE") -> CUMPLE | P44: =IF(F44='OFERTA ECONOMICA'!F44,"CUMPLE","NO CUMPLE") -> CUMPLE | Q44: =IF(G44='OFERTA ECONOMICA'!G44,"CUMPLE","NO CUMPLE") -> CUMPLE
C45: 1 | D45: Vehículo de 1,300 c.c. hasta 2,000 c.c. | E45: Mes | F45: 3000000 | G45: 2 | H45: =+C45*F45*G45 -> 6000000 | M45: =IF(C45='OFERTA ECONOMICA'!C45,"CUMPLE","NO CUMPLE") -> CUMPLE | N45: =IF(D45='OFERTA ECONOMICA'!D45,"CUMPLE","NO CUMPLE") -> CUMPLE | O45: =IF(H45>='OFERTA ECONOMICA'!H45,"CUMPLE","NO CUMPLE") -> CUMPLE | P45: =IF(F45='OFERTA ECONOMICA'!F45,"CUMPLE","NO CUMPLE") -> CUMPLE | Q45: =IF(G45='OFERTA ECONOMICA'!G45,"CUMPLE","NO CUMPLE") -> CUMPLE
C46: 1 | D46: Comision Topografica (incluye equipo de topografia) | E46: Mes | F46: 7000000 | G46: 2 | H46: =+C46*F46*G46 -> 14000000 | M46: =IF(C46='OFERTA ECONOMICA'!C46,"CUMPLE","NO CUMPLE") -> CUMPLE | N46: =IF(D46='OFERTA ECONOMICA'!D46,"CUMPLE","NO CUMPLE") -> CUMPLE | O46: =IF(H46>='OFERTA ECONOMICA'!H46,"CUMPLE","NO CUMPLE") -> CUMPLE | P46: =IF(F46='OFERTA ECONOMICA'!F46,"CUMPLE","NO CUMPLE") -> CUMPLE | Q46: =IF(G46='OFERTA ECONOMICA'!G46,"CUMPLE","NO CUMPLE") -> CUMPLE
C47: OTROS COSTOS DIRECTOS
C48: 1 | D48: Oficina-Campamento (incluye servicios públicos) | E48: Según comprobante | F48: 1200000 | G48: 2 | H48: =+C48*F48*G48 -> 2400000 | M48: =IF(C48='OFERTA ECONOMICA'!C48,"CUMPLE","NO CUMPLE") -> CUMPLE | N48: =IF(D48='OFERTA ECONOMICA'!D48,"CUMPLE","NO CUMPLE") -> CUMPLE | O48: =IF(H48>='OFERTA ECONOMICA'!H48,"CUMPLE","NO CUMPLE") -> CUMPLE | P48: =IF(F48='OFERTA ECONOMICA'!F48,"CUMPLE","NO CUMPLE") -> CUMPLE | Q48: =IF(G48='OFERTA ECONOMICA'!G48,"CUMPLE","NO CUMPLE") -> CUMPLE
C49: 1 | D49: Reproducción documentos (fotocopias, heliogr.) | E49: Según comprobante | F49: 100000 | G49: 2 | H49: =+C49*F49*G49 -> 200000 | M49: =IF(C49='OFERTA ECONOMICA'!C49,"CUMPLE","NO CUMPLE") -> CUMPLE | N49: =IF(D49='OFERTA ECONOMICA'!D49,"CUMPLE","NO CUMPLE") -> CUMPLE | O49: =IF(H49>='OFERTA ECONOMICA'!H49,"CUMPLE","NO CUMPLE") -> CUMPLE | P49: =IF(F49='OFERTA ECONOMICA'!F49,"CUMPLE","NO CUMPLE") -> CUMPLE | Q49: =IF(G49='OFERTA ECONOMICA'!G49,"CUMPLE","NO CUMPLE") -> CUMPLE
...

Sheet OFERTA ECONOMICA
B2: Formulario 1 - Formulario de presupuesto oficial -Interventoría de obra pública de infraestructura de transporte - versión 3
B3: Código | C3: CCE-EICP-FM-70 | E3: Versión | F3: 3
C7: FORMULARIO 1 - PRESUPUESTO
C8: CANT. | D8: CARGO / OFICIO | E8: COSTOS | F8: PRIMA REGIONAL | G8: PARTICPACION | H8: VALOR
E9: DE PERSONAL | F9: NO MODIFICAR | G9: NO MODIFICAR | H9: PARCIAL ($)
C10: (1) | E10: (2) | F10: (3) | G10: (4) | H10: (1)*(2)*(3)*(4) = (5)
C11: COSTOS DIRECTOS DE PERSONAL
C13: PERSONAL PROFESIONAL
C14: 1 | D14: Director de Interventoría | E14: 4000000 | G14: =2*50% -> 1 | H14: =+E14*G14 -> 4000000
C15: 1 | D15: Residente de Interventoría | E15: 3000000 | G15: 2 | H15: =+E15*G15 -> 6000000
E16: 0
E17: 0
E18: 0
E19: 0
C20: PERSONAL TÉCNICO
C21: 1 | D21: RESIDENTE SISO | E21: 1800000 | F21: 1 | G21: 2 | H21: =+ROUND(C21*E21*F21*G21,0) -> 3600000
C34: SUBTOTAL COSTOS DE PERSONAL = SUMATORIA DE (5) = (6) | H34: =+SUM(H14:H19)+SUM(H21:H22)+SUM(H25:H30)+SUM(H32:H33) -> 13600000
C35: FACTOR MULTIPLICADOR (7) | H35: 2.55
C36: SUBTOTAL COSTOS DE PERSONAL = (6) * (7) = (A) | H36: =+ROUND(H34*H35,0) -> 34680000
C37: CANT. | D37: CONCEPTO | E37: UNIDAD | F37: COSTO ($) | G37: UTILIZACIÓN | H37: VALOR
F38: NO MODIFICAR | G38: NO MODIFICAR | H38: PARCIAL ($)
C39: (8) | F39: (9) | G39: (10) | H39: (8)*(9)*(10)=(11)
C40: OTROS COSTOS DIRECTOS
C42: VIATICOS
C43: 1 | D43: Residente de interventoria | E43: Día | F43: 150000 | G43: 2 | H43: =+C43*F43*G43 -> 300000
C44: COSTOS DE ALQUILER DE EQUIPOS Y OFICINA
C45: 1 | D45: Vehículo de 1,300 c.c. hasta 2,000 c.c. | E45: Mes | F45: 3000000 | G45: 2 | H45: =+C45*F45*G45 -> 6000000
C46: 1 | D46: Comision Topografica (incluye equipo de topografia) | E46: Mes | F46: 7000000 | G46: 2 | H46: =+C46*F46*G46 -> 14000000
C47: OTROS COSTOS DIRECTOS
C48: 1 | D48: Oficina-Campamento (incluye servicios públicos) | E48: Según comprobante | F48: 1200000 | G48: 2 | H48: =+C48*F48*G48 -> 2400000
C49: 1 | D49: Reproducción documentos (fotocopias, heliogr.) | E49: Según comprobante | F49: 100000 | G49: 2 | H49: =+C49*F49*G49 -> 200000
C50: 1 | D50: Edición de informes (incluye fotografías) | E50: Según comprobante | F50: 777565.13 | G50: 2 | H50: =+C50*F50*G50 -> 1555130.3
C51: 1 | D51: Comunicaciones (teléfono, fax, correo, etc) | E51: Según comprobante | F51: 200000 | G51: 2 | H51: =+C51*F51*G51 -> 400000
C52: SUBTOTAL OTROS COSTOS DIRECTOS = SUMATORIA DE (12) = (B) | H52: =+SUM(H43:H46)+SUM(H48:H51) -> 24855130
C53: SUBTOTAL COSTOS BASICOS = (A) + (B) = (C) | H53: =+H52+H36 -> 59535130
C54: PROVISION FRENTE ADICIONAL = (D) | H54: -
C55: VALOR TOTAL BÁSICO | H55: =+H53 -> 59535130
C56: IVA = 19% * (E) = (F) | H56: =+H53*19% -> 11311675
C57: COSTO TOTAL | H57: =+H55+H56 -> 70846805
C59: FIRMAS:
...
