Workbook
Name _Fill: #REF!
Name _Fill: #REF!
Name _Fill: #REF!
Name _Fill: #REF!
Name _Key1: #REF!
Name _Key1: #REF!
Name _Key1: #REF!
Name _Key1: #REF!
Name _Key2: #REF!
Name _Key2: #REF!
Name _Key2: #REF!
Name _Key2: #REF!
Name _Sort: #REF!
Name _Sort: #REF!
Name _Sort: #REF!
Name _Sort: #REF!
Name ABCD: #REF!
Name ABCD: #REF!
Name ABCD: #REF!
Name ABCD: #REF!
Name ABCDE: #REF!
Name ABCDE: #REF!
Name ABCDE: #REF!
Name ABCDE: #REF!
Name DWPRICE: #REF!
Name DWPRICE: #REF!
Name DWPRICE: #REF!
Name DWPRICE: #REF!
Name PROVISIONALES: #REF!
Name PROVISIONALES: #REF!
Name PROVISIONALES: #REF!
Name PROVISIONALES: #REF!
Name XXXX: #REF!
Name XXXX: #REF!
Name XXXX: #REF!
Name XXXX: #REF!
Name XZS: #REF!
Name XZS: #REF!
Name XZS: #REF!
Name XZS: #REF!

Sheet PRESUPUESTO FINAL FDLU
A2: Formulario 1 - Propuesta económica - Documento tipo de licitación de obra pública de agua potable y saneamiento básico | D2: ALCALDIA LOCAL DE USME REALIZAR POR EL SISTEMA DE PRECIOS UNITARIOS FIJOS SIN FORMULA DE REAJUSTE Y HASTA MONTO AGOTABLE, LA CONSERVACIÓN, Y LAS OBRAS REQUERIDAS PARA LA OPTIMIZACION Y MEJORAMIENTO DE LOS ACUEDUCTOS VEREDALES EN LA LOCALIDAD DE USME
A3: Código | B3: CCE-EICP-FM-47 | C3: 1 | J3: 1384004700
A4: FORMULARIO 1
A5: PRESUPUESTO OFICIAL
A8: Nº | B8: ÍTEM DE PAGO | C8: ESPECIFICACIONES | E8: DESCRIPCIÓN | F8: UND. | G8: CANTIDAD | H8: VALOR UNITARIO | I8: VALOR TOTAL | J8: VALOR UN. INC. A.I.U 30,35%
C9: GENERAL | D9: PARTICULAR | J9: 1.3035
B10: 1 | E10: OBRAS PRELIMINARES
B11: 1.1 | E11: ACTIVIDADES PRELIMINARES
A12: 1 | B12: 1.1.1 | C12: Ref. Precio EPC | E12: LOCALIZACIÓN Y REPLANTEO REDES | F12: ML | G12: =+'PRESUPUESTO OFICIAL AGUAS DORAD'!G12+'PRESUPUESTO OFICIAL EL DESTINO'!G12+'PRESUPUESTO LAS MARGARITAS'!G12 -> 3812.5509 | H12: 12426 | I12: =+ROUND((L12*G12),0) -> 61751887 | J12: =+H12*J9 -> 16197.291 | L12: =++ROUND(J12,0) -> 16197
A13: 2 | B13: 1.1.2 | C13: Ref. Precio EPC | E13: LOCALIZACIÓN Y REPLANTEO ESTRUCTURAS | F13: M2 | G13: =+'PRESUPUESTO OFICIAL AGUAS DORAD'!G13+'PRESUPUESTO OFICIAL EL DESTINO'!G13+'PRESUPUESTO LAS MARGARITAS'!G13 -> 28 | H13: 15249 | I13: =+ROUND((L13*G13),0) -> 556556 | J13: =+H13*J9 -> 19877.072 | L13: =++ROUND(J13,0) -> 19877
A14: 2 | B14: 1.1.3 | C14: Ref. Precio EPC | E14: MANEJO DE AGUAS EN ZANJA, CUALQUIER ANCHO. | F14: ML | G14: =+'PRESUPUESTO OFICIAL AGUAS DORAD'!G14+'PRESUPUESTO OFICIAL EL DESTINO'!G14+'PRESUPUESTO LAS MARGARITAS'!G14 -> 35 | H14: 11382 | I14: =+ROUND((L14*G14),0) -> 519260 | J14: =+H14*J9 -> 14836.437 | L14: =++ROUND(J14,0) -> 14836
A15: 3 | B15: 1.1.4 | C15: Ref. Precio EPC | E15: DESVIACIÓN DE CAUCE ENTRE 0 A 1 M | F15: ML | G15: =+'PRESUPUESTO OFICIAL AGUAS DORAD'!G15+'PRESUPUESTO OFICIAL EL DESTINO'!G15+'PRESUPUESTO LAS MARGARITAS'!G15 -> 40 | H15: 48825 | I15: =+ROUND((L15*G15),0) -> 2545720 | J15: =+H15*J9 -> 63643.388 | L15: =++ROUND(J15,0) -> 63643
A16: 4 | B16: 1.1.5 | C16: Ref. Precio EPC | E16: DESVIACIÓN DE CAUCE ENTRE 1 A 3 M | F16: ML | G16: =+'PRESUPUESTO OFICIAL AGUAS DORAD'!G16+'PRESUPUESTO OFICIAL EL DESTINO'!G16+'PRESUPUESTO LAS MARGARITAS'!G16 -> 30 | H16: 61031 | I16: =+ROUND((L16*G16),0) -> 2386620 | J16: =+H16*J9 -> 79553.909 | L16: =++ROUND(J16,0) -> 79554
A17: Subtotal | I17: =SUM(I12:I16) -> 67760043 | K17: =+'PRESUPUESTO OFICIAL AGUAS DORAD'!I17+'PRESUPUESTO OFICIAL EL DESTINO'!I17+'PRESUPUESTO LAS MARGARITAS'!I17 -> 63235634
B18: 2 | E18: DEMOLICIONES, DESMONTE Y DESCAPOTE
B19: 2.1 | E19: DEMOLICIONES
A20: 5 | B20: 2.1.1 | C20: Ref. Precio EPC | E20: DEMOLICIÓN DE ESTRUCTURAS EN CONCRETO | F20: M3 | G20: =+'PRESUPUESTO OFICIAL AGUAS DORAD'!G20+'PRESUPUESTO OFICIAL EL DESTINO'!G20+'PRESUPUESTO LAS MARGARITAS'!G20 -> 15 | H20: 121340 | I20: =+ROUND((L20*G20),0) -> 2372505 | J20: =+H20*J9 -> 158166.69 | L20: =++ROUND(J20,0) -> 158167
A21: 6 | B21: 2.1.2 | C21: Ref. Precio EPC | E21: DEMOLICIÓN DE PAVIMENTO FLEXIBLE (INCLUYE CORTE A MÁQUINA 2 COSTADOS) | F21: M3 | G21: =+'PRESUPUESTO OFICIAL AGUAS DORAD'!G21+'PRESUPUESTO OFICIAL EL DESTINO'!G21+'PRESUPUESTO LAS MARGARITAS'!G21 -> 21 | H21: 110429 | I21: =+ROUND((L21*G21),0) -> 3022824 | J21: =+H21*J9 -> 143944.2 | L21: =++ROUND(J21,0) -> 143944
A22: 7 | B22: 2.1.2 | C22: Ref. Precio EPC | E22: DEMOLICIÓN CAJAS DE INSPECCIÓN | F22: UN | G22: =+'PRESUPUESTO OFICIAL AGUAS DORAD'!G22+'PRESUPUESTO OFICIAL EL DESTINO'!G22+'PRESUPUESTO LAS MARGARITAS'!G22 -> 11 | H22: 74832 | I22: =+ROUND((L22*G22),0) -> 1072984 | J22: =+H22*J9 -> 97543.512 | L22: =++ROUND(J22,0) -> 97544
A23: 8 | B23: 2.1.4 | C23: Ref. Precio EPC | E23: DEMOLICIÓN DE PAVIMENTO RÍGIDO (INCLUYE CORTE A MÁQUINA 2 COSTADOS) | F23: M3 | G23: =+'PRESUPUESTO OFICIAL AGUAS DORAD'!G23+'PRESUPUESTO OFICIAL EL DESTINO'!G23+'PRESUPUESTO LAS MARGARITAS'!G23 -> 21 | H23: 128491 | I23: =+ROUND((L23*G23),0) -> 3517248 | J23: =+H23*J9 -> 167488.02 | L23: =++ROUND(J23,0) -> 167488
A24: 9 | B24: 2.1.3 | C24: Ref. Precio EPC | E24: DEMOLICIÓN DE ANDENES Y SARDINELES (INCLUYE CORTE A MÁQUINA 2 COSTADOS) | F24: M3 | G24: =+'PRESUPUESTO OFICIAL AGUAS DORAD'!G24+'PRESUPUESTO OFICIAL EL DESTINO'!G24+'PRESUPUESTO LAS MARGARITAS'!G24 -> 16 | H24: 76623 | I24: =+ROUND((L24*G24),0) -> 1598048 | J24: =+H24*J9 -> 99878.081 | L24: =++ROUND(J24,0) -> 99878
A25: 10 | B25: 2.1.4 | C25: Ref. Precio EPC | E25: DESCAPOTE MANUAL Y RETIRO E= 0.20 M APILE A 15 M | F25: M2 | G25: =+'PRESUPUESTO OFICIAL AGUAS DORAD'!G25+'PRESUPUESTO OFICIAL EL DESTINO'!G25+'PRESUPUESTO LAS MARGARITAS'!G25 -> 52 | H25: 11042 | I25: =+ROUND((L25*G25),0) -> 748436 | J25: =+H25*J9 -> 14393.247 | L25: =++ROUND(J25,0) -> 14393
A26: 11 | B26: 2.1.5 | C26: Ref. Precio EPC | E26: DESMONTE Y LIMPIEZA (CON RETIRO) | F26: M2 | G26: =+'PRESUPUESTO OFICIAL AGUAS DORAD'!G26+'PRESUPUESTO OFICIAL EL DESTINO'!G26+'PRESUPUESTO LAS MARGARITAS'!G26 -> 60 | H26: 30516 | I26: =+ROUND((L26*G26),0) -> 2386680 | J26: =+H26*J9 -> 39777.606 | L26: =++ROUND(J26,0) -> 39778
A27: Subtotal | I27: =SUM(I20:I26) -> 14718725 | K27: =+'PRESUPUESTO OFICIAL AGUAS DORAD'!I27+'PRESUPUESTO OFICIAL EL DESTINO'!I27+'PRESUPUESTO LAS MARGARITAS'!I27 -> 14718710 | L27: =++ROUND(J27,0) -> 0
B28: 4 | E28: EXCAVACIONES, NO INCLUYE CARGUE NI TRANSPORTE | L28: =++ROUND(J28,0) -> 0
B29: 4.1 | E29: EXCAVACIONES MANUAL EN TIERRA | L29: =++ROUND(J29,0) -> 0
A30: 12 | B30: 4.1.1 | C30: Ref. Precio EPC | E30: EXCAVACIONES MANUAL EN TIERRA DE 0 A 2 M DE PROFUNDIDAD | F30: M3 | G30: =+'PRESUPUESTO OFICIAL AGUAS DORAD'!G30+'PRESUPUESTO OFICIAL EL DESTINO'!G30+'PRESUPUESTO LAS MARGARITAS'!G30 -> 400.6875 | H30: 61280 | I30: =+ROUND((L30*G30),0) -> 32006116 | J30: =+H30*J9 -> 79878.48 | L30: =++ROUND(J30,0) -> 79878
A31: 13 | B31: 4.1.2 | C31: Ref. Precio EPC | E31: EXCAVACIONES MANUAL EN TIERRA DE 2 A 4 M DE PROFUNDIDAD | F31: M3 | G31: =+'PRESUPUESTO OFICIAL AGUAS DORAD'!G31+'PRESUPUESTO OFICIAL EL DESTINO'!G31+'PRESUPUESTO LAS MARGARITAS'!G31 -> 21 | H31: 54933 | I31: =+ROUND((L31*G31),0) -> 1503705 | J31: =+H31*J9 -> 71605.166 | L31: =++ROUND(J31,0) -> 71605
A32: 14 | B32: 4.1.2 | C32: Ref. Precio EPC | E32: EXCAVACIONES MANUAL EN TIERRA A PROFUNDIDADES MAYORES DE 4 M | F32: M3 | G32: =+'PRESUPUESTO OFICIAL AGUAS DORAD'!G32+'PRESUPUESTO OFICIAL EL DESTINO'!G32+'PRESUPUESTO LAS MARGARITAS'!G32 -> 27 | H32: 70628 | I32: =+ROUND((L32*G32),0) -> 2485728 | J32: =+H32*J9 -> 92063.598 | L32: =++ROUND(J32,0) -> 92064
A33: Subtotal | I33: =SUM(I30:I32) -> 35995549 | K33: =+'PRESUPUESTO OFICIAL AGUAS DORAD'!I33+'PRESUPUESTO OFICIAL EL DESTINO'!I33+'PRESUPUESTO LAS MARGARITAS'!I33 -> 35995734 | L33: =++ROUND(J33,0) -> 0
B34: 4.2 | E34: EXCAVACIONES MANUAL EN CONGLOMERADO | L34: =++ROUND(J34,0) -> 0
A35: 15 | B35: 4.2.1 | C35: Ref. Precio EPC | E35: EXCAVACIONES MANUAL EN CONGLOMERADO DE 0 A 2 M DE PROFUNDIDAD | F35: M3 | G35: =+'PRESUPUESTO OFICIAL AGUAS DORAD'!G35+'PRESUPUESTO OFICIAL EL DESTINO'!G35+'PRESUPUESTO LAS MARGARITAS'!G35 -> 24 | H35: 71367 | I35: =+ROUND((L35*G35),0) -> 2232648 | J35: =+H35*J9 -> 93026.885 | L35: =++ROUND(J35,0) -> 93027
A36: 16 | B36: 4.2.2 | C36: Ref. Precio EPC | E36: EXCAVACIONES MANUAL EN CONGLOMERADO DE 2 A 4 M DE PROFUNDIDAD | F36: M3 | G36: =+'PRESUPUESTO OFICIAL AGUAS DORAD'!G36+'PRESUPUESTO OFICIAL EL DESTINO'!G36+'PRESUPUESTO LAS MARGARITAS'!G36 -> 24 | H36: 61800 | I36: =+ROUND((L36*G36),0) -> 1933344 | J36: =+H36*$J$9 -> 80556.3 | L36: =++ROUND(J36,0) -> 80556
A37: 17 | B37: 4.2.3 | C37: Ref. Precio EPC | E37: EXCAVACIONES MANUAL EN CONGLOMERADO A PROFUNDIDADES MAYORES DE 4M | F37: M3 | G37: =+'PRESUPUESTO OFICIAL AGUAS DORAD'!G37+'PRESUPUESTO OFICIAL EL DESTINO'!G37+'PRESUPUESTO LAS MARGARITAS'!G37 -> 24 | H37: 84000 | I37: =+ROUND((L37*G37),0) -> 2627856 | J37: =+H37*$J$9 -> 109494 | L37: =++ROUND(J37,0) -> 109494
A38: Subtotal | I38: =SUM(I35:I37) -> 6793848 | K38: =+'PRESUPUESTO OFICIAL AGUAS DORAD'!I38+'PRESUPUESTO OFICIAL EL DESTINO'!I38+'PRESUPUESTO LAS MARGARITAS'!I38 -> 6793852.4 | L38: =++ROUND(J38,0) -> 0
B39: 4.3 | E39: EXCAVACIÓN MECÁNICA A CUALQUIER PROFUNDIDAD | L39: =++ROUND(J39,0) -> 0
A40: 18 | B40: 4.3.1 | C40: Ref. Precio EPC | E40: EXCAVACIÓN MECÁNICA A CUALQUIER PROFUNDIDAD | F40: M3 | G40: =+'PRESUPUESTO OFICIAL AGUAS DORAD'!G40+'PRESUPUESTO OFICIAL EL DESTINO'!G40+'PRESUPUESTO LAS MARGARITAS'!G40 -> 31 | H40: 10185 | I40: =+ROUND((L40*G40),0) -> 411556 | J40: =+H40*$J$9 -> 13276.148 | L40: =++ROUND(J40,0) -> 13276
A41: Subtotal | I41: =SUM(I40) -> 411556 | L41: =++ROUND(J41,0) -> 0
B42: 4.4 | E42: EXCAVACIÓN EN ROCA | L42: =++ROUND(J42,0) -> 0
A43: 19 | B43: 4.4.1 | C43: Ref. Precio EPC | E43: EXCAVACIÓN MECÁNICA EN ROCA, EN SECO, SIN EXPLOSIVOS | F43: M3 | G43: =+'PRESUPUESTO OFICIAL AGUAS DORAD'!G43+'PRESUPUESTO OFICIAL EL DESTINO'!G43+'PRESUPUESTO LAS MARGARITAS'!G43 -> 31.5 | H43: 145580 | I43: =+ROUND((L43*G43),0) -> 5977566 | J43: =+H43*$J$9 -> 189763.53 | L43: =++ROUND(J43,0) -> 189764
...

Sheet PRESUPUESTO OFICIAL AGUAS DORAD
A2: Formulario 1 - Propuesta económica - Documento tipo de licitación de obra pública de agua potable y saneamiento básico | D2: ALCALDIA LOCAL DE USME REALIZAR POR EL SISTEMA DE PRECIOS UNITARIOS FIJOS SIN FORMULA DE REAJUSTE Y HASTA MONTO AGOTABLE, LA CONSERVACIÓN, Y LAS OBRAS REQUERIDAS PARA LA OPTIMIZACION Y MEJORAMIENTO DE LOS ACUEDUCTOS VEREDALES EN LA LOCALIDAD DE USME
A3: Código | B3: CCE-EICP-FM-47 | C3: 1
A4: FORMULARIO 1
A5: PRESUPUESTO OFICIAL
A8: Nº | B8: ÍTEM DE PAGO | C8: ESPECIFICACIONES | E8: DESCRIPCIÓN | F8: UND. | G8: CANTIDAD | H8: VALOR UNITARIO | I8: VALOR TOTAL | J8: VALOR UN. INC. A.I.U 29,21%
C9: GENERAL | D9: PARTICULAR | J9: 1.3035
B10: 1 | E10: OBRAS PRELIMINARES
B11: 1.1 | E11: ACTIVIDADES PRELIMINARES
A12: 1 | B12: 1.1.1 | C12: Ref. Precio EPC | E12: LOCALIZACIÓN Y REPLANTEO REDES | F12: ML | G12: 126.37193 | H12: 12426 | I12: =+J12*G12 -> 2046882.9 | J12: =+H12*J9 -> 16197.291
A13: 2 | B13: 1.1.2 | C13: Ref. Precio EPC | E13: LOCALIZACIÓN Y REPLANTEO ESTRUCTURAS | F13: M2 | G13: 1 | H13: 15249 | I13: =+J13*G13 -> 19877.072 | J13: =+H13*J9 -> 19877.072
A14: 2 | B14: 1.1.3 | C14: Ref. Precio EPC | E14: MANEJO DE AGUAS EN ZANJA, CUALQUIER ANCHO. | F14: ML | G14: 10 | H14: 11382 | I14: =+J14*G14 -> 148364.37 | J14: =+H14*J9 -> 14836.437 | L14: 300 | M14: 0.3
A15: 3 | B15: 1.1.4 | C15: Ref. Precio EPC | E15: DESVIACIÓN DE CAUCE ENTRE 0 A 1 M | F15: ML | G15: 10 | H15: 48825 | I15: =+J15*G15 -> 636433.88 | J15: =+H15*J9 -> 63643.388 | M15: =+L14*M14 -> 90
A16: 4 | B16: 1.1.5 | C16: Ref. Precio EPC | E16: DESVIACIÓN DE CAUCE ENTRE 1 A 3 M | F16: ML | G16: 10 | H16: 61031 | I16: =+J16*G16 -> 795539.09 | J16: =+H16*J9 -> 79553.909
A17: Subtotal | I17: =SUM(I12:I16) -> 3647097.3
B18: 2 | E18: DEMOLICIONES, DESMONTE Y DESCAPOTE
B19: 2.1 | E19: DEMOLICIONES
A20: 5 | B20: 2.1.1 | C20: Ref. Precio EPC | E20: DEMOLICIÓN DE ESTRUCTURAS EN CONCRETO | F20: M3 | G20: 1 | H20: 121340 | I20: =+J20*G20 -> 158166.69 | J20: =+H20*J9 -> 158166.69
A21: 6 | B21: 2.1.2 | C21: Ref. Precio EPC | E21: DEMOLICIÓN DE PAVIMENTO FLEXIBLE (INCLUYE CORTE A MÁQUINA 2 COSTADOS) | F21: M3 | G21: 1 | H21: 110429 | I21: =+J21*G21 -> 143944.2 | J21: =+H21*J9 -> 143944.2
A22: 7 | B22: 2.1.2 | C22: Ref. Precio EPC | E22: DEMOLICIÓN CAJAS DE INSPECCIÓN | F22: UN | G22: 2 | H22: 74832 | I22: =+J22*G22 -> 195087.02 | J22: =+H22*J9 -> 97543.512
A23: 8 | B23: 2.1.4 | C23: Ref. Precio EPC | E23: DEMOLICIÓN DE PAVIMENTO RÍGIDO (INCLUYE CORTE A MÁQUINA 2 COSTADOS) | F23: M3 | G23: 1 | H23: 128491 | I23: =+J23*G23 -> 167488.02 | J23: =+H23*J9 -> 167488.02
A24: 9 | B24: 2.1.3 | C24: Ref. Precio EPC | E24: DEMOLICIÓN DE ANDENES Y SARDINELES (INCLUYE CORTE A MÁQUINA 2 COSTADOS) | F24: M3 | G24: 1 | H24: 76623 | I24: =+J24*G24 -> 99878.081 | J24: =+H24*J9 -> 99878.081
A25: 10 | B25: 2.1.4 | C25: Ref. Precio EPC | E25: DESCAPOTE MANUAL Y RETIRO E= 0.20 M APILE A 15 M | F25: M2 | G25: =+G88*0.6 -> 12 | H25: 11042 | I25: =+J25*G25 -> 172718.96 | J25: =+H25*J9 -> 14393.247
A26: 11 | B26: 2.1.5 | C26: Ref. Precio EPC | E26: DESMONTE Y LIMPIEZA (CON RETIRO) | F26: M2 | G26: 20 | H26: 30516 | I26: =+J26*G26 -> 795552.12 | J26: =+H26*J9 -> 39777.606
A27: Subtotal | I27: =SUM(I20:I26) -> 1732835.1
B28: 4 | E28: EXCAVACIONES, NO INCLUYE CARGUE NI TRANSPORTE
B29: 4.1 | E29: EXCAVACIONES MANUAL EN TIERRA
A30: 12 | B30: 4.1.1 | C30: Ref. Precio EPC | E30: EXCAVACIONES MANUAL EN TIERRA DE 0 A 2 M DE PROFUNDIDAD | F30: M3 | G30: =+(G88*1.3)*0.6*1 -> 15.6 | H30: 61280 | I30: =+J30*G30 -> 1246104.3 | J30: =+H30*J9 -> 79878.48
A31: 13 | B31: 4.1.2 | C31: Ref. Precio EPC | E31: EXCAVACIONES MANUAL EN TIERRA DE 2 A 4 M DE PROFUNDIDAD | F31: M3 | G31: 1 | H31: 54933 | I31: =+J31*G31 -> 71605.166 | J31: =+H31*J9 -> 71605.166
A32: 14 | B32: 4.1.2 | C32: Ref. Precio EPC | E32: EXCAVACIONES MANUAL EN TIERRA A PROFUNDIDADES MAYORES DE 4 M | F32: M3 | G32: 7 | H32: 70628 | I32: =+J32*G32 -> 644445.19 | J32: =+H32*J9 -> 92063.598
A33: Subtotal | I33: =SUM(I30:I32) -> 1962154.6
B34: 4.2 | E34: EXCAVACIONES MANUAL EN CONGLOMERADO
A35: 15 | B35: 4.2.1 | C35: Ref. Precio EPC | E35: EXCAVACIONES MANUAL EN CONGLOMERADO DE 0 A 2 M DE PROFUNDIDAD | F35: M3 | G35: 7 | H35: 71367 | I35: =+J35*G35 -> 651188.19 | J35: =+H35*J9 -> 93026.885
A36: 16 | B36: 4.2.2 | C36: Ref. Precio EPC | E36: EXCAVACIONES MANUAL EN CONGLOMERADO DE 2 A 4 M DE PROFUNDIDAD | F36: M3 | G36: 7 | H36: 61800 | I36: =+J36*G36 -> 563894.1 | J36: =+H36*$J$9 -> 80556.3
A37: 17 | B37: 4.2.3 | C37: Ref. Precio EPC | E37: EXCAVACIONES MANUAL EN CONGLOMERADO A PROFUNDIDADES MAYORES DE 4M | F37: M3 | G37: 7 | H37: 84000 | I37: =+J37*G37 -> 766458 | J37: =+H37*$J$9 -> 109494
A38: Subtotal | I38: =SUM(I35:I37) -> 1981540.3
B39: 4.3 | E39: EXCAVACIÓN MECÁNICA A CUALQUIER PROFUNDIDAD
A40: 18 | B40: 4.3.1 | C40: Ref. Precio EPC | E40: EXCAVACIÓN MECÁNICA A CUALQUIER PROFUNDIDAD | F40: M3 | G40: 7 | H40: 10185 | I40: =+J40*G40 -> 92933.033 | J40: =+H40*$J$9 -> 13276.148
A41: Subtotal | I41: =SUM(I40) -> 92933.033
B42: 4.4 | E42: EXCAVACIÓN EN ROCA
A43: 19 | B43: 4.4.1 | C43: Ref. Precio EPC | E43: EXCAVACIÓN MECÁNICA EN ROCA, EN SECO, SIN EXPLOSIVOS | F43: M3 | G43: =7*1.5 -> 10.5 | H43: 145580 | I43: =+J43*G43 -> 1992517.1 | J43: =+H43*$J$9 -> 189763.53
...

Sheet PRESUPUESTO OFICIAL EL DESTINO
A2: Formulario 1 - Propuesta económica - Documento tipo de licitación de obra pública de agua potable y saneamiento básico | D2: ALCALDIA LOCAL DE USME REALIZAR POR EL SISTEMA DE PRECIOS UNITARIOS FIJOS SIN FORMULA DE REAJUSTE Y HASTA MONTO AGOTABLE, LA CONSERVACIÓN, Y LAS OBRAS REQUERIDAS PARA LA OPTIMIZACION Y MEJORAMIENTO DE LOS ACUEDUCTOS VEREDALES EN LA LOCALIDAD DE USME
A3: Código | B3: CCE-EICP-FM-47 | C3: 1
A4: FORMULARIO 1
A5: PRESUPUESTO OFICIAL
A8: Nº | B8: ÍTEM DE PAGO | C8: ESPECIFICACIONES | E8: DESCRIPCIÓN | F8: UND. | G8: CANTIDAD | H8: VALOR UNITARIO | I8: VALOR TOTAL | J8: VALOR UN. INC. A.I.U 29,21%
C9: GENERAL | D9: PARTICULAR | J9: 1.3035
B10: 1 | E10: OBRAS PRELIMINARES
B11: 1.1 | E11: ACTIVIDADES PRELIMINARES
A12: 1 | B12: 1.1.1 | C12: Ref. Precio EPC | E12: LOCALIZACIÓN Y REPLANTEO REDES | F12: ML | G12: 2486.179 | H12: 12426 | I12: =+J12*G12 -> 40269365 | J12: =+H12*J9 -> 16197.291
A13: 2 | B13: 1.1.2 | C13: Ref. Precio EPC | E13: LOCALIZACIÓN Y REPLANTEO ESTRUCTURAS | F13: M2 | G13: 2 | H13: 15249 | I13: =+J13*G13 -> 39754.143 | J13: =+H13*J9 -> 19877.072
A14: 2 | B14: 1.1.3 | C14: Ref. Precio EPC | E14: MANEJO DE AGUAS EN ZANJA, CUALQUIER ANCHO. | F14: ML | G14: 10 | H14: 11382 | I14: =+J14*G14 -> 148364.37 | J14: =+H14*J9 -> 14836.437 | L14: 300 | M14: 0.3
A15: 3 | B15: 1.1.4 | C15: Ref. Precio EPC | E15: DESVIACIÓN DE CAUCE ENTRE 0 A 1 M | F15: ML | G15: 10 | H15: 48825 | I15: =+J15*G15 -> 636433.88 | J15: =+H15*J9 -> 63643.388 | M15: =+L14*M14 -> 90
A16: 4 | B16: 1.1.5 | C16: Ref. Precio EPC | E16: DESVIACIÓN DE CAUCE ENTRE 1 A 3 M | F16: ML | G16: 10 | H16: 61031 | I16: =+J16*G16 -> 795539.09 | J16: =+H16*J9 -> 79553.909
A17: Subtotal | I17: =SUM(I12:I16) -> 41889456
B18: 2 | E18: DEMOLICIONES, DESMONTE Y DESCAPOTE
B19: 2.1 | E19: DEMOLICIONES
A20: 5 | B20: 2.1.1 | C20: Ref. Precio EPC | E20: DEMOLICIÓN DE ESTRUCTURAS EN CONCRETO | F20: M3 | G20: 7 | H20: 121340 | I20: =+J20*G20 -> 1107166.8 | J20: =+H20*J9 -> 158166.69
A21: 6 | B21: 2.1.2 | C21: Ref. Precio EPC | E21: DEMOLICIÓN DE PAVIMENTO FLEXIBLE (INCLUYE CORTE A MÁQUINA 2 COSTADOS) | F21: M3 | G21: 5 | H21: 110429 | I21: =+J21*G21 -> 719721.01 | J21: =+H21*J9 -> 143944.2
A22: 7 | B22: 2.1.2 | C22: Ref. Precio EPC | E22: DEMOLICIÓN CAJAS DE INSPECCIÓN | F22: UN | G22: 5 | H22: 74832 | I22: =+J22*G22 -> 487717.56 | J22: =+H22*J9 -> 97543.512
A23: 8 | B23: 2.1.4 | C23: Ref. Precio EPC | E23: DEMOLICIÓN DE PAVIMENTO RÍGIDO (INCLUYE CORTE A MÁQUINA 2 COSTADOS) | F23: M3 | G23: 5 | H23: 128491 | I23: =+J23*G23 -> 837440.09 | J23: =+H23*J9 -> 167488.02
A24: 9 | B24: 2.1.3 | C24: Ref. Precio EPC | E24: DEMOLICIÓN DE ANDENES Y SARDINELES (INCLUYE CORTE A MÁQUINA 2 COSTADOS) | F24: M3 | G24: 5 | H24: 76623 | I24: =+J24*G24 -> 499390.4 | J24: =+H24*J9 -> 99878.081
A25: 10 | B25: 2.1.4 | C25: Ref. Precio EPC | E25: DESCAPOTE MANUAL Y RETIRO E= 0.20 M APILE A 15 M | F25: M2 | G25: 20 | H25: 11042 | I25: =+J25*G25 -> 287864.94 | J25: =+H25*J9 -> 14393.247
A26: 11 | B26: 2.1.5 | C26: Ref. Precio EPC | E26: DESMONTE Y LIMPIEZA (CON RETIRO) | F26: M2 | G26: 20 | H26: 30516 | I26: =+J26*G26 -> 795552.12 | J26: =+H26*J9 -> 39777.606
A27: Subtotal | I27: =SUM(I20:I26) -> 4734853
B28: 4 | E28: EXCAVACIONES, NO INCLUYE CARGUE NI TRANSPORTE
B29: 4.1 | E29: EXCAVACIONES MANUAL EN TIERRA
A30: 12 | B30: 4.1.1 | C30: Ref. Precio EPC | E30: EXCAVACIONES MANUAL EN TIERRA DE 0 A 2 M DE PROFUNDIDAD | F30: M3 | G30: =+((G301+G299)*1.15)*0.3*0.33 -> 313.0875 | H30: 61280 | I30: =+J30*G30 -> 25008954 | J30: =+H30*J9 -> 79878.48
A31: 13 | B31: 4.1.2 | C31: Ref. Precio EPC | E31: EXCAVACIONES MANUAL EN TIERRA DE 2 A 4 M DE PROFUNDIDAD | F31: M3 | G31: 10 | H31: 54933 | I31: =+J31*G31 -> 716051.66 | J31: =+H31*J9 -> 71605.166
A32: 14 | B32: 4.1.2 | C32: Ref. Precio EPC | E32: EXCAVACIONES MANUAL EN TIERRA A PROFUNDIDADES MAYORES DE 4 M | F32: M3 | G32: 10 | H32: 70628 | I32: =+J32*G32 -> 920635.98 | J32: =+H32*J9 -> 92063.598
A33: Subtotal | I33: =SUM(I30:I32) -> 26645641
B34: 4.2 | E34: EXCAVACIONES MANUAL EN CONGLOMERADO
A35: 15 | B35: 4.2.1 | C35: Ref. Precio EPC | E35: EXCAVACIONES MANUAL EN CONGLOMERADO DE 0 A 2 M DE PROFUNDIDAD | F35: M3 | G35: 7 | H35: 71367 | I35: =+J35*G35 -> 651188.19 | J35: =+H35*J9 -> 93026.885
A36: 16 | B36: 4.2.2 | C36: Ref. Precio EPC | E36: EXCAVACIONES MANUAL EN CONGLOMERADO DE 2 A 4 M DE PROFUNDIDAD | F36: M3 | G36: 7 | H36: 61800 | I36: =+J36*G36 -> 563894.1 | J36: =+H36*$J$9 -> 80556.3
A37: 17 | B37: 4.2.3 | C37: Ref. Precio EPC | E37: EXCAVACIONES MANUAL EN CONGLOMERADO A PROFUNDIDADES MAYORES DE 4M | F37: M3 | G37: 7 | H37: 84000 | I37: =+J37*G37 -> 766458 | J37: =+H37*$J$9 -> 109494
A38: Subtotal | I38: =SUM(I35:I37) -> 1981540.3
B39: 4.3 | E39: EXCAVACIÓN MECÁNICA A CUALQUIER PROFUNDIDAD
A40: 18 | B40: 4.3.1 | C40: Ref. Precio EPC | E40: EXCAVACIÓN MECÁNICA A CUALQUIER PROFUNDIDAD | F40: M3 | G40: 14 | H40: 10185 | I40: =+J40*G40 -> 185866.07 | J40: =+H40*$J$9 -> 13276.148
A41: Subtotal | I41: =SUM(I40) -> 185866.07
B42: 4.4 | E42: EXCAVACIÓN EN ROCA
A43: 19 | B43: 4.4.1 | C43: Ref. Precio EPC | E43: EXCAVACIÓN MECÁNICA EN ROCA, EN SECO, SIN EXPLOSIVOS | F43: M3 | G43: =7*1.5 -> 10.5 | H43: 145580 | I43: =+J43*G43 -> 1992517.1 | J43: =+H43*$J$9 -> 189763.53
...

Sheet PRESUPUESTO LAS MARGARITAS
A2: Formulario 1 - Propuesta económica - Documento tipo de licitación de obra pública de agua potable y saneamiento básico | D2: ALCALDIA LOCAL DE USME REALIZAR POR EL SISTEMA DE PRECIOS UNITARIOS FIJOS SIN FORMULA DE REAJUSTE Y HASTA MONTO AGOTABLE, LA CONSERVACIÓN, Y LAS OBRAS REQUERIDAS PARA LA OPTIMIZACION Y MEJORAMIENTO DE LOS ACUEDUCTOS VEREDALES EN LA LOCALIDAD DE USME
A3: Código | B3: CCE-EICP-FM-47 | C3: 1
A4: FORMULARIO 1
A5: PRESUPUESTO OFICIAL
A8: Nº | B8: ÍTEM DE PAGO | C8: ESPECIFICACIONES | E8: DESCRIPCIÓN | F8: UND. | G8: CANTIDAD | H8: VALOR UNITARIO | I8: VALOR TOTAL | J8: VALOR UN. INC. A.I.U 29,21%
C9: GENERAL | D9: PARTICULAR | J9: 1.3035
B10: 1 | E10: OBRAS PRELIMINARES
B11: 1.1 | E11: ACTIVIDADES PRELIMINARES
A12: 1 | B12: 1.1.1 | C12: Ref. Precio EPC | E12: LOCALIZACIÓN Y REPLANTEO REDES | F12: ML | G12: 1200 | H12: 12426 | I12: =+H12*G12 -> 14911200 | J12: =+H12*J9 -> 16197.291
A13: 2 | B13: 1.1.2 | C13: Ref. Precio EPC | E13: LOCALIZACIÓN Y REPLANTEO ESTRUCTURAS | F13: M2 | G13: =5*5 -> 25 | H13: 15249 | I13: =+J13*G13 -> 496926.79 | J13: =+H13*J9 -> 19877.072
A14: 2 | B14: 1.1.3 | C14: Ref. Precio EPC | E14: MANEJO DE AGUAS EN ZANJA, CUALQUIER ANCHO. | F14: ML | G14: 15 | H14: 11382 | I14: =+J14*G14 -> 222546.56 | J14: =+H14*J9 -> 14836.437 | L14: 300 | M14: 0.3
A15: 3 | B15: 1.1.4 | C15: Ref. Precio EPC | E15: DESVIACIÓN DE CAUCE ENTRE 0 A 1 M | F15: ML | G15: 20 | H15: 48825 | I15: =+J15*G15 -> 1272867.8 | J15: =+H15*J9 -> 63643.388 | M15: =+L14*M14 -> 90
A16: 4 | B16: 1.1.5 | C16: Ref. Precio EPC | E16: DESVIACIÓN DE CAUCE ENTRE 1 A 3 M | F16: ML | G16: 10 | H16: 61031 | I16: =+J16*G16 -> 795539.09 | J16: =+H16*J9 -> 79553.909
A17: Subtotal | I17: =SUM(I12:I16) -> 17699080
B18: 2 | E18: DEMOLICIONES, DESMONTE Y DESCAPOTE
B19: 2.1 | E19: DEMOLICIONES
A20: 5 | B20: 2.1.1 | C20: Ref. Precio EPC | E20: DEMOLICIÓN DE ESTRUCTURAS EN CONCRETO | F20: M3 | G20: =7*1 -> 7 | H20: 121340 | I20: =+J20*G20 -> 1107166.8 | J20: =+H20*J9 -> 158166.69
A21: 6 | B21: 2.1.2 | C21: Ref. Precio EPC | E21: DEMOLICIÓN DE PAVIMENTO FLEXIBLE (INCLUYE CORTE A MÁQUINA 2 COSTADOS) | F21: M3 | G21: 15 | H21: 110429 | I21: =+J21*G21 -> 2159163 | J21: =+H21*J9 -> 143944.2
A22: 7 | B22: 2.1.2 | C22: Ref. Precio EPC | E22: DEMOLICIÓN CAJAS DE INSPECCIÓN | F22: UN | G22: 4 | H22: 74832 | I22: =+J22*G22 -> 390174.05 | J22: =+H22*J9 -> 97543.512
A23: 8 | B23: 2.1.4 | C23: Ref. Precio EPC | E23: DEMOLICIÓN DE PAVIMENTO RÍGIDO (INCLUYE CORTE A MÁQUINA 2 COSTADOS) | F23: M3 | G23: 15 | H23: 128491 | I23: =+J23*G23 -> 2512320.3 | J23: =+H23*J9 -> 167488.02
A24: 9 | B24: 2.1.3 | C24: Ref. Precio EPC | E24: DEMOLICIÓN DE ANDENES Y SARDINELES (INCLUYE CORTE A MÁQUINA 2 COSTADOS) | F24: M3 | G24: 10 | H24: 76623 | I24: =+J24*G24 -> 998780.81 | J24: =+H24*J9 -> 99878.081
A25: 10 | B25: 2.1.4 | C25: Ref. Precio EPC | E25: DESCAPOTE MANUAL Y RETIRO E= 0.20 M APILE A 15 M | F25: M2 | G25: 20 | H25: 11042 | I25: =+J25*G25 -> 287864.94 | J25: =+H25*J9 -> 14393.247
A26: 11 | B26: 2.1.5 | C26: Ref. Precio EPC | E26: DESMONTE Y LIMPIEZA (CON RETIRO) | F26: M2 | G26: 20 | H26: 30516 | I26: =+J26*G26 -> 795552.12 | J26: =+H26*J9 -> 39777.606
A27: Subtotal | I27: =SUM(I20:I26) -> 8251022
B28: 4 | E28: EXCAVACIONES, NO INCLUYE CARGUE NI TRANSPORTE
B29: 4.1 | E29: EXCAVACIONES MANUAL EN TIERRA
A30: 12 | B30: 4.1.1 | C30: Ref. Precio EPC | E30: EXCAVACIONES MANUAL EN TIERRA DE 0 A 2 M DE PROFUNDIDAD | F30: M3 | G30: =+G12*0.3*0.2 -> 72 | H30: 61280 | I30: =+J30*G30 -> 5751250.6 | J30: =+H30*J9 -> 79878.48
A31: 13 | B31: 4.1.2 | C31: Ref. Precio EPC | E31: EXCAVACIONES MANUAL EN TIERRA DE 2 A 4 M DE PROFUNDIDAD | F31: M3 | G31: 10 | H31: 54933 | I31: =+J31*G31 -> 716051.66 | J31: =+H31*J9 -> 71605.166
A32: 14 | B32: 4.1.2 | C32: Ref. Precio EPC | E32: EXCAVACIONES MANUAL EN TIERRA A PROFUNDIDADES MAYORES DE 4 M | F32: M3 | G32: 10 | H32: 70628 | I32: =+J32*G32 -> 920635.98 | J32: =+H32*J9 -> 92063.598
A33: Subtotal | I33: =SUM(I30:I32) -> 7387938.2
B34: 4.2 | E34: EXCAVACIONES MANUAL EN CONGLOMERADO
A35: 15 | B35: 4.2.1 | C35: Ref. Precio EPC | E35: EXCAVACIONES MANUAL EN CONGLOMERADO DE 0 A 2 M DE PROFUNDIDAD | F35: M3 | G35: 10 | H35: 71367 | I35: =+J35*G35 -> 930268.84 | J35: =+H35*J9 -> 93026.885
A36: 16 | B36: 4.2.2 | C36: Ref. Precio EPC | E36: EXCAVACIONES MANUAL EN CONGLOMERADO DE 2 A 4 M DE PROFUNDIDAD | F36: M3 | G36: 10 | H36: 61800 | I36: =+J36*G36 -> 805563 | J36: =+H36*$J$9 -> 80556.3
A37: 17 | B37: 4.2.3 | C37: Ref. Precio EPC | E37: EXCAVACIONES MANUAL EN CONGLOMERADO A PROFUNDIDADES MAYORES DE 4M | F37: M3 | G37: 10 | H37: 84000 | I37: =+J37*G37 -> 1094940 | J37: =+H37*$J$9 -> 109494
A38: Subtotal | I38: =SUM(I35:I37) -> 2830771.8
B39: 4.3 | E39: EXCAVACIÓN MECÁNICA A CUALQUIER PROFUNDIDAD
A40: 18 | B40: 4.3.1 | C40: Ref. Precio EPC | E40: EXCAVACIÓN MECÁNICA A CUALQUIER PROFUNDIDAD | F40: M3 | G40: 10 | H40: 10185 | I40: =+J40*G40 -> 132761.48 | J40: =+H40*$J$9 -> 13276.148
A41: Subtotal | I41: =SUM(I40) -> 132761.48
B42: 4.4 | E42: EXCAVACIÓN EN ROCA
A43: 19 | B43: 4.4.1 | C43: Ref. Precio EPC | E43: EXCAVACIÓN MECÁNICA EN ROCA, EN SECO, SIN EXPLOSIVOS | F43: M3 | G43: =7*1.5 -> 10.5 | H43: 145580 | I43: =+J43*G43 -> 1992517.1 | J43: =+H43*$J$9 -> 189763.53
...

Sheet PROPUESTA ECONOMICA(proponente)
A3: Formulario 1 - Propuesta económica - Documento tipo de licitación de obra pública de agua potable y saneamiento básico
A4: Código | B4: CCE-EICP-FM-47 | C4: Versión | D4: 1
A5: FORMULARIO 1
A6: PROPUESTA ECONÓMICA
A7: [La entidad puede utilizar este formulario de presentación de propuesta económica de forma detallada, sin perjuicio que la entidad pueda modificarlo o establecer la presentación de la oferta económica con un formulario distinto al indicado.] [Los proponentes emplearán el formulario establecido por la entidad para determinar su propuesta económica conforme al Formulario 1 - Presupuesto Oficial publicado por la Entidad]
A9: Cuando el proceso de contratación es estructurado por precios unitarios, la Entidad debe aplicar las notas 1, 2 y 3 del presente formato y las casillas de "Descripción", "Porcentaje" de la Administración, Imprevisto, Utilidad y total A.I.U. resaltadas en color amarillo.
A11: Nº | B11: ÍTEM DE PAGO | C11: ESPECIFICACIONES | E11: DESCRIPCIÓN | F11: UND. | G11: CANTIDAD | H11: VALOR UNITARIO | I11: VALOR TOTAL
C12: GENERAL | D12: PARTICULAR
A15: Subtotal
A21: Subtotal
A31: Subtotal
A36: Subtotal
A39: Subtotal
A40: SUBTOTAL OBRAS
E45: SUBTOTAL OBRAS (INCLUYE IVA)
E49: VALOR TOTAL
A52: NOTA 1: Se debe tener en cuenta que el PRECIO UNITARIO incluye el valor de A.I.U. | F52: DESCRIPCIÓN | I52: PORCENTAJE
A53: NOTA 2: Cuando la fracción decimal del peso sea igual o superior a 5 se aproximará por exceso al número entero siguiente del peso y cuando la fracción decimal del peso sea inferior a 5 se aproximará por defecto al número entero del peso. | F53: ADMINISTRACIÓN | H53: A=27.90% | I53: 0.279
A54: NOTA 3: El A.I.U y su discriminación deben estar en porcentaje (%). | F54: IMPREVISTO | H54: I=1% | I54: 0.01
A55: NOTA 4: Como el proceso es a monto agotable y la propuesta debe ser por precios unitarios, la la sumatoria de estos será el valor de la propuesta económica del proponente. Al momento de la adjudicación, se realizará por el valor total del presupuesto oficial establecido por la entidad contratante. | F55: UTILIDAD | H55: U=3% | I55: 0.03
F56: TOTAL A.I.U | H56: A.I.U.=31.90% | I56: =SUM(I53:I55) -> 0.319
E59: Firma del Proponente o de su Representante Legal

Sheet APU
C3: Formulario 1 - Propuesta económica - Documento tipo de licitación de obra pública de agua potable y saneamiento básico
C4: Código | D4: CCE-EICP-FM-47 | E4: Versión | F4: 1
C6: [La entidad podrá utilizar este formato, o el establecido por la entidad, para la presentación de los análisis de precios unitarios del contratista en la oportunidad prevista en el numeral 8.1. del Documento Base]
D9: [NOMBRE DE LA ENTIDAD]
L10: VERSIÓN
D11: [NÚMERO DEL PROCESO]
L12: PÁGINA | M12: 1 | N12: DE | O12: 1
D14: ANALISIS DE PRECIOS UNITARIOS
L16: FECHA | M16: DD | N16: MM | O16: AA
C18: ÍTEMS DE LA PROPUESTA ECONÓMICA | I18: ÍTEMS NO PREVISTOS
C22: DATOS ESPECÍFICOS
C24: ÍTEM | D24: DESCRIPCIÓN | M24: UNIDAD | O24: CANTIDAD
C26: I. EQUIPO
C29: DESCRIPCIÓN | H29: MARCA | J29: TIPO | L29: TARIFA/HORA | M29: RENDIMIENTO | O29: Vr. UNITARIO
C33: SUBTOTAL $
C34: II. MATERIALES
C37: DESCRIPCIÓN | K37: UNIDAD | L37: CANTIDAD | M37: PRECIO UNIT. | O37: Vr. UNITARIO
C40: SUBTOTAL $ | O40: 0
C41: III. TRANSPORTES
C44: MATERIAL | J44: VOL. o PESO | K44: DISTANCIA | L44: M3 o Ton/Km | M44: TARIFA | O44: Vr. UNITARIO
C47: SUBTOTAL $
C48: IV. MANO DE OBRA
C51: TRABAJADOR | J51: JORNAL | K51: PRESTACIONES | L51: JORNAL TOTAL | M51: RENDIMIENTO | O51: Vr. UNITARIO
C56: SUBTOTAL $
C58: TOTAL COSTO DIRECTO $
C59: V. COSTOS INDIRECTOS
C62: Descripción | L62: Porcentaje | M62: Valor Total
C63: ADMINISTRACION
C64: IMPREVISTOS
C65: UTILIDAD
C66: SUBTOTAL $
C68: Precio Unitario Total Aproximado al peso $
H72: Firma
H73: Nombre:
H74: Representante Legal del Contratista o su Apoderado
H75: Matricula No. :
C77: OBSERVACIONES INTERVENTORÍA
C81: APROBACIÓN POR INTERVENTORÍA
C82: Nota 1: Cuando se trate de Análisis de precios unitarios correspondientes a ítems de la propuesta económica aprobada, el Interventor aprueba el desglose de los componentes manteniendo el mismo precio unitario de cada ítem, cumpliendo con las especificaciones de construcción vigentes para el proyecto.
C84: Nota 2: Cuando se trate de Análisis de precios unitarios de ítems no previstos, el Interventor aprueba el desglose y precio unitario de cada ítem no previsto, exigiendo la aplicación de los costos correspondientes a insumos y tarifas de la propuesta económica inicial cuando estén contemplados, cumpliendo con las especificaciones de construcción vigente para el proyecto.
...
