Workbook
Name \0: #REF!
Name \00: #REF!
Name \a: #REF!
Name \a: #REF!
Name \a: #REF!
Name \AA: [1]LIQUIDACION!#REF!
Name \b: [116]INSUMOS!#REF!
Name \b: [116]INSUMOS!#REF!
Name \b: [2]STRSUMM0!#REF!
Name \bb: [2]STRSUMM0!#REF!
Name \E: #REF!
Name \EE: #REF!
Name \G: #REF!
Name \i: [116]INSUMOS!#REF!
Name \k: '[3]7422CW00'!#REF!
Name \l: [4]STRSUMM0!#REF!
Name \m: [116]INSUMOS!#REF!
Name \m: [116]INSUMOS!#REF!
Name \M: #REF!
Name \ñ: '[5]7422CW00'!#REF!
Name \P: #REF!
Name \r: [116]INSUMOS!#REF!
Name \r: [116]INSUMOS!#REF!
Name \R: #REF!
Name \s: #REF!
Name \s: #REF!
Name \s: #REF!
Name \t: [116]INSUMOS!#REF!
Name \V: #REF!
Name \X: FM!ERR
Name \X: INTERV!ERR
Name \X: [0]!ERR
Name \Z: FM!ERR
Name \Z: INTERV!ERR
Name \Z: [0]!ERR
Name _________AFC1: [117]INV!$A$25:$D$28
Name _________AFC1: [117]INV!$A$25:$D$28
Name _________AFC1: [6]INV!$A$25:$D$28
Name _________AFC3: [117]INV!$F$25:$I$28
Name _________AFC3: [117]INV!$F$25:$I$28
Name _________AFC3: [6]INV!$F$25:$I$28
Name _________AFC5: [117]INV!$K$25:$N$28
Name _________AFC5: [117]INV!$K$25:$N$28
Name _________AFC5: [6]INV!$K$25:$N$28
Name _________BGC1: [117]INV!$A$5:$D$8
Name _________BGC1: [117]INV!$A$5:$D$8
Name _________BGC1: [6]INV!$A$5:$D$8
Name _________BGC3: [117]INV!$F$5:$I$8
Name _________BGC3: [117]INV!$F$5:$I$8
Name _________BGC3: [6]INV!$F$5:$I$8
Name _________BGC5: [117]INV!$K$5:$N$8
Name _________BGC5: [117]INV!$K$5:$N$8
Name _________BGC5: [6]INV!$K$5:$N$8
Name _________CAC1: [117]INV!$A$19:$D$22
Name _________CAC1: [117]INV!$A$19:$D$22
Name _________CAC1: [6]INV!$A$19:$D$22
Name _________CAC3: [117]INV!$F$19:$I$22
Name _________CAC3: [117]INV!$F$19:$I$22
Name _________CAC3: [6]INV!$F$19:$I$22
Name _________CAC5: [117]INV!$K$19:$N$22

Sheet PRESUPUESTO OFICIAL OBRA
B2: DEPARTAMENTO DE ANTIOQUIA
B3: MUNICIPIO DE CAUCASIA
B4: SECRETARÍA DE INFRAESTRUCTURA
C5: PRESUPUESTO OFICIAL
C6: OBJETO:
C8: CONSTRUCCION DE PUENTES EN CONCRETO REFORZADO EN VIAS TERCIARIAS (CORREGIMIENTO EL TIGRE) DEL MUNICIPIO DE CAUCASIA DEPARTAMENTO DE ANTIOQUIA
C9: PRESUPUESTO OFICIAL DE OBRA - PLIEGOS TIPO
C11: Nº | D11: ITEM DE PAGO | E11: ESPECIFICACIONES | G11: DESCRIPCION | H11: UND. | I11: CANT. | J11: VR UNIT. | K11: VR TOTAL
E12: GENERAL | F12: PARTICULAR
C13: 1. | D13: PRELIMINARES
C14: 1.1 | E14: X | G14: Trazado y localizacion, incluye levantamiento topografico del caño, 50 metros aguas abajo y 50 metros aguas arriba. | H14: Dia | I14: 3 | J14: ='APU '!I52 -> 2497500 | K14: =I14*J14 -> 7492500
C15: 1.2 | E15: X | G15: Desmonte de puente existente, incluye retiro y dispósicion de material sobrante. | H15: M2 | I15: 60 | J15: ='APU '!I107 -> 105300 | K15: =I15*J15 -> 6318000
C16: 1.3 | E16: X | G16: Adecuacion de via provisional para paso de personas y vehiculos | H16: Ml | I16: 30 | J16: ='APU '!I160 -> 675000 | K16: =I16*J16 -> 20250000
C17: Subtotal | K17: =SUM(K14:K16) -> 34060500
C18: 2. | D18: MOVIMIENTOS DE TIERRA
C19: 2.1 | E19: X | G19: Excavacion manual de pozo para pilas y entibado con tubos de concreto de 1.10 m de diametro, no incluye tubería. | H19: Ml | I19: 48 | J19: ='APU '!I265 -> 526500 | K19: =I19*J19 -> 25272000
C20: 2.2 | E20: X | G20: Excavacion manual en terreno humedo, para cimientos de aletas y pantallas | H20: M3 | I20: 75 | J20: ='APU '!I213 -> 60750 | K20: =I20*J20 -> 4556250
C21: 2.3 | E21: X | G21: Lleno compactado con material seleccionado para terraplen de acceso | H21: M3 | I21: 263.88095 | J21: ='APU '!I475 -> 47250 | K21: =I21*J21 -> 12468375
C22: 2.4 | E22: X | G22: Suministro e instalacion de tuberia en concreto reforzado, de 1.10 mts de diametro, para pilas. | H22: Un | I22: 48 | J22: ='APU '!I1952 -> 808046.8 | K22: =I22*J22 -> 38786246
C23: Subtotal | K23: =K19+K20+K21+K22 -> 81082871
C24: 3. | D24: FUNDACIONES
C25: 3.1 | E25: X | G25: Suministro,transporte y colocacion de hierro para pilas y zapatas. | H25: Kg | I25: 2687 | J25: ='APU '!I1900 -> 10125 | K25: =I25*J25 -> 27205875
C26: 3.2 | E26: X | G26: Suministro, produccion y colocación de concreto 1:2:3 para fundicion de pilas. | H26: M3 | I26: 42 | J26: ='APU '!I582 -> 1609909.8 | K26: =I26*J26 -> 67616210
C27: Subtotal | K27: =SUM(K25:K26) -> 94822085
C28: 4. | D28: CONSTRUCCION DE ALETAS
C29: 4.1 | E29: X | G29: Suministro,transporte y colocacion de hierro para aletas | H29: Kg | I29: 276 | J29: ='APU '!I1900 -> 10125 | K29: =I29*J29 -> 2794500
C30: 4.2 | E30: X | G30: Suministro y colocación de concreto para solado e = 0,06m | H30: M3 | I30: 1 | J30: ='APU '!I528 -> 987559.76 | K30: =I30*J30 -> 987559.76
C31: 4.3 | E31: X | G31: Suministro y colocación de concreto 1:2:3 para aletas según normas. | H31: M3 | I31: 12 | J31: ='APU '!I582 -> 1609909.8 | K31: =I31*J31 -> 19318917
C32: Subtotal | K32: =SUM(K29:K31) -> 23100977
C33: 5. | D33: OBRA FALSA
C34: 5.1 | E34: X | G34: Suministro, transporte y construccion de puente en madera para obra falsa, incluye rieles, vigas y teleras. | H34: M2 | I34: 100 | J34: ='APU '!I639 -> 249750 | K34: =I34*J34 -> 24975000
C35: Subtotal | K35: =K34 -> 24975000
C36: 6. | D36: CONSTRUCCION DE VIGAS Y LOSA
C37: 6.1 | E37: X | G37: Suministro y colocación de apoyos de neopreno de 0,2*0,2*metros por 2 pulgadas. | H37: Kg | I37: 3 | J37: ='APU '!I691 -> 530727.73 | K37: =I37*J37 -> 1592183.2
C38: 6.2 | E38: X | G38: Suministro,transporte y colocacion de hierro para vigas y losa según diseño. | H38: M3 | I38: 5420 | J38: ='APU '!I1900 -> 10125 | K38: =I38*J38 -> 54877500
C39: 6.3 | E39: X | G39: Suministro y colocación de concreto 1:2:3 para vigas y losa según normas y diseños. | H39: M3 | I39: 33.2 | J39: ='APU '!I582 -> 1609909.8 | K39: =I39*J39 -> 53449004
C40: 6.4 | E40: X | G40: Suministro y colocación de concreto 1:2:3 para tapa ruedas y andenes. | H40: M3 | I40: 3.37 | J40: ='APU '!I582-2 -> 1609907.8 | K40: =I40*J40 -> 5425389.2
C41: 6.5 | E41: X | G41: Suministro y colocación de concreto 1:2:3 para tapa losa de acceso al puente | H41: ML | I41: 6 | J41: ='APU '!I582-3 -> 1609906.8 | K41: =I41*J41 -> 9659440.6
C42: 6.6 | E42: X | G42: Suministro y colocación de pasamanos en tuberia galvanizada de 2 pulgadas según diseño. | I42: 38 | J42: ='APU '!I954 -> 398250 | K42: =I42*J42 -> 15133500
C43: Subtotal | K43: =SUM(K37:K42) -> 1.4013702e+08
...

Sheet FM
B3: FACTOR MULTIPLICADOR
B7: ='OBRA + INTERVENTORIA'!B7:F7 -> CONSTRUCCION DE PUENTES EN CONCRETO REFORZADO EN VIAS TERCIARIAS (CORREGIMIENTO EL TIGRE) DEL MUNICIPIO DE CAUCASIA DEPARTAMENTO DE ANTIOQUIA | G7: MUNICIPIO: | H7: =+[113]DATOS1!C46 -> CAUCASIA
G8: DPTO: | H8: =+[113]DATOS1!C47 -> ANTIOQUIA
G9: FECHA:
G10: UNIDAD:
B11: =+'[113]PÓLIZAS INTER'!F14 -> 0
B12: COSTOS TOTALES DE INTERVENTORIA
A13: CTI | B13: COSTOS DIRECTOS DE INTERVENTORIA | G13: 26677956 | K13: =+G13*0.05 -> 1333897.8
B16: COD | C16: DESCRIPCION | H16: PORCENTAJE
B17: A | C17: NOMINA BASE DEL CALCULO | H17: 1
B19: B | C19: PRESTACIONES SOCIALES | H19: =SUM(G20:G28) -> 0.32
C20: Seguridad social SALUD (Exonerado por Ley 1607 de 2012) | G20: 0
C21: Seguridad social PENSIÓN | G21: 0.12 | K21: =SUM(G20:G21) -> 0.12
C22: Seguridad social ARL | G22: 0.05
C23: Cesantías | G23: 0.06
C24: Intereses sobre cesantías | G24: 0.01
C25: Prima anual | G25: 0.06
C26: SENA (Exonerado por Ley 1607 de 2012) | G26: 0
C27: ICBF (Exonerado por Ley 1607 de 2012) | G27: 0
C28: Vacaciones | G28: 0.02
B30: C | C30: GASTOS DIRECTOS | H30: =SUM(G32:G38) -> 0.0067471436
C31: DESCRIPCION | D31: DURACION | E31: PRECIO | F31: VALOR | G31: %
A32: DI | C32: Alquiler de oficina | D32: 0 | E32: 550000 | F32: =+E32*D32 -> 0 | G32: =+F32/$G$13 -> 0
A33: DI | C33: Alquiler Equipos de oficina (2PC + 1 impresora) | D33: 0 | E33: 200000 | F33: =+E33*D33 -> 0 | G33: =+F33/$G$13 -> 0
C34: Servicios Públicos (energia - acueducto) | D34: 0 | E34: 80000 | F34: =+E34*D34 -> 0 | G34: =+F34/$G$13 -> 0
C35: Uttiles y papeleria de oficina | D35: 3 | E35: 60000 | F35: =+E35*D35 -> 180000 | G35: =+F35/$G$13 -> 0.0067471436
C36: Dotacion personal (cada 6 meses) | D36: 0 | E36: 300000 | F36: =+E36*D36 -> 0 | G36: =+F36/$G$13 -> 0
C37: Gastos de viaje - viaticos | D37: 0 | E37: 500000 | F37: =+E37*D37 -> 0 | G37: =+F37/$G$13 -> 0
C38: Alquiler mobiliario basico | D38: 0 | E38: 500001 | F38: =+E38*D38 -> 0 | G38: =+F38/$G$13 -> 0
B41: D | C41: GASTOS GENERALES | H41: =SUM(G43:G46) -> 0.039358338
C42: DESCRIPCION | D42: DURACION | E42: PRECIO | F42: VALOR | G42: %
C43: Personal administrativo no facturado | D43: 3 | E43: 350000 | G43: =+F43/$G$13 -> 0 | M43: Estampilla tercera edad
C44: Fotocopias e impresiones | D44: 3 | E44: 100000 | F44: =+E44*D44 -> 300000 | G44: =+F44/$G$13 -> 0.011245239 | M44: Estampilla Procultura
C45: Comunicaciones (telefonía móvil e internet) | D45: 3 | E45: 250000 | F45: =+E45*D45 -> 750000 | G45: =+F45/$G$13 -> 0.028113098 | M45: Fondo local de seguridad
M46: Estampilla U de A
M47: Estampilla Prodeportes
B49: E | C49: GASTOS LEGALES, JURIDICOS Y TRIBUTARIOS | H49: =+G51 -> 0.00037484131
C50: DESCRIPCION | G50: %
C51: Poliza | F51: 10000 | G51: =+F51/G13 -> 0.00037484131 | L51: 2663346.9 | M51: =+L51/G13 -> 0.099833244
B53: F | C53: HONORARIOS | H53: =SUM(G55:G55) -> 0.12
...

Sheet INTERV
B3: PRESUPUESTO DE INTERVENTORIA
B7: ='OBRA + INTERVENTORIA'!B7:F7 -> CONSTRUCCION DE PUENTES EN CONCRETO REFORZADO EN VIAS TERCIARIAS (CORREGIMIENTO EL TIGRE) DEL MUNICIPIO DE CAUCASIA DEPARTAMENTO DE ANTIOQUIA | H7: MUNICIPIO: | I7: =+[113]DATOS1!C46 -> CAUCASIA
H8: DPTO: | I8: =+[113]DATOS1!C47 -> ANTIOQUIA
H9: FECHA:
H10: PAVIMETO
B12: COSTOS TOTALES DE INTERVENTORIA
A13: CT | B13: COSTO DEL PROYECTO | D13: 398178450
A14: DI | B14: DURACION DEL PROYECTO (MES) | D14: 3 | F14: TOTAL PROYECTO (A)
B15: I.V.A (sobre utilidad)
B16: 1. PERSONAL DE SUPERVISION Y APOYO
B17: DESCRIPCION | C17: CANTIDAD | D17: MESES | E17: PREST. (%) | F17: PERM. (%) | G17: SAL. BASICO | H17: VR. TOTAL | I17: PORCENTAJE
B18: Secretaria | C18: 1 | D18: 1 | E18: =+'[114]JORN PRES'!C34 -> 1.5758441 | F18: 0.5 | G18: 1800000 | H18: =+ROUND(C18*D18*F18*G18,2) -> 900000 | I18: =+H18/$D$13 -> 0.0022602931
B19: Ingeniero Residente | C19: 1 | D19: =+$D$14 -> 3 | E19: =+'[114]JORN PRES'!D34 -> 1.577613 | F19: 0.5 | G19: 3900000 | H19: =+ROUND(C19*D19*F19*G19,2) -> 5850000 | I19: =+H19/$D$13 -> 0.014691905
B20: Tecnologo residente | C20: 1 | D20: 3 | E20: =+[115]SALARIOS!$F$38 -> 1.6560174 | F20: 1 | G20: 2321637.2 | H20: =+ROUND(C20*D20*F20*G20,2) -> 6964911.6 | I20: =+H20/$D$13 -> 0.017491935
B21: Profesional SISO | C21: 1 | D21: 0 | E21: =+[115]SALARIOS!$G$38 -> 1.6560174 | F21: 0 | G21: 0 | H21: =+ROUND(C21*D21*F21*G21,2) -> 0 | I21: =+H21/$D$13 -> 0
B22: Topografo | C22: 1 | D22: 1 | E22: =+[115]SALARIOS!$I$38 -> 1.6560174 | F22: 0.25 | G22: =+'[113]JORN PRES'!$E$38 -> 4982250 | H22: =+ROUND(C22*D22*F22*G22,2) -> 1245562.5 | I22: =+H22/$D$13 -> 0.0031281515
L23: =H36 -> 26677956
B24: TOTAL PERSONAL DE SUPERVISION Y APOYO | H24: =SUM(H18:H23) -> 14960474 | I24: =SUM(I18:I23) -> 0.037572285 | L24: =H42 -> 26677956
B26: FACTOR MULTIPLICADOR | G26: =FM!H58 -> 1.4864803 | H26: =+H24*G26 -> 22238450 | I26: =+H26/$D$13 -> 0.055850462
B28: 2. CONTROL DE CALIDAD EN OBRA
B29: DESCRIPCION | D29: UNIDAD | E29: MESES | F29: CANTIDAD | G29: TARIFA | I29: PORCENTAJE
B30: Ensayo a compresión de cilindros | D30: UND | E30: 1 | F30: 4 | G30: 10000 | H30: =+E30*F30*G30 -> 40000 | I30: =+H30/$D$13 -> 0.00010045747
B31: Ensayo de Densidad (cono y arena) | D31: UND | E31: =+E30 -> 1 | F31: 4 | G31: 35000 | H31: =+E31*F31*G31 -> 140000 | I31: =+H31/$D$13 -> 0.00035160115
B32: TOTAL CONTROL DE CALIDAD EN OBRA | H32: =SUM(H30:H31) -> 180000 | I32: =SUM(I30:I31) -> 0.00045205862 | M32: =+I32+#REF!+#REF!+#REF! -> #REF!
B34: SUBTOTAL COSTOS DE INTERVENTORIA | H34: =+H26+H32 -> 22418450 | I34: =+H34/$D$13 -> 0.056302521 | L34: =+I32+#REF!+I26 -> #REF!
B35: IVA (19%) | G35: 0.19 | H35: =+H34*G35 -> 4259505.6 | I35: =+H35/$D$13 -> 0.010697479
A36: CTI | B36: TOTAL COSTOS DE INTERVENTORIA | H36: =+H35+H34 -> 26677956 | I36: =+H36/$D$13 -> 0.066999999 | L36: 2.6417122e+08
H42: ='OBRA + INTERVENTORIA'!F54 -> 26677956

Sheet OBRA + INTERVENTORIA
B1: =[111]PRESUPUESTO!$B$1 -> DEPARTAMENTO DE ANTIOQUIA MUNICIPIO DE CAUCASIA NIT: 890906445 - 2 | D1: Código: D-A- A4-01
D2: Versión: 2
D3: Fecha de Aprobación 29 de Diciembre de 2017
A4: SECRETARIA DE INFRAESTRUCTURA
A5: PRESUPUESTO DE OBRA
A7: OBJETO: | B7: CONSTRUCCION DE PUENTES EN CONCRETO REFORZADO EN VIAS TERCIARIAS (CORREGIMIENTO EL TIGRE) DEL MUNICIPIO DE CAUCASIA DEPARTAMENTO DE ANTIOQUIA
A9: PUENTE SOBRE LA QUEBRADA "EL TIGRE"
A11: ITEMS | B11: DESCRIPCION | C11: UND. | D11: CANT. | E11: VR. UNITARIO | F11: VR. TOTAL
A12: 1 | B12: PRELIMINARES
A13: 1.1 | B13: Trazado y localizacion, incluye levantamiento topografico del caño, 50 metros aguas abajo y 50 metros aguas arriba. | C13: Dia | D13: 3 | E13: ='APU '!I42 -> 1850000 | F13: =D13*E13 -> 5550000
A14: 1.2 | B14: Desmonte de puente existente, incluye retiro y dispósicion de material sobrante. | C14: M2 | D14: 60 | E14: ='APU '!I97 -> 78000 | F14: =D14*E14 -> 4680000
A15: 1.3 | B15: Adecuacion de via provisional para paso de personas y vehiculos | C15: Ml | D15: 30 | E15: ='APU '!I150 -> 500000 | F15: =D15*E15 -> 15000000
B16: SUBTOTAL | F16: =SUM(F13:F15) -> 25230000 | G16: =F16*1.35 -> 34060500
A18: 2 | B18: MOVIMIENTO DE TIERRA
A19: 2.1 | B19: Excavacion manual de pozo para pilas y entibado con tubos de concreto de 1.10 m de diametro, no incluye tubería. | C19: Ml | D19: 48 | E19: ='APU '!I255 -> 390000 | F19: =D19*E19 -> 18720000
A20: 2.2 | B20: Excavacion manual en terreno humedo, para cimientos de aletas y pantallas | C20: M3 | D20: 75 | E20: ='APU '!I203 -> 45000 | F20: =D20*E20 -> 3375000
A21: 2.3 | B21: Lleno compactado con material seleccionado para terraplen de acceso | C21: M3 | D21: 263.88095 | E21: ='APU '!I465 -> 35000 | F21: =D21*E21 -> 9235833.1
A22: 2.4 | B22: Suministro e instalacion de tuberia en concreto reforzado, de 1.10 mts de diametro, para pilas. | C22: Un | D22: 48 | E22: ='APU '!I1942 -> 598552.8 | F22: =D22*E22 -> 28730534
B23: SUBTOTAL | F23: =SUM(F19:F22) -> 60061367 | G23: =F23*1.35 -> 81082846
A25: 3 | B25: FUNDACIONES
A26: 3.1 | B26: Suministro,transporte y colocacion de hierro para pilas y zapatas. | C26: Kg | D26: 2687 | E26: 7500 | F26: =D26*E26 -> 20152500
A27: 3.2 | B27: Suministro, produccion y colocación de concreto 1:2:3 para fundicion de pilas. | C27: M3 | D27: 42 | E27: ='APU '!I572 -> 1192525.8 | F27: =D27*E27 -> 50086082
B28: SUBTOTAL | F28: =SUM(F26:F27) -> 70238582 | G28: =F28*1.35 -> 94822085
A30: 4 | B30: CONSTRUCCION DE ALETAS
A31: 4.1 | B31: Suministro,transporte y colocacion de hierro para aletas | C31: Kg | D31: 276 | E31: 7500 | F31: =D31*E31 -> 2070000
A32: 4.2 | B32: Suministro y colocación de concreto para solado e = 0,06m | C32: M3 | D32: 1 | E32: ='APU '!I518 -> 731525.75 | F32: =D32*E32 -> 731525.75
A33: 4.3 | B33: Suministro y colocación de concreto 1:2:3 para aletas según normas. | C33: M3 | D33: 12 | E33: ='APU '!I572 -> 1192525.8 | F33: =D33*E33 -> 14310309
B34: SUBTOTAL | F34: =SUM(F31:F33) -> 17111835 | G34: =F34*1.35 -> 23100977
A36: 5 | B36: OBRA FALSA
A37: 5.1 | B37: Suministro, transporte y construccion de puente en madera para obra falsa, incluye rieles, vigas y teleras. | C37: M2 | D37: 100 | E37: ='APU '!I629 -> 185000 | F37: =D37*E37 -> 18500000
B38: SUBTOTAL | F38: =F37 -> 18500000 | G38: =F38*1.35 -> 24975000
A40: 6 | B40: CONSTRUCCION DE VIGAS Y LOSA
A41: 6.1 | B41: Suministro y colocación de apoyos de neopreno de 0,2*0,2*metros por 2 pulgadas. | C41: M2 | D41: 3 | E41: ='APU '!I681 -> 393131.65 | F41: =D41*E41 -> 1179395
A42: 6.2 | B42: Suministro,transporte y colocacion de hierro para vigas y losa según diseño. | C42: Kg | D42: 5420 | E42: ='APU '!I1890 -> 7500 | F42: =D42*E42 -> 40650000
A43: 6.3 | B43: Suministro y colocación de concreto 1:2:3 para vigas y losa según normas y diseños. | C43: M3 | D43: 33.2 | E43: ='APU '!I572 -> 1192525.8 | F43: =D43*E43 -> 39591855
A44: 6.4 | B44: Suministro y colocación de concreto 1:2:3 para tapa ruedas y andenes. | C44: M3 | D44: 3.37 | E44: ='APU '!I572 -> 1192525.8 | F44: =D44*E44 -> 4018811.8
A45: 6.5 | B45: Suministro y colocación de concreto 1:2:3 para tapa losa de acceso al puente | C45: M3 | D45: 6 | E45: ='APU '!I572 -> 1192525.8 | F45: =D45*E45 -> 7155154.5
A46: 6.6 | B46: Suministro y colocación de pasamanos en tuberia galvanizada de 2 pulgadas según diseño. | C46: ML | D46: 38 | E46: ='APU '!I944 -> 295000 | F46: =D46*E46 -> 11210000
B47: SUBTOTAL | F47: =SUM(F41:F46) -> 1.0380522e+08
B49: COSTO DIRECTO | F49: =F16+F23+F28+F34+F38+F47 -> 2.94947e+08
...

Sheet APU 
A1: DEPARTAMENTO DE ANTIOQUIA MUNICIPIO DE CAUCASIA | F1: ANALISIS DE PRECIOS UNITARIOS
A5: OBJETO : | C5: CONSTRUCCION DE PUENTES EN CONCRETO REFORZADO EN VIAS TERCIARIAS (CORREGIMIENTO EL TIGRE) DEL MUNICIPIO DE CAUCASIA DEPARTAMENTO DE ANTIOQUIA
A7: ITEM: | C7: ='OBRA + INTERVENTORIA'!B13 -> Trazado y localizacion, incluye levantamiento topografico del caño, 50 metros aguas abajo y 50 metros aguas arriba.
A8: 1.1
H9: UNIDAD: | I9: DIA
A11: I. EQUIPO
A12: DESCRIPCIÓN | F12: CANT | G12: Vr. / DIA | H12: REND. | I12: V-UNIT.
A13: Herramienta menor | I13: =I40*5% -> 45183.8
A14: Equipo de topografia (estacion y nivel de precicion) | F14: 1 | G14: 350000 | H14: 0.4 | I14: =G14/H14 -> 875000
H18: SUB-TOTAL | I18: =SUM(I13:I17) -> 920183.8
A20: II. MATERIALES EN OBRA
A21: DESCRIPCIÓN | F21: UN. | G21: P-UNIT. | H21: CANT. | I21: V-UNIT.
A22: concreto 1:3:5 | F22: M3 | G22: =[112]APA!I204 -> 450000 | H22: 0.003 | I22: =G22*H22 -> 1350
A23: Estacas y puntillas | F23: Global | G23: 937.5 | H23: 1 | I23: =G23*H23 -> 937.5
H28: SUB-TOTAL | I28: =SUM(I22:I27) -> 2287.5
A30: III. TRANSPORTES
A31: MATERIAL | E31: Vol (M3) | F31: DIST. | G31: M3-KM | H31: TARIFA | I31: V-UNIT.
A32: Transporte local de los materiales | I32: 23852.7
H34: SUB-TOTAL | I34: =I32 -> 23852.7
A36: IV. MANO DE OBRA
A37: PERSONAL | F37: Jornal más Prestac. | H37: REND. | I37: V-UNIT.
A38: ='Mano de Obra'!B18 -> CUADRILLA 7 | F38: ='Mano de Obra'!D18 -> 316286.5 | H38: 0.35 | I38: =ROUND(F38/H38,0) -> 903676
H40: SUB-TOTAL | I40: =SUM(I38:I39) -> 903676
F42: TOTAL COSTO DIRECTO | I42: =+I40+I34+I28+I18 -> 1850000 | J42: =I42*1.35 -> 2497500
A44: V. COSTOS INDIRECTOS
A45: DESCRIPCIÓN | H45: % | I45: V-TOTAL
A46: Administración | H46: 28 | I46: =I42*0.28 -> 518000
A47: Imprevistos | H47: 0 | I47: 0
A48: Utilidad | H48: 7 | I48: =I42*7% -> 129500
H50: SUB-TOTAL | I50: =SUM(I46:I49) -> 647500
H52: TOTAL | I52: =I42+I50 -> 2497500
A56: DEPARTAMENTO DE ANTIOQUIA MUNICIPIO DE CAUCASIA | F56: ANALISIS DE PRECIOS UNITARIOS
A60: OBJETO : | C60: =C5 -> CONSTRUCCION DE PUENTES EN CONCRETO REFORZADO EN VIAS TERCIARIAS (CORREGIMIENTO EL TIGRE) DEL MUNICIPIO DE CAUCASIA DEPARTAMENTO DE ANTIOQUIA
A62: ITEM: | C62: ='OBRA + INTERVENTORIA'!B14 -> Desmonte de puente existente, incluye retiro y dispósicion de material sobrante.
A63: ='OBRA + INTERVENTORIA'!A14 -> 1.2
H64: UNIDAD: | I64: M2
A66: I. EQUIPO
A67: DESCRIPCIÓN | F67: CANT | G67: Vr. / DIA | H67: REND. | I67: V-UNIT.
A68: Herramienta menor | I68: =I95*5% -> 3598.8
I69: =G69*H69 -> 0
...

Sheet Mano de Obra
A1: DEPARTAMENTO DE ANTIOQUIA
A2: MUNICIPIO DE CAUCASIA
A3: SECRETARIA DE INFRAESTRUCTURA
A6: CONSTRUCCION DE PUENTES EN CONCRETO REFORZADO EN VIAS TERCIARIAS (CORREGIMIENTO EL TIGRE) DEL MUNICIPIO DE CAUCASIA DEPARTAMENTO DE ANTIOQUIA
A8: CUADRO DE SALARIOS OFICIAL
A11: DESCRIPCION | B11: CUADRILLAS | C11: COSTO DIRECTO | D11: COSTO + PRESTACIONES
A12: 1 AYUDANTE | B12: CUADRILLA 1 | C12: =B30*1 -> 47450 | D12: =+C12*1.565 -> 74259.25
A13: 2 AYUDANTES | B13: CUADRILLA 2 | C13: =B30*2 -> 94900 | D13: =+C13*1.565 -> 148518.5
A14: 1 OFICIAL + 1 AYUDANTE | B14: CUADRILLA 3 | C14: =(B22+(B30*1)) -> 158050 | D14: =+C14*1.565 -> 247348.25
A15: 1 OFICIAL + 2 AYUDANTES | B15: CUADRILLA 4 | C15: =(B22+(B30*2)) -> 205500 | D15: =+C15*1.565 -> 321607.5
A16: 1 OFICIAL + 3 AYUDANTES | B16: CUADRILLA 5 | C16: =(B22+(B30*3)) -> 252950 | D16: =+C16*1.565 -> 395866.75
A17: 1 OFICIAL + 6 AYUDANTES | B17: CUADRILLA 6 | C17: =(B22+(B30*6)) -> 395300 | D17: =+C17*1.565 -> 618644.5
A18: 1TOPOGRAFO + 1CADENERO I + 1 CADENERO II | B18: CUADRILLA 7 | C18: =(B26+B27+B28) -> 202100 | D18: =+C18*1.565 -> 316286.5
A19: 1 OFICIAL (SOLDADOR) + 3 AYUDANTES | B19: CUADRILLA 8 | C19: =(B33+(B29*3)) -> 292300 | D19: =C19*1.565 -> 457449.5
A21: DESCRIPCION | B21: SALARIO BASICO (DIA) | C21: % PREST. | D21: SALARIO (MES)
A22: OFICIAL OBRA GRIS | B22: =70000*1.58 -> 110600 | C22: 0.565 | D22: =(B22*30)*1.565 -> 5192670
A23: OFICIAL OBRA BLANCA | B23: =80000*1.58 -> 126400 | C23: 0.565 | D23: =(B23*30)*1.565 -> 5934480
A24: OFICIAL PLOMERIA | B24: =60000*1.58 -> 94800 | C24: 0.565 | D24: =(B24*30)*1.565 -> 4450860
A25: OFICIAL ELECTRICO | B25: =60000*1.58 -> 94800 | C25: 0.565 | D25: =(B25*30)*1.565 -> 4450860
A26: TOPOGRAFO 1 | B26: =60000*1.58 -> 94800 | C26: 0.565 | D26: =(B26*30)*1.565 -> 4450860
A27: CADENERO 1 | B27: =35000*1.58 -> 55300 | C27: 0.565 | D27: =(B27*30)*1.565 -> 2596335
A28: CADENERO 2 | B28: 52000 | C28: 0.565 | D28: =(B28*30)*1.565 -> 2441400
A29: AYUDANTE ENTENDIDO | B29: =35000*1.58 -> 55300 | C29: 0.565 | D29: =(B29*30)*1.565 -> 2596335
A30: AYUDANTE RASO | B30: 47450 | C30: 0.565 | D30: =(B30*30)*1.565 -> 2227777.5
A31: TECNOLOGO CIVIL | B31: =95000*1.58 -> 150100 | C31: 0.565 | D31: =(B31*30)*1.565 -> 7047195
A32: INGENIERO CIVIL | B32: =100000+1.58 -> 100001.58 | C32: 0.565 | D32: =(B32*30)*1.565 -> 4695074.2
A33: OFICIAL SOLDADOR | B33: =80000*1.58 -> 126400 | C33: 0.565 | D33: =(B33*30)*1.565 -> 5934480
A40: MANUEL ANGEL MUÑOZ PEREZ
A41: Director de Obras
A42: Secretaria de Infraestructura

Sheet AIU 
A1: DEPARTAMENTO DE ANTIOQUIA
A2: MUNICIPIO DE CAUCASIA
A3: SECRETARIA DE INFRAESTRUCTURA
A5: CONSTRUCCION DE PUENTES EN CONCRETO REFORZADO EN VIAS TERCIARIAS (CORREGIMIENTO EL TIGRE) DEL MUNICIPIO DE CAUCASIA DEPARTAMENTO DE ANTIOQUIA
A7: DESGLOSE DE LA ADMINISTRACION, IMPREVISTOS Y UTILIDADES - A.I.U.
A8: OFICIAL
G9: VALOR COSTO DIRECTO : | J9: ='OBRA + INTERVENTORIA'!F49 -> 2.94947e+08
B10: DESCRIPCION | D10: No | E10: TIEMPO | F10: SALARIO | G10: P.S. | H10: TOTAL | I10: TOTAL | J10: %
E11: (Meses) | H11: SALARIO
A12: 1 | B12: GASTOS GENERALES DE LA FIRMA | I12: =SUM(I13:I13) -> 589894 | J12: =I12/J9 -> 0.002
B13: Informes, papelería, fotografías | I13: =J9*0.2/100 -> 589894
A14: 2 | B14: PERSONAL DE DIRECCION Y ADMINISTRACION | I14: =SUM(H15:H17) -> 35447250 | J14: =I14/J9 -> 0.12018176
B15: Ingeniero Residente | D15: 1 | E15: 3 | F15: 3200000 | G15: 1.565 | H15: =F15*G15*E15*D15 -> 15024000
B16: Secretaria | D16: 1 | E16: 3 | F16: 1850000 | G16: 1.565 | H16: =F16*G16*E16*D16 -> 8685750
B17: Tecnologo Residente | D17: 1 | E17: 3 | F17: 2500000 | G17: 1.565 | H17: =F17*G17*E17*D17 -> 11737500
A18: 3 | B18: TRANSPORTE DE PERSONAL Y EQUIPOS EN GENERAL | I18: =SUM(I19:I19) -> 884841 | J18: =I18/J9 -> 0.003
B19: Transporte | I19: =J9*0.3/100 -> 884841
A20: 4 | B20: SERVICIOS GENERALES, VIGILANCIA, CONSERVACION Y MANTENIMIENTO | I20: =SUM(H21:H22) -> 8685750 | J20: =I20/J9 -> 0.029448511
B21: Celador | D21: 1 | E21: 3 | F21: 1850000 | G21: =G17 -> 1.565 | H21: =D21*E21*F21*G21 -> 8685750
A23: 5 | B23: MOVILIZACION E INSTALACIONES PROVISIONALES | I23: =H24+H25 -> 0 | J23: =I23/J9 -> 0
B24: Campamento | D24: 0 | E24: 0 | F24: 0 | G24: 0 | H24: =E24*F24*G24 -> 0 | I24: =J9*0/100 -> 0
B25: Vehiculo | D25: 0 | E25: 0 | F25: 0 | G25: 0 | H25: =E25*F25*G25 -> 0 | I25: =J9*0/100 -> 0
A26: 6 | B26: SEGURIDAD INDUSTRIAL Y TIEMPO DE INACTIVIDAD | I26: =+I27 -> 58989.4 | J26: =I26/J9 -> 0.0002
B27: Seguridad industrial | I27: =J9*0.02/100 -> 58989.4
A29: 7 | B29: GARANTIAS Y SEGUROS | I29: =SUM(I30:I30) -> 2359576 | J29: =I29/J9 -> 0.008
B30: Poliza Unica de cumplimiento | I30: =J9*0.008 -> 2359576
A33: 9 | B33: IMPUESTOS, CONTRIBUCIONES Y TRANSFERENCIAS | I33: =SUM(I34:I38) -> 34508799 | J33: =I33/J9 -> 0.117
B34: Estampilla procultura | I34: =$J$9*1.5/100 -> 4424205
B35: Estampilla tercera edad | I35: =$J$9*4/100 -> 11797880
B36: Estampilla U. de A. | I36: =$J$9*1.2/100 -> 3539364
B37: Industria y comercio | I37: =$J$9*0/100 -> 0
B38: IMPUESTO DE SEGURIDAD | I38: =J9*0.05 -> 14747350
B39: SUBTOTAL ADMINISTRACION | J39: =+J33+J29+J26+J23+J20+J18+J14+J12 -> 0.27983027
B40: IMPREVISTOS | J40: 0
B41: UTILIDAD DEL CONTRATISTA | J41: 0.07
B42: TOTAL ADMINISTRACION, IMPREVISTOS Y UTILIDAD : | J42: =SUM(J39:J41) -> 0.34983027
B44: ADMINISTRACION | D44: =J39 -> 0.27983027
B45: IMPREVISTOS | D45: =J40 -> 0
B46: UTILIDAD | D46: =J41 -> 0.07
B51: MANUEL ANGEL MUÑOZ PEREZ
...

Sheet PROGRAMACION
A1: DEPARTAMENTO DE ANTIOQUIA
A2: MUNICIPIO DE CAUCASIA
A3: SECRETARIA DE INFRAESTRUCTURA
A6: CRONOGRAMA DE ACTIVIDADES Y FLUJO DE FONDOS OFICAL
A7: CONSTRUCCION DE PUENTES EN CONCRETO REFORZADO EN VIAS TERCIARIAS (CORREGIMIENTO EL TIGRE) DEL MUNICIPIO DE CAUCASIA DEPARTAMENTO DE ANTIOQUIA
A8: ITEM | B8: ACTIVIDAD | C8: SEMANA 1 | J8: SEMANA 2 | X8: SEMANA 3 | AE8: SEMANA 4 | AL8: SEMANA 5 | AM8: SEMANA 6 | AN8: SEMANA 7 | AO8: SEMANA 8 | AP8: SEMANA 9 | AQ8: SEMANA 10 | AR8: SEMANA 11 | AS8: SEMANA 12
C11: ='OBRA + INTERVENTORIA'!F16 -> 25230000
A12: 1 | B12: PRELIMINARES
C13: ='OBRA + INTERVENTORIA'!F23/3 -> 20020456 | J13: =C13 -> 20020456 | X13: =C13 -> 20020456
A14: 2 | B14: MOVIMIENTO DE TIERRA
J15: ='OBRA + INTERVENTORIA'!F28/5 -> 14047716 | X15: =J15 -> 14047716 | AE15: =J15 -> 14047716 | AL15: =J15 -> 14047716 | AM15: =J15 -> 14047716
A16: 3 | B16: FUNDACIONES
AL17: ='OBRA + INTERVENTORIA'!F34/5 -> 3422367 | AM17: =AL17 -> 3422367 | AN17: =AL17 -> 3422367 | AO17: =AL17 -> 3422367 | AP17: =AL17 -> 3422367
A18: 4 | B18: CONSTRUCCION DE ALETAS
AM19: ='OBRA + INTERVENTORIA'!F38/3 -> 6166666.7 | AN19: =AM19 -> 6166666.7 | AO19: =AM19 -> 6166666.7
A20: 5 | B20: OBRA FALSA
AP21: ='OBRA + INTERVENTORIA'!F47/4 -> 25951304 | AQ21: =AP21 -> 25951304 | AR21: =AP21 -> 25951304 | AS21: =AP21 -> 25951304
A22: 6 | B22: CONSTRUCCION DE VIGAS Y LOSA
B34: FLUJO DE FONDOS | C34: SEMANA 1 | J34: SEMANA 2 | X34: SEMANA 3 | AE34: SEMANA 4 | AL34: SEMANA 5 | AM34: SEMANA 6
A35: PROGRAMADO | C35: =C11+C13 -> 45250456 | J35: =J13+J15 -> 34068172 | X35: =X13+X15 -> 34068172 | AE35: =AE15 -> 14047716 | AL35: =AL15+AL17 -> 17470083 | AM35: =AM15+AM17+AM19 -> 23636750 | AN35: =AN17+AN19 -> 9589033.6 | AO35: =AO17+AO19 -> 9589033.6 | AP35: =AP17+AP21 -> 29373671 | AQ35: =AQ21 -> 25951304 | AR35: =AR21 -> 25951304 | AS35: =AS21 -> 25951304
A36: ACUMULADO | C36: =C35 -> 45250456 | J36: =C36+J35 -> 79318628 | X36: =J36+X35 -> 1.133868e+08 | AE36: =X36+AE35 -> 1.2743452e+08 | AL36: =AE36+AL35 -> 1.449046e+08 | AM36: =AL36+AM35 -> 1.6854135e+08 | AN36: =AM36+AN35 -> 1.7813038e+08 | AO36: =AN36+AO35 -> 1.8771942e+08 | AP36: =AO36+AP35 -> 2.1709309e+08 | AQ36: =AP36+AQ35 -> 2.4304439e+08 | AR36: =AQ36+AR35 -> 2.689957e+08 | AS36: =AR36+AS35 -> 2.94947e+08
A37: SUB TOTAL OBRA ( Acumulado ) | C37: =AS36 -> 2.94947e+08
A38: AIU ( 35 % ) | C38: =C37*35% -> 1.0323145e+08
A39: TOTAL OBRA | C39: =C37+C38 -> 3.9817845e+08
B45: MANUEL ANGEL MUÑOZ PEREZ
B46: Director de Obras

Sheet APA
A1: DEPARTAMENTO DE ANTIOQUIA MUNICIPIO DE CAUCASIA | F1: ANALISIS DE PRECIOS UNITARIOS
A5: OBJETO : | B5: ='OBRA + INTERVENTORIA'!B7:F7 -> CONSTRUCCION DE PUENTES EN CONCRETO REFORZADO EN VIAS TERCIARIAS (CORREGIMIENTO EL TIGRE) DEL MUNICIPIO DE CAUCASIA DEPARTAMENTO DE ANTIOQUIA
A7: ITEM: | C7: APA PREPARACION DE CONCRETO
H9: UNIDAD: | I9: M3
A10: I. EQUIPO
A11: DESCRIPCIÓN | F11: CANT | G11: Vr. / DIA | H11: REND. | I11: V-UNIT.
A12: Hta menor | I12: =ROUND(I38*0.05,)+23 -> 10334
A13: Concretadora | F13: 1 | G13: 150000 | H13: =H35 -> 3 | I13: =+ROUND((F13*G13)/H13,0) -> 50000
A14: Coche | F14: 2 | G14: 15000 | H14: =H35 -> 3 | I14: =ROUND(F14*G14/H14,) -> 10000
H17: SUB-TOTAL | I17: =ROUND(SUM(I12:I16),0) -> 70334
A18: II. MATERIALES EN OBRA
A19: DESCRIPCIÓN | F19: UN. | G19: P-UNIT. | H19: CANT. | I19: V-UNIT.
A20: Cemento gris | F20: Saco | G20: 45000 | H20: 8.5 | I20: =ROUND(H20*G20,) -> 382500
A21: Material mixto | F21: M3 | G21: 80000 | H21: 1.85 | I21: =ROUND(H21*G21,) -> 148000
A22: Agua | F22: Lt | G22: 50 | H22: 150 | I22: =ROUND(H22*G22,) -> 7500
H26: SUB-TOTAL | I26: =SUM(I20:I25) -> 538000
A27: III. TRANSPORTES EN OBRA
A28: MATERIAL | E28: Vol (M3) | F28: DIST. | G28: (M3-KM)/TON | H28: TARIFA | I28: V-UNIT.
A29: =+A21 -> Material mixto | E29: 1.1 | F29: 50 | G29: =E29*F29 -> 55 | H29: 1100 | I29: =+H29*G29 -> 60500
H32: SUB-TOTAL | I32: =SUM(I29:I31) -> 60500
A33: IV. MANO DE OBRA
A34: PERSONAL | F34: JORNAL MAS PRESTAC. | H34: REND. | I34: V-UNIT.
A35: ='Mano de Obra'!B17 -> CUADRILLA 6 | F35: ='Mano de Obra'!D17 -> 618644.5 | H35: 3 | I35: =ROUND(F35/H35,) -> 206215
H38: SUB-TOTAL | I38: =SUM(I35:I37) -> 206215
F40: TOTAL COSTO DIRECTO | I40: =+I38+I32+I26+I17 -> 875049 | J40: 1250000 | L40: =I40-J40 -> -374951
A41: V. COSTOS INDIRECTOS
A42: DESCRIPCIÓN | H42: % | I42: V-TOTAL
A43: Administración | H43: 0 | I43: =I40*H43/100 -> 0
A44: Utilidad | H44: 0 | I44: =I40*H44/100 -> 0
A45: Imprevistos | H45: 0 | I45: =I40*H45/100 -> 0
H46: SUB-TOTAL | I46: =SUM(I43:I45) -> 0
H48: TOTAL | I48: =I40+I46 -> 875049
