Workbook
Name \b: #REF!
Name \b: #REF!
Name \b: #REF!
Name \b: #REF!
Name \i: #REF!
Name \i: #REF!
Name \i: #REF!
Name \m: #REF!
Name \m: #REF!
Name \m: #REF!
Name \r: #REF!
Name \r: #REF!
Name \r: #REF!
Name \t: #REF!
Name \t: #REF!
Name \t: #REF!
Name \x: #REF!
Name \x: #REF!
Name a: #REF!
Name AHER: #REF!
Name AHER: #REF!
Name AMAT: #REF!
Name AMAT: #REF!
Name ANA: #REF!
Name ANA: #REF!
Name ANGULO: #REF!
Name ANGULO: #REF!
Name ap: #REF!
Name APER: #REF!
Name APER: #REF!
Name ATRS: #REF!
Name ATRS: #REF!
Name BORDE1: #N/A
Name CANTDS: #REF!,#REF!,#REF!,#REF!
Name CNT_M: #REF!
Name Criterios_IM: #REF!
Name Criterios_IM: #REF!
Name Criterios_IM: #REF!
Name Criterios_IM: #REF!
Name ET_DSC: #REF!
Name ET_IMO: #REF!
Name ET_IND: #REF!
Name inf: #REF!
Name inf: #REF!
Name INSUMOS: #N/A
Name mkj: #REF!
Name mkj: #REF!
Name mkj: #REF!
Name o: #REF!
Name op: #REF!
Name Prov: #REF!
Name Prov: #REF!
Name UNDS: #REF!

Sheet APIU
A2: APIU
C3: COSTO DIRECTO DE OBRA (CD) | D3: 5.0601956e+09
C4: TERMINO DE EJECUCIÓN DE OBRA ( MESES ) | D4: 7 | E4: MESES
C5: EMPLEOS DIRECTOS GENERADOS | D5: =SUM(A12:B24) -> 13
A7: A. ADMINISTRACIÓN
A9: CANTIDAD | C9: DESCRIPCION DEL CARGO | D9: DEDICACIÓN MES | E9: SALARIO MENSUAL | F9: FACTOR PRESTACIONAL | G9: PLAZO CONSTRUCCION | H9: CANTIDAD DE PERSONAL / DEDICACION/SALARIO / PLAZO/FACTOR PRESTACIONAL | J9: 1
A10: A | D10: C | E10: D | F10: E | G10: D | H10: F = A * B * C * D * E
A11: 1.1 PERSONAL PROFESIONAL Y ESPECIALISTAS
A12: 1 | C12: Director de Obra | D12: 0.7 | E12: 5935000 | F12: 1.6 | G12: =$D$4 -> 7 | H12: =ROUND(+D12*E12*G12*F12*A12,0) -> 46530400 | J12: 4000000
A13: 2 | C13: Residente de Obra | D13: 1 | E13: 4510000 | F13: 1.6 | G13: =$D$4 -> 7 | H13: =ROUND(+D13*E13*G13*F13*A13,0) -> 101024000 | J13: 3500000
A14: 2 | C14: Ingeniero forestal | D14: 0.6 | E14: 4510000 | F14: 1.6 | G14: =$D$4 -> 7 | H14: =ROUND(+D14*E14*G14*F14*A14,0) -> 60614400
A15: 1 | C15: Ingeniero Ambiental | D15: 0.9 | E15: =+'FAC. PRES_OBRA'!D44 -> 4501107 | F15: =+F16 -> 1.6 | G15: =$D$4 -> 7 | H15: =ROUND(+D15*E15*G15*F15*A15,0) -> 45371159
A16: 1 | C16: Profesional SG-SST | D16: 0.5 | E16: =+'FAC. PRES_OBRA'!D52 -> 4501107 | F16: =+F13 -> 1.6 | G16: =$D$4 -> 7 | H16: =ROUND(+D16*E16*G16*F16*A16,0) -> 25206199 | J16: 1500000
A17: 1 | C17: Trabajador social | D17: 0.5 | E17: =+'FAC. PRES_OBRA'!D53 -> 4501107 | F17: =+F14 -> 1.6 | G17: =$D$4 -> 7 | H17: =ROUND(+D17*E17*G17*F17*A17,0) -> 25206199
A18: 3 | C18: Tecnico II | D18: 0.9 | E18: 2730000 | F18: 1.6 | G18: =$D$4 -> 7 | H18: =ROUND(+D18*E18*G18*F18*A18,0) -> 82555200
A21: 1.2 PERSONAL ADMINISTRATIVO
A22: 1 | C22: Secretaria | D22: 0.8 | E22: 2730000 | F22: 1.4 | G22: =$D$4 -> 7 | H22: =ROUND(+D22*E22*G22*F22,0)*A22 -> 21403200
A23: 1 | C23: Conductor | D23: 0.8 | E23: 2439000 | F23: 1.75 | G23: =$D$4 -> 7 | H23: =ROUND(+D23*E23*G23*F23,0)*A23 -> 23902200
H24: =SUM(H12:H23) -> 431812957
A26: 2. GASTOS OPERACIONALES
A27: CAMPAMENTO
A28: DESCRIPCION | D28: AREA (M2) | E28: COSTO ($/M2.MES) | F28: COSTO MES | G28: DURACION MESES | H28: VALOR ($)
A29: Campamento de obra para depósito de materiales, equipos, personal, exclusivo para obra, | D29: 70 | E29: 9000 | F29: =D29*E29 -> 630000 | G29: =$D$4 -> 7 | H29: =(+F29*G29) -> 4410000 | J29: 1500
A30: Campamento oficina para personal y atención al público, incluye servicios públicos provisionales | D30: 60 | E30: 30000 | F30: =D30*E30 -> 1800000 | G30: =$D$4 -> 7 | H30: =(+F30*G30) -> 12600000
A31: OTROS GASTOS
A32: DESCRIPCION | D32: CANTIDAD | E32: COSTO MES | F32: CANTIDAD/ DEDICACION | G32: DURACION MESES | H32: VALOR ($)
A33: Mantenimientos, Equipos, Herramientas | D33: 1 | E33: 350000 | F33: 1 | G33: =$D$4 -> 7 | H33: =+F33*G33*E33*D33 -> 2450000 | J33: 500000
A34: Registro Fotografico, Videos, Informes | D34: 1 | E34: 100000 | F34: 1 | G34: =$D$4 -> 7 | H34: =+F34*G34*E34*D34 -> 700000 | J34: 500000
A35: Gastos de mobiliario, papelería, fotocopias, etc | D35: 1 | E35: 300000 | F35: 1 | G35: =$D$4 -> 7 | H35: =+F35*G35*E35*D35 -> 2100000 | J35: 500000
A36: Vehiculo Campero 4x4 min 2000cc | D36: =A23 -> 1 | E36: 8000000 | F36: =D23 -> 0.8 | G36: =$D$4 -> 7 | H36: =+F36*G36*E36*D36 -> 44800000
A37: SUBTOTAL GASTOS OPERACIONALES MENSUALES | H37: =ROUND(SUM(H29:H36),0) -> 67060000
A39: TOTAL COSTOS PERSONAL + GASTOS OPERACIONALES POR EL TÉRMINO DE EJECUCIÓN | H39: =((H24+H37)) -> 498872957
A40: TOTAL COSTOS PERSONAL + GASTOS OPERACIONALES POR EL TÉRMINO DE EJECUCIÓN EN PORCENTAJE DEL COSTO DIRECTO | H40: =ROUND(+H39/D3,4) -> 0.0986 | I40: =ROUND(H39/D3,4) -> 0.0986
A42: 3. IMPUESTOS Y GARANTÍAS
A43: 3.1 IMPUESTOS
A44: DESCRIPCIÓN | F44: VR. BASE | G44: IMPUESTO % | H44: VALOR ($)
A45: FONDO DE SEGURIDAD SOCIAL | F45: =+D3 -> 5.0601956e+09 | G45: 0.05 | H45: =F45*G45 -> 2.5300978e+08
A46: ESTAMPILLA UNIVERSIDAD DE CORDOBA | F46: =$F$45 -> 5.0601956e+09 | G46: 0.02 | H46: =F46*G46 -> 1.0120391e+08
A47: ESTAMPILLA PROCULTURA | F47: =$F$45 -> 5.0601956e+09 | G47: 0.01 | H47: =F47*G47 -> 50601956
A48: ESTAMPILLA RTE ICA | F48: =$F$45 -> 5.0601956e+09 | G48: 0.007 | H48: =F48*G48 -> 35421369
...

Sheet PGIO
C1: FECHA: 17/01/2024 | D1: FECHA: 18/01/2024 | E1: FECHA: 18/01/2024 | F1: FECHA: 24/01/2024 | G1: FECHA: 24/01/2024 | H1: FECHA: 24/01/2024 | I1: FECHA: 26/01/2024
B2: ITEMS | C2: EQUIPSEG PLUS MONTERIA S.A.S. | D2: FERROMATERIALES EL PUENTE | E2: RAPIBAÑOS COLOMBIA | F2: SPACE LOGISTICA Y PUBLICIDAD S.A.S | G2: ACD CONSTRUCCIONES SAS | H2: PLASTEMPAC | I2: HOME CENTER | J2: VALOR PROMEDIO
B3: Kit de Emergencias El Kit incluye: extintor de 10 lbs (señalización en acrílico de extintor), camilla rígida, reflectivos y botiquín con elementos necesarios) | J3: =ROUND(AVERAGE(D8,C8),0) -> 465000
B4: extintor de 10 lbs | C4: 65000
B5: camilla rígida | C5: 180000
B6: botiquín | C6: 115000
B7: señalización | C7: 35000
C8: =SUM(C4:C7) -> 395000 | D8: 535000
B9: Kit para trabajos en alturas El Kit Incluye: Arnes, Barbuquejo para el casco de dotación, eslinga, linea de vida, punto de anclaje fijo. | J9: =ROUND(AVERAGE(D14,C14),0) -> 710125
B10: arnes | C10: 130000
B11: Eslinga | C11: 235000
B12: linea de vida | C12: 225000
B13: punto de anclaje fijo | C13: 60000
C14: =SUM(C10:C13) -> 650000 | D14: 770249
B15: Kit señalización SST El kit incluye: señal de 15 x 15 cm - uso de EPP, sustancias peligrosas, ruta de evacuación, punto de encuentro, baños. | D15: 116235 | J15: =AVERAGE(I15,D15) -> 116235
B16: Kit para desperdicios sólidos Incluye tres (3) canecas para de 65 litros, compuesta de dos piezas (tapa y contenedor) resistente a la interperie, de facil limpieza y cargue, en polietileno de alta densidad, redonda - bolsas para basura color negra (24 mensuales), rojo (4 mensuales) y verde (4 mensuales) de material plástico de alta densidad, calibre de 2", de 65 x 85 cm- | D16: 199999 | J16: =AVERAGE(I16,D16) -> 199999
B17: Alquiler baño portatil Suministro de baño portatil | E17: =1200000*1.19 -> 1428000 | F17: 1785000 | J17: =AVERAGE(F17,E17) -> 1606500
B18: CONOS MINIMO DE 0,45M DE ALTURA, CON BASE DE SUSTENTACION CUADRADA , CIRCULAR O DE CUALQUIER OTRA FORMA QUE GARANTICE SU ESTABILIDAD. LOS CONOS DE 0,45M TENDRAN 2 BANDAS DE 5CM, SEPARADAS ENTRES SI 10CM, ELABORADAS EN LAMINA REFLECTIVA BLANCA TIPO III. LOS CONOS CUYA ALTURA SEA 0,70M, O SUPERIOR DEBERAN TENER BANDAS DE 15 CM (LA SUPERIOR) Y DE 10CM PARA SEÑALIZACION CARGUE Y DESCARGUE | C18: 29000 | G18: 50000 | I18: 44900 | J18: =AVERAGE(G18,C18,I18) -> 41300 | M18: =SUM(M21:M22) -> 5391
B19: SEÑALES INFORMATIVAS (hombres trabajando) | H19: 175000 | J19: =AVERAGE(H19,C19,I19) -> 175000
B20: Cerramiento Tipo 2: Consta de Señalizadores tubulares plasticos, norma ministerio de transporte, separados entre si como maximo 5m. Entre señalizadores debe disponerse de doble cinta de demarcacion de peligro,calibre 4, con franjas amarillas.Adicionalmente entre señalizadores debe disponerse de tela verde para cerramientos con altural igual a la del señalizador tubular. (reutilizable y movil) | K20: 1 CADA 5MTS | L20: SE REUTILIZA 5 VECES
B21: señalador tubular plastico | I21: 59900 | K21: =I21/5 -> 11980 | L21: =K21/5 -> 2396 | M21: =L21 -> 2396
B22: tela verde para cerramiento x 50ml | I22: 59900 | K22: =I22/20 -> 2995 | M22: =K22 -> 2995

Sheet EJE S&SO_Examenes Ocupacionales
C1: FECHA: 18/01/2024 | D1: FECHA: 17/01/2024 | F1: VALOR PROMEDIO COTIZACIONES POR EXAMEN
A2: DESCRIPCIÓN | B2: UNIDAD | C2: Cotización No. 1: SALUD OCUPACIONAL TOTAL SAS | D2: Cotización No. 2: CEDIATRA
A3: Examen médico ocupacional de ingreso o egreso Examen de ingreso o egreso que incluye: agudeza visual, talla y peso, tensión arterial, serología para todo el personal excepto personal de trabajo en alturas. | B3: UND | C3: =SUM(C4:C7) -> 84000 | D3: =SUM(D4:D7) -> 73000 | F3: =ROUND(AVERAGE(C3,D3),0) -> 78500
A4: Examen médico ocupacional de ingreso | C4: 30000 | D4: 25000
A5: Examen médico ocupacional de egreso | C5: 30000 | D5: 25000
A6: agudeza visual | C6: 9000 | D6: 15000
A7: serologia II | C7: 15000 | D7: 8000
A8: Examen médico ocupacional + examen para ingreso o egreso trabajos en alturas Examen de ingreso o egreso que incluye: agudeza visual, talla y peso, tensión arterial, serologia + hemograma, colesterol total y triglicéridos y glicemia en ayunas. | B8: UND | C8: =SUM(C9:C15) -> 119000 | D8: =SUM(D9:D15) -> 132000 | F8: =ROUND(AVERAGE(C8,D8),0) -> 125500
A9: Examen médico ocupacional de ingreso | C9: 30000 | D9: 65000
A10: Examen médico ocupacional de egreso | C10: 30000 | D10: 25000
A11: agudeza visual | C11: 9000 | D11: 15000
A12: serologia | C12: 15000 | D12: 8000
A13: hemograma | C13: 15000 | D13: 19000
A14: colesterol | C14: 10000
A15: glicemia | C15: 10000

Sheet COTIZACIONES
A2: COTIZACIONES
C4: 1 | K4: 2 | R4: 1
D39: 1 | L39: 2
D76: 1 | L76: 2
C110: 1 | J110: 2

Sheet FAC. PRES_OBRA
A1: J | B1: K | C1: L | D1: M | E1: N | F1: O | G1: P | H1: Q | I1: R | J1: S | K1: T | L1: U | M1: V | N1: W | O1: X | P1: X | Q1: Y | R1: Z | S1: AA | T1: AB | U1: AC | V1: AD | W1: AD | X1: AD | Y1: AE | Z1: AF | AA1: AG | AB1: AH
A2: PERSONAL | C2: FACTOR SALARIAL | D2: SALARIO MENSUAL | E2: SALARIO DIARIO | F2: SALARIO BRUTO | G2: TRANSPORTE ANUAL HORA EFECTIVA | H2: CESANTIAS C.S.T. Art. 249 | I2: INTERES SOBRE CESANTIAS Ley 52 de 1975 | J2: PRIMAS DE SERVICIOS Art. 306 C.S.T | K2: VACACIONES Art.186 C.S.T | L2: PENSION Ley 797 de 2003 | M2: SALUD Ley 1122 del 2007 Art. 10 | N2: RIESGOS LABORALES Dec. 1772 de 1994 Art 13 | O2: SENA Ley 89 de 1988 | P2: SENA FIC Res 1449 de 2012 | Q2: ICBF Ley 21 de 1982 | R2: CAJA DE COMP. FAM. DEC. 562 DE 1990 (Marzo 8) | S2: DOTACION | T2: IMPLEMENTO DE SEGURIDAD | U2: SALARIO INTEGRAL | V2: % FACTOR PRESTACIONAL | W2: % FACTOR PRESTACIONAL REDONDEADA | X2: SALARIO INTEGRAL CORREGIDO | Y2: # PERSONAL | Z2: % DEDICACION | AA2: INCIDENCIA | AB2: PONDERACION
B3: TIPO DE LABOR | C3: SMMLV | D3: L x A | E3: M/30 | F3: M x 12 MESES | G3: F | H3: L x A + B | I3: Q x 12% = 12% cesantias | J3: M + B | K3: M/2 = 15 DIAS DE SALARIO | L3: L x D x 12% =12% SALARIO | M3: L x D x 8.5%= 8.5% SALARIO | N3: L x D x 6.96% = 6.96% SALARIO | O3: L x D x 2% = 2% SALARIO | P3: SALARIO MINIMO/40/ 30DIAS | Q3: L x D x 3% =3% SALARIO | R3: L x D x 4% = 4% SALARIO | S3: H | T3: I | U3: = ∑ (O HASTA AB) | V3: AC/O -1 | W3: AC/O -1 | X3: AC/O -1 | Y3: CANTIDAD | Z3: DEDICACION | AA3: CANT. x DEDIC. | AB3: INCIDENCIA X % FACTOR PRESTACIONAL
A4: Ayudante | B4: EPP | C4: 1.1 | D4: 1565850 | E4: =ROUND(+D4/30,0) -> 52195 | F4: =+D4*12 -> 18790200 | G4: 6388.8889 | H4: 4905.1389 | I4: =+H4*0.12 -> 588.61667 | J4: 4905.1389 | K4: =(+D4/2)/360 -> 2174.7917 | L4: 6263.4 | M4: 4436.575 | N4: 3632.772 | O4: 1043.9 | P4: 1186.25 | Q4: 1565.85 | R4: 2087.8 | S4: 2380.8333 | T4: 1776.4222 | U4: =SUM(G4:T4)+E4 -> 95531.378 | V4: =+U4/E4-1 -> 0.83027833 | W4: =+ROUNDUP(V4,2) -> 0.84 | X4: =ROUND(W4*E4+E4,0) -> 96039 | Y4: 0 | Z4: 0 | AA4: =+Y4*Z4 -> 0 | AB4: =+W4*AA4 -> 0
A5: Cadeneros | B5: EPP | C5: 1.1 | D5: 1565850 | E5: =ROUND(+D5/30,0) -> 52195 | F5: =+D5*12 -> 18790200 | G5: 6388.8889 | H5: 4905.1389 | I5: =+H5*0.12 -> 588.61667 | J5: 4905.1389 | K5: =(+D5/2)/360 -> 2174.7917 | L5: 6263.4 | M5: 4436.575 | N5: 3632.772 | O5: 1043.9 | P5: 1186.25 | Q5: 1565.85 | R5: 2087.8 | S5: 2380.8333 | T5: 1776.4222 | U5: =SUM(G5:T5)+E5 -> 95531.378 | V5: =+U5/E5-1 -> 0.83027833 | W5: =+ROUNDUP(V5,2) -> 0.84 | X5: =ROUND(W5*E5+E5,0) -> 96039 | Y5: 0 | Z5: 0 | AA5: =+Y5*Z5 -> 0 | AB5: =+W5*AA5 -> 0
A6: Mensajero | B6: 0 | C6: 1.1 | D6: 1565850 | E6: =ROUND(+D6/30,0) -> 52195 | F6: =+D6*12 -> 18790200 | G6: 6388.8889 | H6: 4905.1389 | I6: =+H6*0.12 -> 588.61667 | J6: 4905.1389 | K6: =(+D6/2)/360 -> 2174.7917 | L6: 6263.4 | M6: 4436.575 | N6: 3632.772 | O6: 1043.9 | P6: 1186.25 | Q6: 1565.85 | R6: 2087.8 | S6: 2380.8333 | T6: 0 | U6: =SUM(G6:T6)+E6 -> 93754.955 | V6: =+U6/E6-1 -> 0.796244 | W6: =+ROUNDUP(V6,2) -> 0.8 | X6: =ROUND(W6*E6+E6,0) -> 93951 | Z6: 0 | AA6: =+Y6*Z6 -> 0 | AB6: =+W6*AA6 -> 0
A7: Paletero | B7: EPP | C7: 1.1 | D7: 1565850 | E7: =ROUND(+D7/30,0) -> 52195 | F7: =+D7*12 -> 18790200 | G7: 6388.8889 | H7: 4905.1389 | I7: =+H7*0.12 -> 588.61667 | J7: 4905.1389 | K7: =(+D7/2)/360 -> 2174.7917 | L7: 6263.4 | M7: 4436.575 | N7: 3632.772 | O7: 1043.9 | P7: 1186.25 | Q7: 1565.85 | R7: 2087.8 | S7: 2380.8333 | T7: 1776.4222 | U7: =SUM(G7:T7)+E7 -> 95531.378 | V7: =+U7/E7-1 -> 0.83027833 | W7: =+ROUNDUP(V7,2) -> 0.84 | X7: =ROUND(W7*E7+E7,0) -> 96039 | Y7: 0 | Z7: 0 | AA7: =+Y7*Z7 -> 0 | AB7: =+W7*AA7 -> 0
A8: Conductor | B8: 0 | C8: 1.4 | D8: 1992900 | E8: =ROUND(+D8/30,0) -> 66430 | F8: =+D8*12 -> 23914800 | G8: 6388.8889 | H8: 6091.3889 | I8: =+H8*0.12 -> 730.96667 | J8: 6091.3889 | K8: =(+D8/2)/360 -> 2767.9167 | L8: 7971.6 | M8: 5646.55 | N8: 4623.528 | O8: 1328.6 | P8: 1186.25 | Q8: 1992.9 | R8: 2657.2 | S8: 2380.8333 | T8: 0 | U8: =SUM(G8:T8)+E8 -> 116288.01 | V8: =+U8/E8-1 -> 0.75053457 | W8: =+ROUNDUP(V8,2) -> 0.76 | X8: =ROUND(W8*E8+E8,0) -> 116917 | Y8: 0 | Z8: 0 | AA8: =+Y8*Z8 -> 0 | AB8: =+W8*AA8 -> 0
A9: Personal De Servicios De Vigilancia | B9: 0 | C9: 1.4 | D9: 1992900 | E9: =ROUND(+D9/30,0) -> 66430 | F9: =+D9*12 -> 23914800 | G9: 6388.8889 | H9: 6091.3889 | I9: =+H9*0.12 -> 730.96667 | J9: 6091.3889 | K9: =(+D9/2)/360 -> 2767.9167 | L9: 7971.6 | M9: 5646.55 | N9: 4623.528 | O9: 1328.6 | P9: 1186.25 | Q9: 1992.9 | R9: 2657.2 | S9: 2380.8333 | T9: 0 | U9: =SUM(G9:T9)+E9 -> 116288.01 | V9: =+U9/E9-1 -> 0.75053457 | W9: =+ROUNDUP(V9,2) -> 0.76 | X9: =ROUND(W9*E9+E9,0) -> 116917 | Z9: 0 | AA9: =+Y9*Z9 -> 0 | AB9: =+W9*AA9 -> 0
A10: Jardinero | B10: EPP | C10: 1.6 | D10: 2277600 | E10: =ROUND(+D10/30,0) -> 75920 | F10: =+D10*12 -> 27331200 | G10: 6388.8889 | H10: 6882.2222 | I10: =+H10*0.12 -> 825.86667 | J10: 6882.2222 | K10: =(+D10/2)/360 -> 3163.3333 | L10: 9110.4 | M10: 6453.2 | N10: 5284.032 | O10: 1518.4 | P10: 1186.25 | Q10: 2277.6 | R10: 3036.8 | S10: 2380.8333 | T10: 1776.4222 | U10: =SUM(G10:T10)+E10 -> 133086.47 | V10: =+U10/E10-1 -> 0.75298302 | W10: =+ROUNDUP(V10,2) -> 0.76 | X10: =ROUND(W10*E10+E10,0) -> 133619 | Z10: 0 | AA10: =+Y10*Z10 -> 0 | AB10: =+W10*AA10 -> 0
A11: Oficial Y Operario De Cortadora | B11: EPP | C11: 1.6 | D11: 2277600 | E11: =ROUND(+D11/30,0) -> 75920 | F11: =+D11*12 -> 27331200 | G11: 6388.8889 | H11: 6882.2222 | I11: =+H11*0.12 -> 825.86667 | J11: 6882.2222 | K11: =(+D11/2)/360 -> 3163.3333 | L11: 9110.4 | M11: 6453.2 | N11: 5284.032 | O11: 1518.4 | P11: 1186.25 | Q11: 2277.6 | R11: 3036.8 | S11: 2380.8333 | T11: 1776.4222 | U11: =SUM(G11:T11)+E11 -> 133086.47 | V11: =+U11/E11-1 -> 0.75298302 | W11: =+ROUNDUP(V11,2) -> 0.76 | X11: =ROUND(W11*E11+E11,0) -> 133619 | Z11: 0 | AA11: =+Y11*Z11 -> 0 | AB11: =+W11*AA11 -> 0
A12: Auxiliar En Redes | B12: EPP | C12: 1.616 | D12: 2300376 | E12: =ROUND(+D12/30,0) -> 76679 | F12: =+D12*12 -> 27604512 | G12: 6388.8889 | H12: 6945.4889 | I12: =+H12*0.12 -> 833.45867 | J12: 6945.4889 | K12: =(+D12/2)/360 -> 3194.9667 | L12: 9201.504 | M12: 6517.732 | N12: 5336.8723 | O12: 1533.584 | P12: 1186.25 | Q12: 2300.376 | R12: 3067.168 | S12: 2380.8333 | T12: 1776.4222 | U12: =SUM(G12:T12)+E12 -> 134288.03 | V12: =+U12/E12-1 -> 0.75130132 | W12: =+ROUNDUP(V12,2) -> 0.76 | X12: =ROUND(W12*E12+E12,0) -> 134955 | Y12: 0 | Z12: 0 | AA12: =+Y12*Z12 -> 0 | AB12: =+W12*AA12 -> 0
A13: Almacenista | B13: EPP | C13: 1.616 | D13: 2300376 | E13: =ROUND(+D13/30,0) -> 76679 | F13: =+D13*12 -> 27604512 | G13: 6388.8889 | H13: 6945.4889 | I13: =+H13*0.12 -> 833.45867 | J13: 6945.4889 | K13: =(+D13/2)/360 -> 3194.9667 | L13: 9201.504 | M13: 6517.732 | N13: 5336.8723 | O13: 1533.584 | P13: 1186.25 | Q13: 2300.376 | R13: 3067.168 | S13: 2380.8333 | T13: 1776.4222 | U13: =SUM(G13:T13)+E13 -> 134288.03 | V13: =+U13/E13-1 -> 0.75130132 | W13: =+ROUNDUP(V13,2) -> 0.76 | X13: =ROUND(W13*E13+E13,0) -> 134955 | Y13: 0 | Z13: 0 | AA13: =+Y13*Z13 -> 0 | AB13: =+W13*AA13 -> 0
A14: Auxiliar Contable | B14: 0 | C14: 1.616 | D14: 2300376 | E14: =ROUND(+D14/30,0) -> 76679 | F14: =+D14*12 -> 27604512 | G14: 6388.8889 | H14: 6945.4889 | I14: =+H14*0.12 -> 833.45867 | J14: 6945.4889 | K14: =(+D14/2)/360 -> 3194.9667 | L14: 9201.504 | M14: 6517.732 | N14: 5336.8723 | O14: 1533.584 | P14: 1186.25 | Q14: 2300.376 | R14: 3067.168 | S14: 2380.8333 | T14: 0 | U14: =SUM(G14:T14)+E14 -> 132511.61 | V14: =+U14/E14-1 -> 0.72813432 | W14: =+ROUNDUP(V14,2) -> 0.73 | X14: =ROUND(W14*E14+E14,0) -> 132655 | Y14: 0 | Z14: 0 | AA14: =+Y14*Z14 -> 0 | AB14: =+W14*AA14 -> 0
A15: Auxiliar De Laboratorio | B15: 0 | C15: 1.616 | D15: 2300376 | E15: =ROUND(+D15/30,0) -> 76679 | F15: =+D15*12 -> 27604512 | G15: 6388.8889 | H15: 6945.4889 | I15: =+H15*0.12 -> 833.45867 | J15: 6945.4889 | K15: =(+D15/2)/360 -> 3194.9667 | L15: 9201.504 | M15: 6517.732 | N15: 5336.8723 | O15: 1533.584 | P15: 1186.25 | Q15: 2300.376 | R15: 3067.168 | S15: 2380.8333 | T15: 0 | U15: =SUM(G15:T15)+E15 -> 132511.61 | V15: =+U15/E15-1 -> 0.72813432 | W15: =+ROUNDUP(V15,2) -> 0.73 | X15: =ROUND(W15*E15+E15,0) -> 132655 | Y15: 0 | Z15: 0 | AA15: =+Y15*Z15 -> 0 | AB15: =+W15*AA15 -> 0
A16: Secretaria En Obra | B16: EPP | C16: 1.616 | D16: 2300376 | E16: =ROUND(+D16/30,0) -> 76679 | F16: =+D16*12 -> 27604512 | G16: 6388.8889 | H16: 6945.4889 | I16: =+H16*0.12 -> 833.45867 | J16: 6945.4889 | K16: =(+D16/2)/360 -> 3194.9667 | L16: 9201.504 | M16: 6517.732 | N16: 5336.8723 | O16: 1533.584 | P16: 1186.25 | Q16: 2300.376 | R16: 3067.168 | S16: 2380.8333 | T16: 1776.4222 | U16: =SUM(G16:T16)+E16 -> 134288.03 | V16: =+U16/E16-1 -> 0.75130132 | W16: =+ROUNDUP(V16,2) -> 0.76 | X16: =ROUND(W16*E16+E16,0) -> 134955 | Y16: 0 | Z16: 0 | AA16: =+Y16*Z16 -> 0 | AB16: =+W16*AA16 -> 0
A17: Secretaria De Oficina Principal | B17: 0 | C17: 1.616 | D17: 2300376 | E17: =ROUND(+D17/30,0) -> 76679 | F17: =+D17*12 -> 27604512 | G17: 6388.8889 | H17: 6945.4889 | I17: =+H17*0.12 -> 833.45867 | J17: 6945.4889 | K17: =(+D17/2)/360 -> 3194.9667 | L17: 9201.504 | M17: 6517.732 | N17: 5336.8723 | O17: 1533.584 | P17: 1186.25 | Q17: 2300.376 | R17: 3067.168 | S17: 2380.8333 | T17: 0 | U17: =SUM(G17:T17)+E17 -> 132511.61 | V17: =+U17/E17-1 -> 0.72813432 | W17: =+ROUNDUP(V17,2) -> 0.73 | X17: =ROUND(W17*E17+E17,0) -> 132655 | Y17: 1 | Z17: 0.6 | AA17: =+Y17*Z17 -> 0.6 | AB17: =+W17*AA17 -> 0.438
A18: Secretaria En Obra | B18: 0 | C18: 1.616 | D18: 2300376 | E18: =ROUND(+D18/30,0) -> 76679 | F18: =+D18*12 -> 27604512 | G18: 6388.8889 | H18: 6945.4889 | I18: =+H18*0.12 -> 833.45867 | J18: 6945.4889 | K18: =(+D18/2)/360 -> 3194.9667 | L18: 9201.504 | M18: 6517.732 | N18: 5336.8723 | O18: 1533.584 | P18: 1186.25 | Q18: 2300.376 | R18: 3067.168 | S18: 2380.8333 | T18: 0 | U18: =SUM(G18:T18)+E18 -> 132511.61 | V18: =+U18/E18-1 -> 0.72813432 | W18: =+ROUNDUP(V18,2) -> 0.73 | X18: =ROUND(W18*E18+E18,0) -> 132655 | Y18: 0 | Z18: 0 | AA18: =+Y18*Z18 -> 0 | AB18: =+W18*AA18 -> 0
A19: Encuestadores | B19: 0 | C19: 1.616 | D19: 2300376 | E19: =ROUND(+D19/30,0) -> 76679 | F19: =+D19*12 -> 27604512 | G19: 6388.8889 | H19: 6945.4889 | I19: =+H19*0.12 -> 833.45867 | J19: 6945.4889 | K19: =(+D19/2)/360 -> 3194.9667 | L19: 9201.504 | M19: 6517.732 | N19: 5336.8723 | O19: 1533.584 | P19: 1186.25 | Q19: 2300.376 | R19: 3067.168 | S19: 2380.8333 | T19: 0 | U19: =SUM(G19:T19)+E19 -> 132511.61 | V19: =+U19/E19-1 -> 0.72813432 | W19: =+ROUNDUP(V19,2) -> 0.73 | X19: =ROUND(W19*E19+E19,0) -> 132655 | Z19: 0 | AA19: =+Y19*Z19 -> 0 | AB19: =+W19*AA19 -> 0
A20: Paileros Navales | B20: EPP | C20: 1.616 | D20: 2300376 | E20: =ROUND(+D20/30,0) -> 76679 | F20: =+D20*12 -> 27604512 | G20: 6388.8889 | H20: 6945.4889 | I20: =+H20*0.12 -> 833.45867 | J20: 6945.4889 | K20: =(+D20/2)/360 -> 3194.9667 | L20: 9201.504 | M20: 6517.732 | N20: 5336.8723 | O20: 1533.584 | P20: 1186.25 | Q20: 2300.376 | R20: 3067.168 | S20: 2380.8333 | T20: 1776.4222 | U20: =SUM(G20:T20)+E20 -> 134288.03 | V20: =+U20/E20-1 -> 0.75130132 | W20: =+ROUNDUP(V20,2) -> 0.76 | X20: =ROUND(W20*E20+E20,0) -> 134955 | Z20: 0 | AA20: =+Y20*Z20 -> 0 | AB20: =+W20*AA20 -> 0
A21: Oficial Electricista | B21: EPP | C21: 1.616 | D21: 2300376 | E21: =ROUND(+D21/30,0) -> 76679 | F21: =+D21*12 -> 27604512 | G21: 6388.8889 | H21: 6945.4889 | I21: =+H21*0.12 -> 833.45867 | J21: 6945.4889 | K21: =(+D21/2)/360 -> 3194.9667 | L21: 9201.504 | M21: 6517.732 | N21: 5336.8723 | O21: 1533.584 | P21: 1186.25 | Q21: 2300.376 | R21: 3067.168 | S21: 2380.8333 | T21: 1776.4222 | U21: =SUM(G21:T21)+E21 -> 134288.03 | V21: =+U21/E21-1 -> 0.75130132 | W21: =+ROUNDUP(V21,2) -> 0.76 | X21: =ROUND(W21*E21+E21,0) -> 134955 | Z21: 0 | AA21: =+Y21*Z21 -> 0 | AB21: =+W21*AA21 -> 0
A22: Cerrajero | B22: EPP | C22: 1.616 | D22: 2300376 | E22: =ROUND(+D22/30,0) -> 76679 | F22: =+D22*12 -> 27604512 | G22: 6388.8889 | H22: 6945.4889 | I22: =+H22*0.12 -> 833.45867 | J22: 6945.4889 | K22: =(+D22/2)/360 -> 3194.9667 | L22: 9201.504 | M22: 6517.732 | N22: 5336.8723 | O22: 1533.584 | P22: 1186.25 | Q22: 2300.376 | R22: 3067.168 | S22: 2380.8333 | T22: 1776.4222 | U22: =SUM(G22:T22)+E22 -> 134288.03 | V22: =+U22/E22-1 -> 0.75130132 | W22: =+ROUNDUP(V22,2) -> 0.76 | X22: =ROUND(W22*E22+E22,0) -> 134955 | Y22: 0 | Z22: 0 | AA22: =+Y22*Z22 -> 0 | AB22: =+W22*AA22 -> 0
A23: Operador De Motosierra | B23: EPP | C23: 1.616 | D23: 2300376 | E23: =ROUND(+D23/30,0) -> 76679 | F23: =+D23*12 -> 27604512 | G23: 6388.8889 | H23: 6945.4889 | I23: =+H23*0.12 -> 833.45867 | J23: 6945.4889 | K23: =(+D23/2)/360 -> 3194.9667 | L23: 9201.504 | M23: 6517.732 | N23: 5336.8723 | O23: 1533.584 | P23: 1186.25 | Q23: 2300.376 | R23: 3067.168 | S23: 2380.8333 | T23: 1776.4222 | U23: =SUM(G23:T23)+E23 -> 134288.03 | V23: =+U23/E23-1 -> 0.75130132 | W23: =+ROUNDUP(V23,2) -> 0.76 | X23: =ROUND(W23*E23+E23,0) -> 134955 | Y23: 0 | Z23: 0 | AA23: =+Y23*Z23 -> 0 | AB23: =+W23*AA23 -> 0
A24: Pintor | B24: EPP | C24: 1.616 | D24: 2300376 | E24: =ROUND(+D24/30,0) -> 76679 | F24: =+D24*12 -> 27604512 | G24: 6388.8889 | H24: 6945.4889 | I24: =+H24*0.12 -> 833.45867 | J24: 6945.4889 | K24: =(+D24/2)/360 -> 3194.9667 | L24: 9201.504 | M24: 6517.732 | N24: 5336.8723 | O24: 1533.584 | P24: 1186.25 | Q24: 2300.376 | R24: 3067.168 | S24: 2380.8333 | T24: 1776.4222 | U24: =SUM(G24:T24)+E24 -> 134288.03 | V24: =+U24/E24-1 -> 0.75130132 | W24: =+ROUNDUP(V24,2) -> 0.76 | X24: =ROUND(W24*E24+E24,0) -> 134955 | Y24: 0 | Z24: 0 | AA24: =+Y24*Z24 -> 0 | AB24: =+W24*AA24 -> 0
A25: Plomero | B25: EPP | C25: 1.616 | D25: 2300376 | E25: =ROUND(+D25/30,0) -> 76679 | F25: =+D25*12 -> 27604512 | G25: 6388.8889 | H25: 6945.4889 | I25: =+H25*0.12 -> 833.45867 | J25: 6945.4889 | K25: =(+D25/2)/360 -> 3194.9667 | L25: 9201.504 | M25: 6517.732 | N25: 5336.8723 | O25: 1533.584 | P25: 1186.25 | Q25: 2300.376 | R25: 3067.168 | S25: 2380.8333 | T25: 1776.4222 | U25: =SUM(G25:T25)+E25 -> 134288.03 | V25: =+U25/E25-1 -> 0.75130132 | W25: =+ROUNDUP(V25,2) -> 0.76 | X25: =ROUND(W25*E25+E25,0) -> 134955 | Y25: 0 | Z25: 0 | AA25: =+Y25*Z25 -> 0 | AB25: =+W25*AA25 -> 0
A26: Soldador | B26: EPP | C26: 1.616 | D26: 2300376 | E26: =ROUND(+D26/30,0) -> 76679 | F26: =+D26*12 -> 27604512 | G26: 6388.8889 | H26: 6945.4889 | I26: =+H26*0.12 -> 833.45867 | J26: 6945.4889 | K26: =(+D26/2)/360 -> 3194.9667 | L26: 9201.504 | M26: 6517.732 | N26: 5336.8723 | O26: 1533.584 | P26: 1186.25 | Q26: 2300.376 | R26: 3067.168 | S26: 2380.8333 | T26: 1776.4222 | U26: =SUM(G26:T26)+E26 -> 134288.03 | V26: =+U26/E26-1 -> 0.75130132 | W26: =+ROUNDUP(V26,2) -> 0.76 | X26: =ROUND(W26*E26+E26,0) -> 134955 | Z26: 0 | AA26: =+Y26*Z26 -> 0 | AB26: =+W26*AA26 -> 0
A27: Inspector De Obras | B27: EPP | C27: 1.616 | D27: 2300376 | E27: =ROUND(+D27/30,0) -> 76679 | F27: =+D27*12 -> 27604512 | G27: 6388.8889 | H27: 6945.4889 | I27: =+H27*0.12 -> 833.45867 | J27: 6945.4889 | K27: =(+D27/2)/360 -> 3194.9667 | L27: 9201.504 | M27: 6517.732 | N27: 5336.8723 | O27: 1533.584 | P27: 1186.25 | Q27: 2300.376 | R27: 3067.168 | S27: 2380.8333 | T27: 1776.4222 | U27: =SUM(G27:T27)+E27 -> 134288.03 | V27: =+U27/E27-1 -> 0.75130132 | W27: =+ROUNDUP(V27,2) -> 0.76 | X27: =ROUND(W27*E27+E27,0) -> 134955 | Z27: 0 | AA27: =+Y27*Z27 -> 0 | AB27: =+W27*AA27 -> 0
A28: Inspector De Interventoría | B28: EPP | C28: 1.616 | D28: 2300376 | E28: =ROUND(+D28/30,0) -> 76679 | F28: =+D28*12 -> 27604512 | G28: 6388.8889 | H28: 6945.4889 | I28: =+H28*0.12 -> 833.45867 | J28: 6945.4889 | K28: =(+D28/2)/360 -> 3194.9667 | L28: 9201.504 | M28: 6517.732 | N28: 5336.8723 | O28: 1533.584 | P28: 1186.25 | Q28: 2300.376 | R28: 3067.168 | S28: 2380.8333 | T28: 1776.4222 | U28: =SUM(G28:T28)+E28 -> 134288.03 | V28: =+U28/E28-1 -> 0.75130132 | W28: =+ROUNDUP(V28,2) -> 0.76 | X28: =ROUND(W28*E28+E28,0) -> 134955 | Y28: 9 | Z28: 0.55 | AA28: =+Y28*Z28 -> 4.95 | AB28: =+W28*AA28 -> 3.762
A29: Soldador Raso | B29: EPP | C29: 1.616 | D29: 2300376 | E29: =ROUND(+D29/30,0) -> 76679 | F29: =+D29*12 -> 27604512 | G29: 6388.8889 | H29: 6945.4889 | I29: =+H29*0.12 -> 833.45867 | J29: 6945.4889 | K29: =(+D29/2)/360 -> 3194.9667 | L29: 9201.504 | M29: 6517.732 | N29: 5336.8723 | O29: 1533.584 | P29: 1186.25 | Q29: 2300.376 | R29: 3067.168 | S29: 2380.8333 | T29: 1776.4222 | U29: =SUM(G29:T29)+E29 -> 134288.03 | V29: =+U29/E29-1 -> 0.75130132 | W29: =+ROUNDUP(V29,2) -> 0.76 | X29: =ROUND(W29*E29+E29,0) -> 134955 | Z29: 0 | AA29: =+Y29*Z29 -> 0 | AB29: =+W29*AA29 -> 0
A30: Supervisor De Encuestadores | B30: 0 | C30: 1.67 | D30: 2377245 | E30: =ROUND(+D30/30,0) -> 79242 | F30: =+D30*12 -> 28526940 | G30: 6388.8889 | H30: 7159.0139 | I30: =+H30*0.12 -> 859.08167 | J30: 7159.0139 | K30: =(+D30/2)/360 -> 3301.7292 | L30: 9508.98 | M30: 6735.5275 | N30: 5515.2084 | O30: 1584.83 | P30: 1186.25 | Q30: 2377.245 | R30: 3169.66 | S30: 2380.8333 | T30: 0 | U30: =SUM(G30:T30)+E30 -> 136568.26 | V30: =+U30/E30-1 -> 0.7234328 | W30: =+ROUNDUP(V30,2) -> 0.73 | X30: =ROUND(W30*E30+E30,0) -> 137089 | Y30: 0 | Z30: 0 | AA30: =+Y30*Z30 -> 0 | AB30: =+W30*AA30 -> 0
A31: Tecnico Electricista | B31: EPP | C31: 1.90615 | D31: 2713404.5 | E31: =ROUND(+D31/30,0) -> 90447 | F31: =+D31*12 -> 32560854 | G31: 6388.8889 | H31: 8092.7903 | I31: =+H31*0.12 -> 971.13484 | J31: 8092.7903 | K31: =(+D31/2)/360 -> 3768.6174 | L31: 10853.618 | M31: 7687.9795 | N31: 6295.0985 | O31: 1808.9363 | P31: 1186.25 | Q31: 2713.4045 | R31: 3617.8727 | S31: 2380.8333 | T31: 1776.4222 | U31: =SUM(G31:T31)+E31 -> 156081.64 | V31: =+U31/E31-1 -> 0.72566959 | W31: =+ROUNDUP(V31,2) -> 0.73 | X31: =ROUND(W31*E31+E31,0) -> 156473 | Y31: 0 | Z31: 0 | AA31: =+Y31*Z31 -> 0 | AB31: =+W31*AA31 -> 0
A32: Carpintero | B32: EPP | C32: 1.9 | D32: 2704650 | E32: =ROUND(+D32/30,0) -> 90155 | F32: =+D32*12 -> 32455800 | G32: 6388.8889 | H32: 8068.4722 | I32: =+H32*0.12 -> 968.21667 | J32: 8068.4722 | K32: =(+D32/2)/360 -> 3756.4583 | L32: 10818.6 | M32: 7663.175 | N32: 6274.788 | O32: 1803.1 | P32: 1186.25 | Q32: 2704.65 | R32: 3606.2 | S32: 2380.8333 | T32: 1776.4222 | U32: =SUM(G32:T32)+E32 -> 155619.53 | V32: =+U32/E32-1 -> 0.72613307 | W32: =+ROUNDUP(V32,2) -> 0.73 | X32: =ROUND(W32*E32+E32,0) -> 155968 | Y32: 0 | Z32: 0 | AA32: =+Y32*Z32 -> 0 | AB32: =+W32*AA32 -> 0
A33: Soldadores Primera Clase | B33: EPP | C33: 1.9 | D33: 2704650 | E33: =ROUND(+D33/30,0) -> 90155 | F33: =+D33*12 -> 32455800 | G33: 6388.8889 | H33: 8068.4722 | I33: =+H33*0.12 -> 968.21667 | J33: 8068.4722 | K33: =(+D33/2)/360 -> 3756.4583 | L33: 10818.6 | M33: 7663.175 | N33: 6274.788 | O33: 1803.1 | P33: 1186.25 | Q33: 2704.65 | R33: 3606.2 | S33: 2380.8333 | T33: 1776.4222 | U33: =SUM(G33:T33)+E33 -> 155619.53 | V33: =+U33/E33-1 -> 0.72613307 | W33: =+ROUNDUP(V33,2) -> 0.73 | X33: =ROUND(W33*E33+E33,0) -> 155968 | Z33: 0 | AA33: =+Y33*Z33 -> 0 | AB33: =+W33*AA33 -> 0
A34: Coordinador De Encuestas | B34: 0 | C34: 2 | D34: 2847000 | E34: =ROUND(+D34/30,0) -> 94900 | F34: =+D34*12 -> 34164000 | G34: 6388.8889 | H34: 8463.8889 | I34: =+H34*0.12 -> 1015.6667 | J34: 7908.3333 | K34: =(+D34/2)/360 -> 3954.1667 | L34: 11388 | M34: 8066.5 | N34: 6605.04 | O34: 1898 | P34: 1186.25 | Q34: 2847 | R34: 3796 | S34: 0 | T34: 0 | U34: =SUM(G34:T34)+E34 -> 158417.73 | V34: =+U34/E34-1 -> 0.66931227 | W34: =+ROUNDUP(V34,2) -> 0.67 | X34: =ROUND(W34*E34+E34,0) -> 158483 | Y34: 0 | Z34: 0 | AA34: =+Y34*Z34 -> 0 | AB34: =+W34*AA34 -> 0
A35: Topografo | B35: EPP | C35: 2.2 | D35: 3131700 | E35: =ROUND(+D35/30,0) -> 104390 | F35: =+D35*12 -> 37580400 | G35: 0 | H35: 8699.1667 | I35: =+H35*0.12 -> 1043.9 | J35: 8699.1667 | K35: =(+D35/2)/360 -> 4349.5833 | L35: 12526.8 | M35: 8873.15 | N35: 7265.544 | O35: 2087.8 | P35: 1186.25 | Q35: 3131.7 | R35: 4175.6 | S35: 0 | T35: 1776.4222 | U35: =SUM(G35:T35)+E35 -> 168205.08 | V35: =+U35/E35-1 -> 0.61131414 | W35: =+ROUNDUP(V35,2) -> 0.62 | X35: =ROUND(W35*E35+E35,0) -> 169112 | Y35: 0 | Z35: 0 | AA35: =+Y35*Z35 -> 0 | AB35: =+W35*AA35 -> 0
A36: Maestro General | B36: EPP | C36: 2.3 | D36: 3274050 | E36: =ROUND(+D36/30,0) -> 109135 | F36: =+D36*12 -> 39288600 | G36: 0 | H36: 9094.5833 | I36: =+H36*0.12 -> 1091.35 | J36: 9094.5833 | K36: =(+D36/2)/360 -> 4547.2917 | L36: 13096.2 | M36: 9276.475 | N36: 7595.796 | O36: 2182.7 | P36: 1186.25 | Q36: 3274.05 | R36: 4365.4 | S36: 0 | T36: 1776.4222 | U36: =SUM(G36:T36)+E36 -> 175716.1 | V36: =+U36/E36-1 -> 0.61008019 | W36: =+ROUNDUP(V36,2) -> 0.62 | X36: =ROUND(W36*E36+E36,0) -> 176799 | Y36: 0 | Z36: 0 | AA36: =+Y36*Z36 -> 0 | AB36: =+W36*AA36 -> 0
A37: Operador Maquina | B37: EPP | C37: 2.3 | D37: 3274050 | E37: =ROUND(+D37/30,0) -> 109135 | F37: =+D37*12 -> 39288600 | G37: 0 | H37: 9094.5833 | I37: =+H37*0.12 -> 1091.35 | J37: 9094.5833 | K37: =(+D37/2)/360 -> 4547.2917 | L37: 13096.2 | M37: 9276.475 | N37: 7595.796 | O37: 2182.7 | P37: 1186.25 | Q37: 3274.05 | R37: 4365.4 | S37: 0 | T37: 1776.4222 | U37: =SUM(G37:T37)+E37 -> 175716.1 | V37: =+U37/E37-1 -> 0.61008019 | W37: =+ROUNDUP(V37,2) -> 0.62 | X37: =ROUND(W37*E37+E37,0) -> 176799 | Z37: 0 | AA37: =+Y37*Z37 -> 0 | AB37: =+W37*AA37 -> 0
A38: Supervisor Electrico | B38: EPP | C38: 2.3 | D38: 3274050 | E38: =ROUND(+D38/30,0) -> 109135 | F38: =+D38*12 -> 39288600 | G38: 0 | H38: 9094.5833 | I38: =+H38*0.12 -> 1091.35 | J38: 9094.5833 | K38: =(+D38/2)/360 -> 4547.2917 | L38: 13096.2 | M38: 9276.475 | N38: 7595.796 | O38: 2182.7 | P38: 1186.25 | Q38: 3274.05 | R38: 4365.4 | S38: 0 | T38: 1776.4222 | U38: =SUM(G38:T38)+E38 -> 175716.1 | V38: =+U38/E38-1 -> 0.61008019 | W38: =+ROUNDUP(V38,2) -> 0.62 | X38: =ROUND(W38*E38+E38,0) -> 176799 | Y38: 0 | Z38: 0 | AA38: =+Y38*Z38 -> 0 | AB38: =+W38*AA38 -> 0
A39: Cordinador SG-SST | B39: EPP | C39: 2.3 | D39: 3274050 | E39: =ROUND(+D39/30,0) -> 109135 | F39: =+D39*12 -> 39288600 | G39: 0 | H39: 9094.5833 | I39: =+H39*0.12 -> 1091.35 | J39: 9094.5833 | K39: =(+D39/2)/360 -> 4547.2917 | L39: 13096.2 | M39: 9276.475 | N39: 7595.796 | O39: 2182.7 | P39: 1186.25 | Q39: 3274.05 | R39: 4365.4 | S39: 0 | T39: 1776.4222 | U39: =SUM(G39:T39)+E39 -> 175716.1 | V39: =+U39/E39-1 -> 0.61008019 | W39: =+ROUNDUP(V39,2) -> 0.62 | X39: =ROUND(W39*E39+E39,0) -> 176799 | Z39: 0 | AA39: =+Y39*Z39 -> 0 | AB39: =+W39*AA39 -> 0
A40: Operador Maquina | B40: 0 | C40: 2.3 | D40: 3274050 | E40: =ROUND(+D40/30,0) -> 109135 | F40: =+D40*12 -> 39288600 | G40: 0 | H40: 9094.5833 | I40: =+H40*0.12 -> 1091.35 | J40: 9094.5833 | K40: =(+D40/2)/360 -> 4547.2917 | L40: 13096.2 | M40: 9276.475 | N40: 7595.796 | O40: 2182.7 | P40: 1186.25 | Q40: 3274.05 | R40: 4365.4 | S40: 0 | T40: 0 | U40: =SUM(G40:T40)+E40 -> 173939.68 | V40: =+U40/E40-1 -> 0.5938029 | W40: =+ROUNDUP(V40,2) -> 0.6 | X40: =ROUND(W40*E40+E40,0) -> 174616 | Z40: 0 | AA40: =+Y40*Z40 -> 0 | AB40: =+W40*AA40 -> 0
...

Sheet analisis insumos
B1: ALCALDIA DE MONTERIA
B2: SECRETARÍA DE INFRAESTRUCTURA
B4: ANALISIS INSUMOS
A5: OBJETO:
B6: REALIZACIÓN DE ESTUDIOS Y DISEÑOS PARA LA FORMULACIÓN DE PROYECTOS DE MICROACUEDUCTOS RURALES A REALIZAR POR LA SECRETARIA DE INFRAESTRUCTURA DEL MUNICIPIO DE MONTERÍA.
A8: ITEM | B8: DESCRIPCIÓN | C8: No. 1 | D8: No.2 | E8: PROMEDIO
B9: Kit de Emergencias El Kit incluye: extintor de 10 lbs (señalización en acrílico de 22 cm x 15 de extintor), camilla rígida, reflectivos y botiquín con elementos necesarios) | C9: =SUM(C10:C13) -> 363500 | D9: 535000 | E9: =AVERAGE(D9,C9) -> 449250
B10: extintor de 10 lbs | C10: 65000
B11: camilla rígida | C11: 180000
B12: botiquín | C12: 115000
B13: señalización | C13: 3500
B14: Kit para trabajos en alturas El Kit Incluye: Arnes, Barbuquejo para el casco de dotación, eslinga, linea de vida, punto de anclaje fijo. | C14: =SUM(C15:C19) -> 705000 | D14: 770249 | E14: =ROUND(AVERAGE(D14,C14),0) -> 737625
B15: Arnes | C15: 130000
B16: Barbuquejo | C16: 55000
B17: eslinga | C17: 235000
B18: linea de vida | C18: 225000
B19: punto de anclaje fijo | C19: 60000
B20: Kit señalización SST El kit incluye: señal de 15 x 15 cm - uso de EPP, sustancias peligrosas, ruta de evacuación, punto de encuentro, baños. | D20: 116235 | E20: =AVERAGE(D20,C20) -> 116235
B21: Examen médico ocupacional de ingreso y egreso Examen de ingreso y egreso que incluye: agudeza visual, talla y peso, tensión arterial, serología para todo el personal excepto personal de trabajo en alturas. | C21: =SUM(C22:C25) -> 84000 | D21: =SUM(D22:D25) -> 73000 | E21: =AVERAGE(D21,C21) -> 78500
B22: Examen médico ocupacional de ingreso | C22: 30000 | D22: 25000
B23: Examen médico ocupacional de egreso | C23: 30000 | D23: 25000
B24: agudeza visual | C24: 9000 | D24: 15000
B25: serologia II | C25: 15000 | D25: 8000
B26: Examen médico ocupacional + examen para ingreso trabajos en alturas Examen de ingreso y egreso que incluye: agudeza visual, talla y peso, tensión arterial, serologia + hemograma, colesterol total y triglicéridos y glicemia en ayunas. | C26: =SUM(C27:C33) -> 119000 | D26: =SUM(D27:D31) -> 172000 | E26: =AVERAGE(D26,C26) -> 145500
B27: serologia | C27: 15000 | D27: 8000
B28: hemograma | C28: 15000 | D28: 19000
B29: paquete alturas de ingreso | C29: 30000 | D29: 65000
B30: paquete alturas de egreso | C30: 30000 | D30: 65000
B31: agudeza visual | C31: 9000 | D31: 15000
B32: glicemia | C32: 10000
B33: colesterol | C33: 10000
B34: Kit para desperdicios sólidos Incluye tres (3) canecas para de 65 litros, compuesta de dos piezas (tapa y contenedor) resistente a la interperie, de facil limpieza y cargue, en polietileno de alta densidad, redonda - bolsas para basura color negra (24 mensuales), rojo (4 mensuales) y verde (4 mensuales) de material plástico de alta densidad, calibre de 2", de 65 x 85 cm- | D34: 199999 | E34: =AVERAGE(D34,C34) -> 199999
B35: Alquiler baño portatil Suministro de baño portatil | C35: =1200000*1.19 -> 1428000 | D35: 1785000 | E35: =AVERAGE(D35,C35) -> 1606500
B36: suminstro e instlacion de valla informativa del proyecto | E36: =AVERAGE(D36,C36) -> #DIV/0!
B37: Cerramiento Tipo 2: Consta de Señalizadores tubulares plasticos, norma ministerio de transporte, separados entre si como maximo 5m. Entre señalizadores debe disponerse de triple de cinta de demarcacion de peligro,calibre 4, con franjas amarillas.Adicionalmente entre señalizadores debe disponerse de tela verde para cerramientos con altural igual a la del señalizador tubular. | C37: =47500+165000+28000 -> 240500 | E37: =AVERAGE(D37,C37) -> 240500
B42: SEÑALES INFORMATIVAS (hombres trabajando) | D42: 467400 | E42: =AVERAGE(D42,C42) -> 467400
B43: CONOS MINIMO DE 0,45M DE ALTURA, CON BASE DE SUSTENTACION CUADRADA , CIRCULAR O DE CUALQUIER OTRA FORMA QUE GARANTICE SU ESTABILIDAD. LOS CONOS DE 0,45M TENDRAN 2 BANDAS DE 5CM, SEPARADAS ENTRES SI 10CM, ELABORADAS EN LAMINA REFLECTIVA BLANCA TIPO III. LOS CONOS CUYA ALTURA SEA 0,70M, O SUPERIOR DEBERAN TENER BANDAS DE 15 CM (LA SUPERIOR) Y DE 10CM PARA SEÑALIZACION CARGUE Y DESCARGUE | C43: 50000 | D43: 29000 | E43: =AVERAGE(D43,C43) -> 39500
B48: Elaboró:
B50: Contratista S.P.M.
