Workbook
Name AA_Cuadrillas: '[1]08'!$A$23:$O$69
Name AA_Equipos: '[1]10'!$C$5:$O$227
Name AA_Materiales: '[1]09'!$C:$R

Sheet PROFESIONALES
C2: PROFESIONALES | G2: FOR-GI-10
G3: Version: 01
G4: Vigente desde: Septiembre 02 de 2024
A5: "CONSULTORÍA PARA LA ELABORACION DE LOS ESTUDIOS Y DISEÑOS CENTRO DE BIENESTAR ANIMAL DE LA CIUDAD DE NEIVA DEPARTAMENTO DEL HUILA"
A6: A | B6: COSTOS DIRECTOS DE PERSONAL
A7: ÍTEM | B7: CARGO/OFICIO | C7: ESCALA | D7: CANTIDAD | E7: DEDICAC. (Mes) | F7: SUELDO Y/O TARIFA MENSUAL | H7: DURAC. (Meses) | I7: VALOR PARCIAL ($)
A9: A.01 | B9: Director de consultoria | C9: PROFESIONAL 12 | D9: 1 | E9: 0.2 | F9: 7691776 | H9: =$H$30 -> 3 | I9: =H9*E9*F9*D9 -> 4615065.6
A10: A.02 | B10: Especialista Estructural | C10: PROFESIONAL 6 | D10: 1 | E10: 0.2 | F10: 6573098 | H10: =$H$30 -> 3 | I10: =H10*E10*F10*D10 -> 3943858.8
A11: A.03 | B11: Especialista en Geotecnia | C11: PROFESIONAL 6 | D11: 1 | E11: 0.2 | F11: 6573098 | H11: =$H$30 -> 3 | I11: =H11*E11*F11*D11 -> 3943858.8
A12: A.04 | B12: Especialista Hidráulico | C12: PROFESIONAL 5 | D12: 1 | E12: 0.2 | F12: 6356217 | H12: =$H$30 -> 3 | I12: =H12*E12*F12*D12 -> 3813730.2
A13: A.05 | B13: =APUS!R10 -> Ingeniero Electrico | C13: PROFESIONAL 5 | D13: 1 | E13: 0.2 | F13: 6356217 | H13: =$H$30 -> 3 | I13: =H13*E13*F13*D13 -> 3813730.2
A14: A.06 | B14: Especialista Veterinario | C14: =C12 -> PROFESIONAL 5 | D14: 1 | E14: 0.5 | F14: =F12 -> 6356217 | H14: =$H$30 -> 3 | I14: =H14*E14*F14*D14 -> 9534325.5
A15: A.07 | B15: Profesional de apoyo | C15: PROFESIONAL 2 | D15: 1 | E15: 1 | F15: 5582300 | H15: =$H$30 -> 3 | I15: =H15*E15*F15*D15 -> 16746900
A16: A.08 | B16: Topógrafo | C16: TECNICO 9 | D16: 1 | E16: 0.3 | F16: 4183335 | H16: =$H$30 -> 3 | I16: =H16*E16*F16*D16 -> 3765001.5
A17: A.09 | B17: Profesional Ambiental | C17: PROFESIONAL 2 | D17: 1 | E17: 0.3 | F17: 5582300 | H17: =$H$30 -> 3 | I17: =H17*E17*F17*D17 -> 5024070
A18: A.10 | B18: Profesional Arquitecto | C18: PROFESIONAL 2 | D18: 1 | E18: 0.45 | F18: 5582300 | H18: =$H$30 -> 3 | I18: =H18*E18*F18*D18 -> 7536105
A19: A.11 | B19: Profesional de presupuestos | C19: PROFESIONAL 2 | D19: 1 | E19: 0.2 | F19: 5582300 | H19: =$H$30/4 -> 0.75 | I19: =H19*E19*F19*D19 -> 837345
A20: A.12 | B20: Delineante | C20: ASISTENCIAL 2 | D20: 1 | E20: 0.4 | F20: 2751081 | H20: =$H$30/4 -> 0.75 | I20: =H20*E20*F20*D20 -> 825324.3
A21: A.13 | B21: Cadenero | C21: ASISTENCIAL 1 | D21: 2 | E21: 1 | F21: 1489011 | H21: =$H$30/4 -> 0.75 | I21: =H21*E21*F21*D21 -> 2233516.5
A22: A.14 | B22: Profesional RCI | C22: PROFESIONAL 2 | D22: 1 | E22: 0.1 | F22: 5582300 | H22: =$H$30/3 -> 1 | I22: =H22*E22*F22*D22 -> 558230
D23: Subtotal Costos Directos de Personal | I23: =SUM(I9:I22) -> 67191061
D24: Factor Prestacional | I24: 2
D25: Total Costos Directos de Personal Incluyendo Factor Prestacional | I25: =+I23*I24 -> 1.3438212e+08
A27: B | B27: OTROS COSTOS DIRECTOS
A28: ÍTEM | B28: DESCRIPCIÓN | D28: UNIDAD | E28: CANTIDAD | F28: SUELDO Y/O TARIFA MENSUAL | H28: DURACIÓN (Meses) | I28: VALOR PARCIAL ($)
A30: B.01 | B30: Alquiler oficina | D30: MES | E30: 1 | F30: 500000 | H30: 3 | I30: =F30*E30*H30 -> 1500000
A31: B.02 | B31: Servicios Públicos | D31: MES | E31: 1 | F31: 300000 | H31: =H30 -> 3 | I31: =F31*E31*H31 -> 900000
A32: B.03 | B32: Gastos de oficina (Impresión de informes y planos) | D32: COPIA | E32: 3 | F32: 1500000 | H32: 1 | I32: =F32*E32*H32 -> 4500000
A33: B.04 | B33: Vehículo camionetas pick up doble cabina | D33: MES | E33: 1 | F33: 5800000 | H33: =H30/3 -> 1 | I33: =F33*E33*H33 -> 5800000 | L33: 3 | M33: Estructuras de acueducto
A34: B.05 | B34: Sondeos de geotecnia (Extracción y laboratorio) | D34: UNIDAD | E34: 6 | F34: 950000 | H34: 1 | I34: =F34*E34 -> 5700000 | L34: 2 | M34: Ha
A35: B.06 | B35: Apiques para estudio de suelos | D35: UNIDAD | E35: 3 | F35: 750000 | H35: 1 | I35: =F35*E35 -> 2250000
A36: B.07 | B36: Materialziacion y pocisionamiento de punto geodesico en zona rural | D36: UNIDAD | E36: 3 | F36: 900000 | H36: 1 | I36: =F36*H36*E36 -> 2700000
A37: B.08 | B37: Alquiler de equipo de topografía (RTK, Estación Total y Dron) | D37: MES | E37: 1 | F37: 6250000 | H37: =H30/4 -> 0.75 | I37: =F37*H37*E37 -> 4687500
A38: B.09 | B38: Visitas de inspección | D38: UNIDAD | E38: 3 | F38: 1500000 | H38: 1 | I38: =F38*H38*E38 -> 4500000
D39: Subtotal Otros Costos Directos | I39: =SUM(I30:I38) -> 32537500
D41: Subtotal Costos Directos | I41: =I39+I25 -> 1.6691962e+08
D42: IVA (19%) | I42: =I41*0.19 -> 31714728
D43: Subtotal Otros Costos Directos | I43: =I42+I41 -> 1.9863435e+08
B47: Edinson Forero Uni | G47: Néstor Iván Otalvaro Peña
B48: Profesional Universitario | G48: Profesional Universitario
...

Sheet Productos
B1: PRESUPUESTO | D1: FOR-GI-10
D2: Version: 01
D3: Vigente desde: Septiembre 02 de 2024
A4: "CONSULTORÍA PARA LA ELABORACION DE LOS ESTUDIOS Y DISEÑOS CENTRO DE BIENESTAR ANIMAL DE LA CIUDAD DE NEIVA DEPARTAMENTO DEL HUILA"
A5: A | B5: PRESUPUESTO POR COMPONENTES
A6: ÍTEM | B6: ACTIVIDAD | C6: CANTIDAD | D6: VALOR UNITARIO | E6: VALOR PARCIAL ($)
A8: A001 | B8: Diagnostico y Perfil del proyecto | C8: 1
A9: A002 | B9: Diseño Arquitectonico y Urbanistico. | C9: 1
A10: A003 | B10: Estudio y diseño de la Evaluación ambiental (Plan de Manejo Ambiental y Plan sanitario). | C10: 1
A11: A004 | B11: Formulación, analisis de alternativas y escogencia de la más viable | C11: 1
A12: A005 | B12: Estudio de topografia | C12: 1
A13: A006 | B13: Estudio hidrologico e hidrogeologico | C13: 1
A14: A007 | B14: Estudio de suelos y diseño de cimentaciones | C14: 1
A15: A008 | B15: Diseños hidraulicos, incluye memorias de calculo y manuelaes de operación y puesta en marcha | C15: 1
A16: A009 | B16: Diseños estructurales | C16: 1
A17: A010 | B17: Diseños electricos | C17: 1
A18: A011 | B18: Planos de diseño de las diferentes especialidades debidamente firmados (Arquitectónico y Urbanístico – topografía – cimentaciones – hidráulicos – estructurales – eléctricos - Red contra incendios, datos y todos los que se requieran). | C18: 1
A19: A012 | B19: Presupuesto de obras requeridas, dotación, insumos y equipos necesarios para la puesta en funcionamiento del CENTRO DE BIENESTAR ANIMAL, incluye Memorias de cantidades de obra detalladas por componente, Análisis de precios unitarios, EDT, EDO | C19: 1
... A24: A017 | B24: Estudio de sostenibilidad economica | C24: 1
D25: SUBTOTAL
D26: IVA (19%)
D27: TOTAL
A32: Edinson Forero Uni | D32: Néstor Iván Otalvaro Peña
A33: Profesional Universitario | D33: Profesional Universitario
A37: Juan Guillermo García Reinoso
A38: Líder de programa

Sheet APUS
A1: "CONSULTORÍA PARA LA ACTUALIZACIÓN DE LOS ESTUDIOS Y DISEÑOS PARA LA OPTIMIZACIÓN DEL SISTEMA DE ACUEDUCTO DEL CORREGIMIENTO DE SAN JORGE, CIUDAD DE NEIVA"
A3: =Productos!B8 -> Diagnostico y Perfil del proyecto
R4: CARGO/OFICIO | S4: CANTIDAD | T4: DEDICAC. (Mes) | U4: DURAC. (Meses) | V4: MESES
A5: 1 | B5: 2 | C5: 3 | D5: 4 | E5: 5 | F5: 6 | G5: 7 | H5: 8 | I5: 9 | J5: 10 | K5: 11 | L5: 12 | M5: 13 | N5: 14 | W5: A001 | X5: A002 | Y5: A003 | Z5: A004 | AA5: A005 | AB5: A006 | AC5: A007 | AD5: A008 | AE5: A009 | AF5: A10 | AG5: A011 | AH5: A012 | AI5: A013 | AJ5: A014 | AK5: A015 | AL5: A016 | AO5: =Productos!A8 -> A001 | AP5: =Productos!B8 -> Diagnostico y Perfil del proyecto
A6: A001 | B6: =A3 -> Diagnostico y Perfil del proyecto | C6: UNIDAD: | D6: UND | E6: TOTAL | F6: =H6+J6+L6+N6 -> 9865048.3 | G6: EQUIPO | H6: =M23 -> 52941.176 | I6: MATERIAL | J6: =M15 -> 352941.18 | K6: TRANSP. | L6: =M32 -> 2950000 | M6: M.O. | N6: =M42 -> 6509166 | R6: Director de consultoria | S6: 1 | T6: =PROFESIONALES!E9 -> 0.2 | U6: =PROFESIONALES!H9 -> 3 | V6: =U6*T6*S6 -> 0.6 | W6: =1/$Z$22 -> 0.058823529 | X6: =1/$Z$22 -> 0.058823529 | Y6: =1/$Z$22 -> 0.058823529 | Z6: =1/$Z$22 -> 0.058823529 | AA6: =1/$Z$22 -> 0.058823529 | AB6: =1/$Z$22 -> 0.058823529 | AC6: =1/$Z$22 -> 0.058823529 | AD6: =1/$Z$22 -> 0.058823529 | ... AL6: =1/$Z$22 -> 0.058823529 | AM6: =SUM(W6:AL6) -> 0.94117647 | AO6: =Productos!A9 -> A002 | AP6: =Productos!B9 -> Diseño Arquitectonico y Urbanistico.
R7: Especialista Estructural | S7: 1 | T7: =PROFESIONALES!E10 -> 0.2 | U7: =PROFESIONALES!H10 -> 3 | V7: =U7*T7*S7 -> 0.6 | X7: 0.2 | Z7: 0.05 | AC7: 0.05 | AE7: 0.6 | AG7: 0.05 | AH7: 0 | AJ7: 0.05 | AM7: =SUM(W7:AL7) -> 1 | AO7: =Productos!A10 -> A003 | AP7: =Productos!B10 -> Estudio y diseño de la Evaluación ambiental (Plan de Manejo Ambiental y Plan sanitario).
A8: A - MATERIALES | R8: Especialista en Geotecnia | S8: 1 | T8: =PROFESIONALES!E11 -> 0.2 | U8: =PROFESIONALES!H11 -> 3 | V8: =U8*T8*S8 -> 0.6 | W8: 0.05 | X8: 0.05 | Z8: 0 | AC8: 0.4 | AE8: 0.4 | AG8: 0 | AH8: 0.05 | AJ8: 0.05 | AM8: =SUM(W8:AK8) -> 1 | AO8: =Productos!A11 -> A004 | AP8: =Productos!B11 -> Formulación, analisis de alternativas y escogencia de la más viable
A9: DESCRIPCIÓN | H9: UNIDAD | I9: TARIFA | K9: CANTIDAD | M9: SUB - TOTAL | R9: Especialista Hidráulico | S9: 1 | T9: =PROFESIONALES!E12 -> 0.2 | U9: =PROFESIONALES!H12 -> 3 | V9: =U9*T9*S9 -> 0.6 | X9: 0.15 | Y9: 0.25 | Z9: 0.2 | AA9: 0.05 | AB9: 0.05 | AD9: 0.2 | AG9: 0.05 | AJ9: 0.05 | AM9: =SUM(W9:AK9) -> 1 | AO9: =Productos!A12 -> A005 | AP9: =Productos!B12 -> Estudio de topografia
A10: =PROFESIONALES!$B$30 -> Alquiler oficina | H10: =PROFESIONALES!$D$30 -> MES | I10: =PROFESIONALES!$F$30 -> 500000 | K10: =PROFESIONALES!H30/APUS!Z22 -> 0.17647059 | M10: =K10*I10 -> 88235.294 | R10: Ingeniero Electrico | S10: 1 | T10: =PROFESIONALES!E13 -> 0.2 | U10: =PROFESIONALES!H13 -> 3 | V10: =U10*T10*S10 -> 0.6 | X10: 0.05 | AD10: 0.05 | AF10: 0.85 | AL10: 0.05 | AM10: =SUM(W10:AL10) -> 1 | AO10: =Productos!A13 -> A006 | AP10: =Productos!B13 -> Estudio hidrologico e hidrogeologico
M11: =K11*I11 -> 0 | R11: Hidrologo | S11: 1 | T11: =PROFESIONALES!E14 -> 0.5 | U11: =PROFESIONALES!H14 -> 3 | V11: =U11*T11*S11 -> 1.5 | W11: 0.1 | X11: 0.1 | Z11: 0.1 | AB11: 0.5 | AD11: 0.1 | AG11: 0.1 | AM11: =SUM(W11:AK11) -> 1 | AO11: =Productos!A14 -> A007 | AP11: =Productos!B14 -> Estudio de suelos y diseño de cimentaciones
A12: =PROFESIONALES!$B$32 -> Gastos de oficina (Impresión de informes y planos) | H12: =PROFESIONALES!$D$32 -> COPIA | I12: =PROFESIONALES!$F$32 -> 1500000 | K12: =PROFESIONALES!$H$32*PROFESIONALES!E32/Z22 -> 0.17647059 | M12: =K12*I12 -> 264705.88 | R12: Profesional de apoyo | S12: 1 | T12: =PROFESIONALES!E15 -> 1 | U12: =PROFESIONALES!H15 -> 3 | V12: =U12*T12*S12 -> 3 | W12: =1/$Z$22 -> 0.058823529 | X12: =1/$Z$22 -> 0.058823529 | Y12: =1/$Z$22 -> 0.058823529 | Z12: =1/$Z$22 -> 0.058823529 | AA12: =1/$Z$22 -> 0.058823529 | AB12: =1/$Z$22 -> 0.058823529 | AC12: =1/$Z$22 -> 0.058823529 | AD12: =1/$Z$22 -> 0.058823529 | ... AL12: =1/$Z$22 -> 0.058823529 | AM12: =SUM(W12:AL12) -> 0.94117647 | AO12: =Productos!A15 -> A008 | AP12: =Productos!B15 -> Diseños hidraulicos, incluye memorias de calculo y manuelaes de operación y puesta en marcha
H13: =IF(A13="","",VLOOKUP(A13,AA_Materiales,7,FALSE)) | I13: =IF(A13="","",VLOOKUP(A13,AA_Materiales,8,FALSE)) | M13: =IF(A13="","",I13*K13) | R13: Profesional Topógrafo | S13: 1 | T13: =PROFESIONALES!E16 -> 0.3 | U13: =PROFESIONALES!H16 -> 3 | V13: =U13*T13*S13 -> 0.9 | X13: 0.2 | Z13: 0.1 | AA13: 0.5 | AB13: 0.1 | AD13: 0.05 | AG13: 0.05 | AM13: =SUM(W13:AK13) -> 1 | AO13: =Productos!A16 -> A009 | AP13: =Productos!B16 -> Diseños estructurales
H14: =IF(A14="","",VLOOKUP(A14,AA_Materiales,7,FALSE)) | I14: =IF(A14="","",VLOOKUP(A14,AA_Materiales,8,FALSE)) | M14: =IF(A14="","",I14*K14) | R14: Profesional Ambiental | S14: 1 | T14: =PROFESIONALES!E17 -> 0.3 | U14: =PROFESIONALES!H17 -> 3 | V14: =U14*T14*S14 -> 0.9 | W14: 0.2 | X14: 0.1 | Y14: 0.3 | Z14: 0.15 | AK14: 0.25 | AM14: =SUM(W14:AK14) -> 1 | AO14: =Productos!A17 -> A010 | AP14: =Productos!B17 -> Diseños electricos
K15: SUBTOTAL | M15: =SUM(M10:N14) -> 352941.18 | R15: =PROFESIONALES!B18 -> Profesional Arquitecto | S15: 1 | T15: =PROFESIONALES!E18 -> 0.45 | U15: =PROFESIONALES!H18 -> 3 | V15: =U15*T15*S15 -> 1.35 | W15: 0.1 | X15: 0.6 | Y15: 0.05 | Z15: 0.05 | AA15: 0 | AD15: 0 | AG15: 0.1 | AK15: 0.1 | AM15: =SUM(W15:AK15) -> 1 | AO15: =Productos!A18 -> A011 | AP15: =Productos!B18 -> Planos de diseño de las diferentes especialidades debidamente firmados (Arquitectónico y Urbanístico – topografía – cimentaciones – hidráulicos – estructurales – eléctricos - Red contra incendios, datos y todos los que se requieran).
R16: Profesional institucional | V16: =U16*T16*S16 -> 0 | X16: 0.1 | Z16: 0.1 | AD16: 0.1 | AH16: 0.2 | AK16: 0.5 | AM16: =SUM(W16:AK16) -> 1 | AO16: =Productos!A19 -> A012 | AP16: =Productos!B19 -> Presupuesto de obras requeridas, dotación, insumos y equipos necesarios para la puesta en funcionamiento del CENTRO DE BIENESTAR ANIMAL, incluye Memorias de cantidades de obra detalladas por componente, Análisis de precios unitarios, EDT, EDO
A17: B - HERRAMIENTA, MAQUINARIA Y EQUIPO | R17: Profesional de presupuestos | S17: 1 | T17: =PROFESIONALES!E19 -> 0.2 | U17: =PROFESIONALES!H19 -> 0.75 | V17: =U17*T17*S17 -> 0.15 | Z17: 0.2 | AH17: 0.7 | AI17: 0.05 | AJ17: 0.05 | AM17: =SUM(W17:AK17) -> 1 | AO17: =Productos!A20 -> A013 | AP17: =Productos!B20 -> Cronograma de ejecución y flujo de fondos de inversión, en PROJECT. .
A18: DESCRIPCIÓN | H18: UNIDAD | I18: TARIFA | K18: CANTIDAD | M18: SUB - TOTAL | R18: Delineante | S18: 1 | T18: =PROFESIONALES!E20 -> 0.4 | U18: =PROFESIONALES!H20 -> 0.75 | V18: =U18*T18*S18 -> 0.3 | X18: 0.2 | Z18: 0 | AA18: 0.05 | AC18: 0.05 | AD18: 0.1 | AE18: 0.05 | AF18: 0.05 | AG18: 0.4 | AL18: 0.1 | AM18: =SUM(W18:AL18) -> 1 | AO18: =Productos!A21 -> A014 | AP18: =Productos!B21 -> Especificaciones y fichas técnicas de cada uno de los componentes del proyecto
A19: =PROFESIONALES!$B$31 -> Servicios Públicos | H19: =PROFESIONALES!$D$31 -> MES | I19: =PROFESIONALES!$F$31 -> 300000 | K19: =PROFESIONALES!$H$9/Z22 -> 0.17647059 | M19: =K19*I19 -> 52941.176 | R19: Cadenero | S19: 2 | T19: =PROFESIONALES!E21 -> 1 | U19: =PROFESIONALES!H21 -> 0.75 | V19: =U19*T19*S19 -> 1.5 | AA19: 1 | AM19: =SUM(W19:AK19) -> 1 | AO19: =Productos!A22 -> A015 | AP19: =Productos!B22 -> Formulación de proyecto para entrega ante mecanismos de financiación (Asesoria y acompañamiento en formulación de componente Para La Aprobacion)
H20: =IF(A20="","",VLOOKUP(A20,AA_Equipos,7,FALSE)) | I20: =IF(A20="","",VLOOKUP(A20,AA_Materiales,8,FALSE)) | M20: =IF(A20="","",I20*K20) | R20: =PROFESIONALES!B22 -> Profesional RCI | S20: 1 | T20: =PROFESIONALES!E22 -> 0.1 | U20: =PROFESIONALES!H22 -> 1 | V20: =U20*T20*S20 -> 0.1 | AL20: 1 | AM20: =SUM(W20:AL20) -> 1 | AO20: =Productos!A23 -> A016 | AP20: =Productos!B23 -> Diseño de Red contra incendios y datos. Incluye memorias de cálculos y especificaciones técnicas.
H21: =IF(A21="","",VLOOKUP(A21,AA_Equipos,7,FALSE)) | I21: =IF(A21="","",VLOOKUP(A21,AA_Materiales,8,FALSE)) | M21: =IF(A21="","",I21*K21) | R21: =PROFESIONALES!#REF! -> #REF! | S21: 1 | T21: =PROFESIONALES!#REF! -> #REF! | U21: =PROFESIONALES!#REF! -> #REF! | V21: =U21*T21*S21 -> #REF!
H22: =IF(A22="","",VLOOKUP(A22,AA_Equipos,7,FALSE)) | I22: =IF(A22="","",VLOOKUP(A22,AA_Materiales,8,FALSE)) | M22: =IF(A22="","",I22*K22) | Y22: Total de productos | Z22: 17
K23: SUBTOTAL | M23: =SUM(M19:N22) -> 52941.176
A25: C - TRANSPORTE
A26: DESCRIPCIÓN | H26: UNIDAD | I26: TARIFA | K26: CANTIDAD | M26: SUB - TOTAL
A27: =PROFESIONALES!$B$33 -> Vehículo camionetas pick up doble cabina | H27: =PROFESIONALES!$D$33 -> MES | I27: =PROFESIONALES!$F$33 -> 5800000 | K27: =PROFESIONALES!$H$33/4 -> 0.25 | M27: =K27*I27 -> 1450000
A28: =PROFESIONALES!$B$38 -> Visitas de inspección | H28: =PROFESIONALES!$D$38 -> UNIDAD | I28: =PROFESIONALES!$F$38 -> 1500000 | K28: =PROFESIONALES!$E$38/3 -> 1 | M28: =K28*I28 -> 1500000
M29: =IF(A29="","",I29*K29)
M30: =IF(A30="","",I30*K30)
M31: =IF(A31="","",I31*K31)
K32: SUBTOTAL | M32: =SUM(M27:N31) -> 2950000
A34: D - MANO DE OBRA
A35: DESCRIPCIÓN | H35: UNIDAD | I35: TARIFA | K35: F.M. | L35: DIAS | M35: SUB - TOTAL
A36: =PROFESIONALES!$B$9 -> Director de consultoria | H36: MES | I36: =PROFESIONALES!$F$9 -> 7691776 | K36: =PROFESIONALES!I$24 -> 2 | L36: =V6*W6*30 -> 1.0588235 | M36: =I36*K36*L36/30 -> 542948.89
A37: =PROFESIONALES!$B$17 -> Profesional Ambiental | H37: MES | I37: =PROFESIONALES!$F$17 -> 5582300 | K37: =PROFESIONALES!I$24 -> 2 | L37: =V14*W14*30 -> 5.4 | M37: =I37*K37*L37/30 -> 2009628
A38: =PROFESIONALES!$B$15 -> Profesional de apoyo | H38: MES | I38: =PROFESIONALES!$F$15 -> 5582300 | K38: =PROFESIONALES!I$24 -> 2 | L38: =W12*30*V12 -> 5.2941176 | M38: =I38*K38*L38/30 -> 1970223.5
A39: =PROFESIONALES!$B$11 -> Especialista en Geotecnia | H39: MES | I39: =PROFESIONALES!$F$11 -> 6573098 | K39: =PROFESIONALES!I$24 -> 2 | L39: =V8*W8*30 -> 0.9 | M39: =I39*K39*L39/30 -> 394385.88
A40: =PROFESIONALES!B18 -> Profesional Arquitecto | H40: MES | I40: =PROFESIONALES!F18 -> 5582300 | K40: =PROFESIONALES!I$24 -> 2 | L40: =V15*W15*30 -> 4.05 | M40: =I40*K40*L40/30 -> 1507221
A41: =PROFESIONALES!B14 -> Especialista Veterinario | H41: MES | I41: =PROFESIONALES!F14 -> 6356217 | K41: =PROFESIONALES!I$24 -> 2 | L41: 0.20002148 | M41: =I41*K41*L41/30 -> 84758.663
K42: SUBTOTAL | M42: =SUM(M36:N41) -> 6509166
A44: =Productos!B9 -> Diseño Arquitectonico y Urbanistico.
...

Sheet CRONOGRAMA
A1: A | B1: =PROFESIONALES!A5 -> "CONSULTORÍA PARA LA ELABORACION DE LOS ESTUDIOS Y DISEÑOS CENTRO DE BIENESTAR ANIMAL DE LA CIUDAD DE NEIVA DEPARTAMENTO DEL HUILA"
A2: ITEM | B2: DESCCRIPCIÓN | C2: DIAS | D2: 1 | E2: 2 | F2: 3 | G2: 4 | H2: 5 | I2: 6 | J2: 7 | K2: 8 | L2: 9 | M2: 10 | N2: 11 | O2: 12 | P2: 13 | Q2: 14 | R2: 15 | S2: 16 | T2: 17 | U2: 18 | V2: 19 | W2: 20 | X2: 21 | Y2: 22 | Z2: 23 | AA2: 24 | AB2: 25 | AC2: 26 | AD2: 27 | AE2: 28 | AF2: 29 | AG2: 30 | AH2: 31 | AI2: 32 | AJ2: 33 | AK2: 34 | AL2: 35 | AM2: 36 | AN2: 37 | AO2: 38 | AP2: 39 | AQ2: 40 | AR2: 41 | AS2: 42 | AT2: 43 | AU2: 44 | AV2: 45 | AW2: 46 | AX2: 47 | AY2: 48 | AZ2: 49 | BA2: 50 | BB2: 51 | BC2: 52 | BD2: 53 | BE2: 54 | BF2: 55 | BG2: 56 | BH2: 57 | BI2: 58 | BJ2: 59 | BK2: 60 | BL2: 61 | BM2: 62 | BN2: 63 | BO2: 64 | BP2: 65 | BQ2: 66 | BR2: 67 | BS2: 68 | BT2: 69 | BU2: 70 | BV2: 71 | BW2: 72 | BX2: 73 | BY2: 74 | BZ2: 75 | CA2: 76 | CB2: 77 | CC2: 78 | CD2: 79 | CE2: 80 | CF2: 81 | CG2: 82 | CH2: 83 | CI2: 84 | CJ2: 85 | CK2: 86 | CL2: 87 | CM2: 88 | CN2: 89 | CO2: 90
A3: A001 | B3: =Productos!B8 -> Diagnostico y Perfil del proyecto | C3: 14
A4: A002 | B4: =Productos!B9 -> Diseño Arquitectonico y Urbanistico. | C4: 28
A5: A003 | B5: =Productos!B10 -> Estudio y diseño de la Evaluación ambiental (Plan de Manejo Ambiental y Plan sanitario). | C5: 20
A6: A004 | B6: =Productos!B11 -> Formulación, analisis de alternativas y escogencia de la más viable | C6: 14
A7: A005 | B7: =Productos!B12 -> Estudio de topografia | C7: 14
A8: A006 | B8: =Productos!B13 -> Estudio hidrologico e hidrogeologico | C8: 21
A9: A007 | B9: =Productos!B14 -> Estudio de suelos y diseño de cimentaciones | C9: 21
A10: A008 | B10: =Productos!B15 -> Diseños hidraulicos, incluye memorias de calculo y manuelaes de operación y puesta en marcha | C10: 21
A11: A009 | B11: =Productos!B16 -> Diseños estructurales | C11: 21
A12: A010 | B12: =Productos!B17 -> Diseños electricos | C12: 14
A13: A011 | B13: =Productos!B18 -> Planos de diseño de las diferentes especialidades debidamente firmados (Arquitectónico y Urbanístico – topografía – cimentaciones – hidráulicos – estructurales – eléctricos - Red contra incendios, datos y todos los que se requieran). | C13: 7
A14: A012 | B14: =Productos!B19 -> Presupuesto de obras requeridas, dotación, insumos y equipos necesarios para la puesta en funcionamiento del CENTRO DE BIENESTAR ANIMAL, incluye Memorias de cantidades de obra detalladas por componente, Análisis de precios unitarios, EDT, EDO | C14: 14
... A19: A017 | B19: =Productos!B24 -> Estudio de sostenibilidad economica | C19: 7
BW23: Néstor Iván Otalvaro Peña
D24: Edinson Forero Uni | AO24: Juan Guillermo García Reinoso | BW24: Profesional Universitario
D25: Profesional Universitario | AO25: Líder de programa

Sheet F.P
A1: FACTOR MULTIPLICADOR - FACTOR PRESTACIONAL
A4: SMLMV | C4: SDLMV | F4: AUX TRANSPORTE M | H4: AUX TRANSPORTE D
A5: 1423500 | C5: =+A5/30 -> 47450 | F5: 200000 | H5: =+ROUND(F5/30,0) -> 6667
A7: A | B7: SUELDO ANUAL BASICO | I7: %
A8: A.01 | B8: Salario Básico
G9: SUBTOTAL
A11: B | B11: PRESTACIONES SOCIALES | I11: %
A12: B.01 | B12: Auxilio de trasporte
A13: B.02 | B13: Primas anuales
A14: B.03 | B14: Cesantias anuales
A15: B.04 | B15: Intereses sobre las cesatias (mensual)
A16: B.05 | B16: Vacaciones anuales
G17: SUBTOTAL | I17: =SUM(I12:I16) -> 0
A19: C | B19: SEGURIDAD SOCIAL | I19: %
A20: C.01 | B20: Pensión
A21: C.02 | B21: Riesgos profesional
A22: C.03 | B22: Salud
G23: SUBTOTAL | I23: =SUM(I20:I22) -> 0
A25: D | B25: APORTES PARAFISCALES | I25: %
A26: D.01 | B26: Caja de compensación
A27: D.02 | B27: Aportes SENA
A28: D.03 | B28: Fondo Ind. Construcción
A29: D.04 | B29: Subsidio familiar
A30: D.05 | B30: Seguros de Ley
A31: D.06 | B31: ICBF
G32: SUBTOTAL | I32: =SUM(I26:I31) -> 0
A34: E | B34: OTROS APORTES | I34: %
A35: E.01 | B35: Vestidos y calzados
A36: E.02 | B36: Seguro colectivo
G37: SUBTOTAL | I37: =SUM(I35:I36) -> 0
F39: SUB TOTAL F.P. | H39: =I9+I17+I23+I32+I37 -> 0
A41: F | B41: IMPUESTOS Y ESTAMPILLAS | I41: %
A42: F.01 | B42: Pro Cultura
A43: F.02 | B43: Pro USCO
A44: F.03 | B44: Adulto mayor
A45: F.04 | B45: Pro deporte
A46: F.05 | B46: Impuesto de Timbre
G48: SUBTOTAL | I48: =SUM(I42:I47) -> 0
A50: G | B50: ADMINISTRACIÓN | I50: %
A51: G.01 | B51: Asesoria legal, contable y financiera permanente y personal técnico administrativo adicional
...

Sheet HONORARIOS
A1: PROPUESTA ECONOMICA PARA LOS ESTUDIOS Y DISEÑOS DEL PLAN MAESTRO DE ACUEDUCTO Y ALCANTARILLADO DE LA CABECERA MUNICIPAL DE LA VICTORIA, DEPARTAMENTO DE BOYACA
A3: ANEXO N° 1: SUSTENTACION DE HONORARIOS Y OTROS COSTOS
A4: PROPONENTE: ING. ANTONIO SANTOS SANTIZ
A6: PERSONAL | B6: EXPERIENCIA GENERAL | C6: EXPERIENCIA ESPECIFICA | D6: TARIFA IDU (*) | E6: % TARIFA COBRADO | F6: TARIFA PROPIA REDONDEADA | G6: TARIFA PROPIA REDONDEADA
B7: [AÑOS] | C7: [AÑOS] | D7: [$/MES] | F7: [$/MES] | G7: [$/DIA]
A8: INGENIERO CATEGORIA 1 | B8: 12 | C8: 10 | D8: 8904128 | E8: 0.8 | F8: =ROUND(D8*E8/100000,0)*100000 -> 7100000 | G8: =ROUND((F8/24)/1000,0)*1000 -> 296000
A9: INGENIERO CATEGORIA 2 | B9: 10 | C9: 7 | D9: 6786012 | E9: 0.8 | F9: =ROUND(D9*E9/100000,0)*100000 -> 5400000 | G9: =ROUND((F9/24)/1000,0)*1000 -> 225000
A10: INGENIERO CATEGORIA 3 | B10: 8 | C10: 5 | D10: 5725896 | E10: 0.8 | F10: =ROUND(D10*E10/100000,0)*100000 -> 4600000 | G10: =ROUND((F10/24)/1000,0)*1000 -> 192000
A11: INGENIERO CATEGORIA 4 | B11: 6 | C11: 4 | D11: 4876322 | E11: 0.8 | F11: =ROUND(D11*E11/100000,0)*100000 -> 3900000 | G11: =ROUND((F11/24)/1000,0)*1000 -> 163000
A12: INGENIERO CATEGORIA 5 | B12: 4 | C12: 3 | D12: 4397048 | E12: 0.8 | F12: =ROUND(D12*E12/100000,0)*100000 -> 3500000 | G12: =ROUND((F12/24)/1000,0)*1000 -> 146000
A13: INGENIERO CATEGORIA 6 | B13: 3 | C13: 1 | D13: 3922006 | E13: 0.8 | F13: =ROUND(D13*E13/100000,0)*100000 -> 3100000 | G13: =ROUND((F13/24)/1000,0)*1000 -> 129000
A14: INGENIERO CATEGORIA 7 | B14: 2 | C14: 0 | D14: 2964516 | E14: 0.8 | F14: =ROUND(D14*E14/100000,0)*100000 -> 2400000 | G14: =ROUND((F14/24)/1000,0)*1000 -> 100000
A15: INGENIERO CATEGORIA 8 | B15: 1 | C15: 0 | D15: 2797352 | E15: 0.8 | F15: =ROUND(D15*E15/100000,0)*100000 -> 2200000 | G15: =ROUND((F15/24)/1000,0)*1000 -> 92000
A16: AUXILIAR DE INGENIERIA | D16: 1613450 | E16: 0.8 | F16: =ROUND(D16*E16/100000,0)*100000 -> 1300000 | G16: =ROUND((F16/24)/1000,0)*1000 -> 54000
A17: TOPOGRAFO - INSPECTOR | D17: 1911806 | E17: 0.8 | F17: =ROUND(D17*E17/100000,0)*100000 -> 1500000 | G17: =ROUND((F17/24)/1000,0)*1000 -> 63000
A18: CADENERO | D18: 1032608 | E18: 0.8 | F18: =ROUND(D18*E18/100000,0)*100000 -> 800000 | G18: =ROUND((F18/24)/1000,0)*1000 -> 33000
A20: TARIFA (*) = ACTUALIZADO PARA 2012 MEDIANTE INCREMENTO DEL SMMLV DE LAS TARIFAS DEL DECRETO 747 DEL MINISTERIO DE TRANPORTE PARA EL AÑO 2011 DEL IDU.
A22: SALARIO MINIMO
A23: 2011 | B23: 566700
A25: OTROS COSTOS | B25: TARIFA MENSUAL | C25: % TARIFA | D25: TARIFA PROPIA REDONDEADA
A26: EQUIPO DE TOPOGRAFIA | B26: 2326000 | C26: 1 | D26: =ROUND(B26*C26/1000,0)*1000 -> 2326000 | E26: (ESTACION + NIVEL)
A27: OFICINA (INCLUYE SERVICIOS) | B27: 800000 | C27: 1 | D27: =ROUND(B27*C27/1000,0)*1000 -> 800000
A28: COMPUTADOR | B28: 180000 | C28: 1 | D28: =ROUND(B28*C28/1000,0)*1000 -> 180000
A29: AUTOMOVIL | B29: =4027000*0.75 -> 3020250 | C29: 0.6 | D29: =ROUND(B29*C29/1000,0)*1000 -> 1812000 | E29: (*) MODELO ANTERIOR AL AÑO 2000
A30: CAMPERO 4 x 4 | B30: 4412250 | C30: 1 | D30: =ROUND(B30*C30/1000,0)*1000 -> 4412000 | E30: (*) MODELO ANTERIOR AL AÑO 2001
A31: DIGITALIZACION PLANO PERFIL ALCANTARILLADO | B31: 120000 | C31: 1 | D31: =ROUND(B31*C31/1000,0)*1000 -> 120000
A32: DIGITALIZACION PLANO PLANTA REDES | B32: 100000 | C32: 1 | D32: =ROUND(B32*C32/1000,0)*1000 -> 100000
A33: DIGITALIZACION PLANO DE AREAS | B33: 90000 | C33: 1 | D33: =ROUND(B33*C33/1000,0)*1000 -> 90000
A34: DIGITALIZACION PLANO PLANTA-PERFIL | B34: 120000 | C34: 1 | D34: =ROUND(B34*C34/1000,0)*1000 -> 120000
A35: DIGITALIZACION PLANO LOCALIZACION | B35: 80000 | C35: 1 | D35: =ROUND(B35*C35/1000,0)*1000 -> 80000
A36: DIGITALIZACION PLANO GENERAL | B36: 100000 | C36: 1 | D36: =ROUND(B36*C36/1000,0)*1000 -> 100000
A37: DIGITALIZACION PLANO ESTRUCTURA HIDRAULICA | B37: 150000 | C37: 1 | D37: =ROUND(B37*C37/1000,0)*1000 -> 150000
A38: DIGITALIZACION PLANO DETALLE ESPECIAL | B38: 120000 | C38: 1 | D38: =ROUND(B38*C38/1000,0)*1000 -> 120000
A39: RE-ROTULACION PLANO DE DETALLE TIPICO | B39: 5000 | C39: 1 | D39: =ROUND(B39*C39/1000,0)*1000 -> 5000
A41: VEHICULO (*) = TARIFA DECRETO 747 DEL MINISTERIO DE TRANPORTE ACTUALIZADA PARA EL AÑO 2010
