Workbook
Name \c: #REF!
Name \c: #REF!
Name \c: #REF!
Name \c: #REF!
Name \c: #REF!
Name \c: #REF!
Name \c: #REF!
Name \c: #REF!
Name \c: #REF!
Name \c: #REF!
Name \c: #REF!
Name \c: #REF!
Name \c: #REF!
Name \c: #REF!
Name \c: #REF!
Name \c: #REF!
Name \c: #REF!
Name \c: #REF!
Name \c: #REF!
Name \c: #REF!
Name \c: #REF!
Name \c: #REF!
Name \c: #REF!
Name \c: #REF!
Name \c: #REF!
Name \c: #REF!
Name \c: #REF!
Name \c: #REF!
Name \c: #REF!
Name \c: #REF!
Name \c: #REF!
Name \c: #REF!
Name \c: #REF!
Name \c: #REF!
Name \c: #REF!
Name \c: #REF!
Name \c: #REF!
Name \i: #REF!
Name \i: #REF!
Name \i: #REF!
Name \i: #REF!
Name \i: #REF!
Name \i: #REF!
Name \i: #REF!
Name \i: #REF!
Name \i: #REF!
Name \i: #REF!
Name \i: #REF!
Name \i: #REF!
Name \i: #REF!
Name \i: #REF!
Name \i: #REF!
Name \i: #REF!
Name \i: #REF!
Name \i: #REF!
Name \i: #REF!
Name \i: #REF!
Name \i: #REF!
Name \i: #REF!
Name \i: #REF!

Sheet JUSTIFICACIONES TECNICAS
E1: JUSTIFICACIONES TECNICAS | H1: FECHA:
E4: ADECUACIONES LOCATIVAS Y REFORZAMIENTO ESTRUCTURAL A LA SEDE JUDICIAL DEL MUNICIPIO DE TOLUVIEJO SUCRE
A7: íTEM | B7: CONDICIONES INICIALES | E7: CONDICIONES ACTUALIZADAS SEGÚN MODF. 1
B8: DESCRIPCIÓN | C8: UND | D8: CANT | E8: CANTIDADES | G8: CANT FINAL | H8: JUSTIFICACION
E9: MENOR (-) | F9: MAYOR (+)
A11: 1 | B11: Obras preliminares y provisionales
A12: =+A11+0.01 -> 1.01 | B12: Desmonte de cielo raso en lámina en yeso cartón | C12: m2 | D12: 140 | E12: =+IF(D12>G12,D12-G12,0) -> 0 | F12: =+IF(D12>G12,0,G12-D12) -> 9.6 | G12: =+'[2]CANTIDADES CAP 1'!H13 -> 149.6 | H12: LUEGO DE QUE SE HIZO VERIFICACION EN CAMPO LA CANTIDAD A EJECUTAR FINALMENTE ES MAYOR
A13: =+A12+0.01 -> 1.02 | B13: Demolición de piso en porcelanato | C13: m2 | D13: 140 | E13: =+IF(D13>G13,D13-G13,0) -> 5.17 | F13: =+IF(D13>G13,0,G13-D13) -> 0 | G13: =+'[2]CANTIDADES CAP 1'!H41 -> 134.83 | H13: LUEGO DE QUE SE HIZO VERIFICACION EN CAMPO LA CANTIDAD A EJECUTAR FINALMENTE ES MENOR
A14: =+A13+0.01 -> 1.03 | B14: Demolición de plantilla de piso | C14: m2 | D14: 140 | E14: =+IF(D14>G14,D14-G14,0) -> 5.17 | F14: =+IF(D14>G14,0,G14-D14) -> 0 | G14: =+'[2]CANTIDADES CAP 1'!H70 -> 134.83 | H14: LUEGO DE QUE SE HIZO VERIFICACION EN CAMPO LA CANTIDAD A EJECUTAR FINALMENTE ES MENOR
A15: =+A14+0.01 -> 1.04 | B15: Demolición de zocalo en porcelanato | C15: m | D15: =2.54+2.33+1.5+1.26+1.13+1.54+0.53+0.93+3.36+0.94+1.2+1.23+0.45+2.99+2.72+1.3+1.15+3.23+0.6+3.66+13.96+2.4+1.29+1.14+2.25+2.03+2.03+3.27+1.94+2.32+3.3+1+6.3+1.35+1.2+2.07+2.1+2.41+6.03+0.51+1.53+4.27+4.84+9.53+2.15+3.59+3.58+1.65+2.15+2.15+1.55+3.96+7.6 -> 142.04 | E15: =+IF(D15>G15,D15-G15,0) -> 21.92 | F15: =+IF(D15>G15,0,G15-D15) -> 0 | G15: =+'[2]CANTIDADES CAP 1'!H98 -> 120.12 | H15: LUEGO DE QUE SE HIZO VERIFICACION EN CAMPO LA CANTIDAD A EJECUTAR FINALMENTE ES MENOR
A16: =+A15+0.01 -> 1.05 | B16: Demolición de enchape de fachada | C16: m2 | D16: =4.6*4 -> 18.4 | E16: =+IF(D16>G16,D16-G16,0) -> 1.3 | F16: =+IF(D16>G16,0,G16-D16) -> 0 | G16: =+'[2]CANTIDADES CAP 1'!H126 -> 17.1 | H16: LUEGO DE QUE SE HIZO VERIFICACION EN CAMPO LA CANTIDAD A EJECUTAR FINALMENTE ES MENOR
A17: =+A16+0.01 -> 1.06 | B17: Excavación de terreno e=30 cm | C17: m3 | D17: =130*0.3 -> 39 | E17: =+IF(D17>G17,D17-G17,0) -> 0 | F17: =+IF(D17>G17,0,G17-D17) -> 3.66 | G17: =+'[2]CANTIDADES CAP 1'!H154 -> 42.66 | H17: LUEGO DE QUE SE HIZO VERIFICACION EN CAMPO LA CANTIDAD A EJECUTAR FINALMENTE ES MAYOR
A18: =+A17+0.01 -> 1.07 | B18: Demolición de plantilla perimetral acceso | C18: m2 | D18: 10 | E18: =+IF(D18>G18,D18-G18,0) -> 0 | F18: =+IF(D18>G18,0,G18-D18) -> 0 | G18: =+D18 -> 10
A19: =+A18+0.01 -> 1.08 | B19: RETIRO DE MATERIALES PROCEDENTES DE DEMOLICÍÓN (INCLUYE CARGUE, TRASIEGO Y DISPOSICIÓN EN BOTADERO OFICIAL) | C19: m3 | D19: 70 | E19: =+IF(D19>G19,D19-G19,0) -> 0 | F19: =+IF(D19>G19,0,G19-D19) -> 10.68 | G19: =+'[2]CANTIDADES CAP 1'!H182 -> 80.68 | H19: LUEGO DE QUE SE HIZO VERIFICACION EN CAMPO LA CANTIDAD A EJECUTAR FINALMENTE ES MAYOR
A20: 2 | B20: Impermeabilización cubierta y muros
A21: =+A20+0.01 -> 2.01 | B21: Demolición pañete | C21: m2 | D21: 2 | E21: =+IF(D21>G21,D21-G21,0) -> 0 | F21: =+IF(D21>G21,0,G21-D21) -> 61.3 | G21: =+'[2]CANTIDADES CAP 2'!H13 -> 63.3 | H21: LUEGO DE QUE SE HIZO VERIFICACION EN CAMPO LA CANTIDAD A EJECUTAR FINALMENTE ES MAYOR
A22: =+A21+0.01 -> 2.02 | B22: IMPERMEABILIZACIÓN INTEGRAL MORTERO | C22: m2 | D22: 64 | E22: =+IF(D22>G22,D22-G22,0) -> 64 | F22: =+IF(D22>G22,0,G22-D22) -> 0 | G22: 0 | H22: LUEGO DE QUE SE HIZO VERIFICACION EN CAMPO LA CANTIDAD A EJECUTAR NO SE TENDRA EN CUENTA PARA EJECUTAR
A23: =+A22+0.01 -> 2.03 | B23: IMPERMEABILIZACION MANTO 500XT-FOIL ALUMINIO | C23: m2 | D23: 140 | E23: =+IF(D23>G23,D23-G23,0) -> 70 | F23: =+IF(D23>G23,0,G23-D23) -> 0 | G23: =+'[2]CANTIDADES CAP 2'!H55 -> 70 | H23: LUEGO DE QUE SE HIZO VERIFICACION EN CAMPO LA CANTIDAD A EJECUTAR FINALMENTE ES MENOR
A24: 3 | B24: Suelos, pisos, estructura y muros
A25: =+A24+0.01 -> 3.01 | B25: Mejoramiento de suelo en suelo cemento, seleccionado y compactado | C25: m3 | D25: =130*0.3*1.6 -> 62.4 | E25: =+IF(D25>G25,D25-G25,0) -> 6.94 | F25: =+IF(D25>G25,0,G25-D25) -> 0 | G25: =+'[2]CANTIDADES CAP 3'!H13 -> 55.46 | H25: LUEGO DE QUE SE HIZO VERIFICACION EN CAMPO LA CANTIDAD A EJECUTAR FINALMENTE ES MENOR
A26: =+A25+0.01 -> 3.02 | B26: Fundida de plantilla de piso de espesor 8 cm de espesor en concreto de 3500psi, incluye refuerzo en malla electrosoldada de 6 mm de 15x15 cm | C26: m2 | D26: =140*0.08 -> 11.2 | E26: =+IF(D26>G26,D26-G26,0) -> 0 | F26: =+IF(D26>G26,0,G26-D26) -> 131 | G26: =+'[2]CANTIDADES CAP 3'!H41 -> 142.2 | H26: LUEGO DE QUE SE HIZO VERIFICACION EN CAMPO LA CANTIDAD A EJECUTAR FINALMENTE ES MAYOR
A27: =+A26+0.01 -> 3.03 | B27: Corte de muro para dilación entre la columna y los muros asociados a vanos de puertas y ventanas para fundida de machones | C27: m | D27: =14*3*2 -> 84 | E27: =+IF(D27>G27,D27-G27,0) -> 0 | F27: =+IF(D27>G27,0,G27-D27) -> 0 | G27: =+D27 -> 84
A28: =+A27+0.01 -> 3.04 | B28: Anclajes de refuerzo longitudinal en 3/8" de diametro, a vigas de cimentación existentes | C28: Und | D28: =14*4 -> 56 | E28: =+IF(D28>G28,D28-G28,0) -> 0 | F28: =+IF(D28>G28,0,G28-D28) -> 240 | G28: =+'[2]CANTIDADES CAP 3'!H70 -> 296 | H28: LUEGO DE QUE SE HIZO VERIFICACION EN CAMPO LA CANTIDAD A EJECUTAR FINALMENTE ES MAYOR
A29: =+A28+0.01 -> 3.05 | B29: Armado de acero de machones de refuerzo | C29: Kg | D29: =4*4*0.56*14+2*0.35*14 -> 135.24 | E29: =+IF(D29>G29,D29-G29,0) -> 0 | F29: =+IF(D29>G29,0,G29-D29) -> 173.68 | G29: =+'[2]CANTIDADES CAP 3'!H98 -> 308.92 | H29: LUEGO DE QUE SE HIZO VERIFICACION EN CAMPO LA CANTIDAD A EJECUTAR FINALMENTE ES MAYOR
A30: =+A29+0.01 -> 3.06 | B30: CONCRETO 3.000 PSI MACHONES ENTRE MURO | C30: m3 | D30: =14*4*0.1*0.2 -> 1.12 | E30: =+IF(D30>G30,D30-G30,0) -> 0 | F30: =+IF(D30>G30,0,G30-D30) -> 0.99 | G30: =+'[2]CANTIDADES CAP 3'!H126 -> 2.11 | H30: LUEGO DE QUE SE HIZO VERIFICACION EN CAMPO Y EL AUMENTO DE MACHONES LA CANTIDAD A EJECUTAR FINALMENTE ES MAYOR
A31: =+A30+0.01 -> 3.07 | B31: PAÑETE LINEAL 1:4 | C31: m | D31: =14*2*4 -> 112 | E31: =+IF(D31>G31,D31-G31,0) -> 0 | F31: =+IF(D31>G31,0,G31-D31) -> 99 | G31: =+'[2]CANTIDADES CAP 3'!H166 -> 211 | H31: LUEGO DE QUE SE HIZO VERIFICACION EN CAMPO LA CANTIDAD A EJECUTAR FINALMENTE ES MAYOR
A32: =+A31+0.01 -> 3.08 | B32: PINTURA VINILO MUROS (3 MANOS) | C32: m2 | D32: =142*4 -> 568 | E32: =+IF(D32>G32,D32-G32,0) -> 0 | F32: =+IF(D32>G32,0,G32-D32) -> 0 | G32: =+D32 -> 568
A33: =+A32+0.01 -> 3.09 | B33: ENCHAPE CERAMICA 30x40 EN FACHADA IGUAL O SIMILAR A LA RETIRADA | C33: m2 | D33: 18.4 | E33: =+IF(D33>G33,D33-G33,0) -> 0 | F33: =+IF(D33>G33,0,G33-D33) -> 0 | G33: =+D33 -> 18.4
A34: =+A33+0.01 -> 3.1 | B34: Reparación de fisuras en antepecho | C34: m | D34: 12 | E34: =+IF(D34>G34,D34-G34,0) -> 0 | F34: =+IF(D34>G34,0,G34-D34) -> 0 | G34: =+D34 -> 12
A35: =+A34+0.01 -> 3.11 | B35: Instalación de piso cerámica 57X57 o similar | C35: m2 | D35: 140 | E35: =+IF(D35>G35,D35-G35,0) -> 0 | F35: =+IF(D35>G35,0,G35-D35) -> 2.2 | G35: =+'[2]CANTIDADES CAP 3'!H207 -> 142.2 | H35: LUEGO DE QUE SE HIZO VERIFICACION EN CAMPO LA CANTIDAD A EJECUTAR FINALMENTE ES MAYOR
A36: =+A35+0.01 -> 3.12 | B36: Instalación de zócalo | C36: m | D36: =+D15 -> 142.04 | E36: =+IF(D36>G36,D36-G36,0) -> 21.92 | F36: =+IF(D36>G36,0,G36-D36) -> 0 | G36: =+'[2]CANTIDADES CAP 3'!H235 -> 120.12 | H36: LUEGO DE QUE SE HIZO VERIFICACION EN CAMPO LA CANTIDAD A EJECUTAR FINALMENTE ES MENOR
A37: =+A36+0.01 -> 3.13 | B37: CIELO RASO EN PANEL PVC | C37: m2 | D37: 140 | E37: =+IF(D37>G37,D37-G37,0) -> 0 | F37: =+IF(D37>G37,0,G37-D37) -> 9.6 | G37: =+'[2]CANTIDADES CAP 3'!H263 -> 149.6 | H37: LUEGO DE QUE SE HIZO VERIFICACION EN CAMPO LA CANTIDAD A EJECUTAR FINALMENTE ES MAYOR
A38: =+A37+0.01 -> 3.14 | B38: PINTURA KORAZA MUROS (2 MANOS) | C38: m2 | D38: =+(5.31+19.48+7.85+12.85)*4 -> 181.96 | E38: =+IF(D38>G38,D38-G38,0) -> 0 | F38: =+IF(D38>G38,0,G38-D38) -> 0 | G38: =+D38 -> 181.96
A39: =+A38+0.01 -> 3.15 | B39: Protector de ventanas | C39: m2 | D39: =4*0.7*3 -> 8.4 | E39: =+IF(D39>G39,D39-G39,0) -> 8.4 | F39: =+IF(D39>G39,0,G39-D39) -> 0 | G39: 0 | H39: LUEGO DE QUE SE HIZO VERIFICACION EN CAMPO LA CANTIDAD A EJECUTAR NO SE TENDRA EN CUENTA PARA EJECUTAR
A40: NP | B40: ITEMS NO PREVISTOS
A41: NP1 | B41: Cerramiento en tela verde H: 2.0M y todos los elementos necesarios para su correcta instalacion | C41: ml | E41: =+IF(D41>G41,D41-G41,0) -> 0 | F41: =+IF(D41>G41,0,G41-D41) -> 37 | G41: =+'[2]CANTIDADES NP'!H12 -> 37 | H41: SE HACE NECESARIO EL CERRAMIENTO DE LA OBRA PARA SALVAGUARDAR LA INTEGRIDAD DE LA DEPENDENCIA Y CUALQUIER PELIGRO A LAS PERSONAS COMUNES QUE NO HAGAN PARTE DEL PROYECTO
A42: NP2 | B42: Desmonte, acarreo, matenimiento y reinstalacion de vidrio de fachada y puerta. Incluye cambio de accesorios para sistema de fijacion y esmerilado | C42: m2 | E42: =+IF(D42>G42,D42-G42,0) -> 0 | F42: =+IF(D42>G42,0,G42-D42) -> 20.3 | G42: =+'[2]CANTIDADES NP'!H37 -> 20.3 | H42: SE HACE NECESARIO PARA SALVAGUARDAR LA INTEGRIDAD DE LOS VIDRIOS Y DE LAS PERSONAS QUE ESTAN LABORANDO POR TEMAS DE OBRA Y LA ENTIDAD OPTIMICE ESOS RECURSOS
A43: NP3 | B43: Desmonte, acarreo, matenimiento y reinstalacion de ventanas. | C43: m2 | E43: =+IF(D43>G43,D43-G43,0) -> 0 | F43: =+IF(D43>G43,0,G43-D43) -> 13.02 | G43: =+'[2]CANTIDADES NP'!H65 -> 13.02 | H43: SE HACE NECESARIO PARA SALVAGUARDAR LA INTEGRIDAD DE LAS VENTANAS Y DE LAS PERSONAS QUE ESTAN LABORANDO POR TEMAS DE OBRA Y LA ENTIDAD OPTIMICE ESOS RECURSOS
A44: NP4 | B44: Desmonte, acarreo, matenimiento y reinstalacion de puertas metálicas. Incluye cambio de cerradura y bisagras | C44: und | E44: =+IF(D44>G44,D44-G44,0) -> 0 | F44: =+IF(D44>G44,0,G44-D44) -> 3 | G44: =+'[2]CANTIDADES NP'!H94 -> 3 | H44: SE HACE NECESARIO PARA SALVAGUARDAR LA INTEGRIDAD DE LAS PUERTAS Y DE LAS PERSONAS QUE ESTAN LABORANDO POR TEMAS DE OBRA Y LA ENTIDAD OPTIMICE ESOS RECURSO
A45: NP5 | B45: Desmonte, mantenimiento y reinstalacion de orinal para baño. Incluye cambio de accesorios y griferia | C45: und | E45: =+IF(D45>G45,D45-G45,0) -> 0 | F45: =+IF(D45>G45,0,G45-D45) -> 1 | G45: =+'[2]CANTIDADES NP'!H122 -> 1 | H45: SE HACE NECESARIO PARA QUE SEA UTIL Y LAS PERSONAS QUE LABOREN TENGAN CONFORT AL MOMENTO DE USAR EL BAÑO
...

Sheet BALANCE NRO 2
G1: ACTA DE MODIFICACION Nro. 2 | K1: FECHA: OCTUBRE 29 DE 2025
G4: ADECUACIONES LOCATIVAS Y REFORZAMIENTO ESTRUCTURAL A LA SEDE JUDICIAL DEL MUNICIPIO DE TOLUVIEJO SUCRE
A7: íTEM | B7: CONDICIONES ACTUALIZADAS SEGÚN ACTA DE MODIFICACION Nro. 1 | G7: CONDICIONES ACTUALIZADAS SEGÚN ACTA DE MODF 2
B8: DESCRIPCIÓN | C8: UND | D8: CANT | E8: VAL. UNITARIO | F8: VAL. PARCIAL | G8: CANTIDADES | I8: VALORES | K8: CANT FINAL | L8: VALOR FINAL
G9: MENOR (-) | H9: MAYOR (+) | I9: MENORES (-) | J9: MAYORES (+)
A11: 1 | B11: Obras preliminares y provisionales
A12: =+A11+0.01 -> 1.01 | B12: Desmonte de cielo raso en lámina en yeso cartón | C12: m2 | D12: 119.69 | E12: 12795 | F12: =+E12*D12 -> 1531433.6 | G12: =+IF(D12>K12,D12-K12,0) -> 0 | H12: =+IF(D12>K12,0,K12-D12) -> 0 | I12: =+G12*E12 -> 0 | J12: =+H12*E12 -> 0 | K12: =+D12 -> 119.69 | L12: =+K12*E12 -> 1531433.6
A13: =+A12+0.01 -> 1.02 | B13: Demolición de piso en porcelanato | C13: m2 | D13: 119.69 | E13: 8403 | F13: =+E13*D13 -> 1005755.1 | G13: =+IF(D13>K13,D13-K13,0) -> 0 | H13: =+IF(D13>K13,0,K13-D13) -> 0 | I13: =+G13*E13 -> 0 | J13: =+H13*E13 -> 0 | K13: =+D13 -> 119.69 | L13: =+K13*E13 -> 1005755.1
A14: =+A13+0.01 -> 1.03 | B14: Demolición de plantilla de piso | C14: m2 | D14: 122.93 | E14: 13981 | F14: =+E14*D14 -> 1718684.3 | G14: =+IF(D14>K14,D14-K14,0) -> 0 | H14: =+IF(D14>K14,0,K14-D14) -> 0 | I14: =+G14*E14 -> 0 | J14: =+H14*E14 -> 0 | K14: =+D14 -> 122.93 | L14: =+K14*E14 -> 1718684.3
A15: =+A14+0.01 -> 1.04 | B15: Demolición de zocalo en porcelanato | C15: m | D15: 151.07 | E15: 7673 | F15: =+E15*D15 -> 1159160.1 | G15: =+IF(D15>K15,D15-K15,0) -> 0 | H15: =+IF(D15>K15,0,K15-D15) -> 0 | I15: =+G15*E15 -> 0 | J15: =+H15*E15 -> 0 | K15: =+D15 -> 151.07 | L15: =+K15*E15 -> 1159160.1
A16: =+A15+0.01 -> 1.05 | B16: Demolición de enchape de fachada | C16: m2 | D16: 17.1 | E16: 14888 | F16: =+E16*D16 -> 254584.8 | G16: =+IF(D16>K16,D16-K16,0) -> 0 | H16: =+IF(D16>K16,0,K16-D16) -> 0 | I16: =+G16*E16 -> 0 | J16: =+H16*E16 -> 0 | K16: =+D16 -> 17.1 | L16: =+K16*E16 -> 254584.8
A17: =+A16+0.01 -> 1.06 | B17: Excavación de terreno e=30 cm | C17: m3 | D17: 0 | E17: 33613 | F17: =+E17*D17 -> 0 | G17: =+IF(D17>K17,D17-K17,0) -> 0 | H17: =+IF(D17>K17,0,K17-D17) -> 0 | I17: =+G17*E17 -> 0 | J17: =+H17*E17 -> 0 | K17: =+D17 -> 0 | L17: =+K17*E17 -> 0
A18: =+A17+0.01 -> 1.07 | B18: Demolición de plantilla perimetral acceso | C18: m2 | D18: 15.03 | E18: 15209 | F18: =+E18*D18 -> 228591.27 | G18: =+IF(D18>K18,D18-K18,0) -> 0 | H18: =+IF(D18>K18,0,K18-D18) -> 0 | I18: =+G18*E18 -> 0 | J18: =+H18*E18 -> 0 | K18: =+D18 -> 15.03 | L18: =+K18*E18 -> 228591.27
A19: =+A18+0.01 -> 1.08 | B19: RETIRO DE MATERIALES PROCEDENTES DE DEMOLICÍÓN (INCLUYE CARGUE, TRASIEGO Y DISPOSICIÓN EN BOTADERO OFICIAL) | C19: m3 | D19: 112.74 | E19: 26112 | F19: =+E19*D19 -> 2943866.9 | G19: =+IF(D19>K19,D19-K19,0) -> 0 | H19: =+IF(D19>K19,0,K19-D19) -> 0 | I19: =+G19*E19 -> 0 | J19: =+H19*E19 -> 0 | K19: =+D19 -> 112.74 | L19: =+K19*E19 -> 2943866.9
A20: 2 | B20: Impermeabilización cubierta y muros
A21: =+A20+0.01 -> 2.01 | B21: Demolición pañete | C21: m2 | D21: 2 | E21: 8238 | F21: =+E21*D21 -> 16476 | G21: =+IF(D21>K21,D21-K21,0) -> 0 | H21: =+IF(D21>K21,0,K21-D21) -> 0 | I21: =+G21*E21 -> 0 | J21: =+H21*E21 -> 0 | K21: =+D21 -> 2 | L21: =+K21*E21 -> 16476
A22: =+A21+0.01 -> 2.02 | B22: IMPERMEABILIZACIÓN INTEGRAL MORTERO | C22: m2 | D22: 64 | E22: 8975 | F22: =+E22*D22 -> 574400 | G22: =+IF(D22>K22,D22-K22,0) -> 0 | H22: =+IF(D22>K22,0,K22-D22) -> 0 | I22: =+G22*E22 -> 0 | J22: =+H22*E22 -> 0 | K22: =+D22 -> 64 | L22: =+K22*E22 -> 574400
A23: =+A22+0.01 -> 2.03 | B23: IMPERMEABILIZACION MANTO 500XT-FOIL ALUMINIO | C23: m2 | D23: 25 | E23: 44132 | F23: =+E23*D23 -> 1103300 | G23: =+IF(D23>K23,D23-K23,0) -> 0 | H23: =+IF(D23>K23,0,K23-D23) -> 0 | I23: =+G23*E23 -> 0 | J23: =+H23*E23 -> 0 | K23: =+D23 -> 25 | L23: =+K23*E23 -> 1103300
A24: 3 | B24: Suelos, pisos, estructura y muros
A25: =+A24+0.01 -> 3.01 | B25: Mejoramiento de suelo en suelo cemento, seleccionado y compactado | C25: m3 | D25: 0 | E25: 136082 | F25: =+E25*D25 -> 0 | G25: =+IF(D25>K25,D25-K25,0) -> 0 | H25: =+IF(D25>K25,0,K25-D25) -> 0 | I25: =+G25*E25 -> 0 | J25: =+H25*E25 -> 0 | K25: =+D25 -> 0 | L25: =+K25*E25 -> 0
A26: =+A25+0.01 -> 3.02 | B26: Fundida de plantilla de piso de espesor 8 cm de espesor en concreto de 3500psi, incluye refuerzo en malla electrosoldada de 6 mm de 15x15 cm | C26: m2 | D26: 128.36 | E26: 69714.769 | F26: =+E26*D26 -> 8948587.8 | G26: =+IF(D26>K26,D26-K26,0) -> 0 | H26: =+IF(D26>K26,0,K26-D26) -> 0 | I26: =+G26*E26 -> 0 | J26: =+H26*E26 -> 0 | K26: =+D26 -> 128.36 | L26: =+K26*E26 -> 8948587.8
A27: =+A26+0.01 -> 3.03 | B27: Corte de muro para dilación entre la columna y los muros asociados a vanos de puertas y ventanas para fundida de machones | C27: m | D27: 102 | E27: 26421 | F27: =+E27*D27 -> 2694942 | G27: =+IF(D27>K27,D27-K27,0) -> 0 | H27: =+IF(D27>K27,0,K27-D27) -> 0 | I27: =+G27*E27 -> 0 | J27: =+H27*E27 -> 0 | K27: =+D27 -> 102 | L27: =+K27*E27 -> 2694942
A28: =+A27+0.01 -> 3.04 | B28: Anclajes de refuerzo longitudinal en 3/8" de diametro, a vigas de cimentación existentes | C28: Und | D28: 196 | E28: 16445 | F28: =+E28*D28 -> 3223220 | G28: =+IF(D28>K28,D28-K28,0) -> 0 | H28: =+IF(D28>K28,0,K28-D28) -> 0 | I28: =+G28*E28 -> 0 | J28: =+H28*E28 -> 0 | K28: =+D28 -> 196 | L28: =+K28*E28 -> 3223220
A29: =+A28+0.01 -> 3.05 | B29: Armado de acero de machones de refuerzo | C29: Kg | D29: 307.39 | E29: 11191.48 | F29: =+E29*D29 -> 3440149 | G29: =+IF(D29>K29,D29-K29,0) -> 0 | H29: =+IF(D29>K29,0,K29-D29) -> 0 | I29: =+G29*E29 -> 0 | J29: =+H29*E29 -> 0 | K29: =+D29 -> 307.39 | L29: =+K29*E29 -> 3440149
A30: =+A29+0.01 -> 3.06 | B30: CONCRETO 3.000 PSI MACHONES ENTRE MURO | C30: m3 | D30: 2.11 | E30: 1055343.5 | F30: =+E30*D30 -> 2226774.8 | G30: =+IF(D30>K30,D30-K30,0) -> 0 | H30: =+IF(D30>K30,0,K30-D30) -> 0 | I30: =+G30*E30 -> 0 | J30: =+H30*E30 -> 0 | K30: =+D30 -> 2.11 | L30: =+K30*E30 -> 2226774.8
A31: =+A30+0.01 -> 3.07 | B31: PAÑETE LINEAL 1:4 | C31: m | D31: 153.44 | E31: 20254 | F31: =+E31*D31 -> 3107773.8 | G31: =+IF(D31>K31,D31-K31,0) -> 0 | H31: =+IF(D31>K31,0,K31-D31) -> 0 | I31: =+G31*E31 -> 0 | J31: =+H31*E31 -> 0 | K31: =+D31 -> 153.44 | L31: =+K31*E31 -> 3107773.8
A32: =+A31+0.01 -> 3.08 | B32: PINTURA VINILO MUROS (3 MANOS) | C32: m2 | D32: 0 | E32: 15009.768 | F32: =+E32*D32 -> 0 | G32: =+IF(D32>K32,D32-K32,0) -> 0 | H32: =+IF(D32>K32,0,K32-D32) -> 0 | I32: =+G32*E32 -> 0 | J32: =+H32*E32 -> 0 | K32: =+D32 -> 0 | L32: =+K32*E32 -> 0
A33: =+A32+0.01 -> 3.09 | B33: ENCHAPE CERAMICA 30x40 EN FACHADA IGUAL O SIMILAR A LA RETIRADA | C33: m2 | D33: 17.1 | E33: 69772.4 | F33: =+E33*D33 -> 1193108 | G33: =+IF(D33>K33,D33-K33,0) -> 0 | H33: =+IF(D33>K33,0,K33-D33) -> 0 | I33: =+G33*E33 -> 0 | J33: =+H33*E33 -> 0 | K33: =+D33 -> 17.1 | L33: =+K33*E33 -> 1193108
A34: =+A33+0.01 -> 3.1 | B34: Reparación de fisuras en antepecho | C34: m | D34: 12 | E34: 107504 | F34: =+E34*D34 -> 1290048 | G34: =+IF(D34>K34,D34-K34,0) -> 0 | H34: =+IF(D34>K34,0,K34-D34) -> 0 | I34: =+G34*E34 -> 0 | J34: =+H34*E34 -> 0 | K34: =+D34 -> 12 | L34: =+K34*E34 -> 1290048
A35: =+A34+0.01 -> 3.11 | B35: Instalación de piso cerámica 57X57 o similar | C35: m2 | D35: 120.71 | E35: 69141.954 | F35: =+E35*D35 -> 8346125.3 | G35: =+IF(D35>K35,D35-K35,0) -> 120.71 | H35: =+IF(D35>K35,0,K35-D35) -> 0 | I35: =+G35*E35 -> 8346125.3 | J35: =+H35*E35 -> 0 | K35: 0 | L35: =+K35*E35 -> 0
A36: =+A35+0.01 -> 3.12 | B36: Instalación de zócalo | C36: m | D36: 151.07 | E36: 20429.267 | F36: =+E36*D36 -> 3086249.3 | G36: =+IF(D36>K36,D36-K36,0) -> 151.07 | H36: =+IF(D36>K36,0,K36-D36) -> 0 | I36: =+G36*E36 -> 3086249.3 | J36: =+H36*E36 -> 0 | K36: 0 | L36: =+K36*E36 -> 0
A37: =+A36+0.01 -> 3.13 | B37: CIELO RASO EN PANEL PVC | C37: m2 | D37: 0 | E37: 63953 | F37: =+E37*D37 -> 0 | G37: =+IF(D37>K37,D37-K37,0) -> 0 | H37: =+IF(D37>K37,0,K37-D37) -> 0 | I37: =+G37*E37 -> 0 | J37: =+H37*E37 -> 0 | K37: =+D37 -> 0 | L37: =+K37*E37 -> 0
A38: =+A37+0.01 -> 3.14 | B38: PINTURA KORAZA MUROS (2 MANOS) | C38: m2 | D38: 0 | E38: 18686.68 | F38: =+E38*D38 -> 0 | G38: =+IF(D38>K38,D38-K38,0) -> 0 | H38: =+IF(D38>K38,0,K38-D38) -> 0 | I38: =+G38*E38 -> 0 | J38: =+H38*E38 -> 0 | K38: =+D38 -> 0 | L38: =+K38*E38 -> 0
A39: =+A38+0.01 -> 3.15 | B39: Protector de ventanas | C39: m2 | D39: 12 | E39: 199751.8 | F39: =+E39*D39 -> 2397021.6 | G39: =+IF(D39>K39,D39-K39,0) -> 12 | H39: =+IF(D39>K39,0,K39-D39) -> 0 | I39: =+G39*E39 -> 2397021.6 | J39: =+H39*E39 -> 0 | K39: 0 | L39: =+K39*E39 -> 0
A40: NP | B40: ITEMS NO PREVISTOS
A41: NP1 | B41: Desmonte de luminarias existentes | C41: und | D41: 28 | E41: 15857 | F41: =+E41*D41 -> 443996 | G41: =+IF(D41>K41,D41-K41,0) -> 0 | H41: =+IF(D41>K41,0,K41-D41) -> 0 | I41: =+G41*E41 -> 0 | J41: =+H41*E41 -> 0 | K41: 28 | L41: =+E41*K41 -> 443996
A42: NP2 | B42: Desmonte, acarreo, matenimiento y reinstalacion de vidrio de fachada y puerta. Incluye cambio de accesorios para sistema de fijacion y esmerilado | C42: m2 | D42: 20.3 | E42: 143283.86 | F42: =+E42*D42 -> 2908662.4 | G42: =+IF(D42>K42,D42-K42,0) -> 0 | H42: =+IF(D42>K42,0,K42-D42) -> 0 | I42: =+G42*E42 -> 0 | J42: =+H42*E42 -> 0 | K42: 20.3 | L42: =+E42*K42 -> 2908662.4
A43: NP3 | B43: Desmonte, acarreo, matenimiento y reinstalacion de ventanas. | C43: m2 | D43: 17.9 | E43: 62515 | F43: =+E43*D43 -> 1119018.5 | G43: =+IF(D43>K43,D43-K43,0) -> 0 | H43: =+IF(D43>K43,0,K43-D43) -> 0 | I43: =+G43*E43 -> 0 | J43: =+H43*E43 -> 0 | K43: 17.9 | L43: =+E43*K43 -> 1119018.5
A44: NP4 | B44: Desmonte, acarreo, matenimiento y reinstalacion de puertas metálicas. Incluye cambio de cerradura y bisagras | C44: und | D44: 3 | E44: 98265 | F44: =+E44*D44 -> 294795 | G44: =+IF(D44>K44,D44-K44,0) -> 0 | H44: =+IF(D44>K44,0,K44-D44) -> 0 | I44: =+G44*E44 -> 0 | J44: =+H44*E44 -> 0 | K44: 3 | L44: =+E44*K44 -> 294795
A45: NP5 | B45: Desmonte, mantenimiento y reinstalacion de orinal para baño. Incluye cambio de accesorios y griferia | C45: und | D45: 1 | E45: 364398 | F45: =+E45*D45 -> 364398 | G45: =+IF(D45>K45,D45-K45,0) -> 0 | H45: =+IF(D45>K45,0,K45-D45) -> 0 | I45: =+G45*E45 -> 0 | J45: =+H45*E45 -> 0 | K45: 1 | L45: =+E45*K45 -> 364398
...

Sheet CANTIDADES NP2
B1: PROYECTO: | C1: =+'BALANCE NRO 2'!$G$4 -> ADECUACIONES LOCATIVAS Y REFORZAMIENTO ESTRUCTURAL A LA SEDE JUDICIAL DEL MUNICIPIO DE TOLUVIEJO SUCRE
B2: CONTRATISTA: | C2: SAICO INGENIERIA SAS. RL. OSCAR MEJIA ESCOBAR
B3: INTERVENTOR: | C3: SOLUCIONES R&S SAS. RL. RAMON LOPEZ CAMARGO
B5: MEMORÍA DE CANTIDADES PARA ACTA DE MODIFICACIONES Nro. 1
B7: CAPÍTULO: | C7: NP2 | D7: =+'BALANCE NRO 2'!B63 -> ITEMS NO PREVISTOS 2
B9: ITEM: | C9: =+'BALANCE NRO 2'!A64 -> NP2.1 | D9: =+'BALANCE NRO 2'!B64 -> Pañete en mortero 1:4 | E9: #REF! | F9: #REF! | G9: #REF! | H9: #REF!
B10: UNIDAD: | C10: =+'BALANCE NRO 2'!C64 -> m2 | D10: #REF! | E10: #REF! | F10: #REF! | G10: #REF! | H10: #REF!
B11: Elementos/Ubicación | C11: Dimensiones | G11: Area (m2) | H11: TOTAL
C12: Cantidad | D12: Largo (m) | E12: Ancho (m) | F12: Altura (m) | H12: =ROUNDUP(SUM(H13:H16),2) -> 230.22
B13: LEVANTE MUROS 0,10 | C13: 2 | G13: 75.66 | H13: =+G13*C13 -> 151.32
B14: LEVANTE MUROS 0,15 | C14: 2 | G14: 39.45 | H14: =+G14*C14 -> 78.9
B17: Detalle:
B18: CONTRATISTA | E18: INTERVENTOR
B22: Firma: | E22: Firma:
B23: OSCAR MEJIA ESCOBAR | E23: RAMON LOPEZ CAMARGO
B24: RL. SAICO INGENIERIA S.A.S | E24: RL. SOLUCIONES R&S S.A.S
B26: PROYECTO: | C26: =+'BALANCE NRO 2'!$G$4 -> ADECUACIONES LOCATIVAS Y REFORZAMIENTO ESTRUCTURAL A LA SEDE JUDICIAL DEL MUNICIPIO DE TOLUVIEJO SUCRE
B27: CONTRATISTA: | C27: SAICO INGENIERIA SAS. RL. OSCAR MEJIA ESCOBAR
B28: INTERVENTOR: | C28: SOLUCIONES R&S SAS. RL. RAMON LOPEZ CAMARGO
B30: MEMORÍA DE CANTIDADES PARA ACTA DE MODIFICACIONES Nro. 1
B32: CAPÍTULO: | C32: NP2 | D32: =+'BALANCE NRO 2'!B88 -> 0
B34: ITEM: | C34: =+'BALANCE NRO 2'!A65 -> NP2.2 | D34: =+'BALANCE NRO 2'!B65 -> Suministro e instalación salida en piso con tapa, prensaestopas de 3/4" en caja de aluminio inyectado de 10 x 10 doble fondo salidas para tubo de 1". | E34: #REF! | F34: #REF! | G34: #REF! | H34: #REF!
B35: UNIDAD: | C35: =+'BALANCE NRO 2'!C65 -> und | D35: #REF! | E35: #REF! | F35: #REF! | G35: #REF! | H35: #REF!
B36: Elementos/Ubicación | C36: Dimensiones | G36: % Expansión | H36: TOTAL
C37: Cantidad | D37: Largo (m) | E37: Ancho (m) | F37: Altura (m) | H37: =ROUNDUP(SUM(H38:H41),2) -> 4
B38: PISO SALA DE AUDICIENDIA | C38: 4 | H38: =+C38 -> 4
B42: Detalle:
B43: CONTRATISTA | E43: INTERVENTOR
B47: Firma: | E47: Firma:
B48: OSCAR MEJIA ESCOBAR | E48: RAMON LOPEZ CAMARGO
B49: RL. SAICO INGENIERIA S.A.S | E49: RL. SOLUCIONES R&S S.A.S
B51: PROYECTO: | C51: =+'BALANCE NRO 2'!$G$4 -> ADECUACIONES LOCATIVAS Y REFORZAMIENTO ESTRUCTURAL A LA SEDE JUDICIAL DEL MUNICIPIO DE TOLUVIEJO SUCRE
B52: CONTRATISTA: | C52: SAICO INGENIERIA SAS. RL. OSCAR MEJIA ESCOBAR
B53: INTERVENTOR: | C53: SOLUCIONES R&S SAS. RL. RAMON LOPEZ CAMARGO
B55: MEMORÍA DE CANTIDADES PARA ACTA DE MODIFICACIONES Nro. 1
B57: CAPÍTULO: | C57: NP2 | D57: =+'BALANCE NRO 2'!B63 -> ITEMS NO PREVISTOS 2
B59: ITEM: | C59: =+'BALANCE NRO 2'!A66 -> NP2.3 | D59: =+'BALANCE NRO 2'!B66 -> Suministro e instalacion de cajas en pvc de 4x4
B60: UNIDAD: | C60: =+'BALANCE NRO 2'!C66 -> und
B61: Elementos/Ubicación | C61: Dimensiones | G61: % Expansión | H61: TOTAL
C62: Cantidad | D62: Largo (m) | E62: Ancho (m) | F62: Altura (m) | H62: =ROUNDUP(SUM(H63:H69),2) -> 53
...

Sheet NP2.1
A1: Consejo Superior de la Judicatura Dirección Seccional de Administración Judicial Sincelejo – Sucre
A2: =+[3]NP36!A3 -> ADECUACIONES LOCATIVAS Y REFORZAMIENTO ESTRUCTURAL A LA SEDE JUDICIAL DEL MUNICIPIO DE TOLUVIEJO SUCRE
A3: ANALISIS DE PRECIOS UNITARIOS
A5: DATOS ESPECÍFICOS
A7: ITEM | B7: DESCRIPCIÓN | K7: UNIDAD | M7: CANTIDAD
A8: =+'BALANCE NRO 2'!A64 -> NP2.1 | B8: =+'BALANCE NRO 2'!B64 -> Pañete en mortero 1:4 | K8: =+'BALANCE NRO 2'!C64 -> m2 | M8: =+'BALANCE NRO 2'!K64 -> 230.22
A9: I. EQUIPO
A12: DESCRIPCIÓN | F12: MARCA | H12: TIPO | J12: TARIFA/DIA | K12: RENDIMIENTO | M12: Vr. UNITARIO
A13: HERRAMAMIENTAS MENORES 10% M.O | M13: =ROUND(0.1*M39,0) -> 1574
A14: CUERPO ANDAMIO | J14: 1856 | K14: 3 | M14: =+J14*K14 -> 5568
A15: TABLÓN | J15: 1560 | K15: 3 | M15: =+J15*K15 -> 4680
A17: SUBTOTAL $ | M17: =+SUM(M13:M16) -> 11822
A18: II. MATERIALES
A21: DESCRIPCIÓN | I21: UNIDAD | J21: CANTIDAD | K21: PRECIO UNIT. | M21: Vr. UNITARIO
A22: mortero 1:4 | I22: m3 | J22: 0.02 | K22: 365000 | M22: =+J22*K22 -> 7300
A26: SUBTOTAL $ | M26: =+SUM(M22:M25) -> 7300
A27: III. TRANSPORTES
A30: MATERIAL | H30: VOL. o PESO | I30: DISTANCIA | J30: M3 o Ton/Km | K30: TARIFA | M30: Vr. UNITARIO
M31: =IF(K31>0,ROUND(J31*K31,0),0) -> 0
A32: SUBTOTAL $ | M32: =+SUM(M31:M31) -> 0
A33: IV. MANO DE OBRA
A36: TRABAJADOR | H36: JORNAL | I36: PRESTACIONES | J36: JORNAL TOTAL | K36: RENDIMIENTO | M36: Vr. UNITARIO
A37: OFICIAL | H37: 65000 | I37: 0.86 | J37: =+ROUND(H37*(1+I37),0) -> 120900 | K37: 13 | M37: =IF(K37>0,ROUND(J37/K37,0),0) -> 9300
A38: 1 AYUDANTE | H38: 45000 | I38: 0.86 | J38: =+ROUND(H38*(1+I38),0) -> 83700 | K38: 13 | M38: =IF(K38>0,ROUND(J38/K38,0),0) -> 6438
A39: SUBTOTAL $ | M39: =+SUM(M37:M38) -> 15738
A41: TOTAL COSTO DIRECTO $ | M41: =+M17+M26+M32+M39 -> 34860
A43: PRECIO UNITARIO TOTAL APROXIMADO AL PESO | M43: =+M41 -> 34860
A45: CONTRATISTA: | G45: INTERVENTOR:
A51: Firma: | G51: Firma:
A52: OSCAR MEJIA ESCOBAR | G52: RAMON LOPEZ CAMARGO
A53: RL. SAICO INGENIERIA S.A.S | G53: RL. SOLUCIONES R&S S.A.S

Sheet NP1
A2: Consejo Superior de la Judicatura Dirección Seccional de Administración Judicial Sincelejo – Sucre
A3: =+'[4]BALANCE NRO 1'!G4 -> ADECUACIONES LOCATIVAS Y REFORZAMIENTO ESTRUCTURAL A LA SEDE JUDICIAL DEL MUNICIPIO DE TOLUVIEJO SUCRE
A4: ANALISIS DE PRECIOS UNITARIOS
A6: DATOS ESPECÍFICOS
A8: ITEM | B8: DESCRIPCIÓN | K8: UNIDAD | M8: CANTIDAD
A9: =+'[4]BALANCE NRO 1'!A41 -> NP1 | B9: =+'[4]BALANCE NRO 1'!B41 -> Cerramiento en tela verde H: 2.0M y todos los elementos necesarios para su correcta instalacion | K9: =+'[4]BALANCE NRO 1'!C41 -> ml | M9: =+'[4]BALANCE NRO 1'!K41 -> 0
A10: I. EQUIPO
A13: DESCRIPCIÓN | F13: MARCA | H13: TIPO | J13: TARIFA/HORA | K13: RENDIMIENTO | M13: Vr. UNITARIO
A14: HERRAMAMIENTAS MENORES 10% M.O | M14: =0.1*M41 -> 288.3
M15: =K15*J15 -> 0
A18: SUBTOTAL $ | M18: =+ROUND(SUM(M14:M17),0) -> 288
A19: II. MATERIALES
A22: DESCRIPCIÓN | I22: UNIDAD | J22: CANTIDAD | K22: PRECIO UNIT. | M22: Vr. UNITARIO
A23: TELA VERDE PARA CERRAMIENTO | I23: M2 | J23: =1*2.1 -> 2.1 | K23: =178300/(50*2.1) -> 1698.0952 | M23: =IF(K23>0,ROUND(J23*K23,0),0) -> 3566
A24: LISTONES EN MADERA 2" X 4 | I24: UND | J24: 1 | K24: 29500 | M24: =+K24*J24 -> 29500
A26: SUBTOTAL $ | M26: =+SUM(M23:M25) -> 33066
A27: III. TRANSPORTES
A30: MATERIAL | H30: VOL. o PESO | I30: DISTANCIA | J30: M3 o Ton/Km | K30: TARIFA | M30: Vr. UNITARIO
M31: =IF(K31>0,ROUND(J31*K31,0),0) -> 0
A32: SUBTOTAL $ | M32: =+SUM(M31:M31) -> 0
A33: IV. MANO DE OBRA
A36: TRABAJADOR | H36: JORNAL | I36: PRESTACIONES | J36: JORNAL TOTAL | K36: RENDIMIENTO | M36: Vr. UNITARIO
A37: OFICIAL | H37: 65000 | I37: 0.86 | J37: =+ROUND(H37*(1+I37),0) -> 120900 | K37: 100 | M37: =+ROUND(J37/K37,0) -> 1209
A38: 2 AYUDANTES | H38: =45000*2 -> 90000 | I38: 0.86 | J38: =+ROUND(H38*(1+I38),0) -> 167400 | K38: 100 | M38: =+J38/K38 -> 1674
A41: SUBTOTAL $ | M41: =+SUM(M37:M40) -> 2883
A44: TOTAL COSTO DIRECTO $ | M44: =+M18+M26+M32+M41 -> 36237
A47: CONTRATISTA: | G47: INTERVENTOR:
A53: Firma: | G53: Firma:
A54: OSCAR MEJIA ESCOBAR | G54: RAMON LOPEZ CAMARGO
A55: RL. SAICO INGENIERIA S.A.S | G55: RL. SOLUCIONES R&S S.A.S

Sheet NP2.2
A1: Consejo Superior de la Judicatura Dirección Seccional de Administración Judicial Sincelejo – Sucre
A2: =+[3]NP36!A3 -> ADECUACIONES LOCATIVAS Y REFORZAMIENTO ESTRUCTURAL A LA SEDE JUDICIAL DEL MUNICIPIO DE TOLUVIEJO SUCRE
A3: ANALISIS DE PRECIOS UNITARIOS
A5: DATOS ESPECÍFICOS
A7: ITEM | B7: DESCRIPCIÓN | K7: UNIDAD | M7: CANTIDAD
A8: =+'BALANCE NRO 2'!A65 -> NP2.2 | B8: =+'BALANCE NRO 2'!B65 -> Suministro e instalación salida en piso con tapa, prensaestopas de 3/4" en caja de aluminio inyectado de 10 x 10 doble fondo salidas para tubo de 1". | K8: =+'BALANCE NRO 2'!C65 -> und | M8: =+'BALANCE NRO 2'!K65 -> 4
A9: I. EQUIPO
A12: DESCRIPCIÓN | F12: MARCA | H12: TIPO | J12: TARIFA/DIA | K12: RENDIMIENTO | M12: Vr. UNITARIO
A13: HERRAMAMIENTAS MENORES 10% M.O | M13: =ROUND(0.1*M39,0) -> 585
A17: SUBTOTAL $ | M17: =+SUM(M13:M16) -> 585
A18: II. MATERIALES
A21: DESCRIPCIÓN | I21: UNIDAD | J21: CANTIDAD | K21: PRECIO UNIT. | M21: Vr. UNITARIO
A22: CAJAS 4X4 DOBLE FONDO | I22: UND | J22: 1 | K22: 25457.846 | M22: =+J22*K22 -> 25457.846
A23: PRENSAESTOPA | I23: UND | J23: 1 | K23: 3500 | M23: =+J23*K23 -> 3500
A26: SUBTOTAL $ | M26: =+SUM(M22:M25) -> 28957.846
A27: III. TRANSPORTES
A30: MATERIAL | H30: VOL. o PESO | I30: DISTANCIA | J30: M3 o Ton/Km | K30: TARIFA | M30: Vr. UNITARIO
M31: =IF(K31>0,ROUND(J31*K31,0),0) -> 0
A32: SUBTOTAL $ | M32: =+SUM(M31:M31) -> 0
A33: IV. MANO DE OBRA
A36: TRABAJADOR | H36: JORNAL | I36: PRESTACIONES | J36: JORNAL TOTAL | K36: RENDIMIENTO | M36: Vr. UNITARIO
A37: OFICIAL | H37: 65000 | I37: 0.86 | J37: =+ROUND(H37*(1+I37),0) -> 120900 | K37: 35 | M37: =IF(K37>0,ROUND(J37/K37,0),0) -> 3454
A38: 1 AYUDANTE | H38: 45000 | I38: 0.86 | J38: =+ROUND(H38*(1+I38),0) -> 83700 | K38: 35 | M38: =IF(K38>0,ROUND(J38/K38,0),0) -> 2391
A39: SUBTOTAL $ | M39: =+SUM(M37:M38) -> 5845
A41: TOTAL COSTO DIRECTO $ | M41: =+M17+M26+M32+M39 -> 35387.846
A43: PRECIO UNITARIO TOTAL APROXIMADO AL PESO | M43: =+M41 -> 35387.846
A45: CONTRATISTA: | G45: INTERVENTOR:
A51: Firma: | G51: Firma:
A52: OSCAR MEJIA ESCOBAR | G52: RAMON LOPEZ CAMARGO
A53: RL. SAICO INGENIERIA S.A.S | G53: RL. SOLUCIONES R&S S.A.S

Sheet NP2.3
A1: Consejo Superior de la Judicatura Dirección Seccional de Administración Judicial Sincelejo – Sucre
A2: =+[3]NP36!A3 -> ADECUACIONES LOCATIVAS Y REFORZAMIENTO ESTRUCTURAL A LA SEDE JUDICIAL DEL MUNICIPIO DE TOLUVIEJO SUCRE
A3: ANALISIS DE PRECIOS UNITARIOS
A5: DATOS ESPECÍFICOS
A7: ITEM | B7: DESCRIPCIÓN | K7: UNIDAD | M7: CANTIDAD
A8: =+'BALANCE NRO 2'!A66 -> NP2.3 | B8: =+'BALANCE NRO 2'!B66 -> Suministro e instalacion de cajas en pvc de 4x4 | K8: =+'BALANCE NRO 2'!C66 -> und | M8: =+'BALANCE NRO 2'!K66 -> 53
A9: I. EQUIPO
A12: DESCRIPCIÓN | F12: MARCA | H12: TIPO | J12: TARIFA/DIA | K12: RENDIMIENTO | M12: Vr. UNITARIO
A13: HERRAMAMIENTAS MENORES 10% M.O | M13: =ROUND(0.1*M39,0) -> 585
A17: SUBTOTAL $ | M17: =+SUM(M13:M16) -> 585
A18: II. MATERIALES
A21: DESCRIPCIÓN | I21: UNIDAD | J21: CANTIDAD | K21: PRECIO UNIT. | M21: Vr. UNITARIO
A22: CAJAS 4X4 PLASTICAS | I22: UND | J22: 1 | K22: 4252 | M22: =+J22*K22 -> 4252
A26: SUBTOTAL $ | M26: =+SUM(M22:M25) -> 4252
A27: III. TRANSPORTES
A30: MATERIAL | H30: VOL. o PESO | I30: DISTANCIA | J30: M3 o Ton/Km | K30: TARIFA | M30: Vr. UNITARIO
M31: =IF(K31>0,ROUND(J31*K31,0),0) -> 0
A32: SUBTOTAL $ | M32: =+SUM(M31:M31) -> 0
A33: IV. MANO DE OBRA
A36: TRABAJADOR | H36: JORNAL | I36: PRESTACIONES | J36: JORNAL TOTAL | K36: RENDIMIENTO | M36: Vr. UNITARIO
A37: OFICIAL | H37: 65000 | I37: 0.86 | J37: =+ROUND(H37*(1+I37),0) -> 120900 | K37: 35 | M37: =IF(K37>0,ROUND(J37/K37,0),0) -> 3454
A38: 1 AYUDANTE | H38: 45000 | I38: 0.86 | J38: =+ROUND(H38*(1+I38),0) -> 83700 | K38: 35 | M38: =IF(K38>0,ROUND(J38/K38,0),0) -> 2391
A39: SUBTOTAL $ | M39: =+SUM(M37:M38) -> 5845
A41: TOTAL COSTO DIRECTO $ | M41: =+M17+M26+M32+M39 -> 10682
A43: PRECIO UNITARIO TOTAL APROXIMADO AL PESO | M43: =+M41 -> 10682
A45: CONTRATISTA: | G45: INTERVENTOR:
A51: Firma: | G51: Firma:
A52: OSCAR MEJIA ESCOBAR | G52: RAMON LOPEZ CAMARGO
A53: RL. SAICO INGENIERIA S.A.S | G53: RL. SOLUCIONES R&S S.A.S

Sheet NP2.4
A1: Consejo Superior de la Judicatura Dirección Seccional de Administración Judicial Sincelejo – Sucre
A2: =+[3]NP36!A3 -> ADECUACIONES LOCATIVAS Y REFORZAMIENTO ESTRUCTURAL A LA SEDE JUDICIAL DEL MUNICIPIO DE TOLUVIEJO SUCRE
A3: ANALISIS DE PRECIOS UNITARIOS
A5: DATOS ESPECÍFICOS
A7: ITEM | B7: DESCRIPCIÓN | K7: UNIDAD | M7: CANTIDAD
A8: =+'BALANCE NRO 2'!A66 -> NP2.3 | B8: =+'BALANCE NRO 2'!B66 -> Suministro e instalacion de cajas en pvc de 4x4 | K8: =+'BALANCE NRO 2'!C66 -> und | M8: =+'BALANCE NRO 2'!K66 -> 53
A9: I. EQUIPO
A12: DESCRIPCIÓN | F12: MARCA | H12: TIPO | J12: TARIFA/DIA | K12: RENDIMIENTO | M12: Vr. UNITARIO
A13: HERRAMAMIENTAS MENORES 10% M.O | M13: =ROUND(0.1*M38,0) -> 10230
A17: SUBTOTAL $ | M17: =+SUM(M13:M16) -> 10230
A18: II. MATERIALES
A21: DESCRIPCIÓN | I21: UNIDAD | J21: CANTIDAD | K21: PRECIO UNIT. | M21: Vr. UNITARIO
A22: protectores para ventanas en acero inoxidable en tuberia de 1 pulgada y tubo de media en acero. | I22: m2 | J22: 1 | K22: 277090.13 | M22: =IF(K22>0,ROUND(J22*K22,0),0) -> 277090
A25: SUBTOTAL $ | M25: =+SUM(M22:M24) -> 277090
A26: III. TRANSPORTES
A29: MATERIAL | H29: VOL. o PESO | I29: DISTANCIA | J29: M3 o Ton/Km | K29: TARIFA | M29: Vr. UNITARIO
M30: =IF(K30>0,ROUND(J30*K30,0),0) -> 0
A31: SUBTOTAL $ | M31: =+SUM(M30:M30) -> 0
A32: IV. MANO DE OBRA
A35: TRABAJADOR | H35: JORNAL | I35: PRESTACIONES | J35: JORNAL TOTAL | K35: RENDIMIENTO | M35: Vr. UNITARIO
A36: OFICIAL | H36: 65000 | I36: 0.86 | J36: =+ROUND(H36*(1+I36),0) -> 120900 | K36: 2 | M36: =IF(K36>0,ROUND(J36/K36,0),0) -> 60450
A37: 1 AYUDANTE | H37: 45000 | I37: 0.86 | J37: =+ROUND(H37*(1+I37),0) -> 83700 | K37: 2 | M37: =IF(K37>0,ROUND(J37/K37,0),0) -> 41850
A38: SUBTOTAL $ | M38: =+SUM(M36:M37) -> 102300
A40: TOTAL COSTO DIRECTO $ | M40: =+M17+M25+M31+M38 -> 389620
A42: PRECIO UNITARIO TOTAL APROXIMADO AL PESO | M42: =+M40 -> 389620
A44: CONTRATISTA: | G44: INTERVENTOR:
A50: Firma: | G50: Firma:
A51: OSCAR MEJIA ESCOBAR | G51: RAMON LOPEZ CAMARGO
A52: RL. SAICO INGENIERIA S.A.S | G52: RL. SOLUCIONES R&S S.A.S

Sheet NP7
A2: Consejo Superior de la Judicatura Dirección Seccional de Administración Judicial Sincelejo – Sucre
A3: =+'BALANCE NRO 2'!G4 -> ADECUACIONES LOCATIVAS Y REFORZAMIENTO ESTRUCTURAL A LA SEDE JUDICIAL DEL MUNICIPIO DE TOLUVIEJO SUCRE
A4: ANALISIS DE PRECIOS UNITARIOS
A6: DATOS ESPECÍFICOS
A8: ITEM | B8: DESCRIPCIÓN | K8: UNIDAD | M8: CANTIDAD
A9: =+'BALANCE NRO 2'!#REF! -> #REF! | B9: =+'BALANCE NRO 2'!#REF! -> #REF! | K9: =+'BALANCE NRO 2'!#REF! -> #REF! | M9: =+'BALANCE NRO 2'!#REF! -> #REF!
A10: I. EQUIPO
A13: DESCRIPCIÓN | F13: MARCA | H13: TIPO | J13: TARIFA/HORA | K13: RENDIMIENTO | M13: Vr. UNITARIO
A14: HERRAMAMIENTAS MENORES 10% M.O | M14: =0.1*M41 -> 1534.5
M15: =K15*J15 -> 0
A18: SUBTOTAL $ | M18: =+ROUND(SUM(M14:M17),0) -> 1535
A19: II. MATERIALES
A22: DESCRIPCIÓN | I22: UNIDAD | J22: CANTIDAD | K22: PRECIO UNIT. | M22: Vr. UNITARIO
A23: PLANTA ORNAMENTAL | I23: UND | J23: 1 | K23: 40000 | M23: =+J23*K23 -> 40000
A24: BULTO DE ABONO ORGANICO | I24: UND | J24: 1 | K24: 18000 | M24: =+J24*K24 -> 18000
A26: SUBTOTAL $ | M26: =+SUM(M23:M25) -> 58000
A27: III. TRANSPORTES
A30: MATERIAL | H30: VOL. o PESO | I30: DISTANCIA | J30: M3 o Ton/Km | K30: TARIFA | M30: Vr. UNITARIO
M31: =IF(K31>0,ROUND(J31*K31,0),0) -> 0
A32: SUBTOTAL $ | M32: =+SUM(M31:M31) -> 0
A33: IV. MANO DE OBRA
A36: TRABAJADOR | H36: JORNAL | I36: PRESTACIONES | J36: JORNAL TOTAL | K36: RENDIMIENTO | M36: Vr. UNITARIO
A37: OFICIAL | H37: 70000 | I37: 0.86 | J37: =+ROUND(H37*(1+I37),0) -> 130200 | K37: 20 | M37: =+ROUND(J37/K37,0) -> 6510
A38: 2 AYUDANTE | H38: =2*47500 -> 95000 | I38: 0.86 | J38: =+ROUND(H38*(1+I38),0) -> 176700 | K38: 20 | M38: =IF(K38>0,ROUND(J38/K38,0),0) -> 8835
K39: 0
A41: SUBTOTAL $ | M41: =+SUM(M37:M40) -> 15345
A44: TOTAL COSTO DIRECTO $ | M44: =+M18+M26+M32+M41 -> 74880
A46: CONTRATISTA: | G46: INTERVENTOR:
A52: Firma: | G52: Firma:
A53: OSCAR MEJIA ESCOBAR | G53: RAMON LOPEZ CAMARGO
A54: RL. SAICO INGENIERIA S.A.S | G54: RL. SOLUCIONES R&S S.A.S

Sheet NP8
A2: Consejo Superior de la Judicatura Dirección Seccional de Administración Judicial Sincelejo – Sucre
A3: =+'BALANCE NRO 2'!G4 -> ADECUACIONES LOCATIVAS Y REFORZAMIENTO ESTRUCTURAL A LA SEDE JUDICIAL DEL MUNICIPIO DE TOLUVIEJO SUCRE
A4: ANALISIS DE PRECIOS UNITARIOS
A6: DATOS ESPECÍFICOS
A8: ITEM | B8: DESCRIPCIÓN | K8: UNIDAD | M8: CANTIDAD
A9: =+'BALANCE NRO 2'!#REF! -> #REF! | B9: =+'BALANCE NRO 2'!#REF! -> #REF! | K9: =+'BALANCE NRO 2'!#REF! -> #REF! | M9: =+'BALANCE NRO 2'!#REF! -> #REF!
A10: I. EQUIPO
A13: DESCRIPCIÓN | F13: MARCA | H13: TIPO | J13: TARIFA/HORA | K13: RENDIMIENTO | M13: Vr. UNITARIO
A14: HERRAMAMIENTAS MENORES 10% M.O | M14: =0.1*M45 -> 1805.3
M15: =K15*J15 -> 0
A18: SUBTOTAL $ | M18: =+ROUND(SUM(M14:M17),0) -> 1805
A19: II. MATERIALES
A22: DESCRIPCIÓN | I22: UNIDAD | J22: CANTIDAD | K22: PRECIO UNIT. | M22: Vr. UNITARIO
A23: CURVA DE 1/2" | I23: UND | J23: 1 | K23: 1100 | M23: =+J23*K23 -> 1100
A24: CAJA 4X4 | I24: UND | J24: 1 | K24: 1000 | M24: =+J24*K24 -> 1000
A25: SUPLEMENTO PVC | I25: UND | J25: 1 | K25: 900 | M25: =+J25*K25 -> 900
A26: CONECTORES | I26: UND | J26: 1 | K26: 900 | M26: =+J26*K26 -> 900
A27: INTERRUPTOR DOBLE | I27: UND | J27: 1 | K27: 62900 | M27: =+J27*K27 -> 62900
A30: SUBTOTAL $ | M30: =+SUM(M23:M29) -> 66800
A31: III. TRANSPORTES
A34: MATERIAL | H34: VOL. o PESO | I34: DISTANCIA | J34: M3 o Ton/Km | K34: TARIFA | M34: Vr. UNITARIO
M35: =IF(K35>0,ROUND(J35*K35,0),0) -> 0
A36: SUBTOTAL $ | M36: =+SUM(M35:M35) -> 0
A37: IV. MANO DE OBRA
A40: TRABAJADOR | H40: JORNAL | I40: PRESTACIONES | J40: JORNAL TOTAL | K40: RENDIMIENTO | M40: Vr. UNITARIO
A41: OFICIAL | H41: 70000 | I41: 0.86 | J41: =+ROUND(H41*(1+I41),0) -> 130200 | K41: 17 | M41: =+ROUND(J41/K41,0) -> 7659
A42: 2 AYUDANTE | H42: =2*47500 -> 95000 | I42: 0.86 | J42: =+ROUND(H42*(1+I42),0) -> 176700 | K42: 17 | M42: =IF(K42>0,ROUND(J42/K42,0),0) -> 10394
A45: SUBTOTAL $ | M45: =+SUM(M41:M44) -> 18053
A48: TOTAL COSTO DIRECTO $ | M48: =+M18+M30+M36+M45 -> 86658
A50: CONTRATISTA: | G50: INTERVENTOR:
A56: Firma: | G56: Firma:
A57: OSCAR MEJIA ESCOBAR | G57: RAMON LOPEZ CAMARGO
A58: RL. SAICO INGENIERIA S.A.S | G58: RL. SOLUCIONES R&S S.A.S

Sheet NP9
A2: Consejo Superior de la Judicatura Dirección Seccional de Administración Judicial Sincelejo – Sucre
A3: =+'BALANCE NRO 2'!G4 -> ADECUACIONES LOCATIVAS Y REFORZAMIENTO ESTRUCTURAL A LA SEDE JUDICIAL DEL MUNICIPIO DE TOLUVIEJO SUCRE
A4: ANALISIS DE PRECIOS UNITARIOS
A6: DATOS ESPECÍFICOS
A8: ITEM | B8: DESCRIPCIÓN | K8: UNIDAD | M8: CANTIDAD
A9: =+'BALANCE NRO 2'!#REF! -> #REF! | B9: =+'BALANCE NRO 2'!#REF! -> #REF! | K9: =+'BALANCE NRO 2'!#REF! -> #REF! | M9: =+'BALANCE NRO 2'!#REF! -> #REF!
A10: I. EQUIPO
A13: DESCRIPCIÓN | F13: MARCA | H13: TIPO | J13: TARIFA/HORA | K13: RENDIMIENTO | M13: Vr. UNITARIO
A14: HERRAMAMIENTAS MENORES 10% M.O | M14: =0.1*M45 -> 1805.3
M15: =K15*J15 -> 0
A18: SUBTOTAL $ | M18: =+ROUND(SUM(M14:M17),0) -> 1805
A19: II. MATERIALES
A22: DESCRIPCIÓN | I22: UNIDAD | J22: CANTIDAD | K22: PRECIO UNIT. | M22: Vr. UNITARIO
A23: CURVA DE 1/2" | I23: UND | J23: 1 | K23: 1100 | M23: =+J23*K23 -> 1100
A24: CAJA 4X4 | I24: UND | J24: 1 | K24: 1000 | M24: =+J24*K24 -> 1000
A25: SUPLEMENTO PVC | I25: UND | J25: 1 | K25: 900 | M25: =+J25*K25 -> 900
A26: CONECTORES | I26: UND | J26: 1 | K26: 900 | M26: =+J26*K26 -> 900
A27: INTERRUPTOR SENCILLO | I27: UND | J27: 1 | K27: 35000 | M27: =+J27*K27 -> 35000
A30: SUBTOTAL $ | M30: =+SUM(M23:M29) -> 38900
A31: III. TRANSPORTES
A34: MATERIAL | H34: VOL. o PESO | I34: DISTANCIA | J34: M3 o Ton/Km | K34: TARIFA | M34: Vr. UNITARIO
M35: =IF(K35>0,ROUND(J35*K35,0),0) -> 0
A36: SUBTOTAL $ | M36: =+SUM(M35:M35) -> 0
A37: IV. MANO DE OBRA
A40: TRABAJADOR | H40: JORNAL | I40: PRESTACIONES | J40: JORNAL TOTAL | K40: RENDIMIENTO | M40: Vr. UNITARIO
A41: OFICIAL | H41: 70000 | I41: 0.86 | J41: =+ROUND(H41*(1+I41),0) -> 130200 | K41: 17 | M41: =+ROUND(J41/K41,0) -> 7659
A42: 2 AYUDANTE | H42: =2*47500 -> 95000 | I42: 0.86 | J42: =+ROUND(H42*(1+I42),0) -> 176700 | K42: 17 | M42: =IF(K42>0,ROUND(J42/K42,0),0) -> 10394
A45: SUBTOTAL $ | M45: =+SUM(M41:M44) -> 18053
A48: TOTAL COSTO DIRECTO $ | M48: =+M18+M30+M36+M45 -> 58758
A50: CONTRATISTA: | G50: INTERVENTOR:
A56: Firma: | G56: Firma:
A57: OSCAR MEJIA ESCOBAR | G57: RAMON LOPEZ CAMARGO
A58: RL. SAICO INGENIERIA S.A.S | G58: RL. SOLUCIONES R&S S.A.S

Sheet NP10
A2: Consejo Superior de la Judicatura Dirección Seccional de Administración Judicial Sincelejo – Sucre
A3: =+'BALANCE NRO 2'!G4 -> ADECUACIONES LOCATIVAS Y REFORZAMIENTO ESTRUCTURAL A LA SEDE JUDICIAL DEL MUNICIPIO DE TOLUVIEJO SUCRE
A4: ANALISIS DE PRECIOS UNITARIOS
A6: DATOS ESPECÍFICOS
A8: ITEM | B8: DESCRIPCIÓN | K8: UNIDAD | M8: CANTIDAD
A9: =+'BALANCE NRO 2'!#REF! -> #REF! | B9: =+'BALANCE NRO 2'!#REF! -> #REF! | K9: =+'BALANCE NRO 2'!#REF! -> #REF! | M9: =+'BALANCE NRO 2'!#REF! -> #REF!
A10: I. EQUIPO
A13: DESCRIPCIÓN | F13: MARCA | H13: TIPO | J13: TARIFA/HORA | K13: RENDIMIENTO | M13: Vr. UNITARIO
A14: HERRAMAMIENTAS MENORES 10% M.O | M14: =0.1*M44 -> 1805.3
M15: =K15*J15 -> 0
A18: SUBTOTAL $ | M18: =+ROUND(SUM(M14:M17),0) -> 1805
A19: II. MATERIALES
A22: DESCRIPCIÓN | I22: UNIDAD | J22: CANTIDAD | K22: PRECIO UNIT. | M22: Vr. UNITARIO
A23: CURVA DE 1/2" | I23: UND | J23: 1 | K23: 1100 | M23: =+J23*K23 -> 1100
A24: CAJA 4X4 | I24: UND | J24: 1 | K24: 1000 | M24: =+J24*K24 -> 1000
A25: SUPLEMENTO PVC | I25: UND | J25: 1 | K25: 900 | M25: =+J25*K25 -> 900
A26: CONECTORES | I26: UND | J26: 1 | K26: 900 | M26: =+J26*K26 -> 900
A27: INTERRUPTOR TRIPLE | I27: UND | J27: 1 | K27: 85000 | M27: =+J27*K27 -> 85000
A29: SUBTOTAL $ | M29: =+SUM(M23:M28) -> 88900
A30: III. TRANSPORTES
A33: MATERIAL | H33: VOL. o PESO | I33: DISTANCIA | J33: M3 o Ton/Km | K33: TARIFA | M33: Vr. UNITARIO
M34: =IF(K34>0,ROUND(J34*K34,0),0) -> 0
A35: SUBTOTAL $ | M35: =+SUM(M34:M34) -> 0
A36: IV. MANO DE OBRA
A39: TRABAJADOR | H39: JORNAL | I39: PRESTACIONES | J39: JORNAL TOTAL | K39: RENDIMIENTO | M39: Vr. UNITARIO
A40: OFICIAL | H40: 70000 | I40: 0.86 | J40: =+ROUND(H40*(1+I40),0) -> 130200 | K40: 17 | M40: =+ROUND(J40/K40,0) -> 7659
A41: 2 AYUDANTE | H41: =2*47500 -> 95000 | I41: 0.86 | J41: =+ROUND(H41*(1+I41),0) -> 176700 | K41: 17 | M41: =IF(K41>0,ROUND(J41/K41,0),0) -> 10394
A44: SUBTOTAL $ | M44: =+SUM(M40:M43) -> 18053
A47: TOTAL COSTO DIRECTO $ | M47: =+M18+M29+M35+M44 -> 108758
A49: CONTRATISTA: | G49: INTERVENTOR:
A55: Firma: | G55: Firma:
A56: OSCAR MEJIA ESCOBAR | G56: RAMON LOPEZ CAMARGO
A57: RL. SAICO INGENIERIA S.A.S | G57: RL. SOLUCIONES R&S S.A.S

Sheet NP11
A2: Consejo Superior de la Judicatura Dirección Seccional de Administración Judicial Sincelejo – Sucre
A3: =+'BALANCE NRO 2'!G4 -> ADECUACIONES LOCATIVAS Y REFORZAMIENTO ESTRUCTURAL A LA SEDE JUDICIAL DEL MUNICIPIO DE TOLUVIEJO SUCRE
A4: ANALISIS DE PRECIOS UNITARIOS
A6: DATOS ESPECÍFICOS
A8: ITEM | B8: DESCRIPCIÓN | K8: UNIDAD | M8: CANTIDAD
A9: =+'BALANCE NRO 2'!#REF! -> #REF! | B9: =+'BALANCE NRO 2'!#REF! -> #REF! | K9: =+'BALANCE NRO 2'!#REF! -> #REF! | M9: =+'BALANCE NRO 2'!#REF! -> #REF!
A10: I. EQUIPO
A13: DESCRIPCIÓN | F13: MARCA | H13: TIPO | J13: TARIFA/HORA | K13: RENDIMIENTO | M13: Vr. UNITARIO
A14: HERRAMAMIENTAS MENORES 10% M.O | M14: =0.1*M45 -> 1805.3
M15: =K15*J15 -> 0
A18: SUBTOTAL $ | M18: =+ROUND(SUM(M14:M17),0) -> 1805
A19: II. MATERIALES
A22: DESCRIPCIÓN | I22: UNIDAD | J22: CANTIDAD | K22: PRECIO UNIT. | M22: Vr. UNITARIO
A23: CURVA DE 1/2" | I23: UND | J23: 1 | K23: 1100 | M23: =+J23*K23 -> 1100
A24: CAJA 4X4 | I24: UND | J24: 1 | K24: 1000 | M24: =+J24*K24 -> 1000
A25: SUPLEMENTO PVC | I25: UND | J25: 1 | K25: 900 | M25: =+J25*K25 -> 900
A26: CONECTORES | I26: UND | J26: 1 | K26: 900 | M26: =+J26*K26 -> 900
A27: TOMACORRIENTE DOBLE | I27: UND | J27: 1 | K27: 28000 | M27: =+J27*K27 -> 28000
A30: SUBTOTAL $ | M30: =+ROUND(SUM(M23:M29),0) -> 31900
A31: III. TRANSPORTES
A34: MATERIAL | H34: VOL. o PESO | I34: DISTANCIA | J34: M3 o Ton/Km | K34: TARIFA | M34: Vr. UNITARIO
M35: =IF(K35>0,ROUND(J35*K35,0),0) -> 0
A36: SUBTOTAL $ | M36: =+SUM(M35:M35) -> 0
A37: IV. MANO DE OBRA
A40: TRABAJADOR | H40: JORNAL | I40: PRESTACIONES | J40: JORNAL TOTAL | K40: RENDIMIENTO | M40: Vr. UNITARIO
A41: OFICIAL | H41: 70000 | I41: 0.86 | J41: =+ROUND(H41*(1+I41),0) -> 130200 | K41: 17 | M41: =+ROUND(J41/K41,0) -> 7659
A42: 2 AYUDANTE | H42: =2*47500 -> 95000 | I42: 0.86 | J42: =+ROUND(H42*(1+I42),0) -> 176700 | K42: 17 | M42: =IF(K42>0,ROUND(J42/K42,0),0) -> 10394
A45: SUBTOTAL $ | M45: =+SUM(M41:M44) -> 18053
A48: TOTAL COSTO DIRECTO $ | M48: =+M18+M30+M36+M45 -> 51758
A50: CONTRATISTA: | G50: INTERVENTOR:
A56: Firma: | G56: Firma:
A57: OSCAR MEJIA ESCOBAR | G57: RAMON LOPEZ CAMARGO
A58: RL. SAICO INGENIERIA S.A.S | G58: RL. SOLUCIONES R&S S.A.S

Sheet NP12
A2: Consejo Superior de la Judicatura Dirección Seccional de Administración Judicial Sincelejo – Sucre
A3: =+'BALANCE NRO 2'!G4 -> ADECUACIONES LOCATIVAS Y REFORZAMIENTO ESTRUCTURAL A LA SEDE JUDICIAL DEL MUNICIPIO DE TOLUVIEJO SUCRE
A4: ANALISIS DE PRECIOS UNITARIOS
A6: DATOS ESPECÍFICOS
A8: ITEM | B8: DESCRIPCIÓN | K8: UNIDAD | M8: CANTIDAD
A9: =+'BALANCE NRO 2'!#REF! -> #REF! | B9: =+'BALANCE NRO 2'!#REF! -> #REF! | K9: =+'BALANCE NRO 2'!#REF! -> #REF! | M9: =+'BALANCE NRO 2'!#REF! -> #REF!
A10: I. EQUIPO
A13: DESCRIPCIÓN | F13: MARCA | H13: TIPO | J13: TARIFA/HORA | K13: RENDIMIENTO | M13: Vr. UNITARIO
A14: HERRAMAMIENTAS MENORES 10% M.O | M14: =0.1*M45 -> 1805.3
M15: =K15*J15 -> 0
A18: SUBTOTAL $ | M18: =+ROUND(SUM(M14:M17),0) -> 1805
A19: II. MATERIALES
A22: DESCRIPCIÓN | I22: UNIDAD | J22: CANTIDAD | K22: PRECIO UNIT. | M22: Vr. UNITARIO
A23: CURVA DE 1/2" | I23: UND | J23: 1 | K23: 1100 | M23: =+J23*K23 -> 1100
A24: CAJA 4X4 | I24: UND | J24: 1 | K24: 1000 | M24: =+J24*K24 -> 1000
A25: SUPLEMENTO PVC | I25: UND | J25: 1 | K25: 900 | M25: =+J25*K25 -> 900
A26: CONECTORES | I26: UND | J26: 1 | K26: 900 | M26: =+J26*K26 -> 900
A27: TOMACORRIENTE REGULADO | I27: UND | J27: 1 | K27: 35000 | M27: =+J27*K27 -> 35000
A30: SUBTOTAL $ | M30: =+SUM(M27:M29) -> 35000
A31: III. TRANSPORTES
A34: MATERIAL | H34: VOL. o PESO | I34: DISTANCIA | J34: M3 o Ton/Km | K34: TARIFA | M34: Vr. UNITARIO
M35: =IF(K35>0,ROUND(J35*K35,0),0) -> 0
A36: SUBTOTAL $ | M36: =+SUM(M35:M35) -> 0
A37: IV. MANO DE OBRA
A40: TRABAJADOR | H40: JORNAL | I40: PRESTACIONES | J40: JORNAL TOTAL | K40: RENDIMIENTO | M40: Vr. UNITARIO
A41: OFICIAL | H41: 70000 | I41: 0.86 | J41: =+ROUND(H41*(1+I41),0) -> 130200 | K41: 17 | M41: =+ROUND(J41/K41,0) -> 7659
A42: 2 AYUDANTE | H42: =2*47500 -> 95000 | I42: 0.86 | J42: =+ROUND(H42*(1+I42),0) -> 176700 | K42: 17 | M42: =IF(K42>0,ROUND(J42/K42,0),0) -> 10394
A45: SUBTOTAL $ | M45: =+SUM(M41:M44) -> 18053
A48: TOTAL COSTO DIRECTO $ | M48: =+M18+M30+M36+M45 -> 54858
A50: CONTRATISTA: | G50: INTERVENTOR:
A56: Firma: | G56: Firma:
A57: OSCAR MEJIA ESCOBAR | G57: RAMON LOPEZ CAMARGO
A58: RL. SAICO INGENIERIA S.A.S | G58: RL. SOLUCIONES R&S S.A.S

Sheet NP13
A2: Consejo Superior de la Judicatura Dirección Seccional de Administración Judicial Sincelejo – Sucre
A3: =+'BALANCE NRO 2'!G4 -> ADECUACIONES LOCATIVAS Y REFORZAMIENTO ESTRUCTURAL A LA SEDE JUDICIAL DEL MUNICIPIO DE TOLUVIEJO SUCRE
A4: ANALISIS DE PRECIOS UNITARIOS
A6: DATOS ESPECÍFICOS
A8: ITEM | B8: DESCRIPCIÓN | K8: UNIDAD | M8: CANTIDAD
A9: =+'BALANCE NRO 2'!#REF! -> #REF! | B9: =+'BALANCE NRO 2'!#REF! -> #REF! | K9: =+'BALANCE NRO 2'!#REF! -> #REF! | M9: =+'BALANCE NRO 2'!#REF! -> #REF!
A10: I. EQUIPO
A13: DESCRIPCIÓN | F13: MARCA | H13: TIPO | J13: TARIFA/HORA | K13: RENDIMIENTO | M13: Vr. UNITARIO
A14: HERRAMAMIENTAS MENORES 10% M.O | M14: =0.1*M45 -> 1805.3
M15: =K15*J15 -> 0
A18: SUBTOTAL $ | M18: =+ROUND(SUM(M14:M17),0) -> 1805
A19: II. MATERIALES
A22: DESCRIPCIÓN | I22: UNIDAD | J22: CANTIDAD | K22: PRECIO UNIT. | M22: Vr. UNITARIO
A23: CURVA DE 1/2" | I23: UND | J23: 1 | K23: 1100 | M23: =+J23*K23 -> 1100
A24: CAJA 4X4 | I24: UND | J24: 1 | K24: 1000 | M24: =+J24*K24 -> 1000
A25: SUPLEMENTO PVC | I25: UND | J25: 1 | K25: 900 | M25: =+J25*K25 -> 900
A26: CONECTORES | I26: UND | J26: 1 | K26: 900 | M26: =+J26*K26 -> 900
A27: TOMACORRIENTE GFCI | I27: UND | J27: 1 | K27: 38000 | M27: =+J27*K27 -> 38000
A30: SUBTOTAL $ | M30: =+SUM(M27:M29) -> 38000
A31: III. TRANSPORTES
A34: MATERIAL | H34: VOL. o PESO | I34: DISTANCIA | J34: M3 o Ton/Km | K34: TARIFA | M34: Vr. UNITARIO
M35: =IF(K35>0,ROUND(J35*K35,0),0) -> 0
A36: SUBTOTAL $ | M36: =+SUM(M35:M35) -> 0
A37: IV. MANO DE OBRA
A40: TRABAJADOR | H40: JORNAL | I40: PRESTACIONES | J40: JORNAL TOTAL | K40: RENDIMIENTO | M40: Vr. UNITARIO
A41: OFICIAL | H41: 70000 | I41: 0.86 | J41: =+ROUND(H41*(1+I41),0) -> 130200 | K41: 17 | M41: =+ROUND(J41/K41,0) -> 7659
A42: 2 AYUDANTE | H42: =2*47500 -> 95000 | I42: 0.86 | J42: =+ROUND(H42*(1+I42),0) -> 176700 | K42: 17 | M42: =IF(K42>0,ROUND(J42/K42,0),0) -> 10394
A45: SUBTOTAL $ | M45: =+SUM(M41:M44) -> 18053
A48: TOTAL COSTO DIRECTO $ | M48: =+M18+M30+M36+M45 -> 57858
A50: CONTRATISTA: | G50: INTERVENTOR:
A56: Firma: | G56: Firma:
A57: OSCAR MEJIA ESCOBAR | G57: RAMON LOPEZ CAMARGO
A58: RL. SAICO INGENIERIA S.A.S | G58: RL. SOLUCIONES R&S S.A.S

Sheet NP14
A2: Consejo Superior de la Judicatura Dirección Seccional de Administración Judicial Sincelejo – Sucre
A3: =+'BALANCE NRO 2'!G4 -> ADECUACIONES LOCATIVAS Y REFORZAMIENTO ESTRUCTURAL A LA SEDE JUDICIAL DEL MUNICIPIO DE TOLUVIEJO SUCRE
A4: ANALISIS DE PRECIOS UNITARIOS
A6: DATOS ESPECÍFICOS
A8: ITEM | B8: DESCRIPCIÓN | K8: UNIDAD | M8: CANTIDAD
A9: =+'BALANCE NRO 2'!#REF! -> #REF! | B9: =+'BALANCE NRO 2'!#REF! -> #REF! | K9: =+'BALANCE NRO 2'!#REF! -> #REF! | M9: =+'BALANCE NRO 2'!#REF! -> #REF!
A10: I. EQUIPO
A13: DESCRIPCIÓN | F13: MARCA | H13: TIPO | J13: TARIFA/HORA | K13: RENDIMIENTO | M13: Vr. UNITARIO
A14: HERRAMAMIENTAS MENORES 10% M.O | M14: =0.1*M46 -> 2046
M15: =K15*J15 -> 0
A18: SUBTOTAL $ | M18: =+ROUND(SUM(M14:M17),0) -> 2046
A19: II. MATERIALES
A22: DESCRIPCIÓN | I22: UNIDAD | J22: CANTIDAD | K22: PRECIO UNIT. | M22: Vr. UNITARIO
A23: CURVA DE 1/2" | I23: UND | J23: 1 | K23: 1100 | M23: =+J23*K23 -> 1100
A24: CAJA 4X4 | I24: UND | J24: 1 | K24: 1000 | M24: =+J24*K24 -> 1000
A25: SUPLEMENTO PVC | I25: UND | J25: 1 | K25: 900 | M25: =+J25*K25 -> 900
A26: CONECTORES | I26: UND | J26: 1 | K26: 900 | M26: =+J26*K26 -> 900
A27: LAMPARA LED DE INCRUSTAR DE 9W | I27: UND | J27: 1 | K27: 12500 | M27: =+J27*K27 -> 12500
A28: CABLE ENCAUCEHTADO | I28: ML | J28: 3 | K28: 5500 | M28: =+J28*K28 -> 16500
A31: SUBTOTAL $ | M31: =+SUM(M23:M30) -> 32900
A32: III. TRANSPORTES
A35: MATERIAL | H35: VOL. o PESO | I35: DISTANCIA | J35: M3 o Ton/Km | K35: TARIFA | M35: Vr. UNITARIO
M36: =IF(K36>0,ROUND(J36*K36,0),0) -> 0
A37: SUBTOTAL $ | M37: =+SUM(M36:M36) -> 0
A38: IV. MANO DE OBRA
A41: TRABAJADOR | H41: JORNAL | I41: PRESTACIONES | J41: JORNAL TOTAL | K41: RENDIMIENTO | M41: Vr. UNITARIO
A42: OFICIAL | H42: 70000 | I42: 0.86 | J42: =+ROUND(H42*(1+I42),0) -> 130200 | K42: 15 | M42: =+ROUND(J42/K42,0) -> 8680
A43: 2 AYUDANTE | H43: =2*47500 -> 95000 | I43: 0.86 | J43: =+ROUND(H43*(1+I43),0) -> 176700 | K43: 15 | M43: =IF(K43>0,ROUND(J43/K43,0),0) -> 11780
A46: SUBTOTAL $ | M46: =+SUM(M42:M45) -> 20460
A49: TOTAL COSTO DIRECTO $ | M49: =+M18+M31+M37+M46 -> 55406
A51: CONTRATISTA: | G51: INTERVENTOR:
A57: Firma: | G57: Firma:
A58: OSCAR MEJIA ESCOBAR | G58: RAMON LOPEZ CAMARGO
A59: RL. SAICO INGENIERIA S.A.S | G59: RL. SOLUCIONES R&S S.A.S

Sheet NP15
A2: Consejo Superior de la Judicatura Dirección Seccional de Administración Judicial Sincelejo – Sucre
A3: =+'BALANCE NRO 2'!G4 -> ADECUACIONES LOCATIVAS Y REFORZAMIENTO ESTRUCTURAL A LA SEDE JUDICIAL DEL MUNICIPIO DE TOLUVIEJO SUCRE
A4: ANALISIS DE PRECIOS UNITARIOS
A6: DATOS ESPECÍFICOS
A8: ITEM | B8: DESCRIPCIÓN | K8: UNIDAD | M8: CANTIDAD
A9: =+'BALANCE NRO 2'!#REF! -> #REF! | B9: =+'BALANCE NRO 2'!#REF! -> #REF! | K9: =+'BALANCE NRO 2'!#REF! -> #REF! | M9: =+'BALANCE NRO 2'!#REF! -> #REF!
A10: I. EQUIPO
A13: DESCRIPCIÓN | F13: MARCA | H13: TIPO | J13: TARIFA/HORA | K13: RENDIMIENTO | M13: Vr. UNITARIO
A14: HERRAMAMIENTAS MENORES 10% M.O | M14: =0.1*M47 -> 2046
M15: =K15*J15 -> 0
A18: SUBTOTAL $ | M18: =+ROUND(SUM(M14:M17),0) -> 2046
A19: II. MATERIALES
A22: DESCRIPCIÓN | I22: UNIDAD | J22: CANTIDAD | K22: PRECIO UNIT. | M22: Vr. UNITARIO
A23: CURVA DE 1/2" | I23: UND | J23: 1 | K23: 1100 | M23: =+J23*K23 -> 1100
A24: CAJA 4X4 | I24: UND | J24: 1 | K24: 1000 | M24: =+J24*K24 -> 1000
A25: SUPLEMENTO PVC | I25: UND | J25: 1 | K25: 900 | M25: =+J25*K25 -> 900
A26: CONECTORES | I26: UND | J26: 1 | K26: 900 | M26: =+J26*K26 -> 900
A27: CABLE ENCAUCEHTADO | I27: ML | J27: 3 | K27: 5500 | M27: =+J27*K27 -> 16500
A28: LAMPARA LED DE INCRUSTAR DE 18W | I28: UND | J28: 1 | K28: 21000 | M28: =+J28*K28 -> 21000
A32: SUBTOTAL $ | M32: =+SUM(M23:M31) -> 41400
A33: III. TRANSPORTES
A36: MATERIAL | H36: VOL. o PESO | I36: DISTANCIA | J36: M3 o Ton/Km | K36: TARIFA | M36: Vr. UNITARIO
M37: =IF(K37>0,ROUND(J37*K37,0),0) -> 0
A38: SUBTOTAL $ | M38: =+SUM(M37:M37) -> 0
A39: IV. MANO DE OBRA
A42: TRABAJADOR | H42: JORNAL | I42: PRESTACIONES | J42: JORNAL TOTAL | K42: RENDIMIENTO | M42: Vr. UNITARIO
A43: OFICIAL | H43: 70000 | I43: 0.86 | J43: =+ROUND(H43*(1+I43),0) -> 130200 | K43: 15 | M43: =+ROUND(J43/K43,0) -> 8680
A44: 2 AYUDANTE | H44: =2*47500 -> 95000 | I44: 0.86 | J44: =+ROUND(H44*(1+I44),0) -> 176700 | K44: 15 | M44: =IF(K44>0,ROUND(J44/K44,0),0) -> 11780
A47: SUBTOTAL $ | M47: =+SUM(M43:M46) -> 20460
A50: TOTAL COSTO DIRECTO $ | M50: =+M18+M32+M38+M47 -> 63906
A52: CONTRATISTA: | G52: INTERVENTOR:
A58: Firma: | G58: Firma:
A59: OSCAR MEJIA ESCOBAR | G59: RAMON LOPEZ CAMARGO
A60: RL. SAICO INGENIERIA S.A.S | G60: RL. SOLUCIONES R&S S.A.S

Sheet NP16
A2: Consejo Superior de la Judicatura Dirección Seccional de Administración Judicial Sincelejo – Sucre
A3: =+'BALANCE NRO 2'!G4 -> ADECUACIONES LOCATIVAS Y REFORZAMIENTO ESTRUCTURAL A LA SEDE JUDICIAL DEL MUNICIPIO DE TOLUVIEJO SUCRE
A4: ANALISIS DE PRECIOS UNITARIOS
A6: DATOS ESPECÍFICOS
A8: ITEM | B8: DESCRIPCIÓN | K8: UNIDAD | M8: CANTIDAD
A9: =+'BALANCE NRO 2'!#REF! -> #REF! | B9: =+'BALANCE NRO 2'!#REF! -> #REF! | K9: =+'BALANCE NRO 2'!#REF! -> #REF! | M9: =+'BALANCE NRO 2'!#REF! -> #REF!
A10: I. EQUIPO
A13: DESCRIPCIÓN | F13: MARCA | H13: TIPO | J13: TARIFA/HORA | K13: RENDIMIENTO | M13: Vr. UNITARIO
A14: HERRAMAMIENTAS MENORES 10% M.O | M14: =0.1*M47 -> 2046
M15: =K15*J15 -> 0
A18: SUBTOTAL $ | M18: =+ROUND(SUM(M14:M17),0) -> 2046
A19: II. MATERIALES
A22: DESCRIPCIÓN | I22: UNIDAD | J22: CANTIDAD | K22: PRECIO UNIT. | M22: Vr. UNITARIO
A23: CURVA DE 1/2" | I23: UND | J23: 1 | K23: 1100 | M23: =+J23*K23 -> 1100
A24: CAJA 4X4 | I24: UND | J24: 1 | K24: 1000 | M24: =+J24*K24 -> 1000
A25: SUPLEMENTO PVC | I25: UND | J25: 1 | K25: 900 | M25: =+J25*K25 -> 900
A26: CONECTORES | I26: UND | J26: 1 | K26: 900 | M26: =+J26*K26 -> 900
A27: CABLE ENCAUCEHTADO | I27: ML | J27: 3 | K27: 5500 | M27: =+J27*K27 -> 16500
A28: PANEL LED 60X60 | I28: UND | J28: 1 | K28: 85000 | M28: =+J28*K28 -> 85000
A32: SUBTOTAL $ | M32: =+SUM(M23:M31) -> 105400
A33: III. TRANSPORTES
A36: MATERIAL | H36: VOL. o PESO | I36: DISTANCIA | J36: M3 o Ton/Km | K36: TARIFA | M36: Vr. UNITARIO
M37: =IF(K37>0,ROUND(J37*K37,0),0) -> 0
A38: SUBTOTAL $ | M38: =+SUM(M37:M37) -> 0
A39: IV. MANO DE OBRA
A42: TRABAJADOR | H42: JORNAL | I42: PRESTACIONES | J42: JORNAL TOTAL | K42: RENDIMIENTO | M42: Vr. UNITARIO
A43: OFICIAL | H43: 70000 | I43: 0.86 | J43: =+ROUND(H43*(1+I43),0) -> 130200 | K43: 15 | M43: =+ROUND(J43/K43,0) -> 8680
A44: 2 AYUDANTE | H44: =2*47500 -> 95000 | I44: 0.86 | J44: =+ROUND(H44*(1+I44),0) -> 176700 | K44: 15 | M44: =IF(K44>0,ROUND(J44/K44,0),0) -> 11780
A47: SUBTOTAL $ | M47: =+SUM(M43:M46) -> 20460
A50: TOTAL COSTO DIRECTO $ | M50: =+M18+M32+M38+M47 -> 127906
A52: CONTRATISTA: | G52: INTERVENTOR:
A58: Firma: | G58: Firma:
A59: OSCAR MEJIA ESCOBAR | G59: RAMON LOPEZ CAMARGO
A60: RL. SAICO INGENIERIA S.A.S | G60: RL. SOLUCIONES R&S S.A.S

Sheet NP17
A2: Consejo Superior de la Judicatura Dirección Seccional de Administración Judicial Sincelejo – Sucre
A3: =+'BALANCE NRO 2'!G4 -> ADECUACIONES LOCATIVAS Y REFORZAMIENTO ESTRUCTURAL A LA SEDE JUDICIAL DEL MUNICIPIO DE TOLUVIEJO SUCRE
A4: ANALISIS DE PRECIOS UNITARIOS
A6: DATOS ESPECÍFICOS
A8: ITEM | B8: DESCRIPCIÓN | K8: UNIDAD | M8: CANTIDAD
A9: =+'BALANCE NRO 2'!#REF! -> #REF! | B9: =+'BALANCE NRO 2'!#REF! -> #REF! | K9: =+'BALANCE NRO 2'!#REF! -> #REF! | M9: =+'BALANCE NRO 2'!#REF! -> #REF!
A10: I. EQUIPO
A13: DESCRIPCIÓN | F13: MARCA | H13: TIPO | J13: TARIFA/HORA | K13: RENDIMIENTO | M13: Vr. UNITARIO
A14: HERRAMAMIENTAS MENORES 10% M.O | M14: =0.1*M44 -> 5115
M15: =K15*J15 -> 0
A18: SUBTOTAL $ | M18: =+ROUND(SUM(M14:M17),0) -> 5115
A19: II. MATERIALES
A22: DESCRIPCIÓN | I22: UNIDAD | J22: CANTIDAD | K22: PRECIO UNIT. | M22: Vr. UNITARIO
A23: TOMA TELEFONICA RJ11 LUZICA BLANCO | I23: UND | J23: 1 | K23: 17900 | M23: =+J23*K23 -> 17900
A24: CAJA 4X4 | I24: UND | J24: 1 | K24: 1000 | M24: =+J24*K24 -> 1000
A25: SUPLEMENTO PVC | I25: UND | J25: 1 | K25: 900 | M25: =+J25*K25 -> 900
A26: CONECTORES | I26: UND | J26: 1 | K26: 900 | M26: =+J26*K26 -> 900
A29: SUBTOTAL $ | M29: =+SUM(M23:M28) -> 20700
A30: III. TRANSPORTES
A33: MATERIAL | H33: VOL. o PESO | I33: DISTANCIA | J33: M3 o Ton/Km | K33: TARIFA | M33: Vr. UNITARIO
M34: =IF(K34>0,ROUND(J34*K34,0),0) -> 0
A35: SUBTOTAL $ | M35: =+SUM(M34:M34) -> 0
A36: IV. MANO DE OBRA
A39: TRABAJADOR | H39: JORNAL | I39: PRESTACIONES | J39: JORNAL TOTAL | K39: RENDIMIENTO | M39: Vr. UNITARIO
A40: OFICIAL | H40: 70000 | I40: 0.86 | J40: =+ROUND(H40*(1+I40),0) -> 130200 | K40: 6 | M40: =+ROUND(J40/K40,0) -> 21700
A41: 2 AYUDANTE | H41: =2*47500 -> 95000 | I41: 0.86 | J41: =+ROUND(H41*(1+I41),0) -> 176700 | K41: 6 | M41: =IF(K41>0,ROUND(J41/K41,0),0) -> 29450
A44: SUBTOTAL $ | M44: =+SUM(M40:M43) -> 51150
A47: TOTAL COSTO DIRECTO $ | M47: =+M18+M29+M35+M44 -> 76965
A49: CONTRATISTA: | G49: INTERVENTOR:
A55: Firma: | G55: Firma:
A56: OSCAR MEJIA ESCOBAR | G56: RAMON LOPEZ CAMARGO
A57: RL. SAICO INGENIERIA S.A.S | G57: RL. SOLUCIONES R&S S.A.S

Sheet NP18
A2: Consejo Superior de la Judicatura Dirección Seccional de Administración Judicial Sincelejo – Sucre
A3: =+'BALANCE NRO 2'!G4 -> ADECUACIONES LOCATIVAS Y REFORZAMIENTO ESTRUCTURAL A LA SEDE JUDICIAL DEL MUNICIPIO DE TOLUVIEJO SUCRE
A4: ANALISIS DE PRECIOS UNITARIOS
A6: DATOS ESPECÍFICOS
A8: ITEM | B8: DESCRIPCIÓN | K8: UNIDAD | M8: CANTIDAD
A9: =+'BALANCE NRO 2'!#REF! -> #REF! | B9: =+'BALANCE NRO 2'!#REF! -> #REF! | K9: =+'BALANCE NRO 2'!#REF! -> #REF! | M9: =+'BALANCE NRO 2'!#REF! -> #REF!
A10: I. EQUIPO
A13: DESCRIPCIÓN | F13: MARCA | H13: TIPO | J13: TARIFA/HORA | K13: RENDIMIENTO | M13: Vr. UNITARIO
A14: HERRAMAMIENTAS MENORES 10% M.O | M14: =0.1*M41 -> 255.8
M15: =K15*J15 -> 0
