Workbook

Sheet CAM Y CONSEJO
A1: ITEM | B1: DESCRIPCION | C1: UNIDAD | D1: CANTIDAD | E1: VALOR UNIT. | F1: VALOR TOTAL
A2: 1 | B2: PRELIMINARES
A3: 1.1 | B3: Desmonte de sanitarios (primer piso) | C3: Un | D3: 5 | E3: 16303 | F3: =ROUND(E3*D3,2) -> 81515
A4: 1.2 | B4: Demolición de repello de muros | C4: M2 | D4: 1194.3 | E4: 7678 | F4: =ROUND(E4*D4,2) -> 9169835.4
A5: 1.3 | B5: Desmonte y retiro de bajantes metálicos en mal estado | C5: Ml | D5: 94.52 | E5: 3715 | F5: =ROUND(E5*D5,2) -> 351141.8
A6: 1.4 | B6: Desmonte y retiro de canales en lámina en mal estado | C6: Ml | D6: 66.31 | E6: 8606 | F6: =ROUND(E6*D6,2) -> 570663.86
A7: 1.5 | B7: Desmonte de cielo falso en panel yeso. | C7: M2 | D7: 21.81 | E7: 4628 | F7: =ROUND(E7*D7,2) -> 100936.68
A8: 2 | B8: REVESTIMIENTOS Y ACABADOS
A9: 2.1 | B9: Repello de muros en mortero 1:3 | C9: M2 | D9: 1194.29 | E9: 18507 | F9: =ROUND(E9*D9,2) -> 22102725
A10: 2.2 | B10: Pintura en vinilo tipo I para interiores, dos manos, incluye rasqueteada y lijada | C10: M2 | D10: 2885.15 | E10: 6854 | F10: =ROUND(E10*D10,2) -> 19774818 | G10: Medida que modifico
A11: 2.3 | B11: Pintura en vinilo tipo I para exteriores, 2 manos, incluye rasqueteada, lijada y resanes | C11: M2 | D11: 2307.07 | E11: 7519 | F11: =ROUND(E11*D11,2) -> 17346859
A12: 2.4 | B12: Pintura de carteras en vinilo tipo I, 2 manos, incluye rasqueteada, lijada y resanes | C12: Ml | D12: 278.4 | E12: 5713 | F12: =ROUND(E12*D12,2) -> 1590499.2
A13: 2.5 | B13: Pintura en vinilo tipo I para interiores, dos manos, incluye rasqueteada, lijada y resanes para muros | C13: M2 | D13: 165.74 | E13: 7519 | F13: =ROUND(E13*D13,2) -> 1246199.1
A14: 2.6 | B14: Enchape para muro de cocina | C14: M2 | D14: 1.91 | E14: 44493 | F14: =ROUND(E14*D14,2) -> 84981.63
A15: 3 | B15: CIELOS FALSOS
A16: 3.1 | B16: Suministro e instalacion de cielo falso en panel yeso de 4 mm incluye estructura metalica, estuco y pintura | C16: M2 | D16: 85.81 | E16: 38677 | F16: =ROUND(E16*D16,2) -> 3318873.4
A17: 3.2 | B17: Pintura para cielo falso | C17: M2 | D17: 2726.5 | E17: 16991 | F17: =ROUND(E17*D17,2) -> 46325962
A18: 4 | B18: CARPINTERIA
A19: 4.1 | B19: Mantenimiento general de canales en lámina metálica (Incluye limpieza, reparación y pintura) | C19: Ml | D19: 327.7 | E19: 12246 | F19: =ROUND(E19*D19,2) -> 4013014.2
A20: 4.2 | B20: Limpieza, reparacion, mantenimiento general de bajantes en PVC (Incluye pintura) | C20: Ml | D20: 341.4 | E20: 7355 | F20: =ROUND(E20*D20,2) -> 2510997
A21: 4.3 | B21: Suministro e instalación de Bajante de Aguas lluvias PVC 4", (incluye pintura) | C21: Ml | D21: 68.28 | E21: 35899 | F21: =ROUND(E21*D21,2) -> 2451183.7
A22: 4.4 | B22: Suministro e instalacion de canal en lamina galvanizada calibre 24. (Incluye pintura) | C22: Ml | D22: 65.54 | E22: 62360 | F22: =ROUND(E22*D22,2) -> 4087074.4
A23: 4.5 | B23: Mantenimiento de puertas de meson de la cocina | C23: Und | D23: 1 | E23: 404324 | F23: =ROUND(E23*D23,2) -> 404324
A24: 4.6 | B24: Enchape de meson de cocina y piragua | C24: ML | D24: 5.4 | E24: 29226 | F24: =ROUND(E24*D24,2) -> 157820.4
A25: 4.7 | B25: Suministro e instalacion de ventanas para cielofalso de la cocina | C25: M2 | D25: 1.98 | E25: 236340 | F25: =ROUND(E25*D25,2) -> 467953.2
A26: 5 | B26: EQUIPAMENTO
A27: 5.1 | B27: Suministro e instalacion de fluxometros antivandalicos GRIVAL para baños (incluye desmonte de los existentes y accesorios necesarios para el correcto y normal funcionamiento) | C27: Un | D27: 5 | E27: 374993 | F27: =ROUND(E27*D27,2) -> 1874965
A28: 5.2 | B28: Suministro e instalación de sanitarios tipo ahorrador color blanco | C28: Un | D28: 5 | E28: 292617 | F28: =ROUND(E28*D28,2) -> 1463085
A29: 5.3 | B29: Suministro e instalación de vidrios 4 mm de 0,5 m x 0,4 m | C29: Un | D29: 14 | E29: 27311 | F29: =ROUND(E29*D29,2) -> 382354
A30: 5.4 | B30: Suministro e instalacion de lamparas LED | C30: UND | D30: 6 | E30: 78851 | F30: =ROUND(E30*D30,2) -> 473106
A31: 6 | B31: REPARACION DE FUENTES DE AGUA
A32: 6.1 | B32: Mantenimiento a todo costo de fuente Patio 1: retiro de piezas en piedra de cantera, limpieza y pega, restauración de piedras de cantera de 30x30 y pega, restauración de piedra de cantera de 40x40 y pega ( incluso suministro e Instalación de bomba marca PEDROLLO DE 0.5 HP) | C32: Un | D32: 1 | E32: 3175733 | F32: =ROUND(E32*D32,2) -> 3175733
A33: 6.2 | B33: Mantenimiento a todo costo de fuente Patio 2: perforación y desarmado, armado e instalación de la ufente, saneamiento y sellado de uegas de agua existentes ( incluso suministro e Instalación de bomba marca PEDROLLO DE 0.5 HP) | C33: Un | D33: 1 | E33: 4575733 | F33: =ROUND(E33*D33,2) -> 4575733
A34: 6.3 | B34: Mantenimiento a todo costo de fuente Patio 3: Arreglo de plato grande en piedra de cantera, perforación y pega de piedra de 40x40 y reparación de fugas de agua ( incluso suministro e Instalación de bomba marca PEDROLLO DE 0.5 HP) | C34: Un | D34: 1 | E34: 4475733 | F34: =ROUND(E34*D34,2) -> 4475733
A35: 6.4 | B35: Mantenimiento a todo costo de fuente Patio 4: arreglo de fugas de agua y adición de piedras de cantera de 30x30 ( incluso suministro e Instalación de bomba marca PEDROLLO DE 0.5 HP) | C35: Un | D35: 1 | E35: 3175733 | F35: =ROUND(E35*D35,2) -> 3175733
A36: 6.5 | B36: Mantenimiento a todo costo de fuente Patio 4: retiro de piezas en piedra de cantera e instalación de piedras de cantera de 30x30 ( incluso suministro e Instalación de bomba marca PEDROLLO DE 0.5 HP) | C36: Un | D36: 1 | E36: 3175733 | F36: =ROUND(E36*D36,2) -> 3175733
A37: 7 | B37: Otros
A38: 7.1 | B38: Aseo General | C38: Und | D38: 1 | E38: 150242 | F38: =ROUND(E38*D38,2) -> 150242
B41: TOTAL COSTO DIRECTO | F41: =SUM(F3:F38) -> 1.5907979e+08
B44: ADMINISTRACION | E44: 0.25 | F44: =ROUND(F41*E44,2) -> 39769948
...

Sheet SOTANO EMTEL
B1: ALCALDIA DE POPAYAN | F1: GI - 140
B2: SECRETARIA DE INFRAESTRUCTURA | F2: Version: 07
F3: Pagina 1 de 2
A5: PROPUESTA ECONOMICA
A6: REALIZAR EL MANTENIMIENTO Y REPARACION A TODO COSTO DEL SOTANO DEL PATIO SEIS (6) DEL CENTRO ADMINISTRATIVO MUNICIPAL -CAM- POPAYAN
A9: ITEM | B9: DESCRIPCION DE LA OBRA | C9: UND | D9: CANT | E9: VALOR UNITARIO | F9: VALOR TOTAL
A10: I | B10: PRELIMINARES
A11: 1.1 | B11: Trasteo mobiliario y aseo general | C11: Global | D11: 1 | E11: 86485 | F11: =+ROUND(D11*E11,2) -> 86485
A12: 1.2 | B12: Desmonte cubierta asbesto cemento | C12: M2 | D12: 19 | E12: 6432 | F12: =+ROUND(D12*E12,2) -> 122208
A13: 1.3 | B13: Desmonte canal de aguas lluvias | C13: ML | D13: 4.5 | E13: 4489 | F13: =+ROUND(D13*E13,2) -> 20200.5
A14: 1.4 | B14: Desmonte bajante de aguas lluvias | C14: ML | D14: 4 | E14: 5549 | F14: =+ROUND(D14*E14,2) -> 22196
A15: 1.5 | B15: Desmonte estructura de Cubierta | C15: M2 | D15: 19 | E15: 24951 | F15: =+ROUND(D15*E15,2) -> 474069
A16: 1.6 | B16: Demolicion repello | C16: M2 | D16: 45 | E16: 8473 | F16: =+ROUND(D16*E16,2) -> 381285
A17: 1.7 | B17: Demolicion piso en ceramica | C17: M2 | D17: 5 | E17: 2786 | F17: =+ROUND(D17*E17,2) -> 13930
A18: 1.8 | B18: Revision caja de inspeccion y limpieza ductos de alcantarillado aguas lluvias | C18: Global | D18: 1 | E18: 403864 | F18: =+ROUND(D18*E18,2) -> 403864
A19: 1.9 | B19: Acarreo y transporte de escombros | C19: M3 | D19: 15 | E19: 23870 | F19: =+ROUND(D19*E19,2) -> 358050
A20: 2 | B20: ESTRUCTURA DE CUBIERTA
A21: 2.1 | B21: Suministro e instalacion de estructura de techos con base a perlines metalicos cuadrados 9,0 cm x 9,0 cm calibre 16 | C21: M2 | D21: 19 | E21: 60775 | F21: =+ROUND(D21*E21,2) -> 1154725
A22: 2.2 | B22: Suminiostro y montaje teja de asbesto cemento numero 6 | C22: M2 | D22: 19 | E22: 33180 | F22: =+ROUND(D22*E22,2) -> 630420
A23: 2.3 | B23: Montaje teja de asbesto cemento numero 6 | C23: M2 | D23: 4.51 | E23: 13300 | F23: =+ROUND(D23*E23,2) -> 59983
A24: 2.4 | B24: Suminiostro y montaje claraboya numero 6 | C24: Unidad | D24: 1 | E24: 87995 | F24: =+ROUND(D24*E24,2) -> 87995
A25: 2.5 | B25: Suministro e instalacion templetes de acero 1/4" | C25: ML | D25: 30 | E25: 17829 | F25: =+ROUND(D25*E25,2) -> 534870
A26: 2.6 | B26: Suministro e instalacion canal aguas lluvias lamina colled roled calibre 22 | C26: ML | D26: 4.5 | E26: 66138 | F26: =+ROUND(D26*E26,2) -> 297621
A27: 3 | B27: REPELLOS 1:3
A28: 3.1 | B28: Recuperacion alfagias proteccion techo | C28: ML | D28: 5 | E28: 60775 | F28: =+ROUND(D28*E28,2) -> 303875
A29: 3.2 | B29: Repello mortero 1:3 | C29: M2 | D29: 45 | E29: 21035 | F29: =+ROUND(D29*E29,2) -> 946575
A30: 3.3 | B30: Impermeablizacion paredes producto SIKA 1 | C30: M2 | D30: 45 | E30: 33496 | F30: =+ROUND(D30*E30,2) -> 1507320
A31: 4 | B31: CARPINTERIA METALICA
A32: 4.1 | B32: Suministro e instalacion ventana metalica | C32: M2 | D32: 2.5 | E32: 373290 | F32: =+ROUND(D32*E32,2) -> 933225
A33: 4.2 | B33: Sumionistro e instalacion vidrio 4,0 mm | C33: M2 | D33: 2.5 | E33: 194738 | F33: =+ROUND(D33*E33,2) -> 486845
A34: 4.3 | B34: Recuperacion Puerta Metalica | C34: Unidad | D34: 1 | E34: 180572 | F34: =+ROUND(D34*E34,2) -> 180572
A35: 5 | B35: PISOS
A36: 5.1 | B36: Suministro e instalacion ceramica 0,3 m x 0,30 m trafico pesado | C36: M2 | D36: 5 | E36: 55042 | F36: =+ROUND(D36*E36,2) -> 275210
A37: 5.2 | B37: Limpieza y aseo pisos | C37: M2 | D37: 19 | E37: 29989 | F37: =+ROUND(D37*E37,2) -> 569791
A38: 6 | B38: PINTURA
A39: 6.1 | B39: Estuco paredes | C39: M2 | D39: 45 | E39: 7947 | F39: =+ROUND(D39*E39,2) -> 357615
A40: 6.2 | B40: Pintura muros tipo 1 tres manos | C40: M2 | D40: 45 | E40: 7975 | F40: =+ROUND(D40*E40,2) -> 358875
A41: 7 | B41: SISTEMA ELECTRICO
A42: 7.1 | B42: Revision y mantenimiento del sistema electrico | C42: Global | D42: 1 | E42: 1040128 | F42: =+ROUND(D42*E42,2) -> 1040128
A43: 8 | B43: LIMPIEZA Y ASEO GENERAL
...

Sheet CASA DE JUSTICIA
A1: ÍTEM | B1: DESCRIPCIÓN | C1: UNIDAD | D1: CANTIDAD | E1: VALOR UNIT. | F1: VALOR TOTAL
A2: 1 | B2: PRELIMINARES
A3: 1.1 | B3: Desmonte lavamanos | C3: Un | D3: 1 | E3: 14673 | F3: =ROUND(E3*D3,2) -> 14673
A4: 1.2 | B4: Desmonte de cielorraso existente, incluye estructura | C4: m2 | D4: 87.1 | E4: 4629 | F4: =ROUND(E4*D4,2) -> 403185.9
A5: 2 | B5: ESTRUCTURAS
A6: 2.1 | B6: Viga de cimentación concreto 21MPa. Incluye formaleta. | C6: m3 | D6: 2.29 | E6: 636313 | F6: =ROUND(E6*D6,2) -> 1457156.8
A7: 2.2 | B7: Acero de refuerzo 420Mpa (60000PSI). Incluye figurado, amarre e instalación | C7: Kg | D7: 150 | E7: 4489 | F7: =ROUND(E7*D7,2) -> 673350
A8: 2.3 | B8: Columnetas y vigas de amarre de 0,12*0,15 en concreto clase D (21 Mpa) | C8: ml | D8: 72.6 | E8: 48356 | F8: =ROUND(E8*D8,2) -> 3510645.6
A9: 3 | B9: MAMPOSTERIA
A10: 3.1 | B10: Muro en ladrillo común en soga | C10: m2 | D10: 138.6 | E10: 48828 | F10: =ROUND(E10*D10,2) -> 6767560.8
A11: 3.2 | B11: Repello sobre muro espesor 2,5 cm. Mortero 1:3 | C11: m2 | D11: 149.1 | E11: 20704 | F11: =ROUND(E11*D11,2) -> 3086966.4
A12: 3.3 | B12: Suministro e instalación de mesón en piedra | C12: M2 | D12: 5 | E12: 92128 | F12: =ROUND(E12*D12,2) -> 460640
A13: 4 | B13: APARATO SANITARIOS
A14: 4.1 | B14: Lavamanos de empotrar incluye grifería y accesorios | C14: un | D14: 1 | E14: 188847 | F14: =ROUND(E14*D14,2) -> 188847
A15: 5 | B15: PISO Y ACABADOS
A16: 5.1 | B16: Piso primario e= 10cms. Concreto de 17,5 Mpa. Incluye refuerzo con malla electrosoldada | C16: m3 | D16: 7.62 | E16: 487490 | F16: =ROUND(E16*D16,2) -> 3714673.8
A17: 5.2 | B17: Piso tableta similar al existente, incluye mortero de nivelación. Incluye alistado de piso en ortero 1:3 e=3cm | C17: m2 | D17: 76.16 | E17: 58683 | F17: =ROUND(E17*D17,2) -> 4469297.3
A18: 5.3 | B18: Pintura en vinilo tipo I para exteriores, 2 manos, incluye rasqueteada, lijada y resanes | C18: m2 | D18: 372.37 | E18: 6766 | F18: =ROUND(E18*D18,2) -> 2519455.4
A19: 5.4 | B19: Pintura en vinilo tipo I para interiores, 2 manos, incluye rasqueteada, lijada y resanes | C19: m2 | D19: 372.37 | E19: 7277 | F19: =ROUND(E19*D19,2) -> 2709736.5
A20: 5.5 | B20: Pintura de ventanas y puertas metálicas | C20: m2 | D20: 81.68 | E20: 5659 | F20: =ROUND(E20*D20,2) -> 462227.12
A21: 6 | B21: CARPINTERIA METALICA Y DE MADERAS
A22: 6.1 | B22: Instalacion de cieloraso en eterboard, con estructura en aluminio, incluye pintura | C22: m2 | D22: 87.1 | E22: 45339 | F22: =ROUND(E22*D22,2) -> 3949026.9
A23: 6.2 | B23: Suministro e instalacion de canal en lamina galvanizada calibre 24. (Incluye pintura) | C23: ml | D23: 11.9 | E23: 62360 | F23: =ROUND(E23*D23,2) -> 742084
A24: 7 | B24: CUBIERTA (INCLUYE INSTALACION)
A25: 7.1 | B25: Suministro e instalacion de teja #6, incluye amarras | C25: m2 | D25: 22.68 | E25: 26098 | F25: =ROUND(E25*D25,2) -> 591902.64
A26: 7.2 | B26: Caballete fijo en fibra cemento | C26: ml | D26: 11.9 | E26: 43286 | F26: =ROUND(E26*D26,2) -> 515103.4
A27: 7.3 | B27: Suministro e instalacion de estructura de cubierta en perlines (perfil en C 220X80X2.5mm x 6m) Gr50 Negro | C27: ml | D27: 44.63 | E27: 60154 | F27: =ROUND(E27*D27,2) -> 2684673
A28: 7.4 | B28: Fijación de cubierta existente con gancho y amarra | C28: m2 | D28: 457.74 | E28: 7951 | F28: =ROUND(E28*D28,2) -> 3639490.7
A29: 8 | B29: OTROS
A30: 8.1 | B30: Suministro e instalaciones de vidrios espesor 4 mm | C30: m2 | D30: 21.73 | E30: 60790 | F30: =ROUND(E30*D30,2) -> 1320966.7
A31: 8.2 | B31: Aseo general | C31: m2 | D31: 100 | E31: 3018 | F31: =ROUND(E31*D31,2) -> 301800
A34: TOTAL COSTO DIRECTO | F34: =SUM(F3:F31) -> 44183463
A35: Administración | E35: 0.25 | F35: =ROUND($F$34*E35,2) -> 11045866
A36: Imprevistos | E36: 0.02 | F36: =ROUND($F$34*E36,2) -> 883669.26
A37: Utilidad | E37: 0.05 | F37: =ROUND($F$34*E37,2) -> 2209173.1
A38: TOTAL COSTOS INDIRECTOS | E38: AUI 32% | F38: =SUM(F35:F37) -> 14138708
A41: COSTO TOTAL | F41: =F38+F34 -> 58322171 | G41: 58322389
G42: =+G41-F41 -> 217.86
B47: SAMAIDA GÓMEZ RUÍZ | D47: CARLOS ALBERTO CÓRDOBA MUÑOZ
B48: Secretaria General | D48: Secretario de Infraestructura
...

Sheet PUEBLITO PATOJO
A1: ITEM | B1: DESCRIPCION | C1: UNIDAD | D1: CANTIDAD | E1: VALOR UNIT. | F1: VALOR TOTAL
A2: 1 | B2: PRELIMINARES
A3: 1.1 | B3: Demolicion de cielofalso en esterilla incluye estructura | C3: M2 | D3: 119.7 | E3: 6324 | F3: =+ROUND(D3*E3,2) -> 756982.8
A4: 1.2 | B4: Desmonte cubierta en teja de barro con recuperación de material | C4: M2 | D4: 119.7 | E4: 6161 | F4: =+ROUND(D4*E4,2) -> 737471.7
A5: 1.3 | B5: Desmonte de teja A.C #6 | C5: M2 | D5: 119.7 | E5: 6161 | F5: =+ROUND(D5*E5,2) -> 737471.7
A6: 1.4 | B6: Demolicion de viga corona existente | C6: ML | D6: 5.18 | E6: 129801 | F6: =+ROUND(D6*E6,2) -> 672369.18
A7: 1.5 | B7: Desmonte y retiro de bajantes metálicos en mal estado | C7: Ml | D7: 48.4 | E7: 5835 | F7: =+ROUND(D7*E7,2) -> 282414
A8: 1.6 | B8: Desmonte y retiro de canales en lámina en mal estado | C8: Ml | D8: 98.6 | E8: 8606 | F8: =+ROUND(D8*E8,2) -> 848551.6
A9: 2 | B9: CUBIERTA
A10: 2.1 | B10: Suministro e instalación de Tejas # 6 en A.C. | C10: M2 | D10: 119.7 | E10: 26098 | F10: =+ROUND(D10*E10,2) -> 3123930.6
A11: 2.2 | B11: Suministro e instalacion de estructura de cubierta en perlines (perfil en C 220X80X2.5mm x 6m) Gr50 Negro | C11: ML | D11: 66 | E11: 60154 | F11: =+ROUND(D11*E11,2) -> 3970164
A12: 2.3 | B12: Suministro e instalación de Tejas de barro | C12: M2 | D12: 119.7 | E12: 27866 | F12: =+ROUND(D12*E12,2) -> 3335560.2
A13: 3 | B13: REVESTIMIENTOS Y ACABADOS
A14: 3.1 | B14: Repello de muros en mortero 1:3 | C14: M2 | D14: 208.02 | E14: 18692 | F14: =+ROUND(D14*E14,2) -> 3888309.8
A15: 3.2 | B15: Pintura en vinilo tipo I, 2 manos, incluye rasqueteada, lijada y resanes | C15: M2 | D15: 208.02 | E15: 6766 | F15: =+ROUND(D15*E15,2) -> 1407463.3
A16: 3.3 | B16: Estuco plástico para exteriores | C16: M2 | D16: 208.02 | E16: 6178 | F16: =+ROUND(D16*E16,2) -> 1285147.6
A17: 3.4 | B17: Pintura de carteras en vinilo tipo I, 2 manos, incluye rasqueteada, lijada y resanes | C17: Ml | D17: 60.3 | E17: 6766 | F17: =+ROUND(D17*E17,2) -> 407989.8
A18: 4 | B18: CIELOS FALSOS
A19: 4.1 | B19: Repello en mortero 1:3, e= 1cm, para cielo falso | C19: M2 | D19: 119.7 | E19: 18507 | F19: =+ROUND(D19*E19,2) -> 2215287.9
A20: 4.2 | B20: Suministro e instalación de cielo falso en panel yeso de 4mm incluye estructura metálica, estuco y pintura | C20: M2 | D20: 119.7 | E20: 39157 | F20: =+ROUND(D20*E20,2) -> 4687092.9
A21: 5 | B21: CARPINTERIA
A22: 5.1 | B22: Mantenimiento general de canales en lámina metálica (Incluye limpieza, reparación y pintura) | C22: Ml | D22: 98.6 | E22: 12246 | F22: =+ROUND(D22*E22,2) -> 1207455.6
A23: 5.2 | B23: Limpieza, reparacion, mantenimiento general de bajantes en PVC (Incluye pintura) | C23: Ml | D23: 44.82 | E23: 7355 | F23: =+ROUND(D23*E23,2) -> 329651.1
A24: 5.3 | B24: Suministro e instalación de Bajante de Aguas lluvias PVC 3", (incluye pintura) | C24: Ml | D24: 44.8 | E24: 25422 | F24: =+ROUND(D24*E24,2) -> 1138905.6
A25: 6 | B25: OTROS
A26: 6.1 | B26: Aseo General | C26: Gbl | D26: 1 | E26: 365000 | F26: =+ROUND(D26*E26,2) -> 365000
A27: 6.2 | B27: Adecuación a todo costo de membrana atirantada de escenario | C27: Gbl | D27: 1 | E27: 7000000 | F27: =+ROUND(D27*E27,2) -> 7000000
A30: TOTAL COSTO DIRECTO | F30: =SUM(F3:F27) -> 38397219
A32: ADMINISTRACION | E32: 0.25 | F32: =+ROUND(E32*$F$30,2) -> 9599304.8
A33: IMPREVISTOS | E33: 0.02 | F33: =+ROUND(E33*$F$30,2) -> 767944.39
A34: UTILIDAD | E34: 0.05 | F34: =ROUND(E34*$F$30,2) -> 1919861
A35: TOTAL COSTOS INDIRECTOS | E35: A.U.I. 32% | F35: =SUM(F32:F34) -> 12287110
A38: COSTO TOTAL | F38: =+F30+F35 -> 50684330 | G38: 50684338
G39: =+G38-F38 -> 8.39
B45: SAMAIDA GÓMEZ RUÍZ | C45: CARLOS ALBERTO CÓRDOBA MUÑOZ
B46: Secretaria General | C46: Secretario de Infraestructura
B49: Proyectó: Ing. María Alejandra Montenegro, Contratista Secretaría General Revisó: Ing. Silvio Andrey Ramírez Sanchez, Contratista Secretaría de Infraestructura

Sheet MUSEO NEGRET
A1: ITEM | B1: DESCRIPCION | C1: UNIDAD | D1: CANTIDAD | E1: VALOR UNIT. | F1: VALOR TOTAL
A2: 1 | B2: PRELIMINARES
A3: 1.1 | B3: Desmonte de Cielo falso en panel yeso | C3: M2 | D3: 31.38 | E3: 4628 | F3: =+ROUND(D3*E3,2) -> 145226.64
A4: 1.2 | B4: Desmonte de aparatos sanitarios | C4: Un | D4: 2 | E4: 16303 | F4: =+ROUND(D4*E4,2) -> 32606
A5: 1.3 | B5: Desmonte de tejas en A.C #6 | C5: M2 | D5: 80 | E5: 6161 | F5: =+ROUND(D5*E5,2) -> 492880
A6: 1.4 | B6: Desmonte y retiro de canales en lámina en mal estado | C6: Ml | D6: 35 | E6: 8606 | F6: =+ROUND(D6*E6,2) -> 301210
A7: 2 | B7: CUBIERTA
A8: 2.1 | B8: Recorrido de cubierta (Incluye retiro de tejas en mal estado, recuperación de tejas en buen estado, ajuste de tejas corridas o movidas, suministro e instalación de tejas en AC ) | C8: M2 | D8: 65.8 | E8: 45573 | F8: =+ROUND(D8*E8,2) -> 2998703.4
A9: 3 | B9: REVESTIMIENTOS Y ACABADOS
A10: 3.1 | B10: Repello de muros en mortero 1:3. e=1.5cm | C10: M2 | D10: 120 | E10: 18507 | F10: =+ROUND(D10*E10,2) -> 2220840
A11: 3.2 | B11: Pintura en vinilo tipo I, 2 manos, incluye rasqueteada, lijada y resanes | C11: M2 | D11: 1980 | E11: 6766 | F11: =+ROUND(D11*E11,2) -> 13396680
A12: 4 | B12: CIELOS FALSOS
A13: 4.1 | B13: Repello en mortero 1:3, e= 1cm, para cielo falso | C13: M2 | D13: 31.38 | E13: 18507 | F13: =+ROUND(D13*E13,2) -> 580749.66
A14: 4.2 | B14: Suministro e instalación de cielo falso en panel yeso de 4mm incluye estructura metálica, estuco y pintura | C14: M2 | D14: 31.4 | E14: 39157 | F14: =+ROUND(D14*E14,2) -> 1229529.8
A15: 5 | B15: CARPINTERIA
A16: 5.1 | B16: Mantenimiento general de canales en lámina metálica (Incluye limpieza, reparación y pintura) | C16: Ml | D16: 28 | E16: 12246 | F16: =+ROUND(D16*E16,2) -> 342888
A17: 5.2 | B17: Limpieza, reparacion, mantenimiento general de bajantes. (Incluye pintura) | C17: Ml | D17: 68 | E17: 7355 | F17: =+ROUND(D17*E17,2) -> 500140
A18: 5.3 | B18: Suministro e instalacion de canal en lamina galvanizada calibre 24. (Incluye pintura) | C18: Ml | D18: 28 | E18: 62360 | F18: =+ROUND(D18*E18,2) -> 1746080
A19: 6 | B19: EQUIPAMENTO
A20: 6.1 | B20: Suministro e instalacion de fluxometros antivandalicos GRIVAL para baños (incluye desmonte de los existentes y accesorios necesarios para el correcto y normal funcionamiento) | C20: Un | D20: 2 | E20: 374993 | F20: =+ROUND(D20*E20,2) -> 749986
A21: 6.2 | B21: Suministro de sanitario de tanque bajo tipo ahorrador, incluso accesorios de instalacion color blanco | C21: Un | D21: 2 | E21: 292617 | F21: =+ROUND(D21*E21,2) -> 585234
A22: 7 | B22: OTROS
A23: 7.1 | B23: Limpieza, poda, suministro e instalación de plantas de jardines y prado (Incluye retiro y bote de residuos) | C23: M2 | D23: 9.5 | E23: 84497 | F23: =+ROUND(D23*E23,2) -> 802721.5
A24: 7.2 | B24: Aseo General | C24: Gb | D24: 1 | E24: 150242 | F24: =+ROUND(D24*E24,2) -> 150242
A27: TOTAL COSTO DIRECTO | F27: =SUM(F3:F24) -> 26275717
A30: ADMINISTRACION | E30: 0.25 | F30: =ROUND(E30*$F$27,2) -> 6568929.2
A31: IMPREVISTOS | E31: 0.02 | F31: =ROUND(E31*$F$27,2) -> 525514.34
A32: UTILIDAD | E32: 0.05 | F32: =ROUND(E32*$F$27,2) -> 1313785.9
A33: TOTAL COSTOS INDIRECTOS | E33: 0.32 | F33: =SUM(F30:F32) -> 8408229.4
A36: COSTO TOTAL | F36: =+F27+F33 -> 34683946 | G36: 34683967
G37: =+G36-F36 -> 20.83535
B44: SAMAIDA GÓMEZ RUÍZ | C44: CARLOS ALBERTO CÓRDOBA MUÑOZ
B45: Secretaria General | C45: Secretario de Infraestructura
B48: Proyectó: Ing. María Alejandra Montenegro, Contratista Secretaría General Revisó: Ing. Silvio Andrey Ramírez Sanchez, Contratista Secretaría de Infraestructura

Sheet EMPEDRADO
A1: ÍTEM | B1: DESCRIPCIÓN | C1: UNIDAD | D1: CANT. | E1: PRECIO UNITARIO | F1: PRECIO SUBTOTAL
A2: 1 | B2: CUBIERTA | F2: =SUM(F3:F4) -> 7341219
A3: 1.1 | B3: Mantenimiento correctivo de cubierta sobre rastreles de madera. (Fijación de tejas que no lo esten, corregir tejas corridas o movidas sobre rastreles de madera, coger goteras.) | C3: m² | D3: 689 | E3: 9211 | F3: =+ROUND(D3*E3,2) -> 6346379
A4: 1.2 | B4: Mantenimiento correctivo de canal en lámina. ( Formación de pendientes, reparación de filtraciones, revisión de acoples en bajantes) | C4: m | D4: 76 | E4: 13090 | F4: =+ROUND(D4*E4,2) -> 994840
A5: 2 | B5: OFICINA DE FAMILIAS EN ACCIÓN | F5: =SUM(F6:F12) -> 3142593
A6: 2.1 | B6: Repello con mortero 1:5, maestreado, aplicado sobre un paramento vertical interior, hasta 3 m de altura, acabado superficial fratasado. | C6: m² | D6: 4 | E6: 19938 | F6: =+ROUND(D6*E6,2) -> 79752
A7: 2.2 | B7: Estucado de pasta de cal y arena de mármol blanco. | C7: m² | D7: 4 | E7: 24696 | F7: =+ROUND(D7*E7,2) -> 98784
A8: 2.3 | B8: Aplicación manual de dos manos de pintura plástica color blanco, acabado mate, textura lisa, la primera mano diluida con un 20% de agua y la siguiente sin diluir, (rendimiento: 0,1 l/m² cada mano); previa aplicación de una mano de imprimación a base de copolímeros acrílicos en suspensión acuosa, sobre paramento interior vertical, de hasta 3 m de altura. | C8: m² | D8: 115.74 | E8: 5809 | F8: =+ROUND(D8*E8,2) -> 672333.66
A9: 2.4 | B9: Cielo raso registrable suspendido de panel yeso 1/2", decorativo, situado a una altura menor de 4 m, constituido por: ESTRUCTURA: perfilería vista, de acero galvanizado, con suela de 48 mm de anchura, comprendiendo perfiles primarios y secundarios, suspendidos de la losa o elemento soporte con varillas y cuelgues; PLACAS: placas de yeso 1/2", acabado con vinilo blanco, de superficie lisa. Incluso perfiles angulares, fijaciones para el anclaje de los perfiles y accesorios de montaje. | C9: m² | D9: 48.1 | E9: 39875 | F9: =+ROUND(D9*E9,2) -> 1917987.5
A10: 2.5 | B10: Guardaescoba cerámico, de 9 cm, recibido con mortero de cemento y rejuntado con mortero de juntas cementoso, color blanco, para juntas de 3 mm. | C10: m | D10: 0.9 | E10: 14256 | F10: =+ROUND(D10*E10,2) -> 12830.4
A11: 2.6 | B11: Aplicación manual de dos manos de esmalte sintético de secado rápido, a base de resinas alquídicas, color a elegir, acabado brillante, (rendimiento: 0,083 l/m² cada mano); previa aplicación de una mano de imprimación sintética antioxidante de secado rápido, a base de resinas alquídicas, color gris, acabado mate (rendimiento: 0,142 l/m²), sobre ventanas y rejas de acero. | C11: m² | D11: 10 | E11: 13655 | F11: =+ROUND(D11*E11,2) -> 136550
A12: 2.7 | B12: Esmalte sintético, color a elegir, acabado satinado, sobre superficie de carpintería interior de madera, preparación del soporte, mano de fondo (rendimiento: 0,111 l/m²) y dos manos de acabado con esmalte sintético (rendimiento: 0,091 l/m² cada mano). sobre puertas y marcos de madera. | C12: m² | D12: 14.98 | E12: 14977 | F12: =+ROUND(D12*E12,2) -> 224355.46
A13: 3 | B13: OFICINA INSPECCIÓN PRIMERA | F13: =SUM(F14:F18) -> 1458512.9
A14: 3.1 | B14: Estucado de pasta de cal y arena de mármol blanco. | C14: m² | D14: 3 | E14: 24696 | F14: =+ROUND(D14*E14,2) -> 74088
A15: 3.2 | B15: Aplicación manual de dos manos de pintura plástica color blanco, acabado mate, textura lisa, la primera mano diluida con un 20% de agua y la siguiente sin diluir, (rendimiento: 0,1 l/m² cada mano); previa aplicación de una mano de imprimación a base de copolímeros acrílicos en suspensión acuosa, sobre paramento interior vertical, de hasta 3 m de altura. | C15: m² | D15: 39 | E15: 5809 | F15: =+ROUND(D15*E15,2) -> 226551
A16: 3.3 | B16: Cielo raso registrable suspendido de panel yeso 1/2", decorativo, situado a una altura menor de 4 m, constituido por: ESTRUCTURA: perfilería vista, de acero galvanizado, con suela de 48 mm de anchura, comprendiendo perfiles primarios y secundarios, suspendidos de la losa o elemento soporte con varillas y cuelgues; PLACAS: placas de yeso 1/2", acabado con vinilo blanco, de superficie lisa. Incluso perfiles angulares, fijaciones para el anclaje de los perfiles y accesorios de montaje. | C16: m² | D16: 25.95 | E16: 39875 | F16: =+ROUND(D16*E16,2) -> 1034756.2
A17: 3.4 | B17: Aplicación manual de dos manos de esmalte sintético de secado rápido, a base de resinas alquídicas, color a elegir, acabado brillante, (rendimiento: 0,083 l/m² cada mano); previa aplicación de una mano de imprimación sintética antioxidante de secado rápido, a base de resinas alquídicas, color gris, acabado mate (rendimiento: 0,142 l/m²), sobre ventanas y rejas de acero. | C17: m² | D17: 4.3 | E17: 13655 | F17: =+ROUND(D17*E17,2) -> 58716.5
A18: 3.5 | B18: Esmalte sintético, color a elegir, acabado satinado, sobre superficie de carpintería interior de madera, preparación del soporte, mano de fondo (rendimiento: 0,111 l/m²) y dos manos de acabado con esmalte sintético (rendimiento: 0,091 l/m² cada mano). Sobre y puertas y marcos de madera. | C18: m² | D18: 4.3 | E18: 14977 | F18: =+ROUND(D18*E18,2) -> 64401.1
A19: 4 | B19: OFICINA INSPECCIÓN TERCERA | F19: =SUM(F20:F24) -> 1200709.1
A20: 4.1 | B20: Estucado de pasta de cal y arena de mármol blanco. | C20: m² | D20: 3 | E20: 24696 | F20: =+ROUND(D20*E20,2) -> 74088
A21: 4.2 | B21: Aplicación manual de dos manos de pintura plástica color blanco, acabado mate, textura lisa, la primera mano diluida con un 20% de agua y la siguiente sin diluir, (rendimiento: 0,1 l/m² cada mano); previa aplicación de una mano de imprimación a base de copolímeros acrílicos en suspensión acuosa, sobre paramento interior vertical, de hasta 3 m de altura. | C21: m² | D21: 34.67 | E21: 5809 | F21: =+ROUND(D21*E21,2) -> 201398.03
A22: 4.3 | B22: Cielo raso registrable suspendido de panel yeso 1/2", decorativo, situado a una altura menor de 4 m, constituido por: ESTRUCTURA: perfilería vista, de acero galvanizado, con suela de 48 mm de anchura, comprendiendo perfiles primarios y secundarios, suspendidos de la losa o elemento soporte con varillas y cuelgues; PLACAS: placas de yeso 1/2", acabado con vinilo blanco, de superficie lisa. Incluso perfiles angulares, fijaciones para el anclaje de los perfiles y accesorios de montaje. | C22: m² | D22: 20.41 | E22: 39875 | F22: =+ROUND(D22*E22,2) -> 813848.75
A23: 4.4 | B23: Aplicación manual de dos manos de esmalte sintético de secado rápido, a base de resinas alquídicas, color a elegir, acabado brillante, (rendimiento: 0,083 l/m² cada mano); previa aplicación de una mano de imprimación sintética antioxidante de secado rápido, a base de resinas alquídicas, color gris, acabado mate (rendimiento: 0,142 l/m²), sobre ventanas y rejas de acero. | C23: m² | D23: 3.44 | E23: 13655 | F23: =+ROUND(D23*E23,2) -> 46973.2
A24: 4.5 | B24: Esmalte sintético, color a elegir, acabado satinado, sobre superficie de carpintería interior de madera, preparación del soporte, mano de fondo (rendimiento: 0,111 l/m²) y dos manos de acabado con esmalte sintético (rendimiento: 0,091 l/m² cada mano). | C24: m² | D24: 4.3 | E24: 14977 | F24: =+ROUND(D24*E24,2) -> 64401.1
A25: 5 | B25: OFICINA VACÍA | F25: =SUM(F26:F31) -> 1932692.9
A26: 5.1 | B26: Repello con mortero 1:5, maestreado, aplicado sobre un paramento vertical interior, hasta 3 m de altura, acabado superficial fratasado. | C26: m² | D26: 6 | E26: 21995 | F26: =+ROUND(D26*E26,2) -> 131970
A27: 5.2 | B27: Estucado de pasta de cal y arena de mármol blanco. | C27: m² | D27: 5.8 | E27: 24149 | F27: =+ROUND(D27*E27,2) -> 140064.2
A28: 5.3 | B28: Aplicación manual de dos manos de pintura plástica color blanco, acabado mate, textura lisa, la primera mano diluida con un 20% de agua y la siguiente sin diluir, (rendimiento: 0,1 l/m² cada mano); previa aplicación de una mano de imprimación a base de copolímeros acrílicos en suspensión acuosa, sobre paramento interior vertical, de hasta 3 m de altura. | C28: m² | D28: 54.79 | E28: 5729 | F28: =+ROUND(D28*E28,2) -> 313891.91
A29: 5.4 | B29: Cielo raso registrable suspendido de panel yeso 1/2", decorativo, situado a una altura menor de 4 m, constituido por: ESTRUCTURA: perfilería vista, de acero galvanizado, con suela de 48 mm de anchura, comprendiendo perfiles primarios y secundarios, suspendidos de la losa o elemento soporte con varillas y cuelgues; PLACAS: placas de yeso 1/2", acabado con vinilo blanco, de superficie lisa. Incluso perfiles angulares, fijaciones para el anclaje de los perfiles y accesorios de montaje. | C29: m² | D29: 28.11 | E29: 39875 | F29: =+ROUND(D29*E29,2) -> 1120886.2
A30: 5.5 | B30: Aplicación manual de dos manos de esmalte sintético de secado rápido, a base de resinas alquídicas, color a elegir, acabado brillante, (rendimiento: 0,083 l/m² cada mano); previa aplicación de una mano de imprimación sintética antioxidante de secado rápido, a base de resinas alquídicas, color gris, acabado mate (rendimiento: 0,142 l/m²), sobre ventanas y rejas de acero. | C30: m² | D30: 6.89 | E30: 13655 | F30: =+ROUND(D30*E30,2) -> 94082.95
A31: 5.6 | B31: Esmalte sintético, color a elegir, acabado satinado, sobre superficie de carpintería interior de madera, preparación del soporte, mano de fondo (rendimiento: 0,111 l/m²) y dos manos de acabado con esmalte sintético (rendimiento: 0,091 l/m² cada mano). Sobre puertas y marcos de madera. | C31: m² | D31: 8.8 | E31: 14977 | F31: =+ROUND(D31*E31,2) -> 131797.6
A32: 6 | B32: BAÑOS INDEPENDIENTES | F32: =SUM(F33:F34) -> 520555
A33: 6.1 | B33: Aplicación manual de dos manos de esmalte sintético de secado rápido, a base de resinas alquídicas, color a elegir, acabado brillante, (rendimiento: 0,083 l/m² cada mano); previa aplicación de una mano de imprimación sintética antioxidante de secado rápido, a base de resinas alquídicas, color gris, acabado mate (rendimiento: 0,142 l/m²), sobre ventanas y rejas de acero. | C33: m² | D33: 6 | E33: 13655 | F33: =+ROUND(D33*E33,2) -> 81930
A34: 6.2 | B34: Cielo raso registrable suspendido de panel yeso 1/2", decorativo, situado a una altura menor de 4 m, constituido por: ESTRUCTURA: perfilería vista, de acero galvanizado, con suela de 48 mm de anchura, comprendiendo perfiles primarios y secundarios, suspendidos de la losa o elemento soporte con varillas y cuelgues; PLACAS: placas de yeso 1/2", acabado con vinilo blanco, de superficie lisa. Incluso perfiles angulares, fijaciones para el anclaje de los perfiles y accesorios de montaje. | C34: m² | D34: 11 | E34: 39875 | F34: =+ROUND(D34*E34,2) -> 438625
A35: 7 | B35: PASILLO, SALA DE ESPERA Y ESCALERAS | F35: =SUM(F36:F41) -> 13399116
A36: 7.1 | B36: Aplicación manual de dos manos de pintura plástica color blanco, acabado mate, textura lisa, la primera mano diluida con un 20% de agua y la siguiente sin diluir, (rendimiento: 0,1 l/m² cada mano); previa aplicación de una mano de imprimación a base de copolímeros acrílicos en suspensión acuosa, sobre paramento interior vertical, de hasta 3 m de altura. | C36: m² | D36: 412 | E36: 5809 | F36: =+ROUND(D36*E36,2) -> 2393308
A37: 7.2 | B37: Esmalte sintético, color a elegir, acabado satinado, sobre superficie de carpintería interior de madera, preparación del soporte, mano de fondo (rendimiento: 0,111 l/m²) y dos manos de acabado con esmalte sintético (rendimiento: 0,091 l/m² cada mano). sobre pasamanos de escaleras. | C37: m² | D37: 11.3 | E37: 14977 | F37: =+ROUND(D37*E37,2) -> 169240.1
A38: 7.3 | B38: Aplicación manual de dos manos de esmalte sintético de secado rápido, a base de resinas alquídicas, color a elegir, acabado brillante, (rendimiento: 0,083 l/m² cada mano); previa aplicación de una mano de imprimación sintética antioxidante de secado rápido, a base de resinas alquídicas, color gris, acabado mate (rendimiento: 0,142 l/m²), sobre ventanas, puertas y rejas de acero. | C38: m² | D38: 37 | E38: 13655 | F38: =+ROUND(D38*E38,2) -> 505235
A39: 7.4 | B39: Guardaescoba cerámico, de 9 cm, recibido con mortero de cemento y rejuntado con mortero de juntas cementoso, color blanco, para juntas de 3 mm. | C39: m | D39: 8 | E39: 14256 | F39: =+ROUND(D39*E39,2) -> 114048
A40: 7.5 | B40: Cielo raso registrable suspendido de panel yeso 1/2", decorativo, situado a una altura menor de 4 m, constituido por: ESTRUCTURA: perfilería vista, de acero galvanizado, con suela de 48 mm de anchura, comprendiendo perfiles primarios y secundarios, suspendidos de la losa o elemento soporte con varillas y cuelgues; PLACAS: placas de yeso 1/2", acabado con vinilo blanco, de superficie lisa. Incluso perfiles angulares, fijaciones para el anclaje de los perfiles y accesorios de montaje. | C40: m² | D40: 251 | E40: 39875 | F40: =+ROUND(D40*E40,2) -> 10008625
...

Sheet RESUMEN
A3: FINAL | H3: INICIAL
A4: No | B4: BIEN INMUEBLE | C4: COSTO TOTAL | H4: No | I4: BIEN INMUEBLE | J4: COSTO TOTAL
A5: 1 | B5: Edificio el CAM (incluye el sótano del patio 6) | C5: =+'CAM Y CONSEJO'!F48+'SOTANO EMTEL'!F57 -> 2.3095699e+08 | H5: 1 | I5: Edificio el CAM (incluye el sótano del patio 6) | J5: $ 230.957.182,00
A6: 3 | B6: Casa de la Justicia | C6: =+'CASA DE JUSTICIA'!F41 -> 58322171 | H6: 3 | I6: Casa de la Justicia | J6: $ 58.322.389,23
A7: 4 | B7: Pueblito Patojo | C7: =+'PUEBLITO PATOJO'!F38 -> 50684330 | H7: 4 | I7: Pueblito Patojo | J7: $ 50.684.338,32
A8: 5 | B8: Museo Negret | C8: =+'MUSEO NEGRET'!F36 -> 34683946 | H8: 5 | I8: Museo Negret | J8: $ 34.683.967,28
A9: 6 | B9: Oficinas del Centro Comercial el Empedrado | C9: =+EMPEDRADO!F52 -> 38775302 | H9: 6 | I9: Oficinas del Centro Comercial el Empedrado | J9: $ 38.775.743,17
A10: TOTAL | C10: =SUM(C5:C9) -> 4.1342274e+08 | H10: TOTAL | J10: 413423620
E12: DIFERENCIA
E13: =+J10-C10 -> 878.31
