Workbook

Sheet Cronograma
C1: RESUMEN PRESUPUESTO CONSULTORÍA
C3: ESTUDIOS Y DISEÑOS PARA EL MEJORAMIENTO DE LA CARRETERA ENTRE LA VEREDA LA GUAYACANA PR0 + 85 DE LA RUTA 10 TRAMO 1001 A LA CABECERA DEL MUNICIPIO DE ROBERTO PAYAN, DEPARTAMENTO DE NARIÑO
A8: CARGO/OFICIO | D8: VALOR TOTAL | F8: MES 1 | G8: MES 2 | H8: MES 3 | I8: MES 4 | J8: MES 5 | K8: MES 6
A9: PERSONAL PROFESIONAL
A10: =+Resumen!B54 -> ESTUDIO DE TRÁNSITO, CAPACIDAD Y NIVELES DE SERVICIO. | D10: =+Resumen!I54 -> 2.0462112e+08 | E10: Programación | F10: =1/$L10 -> 0.5 | G10: =1/$L10 -> 0.5 | H10: 0 | I10: 0 | L10: 2 | M10: =+SUM(F10:K10) -> 1
E11: Inversión | F11: =+F10*$D10 -> 1.0231056e+08 | G11: =+G10*$D10 -> 1.0231056e+08 | M11: =+SUM(F11:K11)-D10 -> 0
A12: =+Resumen!B55 -> ESTUDIO DE TOPOGRAFIA, INCLUYE REDES SECAS E HIDROSANITARIAS. | D12: =+Resumen!I55 -> 2.8068591e+08 | E12: Programación | F12: =1/$L12 -> 0.5 | G12: =1/$L12 -> 0.5 | H12: 0 | I12: 0 | L12: 2 | M12: =+SUM(F12:K12) -> 1
E13: Inversión | F13: =+F12*$D12 -> 1.4034295e+08 | G13: =+G12*$D12 -> 1.4034295e+08 | H13: 0 | I13: 0 | M13: =+SUM(F13:K13)-D12 -> 0
A14: =+Resumen!B56 -> ESTUDIO DE TRAZADO Y DISEÑO GEOMETRICO DEL CORREDOR VIAL | D14: =+Resumen!I56 -> 2.4275566e+08 | E14: Programación | G14: =1/$L14 -> 0.33333333 | H14: =1/$L14 -> 0.33333333 | I14: =1/$L14 -> 0.33333333 | L14: 3 | M14: =+SUM(F14:K14) -> 1
E15: Inversión | F15: 0 | G15: =+G14*$D14 -> 80918553 | H15: =+H14*$D14 -> 80918553 | I15: =+I14*$D14 -> 80918553 | M15: =+SUM(F15:K15)-D14 -> 0
A16: =+Resumen!B57 -> ESTUDIO DE GEOLOGÍA Y GEOMORFOLOGÍA | D16: =+Resumen!I57 -> 65929427 | E16: Programación | F16: =1/$L16 -> 0.33333333 | G16: =1/$L16 -> 0.33333333 | H16: =1/$L16 -> 0.33333333 | I16: 0 | L16: 3 | M16: =+SUM(F16:K16) -> 1
E17: Inversión | F17: =+F16*$D16 -> 21976476 | G17: =+G16*$D16 -> 21976476 | H17: =+H16*$D16 -> 21976476 | M17: =+SUM(F17:K17)-D16 -> 0
A18: =+Resumen!B58 -> ESTUDIO DE HIDROGEOLOGÍA LOCAL | D18: =+Resumen!I58 -> 65929427 | E18: Programación | F18: 0 | G18: =1/$L18 -> 0.33333333 | H18: =1/$L18 -> 0.33333333 | I18: =1/$L18 -> 0.33333333 | L18: 3 | M18: =+SUM(F18:K18) -> 1
E19: Inversión | F19: 0 | G19: =+G18*$D18 -> 21976476 | H19: =+H18*$D18 -> 21976476 | I19: =+I18*$D18 -> 21976476 | M19: =+SUM(F19:K19)-D18 -> 0
A20: =+Resumen!B59 -> ESTUDIO DE ESTABILIDAD Y ESTABILIZACIÓN DE TERRAPLENES, PUNTOS CRÍTICOS ZONAS DE DISPOSICIÓN DE MATERIALES DE EXCAVACIÓN Y SOBRANTES (ZODMES) Y FUENTES DE MATERIALES | D20: =+Resumen!I59 -> 65929427 | E20: Programación | G20: =1/$L20 -> 0.25 | H20: =1/$L20 -> 0.25 | I20: =1/$L20 -> 0.25 | J20: =1/$L20 -> 0.25 | L20: 4 | M20: =+SUM(F20:K20) -> 1
E21: Inversión | F21: 0 | G21: =+G20*$D20 -> 16482357 | H21: =+H20*$D20 -> 16482357 | I21: =+I20*$D20 -> 16482357 | J21: =+J20*$D20 -> 16482357 | M21: =+SUM(F21:K21)-D20 -> 0
A22: =+Resumen!B60 -> ESTUDIO DE GEOTÉCNIA PARA EL DISEÑO DE ESTRUCTURA DE PAVIMENTO. | D22: =+Resumen!I60 -> 90081303 | E22: Programación | F22: 0 | G22: 0 | H22: =1/$L22 -> 0.33333333 | I22: =1/$L22 -> 0.33333333 | J22: =1/$L22 -> 0.33333333 | L22: 3 | M22: =+SUM(F22:K22) -> 1
E23: Inversión | H23: =+H22*$D22 -> 30027101 | I23: =+I22*$D22 -> 30027101 | J23: =+J22*$D22 -> 30027101 | M23: =+SUM(F23:K23)-D22 -> 0
A24: =+Resumen!B61 -> ESTUDIO GEOTÉCNICO PARA EL DISEÑO DE FUNDACIONES DE PUENTES Y OTRAS ESTRUCTURAS | D24: =+Resumen!I61 -> 90081303 | E24: Programación | F24: 0 | G24: 0 | H24: =1/$L24 -> 0.33333333 | I24: =1/$L24 -> 0.33333333 | J24: =1/$L24 -> 0.33333333 | L24: 3 | M24: =+SUM(F24:K24) -> 1
E25: Inversión | F25: 0 | G25: 0 | H25: =+H24*$D24 -> 30027101 | I25: =+I24*$D24 -> 30027101 | J25: =+J24*$D24 -> 30027101 | M25: =+SUM(F25:K25)-D24 -> 0
A26: =+Resumen!B62 -> ESTUDIO DE HIDRÁULICA, HIDROLOGÍA Y SOCAVACIÓN | D26: =+Resumen!I62 -> 65929427 | E26: Programación | I26: =1/$L26 -> 0.5 | J26: =1/$L26 -> 0.5 | L26: 2 | M26: =+SUM(F26:K26) -> 1
E27: Inversión | F27: 0 | G27: 0 | H27: 0 | I27: =+I26*$D26 -> 32964714 | J27: =+J26*$D26 -> 32964714 | M27: =+SUM(F27:K27)-D26 -> 0
A28: =+Resumen!B63 -> ESTUDIO Y DISEÑO DE PAVIMENTOS | D28: =+Resumen!I63 -> 1.5089227e+08 | E28: Programación | F28: 0 | G28: 0 | H28: 0 | I28: =1/$L28 -> 0.5 | J28: =1/$L28 -> 0.5 | L28: 2 | M28: =+SUM(F28:K28) -> 1
E29: Inversión | I29: =+I28*$D28 -> 75446137 | J29: =+J28*$D28 -> 75446137 | M29: =+SUM(F29:K29)-D28 -> 0
A30: =+Resumen!B64 -> ESTUDIO DE SEÑALIZACION VIAL Y SEGURIDAD VIAL. | D30: =+Resumen!I64 -> 42208835 | E30: Programación | F30: 0 | G30: 0 | H30: 0 | I30: =1/$L30 -> 0.5 | J30: =1/$L30 -> 0.5 | L30: 2 | M30: =+SUM(F30:K30) -> 1
E31: Inversión | F31: 0 | G31: 0 | H31: 0 | I31: =+I30*$D30 -> 21104418 | J31: =+J30*$D30 -> 21104418 | M31: =+SUM(F31:K31)-D30 -> 0
A32: =+Resumen!B65 -> ESTUDIO Y DISEÑO DE ESTRUCTURAS | D32: =+Resumen!I65 -> 1.5089227e+08 | E32: Programación | F32: =1/$L32 -> 0.25 | G32: =1/$L32 -> 0.25 | H32: =1/$L32 -> 0.25 | I32: =1/$L32 -> 0.25 | L32: 4 | M32: =+SUM(F32:K32) -> 1
E33: Inversión | F33: =+F32*$D32 -> 37723069 | G33: =+G32*$D32 -> 37723069 | H33: =+H32*$D32 -> 37723069 | I33: =+I32*$D32 -> 37723069 | M33: =+SUM(F33:K33)-D32 -> 0
A34: =+Resumen!B66 -> ESTUDIOS DE URBANISMO Y PAISAJISMO | D34: =+Resumen!I66 -> 1.3277837e+08 | E34: Programación | F34: 0 | G34: 0 | H34: 0 | I34: =1/$L34 -> 0.5 | J34: =1/$L34 -> 0.5 | L34: 2 | M34: =+SUM(F34:K34) -> 1
E35: Inversión | I35: =+I34*$D34 -> 66389184 | J35: =+J34*$D34 -> 66389184 | M35: =+SUM(F35:K35)-D34 -> 0
A36: =+Resumen!B67 -> ESTUDIOS DE ANÁLISIS Y GESTIÓN DE RIESGOS | D36: =+Resumen!I67 -> 2.2550432e+08 | E36: Programación | F36: =1/$L36 -> 0.16666667 | G36: =1/$L36 -> 0.16666667 | H36: =1/$L36 -> 0.16666667 | I36: =1/$L36 -> 0.16666667 | J36: =1/$L36 -> 0.16666667 | K36: =1/$L36 -> 0.16666667 | L36: 6 | M36: =+SUM(F36:K36) -> 1
E37: Inversión | F37: =+F36*$D36 -> 37584053 | G37: =+G36*$D36 -> 37584053 | H37: =+H36*$D36 -> 37584053 | I37: =+I36*$D36 -> 37584053 | J37: =+J36*$D36 -> 37584053 | K37: =+K36*$D36 -> 37584053 | M37: =+SUM(F37:K37)-D36 -> 0
A38: =+Resumen!B68 -> ESTUDIO AMBIENTAL Y SOCIAL. | D38: =+Resumen!I68 -> 3.0097893e+08 | E38: Programación | G38: =1/$L38 -> 0.2 | H38: =1/$L38 -> 0.2 | I38: =1/$L38 -> 0.2 | J38: =1/$L38 -> 0.2 | K38: =1/$L38 -> 0.2 | L38: 5 | M38: =+SUM(F38:K38) -> 1
E39: Inversión | F39: 0 | G39: =+G38*$D38 -> 60195786 | H39: =+H38*$D38 -> 60195786 | I39: =+I38*$D38 -> 60195786 | J39: =+J38*$D38 -> 60195786 | K39: =+K38*$D38 -> 60195786 | M39: =+SUM(F39:K39)-D38 -> 0
A40: =+Resumen!B69 -> GESTIÓN PREDIAL Y SOCIAL | D40: =+Resumen!I69 -> 2.3628641e+08 | E40: Programación | F40: 0 | H40: =1/$L40 -> 0.25 | I40: =1/$L40 -> 0.25 | J40: =1/$L40 -> 0.25 | K40: =1/$L40 -> 0.25 | L40: 4 | M40: =+SUM(F40:K40) -> 1
E41: Inversión | H41: =+H40*$D40 -> 59071601 | I41: =+I40*$D40 -> 59071601 | J41: =+J40*$D40 -> 59071601 | K41: =+K40*$D40 -> 59071601 | M41: =+SUM(F41:K41)-D40 -> 0
A42: =+Resumen!B70 -> ESTUDIO DE SOSTENIBILIDAD. | D42: =+Resumen!I70 -> 35739583 | E42: Programación | F42: 0 | J42: =1/$L42 -> 0.5 | K42: =1/$L42 -> 0.5 | L42: 2 | M42: =+SUM(F42:K42) -> 1
E43: Inversión | F43: 0 | J43: =+J42*$D42 -> 17869792 | K43: =+K42*$D42 -> 17869792 | M43: =+SUM(F43:K43)-D42 -> 0
A44: =+Resumen!B71 -> ESTUDIO TECNICO BIM. | D44: =+Resumen!I71 -> 35739583 | E44: Programación | J44: =1/$L44 -> 0.5 | K44: =1/$L44 -> 0.5 | L44: 2 | M44: =+SUM(F44:K44) -> 1
E45: Inversión | F45: 0 | J45: =+J44*$D44 -> 17869792 | K45: =+K44*$D44 -> 17869792 | M45: =+SUM(F45:K45)-D44 -> 0
...

Sheet Resumen
C1: RESUMEN PRESUPUESTO CONSULTORÍA
C3: ESTUDIOS Y DISEÑOS PARA EL MEJORAMIENTO DE LA CARRETERA ENTRE LA VEREDA LA GUAYACANA PR0 + 85 DE LA RUTA 10 TRAMO 1001 A LA CABECERA DEL MUNICIPIO DE ROBERTO PAYAN, DEPARTAMENTO DE NARIÑO.
K7: VOLUMEN I. | L7: VOLUMEN II. | M7: VOLUMEN III. | N7: VOLUMEN IV. | O7: VOLUMEN V. | P7: VOLUMEN VI. | Q7: VOLUMEN VII. | R7: VOLUMEN VIII. | S7: VOLUMEN IX. | T7: VOLUMEN X. | U7: VOLUMEN XI. | V7: VOLUMEN XII. | W7: VOLUMEN XIII. | X7: VOLUMEN XIV. | Y7: VOLUMEN XV. | Z7: VOLUMEN XVI. | AA7: VOLUMEN XVII. | AB7: VOLUMEN XVIII. | AC7: VOLUMEN XIX. | AD7: VOLUMEN XX. | AE7: VOLUMEN XXI.
A8: CARGO/OFICIO | D8: VOLUMEN | E8: SUELDO MENSUAL (1) | F8: CANTIDAD (Personas) (2) | G8: TIEMPO (Meses) (3) | H8: PARTICIPACIÓN TOTAL (%Mes) (4) | I8: VALOR PARCIAL (1)*(2)*(3)*(4)= (5) | K8: ESTUDIO DE TRÁNSITO, CAPACIDAD Y NIVELES DE SERVICIO. | L8: ESTUDIO DE TOPOGRAFIA, INCLUYE REDES SECAS E HIDROSANITARIAS. | M8: ESTUDIO DE TRAZADO Y DISEÑO GEOMETRICO DEL CORREDOR VIAL ESCOGIDO Y SUS INTERSECCIONES. | N8: ESTUDIO DE GEOLOGÍA Y GEOMORFOLOGIA. | O8: ESTUDIO DE HIDROGEOLOGIA LOCAL. | P8: ESTUDIO DE ESTABILIDAD Y ESTABILIZACIÓN DE TALUDES, TERRAPLENES, PUNTOS CRÍTICOS, ZONAS DE DISPOSICIÓN DE MATERIALES DE EXCAVACIÓN Y SOBRANTES (ZODMES) Y FUENTES DE MATERIALES. | Q8: ESTUDIO DE GEOTÉCNIA PARA EL DISEÑO DE ESTRUCTURA DE PAVIMENTO. | R8: ESTUDIO DE GEOTÉCNIA PARA EL DISEÑO DE FUNDACIONES DE PUENTES, OTRAS ESTRUCTURAS Y OBRAS ESPECIALES. | S8: ESTUDIO DE HIDRÁULICA, HIDROLOGÍA Y SOCAVACIÓN. | T8: ESTUDIO Y DISEÑO DE PAVIMENTOS. | U8: ESTUDIO DE SEÑALIZACION VIAL Y SEGURIDAD VIAL. | V8: ESTUDIO Y DISEÑO DE ESTRUCTURAS. | W8: ESTUDIOS DE URBANISMO Y PAISAJISMO. | X8: ESTUDIOS DE ANÁLISIS Y GESTIÓN DE RIESGOS. | Y8: ESTUDIO AMBIENTAL Y SOCIAL. | Z8: ESTUDIO DE GESTIÓN PREDIAL. | AA8: ESTUDIO DE SOSTENIBILIDAD. | AB8: ESTUDIO TECNICO BIM. | AC8: ESTUDIO DE ESTIMACION DE CANTIDADES DE OBRAS, ANALISIS DE PRECIOS UNITARIOS, COSTOS Y PRESUPUESTO. | AD8: ESTUDIO DE EVALUACIÓN SOCIOECONÓMICA Y FINANCIERA. | AE8: INFORME FINAL EJECUTIVO.
A9: PERSONAL PROFESIONAL
K10: 1 | L10: 2 | M10: 3 | N10: 4 | O10: 5 | P10: 6 | Q10: 7 | R10: 8 | S10: 9 | T10: 10 | U10: 11 | V10: 12 | W10: 13 | X10: 14 | Y10: 15 | Z10: 16 | AA10: 17 | AB10: 18 | AC10: 19 | AD10: 20 | AE10: 21
A11: =[1]Salarios!A9 -> Director general de consultoría | D11: Proyecto | E11: =[1]Salarios!E9 -> 9252750 | F11: 1 | G11: 6 | H11: 100 | I11: =PRODUCT(E11:G11,H11%) -> 55516500 | K11: 2643642.9 | L11: 2643642.9 | M11: 2643642.9 | N11: 2643642.9 | O11: 2643642.9 | P11: 2643642.9 | Q11: 2643642.9 | R11: 2643642.9 | S11: 2643642.9 | T11: 2643642.9 | U11: 2643642.9 | V11: 2643642.9 | W11: 2643642.9 | X11: 2643642.9 | Y11: 2643642.9 | Z11: 2643642.9 | AA11: 2643642.9 | AB11: 2643642.9 | AC11: 2643642.9 | AD11: 2643642.9 | AE11: 2643642.9 | AF11: 55516500
A12: =[1]Salarios!A10 -> Residente de consultoría | D12: Proyecto | E12: =[1]Salarios!E10 -> 5694000 | F12: 1 | G12: 6 | H12: 100 | I12: =PRODUCT(E12:G12,H12%) -> 34164000 | K12: 1626857.1 | L12: 1626857.1 | M12: 1626857.1 | N12: 1626857.1 | O12: 1626857.1 | P12: 1626857.1 | Q12: 1626857.1 | R12: 1626857.1 | S12: 1626857.1 | T12: 1626857.1 | U12: 1626857.1 | V12: 1626857.1 | W12: 1626857.1 | X12: 1626857.1 | Y12: 1626857.1 | Z12: 1626857.1 | AA12: 1626857.1 | AB12: 1626857.1 | AC12: 1626857.1 | AD12: 1626857.1 | AE12: 1626857.1 | AF12: 34164000
A13: =[1]Salarios!A11 -> Especialista en tránsito | D13: I, XXI | E13: =[1]Salarios!E12 -> 8541000 | F13: 1 | G13: 6 | H13: 100 | I13: =PRODUCT(E13:G13,H13%) -> 51246000 | K13: 48683700 | AE13: 2562300 | AF13: 51246000
A14: =[1]Salarios!A13 -> Especialista diseño de vías | D14: III, XXI | E14: =[1]Salarios!E13 -> 8541000 | F14: 1 | G14: 6 | H14: 100 | I14: =PRODUCT(E14:G14,H14%) -> 51246000 | M14: 48683700 | AE14: 2562300 | AF14: 51246000
A15: =+[1]Salarios!A14 -> Especialista en Sistemas de Información Geográfica - SIG. | D15: II, III, XXI | E15: =[1]Salarios!E15 -> 7117500 | F15: 1 | G15: 6 | H15: 70 | I15: =PRODUCT(E15:G15,H15%) -> 29893500 | L15: 14199412 | M15: 14199412 | AE15: 1494675 | AF15: 29893500
A16: =[1]Salarios!A15 -> Especialista geología | D16: IV, VI, XIV, XXI | E16: =[1]Salarios!E15 -> 7117500 | F16: 1 | G16: 6 | H16: 70 | I16: =PRODUCT(E16:G16,H16%) -> 29893500 | N16: 9466275 | P16: 9466275 | X16: 9466275 | AE16: 1494675 | AF16: 29893500
A17: =[1]Salarios!A16 -> Especialista hidrológico e hidráulico | D17: V, IX, XIV, XXI | E17: =[1]Salarios!E16 -> 7117500 | F17: 1 | G17: 6 | H17: 70 | I17: =PRODUCT(E17:G17,H17%) -> 29893500 | O17: 9466275 | S17: 9466275 | X17: 9466275 | AE17: 1494675 | AF17: 29893500
A18: =[1]Salarios!A17 -> Especialista suelos o geotécnia | D18: VII, VIII, XXI | E18: =[1]Salarios!E17 -> 8541000 | F18: 1 | G18: 6 | H18: 70 | I18: =PRODUCT(E18:G18,H18%) -> 35872200 | Q18: 17039295 | R18: 17039295 | AE18: 1793610 | AF18: 35872200
A19: =[1]Salarios!A19 -> Especialista diseño de pavimentos | D19: X, XXI | E19: =[1]Salarios!E19 -> 8541000 | F19: 1 | G19: 6 | H19: 70 | I19: =PRODUCT(E19:G19,H19%) -> 35872200 | T19: 34078590 | AE19: 1793610 | AF19: 35872200
A20: =[1]Salarios!A20 -> Especialista estructural | D20: XII, XXI | E20: =[1]Salarios!E20 -> 8541000 | F20: 1 | G20: 6 | H20: 70 | I20: =PRODUCT(E20:G20,H20%) -> 35872200 | V20: 34078590 | AE20: 1793610 | AF20: 35872200
A21: =[1]Salarios!A21 -> Especialista diseño paisajístico | D21: XIII, XXI | E21: =[1]Salarios!E21 -> 7117500 | F21: 1 | G21: 6 | H21: 70 | I21: =PRODUCT(E21:G21,H21%) -> 29893500 | W21: 28398825 | AE21: 1494675 | AF21: 29893500
A22: Especialista en gestión del riesgo | D22: XIV, XXI | E22: =[1]Salarios!E22 -> 7117500 | F22: 1 | G22: 6 | H22: 100 | I22: =PRODUCT(E22:G22,H22%) -> 42705000 | X22: 40569750 | AE22: 2135250 | AF22: 42705000
A23: =+[1]Salarios!A23 -> Coordinador ambiental | D23: XV, XXI | E23: =+[1]Salarios!E19 -> 8541000 | F23: 1 | G23: 6 | H23: 100 | I23: =PRODUCT(E23:G23,H23%) -> 51246000 | Y23: 48683700 | AE23: 2562300 | AF23: 51246000
A24: =+[1]Salarios!A24 -> Especialista en Evaluación Económica de Proyectos. | D24: XX, XXI | E24: =+[1]Salarios!E23 -> 7117500 | F24: 1 | G24: 6 | H24: 100 | I24: =PRODUCT(E24:G24,H24%) -> 42705000 | AD24: 40569750 | AE24: 2135250 | AF24: 42705000
A25: =+[1]Salarios!A25 -> Especialista BIM. | D25: Proyecto | E25: =+[1]Salarios!E25 -> 7117500 | F25: 1 | G25: 6 | H25: 100 | I25: =PRODUCT(E25:G25,H25%) -> 42705000 | K25: 2033571.4 | L25: 2033571.4 | M25: 2033571.4 | N25: 2033571.4 | O25: 2033571.4 | P25: 2033571.4 | Q25: 2033571.4 | R25: 2033571.4 | S25: 2033571.4 | T25: 2033571.4 | U25: 2033571.4 | V25: 2033571.4 | W25: 2033571.4 | X25: 2033571.4 | Y25: 2033571.4 | Z25: 2033571.4 | AA25: 2033571.4 | AB25: 2033571.4 | AC25: 2033571.4 | AD25: 2033571.4 | AE25: 2033571.4 | AF25: 42705000
A26: =+[1]Salarios!A26 -> Coordinador predial | D26: XVI, XXI | E26: =+[1]Salarios!E26 -> 7117500 | F26: 1 | G26: 6 | H26: 70 | I26: =PRODUCT(E26:G26,H26%) -> 29893500 | Z26: 28398825 | AE26: 1494675 | AF26: 29893500
A27: =[1]Salarios!A27 -> Coordinador de Presupuesto | D27: XIX, XXI | E27: =[1]Salarios!E27 -> 7117500 | F27: 1 | G27: 6 | H27: 70 | I27: =PRODUCT(E27:G27,H27%) -> 29893500 | AC27: 28398825 | AE27: 1494675 | AF27: 29893500
A28: =[1]Salarios!A29 -> Profesional área social | D28: XV, XVI,XXI | E28: =[1]Salarios!E29 -> 6405750 | F28: 1 | G28: 6 | H28: 100 | I28: =PRODUCT(E28:G28,H28%) -> 38434500 | Y28: 18256388 | Z28: 18256388 | AE28: 1921725 | AF28: 38434500
A29: =[1]Salarios!A30 -> Profesional en Seguridad Industrial y Seguridad en el Trabajo. | D29: Proyecto | E29: =[1]Salarios!E30 -> 5694000 | F29: 1 | G29: 6 | H29: 100 | I29: =PRODUCT(E29:G29,H29%) -> 34164000 | K29: 1626857.1 | L29: 1626857.1 | M29: 1626857.1 | N29: 1626857.1 | O29: 1626857.1 | P29: 1626857.1 | Q29: 1626857.1 | R29: 1626857.1 | S29: 1626857.1 | T29: 1626857.1 | U29: 1626857.1 | V29: 1626857.1 | W29: 1626857.1 | X29: 1626857.1 | Y29: 1626857.1 | Z29: 1626857.1 | AA29: 1626857.1 | AB29: 1626857.1 | AC29: 1626857.1 | AD29: 1626857.1 | AE29: 1626857.1 | AF29: 34164000
A30: =[1]Salarios!A31 -> Abogado | D30: XV, XVI, XXI | E30: =[1]Salarios!E31 -> 5694000 | F30: 1 | G30: 6 | H30: 100 | I30: =PRODUCT(E30:G30,H30%) -> 34164000 | Y30: 16227900 | Z30: 16227900 | AE30: 1708200 | AF30: 34164000
A31: =[1]Salarios!A32 -> Contador | D31: Proyecto | E31: =[1]Salarios!E32 -> 5694000 | F31: 1 | G31: 6 | H31: 100 | I31: =PRODUCT(E31:G31,H31%) -> 34164000 | K31: 1626857.1 | L31: 1626857.1 | M31: 1626857.1 | N31: 1626857.1 | O31: 1626857.1 | P31: 1626857.1 | Q31: 1626857.1 | R31: 1626857.1 | S31: 1626857.1 | T31: 1626857.1 | U31: 1626857.1 | V31: 1626857.1 | W31: 1626857.1 | X31: 1626857.1 | Y31: 1626857.1 | Z31: 1626857.1 | AA31: 1626857.1 | AB31: 1626857.1 | AC31: 1626857.1 | AD31: 1626857.1 | AE31: 1626857.1 | AF31: 34164000
A32: PERSONAL TÉCNICO
A33: =[1]Salarios!A34 -> Topógrafo | D33: II, XXI | E33: =[1]Salarios!E34 -> 6405750 | F33: 1 | G33: 6 | H33: 70 | I33: =PRODUCT(E33:G33,H33%) -> 26904150 | L33: 25558942 | AE33: 1345207.5 | AF33: 26904150
A34: PERSONAL AUXILIAR
A35: Secretaria | D35: Proyecto | E35: =+[1]Salarios!E41 -> 2135250 | F35: 1 | G35: 6 | H35: 100 | I35: =PRODUCT(E35:G35,H35%) -> 12811500 | K35: 610071.43 | L35: 610071.43 | M35: 610071.43 | N35: 610071.43 | O35: 610071.43 | P35: 610071.43 | Q35: 610071.43 | R35: 610071.43 | S35: 610071.43 | T35: 610071.43 | U35: 610071.43 | V35: 610071.43 | W35: 610071.43 | X35: 610071.43 | Y35: 610071.43 | Z35: 610071.43 | AA35: 610071.43 | AB35: 610071.43 | AC35: 610071.43 | AD35: 610071.43 | AE35: 610071.43 | AF35: 12811500
A36: =[1]Salarios!A36 -> Delineante de ingeniería y arquitectura | D36: II, III, , X, XI,XII, , XIII, XXI | E36: =+[1]Salarios!E36 -> 2135250 | F36: 1 | G36: 6 | H36: 100 | I36: =PRODUCT(E36:G36,H36%) -> 12811500 | L36: 2028487.5 | M36: 2028487.5 | T36: 2028487.5 | U36: 2028487.5 | V36: 2028487.5 | W36: 2028487.5 | AE36: 640575 | AF36: 12811500
A37: =[1]Salarios!A37 -> Auxiliar de conteo | D37: I | E37: =[1]Salarios!E37 -> 2135250 | F37: 2 | G37: 1 | H37: 100 | I37: =PRODUCT(E37:G37,H37%) -> 4270500 | K37: 4270500 | AF37: 4270500
A38: =[1]Salarios!A38 -> Obreros | D38: II | E38: =[1]Salarios!E38 -> 1423500 | F38: 2 | G38: 6 | H38: 100 | I38: =PRODUCT(E38:G38,H38%) -> 17082000 | L38: 17082000 | AF38: 17082000
A39: =[1]Salarios!A39 -> Cadeneros | D39: II | E39: =[1]Salarios!E39 -> 2135250 | F39: =F33*2 -> 2 | G39: =G33 -> 6 | H39: 70 | I39: =PRODUCT(E39:G39,H39%) -> 17936100 | L39: 17936100 | AF39: 17936100
A40: =[1]Salarios!A40 -> Profesional de apoyo | D40: Proyecto | E40: =[1]Salarios!E40 -> 3635045.1 | F40: 1 | G40: 6 | H40: 100 | I40: =PRODUCT(E40:G40,H40%) -> 21810270 | K40: 1038584.3 | L40: 1038584.3 | M40: 1038584.3 | N40: 1038584.3 | O40: 1038584.3 | P40: 1038584.3 | Q40: 1038584.3 | R40: 1038584.3 | S40: 1038584.3 | T40: 1038584.3 | U40: 1038584.3 | V40: 1038584.3 | W40: 1038584.3 | X40: 1038584.3 | Y40: 1038584.3 | Z40: 1038584.3 | AA40: 1038584.3 | AB40: 1038584.3 | AC40: 1038584.3 | AD40: 1038584.3 | AE40: 1038584.3 | AF40: 21810270
A42: SUBTOTAL COSTO DEL PERSONAL (SUMATORIA DE (5) =(6) | I42: =SUM(I11:J40) -> 9.1306362e+08 | K42: 64160641 | L42: 88011384 | M42: 76118041 | N42: 20672716 | O42: 20672716 | P42: 20672716 | Q42: 28245736 | R42: 28245736 | S42: 20672716 | T42: 47313519 | U42: 13234929 | V42: 47313519 | W42: 41633754 | X42: 70708741 | Y42: 94374429 | Z42: 74089554 | AA42: 11206441 | AB42: 11206441 | AC42: 39605266 | AD42: 51776191 | AE42: 43128429
A43: FACTOR MULTIPLICADOR (7) | I43: =ROUND(+[2]FM!G64,2) -> 2.68 | K43: 2.68 | L43: 2.68 | M43: 2.68 | N43: 2.68 | O43: 2.68 | P43: 2.68 | Q43: 2.68 | R43: 2.68 | S43: 2.68 | T43: 2.68 | U43: 2.68 | V43: 2.68 | W43: 2.68 | X43: 2.68 | Y43: 2.68 | Z43: 2.68 | AA43: 2.68 | AB43: 2.68 | AC43: 2.68 | AD43: 2.68 | AE43: 2.68
A45: COSTO DIRECTO PERSONAL CONSULTORA (6)*(7)=A | I45: =I42*I43+I44 -> 2.4470105e+09 | K45: 1.7195052e+08 | L45: 2.3587051e+08 | M45: 2.0399635e+08 | N45: 55402880 | O45: 55402880 | P45: 55402880 | Q45: 75698574 | R45: 75698574 | S45: 55402880 | T45: 1.2680023e+08 | U45: 35469610 | V45: 1.2680023e+08 | W45: 1.1157846e+08 | X45: 1.8949943e+08 | Y45: 2.5292347e+08 | Z45: 1.9856e+08 | AA45: 30033263 | AB45: 30033263 | AC45: 1.0614211e+08 | AD45: 1.3876019e+08 | AE45: 1.1558419e+08
A46: IVA= %* (A)=B | I46: =+I45*19% -> 4.64932e+08 | K46: 32670599 | L46: 44815397 | M46: 38759307 | N46: 10526547 | O46: 10526547 | P46: 10526547 | Q46: 14382729 | R46: 14382729 | S46: 10526547 | T46: 24092044 | U46: 6739225.8 | V46: 24092044 | W46: 21199908 | X46: 36004891 | Y46: 48055459 | Z46: 37726401 | AA46: 5706320 | AB46: 5706320 | AC46: 20167002 | AD46: 26364437 | AE46: 21960996
...
