Workbook
Name as: '[1]POA-1'!$S$2:$S$35
Name COD_IND_IMPACTO: #REF!
Name cortes: '[2]Ejec-1'!$X$1:$X$4
Name departamentos: '[3]POA-1'!$S$2:$S$35
Name IND_IMPACTO: #REF!
Name MATRIZ_IND_IMPACTO: #REF!
Name meses: '[3]POA-1'!$Q$2:$Q$13
Name tipo: '[2]Ejec-1'!$Z$1:$Z$2

Sheet MATRIZ MARCO LOGICO
B1: MATRIZ DE MARCO LÓGICO/CADENA DE VALOR | R1: Adquisicion, operacion y mantenimiento de sedes, equipos, redes y software
B2: NOMBRE DEL PROYECTO: | C2: IMPLEMENTACIÓN DE ACCIONES DE REFORESTACIÓN COMUNITARIA PARA EL MEJORAMIENTO DE ÁREAS DE IMPORTANCIA ESTRATÉGICA PARA EL RECURSO HÍDRICO DEL MUNICIPIO DE MERCADERES | R2: Apoyo logistico a talleres y eventos
B3: DESCRIPCIÓN | C3: INDICADOR(META) | D3: UNIDAD DE MEDIDA | E3: META | F3: CRONOGRAMA | L3: Fuente de verificacion | M3: Riesgos | R3: Obras civiles y/o de mejoramiento ambiental
F4: MES 1 | G4: MES 2 | H4: MES 3 | I4: MES 4 | J4: MES 5 | K4: MES 6 | R4: Equipos e insumos de oficina
B6: P1- Hectáreas de áreas en proceso de restauración implementadas | R6: Materiales e insumos de campo y servicios de laboratorio
B7: A.1.1 Implementar acciones de conservación y/o recuperación y/o rehabilitación mediante estrategias activa o pasiva en ecosistemas estratégicos
B8: A1.1.1 : Efectuar el Prealistamiento relacionado con la priorizacion, caracterización y georreferenciación de las áreas interés ambiental a conservar y recuperar en el Municipio de Mercaderes Cauca | C8: Hectareas caracterizadas y georreferenciadas | D8: Hectarea | E8: =+PRESUPUESTO!G7 -> 30 | F8: 10 | G8: 10 | H8: 10 | L8: Informe que contenga fichas o anexos con Base de datos que indique vereda, subzona hidrográfica, propietario, contacto, shape file con area y perímetro, formatos de caracterización, actas de acuerdos y concertación, reportes de visita y listados de asistencia y demás documentos que sean necesarios). | M8: 1.Procesos de Administrativos y de contratación. 2. Tiempos climáticos para la ejecución de las tareas propuestas. 3. Problemas de orden público en el municipio. 4. Caso fortuito. 5.Falta de apropiación de la comunidad. 6.,Insuficiente personal. | P8: =SUM(F8:K8) -> 30 | R8: Arrendamiento de sedes y vehiculos | S8: =26/4 -> 6.5
B9: A1.1.2: Implementar la estrategia activa mediante la reintroducción de material vegetal en las áreas viabilizadas, caracterizadas y georreferenciadas para esta estrategia. | C9: Hectareas con resturacion activa y pasiva | D9: Hectarea | E9: =+PRESUPUESTO!G9 -> 2 | G9: 1 | H9: 1 | L9: Iinforme de ejecución, soportado con registro fotográfico y fílmico, base de datos de propietario que indique vereda, subzona hidrográfica, contacto, hectáreas impactada, perímetro aislado, insumos entregados por predio, actas de entregas de materiales e insumos, listados de asistencia a minsgas de trabajo y demás documentos que sean necesarios | M9: 1.Procesos de Administrativos y de contratación. 2. Tiempos climáticos para la ejecución de las tareas propuestas. 3. Problemas de orden público en el municipio. 4. Caso fortuito. 5.Falta de apropiación de la comunidad. 6.,Insuficiente personal. | P9: =SUM(F9:K9) -> 2
B10: A1.1.3:Implementar acciones identificadas y priorizadas de conservación y/o mejoramiento ambiental mediante estrategias de resturacion, y/o mitigación (pasivas) | C10: Hectareas con resturacion pasiva | D10: Hectarea | E10: =+PRESUPUESTO!G12 -> 20 | G10: 5 | H10: 5 | I10: 5 | J10: 5 | L10: Iinforme de ejecución, soportado con registro fotográfico y fílmico, base de datos de propietario que indique vereda, subzona hidrográfica, contacto, hectáreas impactada, perímetro aislado, insumos entregados por predio, actas de entregas de materiales e insumos, listados de asistencia a minsgas de trabajo y demás documentos que sean necesarios | M10: 1.Procesos de Administrativos y de contratación. 2. Tiempos climáticos para la ejecución de las tareas propuestas. 3. Problemas de orden público en el municipio. 4. Caso fortuito. 5.Falta de apropiación de la comunidad. 6.,Insuficiente personal. | P10: =SUM(F10:K10) -> 20 | S10: =+F10+G10+H10 -> 10
B11: P1- Acciones de conservación y mejoramiento ambiental con actores SINA y sectores productivos implementadas | P11: =SUM(F11:K11) -> 0 | R11: Materiales e insumos de campo y servicios de laboratorio
B12: A.1.2 Implementar acciones identificadas y priorizadas de conservación y/o mejoramiento ambiental mediante estrategias de resturacion, y/o mitigación y adaptación al cambio climático y/o residuos sólidos en articulación con actores del Sistema Nacional Ambiental en el departamento del Cauca. | P12: =SUM(F12:K12) -> 0
B13: A1.2.1: Implementar acciones identificadas y priorizadas de conservación y/o mejoramiento ambiental mediante estrategias de resturacion, y/o mitigación (pasivas) | C13: =+C10 -> Hectareas con resturacion pasiva | D13: Hectarea | E13: =+PRESUPUESTO!G18 -> 8 | G13: 2 | H13: 3 | I13: 3 | L13: =+L10 -> Iinforme de ejecución, soportado con registro fotográfico y fílmico, base de datos de propietario que indique vereda, subzona hidrográfica, contacto, hectáreas impactada, perímetro aislado, insumos entregados por predio, actas de entregas de materiales e insumos, listados de asistencia a minsgas de trabajo y demás documentos que sean necesarios | M13: 1.Procesos de Administrativos y de contratación. 2. Tiempos climáticos para la ejecución de las tareas propuestas. 3. Problemas de orden público en el municipio. 4. Caso fortuito. 5.Falta de apropiación de la comunidad. 6.,Insuficiente personal. | P13: =SUM(F13:K13) -> 8
B14: A.1.3 : Fortalecer los procesos de educación ambiental con diferentes actores SINA y el sector productivo | P14: =SUM(F14:K14) -> 0
B15: A1.3.1: Realizar la socialización de la estrategia activa o pasiva a implementar con la comunidad priorizada del Municipio de Mercaderes | C15: Jornadas de socializacion | D15: Unidad | E15: =+PRESUPUESTO!G23 -> 2 | F15: 2 | L15: Informe tecnico y anexos (listado de asistencia,acta compromisos comunitarios, registro fotografico) | M15: 1.Procesos de Administrativos y de contratación. 2. Tiempos climáticos para la ejecución de las tareas propuestas. 3. Problemas de orden público en el municipio. 4. Caso fortuito. 5.Falta de apropiación de la comunidad. 6.,Insuficiente personal. | P15: =SUM(F15:K15) -> 2
B16: A1.3.2: Realizar encuentros comunitarios teóricos - practicos que fortalezcan el conociemiento para preservar las areas de interes ambiental en el Municipio de Mercaderes - Cauca | C16: Numero de encuentros comunitarios teorico practicos realizados | D16: Unidad | E16: =+PRESUPUESTO!G26 -> 7 | G16: 1 | H16: 2 | I16: 2 | J16: 2 | K16: 2 | L16: Memorias del taller teórico - práctico que contenga: la metodología, número de asistentes, observaciones, recomendaciones y conclusiones. Soportado con registro fotográfico y listados de asistencia. | M16: 1.Procesos de Administrativos y de contratación. 2. Tiempos climáticos para la ejecución de las tareas propuestas. 3. Problemas de orden público en el municipio. 4. Caso fortuito. 5.Falta de apropiación de la comunidad. 6.,Insuficiente personal. | P16: =SUM(F16:K16) -> 9
B17: A-1.3.3: Realizar seguimiento a las estrategias de recuperacion y conservacion establecidas (pots-actividad) | C17: Realizar seguimiento mensual al 100 % de las hectáreas intervenidas durante la ejecución del proyecto. | D17: Mes | E17: 2 | J17: 1 | K17: 1 | L17: Informes de seguimiento, anexos como registros fotograficos, filmicos, especificaciones, medidas y demas | M17: 1.Procesos de Administrativos y de contratación. 2. Tiempos climáticos para la ejecución de las tareas propuestas. 3. Problemas de orden público en el municipio. 4. Caso fortuito. 5.Falta de apropiación de la comunidad. 6.,Insuficiente personal.

Sheet PONDERADO
B4: PESOS DE PRODUCTOS EN LOGRO DE OBJETIVO Y DE ACTIVIDADES EN EL LOGRO DE PRODUCTOS
B5: NOMBRE DEL PROYECTO: | C5: ='MATRIZ MARCO LOGICO'!C2:M2 -> IMPLEMENTACIÓN DE ACCIONES DE REFORESTACIÓN COMUNITARIA PARA EL MEJORAMIENTO DE ÁREAS DE IMPORTANCIA ESTRATÉGICA PARA EL RECURSO HÍDRICO DEL MUNICIPIO DE MERCADERES
B6: OBJETIVO GENERAL/PRODUCTOS | C6: PESO DE PRODUCTOS EN EL LOGRO DEL OBJETIVO, EN PORCENTAJE
B7: Producto 1 | C7: {=+'MATRIZ MARCO LOGICO'!B6:M6} -> P1- Hectáreas de áreas en proceso de restauración implementadas | D7: 0 | E7: 0 | F7: 0 | G7: 0 | H7: 0 | I7: 0 | J7: 0 | K7: 0
B8: =+'MATRIZ MARCO LOGICO'!B7:M7 -> A.1.1 Implementar acciones de conservación y/o recuperación y/o rehabilitación mediante estrategias activa o pasiva en ecosistemas estratégicos | C8: 0.74 | G8: =+PRESUPUESTO!I15/PRESUPUESTO!I32 -> 0.6778559
B9: Producto 1 | C9: =+'MATRIZ MARCO LOGICO'!B11 -> P1- Acciones de conservación y mejoramiento ambiental con actores SINA y sectores productivos implementadas
B10: =+'MATRIZ MARCO LOGICO'!B12:M12 -> A.1.2 Implementar acciones identificadas y priorizadas de conservación y/o mejoramiento ambiental mediante estrategias de resturacion, y/o mitigación y adaptación al cambio climático y/o residuos sólidos en articulación con actores del Sistema Nacional Ambiental en el departamento del Cauca. | C10: 0.2 | G10: =+PRESUPUESTO!I21/PRESUPUESTO!I32 -> 0.20787669
B11: =+'MATRIZ MARCO LOGICO'!B14:M14 -> A.1.3 : Fortalecer los procesos de educación ambiental con diferentes actores SINA y el sector productivo | C11: 0.06 | G11: =+PRESUPUESTO!I31/PRESUPUESTO!I32 -> 0.11426741
B12: TOTAL | C12: =+C8+C10+C11 -> 1
B13: =+B8 -> A.1.1 Implementar acciones de conservación y/o recuperación y/o rehabilitación mediante estrategias activa o pasiva en ecosistemas estratégicos
B14: =+'MATRIZ MARCO LOGICO'!B8 -> A1.1.1 : Efectuar el Prealistamiento relacionado con la priorizacion, caracterización y georreferenciación de las áreas interés ambiental a conservar y recuperar en el Municipio de Mercaderes Cauca | C14: 0.25
B15: =+'MATRIZ MARCO LOGICO'!B9 -> A1.1.2: Implementar la estrategia activa mediante la reintroducción de material vegetal en las áreas viabilizadas, caracterizadas y georreferenciadas para esta estrategia. | C15: 0.1
B16: =+'MATRIZ MARCO LOGICO'!B10 -> A1.1.3:Implementar acciones identificadas y priorizadas de conservación y/o mejoramiento ambiental mediante estrategias de resturacion, y/o mitigación (pasivas) | C16: 0.65 | F16: =SUM(C14:C16) -> 1
B17: =+'MATRIZ MARCO LOGICO'!B12:M12 -> A.1.2 Implementar acciones identificadas y priorizadas de conservación y/o mejoramiento ambiental mediante estrategias de resturacion, y/o mitigación y adaptación al cambio climático y/o residuos sólidos en articulación con actores del Sistema Nacional Ambiental en el departamento del Cauca.
B18: =+'MATRIZ MARCO LOGICO'!B13 -> A1.2.1: Implementar acciones identificadas y priorizadas de conservación y/o mejoramiento ambiental mediante estrategias de resturacion, y/o mitigación (pasivas) | C18: 1
B19: =+'MATRIZ MARCO LOGICO'!B14:M14 -> A.1.3 : Fortalecer los procesos de educación ambiental con diferentes actores SINA y el sector productivo
B20: =+'MATRIZ MARCO LOGICO'!B15 -> A1.3.1: Realizar la socialización de la estrategia activa o pasiva a implementar con la comunidad priorizada del Municipio de Mercaderes | C20: 0.2
B21: =+'MATRIZ MARCO LOGICO'!B16 -> A1.3.2: Realizar encuentros comunitarios teóricos - practicos que fortalezcan el conociemiento para preservar las areas de interes ambiental en el Municipio de Mercaderes - Cauca | C21: 0.7
B22: =+'MATRIZ MARCO LOGICO'!B17 -> A-1.3.3: Realizar seguimiento a las estrategias de recuperacion y conservacion establecidas (pots-actividad) | C22: 0.1

Sheet PRESUPUESTO
M1: Adquisición, operación y mantenimiento de sedes, equipos, redes y software
B2: PRESUPUESTO GENERAL | M2: Apoyo logístico a talleres y eventos
B3: PROYECTO: | C3: =PONDERADO!C5 -> IMPLEMENTACIÓN DE ACCIONES DE REFORESTACIÓN COMUNITARIA PARA EL MEJORAMIENTO DE ÁREAS DE IMPORTANCIA ESTRATÉGICA PARA EL RECURSO HÍDRICO DEL MUNICIPIO DE MERCADERES | M3: Incentivos, capacitación, viáticos y gastos de transporte
B4: ÍTEM | C4: RESULTADOS/ ACTIVIDADES | D4: OBJETO de GASTO | E4: Tipo de gasto | F4: UNIDAD | G4: CANTIDAD | H4: VALOR UNITARIO | I4: VALOR TOTAL | J4: VALOR TOTAL | K4: FUENTES DE FINANCIACIÓN | M4: Obras civiles y/o de mejoramiento ambiental
K5: CRC | L5: EJECUTOR | M5: Equipos e insumos de oficina
B6: Resultado. 1 | C6: ='MATRIZ MARCO LOGICO'!B6 -> P1- Hectáreas de áreas en proceso de restauración implementadas | M6: Materiales e insumos de campo y servicios de laboratorio
B7: A.1.1.1 | C7: =+'MATRIZ MARCO LOGICO'!B8 -> A1.1.1 : Efectuar el Prealistamiento relacionado con la priorizacion, caracterización y georreferenciación de las áreas interés ambiental a conservar y recuperar en el Municipio de Mercaderes Cauca | D7: 2.2.2.9.1-Convenios / Contrato | E7: 2.2.2.8.1-Servicios personales | F7: Hectareas | G7: =24+6 -> 30 | H7: =+'Accion1.1.1 Prealistamiento, pr'!H17 -> 748608.33 | I7: =+G7*H7 -> 22458250 | J7: =+'Accion1.1.1 Prealistamiento, pr'!AG10*G7 -> 15708250 | K7: 1478290 | L7: =+J7-K7 -> 14229960
E8: 2.2.2.6.3-Alquiler de vehículos | J8: =+'Accion1.1.1 Prealistamiento, pr'!AG9*G7 -> 6750000 | K8: =+J8 -> 6750000 | N8: =SUM(J7:J8) -> 22458250
B9: A.1.1.2 | C9: =+'MATRIZ MARCO LOGICO'!B9 -> A1.1.2: Implementar la estrategia activa mediante la reintroducción de material vegetal en las áreas viabilizadas, caracterizadas y georreferenciadas para esta estrategia. | D9: =+D7 -> 2.2.2.9.1-Convenios / Contrato | E9: 2.2.2.6.3-Alquiler de vehículos | F9: Hectareas | G9: 2 | H9: =+'A 1.1.2 RMV ACTIVA'!G54+'A 1.1.2 y 1.1.3 PASIVA'!H41 -> 10898263 | I9: =+G9*H9 -> 21796526 | J9: =('A 1.1.2 RMV ACTIVA'!K27+'A 1.1.2 y 1.1.3 PASIVA'!IZ21)*G9 -> 2523754.4 | K9: =+J9/2 -> 1261877.2 | L9: =+K9 -> 1261877.2
E10: Materiales e insumos de campo y servicios de laboratorio | J10: =('A 1.1.2 RMV ACTIVA'!J27+'A 1.1.2 y 1.1.3 PASIVA'!IZ23)*G9 -> 11292772 | K10: =+J10 -> 11292772 | L10: =+J10-K10 -> 0
E11: 2.2.2.8.1-Servicios personales | J11: =('A 1.1.2 RMV ACTIVA'!I27+'A 1.1.2 y 1.1.3 PASIVA'!IZ19)*G9 -> 7980000 | K11: =+J11 -> 7980000 | N11: =SUM(J9:J11) -> 21796526
B12: A.1.1.3 | C12: =+'MATRIZ MARCO LOGICO'!B10 -> A1.1.3:Implementar acciones identificadas y priorizadas de conservación y/o mejoramiento ambiental mediante estrategias de resturacion, y/o mitigación (pasivas) | D12: =+D7 -> 2.2.2.9.1-Convenios / Contrato | E12: 2.2.2.6.3-Alquiler de vehículos | F12: Hectareas | G12: 20 | H12: =+'A 1.1.2 y 1.1.3 PASIVA'!J40 -> 7270559.2 | I12: =+G12*H12 -> 145411184 | J12: =+'A 1.1.2 y 1.1.3 PASIVA'!IZ21*G12 -> 20051864 | K12: =+J12/2 -> 10025932 | L12: =+K12 -> 10025932 | O12: =+K15+L15 -> 1.8966596e+08
E13: Materiales e insumos de campo y servicios de laboratorio | J13: =+'A 1.1.2 y 1.1.3 PASIVA'!IZ23*G12 -> 94609320 | K13: =+J13 -> 94609320
E14: 2.2.2.8.1-Servicios personales | J14: =+'A 1.1.2 y 1.1.3 PASIVA'!IZ19*G12 -> 30750000 | K14: 16601809 | L14: =+J14-K14 -> 14148191 | N14: =SUM(J12:J14) -> 145411184
B15: Subtotal actividad 1.1 | I15: =SUM(I7:I14) -> 1.8966596e+08 | J15: =SUM(J7:J14) -> 1.8966596e+08 | K15: =SUM(K7:K14) -> 1.5e+08 | L15: =SUM(L7:L14) -> 39665960 | N15: =+K15+L15 -> 1.8966596e+08
B16: Resultado. 1 | C16: =+'MATRIZ MARCO LOGICO'!B11 -> P1- Acciones de conservación y mejoramiento ambiental con actores SINA y sectores productivos implementadas | M16: Materiales e insumos de campo y servicios de laboratorio
B17: A.1.2 | C17: Implementar acciones identificadas y priorizadas de conservación y/o mejoramiento ambiental mediante estrategias de resturacion, y/o mitigación y adaptación al cambio climático y/o residuos sólidos en articulación con actores del Sistema Nacional Ambiental en el departamento del Cauca.
B18: Acción 1.2.1 | C18: =+C12 -> A1.1.3:Implementar acciones identificadas y priorizadas de conservación y/o mejoramiento ambiental mediante estrategias de resturacion, y/o mitigación (pasivas) | D18: =+D7 -> 2.2.2.9.1-Convenios / Contrato | E18: 2.2.2.6.3-Alquiler de vehículos | F18: Hectareas | G18: 8 | H18: =+H12 -> 7270559.2 | I18: =+G18*H18 -> 58164474 | J18: =+'A 1.1.2 y 1.1.3 PASIVA'!IZ21*G18 -> 8020745.6 | K18: =+J18 -> 8020745.6 | O18: =+K21+L21 -> 58164474
E19: Materiales e insumos de campo y servicios de laboratorio | J19: =+'A 1.1.2 y 1.1.3 PASIVA'!IZ23*G18 -> 37843728 | K19: =+J19 -> 37843728
E20: 2.2.2.8.1-Servicios personales | J20: =+'A 1.1.2 y 1.1.3 PASIVA'!IZ19*G18 -> 12300000 | K20: 7000000 | L20: =+J20-K20 -> 5300000 | N20: =SUM(J18:J20) -> 58164474
B21: Subtotal actividad 1.2 | I21: =SUM(I18) -> 58164474 | J21: =SUM(J18:J20) -> 58164474 | K21: =SUM(K18:K20) -> 52864474 | L21: =SUM(L18:L20) -> 5300000
B22: A.1.3 | C22: Fortalecer los procesos de educación ambiental con diferentes actores SINA y el sector productivo
B23: Accion 1.3.1 | C23: =+'MATRIZ MARCO LOGICO'!B15 -> A1.3.1: Realizar la socialización de la estrategia activa o pasiva a implementar con la comunidad priorizada del Municipio de Mercaderes | D23: 2.2.2.9.1-Convenios / Contrato | E23: 2.2.2.8.1-Servicios personales | F23: Taller | G23: 2 | H23: =+'Acción 1.3.1 Socialización'!G16 -> 1135459 | I23: =+G23*H23 -> 2270918 | J23: =(+'Acción 1.3.1 Socialización'!G12+'Acción 1.3.1 Socialización'!G13)*G23 -> 440918 | K23: =+J23 -> 440918
E24: 2.2.2.6.2-Apoyo logístico a talleres y eventos | J24: =(+'Acción 1.3.1 Socialización'!F6+'Acción 1.3.1 Socialización'!F7)*G23 -> 1080000 | K24: =+J24 -> 1080000
E25: 2.2.2.6.3-Alquiler de vehículos | J25: =(+'Acción 1.3.1 Socialización'!G14*G23) -> 750000 | K25: =+J25 -> 750000
B26: Accion 1.3.2 | C26: =+'MATRIZ MARCO LOGICO'!B16 -> A1.3.2: Realizar encuentros comunitarios teóricos - practicos que fortalezcan el conociemiento para preservar las areas de interes ambiental en el Municipio de Mercaderes - Cauca | D26: =+D23 -> 2.2.2.9.1-Convenios / Contrato | E26: 2.2.2.8.1-Servicios personales | F26: Taller | G26: 7 | H26: =+'Acción 1.3.2 Educación'!G17 -> 1615917 | I26: =+G26*H26 -> 11311419 | J26: =+'Acción 1.3.2 Educación'!H13*G26 -> 3086419 | K26: =+J26 -> 3086419
E27: Apoyo logístico a talleres y eventos | J27: =+'Acción 1.3.2 Educación'!F8*G26 -> 5600000 | K27: =+J27 -> 5600000
E28: 2.2.2.6.3-Alquiler de vehículos | J28: =+'Acción 1.3.2 Educación'!H14*G26 -> 2625000 | K28: =+J28 -> 2625000 | N28: =SUM(J26:J28) -> 11311419
B29: Accion 1.3.3 | C29: =+'MATRIZ MARCO LOGICO'!B17 -> A-1.3.3: Realizar seguimiento a las estrategias de recuperacion y conservacion establecidas (pots-actividad) | D29: =+D23 -> 2.2.2.9.1-Convenios / Contrato | E29: 2.2.2.8.1-Servicios personales | F29: Mes | G29: 2 | H29: =+'1.4 SEGUIMIENTO'!G9 -> 9195000 | I29: =+G29*H29 -> 18390000 | J29: =(+'1.4 SEGUIMIENTO'!G6+'1.4 SEGUIMIENTO'!G7)*G29 -> 16590000 | K29: 5000000 | L29: =+J29-K29 -> 11590000
E30: 2.2.2.6.3-Alquiler de vehículos | J30: =(+'1.4 SEGUIMIENTO'!G8)*G29 -> 1800000 | K30: 1800000 | N30: =+K31+L31 -> 31972337
B31: Subtotal Actividad 1.3 | I31: =SUM(I23:I30) -> 31972337 | J31: =SUM(J23:J30) -> 31972337 | K31: =SUM(K23:K30) -> 20382337 | L31: =SUM(L23:L30) -> 11590000
B32: Subtotal fuentes de financiación | I32: =+I31+I21+I15 -> 279802771 | J32: =J31+J15+J21 -> 279802771 | K32: =+K31+K21+K15 -> 2.2324681e+08 | L32: =+L31+L21+L15 -> 56555960
B33: TOTAL PROYECTO | K33: =K32+L32 -> 279802771
E34: ANTICIPO 50% | K34: =(#REF!*50%) -> #REF!
E35: ACTA 1 20% | K35: =(#REF!*20%) -> #REF!
E36: ACTA 2 20% | K36: =(#REF!*20%) -> #REF!
E37: ACTA 3 10% | K37: =(#REF!*10%) -> #REF!
E38: TOTAL | K38: =SUM(K34:K37) -> #REF!
K39: =#REF!+#REF! -> #REF!
L40: =K33*15% -> 41970416
...

Sheet MATRIZ DE A. INVOL
A1: IDENTIFICACIÓN DE ACTORES INVOLUCRADOS
A2: ACTOR | B2: ENTIDAD | C2: POSICIÓN | D2: INTERÉS- EXPECTATIVA | E2: CONTRIBUCIÓN O GESTIÓN
A3: Municipal | B3: Resguardo Indigena Paez de Toez | C3: Beneficiario | D3: Participación activa en la implementación de la propuesta. - Fortalecimiento de sensibilización sobre la importancia de la protección y conservación de la Cuenca hidrográfica. | E3: Mano de obra no calificada para las jornadas de siembra y aislamiento.
E4: Sonstenibilidad de las acciones realizadas y multiplicacion de resultados
A5: Departamental | B5: CRC | C5: Cooperante | D5: Participación en las propuestas que favorezcan la protección del ambiente y fortalezca la gestión ambiental en el Departamento | E5: Financiación de la ejecución del proyecto.
D6: Cumplimiento misional | E6: Acompañamiento técnico para la implementación del proyecto.

Sheet CRONOGRAMA 
A1: CRONOGRAMA
A2: PRODUCTOS | B2: ACTIVIDADES | C2: ACCIONES | D2: FECHA DE INCIO DE LA ACTIVIDAD | E2: FECHA DE FINALIZACION DE LA ACTIVIDAD | F2: MESES | L2: COSTO TOTAL DE LA ACTIVIDAD
F3: 1 | G3: 2 | H3: 3 | I3: 4 | J3: 5 | K3: 6
A4: =+'MATRIZ MARCO LOGICO'!B11 -> P1- Acciones de conservación y mejoramiento ambiental con actores SINA y sectores productivos implementadas | B4: =+'MATRIZ MARCO LOGICO'!B7:M7 -> A.1.1 Implementar acciones de conservación y/o recuperación y/o rehabilitación mediante estrategias activa o pasiva en ecosistemas estratégicos | C4: =+'MATRIZ MARCO LOGICO'!B8 -> A1.1.1 : Efectuar el Prealistamiento relacionado con la priorizacion, caracterización y georreferenciación de las áreas interés ambiental a conservar y recuperar en el Municipio de Mercaderes Cauca | D4: 45945 | E4: 46037 | F4: =+L4/4 -> 5614562.5 | G4: =+F4 -> 5614562.5 | H4: =+F4 -> 5614562.5 | I4: =+F4 -> 5614562.5 | L4: =+PRESUPUESTO!I7 -> 22458250
C5: =+'MATRIZ MARCO LOGICO'!B9 -> A1.1.2: Implementar la estrategia activa mediante la reintroducción de material vegetal en las áreas viabilizadas, caracterizadas y georreferenciadas para esta estrategia. | D5: 46068 | E5: 46127 | J5: =L5/2 -> 10898263 | K5: =+J5 -> 10898263 | L5: =+PRESUPUESTO!I9 -> 21796526
C6: =+'MATRIZ MARCO LOGICO'!B10 -> A1.1.3:Implementar acciones identificadas y priorizadas de conservación y/o mejoramiento ambiental mediante estrategias de resturacion, y/o mitigación (pasivas) | D6: 46006 | E6: 46127 | H6: =L6/4 -> 36352796 | I6: =+H6 -> 36352796 | J6: =+H6 -> 36352796 | K6: =+H6 -> 36352796 | L6: =+PRESUPUESTO!I12 -> 145411184
A7: =+'MATRIZ MARCO LOGICO'!B11 -> P1- Acciones de conservación y mejoramiento ambiental con actores SINA y sectores productivos implementadas | B7: =+'MATRIZ MARCO LOGICO'!B12:M12 -> A.1.2 Implementar acciones identificadas y priorizadas de conservación y/o mejoramiento ambiental mediante estrategias de resturacion, y/o mitigación y adaptación al cambio climático y/o residuos sólidos en articulación con actores del Sistema Nacional Ambiental en el departamento del Cauca. | C7: =+'MATRIZ MARCO LOGICO'!B13 -> A1.2.1: Implementar acciones identificadas y priorizadas de conservación y/o mejoramiento ambiental mediante estrategias de resturacion, y/o mitigación (pasivas) | D7: 45672 | E7: 46127 | I7: =L7/3 -> 19388158 | J7: =+I7 -> 19388158 | K7: =+J7 -> 19388158 | L7: =+PRESUPUESTO!I18 -> 58164474
B8: =+'MATRIZ MARCO LOGICO'!B14:M14 -> A.1.3 : Fortalecer los procesos de educación ambiental con diferentes actores SINA y el sector productivo | C8: =+'MATRIZ MARCO LOGICO'!B15 -> A1.3.1: Realizar la socialización de la estrategia activa o pasiva a implementar con la comunidad priorizada del Municipio de Mercaderes | D8: 45945 | E8: 45991 | F8: =+L8 -> 2270918 | L8: =+PRESUPUESTO!I23 -> 2270918
C9: =+'MATRIZ MARCO LOGICO'!B16 -> A1.3.2: Realizar encuentros comunitarios teóricos - practicos que fortalezcan el conociemiento para preservar las areas de interes ambiental en el Municipio de Mercaderes - Cauca | D9: 45976 | E9: 46127 | G9: =+L9/5 -> 2262283.8 | H9: =+G9 -> 2262283.8 | I9: =+H9 -> 2262283.8 | J9: =+I9 -> 2262283.8 | K9: =+J9 -> 2262283.8 | L9: =+PRESUPUESTO!I26 -> 11311419
C10: =+'MATRIZ MARCO LOGICO'!B17 -> A-1.3.3: Realizar seguimiento a las estrategias de recuperacion y conservacion establecidas (pots-actividad) | D10: 46068 | E10: 46127 | J10: =+L10/2 -> 9195000 | K10: =+J10 -> 9195000 | L10: =+PRESUPUESTO!I29 -> 18390000
A11: VALOR TOTAL | F11: =SUM(F4:F10) -> 7885480.5 | G11: =SUM(G4:G10) -> 7876846.3 | H11: =SUM(H4:H10) -> 44229642 | I11: =SUM(I4:I10) -> 63617800 | J11: =SUM(J4:J10) -> 78096501 | K11: =SUM(K4:K10) -> 78096501 | L11: =SUM(L4:L10) -> 279802771

Sheet Accion1.1.1 Prealistamiento, pr
I2: COSTOS DE GESTION PARA EL ENRIQUECIMIENTO Y MANTENIMIENTO DE HERRAMIENTAS DE MANEJO DEL PAISAJE | R2: COSTOS DE GESTION PARA EL ESTABLECIMIENTO Y MANTENIMIENTO DE PLANTACIONES FORESTALES
B3: =+'MATRIZ MARCO LOGICO'!B8 -> A1.1.1 : Efectuar el Prealistamiento relacionado con la priorizacion, caracterización y georreferenciación de las áreas interés ambiental a conservar y recuperar en el Municipio de Mercaderes Cauca | M3: 2010 | R3: AÑO | V3: 3
B5: Caracterización y Georreferenciación | C5: ha | D5: 6
F6: Unidad de medida | H6: Ha
B7: DESCRIPCIÓN | C7: UNIDAD | D7: CANTIDAD / DEDICACION | E7: / DEDICACION | F7: COSTO UNITARIO | G7: VALOR TOTAL ($) | H7: COSTO/HA ($) | AE7: =1350000*1.85 -> 2497500
B8: 1.Personal | AE8: =+AE7/30 -> 83250
B9: Profesional (ambiental/forestal/etc., encargado del lineamiento y desarrollo de trabajo de campo) | C9: Jornal | D9: 1 | E9: 1 | F9: =+AE9 -> 237416.67 | G9: =+D9*E9*F9 -> 237416.67 | H9: =+G9 -> 237416.67 | AE9: =+((3850000/30)*1.85) -> 237416.67 | AF9: 2.2.2.6.3-Alquiler de vehículos | AG9: =+H13 -> 225000
B10: Profesional del área SIG, para capturade información, digitalización y especialización de polígonos de trabajo | C10: Jornal | D10: 1 | E10: 0.7 | F10: =+AE10 -> 237416.67 | G10: =+D10*E10*F10 -> 166191.67 | H10: =+G10 -> 166191.67 | AE10: =+((3850000/30)*1.85) -> 237416.67 | AF10: 2.2.2.8.1-Servicios personales | AG10: =+H9+H10+H11 -> 523608.33
B11: Guías comunitarios | C11: Jornal | D11: 2 | E11: 1 | F11: =+'Acción 1.1.2 y 1.2.1 '!E11 -> 60000 | G11: =+D11*E11*F11 -> 120000 | H11: =+G11 -> 120000
B12: 2.Transporte
B13: Transporte general con el fin de realizar los recorridos de campo (vehículo, moto u otros) con el fin de garantizar el acceso a las zonas de trabajo | C13: Unidad | D13: 1 | E13: 0.15 | F13: 1500000 | G13: =+D13*E13*F13 -> 225000 | H13: =+G13 -> 225000 | AG13: =+AG10+AG9 -> 748608.33
H15: =SUM(H9:H13) -> 748608.33
B17: Total actividad 1.1.1 | H17: =+H15 -> 748608.33 | AE17: =+[4]Accion1.4.1!$H$35 -> 568396

Sheet A 1.1.2 RMV ACTIVA
B2: =[5]Establecimiento!I6 -> COSTO DE ESTABLECIMIENTO
B3: =[5]Establecimiento!I7 -> SISTEMA A IMPLEMENTAR: | C3: Reintroducción de Material Vegetal al Azar - RMV -
B4: ENTIDAD FORMULADORA: | C4: MUNICIPIO DE EL TAMBO
B5: =[5]Establecimiento!I9 -> NOMBRE DEL PROYECTO: | C5: RESTAURACIÓN EN ZONAS DE INTERÉS ECOLÓGICO EN EL MUNICIPIO DE EL TAMBO, DEPARTAMENTO DEL CAUCA
D7: DISTANCIA
E9: =[5]Establecimiento!L13 -> Costo Unitario $
B10: 1. Número de Plántulas Arbóreas por Ha | D10: 200 | E10: 2800
B11: 2. Número de Plántulas Arbustivas por Ha | D11: 0 | E11: 2800
B12: 3. Número de Plántulas Herbáceas por Ha | D12: =[5]Establecimiento!K16 -> 0 | E12: 0
B13: 2. Porcentaje de reposición 10% | D13: =(D10+D11)*10% -> 20 | E13: 2800
B14: 3. Cantidad de Fertilizante Orgánico Bulto por Ha. | C14: Abono Orgánico | D14: =(((D10+D11+D13)*450)/1000)/50 -> 1.98 | E14: 41900
B15: 5. Cantidad de Correctivos Kilo por Ha. | C15: Cal Agicola | D15: =((((D10+D11+D13)*100)/1000)) -> 22 | E15: 370
B16: 6. Cantidad de Microelementos Kilo por Ha. | C16: Boro | D16: =((((D10+D11+D13)*9)/1000)) -> 1.98 | E16: 21900
B17: 7. Cantidad de Insecticida Kg por Hectárea | C17: Alisin | D17: 1 | E17: 28000
B18: 8. Costo por Jornal | C18: 0 | D18: 0 | E18: 60000
B19: 9. Herramientas (% de la MO) | C19: 0 | D19: 0.05
B20: 10. Transporte Insumos ( % de Insumos) | C20: 0 | D20: 0.2
E21: =[5]Establecimiento!L26 -> METAS TOTALES | F21: 5 | G21: =[5]Establecimiento!N26 -> Has.
B24: Categoría de inversión | C24: UNIDAD | D24: CANTIDAD | E24: VALOR UNITARIO $ | F24: VALOR TOTAL HA $ | G24: VALOR TOTAL PROYECTO $
B25: 1. COSTOS DIRECTOS
B26: 1.1 MANO DE OBRA | I26: mano de obra | J26: materiales y herr | K26: transporte
B27: Limpieza selectiva (Preparación del terreno) | C27: Jornal | D27: 2 | E27: =($E$18) -> 60000 | F27: =(D27*E27) -> 120000 | G27: =(F27*$F$21) -> 600000 | I27: =+F36+(G51/5) -> 2452500 | J27: =+F44+F47 -> 915920 | K27: =+F48+(G52/5) -> 259284 | L27: =+I27+J27+K27 -> 3627704
B28: Trazado | C28: Jornal | D28: 2 | E28: =($E$18) -> 60000 | F28: =(D28*E28) -> 120000 | G28: =(F28*$F$21) -> 600000
B29: Plateo | C29: Jornal | D29: 2 | E29: =($E$18) -> 60000 | F29: =(D29*E29) -> 120000 | G29: =(F29*$F$21) -> 600000
B30: Ahoyado | C30: Jornal | D30: 2 | E30: =($E$18) -> 60000 | F30: =(D30*E30) -> 120000 | G30: =(F30*$F$21) -> 600000
B31: Aplicación de fertilizantes y correctivos | C31: Jornal | D31: 2 | E31: =($E$18) -> 60000 | F31: =(D31*E31) -> 120000 | G31: =(F31*$F$21) -> 600000
B32: Transporte interno de insumos | C32: Jornal | D32: 1 | E32: =($E$18) -> 60000 | F32: =(D32*E32) -> 60000 | G32: =(F32*$F$21) -> 300000
B33: Plantación (siembra) | C33: Jornal | D33: 4 | E33: =($E$18) -> 60000 | F33: =(D33*E33) -> 240000 | G33: =(F33*$F$21) -> 1200000
B34: Control fitosanitario | C34: Jornal | D34: 2 | E34: =($E$18) -> 60000 | F34: =(D34*E34) -> 120000 | G34: =(F34*$F$21) -> 600000
B35: Reposición (Replante) | C35: Jornal | D35: 2 | E35: =($E$18) -> 60000 | F35: =(D35*E35) -> 120000 | G35: =(F35*$F$21) -> 600000
B36: SUBTOTAL MANO DE OBRA | D36: =SUM(D27:D35) -> 19 | F36: =SUM(F27:F35) -> 1140000 | G36: =SUM(G27:G35) -> 5700000
B37: 1.2 INSUMOS
B38: Plántulas + 10% repos. | C38: =[5]Establecimiento!J44 -> Plántulas | D38: =(D10+D11+D13) -> 220 | E38: =(E10) -> 2800 | F38: =(D38*E38) -> 616000 | G38: =(F38*$F$21) -> 3080000
B39: Cantidad de Fertilizante Orgánico / Ha. | C39: Kilo | D39: 88 | E39: =(E14)/40 -> 1047.5 | F39: =(D39*E39) -> 92180 | G39: =(F39*$F$21) -> 460900
B40: Cantidad de Correctivos / Ha | C40: =[5]Establecimiento!J47 -> Kgr. | D40: =D15 -> 22 | E40: =(E15) -> 370 | F40: =(D40*E40) -> 8140 | G40: =(F40*$F$21) -> 40700
B41: Cantidad de Microelementos / Ha. | C41: =[5]Establecimiento!J48 -> Kgr. | D41: 4 | E41: =(E16) -> 21900 | F41: =(D41*E41) -> 87600 | G41: =(F41*$F$21) -> 438000
B42: Cantidad de Insecticida /Ha. | C42: Kg/Lt | D42: 1 | E42: =(E17) -> 28000 | F42: =(D42*E42) -> 28000 | G42: =(F42*$F$21) -> 140000
B43: Cantidad de Hidroretenedor | C43: Kg | D43: 1 | E43: 27000 | F43: =(D43*E43) -> 27000 | G43: =(F43*$F$21) -> 135000
B44: SUBTOTAL INSUMOS | F44: =SUM(F38:F43) -> 858920 | G44: =SUM(G38:G43) -> 4294600
B45: TOTAL COSTOS DIRECTOS | F45: =(F36+F44) -> 1998920 | G45: =(G36+G44) -> 9994600
...

Sheet A 1.1.2 y 1.1.3 PASIVA
B2: COSTOS DE AISLAMIENTO
B3: SISTEMA A IMPLEMENTAR: | C3: Aislamiento de bosque natural (Restauración pasiva)
B4: DISEÑO DE AISLAMIENTO | E4: COSTO UNITARIO $
B5: 1. Distancia entre postes mts. | D5: 2.5 | E5: 0 | J5: =200/2.5 -> 80 | IX5: =+J5*7 -> 560
B6: 2. Distancia pie amigos mts. | D6: 30 | E6: 0 | J6: =1400/30 -> 46.666667
B7: 3. Hilos alambre | D7: 3 | E7: 0
B8: 4. # Postes plásticos (hincados con pie de amigos) (0,2 km) | D8: 400 | E8: 48195 | G8: 560
B9: 5. # Postes Piamigo/KM | D9: 33 | E9: 25000 | G9: 46 | J9: =1400/2.5 -> 560
B10: 6. Rollos alambre/KM | D10: 10 | E10: ='[6]A 1.2.2 AISL ACTIVA'!E10 -> 315500
B11: 7. Grapas/km en kg. | D11: 10 | E11: ='[6]A 1.2.2 AISL ACTIVA'!E11 -> 11000
B12: 8. Costo por Jornal | D12: 1 | E12: ='[6]A 1.2.2 AISL ACTIVA'!E12 -> 60000
B13: 9. Costo Transp. mayor ( % de insumos) | D13: 0.2
B14: 10. Herramientas (% M.O.) | D14: 0.05 | F14: METAS TOTALES
B15: 11. Perímetro a aislar / ha (ML) | D15: 200 | F15: Ha. | G15: Km
F16: 7 | G16: =(F16*0.2) -> 1.4
B18: ITEM | C18: COSTOS KM | F18: COSTOS ML | G18: COSTO HA (0,2 KM) | H18: COSTO TOTAL AISLAMIENTO
C19: CANTIDAD | D19: VALOR UNITARIO | E19: VALOR TOTAL | IY19: MANO DE OBRA | IZ19: =+G26+H38/7 -> 1537500
B20: 1 MANO DE OBRA
B21: TRAZADO | C21: 4 | D21: =+$E$12 -> 60000 | E21: =+D21*C21 -> 240000 | F21: =+E21/1000 -> 240 | G21: =+F21*$D$15 -> 48000 | H21: =(G21*$F$16) -> 336000 | IY21: TRANPORTES | IZ21: =+G34+H39/7 -> 1002593.2
B22: AHOYADO | C22: =[5]Aisl.!C29 -> 7 | D22: =+$E$12 -> 60000 | E22: =+D22*C22 -> 420000 | F22: =+E22/1000 -> 420 | G22: =+F22*$D$15 -> 84000 | H22: =(G22*$F$16) -> 588000
B23: TRANSPORTE MENOR | C23: 25 | D23: =+$E$12 -> 60000 | E23: =+D23*C23 -> 1500000 | F23: =+E23/1000 -> 1500 | G23: =+F23*$D$15 -> 300000 | H23: =(G23*$F$16) -> 2100000 | IY23: INSUMOS Y HERRAMIENTAS | IZ23: =+G33+G35 -> 4730466
B24: HINCADO | C24: 6 | D24: =+$E$12 -> 60000 | E24: =+D24*C24 -> 360000 | F24: =+E24/1000 -> 360 | G24: =+F24*$D$15 -> 72000 | H24: =(G24*$F$16) -> 504000
B25: TEMPLADO Y GRAPADP | C25: =[5]Aisl.!C32 -> 8 | D25: =+$E$12 -> 60000 | E25: =+D25*C25 -> 480000 | F25: =+E25/1000 -> 480 | G25: =+F25*$D$15 -> 96000 | H25: =(G25*$F$16) -> 672000 | IZ25: =+IZ23+IZ21+IZ19 -> 7270559.2
B26: SUBTOTAL MANO DE OBRA | C26: =SUM(C21:C25) -> 50 | D26: =[5]Aisl.!D33 -> 0 | E26: =SUM(E21:E25) -> 3000000 | F26: =SUM(F21:F25) -> 3000 | G26: =SUM(G21:G25) -> 600000 | H26: =SUM(H21:H25) -> 4200000
B27: 2. INSUMOS
B28: ALAMBRE DE PUA ROLLO | C28: =(D10) -> 10 | D28: =(E10) -> 315500 | E28: =+D28*C28 -> 3155000 | F28: =+E28/1000 -> 3155 | G28: =+F28*$D$15 -> 631000 | H28: =(G28*$F$16) -> 4417000
B29: POSTES | C29: =(D8) -> 400 | D29: =E8 -> 48195 | E29: =+D29*C29 -> 19278000 | F29: =+E29/1000 -> 19278 | G29: =+F29*$D$15 -> 3855600 | H29: =(G29*$F$16) -> 26989200 | J29: =+H29/D29 -> 560
B30: PIE DE AMIGO | C30: 33 | D30: =E9 -> 25000 | E30: =+D30*C30 -> 825000 | F30: =+E30/1000 -> 825 | G30: =+F30*$D$15 -> 165000 | H30: =(G30*$F$16) -> 1155000 | J30: =+H30/D30 -> 46.2
B31: GRAPA KG | C31: =(D11) -> 10 | D31: =(E11) -> 11000 | E31: =+D31*C31 -> 110000 | F31: =+E31/1000 -> 110 | G31: =+F31*$D$15 -> 22000 | H31: =(G31*$F$16) -> 154000
B32: CLAVOS 5´ KG | C32: 10 | D32: 13433 | E32: =+D32*C32 -> 134330 | F32: =+E32/1000 -> 134.33 | G32: =+F32*$D$15 -> 26866 | H32: =(G32*$F$16) -> 188062
B33: SUBTOTAL INSUMOS | E33: =SUM(E28:E32) -> 23502330 | F33: =SUM(F28:F32) -> 23502.33 | G33: =SUM(G28:G32) -> 4700466 | H33: =SUM(H28:H32) -> 32903262
B34: Transporte insumos hasta las áreas priorizadas por el proyecto (vías terciarias, o hasta donde la vía lo permita) | C34: 0.2 | E34: =(E33*C34) -> 4700466 | F34: =F33*C34 -> 4700.466 | G34: =G33*C34 -> 940093.2 | H34: =(G34*$F$16) -> 6580652.4
B35: Herramientas | C35: 0.05 | E35: =(E26*C35) -> 150000 | F35: =F26*C35 -> 150 | G35: =G26*C35 -> 30000 | H35: =(G35*$F$16) -> 210000
B36: SUBTOTAL AISLAMIENTO | E36: =SUM(E34:E35) -> 4850466 | F36: =SUM(F34:F35) -> 4850.466 | G36: =SUM(G34:G35) -> 970093.2 | H36: =SUM(H34:H35) -> 6790652.4
B37: TOTAL AISLAMIENTO | E37: =(E26+E33+E36) -> 31352796 | F37: =F26+F33+F36 -> 31352.796 | G37: =G26+G33+G36 -> 6270559.2 | H37: =H26+H33+H36 -> 43893914
B38: COSTO PERSONAL ACTIVIDAD 1.3 | H38: ='[6]A 1.2.2 AISL ACTIVA'!H38 -> 6562500
B39: COSTO TRANSPORTE PERSONAL | H39: ='[6]A 1.2.2 AISL ACTIVA'!H39 -> 437500
B40: COSTO TOTAL | H40: =SUM(H37:H39) -> 50893914 | J40: =+H40/7 -> 7270559.2
B41: COSTO POR HECTAREA | H41: =+H40/7 -> 7270559.2
B43: TIPO DE PIE DE AMIGO | C43: madera plástica | E43: NUMERO DE HILOS | G43: 3
...

Sheet Acción 1.3.1 Socialización
B2: =+'MATRIZ MARCO LOGICO'!B15 -> A1.3.1: Realizar la socialización de la estrategia activa o pasiva a implementar con la comunidad priorizada del Municipio de Mercaderes
E3: UND | F3: TALLER
B4: ITEM | C4: UNIDAD | D4: CANTIDAD | E4: VALOR UNITARIO ($) | F4: VALOR TOTAL POYECTO
B5: Apoyo Logístico | I5: 2.2.1.0.1-Equipos, Materiales e insumos de campo | J5: =+F7 -> 200000
B6: Almuerzo (Acorde a condiciones locales, incluye entrada ,plato fuerte y bebida) | C6: Unid | D6: 20 | E6: 17000 | F6: =(D6*E6) -> 340000 | I6: 2.2.2.6.2-Apoyo logístico a talleres y eventos | J6: =+F6 -> 340000
B7: Equipos, Implementos de oficina (Marcadores, video bean, sonido, computador) | C7: Global | D7: 1 | E7: 200000 | F7: =(D7*E7) -> 200000 | I7: 2.2.2.8.1-Servicios personales | J7: =+G12+G13 -> 220459
B8: Total | F8: =SUM(F6:F7) -> 540000 | I8: 2.2.2.6.3-Alquiler de vehículos | J8: =+G14 -> 375000
B10: DESCRIPCIÓN | C10: UNIDAD | D10: CANTIDAD / DEDICACION | F10: COSTO UNITARIO | G10: COSTO TOTAL | J10: =SUM(J5:J9) -> 1135459
B11: Personal
B12: Coordinador del proyecto | C12: JORNADA | D12: 1 | E12: 0.5 | F12: =+I12 -> 237417 | G12: =ROUND(+D12*E12*F12,0) -> 118709 | I12: =+ROUND((3850000/30)*1.85,0) -> 237417
B13: Promotor Social | C13: UNIDAD | D13: 1 | E13: 0.5 | F13: =+I13 -> 203500 | G13: =ROUND(+D13*E13*F13,0) -> 101750 | I13: =+ROUND(((3300000/30)*1.85),0) -> 203500
B14: Apoyo transporte ejecución proyecto | C14: Viaje | D14: 1 | E14: 0.25 | F14: 1500000 | G14: =ROUND(+D14*E14*F14,0) -> 375000
B15: Total | G15: =SUM(G12:G14) -> 595459
B16: Total actividad 1.3.1 | G16: =+G15+F8 -> 1135459 | I16: =+'[4]Acción 1.5.1 Socialización'!$G$15 -> 1047500

Sheet Acción 1.3.2 Educación
B2: =+'MATRIZ MARCO LOGICO'!B16 -> A1.3.2: Realizar encuentros comunitarios teóricos - practicos que fortalezcan el conociemiento para preservar las areas de interes ambiental en el Municipio de Mercaderes - Cauca
B3: ITEM | C3: UNIDAD | D3: CANTIDAD | E3: VALOR UNITARIO ($) | F3: VALOR TOTAL POYECTO
B4: Apoyo logistico
B5: Almuerzo ( 20 personas) | C5: Unid | D5: 20 | E5: 17000 | F5: =(D5*E5) -> 340000
B6: Refrigerios (20 personas) | C6: und | D6: 20 | E6: 13000 | F6: =(D6*E6) -> 260000 | H6: =+F5+F6 -> 600000
B7: apoyo logistico (papeleria,apoyo audiovisual, sitio etc) | C7: Global | D7: 1 | E7: 200000 | F7: =(D7*E7) -> 200000 | H7: =+F7 -> 200000
B8: Total | F8: =SUM(F5:F7) -> 800000
B10: DESCRIPCIÓN | C10: UNIDAD | D10: CANTIDAD / DEDICACION | F10: COSTO UNITARIO | G10: COSTO/HA ($)
B11: 1.Personal
B12: Ingeniero forestal o ambiental o afin | C12: unidad | D12: 1 | E12: 1 | F12: =+'Acción 1.3.1 Socialización'!F12 -> 237417 | G12: =+D12*E12*F12 -> 237417
B13: Promotor Social | C13: unidad | D13: 1 | E13: 1 | F13: =+'Acción 1.3.1 Socialización'!F13 -> 203500 | G13: =(F13*E13) -> 203500 | H13: =+G12+G13 -> 440917
B14: Apoyo transporte ejecucion proyecto | C14: Viaje | D14: 1 | E14: 0.25 | F14: 1500000 | G14: =(F14*E14) -> 375000 | H14: =+G14 -> 375000
B15: Total | G15: =SUM(G12:G14) -> 815917
B17: Toatal actividad 1,3,2 | G17: =(F8+G15) -> 1615917
G20: =+'[4]Acción 1.5.2 Educación'!$G$15/5 -> 635000 | H20: toez

Sheet 1.4 SEGUIMIENTO
B3: =+'MATRIZ MARCO LOGICO'!B17 -> A-1.3.3: Realizar seguimiento a las estrategias de recuperacion y conservacion establecidas (pots-actividad)
B4: DESCRIPCIÓN | D4: UNIDAD | E4: CANTIDAD / DEDICACION | F4: COSTO UNITARIO | G4: VALOR TOTAL ($)
B5: 1. ASISTENCIA TECNICA
B6: Coordinador (Profesional Ingeniero Forestal, Ingeniero Ambiental, Ecólogo, Administrador agropecuario, relacionado con áreas en enfoque ambiental y/o Agroecológico) | C6: 1 | D6: Mes | E6: 1 | F6: 3300000 | G6: =E6*F6 -> 3300000
B7: =+'Accion1.1.1 Prealistamiento, pr'!B11 -> Guías comunitarios | C7: 2 | D7: Mes | E7: 1 | F7: =1350000*1.85 -> 2497500 | G7: =E7*F7*C7 -> 4995000
B8: Gastos de transporte de personal para asistencia técnica de cada una de las actividades a realizar (Camioneta) | C8: 1 | D8: Mes | E8: 0.6 | F8: 1500000 | G8: =+C8*E8*F8 -> 900000
B9: Total | G9: =SUM(G6:G8) -> 9195000

Sheet Acción 1.1.2 y 1.2.1 
B2: =+PRESUPUESTO!C12 -> A1.1.3:Implementar acciones identificadas y priorizadas de conservación y/o mejoramiento ambiental mediante estrategias de resturacion, y/o mitigación (pasivas)
B4: DISEÑO DE AISLAMIENTO | E4: Costo Unitario $
B5: 1. Distancia entre postes mts. | D5: 3
B6: 2. Hilos alambre | D6: 3
B7: 3. # Postes plasticos (hincados con pie de amigos) (0,2 km) pie de amigos cada 20m | D7: 70 | E7: 48195
A8: =+(D6*1000)/G48 -> 8.5714286 | B8: 4. Rollos alambre x 350 mts calibre 12,5 / para los 0,2 KM | D8: 2 | E8: 351362
B9: 5. Grapas/para los (0,2 km) en kg | D9: 2 | E9: 13500
A10: =+(D7*D6)/G50 -> #DIV/0! | B10: N/A | D10: 0 | E10: 0
B11: 8. Costo por Jornal | E11: 60000
B12: 9. Costo Transp. mayor ( % de insumos) | D12: 0.09
B13: 10. Herramientas (5% M.O.) | D13: 0.1 | F13: METAS TOTALES
B14: 11. Perimetro a aislar / ha (ML) | D14: 200 | F14: =(F15*0.2) -> 1.2 | G14: Km
B15: 12. Hectareas de impacto | D15: 6 | F15: =(D15) -> 6 | G15: Ha
B16: =+[7]Establecimiento!B26 -> Costos proyectados en pesos | C16: 2025
B17: ITEM | C17: COSTOS (200 ML) | F17: COSTOS/ ML $ | G17: COSTO TOTAL AISLAMIENTO
C18: Cantidad | D18: Valor Unitario $ | E18: Valor Total $
B19: 1. MANO DE OBRA
B20: Trazado | C20: 2 | D20: =+$E$11 -> 60000 | E20: =+C20*D20 -> 120000 | F20: =+E20/1000 -> 120 | G20: =(E20*$F$15) -> 720000
B21: Ahoyado | C21: 1 | D21: =+$E$11 -> 60000 | E21: =+C21*D21 -> 60000 | F21: =+E21/1000 -> 60 | G21: =(E21*$F$15) -> 360000
B22: Transporte menor | C22: 2 | D22: =+$E$11 -> 60000 | E22: =+C22*D22 -> 120000 | F22: =+E22/1000 -> 120 | G22: =(E22*$F$15) -> 720000
B23: Hincado | C23: 2 | D23: =+$E$11 -> 60000 | E23: =+C23*D23 -> 120000 | F23: =+E23/1000 -> 120 | G23: =(E23*$F$15) -> 720000
B24: Cercado y templado | C24: 3 | D24: =+$E$11 -> 60000 | E24: =+C24*D24 -> 180000 | F24: =+E24/1000 -> 180 | G24: =(E24*$F$15) -> 1080000
B25: SUBTOTAL MANO DE OBRA | C25: =SUM(C20:C24) -> 10 | E25: =SUM(E20:E24) -> 600000 | F25: =SUM(F20:F24) -> 600 | G25: =SUM(G20:G24) -> 3600000 | J25: =+G25/6 -> 600000 | K25: =+J39 -> 137500
B26: 2. INSUMOS
B27: Alambre de aluminio (Kilo) | C27: =+D8*F15 -> 12 | D27: =+E8 -> 351362 | E27: =+C27*D27 -> 4216344 | F27: =+E27/1000 -> 4216.344 | G27: =+E27*$F$15 -> 25298064
B28: Postes plasticos | C28: 70 | D28: =+E7 -> 48195 | E28: =+C28*D28 -> 3373650 | F28: =+E28/1000 -> 3373.65 | G28: =+E28*$F$15 -> 20241900
B30: Grapas | C30: =+D9*F15 -> 12 | D30: =(E9) -> 13500 | E30: =+C30*D30 -> 162000 | F30: =+E30/1000 -> 162 | G30: =+E30*$F$15 -> 972000
B31: N/A | C31: =+D10 -> 0 | D31: =+E10 -> 0 | E31: =+C31*D31 -> 0 | F31: =+E31/1000 -> 0 | G31: =+E31*$F$15 -> 0
B32: SUBTOTAL INSUMOS | E32: =SUM(E27:E31) -> 7751994 | F32: =SUM(F27:F31) -> 7751.994 | G32: =SUM(G27:G31) -> 46511964 | J32: =+G32/6 -> 7751994 | K32: =+J34 -> 60000
B33: Transporte mayor | E33: =(E32*D12) -> 697679.46 | F33: =+E33/1000 -> 697.67946 | G33: =+E33*$F$15 -> 4186076.8 | J33: =+G33/6 -> 697679.46 | K33: =+J40 -> 150000
B34: Herramientas | E34: =(E25*D13) -> 60000 | F34: =+E34/1000 -> 60 | G34: =+E34*$F$15 -> 360000 | J34: =+G34/6 -> 60000
B35: TOTAL AISLAMIENTO | E35: =+E25+E32+E33+E34 -> 9109673.5 | F35: =+F25+F32+F33+F34 -> 9109.6735 | G35: =+G25+G32+G33+G34 -> 54658041
B37: DESCRIPCIÓN | C37: UNIDAD | D37: CANTIDAD / DEDICACION | F37: COSTO UNITARIO | G37: COSTO/HA ($)
B38: 1.Personal
B39: 1.2 Promotor Social de la comunidad | C39: UNIDAD | D39: 1 | E39: 0.3 | F39: 2750000 | G39: =(F39*E39) -> 825000 | J39: =+G39/6 -> 137500
B40: 1.3. Apoyo transporte ejecucion proyecto | C40: Viaje | D40: 1 | E40: 0.3 | F40: =('[8]Personal '!G13) -> 3000000 | G40: =(F40*E40) -> 900000 | J40: =+G40/6 -> 150000
G41: =SUM(G39:G40) -> 1725000
B43: Total actividad 1,1,3 | G43: =(G35+G41) -> 56383041
B44: Total por Ha | G44: =+G43/6 -> 9397173.5 | I44: toez | J44: =SUM(J22:J42) -> 9397173.5 | K44: =+J25+K25+J32+K32+J33+K33 -> 9397173.5
B46: Tipo de poste | C46: plastico | E46: Número de hilos | G46: =+D6 -> 3
...
