Workbook
Name _Hlk191983032: 'PLAN DE ACCION EN SALUD'!#REF!

Sheet PLAN DE ACCION EN SALUD
D1: AÑO DE EJECUCIÓN: | E1: 2026
A2: PLAN TERRITORIAL DE SALUD - PLAN DE ACCION EN SALUD
A3: 0.Id | B3: 1 . Eje estrátegico el PDSP 2022-2031 | C3: 2 . Resultado esperado del PDSP 2022-2031 | D3: 3 . Meta de resultados en salud del PDSP 2022-2031 adaptadas al territorio | E3: 4 . Estrategias del Plan Territorial de Salud | F3: 5 . Programa | G3: 6 . Subprograma | H3: 7 .Proyecto | I3: 8 . Meta de Producto PTS | J3: 9 . Línea Operativa PDSP 2022-2031 | K3: 10 . Actividades | L3: 11. Cantidad | M3: 12 . Unidad de medida | N3: 13 . Programación de actividades | S3: 14 . Cronograma | U3: 15. Recursos | AB3: 16 . Población sujeto | AC3: 17 . Concepto de gasto | AD3: 18 . Responsables del cumplimiento | AE3: 19. Avance cualitativo
A4: 0. ID | N4: I | O4: II | P4: III | Q4: IV | R4: TOTAL | S4: Fecha de inicio de la actividad (dd/m/a) | T4: Fecha de terminación de la actividad ( dd/m/a) | U4: Rubro Presupuestal | V4: Fuente | W4: Total de recursos programados ( en pesos) | X4: Apropiacion | Y4: Compromiso | Z4: Obligaciones | AA4: Pagado
AC5: SPC - E2 Pueblos y comunidades - L3 Cuidado de la Salud - Garantía del derecho a la salud de pueblos y comunidades étnicas y campesinas, mujeres, sectores LGBTIQ+ y otras poblaciones por condición y/o situación.
A6: 1 | B6: Atención Primaria en Salud | C6: Entidades Territoriales Departamentales, Distritales que organizan la prestación de servicios de salud en redes integrales e integradas territoriales bajo un modelo de salud predictivo, preventivo y resolutivo fundamentado en la Atención Primaria en Salud – APS con criterios de subsidiaridad y complementariedad. | D6: Comunidad educada en derechos y deberes de la poblacion en situacion de Discapacidad | E6: Conformar los Equipos Básicos de Salud para acercar los servicios de salud a las comunidades. | F6: PROGRAMA 2: Formulación, aprobación y ejecución del plan territorial de salud | G6: N/A | H6: Salud Pública | I6: Planes de salud pública ejecutados al 90% | J6: CUIDADO DE LA SALUD EN EL TERRITORIO. | K6: Realizar IEC sobre derechos y deberes de la poblacion vulnetable de acuerdo a la normatividad nacional e internacional aplicable | L6: 8 | M6: Número | N6: 1 | O6: 2 | P6: 3 | Q6: 2 | R6: =SUM(N6:Q6) -> 8 | S6: 46023 | T6: 46387 | U6: 2320202009190299 | V6: Recursos_Provenientes_del_Sistema_General_de_Participaciones_SGP | W6: 4000000 | X6: 4000000 | Y6: 4000000 | Z6: 0 | AA6: 0 | AB6: Pueblos y comunidades étnicas y campesinas, mujeres, sectores LGBTIQ+ y otras poblaciones por condición y/o situación. | AC6: SPC - E2 Pueblos y comunidades - L3 Cuidado de la Salud - Garantía del derecho a la salud de pueblos y comunidades étnicas y campesinas, mujeres, sectores LGBTIQ+ y otras poblaciones por condición y/o situación. | AD6: Gladys Cecilia Campo Agudelo Secretaria de Salud y Bienestar Social
A7: 2 | B7: Atención Primaria en Salud | C7: Entidades Territoriales Departamentales, Distritales que organizan la prestación de servicios de salud en redes integrales e integradas territoriales bajo un modelo de salud predictivo, preventivo y resolutivo fundamentado en la Atención Primaria en Salud – APS con criterios de subsidiaridad y complementariedad. | D7: Disminución de violencia de género intrafamilar | E7: Conformar los Equipos Básicos de Salud para acercar los servicios de salud a las comunidades. | F7: PROGRAMA 2: Formulación, aprobación y ejecución del plan territorial de salud | G7: N/A | H7: Salud Pública | I7: Planes de salud pública ejecutados al 90% | J7: CUIDADO DE LA SALUD EN EL TERRITORIO. | K7: Fortelecimiento a los Grupos de Mujeres del Municipio de Alejandria ,en el area de salud mental ,con el tema de la Sororidad, Brindando informacion, Educacion y Comunicación,en este tema. | L7: 8 | M7: Número | N7: 1 | O7: 2 | P7: 3 | Q7: 2 | R7: =SUM(N7:Q7) -> 8 | S7: 46023 | T7: 46387 | U7: 2320202009190299 | V7: Recursos_Provenientes_del_Sistema_General_de_Participaciones_SGP | W7: 4000000 | X7: 4000000 | Y7: 4000000 | Z7: 0 | AA7: 0 | AB7: Pueblos y comunidades étnicas y campesinas, mujeres, sectores LGBTIQ+ y otras poblaciones por condición y/o situación. | AC7: SPC - E2 Pueblos y comunidades - L3 Cuidado de la Salud - Garantía del derecho a la salud de pueblos y comunidades étnicas y campesinas, mujeres, sectores LGBTIQ+ y otras poblaciones por condición y/o situación. | AD7: Gladys Cecilia Campo Agudelo Secretaria de Salud y Bienestar Social
A8: 3 | B8: Atención Primaria en Salud | C8: Entidades Territoriales Departamentales, Distritales que organizan la prestación de servicios de salud en redes integrales e integradas territoriales bajo un modelo de salud predictivo, preventivo y resolutivo fundamentado en la Atención Primaria en Salud – APS con criterios de subsidiaridad y complementariedad. | D8: Disminución de violencia de género intrafamilar | E8: Conformar los Equipos Básicos de Salud para acercar los servicios de salud a las comunidades. | F8: PROGRAMA 2: Formulación, aprobación y ejecución del plan territorial de salud | G8: N/A | H8: Salud Pública | I8: Planes de salud pública ejecutados al 90% | J8: CUIDADO DE LA SALUD EN EL TERRITORIO. | K8: Campaña IEC prevención de la violencia de género | L8: 8 | M8: Número | N8: 1 | O8: 2 | P8: 3 | Q8: 2 | R8: =SUM(N8:Q8) -> 8 | S8: 46023 | T8: 46387 | U8: 2320202009190299 | V8: Recursos_Provenientes_del_Sistema_General_de_Participaciones_SGP | W8: 4002635 | X8: 4002635 | Y8: 4002635 | Z8: 0 | AA8: 0 | AB8: Pueblos y comunidades étnicas y campesinas, mujeres, sectores LGBTIQ+ y otras poblaciones por condición y/o situación. | AC8: SPC - E2 Pueblos y comunidades - L3 Cuidado de la Salud - Garantía del derecho a la salud de pueblos y comunidades étnicas y campesinas, mujeres, sectores LGBTIQ+ y otras poblaciones por condición y/o situación. | AD8: Gladys Cecilia Campo Agudelo Secretaria de Salud y Bienestar Social
W9: =SUM(W6:W8) -> 12002635 | X9: =SUM(X6:X8) -> 12002635 | Y9: =SUM(Y6:Y8) -> 12002635 | Z9: =SUM(Z6:Z8) -> 0 | AA9: =SUM(AA6:AA8) -> 0 | AC9: SPC - E3 Determinantes - L2 Acuerdos Sociales y Comunitarios - Coordinación intersectorial para la afectación positiva de los determinantes sociales de la salud.
A10: 4 | B10: Atención Primaria en Salud | C10: Entidades Territoriales Departamentales, Distritales que organizan la prestación de servicios de salud en redes integrales e integradas territoriales bajo un modelo de salud predictivo, preventivo y resolutivo fundamentado en la Atención Primaria en Salud – APS con criterios de subsidiaridad y complementariedad. | D10: Prevalencia de hipertensión y diabetes en adultez (27 - 59 años) y vejez (60 años y más). | E10: Conformar los Equipos Básicos de Salud para acercar los servicios de salud a las comunidades. | F10: PROGRAMA 2: Formulación, aprobación y ejecución del plan territorial de salud | G10: N/A | H10: Salud Pública | I10: Planes de salud pública ejecutados al 90% | J10: CUIDADO DE LA SALUD EN EL TERRITORIO. | K10: Realizar campaña de promoción de la alimentación saludable en los servicios de salud, comedores y restaurantes escolares y puntos de venta de alimentos. (azúcares, grasas y sal) - Campaña | L10: 4 | M10: Número | N10: 1 | O10: 1 | P10: 1 | Q10: 1 | R10: =SUM(N10:Q10) -> 4 | S10: 46023 | T10: 46387 | U10: 23202020091902101 | V10: Recursos_Provenientes_del_Sistema_General_de_Participaciones_SGP | W10: 2000000 | X10: 2000000 | Y10: 2000000 | Z10: 0 | AA10: 0 | AB10: FAMILIAS, COLECTIVOS Y COMUNIDADES | AC10: SPC - E3 Determinantes - L2 Acuerdos Sociales y Comunitarios - Coordinación intersectorial para la afectación positiva de los determinantes sociales de la salud. | AD10: Gladys Cecilia Campo Agudelo Secretaria de Salud y Bienestar Social
A11: 5 | B11: Atención Primaria en Salud | C11: Entidades Territoriales Departamentales, Distritales que organizan la prestación de servicios de salud en redes integrales e integradas territoriales bajo un modelo de salud predictivo, preventivo y resolutivo fundamentado en la Atención Primaria en Salud – APS con criterios de subsidiaridad y complementariedad. | D11: % de Capatacion de Sintomaticos Respiratorios | E11: Conformar los Equipos Básicos de Salud para acercar los servicios de salud a las comunidades. | F11: PROGRAMA 2: Formulación, aprobación y ejecución del plan territorial de salud | G11: N/A | H11: Salud Pública | I11: Planes de salud pública ejecutados al 90% | J11: CUIDADO DE LA SALUD EN EL TERRITORIO. | K11: Realizar Busqueda Activa comunitaria de casos y contactos de tuberculosis y toma de muestras de BK en poblacion en condicion de calle, en adultos mayores institucionalizados, en centros carcelarios y en las comunidades donde se hayan presentado casos y/o siguiendo la tabla 4. Grupos Priorizados para la Busqueda Activa de Sintomaticos Respiratorios. Resolucion 0227 del 2020 - Búsqueda Activa | L11: 5 | M11: Número | N11: 1 | O11: 1 | P11: 2 | Q11: 1 | R11: =SUM(N11:Q11) -> 5 | S11: 46023 | T11: 46387 | U11: 23202020091902101 | V11: Recursos_Provenientes_del_Sistema_General_de_Participaciones_SGP | W11: 2000000 | X11: 2000000 | Y11: 2000000 | Z11: 0 | AA11: 0 | AB11: FAMILIAS, COLECTIVOS Y COMUNIDADES | AC11: SPC - E3 Determinantes - L2 Acuerdos Sociales y Comunitarios - Coordinación intersectorial para la afectación positiva de los determinantes sociales de la salud. | AD11: Gladys Cecilia Campo Agudelo Secretaria de Salud y Bienestar Social
A12: 6 | B12: Atención Primaria en Salud | C12: Entidades Territoriales Departamentales, Distritales que organizan la prestación de servicios de salud en redes integrales e integradas territoriales bajo un modelo de salud predictivo, preventivo y resolutivo fundamentado en la Atención Primaria en Salud – APS con criterios de subsidiaridad y complementariedad. | D12: % de Capatacion de Sintomaticos Respiratorios | E12: Conformar los Equipos Básicos de Salud para acercar los servicios de salud a las comunidades. | F12: PROGRAMA 2: Formulación, aprobación y ejecución del plan territorial de salud | G12: N/A | H12: Salud Pública | I12: Planes de salud pública ejecutados al 90% | J12: CUIDADO DE LA SALUD EN EL TERRITORIO. | K12: Implementar el libro de sintomaticos respiratorios del ambito extramural, producto de las Busquedas Activas comunitarias, diferente al libro de sintomatios respiratorios intitucional - Implementación de libro | L12: 1 | M12: Número | N12: 0 | O12: 0 | P12: 0 | Q12: 1 | R12: =SUM(N12:Q12) -> 1 | S12: 46023 | T12: 46387 | U12: 23202020091902101 | V12: Recursos_Provenientes_del_Sistema_General_de_Participaciones_SGP | W12: 100000 | X12: 100000 | Y12: 100000 | Z12: 0 | AA12: 0 | AB12: FAMILIAS, COLECTIVOS Y COMUNIDADES | AC12: SPC - E3 Determinantes - L2 Acuerdos Sociales y Comunitarios - Coordinación intersectorial para la afectación positiva de los determinantes sociales de la salud. | AD12: Gladys Cecilia Campo Agudelo Secretaria de Salud y Bienestar Social
A13: 7 | B13: Atención Primaria en Salud | C13: Entidades Territoriales Departamentales, Distritales que organizan la prestación de servicios de salud en redes integrales e integradas territoriales bajo un modelo de salud predictivo, preventivo y resolutivo fundamentado en la Atención Primaria en Salud – APS con criterios de subsidiaridad y complementariedad. | D13: Disminucion de la tasa de Enfermedades de Transmision sexual | E13: Conformar los Equipos Básicos de Salud para acercar los servicios de salud a las comunidades. | F13: PROGRAMA 2: Formulación, aprobación y ejecución del plan territorial de salud | G13: N/A | H13: Salud Pública | I13: Planes de salud pública ejecutados al 90% | J13: CUIDADO DE LA SALUD EN EL TERRITORIO. | K13: Campaña con las comunidad en temáticas especificas para la prevención de Enfermedades de Transmisión Sexual | L13: 3 | M13: Número | N13: 0 | O13: 1 | P13: 0 | Q13: 1 | R13: =SUM(N13:Q13) -> 2 | S13: 46023 | T13: 46387 | U13: 23202020091902101 | V13: Recursos_Provenientes_del_Sistema_General_de_Participaciones_SGP | W13: 1500000 | X13: 1500000 | Y13: 1500000 | Z13: 0 | AA13: 0 | AB13: FAMILIAS, COLECTIVOS Y COMUNIDADES | AC13: SPC - E3 Determinantes - L2 Acuerdos Sociales y Comunitarios - Coordinación intersectorial para la afectación positiva de los determinantes sociales de la salud. | AD13: Gladys Cecilia Campo Agudelo Secretaria de Salud y Bienestar Social
A14: 8 | B14: Atención Primaria en Salud | C14: Entidades Territoriales Departamentales, Distritales que organizan la prestación de servicios de salud en redes integrales e integradas territoriales bajo un modelo de salud predictivo, preventivo y resolutivo fundamentado en la Atención Primaria en Salud – APS con criterios de subsidiaridad y complementariedad. | D14: Disminucion de tasa de violencia contra la mujer | E14: Conformar los Equipos Básicos de Salud para acercar los servicios de salud a las comunidades. | F14: PROGRAMA 2: Formulación, aprobación y ejecución del plan territorial de salud | G14: N/A | H14: Salud Pública | I14: Planes de salud pública ejecutados al 90% | J14: CUIDADO DE LA SALUD EN EL TERRITORIO. | K14: Difusión de ruta de Atención del CODIGO FUCSIA - Programa radial | L14: 2 | M14: Número | N14: 0 | O14: 1 | P14: 1 | Q14: 0 | R14: =SUM(N14:Q14) -> 2 | S14: 46023 | T14: 46387 | U14: 23202020091902101 | V14: Recursos_Provenientes_del_Sistema_General_de_Participaciones_SGP | W14: 520000 | X14: 520000 | Y14: 520000 | Z14: 0 | AA14: 0 | AB14: FAMILIAS, COLECTIVOS Y COMUNIDADES | AC14: SPC - E3 Determinantes - L2 Acuerdos Sociales y Comunitarios - Coordinación intersectorial para la afectación positiva de los determinantes sociales de la salud. | AD14: Gladys Cecilia Campo Agudelo Secretaria de Salud y Bienestar Social
A15: 9 | B15: Atención Primaria en Salud | C15: Entidades Territoriales Departamentales, Distritales que organizan la prestación de servicios de salud en redes integrales e integradas territoriales bajo un modelo de salud predictivo, preventivo y resolutivo fundamentado en la Atención Primaria en Salud – APS con criterios de subsidiaridad y complementariedad. | D15: Disminucion de tasa de violencia contra la mujer | E15: Conformar los Equipos Básicos de Salud para acercar los servicios de salud a las comunidades. | F15: PROGRAMA 2: Formulación, aprobación y ejecución del plan territorial de salud | G15: N/A | H15: Salud Pública | I15: Planes de salud pública ejecutados al 90% | J15: CUIDADO DE LA SALUD EN EL TERRITORIO. | K15: Difusión de ruta de Atención del CODIGO FUCSIA - Talleres | L15: 3 | M15: Número | N15: 0 | O15: 1 | P15: 1 | Q15: 0 | R15: =SUM(N15:Q15) -> 2 | S15: 46023 | T15: 46387 | U15: 23202020091902101 | V15: Recursos_Provenientes_del_Sistema_General_de_Participaciones_SGP | W15: 880000 | X15: 880000 | Y15: 880000 | Z15: 0 | AA15: 0 | AB15: FAMILIAS, COLECTIVOS Y COMUNIDADES | AC15: SPC - E3 Determinantes - L2 Acuerdos Sociales y Comunitarios - Coordinación intersectorial para la afectación positiva de los determinantes sociales de la salud. | AD15: Gladys Cecilia Campo Agudelo Secretaria de Salud y Bienestar Social
W16: =SUM(W10:W15) -> 7000000 | X16: =SUM(X10:X15) -> 7000000 | Y16: =SUM(Y10:Y15) -> 7000000 | Z16: =SUM(Z10:Z15) -> 0 | AA16: =SUM(AA10:AA15) -> 0 | AC16: SPC - E3 Determinantes - L3 Cuidado de la Salud - Información en salud para la afectación positiva de los determinantes sociales de la salud en el territorio. Prevención de cáncer y otras enferm.catastróficas SGP SAL.PUB. Vig. Act.
A17: 10 | B17: Atención Primaria en Salud | C17: Entidades Territoriales Departamentales, Distritales que organizan la prestación de servicios de salud en redes integrales e integradas territoriales bajo un modelo de salud predictivo, preventivo y resolutivo fundamentado en la Atención Primaria en Salud – APS con criterios de subsidiaridad y complementariedad. | D17: A 2027, disminuir la tasa mortalidad por Cancer | E17: Conformar los Equipos Básicos de Salud para acercar los servicios de salud a las comunidades. | F17: PROGRAMA 2: Formulación, aprobación y ejecución del plan territorial de salud | G17: N/A | H17: Salud Pública | I17: Planes de salud pública ejecutados al 90% | J17: CUIDADO DE LA SALUD EN EL TERRITORIO. | K17: Realizar Información y educación en cancer (Estomago, Mama, Cuello uterino, Pulmonar): Generalidades, Signos de Alarma, Tratramiento, Rehabilitación | L17: 10 | M17: Número | N17: 2 | O17: 2 | P17: 4 | Q17: 2 | R17: =SUM(N17:Q17) -> 10 | S17: 46023 | T17: 46387 | U17: 23202020091902103 | V17: Recursos_Provenientes_del_Sistema_General_de_Participaciones_SGP | W17: 2500000 | X17: 2500000 | Y17: 2500000 | Z17: 0 | AA17: 0 | AB17: FAMILIAS, COLECTIVOS Y COMUNIDADES | AC17: SPC - E3 Determinantes - L3 Cuidado de la Salud - Información en salud para la afectación positiva de los determinantes sociales de la salud en el territorio. Prevención de cáncer y otras enferm.catastróficas SGP SAL.PUB. Vig. Act. | AD17: Gladys Cecilia Campo Agudelo Secretaria de Salud y Bienestar Social
A18: 11 | B18: Atención Primaria en Salud | C18: Entidades Territoriales Departamentales, Distritales que organizan la prestación de servicios de salud en redes integrales e integradas territoriales bajo un modelo de salud predictivo, preventivo y resolutivo fundamentado en la Atención Primaria en Salud – APS con criterios de subsidiaridad y complementariedad. | D18: A 2027, mantener la Prevalencia de hipertensión arterial en 9.67 en el Municipio | E18: Conformar los Equipos Básicos de Salud para acercar los servicios de salud a las comunidades. | F18: PROGRAMA 2: Formulación, aprobación y ejecución del plan territorial de salud | G18: N/A | H18: Salud Pública | I18: Planes de salud pública ejecutados al 90% | J18: CUIDADO DE LA SALUD EN EL TERRITORIO. | K18: Realizar actividades en IEC relacionadas con reconocimiento de los riesgos, signos y síntomas las Enfermedades crónicas como Hipertensión, Diabetes, Enfermedades del sistema circulatorio (Infarto Agudo de Miocardio, Eventos cerebrovasculares,) | L18: 4 | M18: Número | N18: 1 | O18: 1 | P18: 1 | Q18: 1 | R18: =SUM(N18:Q18) -> 4 | S18: 46023 | T18: 46387 | U18: 23202020091902103 | V18: Recursos_Provenientes_del_Sistema_General_de_Participaciones_SGP | W18: 1250000 | X18: 1250000 | Y18: 1250000 | Z18: 0 | AA18: 0 | AB18: FAMILIAS, COLECTIVOS Y COMUNIDADES | AC18: SPC - E3 Determinantes - L3 Cuidado de la Salud - Información en salud para la afectación positiva de los determinantes sociales de la salud en el territorio. Prevención de cáncer y otras enferm.catastróficas SGP SAL.PUB. Vig. Act. | AD18: Gladys Cecilia Campo Agudelo Secretaria de Salud y Bienestar Social
A19: 12 | B19: Atención Primaria en Salud | C19: Entidades Territoriales Departamentales, Distritales que organizan la prestación de servicios de salud en redes integrales e integradas territoriales bajo un modelo de salud predictivo, preventivo y resolutivo fundamentado en la Atención Primaria en Salud – APS con criterios de subsidiaridad y complementariedad. | D19: Prevalencia de exceso de peso en niños y niñas 5-12 años y adolescentes de 13 a 17 años | E19: Conformar los Equipos Básicos de Salud para acercar los servicios de salud a las comunidades. | F19: PROGRAMA 2: Formulación, aprobación y ejecución del plan territorial de salud | G19: N/A | H19: Salud Pública | I19: Planes de salud pública ejecutados al 90% | J19: CUIDADO DE LA SALUD EN EL TERRITORIO. | K19: Realizar IEC que permitan socializar la importancia de la alimentación saludable promoviendo el aprovechamiento de los alimentos de cosecha y que son producidos en el municipio - Cartilla virtual a través de redes sociales | L19: 2 | M19: Número | N19: 0 | O19: 1 | P19: 1 | Q19: 0 | R19: =SUM(N19:Q19) -> 2 | S19: 46023 | T19: 46387 | U19: 232020200918030103 | V19: Recursos_Provenientes_del_Sistema_General_de_Participaciones_SGP | W19: 1250000 | X19: 1250000 | Y19: 1250000 | Z19: 0 | AA19: 0 | AB19: FAMILIAS, COLECTIVOS Y COMUNIDADES | AC19: SPC - E3 Determinantes - L3 Cuidado de la Salud - Información en salud para la afectación positiva de los determinantes sociales de la salud en el territorio. Prevención de cáncer y otras enferm.catastróficas SGP SAL.PUB. Vig. Act. | AD19: Gladys Cecilia Campo Agudelo Secretaria de Salud y Bienestar Social
W20: =SUM(W17:W19) -> 5000000 | X20: =SUM(X17:X19) -> 5000000 | Y20: =SUM(Y17:Y19) -> 5000000 | Z20: =SUM(Z17:Z19) -> 0 | AA20: =SUM(AA17:AA19) -> 0 | AC20: SPC - E4 Atención Primaria Salud - L3 Cuidado de la Salud - Cuidado de la Salud - familias, colectivos y comunidades
A21: 13 | B21: Atención Primaria en Salud | C21: Entidades Territoriales Departamentales, Distritales que organizan la prestación de servicios de salud en redes integrales e integradas territoriales bajo un modelo de salud predictivo, preventivo y resolutivo fundamentado en la Atención Primaria en Salud – APS con criterios de subsidiaridad y complementariedad. | D21: Disminuir la Incidencia de agresiones por animales potencialmente transmisores de rabia (Número de casos presentados por año) | E21: Conformar los Equipos Básicos de Salud para acercar los servicios de salud a las comunidades. | F21: PROGRAMA 2: Formulación, aprobación y ejecución del plan territorial de salud | G21: N/A | H21: Salud Pública | I21: Planes de salud pública ejecutados al 90% | J21: CUIDADO DE LA SALUD EN EL TERRITORIO. | K21: Acciones de Información, educación y comunicación, enfocadas a la tenencia responsable de animales, de modo que se reduzca el riesgo de transmisión de zoonosis | L21: 5 | M21: Número | N21: 1 | O21: 1 | P21: 2 | Q21: 1 | R21: =SUM(N21:Q21) -> 5 | S21: 46023 | T21: 46387 | U21: 23202020091902107 | V21: Recursos_Provenientes_del_Sistema_General_de_Participaciones_SGP | W21: 3000000 | X21: 3000000 | Y21: 3000000 | Z21: 0 | AA21: 0 | AB21: FAMILIAS, COLECTIVOS Y COMUNIDADES | AC21: SPC - E4 Atención Primaria Salud - L3 Cuidado de la Salud - Cuidado de la Salud - familias, colectivos y comunidades | AD21: Gladys Cecilia Campo Agudelo Secretaria de Salud y Bienestar Social
A22: 14 | B22: Atención Primaria en Salud | C22: Entidades Territoriales Departamentales, Distritales que organizan la prestación de servicios de salud en redes integrales e integradas territoriales bajo un modelo de salud predictivo, preventivo y resolutivo fundamentado en la Atención Primaria en Salud – APS con criterios de subsidiaridad y complementariedad. | D22: Cobertura de vacunación felina y canina (% de vacunación a especies menores) | E22: Conformar los Equipos Básicos de Salud para acercar los servicios de salud a las comunidades. | F22: PROGRAMA 2: Formulación, aprobación y ejecución del plan territorial de salud | G22: N/A | H22: Salud Pública | I22: Planes de salud pública ejecutados al 90% | J22: CUIDADO DE LA SALUD EN EL TERRITORIO. | K22: Apoyo con educacion IEC en las Campañas de vacunacion antirrabica dirigida a la la poblacion canina y felina del municipio | L22: 2 | M22: Número | N22: 0 | O22: 1 | P22: 0 | Q22: 1 | R22: =SUM(N22:Q22) -> 2 | S22: 46023 | T22: 46387 | U22: 23202020091902107 | V22: Recursos_Provenientes_del_Sistema_General_de_Participaciones_SGP | W22: 2000000 | X22: 2000000 | Y22: 2000000 | Z22: 0 | AA22: 0 | AB22: FAMILIAS, COLECTIVOS Y COMUNIDADES | AC22: SPC - E4 Atención Primaria Salud - L3 Cuidado de la Salud - Cuidado de la Salud - familias, colectivos y comunidades | AD22: Gladys Cecilia Campo Agudelo Secretaria de Salud y Bienestar Social
A23: 15 | B23: Atención Primaria en Salud | C23: Entidades Territoriales Departamentales, Distritales que organizan la prestación de servicios de salud en redes integrales e integradas territoriales bajo un modelo de salud predictivo, preventivo y resolutivo fundamentado en la Atención Primaria en Salud – APS con criterios de subsidiaridad y complementariedad. | D23: Disminución de violencia de género intrafamilar | E23: Conformar los Equipos Básicos de Salud para acercar los servicios de salud a las comunidades. | F23: PROGRAMA 2: Formulación, aprobación y ejecución del plan territorial de salud | G23: N/A | H23: Salud Pública | I23: Planes de salud pública ejecutados al 90% | J23: CUIDADO DE LA SALUD EN EL TERRITORIO. | K23: Entrenar a los comites de Salud de las Diferentes Juntas de Accion Comunal en: Como identificar en el territorio, la presencia de casos de Violencia, Rutas de Atencion contra la violencia intrafamiliar y de Equidad y Genero | L23: 10 | M23: Número | N23: 2 | O23: 2 | P23: 3 | Q23: 3 | R23: =SUM(N23:Q23) -> 10 | S23: 46023 | T23: 46387 | U23: 23202020091902107 | V23: Recursos_Provenientes_del_Sistema_General_de_Participaciones_SGP | W23: 4500000 | X23: 4500000 | Y23: 4500000 | Z23: 0 | AA23: 0 | AB23: FAMILIAS, COLECTIVOS Y COMUNIDADES | AC23: SPC - E4 Atención Primaria Salud - L3 Cuidado de la Salud - Cuidado de la Salud - familias, colectivos y comunidades | AD23: Gladys Cecilia Campo Agudelo Secretaria de Salud y Bienestar Social
A24: 16 | B24: Atención Primaria en Salud | C24: Entidades Territoriales Departamentales, Distritales que organizan la prestación de servicios de salud en redes integrales e integradas territoriales bajo un modelo de salud predictivo, preventivo y resolutivo fundamentado en la Atención Primaria en Salud – APS con criterios de subsidiaridad y complementariedad. | D24: Disminución de violencia de género intrafamilar | E24: Conformar los Equipos Básicos de Salud para acercar los servicios de salud a las comunidades. | F24: PROGRAMA 2: Formulación, aprobación y ejecución del plan territorial de salud | G24: N/A | H24: Salud Pública | I24: Planes de salud pública ejecutados al 90% | J24: CUIDADO DE LA SALUD EN EL TERRITORIO. | K24: Campaña IEC prevención del uso de pólvora | L24: 1 | M24: Número | N24: 0 | O24: 0 | P24: 0 | Q24: 1 | R24: 1 | S24: 46023 | T24: 46387 | U24: 23202020091902107 | V24: Recursos_Provenientes_del_Sistema_General_de_Participaciones_SGP | W24: 5000000 | X24: 5000000 | Y24: 5000000 | Z24: 0 | AA24: 0 | AB24: FAMILIAS, COLECTIVOS Y COMUNIDADES | AC24: SPC - E4 Atención Primaria Salud - L3 Cuidado de la Salud - Cuidado de la Salud - familias, colectivos y comunidades | AD24: Gladys Cecilia Campo Agudelo Secretaria de Salud y Bienestar Social
A25: 17 | B25: Atención Primaria en Salud | C25: Entidades Territoriales Departamentales, Distritales que organizan la prestación de servicios de salud en redes integrales e integradas territoriales bajo un modelo de salud predictivo, preventivo y resolutivo fundamentado en la Atención Primaria en Salud – APS con criterios de subsidiaridad y complementariedad. | D25: Prevalencia de exceso de peso en niños y niñas 5-12 años y adolescentes de 13 a 17 años | E25: Conformar los Equipos Básicos de Salud para acercar los servicios de salud a las comunidades. | F25: PROGRAMA 2: Formulación, aprobación y ejecución del plan territorial de salud | G25: N/A | H25: Salud Pública | I25: Planes de salud pública ejecutados al 90% | J25: CUIDADO DE LA SALUD EN EL TERRITORIO. | K25: Realizar IEC que permitan socializar la importancia de la alimentación saludable promoviendo el aprovechamiento de los alimentos de cosecha y que son producidos en el municipio - programa radial | L25: 6 | M25: Número | N25: 1 | O25: 2 | P25: 2 | Q25: 1 | R25: =SUM(N25:Q25) -> 6 | S25: 46023 | T25: 46387 | U25: 23202020091902107 | V25: Recursos_Provenientes_del_Sistema_General_de_Participaciones_SGP | W25: 2000000 | X25: 2000000 | Y25: 2000000 | Z25: 0 | AA25: 0 | AB25: FAMILIAS, COLECTIVOS Y COMUNIDADES | AC25: SPC - E4 Atención Primaria Salud - L3 Cuidado de la Salud - Cuidado de la Salud - familias, colectivos y comunidades | AD25: Gladys Cecilia Campo Agudelo Secretaria de Salud y Bienestar Social
A26: 18 | B26: Atención Primaria en Salud | C26: Entidades Territoriales Departamentales, Distritales que organizan la prestación de servicios de salud en redes integrales e integradas territoriales bajo un modelo de salud predictivo, preventivo y resolutivo fundamentado en la Atención Primaria en Salud – APS con criterios de subsidiaridad y complementariedad. | D26: Disminuir la tasa de mortalidad por infarto agudo del miocardo. | E26: Conformar los Equipos Básicos de Salud para acercar los servicios de salud a las comunidades. | F26: PROGRAMA 2: Formulación, aprobación y ejecución del plan territorial de salud | G26: N/A | H26: Salud Pública | I26: Planes de salud pública ejecutados al 90% | J26: CUIDADO DE LA SALUD EN EL TERRITORIO. | K26: Promoción de estilos de vida saludable con el fin de disminuir el riesgo de enfermedades no transmisibles: isquemicas del corazón, cardiovasculares, muertes por IAM. | L26: 8 | M26: Numero | N26: 2 | O26: 2 | P26: 2 | Q26: 2 | R26: =SUM(N26:Q26) -> 8 | S26: 46023 | T26: 46387 | U26: 23202020091902107 | V26: Recursos_Provenientes_del_Sistema_General_de_Participaciones_SGP | W26: 2481791 | X26: 2481791 | Y26: 2481791 | Z26: 0 | AA26: 0 | AB26: FAMILIAS, COLECTIVOS Y COMUNIDADES | AC26: SPC - E4 Atención Primaria Salud - L3 Cuidado de la Salud - Cuidado de la Salud - familias, colectivos y comunidades | AD26: Gladys Cecilia Campo Agudelo Secretaria de Salud y Bienestar Social
A27: 19 | B27: Atención Primaria en Salud | C27: Entidades Territoriales Departamentales, Distritales que organizan la prestación de servicios de salud en redes integrales e integradas territoriales bajo un modelo de salud predictivo, preventivo y resolutivo fundamentado en la Atención Primaria en Salud – APS con criterios de subsidiaridad y complementariedad. | D27: Disminuir la tasa de mortalidad por infarto agudo del miocardo. | E27: Conformar los Equipos Básicos de Salud para acercar los servicios de salud a las comunidades. | F27: PROGRAMA 2: Formulación, aprobación y ejecución del plan territorial de salud | G27: N/A | H27: Salud Pública | I27: Planes de salud pública ejecutados al 90% | J27: CUIDADO DE LA SALUD EN EL TERRITORIO. | K27: Promoción de estilos de vida saludable la ENT a traves de sensibilización sobre el consumo de sal/sodio/persona/día. | L27: 6 | M27: Numero | N27: 1 | O27: 2 | P27: 2 | Q27: 1 | R27: =SUM(N27:Q27) -> 6 | S27: 46023 | T27: 46387 | U27: 23202020091902107 | V27: Recursos_Provenientes_del_Sistema_General_de_Participaciones_SGP | W27: 3200000 | X27: 3200000 | Y27: 3200000 | Z27: 0 | AA27: 0 | AB27: FAMILIAS, COLECTIVOS Y COMUNIDADES | AC27: SPC - E4 Atención Primaria Salud - L3 Cuidado de la Salud - Cuidado de la Salud - familias, colectivos y comunidades | AD27: Gladys Cecilia Campo Agudelo Secretaria de Salud y Bienestar Social
A28: 20 | B28: Atención Primaria en Salud | C28: Entidades Territoriales Departamentales, Distritales que organizan la prestación de servicios de salud en redes integrales e integradas territoriales bajo un modelo de salud predictivo, preventivo y resolutivo fundamentado en la Atención Primaria en Salud – APS con criterios de subsidiaridad y complementariedad. | D28: Disminuir a 0 la tasa de mortalidad por suicidio. | E28: Conformar los Equipos Básicos de Salud para acercar los servicios de salud a las comunidades. | F28: PROGRAMA 2: Formulación, aprobación y ejecución del plan territorial de salud | G28: N/A | H28: Salud Pública | I28: Planes de salud pública ejecutados al 90% | J28: CUIDADO DE LA SALUD EN EL TERRITORIO. | K28: Realizar campaña "no violencia de género" | L28: 1 | M28: Número | N28: 0 | O28: 0 | P28: 0 | Q28: 1 | R28: 1 | S28: 46023 | T28: 46387 | U28: 23202020091902107 | V28: Recursos_Provenientes_del_Sistema_General_de_Participaciones_SGP | W28: 5000000 | X28: 5000000 | Y28: 5000000 | Z28: 0 | AA28: 0 | AB28: FAMILIAS, COLECTIVOS Y COMUNIDADES | AC28: SPC - E4 Atención Primaria Salud - L3 Cuidado de la Salud - Cuidado de la Salud - familias, colectivos y comunidades | AD28: Gladys Cecilia Campo Agudelo Secretaria de Salud y Bienestar Social
W29: =SUM(W21:W28) -> 27181791 | X29: =SUM(X21:X28) -> 27181791 | Y29: =SUM(Y21:Y28) -> 27181791 | Z29: =SUM(Z21:Z74) -> 0 | AA29: =SUM(AA21:AA74) -> 0 | AC29: SPC - E4 Atención Primaria Salud - L3 Cuidado de la Salud - Cuidado de la salud - Población materna-perinatal
A30: 21 | B30: Atención Primaria en Salud | C30: Entidades Territoriales Departamentales, Distritales que organizan la prestación de servicios de salud en redes integrales e integradas territoriales bajo un modelo de salud predictivo, preventivo y resolutivo fundamentado en la Atención Primaria en Salud – APS con criterios de subsidiaridad y complementariedad. | D30: Mantener en 0 la mortalidad materna | E30: Conformar los Equipos Básicos de Salud para acercar los servicios de salud a las comunidades. | F30: PROGRAMA 2: Formulación, aprobación y ejecución del plan territorial de salud | G30: N/A | H30: Salud Pública | I30: Planes de salud pública ejecutados al 90% | J30: CUIDADO DE LA SALUD EN EL TERRITORIO. | K30: Realizar el Fortalecimiento de las Estrategias de información y comunicación para promover el cuidado y la salud materna y neonatal.: Ingreso temprano al control prenatal, importancia de los exámenes durante la gestación, consumo de multivitamínicos, maternidad y paternidad responsable), Prevención de ITS de transmisión vertical | L30: 3 | M30: Número | N30: 0 | O30: 1 | P30: 1 | Q30: 1 | R30: =SUM(N30:Q30) -> 3 | S30: 46023 | T30: 46387 | U30: 23202020091902108 | V30: Recursos_Provenientes_del_Sistema_General_de_Participaciones_SGP | W30: 1500000 | X30: 1500000 | Y30: 1500000 | Z30: 0 | AA30: 0 | AB30: Materno - perinatal | AC30: SPC - E4 Atención Primaria Salud - L3 Cuidado de la Salud - Cuidado de la salud - Población materna-perinatal | AD30: Gladys Cecilia Campo Agudelo Secretaria de Salud y Bienestar Social
A31: 22 | B31: Atención Primaria en Salud | C31: Entidades Territoriales Departamentales, Distritales que organizan la prestación de servicios de salud en redes integrales e integradas territoriales bajo un modelo de salud predictivo, preventivo y resolutivo fundamentado en la Atención Primaria en Salud – APS con criterios de subsidiaridad y complementariedad. | D31: Número de casos de sífilis gestacional y congénita Tasa de incidencia por VIH/SIDA | E31: Conformar los Equipos Básicos de Salud para acercar los servicios de salud a las comunidades. | F31: PROGRAMA 2: Formulación, aprobación y ejecución del plan territorial de salud | G31: N/A | H31: Salud Pública | I31: Planes de salud pública ejecutados al 90% | J31: CUIDADO DE LA SALUD EN EL TERRITORIO. | K31: Realizar actividades de IEC en temas relacionados con derechos sexuales y reproductivos, maternidad segura, infecciones de trasmision sexual atravez de medios masivos de comunicación | L31: 6 | M31: Número | N31: 1 | O31: 2 | P31: 2 | Q31: 1 | R31: =SUM(N31:Q31) -> 6 | S31: 46023 | T31: 46387 | U31: 23202020091902108 | V31: Recursos_Provenientes_del_Sistema_General_de_Participaciones_SGP | W31: 1500000 | X31: 1500000 | Y31: 1500000 | Z31: 0 | AA31: 0 | AB31: Materno - perinatal | AC31: SPC - E4 Atención Primaria Salud - L3 Cuidado de la Salud - Cuidado de la salud - Población materna-perinatal | AD31: Gladys Cecilia Campo Agudelo Secretaria de Salud y Bienestar Social
A32: 23 | B32: Atención Primaria en Salud | C32: Entidades Territoriales Departamentales, Distritales que organizan la prestación de servicios de salud en redes integrales e integradas territoriales bajo un modelo de salud predictivo, preventivo y resolutivo fundamentado en la Atención Primaria en Salud – APS con criterios de subsidiaridad y complementariedad. | D32: mantener en 0 la mortalidad materna | E32: Conformar los Equipos Básicos de Salud para acercar los servicios de salud a las comunidades. | F32: PROGRAMA 2: Formulación, aprobación y ejecución del plan territorial de salud | G32: N/A | H32: Salud Pública | I32: Planes de salud pública ejecutados al 90% | J32: CUIDADO DE LA SALUD EN EL TERRITORIO. | K32: Fortalecer la Vigilancia de la morbilidad materna y neonatal extrema y del modelo de seguridad clínica para la atención segura de la mujer durante un evento obstétrico. - Talleres | L32: 6 | M32: Número | N32: 1 | O32: 2 | P32: 2 | Q32: 1 | R32: =SUM(N32:Q32) -> 6 | S32: 46023 | T32: 46387 | U32: 23202020091902108 | V32: Recursos_Provenientes_del_Sistema_General_de_Participaciones_SGP | W32: 1500000 | X32: 1500000 | Y32: 1500000 | Z32: 0 | AA32: 0 | AB32: Materno - perinatal | AC32: SPC - E4 Atención Primaria Salud - L3 Cuidado de la Salud - Cuidado de la salud - Población materna-perinatal | AD32: Gladys Cecilia Campo Agudelo Secretaria de Salud y Bienestar Social
A33: 24 | B33: Atención Primaria en Salud | C33: Entidades Territoriales Departamentales, Distritales que organizan la prestación de servicios de salud en redes integrales e integradas territoriales bajo un modelo de salud predictivo, preventivo y resolutivo fundamentado en la Atención Primaria en Salud – APS con criterios de subsidiaridad y complementariedad. | D33: mantener en 0 la mortalidad materna | E33: Conformar los Equipos Básicos de Salud para acercar los servicios de salud a las comunidades. | F33: PROGRAMA 2: Formulación, aprobación y ejecución del plan territorial de salud | G33: N/A | H33: Salud Pública | I33: Planes de salud pública ejecutados al 90% | J33: CUIDADO DE LA SALUD EN EL TERRITORIO. | K33: Fortalecer la Vigilancia de la morbilidad materna y neonatal extrema y del modelo de seguridad clínica para la atención segura de la mujer durante un evento obstétrico. - Programa radial | L33: 3 | M33: Número | N33: 0 | O33: 1 | P33: 1 | Q33: 1 | R33: =SUM(N33:Q33) -> 3 | S33: 46023 | T33: 46387 | U33: 23202020091902108 | V33: Recursos_Provenientes_del_Sistema_General_de_Participaciones_SGP | W33: 780000 | X33: 780000 | Y33: 780000 | Z33: 0 | AA33: 0 | AB33: Materno - perinatal | AC33: SPC - E4 Atención Primaria Salud - L3 Cuidado de la Salud - Cuidado de la salud - Población materna-perinatal | AD33: Gladys Cecilia Campo Agudelo Secretaria de Salud y Bienestar Social
A34: 25 | B34: Atención Primaria en Salud | C34: Entidades Territoriales Departamentales, Distritales que organizan la prestación de servicios de salud en redes integrales e integradas territoriales bajo un modelo de salud predictivo, preventivo y resolutivo fundamentado en la Atención Primaria en Salud – APS con criterios de subsidiaridad y complementariedad. | D34: Tasa mortalidad por I.R.A en menores de 5 años Tasa mortalidad por E.D.A | E34: Conformar los Equipos Básicos de Salud para acercar los servicios de salud a las comunidades. | F34: PROGRAMA 2: Formulación, aprobación y ejecución del plan territorial de salud | G34: N/A | H34: Salud Pública | I34: Planes de salud pública ejecutados al 90% | J34: CUIDADO DE LA SALUD EN EL TERRITORIO. | K34: Realización de acciones educativas de infeccion Respiratoria Aguda -IRA-EDA - Talleres | L34: 5 | M34: Número | N34: 1 | O34: 1 | P34: 2 | Q34: 1 | R34: =SUM(N34:Q34) -> 5 | S34: 46023 | T34: 46387 | U34: 23202020091902108 | V34: Recursos_Provenientes_del_Sistema_General_de_Participaciones_SGP | W34: 1250000 | X34: 1250000 | Y34: 1250000 | Z34: 0 | AA34: 0 | AB34: Materno - perinatal | AC34: SPC - E4 Atención Primaria Salud - L3 Cuidado de la Salud - Cuidado de la salud - Población materna-perinatal | AD34: Gladys Cecilia Campo Agudelo Secretaria de Salud y Bienestar Social
A35: 26 | B35: Atención Primaria en Salud | C35: Entidades Territoriales Departamentales, Distritales que organizan la prestación de servicios de salud en redes integrales e integradas territoriales bajo un modelo de salud predictivo, preventivo y resolutivo fundamentado en la Atención Primaria en Salud – APS con criterios de subsidiaridad y complementariedad. | D35: Cobertura de vacunación triple viral | E35: Conformar los Equipos Básicos de Salud para acercar los servicios de salud a las comunidades. | F35: PROGRAMA 2: Formulación, aprobación y ejecución del plan territorial de salud | G35: N/A | H35: Salud Pública | I35: Planes de salud pública ejecutados al 90% | J35: CUIDADO DE LA SALUD EN EL TERRITORIO. | K35: Realizar encuentros educativos con la comunidad frente a la importancia de la vacunación, Lectura de carnet, riesgos y principales enfermedades inmunoprevenibles | L35: 6 | M35: Número | N35: 1 | O35: 2 | P35: 2 | Q35: 1 | R35: =SUM(N35:Q35) -> 6 | S35: 46023 | T35: 46387 | U35: 23202020091902108 | V35: Recursos_Provenientes_del_Sistema_General_de_Participaciones_SGP | W35: 2470000 | X35: 2470000 | Y35: 2470000 | Z35: 0 | AA35: 0 | AB35: Materno - perinatal | AC35: SPC - E4 Atención Primaria Salud - L3 Cuidado de la Salud - Cuidado de la salud - Población materna-perinatal | AD35: Gladys Cecilia Campo Agudelo Secretaria de Salud y Bienestar Social
W36: =SUM(W30:W35) -> 9000000 | X36: =SUM(X30:X35) -> 9000000 | Y36: =SUM(Y30:Y35) -> 9000000 | Z36: =SUM(Z30:Z35) -> 0 | AA36: =SUM(AA30:AA35) -> 0 | AC36: SPC - E4 Atención Primaria Salud - L3 Cuidado de la Salud - Cuidado de la salud - Primera infancia
A37: 27 | B37: Atención Primaria en Salud | C37: Entidades Territoriales Departamentales, Distritales que organizan la prestación de servicios de salud en redes integrales e integradas territoriales bajo un modelo de salud predictivo, preventivo y resolutivo fundamentado en la Atención Primaria en Salud – APS con criterios de subsidiaridad y complementariedad. | D37: Tasa de desnutricion menores 5 años | E37: Conformar los Equipos Básicos de Salud para acercar los servicios de salud a las comunidades. | F37: PROGRAMA 2: Formulación, aprobación y ejecución del plan territorial de salud | G37: N/A | H37: Salud Pública | I37: Planes de salud pública ejecutados al 90% | J37: CUIDADO DE LA SALUD EN EL TERRITORIO. | K37: Realizar campaña IEC en lactancia materna exclusiva hasta los 6 meses y complementaria hasta los 2 años. | L37: 6 | M37: Porcentaje | N37: 1 | O37: 2 | P37: 2 | Q37: 1 | R37: =SUM(N37:Q37) -> 6 | S37: 46023 | T37: 46387 | U37: 23202020091902109 | V37: Recursos_Provenientes_del_Sistema_General_de_Participaciones_SGP | W37: 2720000 | X37: 2720000 | Y37: 2720000 | Z37: 0 | AA37: 0 | AB37: primera infancia (0-5 años) | AC37: SPC - E4 Atención Primaria Salud - L3 Cuidado de la Salud - Cuidado de la salud - Primera infancia | AD37: Gladys Cecilia Campo Agudelo Secretaria de Salud y Bienestar Social
A38: 28 | B38: Atención Primaria en Salud | C38: Entidades Territoriales Departamentales, Distritales que organizan la prestación de servicios de salud en redes integrales e integradas territoriales bajo un modelo de salud predictivo, preventivo y resolutivo fundamentado en la Atención Primaria en Salud – APS con criterios de subsidiaridad y complementariedad. | D38: Tasa de desnutricion menores 5 años | E38: Conformar los Equipos Básicos de Salud para acercar los servicios de salud a las comunidades. | F38: PROGRAMA 2: Formulación, aprobación y ejecución del plan territorial de salud | G38: N/A | H38: Salud Pública | I38: Planes de salud pública ejecutados al 90% | J38: CUIDADO DE LA SALUD EN EL TERRITORIO. | K38: Realizar IEC en lactancia materna exclusiva hasta los 6 meses y complementaria hasta los 2 años - Programa radial | L38: 3 | M38: Número | N38: 0 | O38: 1 | P38: 1 | Q38: 1 | R38: =SUM(N38:Q38) -> 3 | S38: 46023 | T38: 46387 | U38: 23202020091902109 | V38: Recursos_Provenientes_del_Sistema_General_de_Participaciones_SGP | W38: 780000 | X38: 780000 | Y38: 780000 | Z38: 0 | AA38: 0 | AB38: primera infancia (0-5 años) | AC38: SPC - E4 Atención Primaria Salud - L3 Cuidado de la Salud - Cuidado de la salud - Primera infancia | AD38: Gladys Cecilia Campo Agudelo Secretaria de Salud y Bienestar Social
A39: 29 | B39: Atención Primaria en Salud | C39: Entidades Territoriales Departamentales, Distritales que organizan la prestación de servicios de salud en redes integrales e integradas territoriales bajo un modelo de salud predictivo, preventivo y resolutivo fundamentado en la Atención Primaria en Salud – APS con criterios de subsidiaridad y complementariedad. | D39: A 2027, incrementar en un 2% las coberturas de prevención y detección temprana de las ENT, las alteraciones de la salud bucal, visual, auditiva y comunicativa y sus factores de riesgo. | E39: Conformar los Equipos Básicos de Salud para acercar los servicios de salud a las comunidades. | F39: PROGRAMA 2: Formulación, aprobación y ejecución del plan territorial de salud | G39: N/A | H39: Salud Pública | I39: Planes de salud pública ejecutados al 90% | J39: CUIDADO DE LA SALUD EN EL TERRITORIO. | K39: Realización de Campaña para el uso adecuado de los implementos de higiene oral, prevención de enfermedades de la cavidad oral e importancia del correcto cepillado, en institucion educativa del municipio | L39: 3 | M39: Número | N39: 0 | O39: 1 | P39: 1 | Q39: 1 | R39: =SUM(N39:Q39) -> 3 | S39: 46023 | T39: 46387 | U39: 23202020091902109 | V39: Recursos_Provenientes_del_Sistema_General_de_Participaciones_SGP | W39: 1500000 | X39: 1500000 | Y39: 1500000 | Z39: 0 | AA39: 0 | AB39: primera infancia (0-5 años) | AC39: SPC - E4 Atención Primaria Salud - L3 Cuidado de la Salud - Cuidado de la salud - Primera infancia | AD39: Gladys Cecilia Campo Agudelo Secretaria de Salud y Bienestar Social
A40: 30 | B40: Atención Primaria en Salud | C40: Entidades Territoriales Departamentales, Distritales que organizan la prestación de servicios de salud en redes integrales e integradas territoriales bajo un modelo de salud predictivo, preventivo y resolutivo fundamentado en la Atención Primaria en Salud – APS con criterios de subsidiaridad y complementariedad. | D40: Tasa mortalidad por I.R.A en menores de 5 años Tasa mortalidad por E.D.A | E40: Conformar los Equipos Básicos de Salud para acercar los servicios de salud a las comunidades. | F40: PROGRAMA 2: Formulación, aprobación y ejecución del plan territorial de salud | G40: N/A | H40: Salud Pública | I40: Planes de salud pública ejecutados al 90% | J40: CUIDADO DE LA SALUD EN EL TERRITORIO. | K40: Realizar encuentros educativos que permitan la sensibilización de la población en temas relacionados con la salud infantil, fortalecimiento la estrategia AIEPI Comunitaria en la zona urbana y rural del municipio - Talleres | L40: 8 | M40: Número | N40: 2 | O40: 2 | P40: 2 | Q40: 2 | R40: =SUM(N40:Q40) -> 8 | S40: 46023 | T40: 46387 | U40: 23202020091902109 | V40: Recursos_Provenientes_del_Sistema_General_de_Participaciones_SGP | W40: 2000000 | X40: 2000000 | Y40: 2000000 | Z40: 0 | AA40: 0 | AB40: primera infancia (0-5 años) | AC40: SPC - E4 Atención Primaria Salud - L3 Cuidado de la Salud - Cuidado de la salud - Primera infancia | AD40: Gladys Cecilia Campo Agudelo Secretaria de Salud y Bienestar Social
...

Sheet SPC - E2 Pueblos y comunidades 
E1: LINEAMIENTO OPERATIVO SALUD PUBLICA-MUNICIPIO DE ALEJANDRIA 2026
A2: ITEMS | B2: EJE ESTRATÉGICO | C2: ENTORNOENTORNO EN EL CUAL DESARROLLAN LAS ACTIVIDADES (Familia, escolar, comunitario, laboral, Institucional) De acuerdo a la Resolucion 3280 de 2018 | D2: EVENTO DE INTERES DE SALUD PUBLICA | E2: ESTRATEGIA | F2: ACTIVIDAD | G2: CODIGO CUPS (Resolución 2077 de 2021 anexo 5) | H2: TIPO DE ACTIVIDAD | I2: NUMERO DE ACTIVIDADES | J2: VALOR UNITARIO | K2: VALOR TOTAL | L2: TERRITORIO | M2: MICROTERRITORIO | N2: POBLACIÓN SUJETO | O2: ENFOQUE DIFERENCIAL | Q2: LUGAR DE EJECUCIÓN | R2: CANTIDAD | S2: TRIMESTRE | W2: RESULTADO O PRODUCTO | X2: ORIENTACIONES ESPECIFICAS TÉCNICAS | Y2: INDICADOR DE PRODUCTO O DE RESULTADO | Z2: TIEMPO DE EJECUCION | AA2: PROFESIONAL QUE REALIZA LA ACTIVIDAD | AB2: SOPORTES REQUERIDOS PARA LA AUDITORIA Y EVALUACIÓN TÉCNICA ADMINISTRATIVA Y FINANCIERA
O3: ENFOQUE POBLACIONAL | P3: CURSO DE VIDA | S3: I | T3: II | U3: III | V3: IV
A4: 1 | B4: SPC - E2 Pueblos y comunidades - L3 Cuidado de la Salud - Garantía del derecho a la salud de pueblos y comunidades étnicas y campesinas, mujeres, sectores LGBTIQ+ y otras poblaciones por condición y/o situación. | C4: Familiar- Educativo-Comunitario-Laboral | D4: GRUPO VULNERABLE | E4: EDUCACION | F4: Realizar IEC sobre derechos y deberes de la poblacion en situacion de Discapacidad de acuerdo a la normatividad nacional e internacional aplicable | G4: I10607 | H4: Talleres | I4: 8 | J4: =+K4/I4 -> 500000 | K4: 4000000 | L4: EMBALSES 1 EMBALSES 2 | M4: MT01, MT02, MT03,MT04 | N4: HABITANTES DE LAS VEREDAS: San Antonio,El Cerro,la Inmaculada,Cruces,San Jose,Piedras,Tocaima,la Pava,el Carbon,Remolino,el Popo,San Lorenzo,San Miguel,El Respaldo,San Pedro y casco urbano | O4: OTROS | P4: Pueblos y comunidades étnicas y campesinas, mujeres, sectores LGBTIQ+ y otras poblaciones por condición y/o situación. | Q4: Caseta comunal | R4: 120 Habitantes del territorio | S4: 1 | T4: 2 | U4: 3 | V4: 2 | W4: Ejecucion del 100% de los talleres | X4: El taller debe tener una duraciòn 2 horas,debe ser realizado por el profesional , se debe tener la planeacion con sus momentos, contar con los materiales para el trabajo a desarrollar, debe contar con un numero de 15 personas minimo por taller. | Y4: Comunidad educada en derechos y deberes de la poblacion en situacion de Discapacidad | Z4: 2 Horas | AA4: PROFESIONAL DE ENFERMERIA Y/O AUXILIAR DE ENFERMERA | AB4: 1. Consolidado de Actividades Educativas 2. Planeacion de Actividades Educativas. 3. Estrategia de Ejecucion y logros obtenidos. 4. Listados de Asistencia. 5. Caracterizacion Poblacional. 6 . Evaluacion deActividades Educativas. 7. Promedio de encuenta de Opinion. 8. Evidencia fotografica.
A5: 2 | B5: SPC - E2 Pueblos y comunidades - L3 Cuidado de la Salud - Garantía del derecho a la salud de pueblos y comunidades étnicas y campesinas, mujeres, sectores LGBTIQ+ y otras poblaciones por condición y/o situación. | C5: COMUNITARIO | D5: VIOLENCIA | E5: EDUCACION | F5: Fortelecimiento a los Grupos de Mujeres del Municipio de Alejandria ,en el area de salud mental ,con el tema de la Sororidad ,Brindando informacion,Educacion y Comunicación,en este tema | G5: I11101 | H5: TALLER | I5: 8 | J5: =+K5/I5 -> 500000 | K5: 4000000 | L5: EMBALSES 1 EMBALSES 2 | M5: MT01, MT02, MT03,MT04 | N5: Trabajar con 6 Grupos de mujeres del municipio de Alejandria, HABITANTES DE LAS VEREDAS: San Antonio, El Cerro, la Inmaculada, Cruces, San Jose, Piedras, Tocaima, la Pava, Remolino, el Popo, San Lorenzo, San Miguel, El Respaldo, tambien se incluye area urbana | O5: OTROS | P5: Pueblos y comunidades étnicas y campesinas, mujeres, sectores LGBTIQ+ y otras poblaciones por condición y/o situación. | Q5: Caseta comunal | R5: 90 MUJERES | S5: 1 | T5: 2 | U5: 3 | V5: 2 | W5: Grupos de Mujeres sensiblizados | X5: Realizar talleres con grupos de mujeres , como minimo de 15 personas por taller ,duracion del taller 2 HORAS,donde se brindara educacion respecto a temas como: Sororidad Femenina | Y5: Disminucion de violencia de genero intrafamilar | Z5: 2 Horas | AA5: PROFESIONAL EN PSICOLOGIA Y/O TRABAJADOR SOCIAL | AB5: 1. Consolidado de Actividades Educativas 2. Planeacion de Actividades Educativas 3. Estrategia de Ejecucion y logros obtenidos 4. Listados de Asistencia 5. Caracterizacion Poblacional 6 . Evaluacion deActividades Educativas 7. Promedio de encuenta de Opinion. 8. Evidencia fotografica . 9 Entregar rutas de atencion a los participes de los talleres. 10 Terminado los talleres se realizara encuentro
A6: 3 | B6: SPC - E2 Pueblos y comunidades - L3 Cuidado de la Salud - Garantía del derecho a la salud de pueblos y comunidades étnicas y campesinas, mujeres, sectores LGBTIQ+ y otras poblaciones por condición y/o situación. | C6: FAMILIAR-COMUNITARIO-EDUCACION | D6: VIOLENCIA | E6: Educacion para la Salud | F6: Campaña IEC prevención de la violencia de las diferentes clases de violencias | G6: I11103 | H6: Campaña | I6: 8 | J6: =+K6/I6 -> 500329.38 | K6: 4002635 | L6: EMBALSES 1 EMBALSES 2 | M6: MT01, MT02, MT03,MT04 | N6: HABITANTES DE LAS VEREDAS: San Antonio, El Cerro, la Inmaculada, Cruces, San Jose, Piedras, Tocaima, la Pava, el Carbon, Remolino, el Popo, San Lorenzo, San Miguel, El Respaldo, San Pedro, tambien se incluye area urbana | O6: OTROS | P6: Pueblos y comunidades étnicas y campesinas, mujeres, sectores LGBTIQ+ y otras poblaciones por condición y/o situación. | Q6: Institucion Educativa,Caseta Comunal | R6: 200 HABITANTES DEL TERRITORIO | S6: 1 | T6: 2 | U6: 3 | V6: 2 | W6: Poblacion Alejandrina,sensibilizada,frente a la prevencion de las violencias | X6: La campaña debe tener una participación mínima de 200 personas, el profesional encargado debe realizar la planeaciòn y coordinar la campaña con apoyo del equipo, se debe anexar un programa radial . Utilizar las redes sociales para invitar a la campaña. | Y6: Dismunuciòn de las distintas violencias | Z6: 1 DIA | AA6: PROFESIONAL EN PSICOLOGIA Y/O TRABAJADOR SOCIAL | AB6: 1. Consolidado de Actividades Educativas 2. Planeacion de Actividades Educativas 3. Estrategia de Ejecucion y logros obtenidos 4. Listados de Asistencia 5. Caracterizacion Poblacional 6 . Evaluacion deActividades Educativas 7. Promedio de encuenta de Opinion. 8. Evidencia fotografica.
K7: =SUM(K4:K6) -> 12002635

Sheet SPC - E3 Determinantes Inters
E1: LINEAMIENTO OPERATIVO SALUD PUBLICA-MUNICIPIO DE ALEJANDRIA 2026
A2: ITEMS | B2: EJE ESTRATÉGICO | C2: ENTORNOENTORNO EN EL CUAL DESARROLLAN LAS ACTIVIDADES (Familia, escolar, comunitario, laboral, Institucional) De acuerdo a la Resolucion 3280 de 2018 | D2: EVENTO DE INTERES DE SALUD PUBLICA | E2: ESTRATEGIA | F2: ACTIVIDAD | G2: CODIGO CUPS (Resolución 2077 de 2021 anexo 5) | H2: TIPO DE ACTIVIDAD | I2: NUMERO DE ACTIVIDADES | J2: VALOR UNITARIO | K2: VALOR TOTAL | L2: TERRITORIO | M2: MICROTERRITORIO | N2: POBLACIÓN SUJETO | O2: ENFOQUE DIFERENCIAL | Q2: LUGAR DE EJECUCIÓN | R2: CANTIDAD | S2: TRIMESTRE | W2: RESULTADO O PRODUCTO | X2: ORIENTACIONES ESPECIFICAS TÉCNICAS | Y2: INDICADOR DE PRODUCTO O DE RESULTADO | Z2: TIEMPO DE EJECUCION | AA2: PROFESIONAL QUE REALIZA LA ACTIVIDAD | AB2: SOPORTES REQUERIDOS PARA LA AUDITORIA Y EVALUACIÓN TÉCNICA ADMINISTRATIVA Y FINANCIERA
O3: ENFOQUE POBLACIONAL | P3: CURSO DE VIDA | S3: I | T3: II | U3: III | V3: IV
A4: 4 | B4: SPC - E3 Determinantes - L2 Acuerdos Sociales y Comunitarios - Coordinación intersectorial para la afectación positiva de los determinantes sociales de la salud. | C4: FAMILIAR,COMUNITARI, EDUCACION, LABORAL | D4: OBESIDAD, DESNUTRICION | E4: EDUCACIÓN | F4: Realizar campaña de promoción de la alimentación saludable en los servicios de salud, comedores y restaurantes escolares y puntos de venta de alimentos. (azúcares, grasas y sal) | G4: i11403 | H4: Campaña | I4: 4 | J4: 500 | K4: 2000000 | L4: EMBALSES 1 EMBALSES 2 | M4: MT01, MT02, MT03,MT04 | N4: HABITANTES DE LAS VEREDAS: San Antonio, El Cerro, la Inmaculada, Cruces, San Jose, Piedras,Tocaima,la Pava, el Carbon, Remolino, el Popo, San Lorenzo, San Miguel, El Respaldo, San Pedro, tambien se incluye area urbana | O4: OTROS | P4: FAMILIAS, COLECTIVOS Y COMUNIDADES | Q4: RESTAURANTES Y PUNTOS DE VENTA DE ALIMENTOS | R4: 50 PUNTOS DE COMERCIO | S4: 1 | T4: 1 | U4: 1 | V4: 1 | W4: Comunidad sensibilizada frente a la alimentacion saludable | X4: La campaña debe tener una participaciòn minima de 50 personas, el profesional encargado debe realizar la planeaciòn y coordinar la campaña con apoyo del equipo, se debe anexar un programa radial. Utilizar las redes sociales para invitar a la campaña | Y4: Prevalencia de hipertensión y diabetes en adultez (27 - 59 años) y vejez (60 años y más). | Z4: 2 HORAS | AA4: PROFESIONAL DE ENFERMERIA, NUTRICIONISTA Y/O AUXILIAR DE ENFERMERIA | AB4: 1. Consolidado de Actividades Educativas 2. Planeacion de Actividades Educativas 3. Estrategia de Ejecucion y logros obtenidos 4. Listados de Asistencia 5. Caracterizacion Poblacional 6 . Evaluacion deActividades Educativas 7. Promedio de encuenta de Opinion 8. Evidencia fotografica. 9. Certificado de la emisora Comunitaria.
A5: 5 | B5: SPC - E3 Determinantes - L2 Acuerdos Sociales y Comunitarios - Coordinación intersectorial para la afectación positiva de los determinantes sociales de la salud. | C5: Familiar- Educativo-Comunitario-Laboral | D5: ENFERMEDADES INMUNOPREVENIBLES | E5: VIGILANCIA EPIDEMIOLOGICA | F5: Realizar Busqueda Activa comunitaria de casos y contactos de tuberculosis y toma de muestras de BK en poblacion en condicion de calle, en adultos mayores institucionalizados, en centros carcelarios y en las comunidades donde se hayan presentado casos y/o siguiendo la tabla 4. Grupos Priorizados para la Busqueda Activa de Sintomaticos Respiratorios. Resolucion 0227 del 2020. | G5: I2 | H5: Busqueda Activa | I5: 5 | J5: 400000 | K5: 2000000 | L5: EMBALSES 1 EMBALSES 2 | M5: MT01, MT02, MT03,MT04 | N5: HABITANTES DE LAS VEREDAS: San Antonio, El Cerro, la Inmaculada, Cruces, San Jose, Piedras, Tocaima, la Pava, el Carbon, Remolino, el Popo, San Lorenzo, San Miguel, El Respaldo, San Pedro y casco urbano. | O5: OTROS | P5: FAMILIAS, COLECTIVOS Y COMUNIDADES | Q5: CASA A CASA | R5: A DEMANDA | S5: 1 | T5: 1 | U5: 2 | V5: 1 | W5: Comunidad sensibilizada frente a Enfermedades respiratorias | X5: La actividad debe ser realizada de acuerdo a la RESOLUCION 227-2020, la meta de captacion de sintomaticos debe ser el 10% de los poblacion por barrio-vereda, Se debe realizar el 10% de la captacion sintomaticos respiratorios de (hogares de paso, privados de libertad, habitante de calle) ante la identificacion de sintomaticos respiratorios se debe realizar las muestra pertinentes. | Y5: % de Capatacion de Sintomaticos Respiratorios | Z5: A DEMANDA | AA5: PROFESIONAL DE ENFERMERIA Y/O AUXILIAR DE ENFERMERIA | AB5: 1. Consolidado de Actividades Educativas 2. Planeacion de Actividades Educativas 3. Estrategia de Ejecucion y logros obtenidos 4. Listados de Asistencia 5. Caracterizacion Poblacional 6 . Evaluacion deActividades Educativas 7. Promedio de encuenta de Opinion 8. Evidencia fotografica
A6: 6 | B6: SPC - E3 Determinantes - L2 Acuerdos Sociales y Comunitarios - Coordinación intersectorial para la afectación positiva de los determinantes sociales de la salud. | C6: Familiar- Educativo-Comunitario-Laboral | D6: ENFERMEDADES INMUNOPREVENIBLES | E6: VIGILANCIA EPIDEMIOLOGICA | F6: Implementar el libro de sintomaticos respiratorios del ambito extramural, producto de las Busquedas Activas comunitarias, diferente al libro de sintomatios respiratorios intitucional. | G6: I2 | H6: Implementacion de libro | I6: 1 | J6: 100000 | K6: 100000 | L6: EMBALSES 1 EMBALSES 2 | M6: MT01, MT02, MT03,MT04 | N6: HABITANTES DE LAS VEREDAS: San Antonio,El Cerro,la Inmaculada,Cruces,San Jose,Piedras,Tocaima,la Pava,el Carbon,Remolino,el Popo,San Lorenzo,San Miguel,El Respaldo,San Pedro y casco urbano | O6: OTROS | P6: FAMILIAS, COLECTIVOS Y COMUNIDADES | Q6: ESE Hospital | R6: A DEMANDA | S6: 0 | T6: 0 | U6: 0 | V6: 1 | W6: Comunidad sensibilizada frente a Enfermedades respiratorias | X6: La actividad debe ser realizada de acuerdo a la RESOLUCION 227-2020, la meta de captacion de sintomaticos debe ser el 10% de los poblacion por barrio-vereda, Se debe realizar el 10% de la captacion sintomaticos respiratorios de ( hogares de paso, privados de libertad, habitante de calle) ante la identificacion de sintomaticos respiratorios se debe realizar las muestra pertinentes | Y6: % de Capatacion de Sintomaticos Respiratorios | Z6: A DEMANDA | AA6: PROFESIONAL DE ENFERMERIA Y/O AUXILIAR DE ENFERMERIA | AB6: 1. Consolidado de Actividades Educativas 2. libro de sintomaticos respiratorios
