Workbook

Sheet INGENIERIA Y ASESORIAS LyR SAS
A4: OBJETO | B4: CONTRATAR LA CONSTRUCCION DE UN MURO EN CONCRETO CON LONGITUD DE 40 METROS LINEALES PARA PROTECCIÓN DE MARGEN DERECHO DEL CANAL CALICANTO, UBICADO EN LA CARRERA 100 DEL BARRIO SAN JOSE DE LOS CAMPANOS, EN LA CIUDAD DE CARTAGENA DE INDIAS
A5: PROPONENTE | B5: INGENIERIA Y ASESORIASL LYR SAS | C5: NIT | D5: 900.814.742-5
A6: REPRESENTANTE | B6: ANITA LORDUY ESCALANTE | C6: CC | D6: 45476394
A8: TIPO DE PROPONENTE | B8: PERONA JURIDICA | C8: % PARTICIPACION | D8: REPRESENTANTE | E8: IDENTIFICACION
B9: =B5 -> INGENIERIA Y ASESORIASL LYR SAS | C9: 100 | D9: =+B6 -> ANITA LORDUY ESCALANTE | E9: =+D6 -> 45476394
D12: Observaciones
A13: DOCUMENTOS DE VERIFICACIÓN TÉCNICA
A15: EXPERIENCIA ESPECÍFICA DEL PROPONENTE | D15: CUMPLE
A16: El proponente deberá acreditar experiencia en calidad de “Contratista” en mínimo Dos (2) contratos suscritos y ejecutados con entidades públicas y/o privadas, cuyo objeto y/o alcance y/o actividades hayan incluido la “CONSTRUCCIÓN DE MUROS DE CONTENCIÓN” y que sumados superen el 100% del presupuesto oficial.
D18: Observaciones
A19: EXPERIENCIA PROBABLE | D19: CUMPLE
A20: a) CONTRATOS DE CONSTRUCCIÓN DE MUROS DE CONTENCIÓN
A23: EXPERIENCIA ESPECÍFICA DE LAS EMPRESAS
A24: INTEGRANTE QUE APORTA EXPERIENCIA | B24: OBJETO | C24: VALOR | D24: CONTRATANTE | E24: FECHA DE INICIO | F24: FECHA DE TERMINACIÓN | G24: PORCENTAJE DE EPARTICIPACIÓN | H24: OBSERVACIONES
A25: INGENIERÍA Y ASESORÍAS L&R S.A.S | B25: CONTRUCCIÓN DE MURO DE CONTENCIÓN EN LA GRANJA MORALANDIA PARA LOS GALPONE 4 Y 5 | C25: 117871508 | D25: SUPERMETALES SAS | E25: 45580 | F25: 45616 | G25: 1 | H25: La certificación Cumple.
A26: =A25 -> INGENIERÍA Y ASESORÍAS L&R S.A.S | B26: CONSTRUCCION DE UN MURO DE CONTENCION AL INTERIOR DEL EDIFICIO ASTURIAS REAL UBICADO EN EL BARRIO BOSQUE DIAGONAL 21B #53-13 EN LA CIUDAD DE CARTAGENA | C26: 105000000 | D26: TECNICONSTRUMEC S.A.S | E26: 37319 | F26: 45432 | G26: 1 | H26: =H25 -> La certificación Cumple.
A29: EXPERIENCIA ESPECÍFICA DEL EQUIPO DE TRABAJO
A30: CANT. | B30: CARGO A DESEMPEÑAR | C30: FORMACION ACADÉMICA | D30: EXPERIENCIA GENERAL. | E30: Experiencia especifica | F30: Dedicación | G30: Especialización | H30: Observaciones
A32: 1 | B32: Director de Proyecto | C32: Título profesional Ingeniería Civil | D32: Mínimo Diez (10) años de ejercicio profesional, contados a partir de la fecha de expedición de la tarjeta profesional | E32: Minimo dos certificaciones como Director de Obras en Dos Contratos de Obras civiles de construccion de Muros de Contenciond en concreto, cuyo valor ejecutado supere el 100% del presupuesto oficial. | F32: Carta de compromiso que exprese una disponibilidad del tiempo para la permanencia en la obra. | G32: Especialita en Gerencia de Proyectos de Construccion | H32: CUMPLE
B33: JHONATAN ALBERTO SANGUINETTI PEÑA | C33: Ingeniero Civil, Universidad de Cartagena. | D33: Cumple | E33: Cumple | F33: Cumple | G33: Especialita en Gerencia de Proyectos de Construccion. Cumple.
A34: 1 | B34: Ingeniero Residente de Obras. | C34: Título profesional Ingeniería Civil | D34: Mínimo Diez (10) años de ejercicio profesional, contados a partir de la fecha de expedición de la tarjeta profesional | E34: Minimo Dos certificaciones como residente de obras en construccion de muros de concreto, y una expereiencia especifica de minimo un (1) año en construccion de muros de concreto. | F34: Carta de compromiso que exprese una disponibilidad del tiempo para la permanencia en la obra. | G34: N/A | H34: CUMPLE
B35: JEFFRIE JAVIER ANAYA COTTIZ | C35: Ingeniero Civil, Universidad de Cartagena. | D35: Cumple | E35: Cumple | F35: Cumple
A38: RESULTADO | B38: Evaluada la documentación técnica aportada por el proponente, CUMPLE.

Sheet HEOS INGENIERIA Y DISEÑOS
A4: OBJETO | B4: ='INGENIERIA Y ASESORIAS LyR SAS'!B4:E4 -> CONTRATAR LA CONSTRUCCION DE UN MURO EN CONCRETO CON LONGITUD DE 40 METROS LINEALES PARA PROTECCIÓN DE MARGEN DERECHO DEL CANAL CALICANTO, UBICADO EN LA CARRERA 100 DEL BARRIO SAN JOSE DE LOS CAMPANOS, EN LA CIUDAD DE CARTAGENA DE INDIAS
A5: PROPONENTE | B5: HEOS INGENIERIA & DISEÑO S.A.S | C5: NIT | D5: 900.891.523 – 7
A6: REPRESENTANTE | B6: OSCAR ALFONSO VEGA BUSTAMANTE | C6: CC | D6: 1047387504
A8: TIPO DE PROPONENTE | B8: PERONA JURIDICA | C8: % PARTICIPACION | D8: REPRESENTANTE | E8: IDENTIFICACION
B9: =B5 -> HEOS INGENIERIA & DISEÑO S.A.S | C9: 100 | D9: =+B6 -> OSCAR ALFONSO VEGA BUSTAMANTE | E9: =+D6 -> 1047387504
D12: Observaciones
A13: DOCUMENTOS DE VERIFICACIÓN TÉCNICA
A15: EXPERIENCIA ESPECÍFICA DEL PROPONENTE | D15: NO SUBSANÓ
A16: ='INGENIERIA Y ASESORIAS LyR SAS'!A16:B16 -> El proponente deberá acreditar experiencia en calidad de “Contratista” en mínimo Dos (2) contratos suscritos y ejecutados con entidades públicas y/o privadas, cuyo objeto y/o alcance y/o actividades hayan incluido la “CONSTRUCCIÓN DE MUROS DE CONTENCIÓN” y que sumados superen el 100% del presupuesto oficial.
D18: Observaciones
A19: EXPERIENCIA PROBABLE | D19: NO SUBSANÓ
A20: ='INGENIERIA Y ASESORIAS LyR SAS'!A20:B20 -> a) CONTRATOS DE CONSTRUCCIÓN DE MUROS DE CONTENCIÓN
A23: EXPERIENCIA ESPECÍFICA DE LAS EMPRESAS
A24: INTEGRANTE QUE APORTA EXPERIENCIA | B24: OBJETO | C24: VALOR | D24: CONTRATANTE | E24: FECHA DE INICIO | F24: FECHA DE TERMINACIÓN | G24: PORCENTAJE DE EPARTICIPACIÓN | H24: OBSERVACIONES
A25: =B9 -> HEOS INGENIERIA & DISEÑO S.A.S | H25: NO SUBSANÓ
A26: =A25 -> HEOS INGENIERIA & DISEÑO S.A.S | H26: =H25 -> NO SUBSANÓ
A29: EXPERIENCIA ESPECÍFICA DEL EQUIPO DE TRABAJO
A30: CANT. | B30: CARGO A DESEMPEÑAR | C30: FORMACION ACADÉMICA | D30: EXPERIENCIA GENERAL. | E30: Experiencia especifica | F30: Dedicación | G30: Especialización | H30: Observaciones
A32: 1 | B32: Titulo profesional | C32: ='INGENIERIA Y ASESORIAS LyR SAS'!C32 -> Título profesional Ingeniería Civil | D32: ='INGENIERIA Y ASESORIAS LyR SAS'!D32 -> Mínimo Diez (10) años de ejercicio profesional, contados a partir de la fecha de expedición de la tarjeta profesional | E32: ='INGENIERIA Y ASESORIAS LyR SAS'!E32 -> Minimo dos certificaciones como Director de Obras en Dos Contratos de Obras civiles de construccion de Muros de Contenciond en concreto, cuyo valor ejecutado supere el 100% del presupuesto oficial. | F32: ='INGENIERIA Y ASESORIAS LyR SAS'!F32 -> Carta de compromiso que exprese una disponibilidad del tiempo para la permanencia en la obra. | G32: ='INGENIERIA Y ASESORIAS LyR SAS'!F32 -> Carta de compromiso que exprese una disponibilidad del tiempo para la permanencia en la obra. | H32: NO SUBSANÓ
A34: 1 | B34: ='INGENIERIA Y ASESORIAS LyR SAS'!B34 -> Ingeniero Residente de Obras. | C34: ='INGENIERIA Y ASESORIAS LyR SAS'!C34 -> Título profesional Ingeniería Civil | D34: ='INGENIERIA Y ASESORIAS LyR SAS'!D34 -> Mínimo Diez (10) años de ejercicio profesional, contados a partir de la fecha de expedición de la tarjeta profesional | E34: ='INGENIERIA Y ASESORIAS LyR SAS'!E34 -> Minimo Dos certificaciones como residente de obras en construccion de muros de concreto, y una expereiencia especifica de minimo un (1) año en construccion de muros de concreto. | F34: ='INGENIERIA Y ASESORIAS LyR SAS'!F34 -> Carta de compromiso que exprese una disponibilidad del tiempo para la permanencia en la obra. | G34: ='INGENIERIA Y ASESORIAS LyR SAS'!G34 -> N/A | H34: NO SUBSANÓ
A38: RESULTADO | B38: Evaluada la documentación técnica aportada por el proponente, NO CUMPLE (No Subsanó las observaciones)

Sheet HC CONSTRUCCIONES LTDA
A4: OBJETO | B4: CONTRATAR LA CONSTRUCCION DE UN MURO EN CONCRETO CON LONGITUD DE 40 METROS LINEALES PARA PROTECCIÓN DE MARGEN DERECHO DEL CANAL CALICANTO, UBICADO EN LA CARRERA 100 DEL BARRIO SAN JOSE DE LOS CAMPANOS, EN LA CIUDAD DE CARTAGENA DE INDIAS
A5: PROPONENTE | B5: H. C. CONSTRUCCIONES LTDA | C5: NIT | D5: 8 0 6 0 1 1 5 8 4-0
A6: REPRESENTANTE | B6: YOVANIS HERRERA CACERES | C6: CC | D6: 9093496
A8: TIPO DE PROPONENTE | B8: PERONA JURIDICA | C8: % PARTICIPACION | D8: REPRESENTANTE | E8: IDENTIFICACION
B9: =B5 -> H. C. CONSTRUCCIONES LTDA | C9: 100 | D9: =+B6 -> YOVANIS HERRERA CACERES | E9: =+D6 -> 9093496
D12: Observaciones
A13: DOCUMENTOS DE VERIFICACIÓN TÉCNICA
A15: EXPERIENCIA ESPECÍFICA DEL PROPONENTE | D15: CUMPLE
A16: ='INGENIERIA Y ASESORIAS LyR SAS'!A16:B16 -> El proponente deberá acreditar experiencia en calidad de “Contratista” en mínimo Dos (2) contratos suscritos y ejecutados con entidades públicas y/o privadas, cuyo objeto y/o alcance y/o actividades hayan incluido la “CONSTRUCCIÓN DE MUROS DE CONTENCIÓN” y que sumados superen el 100% del presupuesto oficial.
D18: Observaciones
A19: EXPERIENCIA PROBABLE | D19: CUMPLE.
A20: ='INGENIERIA Y ASESORIAS LyR SAS'!A20:B20 -> a) CONTRATOS DE CONSTRUCCIÓN DE MUROS DE CONTENCIÓN
A23: EXPERIENCIA ESPECÍFICA DE LAS EMPRESAS
A24: INTEGRANTE QUE APORTA EXPERIENCIA | B24: OBJETO | C24: VALOR | D24: CONTRATANTE | E24: FECHA DE INICIO | F24: FECHA DE TERMINACIÓN | G24: PORCENTAJE DE PARTICIPACIÓN | H24: OBSERVACIONES
A25: =B9 -> H. C. CONSTRUCCIONES LTDA | B25: CONSTRUCCIÓN MURO D ECONTENCIÓN EN EL BARRIO EL CONQUISTADOR | C25: 22024899 | D25: ALCALDIA MAYOR DE CARTAGENA DE INDIAS | E25: 38637 | F25: 38650 | G25: 1 | H25: CUMPLE
A26: =A25 -> H. C. CONSTRUCCIONES LTDA | B26: CONSTRUCCIÓN MURO D ECONTENCIÓN EN EL BARRIO PETARE MZ 777 CALLE DE LA BARRERA | C26: 599891800 | D26: =D25 -> ALCALDIA MAYOR DE CARTAGENA DE INDIAS | E26: 40381 | F26: 40480 | G26: 1 | H26: =H25 -> CUMPLE
A29: EXPERIENCIA ESPECÍFICA DEL EQUIPO DE TRABAJO
A30: CANT. | B30: CARGO A DESEMPEÑAR | C30: FORMACION ACADÉMICA | D30: EXPERIENCIA GENERAL. | E30: Experiencia especifica | F30: Dedicación | G30: Especialización | H30: Observaciones
A32: 1 | B32: ='INGENIERIA Y ASESORIAS LyR SAS'!B32 -> Director de Proyecto | C32: ='INGENIERIA Y ASESORIAS LyR SAS'!C32 -> Título profesional Ingeniería Civil | D32: ='INGENIERIA Y ASESORIAS LyR SAS'!D32 -> Mínimo Diez (10) años de ejercicio profesional, contados a partir de la fecha de expedición de la tarjeta profesional | E32: ='INGENIERIA Y ASESORIAS LyR SAS'!E32 -> Minimo dos certificaciones como Director de Obras en Dos Contratos de Obras civiles de construccion de Muros de Contenciond en concreto, cuyo valor ejecutado supere el 100% del presupuesto oficial. | F32: ='INGENIERIA Y ASESORIAS LyR SAS'!F32 -> Carta de compromiso que exprese una disponibilidad del tiempo para la permanencia en la obra. | G32: ='INGENIERIA Y ASESORIAS LyR SAS'!G32 -> Especialita en Gerencia de Proyectos de Construccion | H32: CUMPLE
B33: FEDERICO RAMOS NUÑEZ | C33: Ingeniero Cvil - Universisas de Cartagena | D33: Cumple | E33: Cumple | F33: Cumple | G33: Especialita en Gerencia de Proyectos de Construccion. Cumple.
A34: 1 | B34: ='INGENIERIA Y ASESORIAS LyR SAS'!B34 -> Ingeniero Residente de Obras. | C34: ='INGENIERIA Y ASESORIAS LyR SAS'!C34 -> Título profesional Ingeniería Civil | D34: ='INGENIERIA Y ASESORIAS LyR SAS'!D34 -> Mínimo Diez (10) años de ejercicio profesional, contados a partir de la fecha de expedición de la tarjeta profesional | E34: ='INGENIERIA Y ASESORIAS LyR SAS'!E34 -> Minimo Dos certificaciones como residente de obras en construccion de muros de concreto, y una expereiencia especifica de minimo un (1) año en construccion de muros de concreto. | F34: ='INGENIERIA Y ASESORIAS LyR SAS'!F34 -> Carta de compromiso que exprese una disponibilidad del tiempo para la permanencia en la obra. | G34: ='INGENIERIA Y ASESORIAS LyR SAS'!G34 -> N/A | H34: CUMPLE
B35: RAFAEL NUÑEZ EMILIANI | C35: Ingeniero Cvil - Universisas de Cartagena | D35: Cumple | E35: Cumple | F35: Cumple
A38: RESULTADO | B38: Evaluada la documentación técnica aportada por el proponente, CUMPLE.

Sheet Hoja1
