Workbook
Name _AFC1: #REF!
Name _AFC3: #REF!
Name _AFC5: #REF!
Name _BGC1: #REF!
Name _BGC3: #REF!
Name _BGC5: #REF!
Name _CAC1: #REF!
Name _CAC3: #REF!
Name _CAC5: #REF!
Name _Cod1: #REF!
Name _Cod1: #REF!
Name _Cod1: #REF!
Name _Cod1: #REF!
Name _Cod1: #REF!
Name _Cod1: #REF!
Name _Cod1: #REF!
Name _Cod1: #REF!
Name _Cod1: #REF!
Name _Cod1: #REF!
Name _Cod1: #REF!
Name _Cod1: #REF!
Name _Cod1: #REF!
Name _Cod1: #REF!
Name _Cod1: #REF!
Name _Cod1: #REF!
Name _Cod1: #REF!
Name _Cod1: #REF!
Name _Cod1: #REF!
Name _Cod1: #REF!
Name _MA2: #REF!
Name _MA2: #REF!
Name _MA2: #REF!
Name _MA2: #REF!
Name _MA2: #REF!
Name _MA2: #REF!
Name _MA2: #REF!
Name _MA2: #REF!
Name _MA2: #REF!
Name _MA2: #REF!
Name _MA2: #REF!
Name _MA2: #REF!
Name _MA2: #REF!
Name _MA2: #REF!
Name _MA2: #REF!
Name _MA2: #REF!
Name _MA2: #REF!
Name _MA2: #REF!
Name _MA2: #REF!
Name _MA2: #REF!
Name _Pa1: #REF!
Name _Pa2: #REF!
Name _Pa3: #REF!
Name _Pa4: #REF!
Name _SBC1: #REF!
Name _SBC3: #REF!
Name _SBC5: #REF!
Name a: #REF!
Name a: #REF!
Name a: #REF!
Name a: #REF!

Sheet Instructivo
C1: SISTEMA DE GESTIÓN INTEGRAL - SGI
C2: INSTRUCTIVO - COMPONENTE FINANCIERO EP
C3: CÓDIGO: F-PGC-21 | G3: VERSIÓN: 04
A5: Color | B5: Hoja | D5: Color | E5: Celda
A6: Gris | B6: Informativa | D6: Azul | E6: Protegida
A7: Vinotinto | B7: Formatos
A8: Morado | B8: Variables
A10: Para un mejor diligenciamiento de los formatos y uso de las variables y hojas informativas que se encuentran en este libro, se recomienda, antes de empezar a diligenciar, leer el instructivo, que se encuentra consignado en la presente hoja, igualmente, cada hoja contiene un número significativo de comentarios, los cuales, pretenden ayudar al diligenciamiento, se recomienda leerlos y aplicarlos de manera atenta. En caso de requerir apoyo, favor comunicarse con el asesor(a) financiero(a) asignado para el proceso.
A12: HOJAS INFORMATIVAS
A13: Nombre | D13: Descripción
A14: Cuantías de contratación (por pluralidad de oferentes) | D14: En la hoja se encuentran los valores establecidos anualmente, para identificar dentro de la contratación por pluralidad de oferentes, de acuerdo al valor del presupuesto, si se clasifica dentro de una mínima cuantía, menor cuantía o licitación pública, en los casos que aplique.
A15: Documentos de apoyo | D15: En la hoja se encuentran listas enunciativas de documentos de apoyo, que pueden presentar interés, al igual, que guíar el accionar en el ámbito general de la contratación pública y específico de la asesoría financiera a la misma. Se deberá considerar que las listas no son exhaustivas, es decir, no contemplan todos los documentos de cada categoría, al igual, que depende de la actualización constante de la Subdirección Administrativa y Financiera.
A16: Impuestos y garantías | D16: En la hoja se encuentra una lista enunciativa de los impuestos y las garantías en los que puede incurrir el ejecutor, las cuales dependen de la especificidad del proceso. La lista es de carácter informativa en caso que se emitan consultas al respecto.
A17: Información anticipos y pagos anticipados | D17: En la hoja se encuentra una corta explicación sobre la consideración normativa de los anticipos y pagos anticipados, que tiene como objeto orientar respecto a este tema de frecuente consulta e inquietud; tema sobre el cual, se requiere tener claridad para la estipulación de la ejecución física y financiera de los procesos.
A18: Información procesos de obra pública y capacidad residual (K) | D18: En la hoja se encuentra una corta explicación sobre los procesos de obra, y el cálculo de la capacidad residual (K) en los casos que se requiera, que tiene como objeto suministrar información de interés general respecto a este tema de frecuente consulta e inquietud; tener en cuenta que este tema es de competencia tanto jurídica como técnica y financiera.
A19: Información IVA | D19: En la hoja se encuentra una corta explicación sobre las consideraciones respecto al IVA, que tiene como objeto orientar respecto a este tema de frecuente consulta e inquietud.
A20: Notas propuesta económica | D20: En la hoja se encuentra una lista enunciativa de notas, las cuales deberán ser elegidas de acuerdo a la especificidad del proceso contractual, con el fin de incluirlas en el formato de propuesta económica. Las notas tienen como objeto orientar a los oferentes en el diligenciamiento de dicho formato.
A21: Requisitos habilitantes capacidad financiera y organizacional | D21: En la hoja se encuentran los requisitos de capacidad financiera y organizacional vigentes
A23: FORMATOS (PARA DILIGENCIAR) | I23: DILIGENCIAR EN CASO DE:
A24: Nombre | D24: Descripción | I24: Contratos por contratación directa | J24: Contratos por pluralidad de oferentes | K24: Convenios
A25: DILIGENCIAR PARA EVALUACIÓN POR PARTE DEL COMITÉ DE CONTRATACIÓN (Asesor técnico)
A26: Se recomienda que el asesor técnico para la planeación financiera del proceso contractual, empiece con el diligenciamiento paralelo de la memoria de cálculo con su debido estudio de mercado, para seguir con la estipulación de los gastos de administración, si aplican. En un segundo momento, se recomienda diligenciar, el presupuesto de acuerdo a la modalidad del proceso, y el plan de ejecución física y de inversiones. El técnico podrá anexar al presente libro las hojas que considere necesarias con el fin de suportar la estimación de los valores. NOTA: Se recomienda iniciar escribiendo en el formato del Plan de ejecución los datos básicos de modalidad de contratación y objeto a contratar, ya que está información alimenta a las demás hojas.
A27: Plan de ejecución física y de inversiones | D27: Diligenciar la programación física y financiera del proceso, tanto en la étapa inicial, como en el caso de solicitud de Otrosí de adición de recursos o prórroga, o cuando el Otrosí de modificación implique cambios en el presupuesto. | I27: X | J27: X | K27: X
A28: Plan de ejecución física y de inversiones - Prestación de Servicios Personales | D28: Diligenciar exclusivamente para los contratos de Prestación de Servicios Personales que suscribe la Corporación con una persona natural. Este formato simplificado permite la programación física y financiera del proceso, tanto en la étapa inicial, como en el caso de solicitud de Otrosí de adición de recursos o prórroga, o cuando el Otrosí de modificación implique cambios en el presupuesto. | I28: X
A29: Presupuesto - Modalidad contrato | D29: Diligenciar en caso que el proceso se tipifique dentro de las modalidades de contratos. El presupuesto es un documento donde se plasman los recursos económicos requeridos para llevar a cabo de manera exitosa el proceso contractual. | I29: X | J29: X
A30: Presupuesto - Modalidad contrato - Prestación de Servicios Personales | D30: Diligenciar exclusivamente para los contratos de Prestación de Servicios Personales que suscribe la Corporación con una persona natural. En este formato simplificado se plasma el presupuesto, donde se relacionan los recursos económicos requeridos para llevar a cabo de manera exitosa el proceso contractual. | I30: X
A31: Presupuesto - Modalidad convenio | D31: Diligenciar en caso que el proceso se tipifique dentro de las modalidades de convenios. El presupuesto es un documento donde se plasman los recursos económicos requeridos para llevar a cabo de manera exitosa el proceso contractual. | K31: X
A32: Memoria de cálculo - Opción 1 | D32: Diligenciar de acuerdo a las características del proceso, alcance y/o actividad. La memoria de cálculo es un documento descriptivo donde se refleja de manera exhaustiva y detallada, todos y cada uno de los elementos que intervienen en el proceso, alcance y/o actividad que se está valorando. Esta memoria de cálculo es útil para la compra de productos terminados, bienes con características homogéneas, o bienes y servicios que se valoren a todo costo, entre otras opciones, por ejemplo: compra de equipos o insumos. Nota: Tener en cuenta que para valorar una variable o ítem se utiliza una sola memoria de cálculo y no las tres opciones, por ejemplo, si se quiere valorar la adquisición de 1 equipo de cómputo, dicha adquisición se deja consignada en solo una de las memorias de cálculo, no se tiene que utilizar las tres opciones para este mismo ítem. | I32: Se seleccionará el formato de memoria de cálculo que mejor se adapte a las características del proceso, alcance y/o actividad a valorar.
A33: Memoria de cálculo - Opción 2 | D33: Diligenciar de acuerdo a las características del proceso, alcance y/o actividad. La memoria de cálculo es un documento descriptivo donde se refleja de manera exhaustiva y detallada, todos y cada uno de los elementos que intervienen en el proceso, alcance y/o actividad que se está valorando. Esta memoria de cálculo es útil para los procesos de obra. Nota: Tener en cuenta que para valorar una variable o ítem se utiliza una sola memoria de cálculo y no las tres opciones, por ejemplo, si se quiere valorar la adquisición de 1 equipo de cómputo, dicha adquisición se deja consignada en solo una de las memorias de cálculo, no se tiene que utilizar las tres opciones para este mismo ítem.
A34: Memoria de cálculo - Opción 3 | D34: Diligenciar de acuerdo a las características del proceso, alcance y/o actividad. La memoria de cálculo es un documento descriptivo donde se refleja de manera exhaustiva y detallada, todos y cada uno de los elementos que intervienen en el proceso, alcance y/o actividad que se está valorando. Esta memoria de cálculo es útil para procesos que requieran detallar todos los elementos del costo, por ejemplo, realización de talleres, donde se debe considerar los materiales, los refrigerios, alquiler de equipos, entre otros. Nota: Tener en cuenta que para valorar una variable o ítem se utiliza una sola memoria de cálculo y no las tres opciones, por ejemplo, si se quiere valorar la adquisición de 1 equipo de cómputo, dicha adquisición se deja consignada en solo una de las memorias de cálculo, no se tiene que utilizar las tres opciones para este mismo ítem.
A35: Estudio de mercado | D35: Un estudio de mercado es el proceso mediante el cual, se recoge y análiza información que sirve para identificar las características, valores y condiciones del bien o servicio a adquirir, con el fin de obtenerlos acuerdo a las estipulaciones del mercado, bajo el principio de plena competencia. En la corporación el estudio de mercado se realiza mediante la identificación de valores por medio de cotizaciones debidamente radicadas, valores históricos de los bienes y servicios de interés, recolección de información de sitios de internet soportados con los debidos pantallazos, y demás información de diferentes fuentes con sus correspondientes medios de verificación. El estudio de mercado no se puede confundir con el estudio de sector, este último, requerido solo para algunos procesos contractuales. En el estudio de mercado, pueden hacer parte, debidamente soportados o en todo caso que permita realizar la trazabilidad, los valores establecidos en otros procesos contractuales para los mismos bienes y servicios, de la misma vigencia o de anteriores vigencias, en caso de utilizar valores de vigencias anteriores se deberá realizar la respectiva actualización con la inflación anual de la o las vigencias pasadas. | I35: X | J35: X | K35: X
A36: Determinación de gastos de administración | D36: Diligenciar para determinar el porcentaje de los gastos de administración o administración del proceso, de acuerdo a las características del mismo, considerando no tener duplicidad en ítems ya contemplados en el presupuesto general del proceso. | I36: X | J36: X | K36: X
A37: Identificación de bienes nacionales relevantes | D37: Diligenciar para identificar los bienes nacionales relevantes en los procesos que apliquen. | J37: X
A38: DILIGENCIAR COMO PARTE DE LOS DOCUMENTOS A SUBIR A LA PLATAFORMA SECOP (Asesor financiero)
A39: Propuesta económica - Opción 1 | D39: Diligenciar con el objeto de suministrarle a los oferentes la estructura y condiciones de la presentación de las respectivas propuestas económicas, se recomienda su uso para procesos que se hayan planeado en el formato memoria de cálculo - opción 1. | J39: X
A40: Propuesta económica - Opción 2 | D40: Diligenciar con el objeto de suministrarle a los oferentes la estructura y condiciones de la presentación de las respectivas propuestas económicas, se recomienda su uso para procesos que se hayan planeado en el formato memoria de cálculo - opción 2. | J40: X
A41: Propuesta económica - Opción 3 | D41: Diligenciar con el objeto de suministrarle a los oferentes la estructura y condiciones de la presentación de las respectivas propuestas económicas, se recomienda su uso para procesos que se hayan planeado en el formato memoria de cálculo - opción 3. | J41: X
A42: Estimación PAB comparación absoluta | D42: Diligenciar con el objeto realizar el acta del Precio Artificialmente Bajo (PAB). La cual, se elabora paralelamente con el formato de propuesta económica para el proceso. | J42: X
A43: DILIGENCIAR PARA EVALUACIÓN FINANCIERA DE OFERENTES (Asesor financiero)
A44: Verificación de requisitos habilitantes de los proponentes sobre capacidad financiera y organizacional | D44: Diligenciar con el fin de consignar la verificación de los requisitos habilitantes de los proponentes, sobre capacidad financiera y organizacional, en los casos que apliquen. | J44: X
...

Sheet Plan Ejecución
C1: SISTEMA DE GESTIÓN INTEGRAL - SGI | AE1: Instructivo
C2: COMPONENTE FINANCIERO EP - PLAN DE EJECUCIÓN FÍSICA Y DE INVERSIONES
C3: CÓDIGO: F-PGC-21 | H3: =+Instructivo!G3 -> VERSIÓN: 04
A5: MODALIDAD DE CONTRATACIÓN: | C5: Contrato Interadministrativo | AE5: =C5 -> Contrato Interadministrativo
A6: OBJETO A CONTRATAR: | C6: Implementación de estrategias enfocadas en la gestión integral de los residuos sólidos en la jurisdicción de Corantioquia | AE6: =C6 -> Implementación de estrategias enfocadas en la gestión integral de los residuos sólidos en la jurisdicción de Corantioquia
A8: CONTRATISTA/CONVENIANTE: | C8: CIS
A9: NOMBRE DEL TÉCNICO (A): | C9: Jairo Arango
A10: DURACIÓN Y/O PLAZO DEL CONTRATO (MESES): | C10: 6 meses
A11: PERIODO DE PROGRAMACIÓN Y SEGUIMIENTO: | C11: Mensual
A13: PROGRAMACIÓN FÍSICA
B14: Descripción | C14: % de importancia | D14: % de importancia subactividades | E14: Unidad de medida | F14: Cantidad Programada | G14: Distribución física
G15: Período 1 | H15: Período 2 | I15: Período 3 | J15: Período 4 | K15: Período 5 | L15: Período 6 | M15: Período 7 | N15: Período 8 | O15: Período 9 | P15: Período 10 | Q15: Período 11 | R15: Período 12 | S15: Período 13 | T15: Período 14 | U15: Período 15 | V15: Período 16 | W15: Período 17 | X15: Período 18 | Y15: Período 19 | Z15: Período 20 | AA15: Período 21 | AB15: Período 22 | AC15: Período 23 | AD15: Período 24
A16: META/ PRODUCTO A OBTENER: | D16: =+D19+D27+D34+D40+D59+D65+D75 -> 1 | AE16: =F16-SUM(G16:AD16) -> 0
A17: Alcance 1 | B17: ACOMPAÑAMIENTO A PGIRS MUNICIPALES, PROGRAMAS DE APROVECHAMIENTO DE RESIDUOS Y OTRAS ACCIONES DE GESTIÓN INTEGRAL DE RESIDUOS. | C17: =+'Presupuesto Contrato'!I110 -> 0.16289029 | F17: =+F18+F26+F33+F39 -> 11 | G17: =+G18+G26+G33+G39 -> 1 | H17: =+H18+H26+H33+H39 -> 1 | I17: =+I18+I26+I33+I39 -> 4 | J17: =+J18+J26+J33+J39 -> 2 | K17: =+K18+K26+K33+K39 -> 2 | L17: =+L18+L26+L33+L39 -> 1 | S17: =S18+S26+S33+S39+S45 -> 0 | T17: =T18+T26+T33+T39+T45 -> 0 | U17: =U18+U26+U33+U39+U45 -> 0 | V17: =V18+V26+V33+V39+V45 -> 0 | W17: =W18+W26+W33+W39+W45 -> 0 | X17: =X18+X26+X33+X39+X45 -> 0 | Y17: =Y18+Y26+Y33+Y39+Y45 -> 0 | Z17: =Z18+Z26+Z33+Z39+Z45 -> 0 | ... AD17: =AD18+AD26+AD33+AD39+AD45 -> 0 | AE17: =F17-SUM(G17:AD17) -> 0
A18: Actividad 1.1 | B18: Diagnóstico de los PGIRS municipales | C18: 0.25 | E18: Paquete documenta | F18: 5 | G18: =+G19 -> 1 | H18: =+H19 -> 1 | I18: =+I19 -> 3 | J18: =+J19 -> 0 | K18: =+K19 -> 0 | L18: =+L19 -> 0 | S18: =SUM(S19:S25) -> 0 | T18: =SUM(T19:T25) -> 0 | U18: =SUM(U19:U25) -> 0 | V18: =SUM(V19:V25) -> 0 | W18: =SUM(W19:W25) -> 0 | X18: =SUM(X19:X25) -> 0 | Y18: =SUM(Y19:Y25) -> 0 | Z18: =SUM(Z19:Z25) -> 0 | ... AD18: =SUM(AD19:AD25) -> 0 | AE18: =F18-SUM(G18:AD18) -> 0
A19: Subactividad 1.1.1 | B19: Diagnóstico de los PGIRS municipales | C19: 1 | D19: 0.2 | E19: Paquete documental | F19: 5 | G19: 1 | H19: 1 | I19: 3 | J19: 0 | K19: 0 | L19: 0 | AE19: =F19-SUM(G19:AD19) -> 0
A20: Subactividad 1.1.2 | D20: =C20*$C$18*$C$17 -> 0 | AE20: =F20-SUM(G20:AD20) -> 0
A21: Subactividad 1.1.3 | D21: =C21*$C$18*$C$17 -> 0 | AE21: =F21-SUM(G21:AD21) -> 0
A22: Subactividad 1.1.4 | D22: =C22*$C$18*$C$17 -> 0 | AE22: =F22-SUM(G22:AD22) -> 0
A23: Subactividad 1.1.5 | D23: =C23*$C$18*$C$17 -> 0 | AE23: =F23-SUM(G23:AD23) -> 0
A24: Subactividad 1.1.6 | D24: =C24*$C$18*$C$17 -> 0
A25: Subactividad 1.1.7 | D25: =C25*$C$18*$C$17 -> 0
A26: Actividad 1.2 | B26: Propuestas técnicas y socialización preliminar para cada municipio | C26: 0.25 | E26: Paquete documental | F26: =SUM(F27:F32) -> 2 | G26: =SUM(G27:G32) -> 0 | H26: =SUM(H27:H32) -> 0 | I26: =SUM(I27:I32) -> 1 | J26: =SUM(J27:J32) -> 1 | K26: =SUM(K27:K32) -> 0 | L26: =SUM(L27:L32) -> 0 | S26: =SUM(S27:S32) -> 0 | T26: =SUM(T27:T32) -> 0 | U26: =SUM(U27:U32) -> 0 | V26: =SUM(V27:V32) -> 0 | W26: =SUM(W27:W32) -> 0 | X26: =SUM(X27:X32) -> 0 | Y26: =SUM(Y27:Y32) -> 0 | Z26: =SUM(Z27:Z32) -> 0 | ... AD26: =SUM(AD27:AD32) -> 0 | AE26: =F26-SUM(G26:AD26) -> 0
A27: Subactividad 1.2.1 | B27: Propuestas técnicas y socialización preliminar para cada municipio | C27: 1 | D27: 0.2 | E27: Paquete documental | F27: 2 | I27: 1 | J27: 1 | AE27: =F27-SUM(G27:AD27) -> 0
A28: Subactividad 1.2.2 | D28: =C28*$C$26*$C$17 -> 0 | AE28: =F28-SUM(G28:AD28) -> 0
A29: Subactividad 1.2.3 | D29: =C29*$C$26*$C$17 -> 0 | AE29: =F29-SUM(G29:AD29) -> 0
A30: Subactividad 1.2.4 | D30: =C30*$C$26*$C$17 -> 0 | AE30: =F30-SUM(G30:AD30) -> 0
A31: Subactividad 1.2.5 | D31: =C31*$C$26*$C$17 -> 0 | AE31: =F31-SUM(G31:AD31) -> 0
A32: Subactividad 1.2.6 | D32: =C32*$C$26*$C$17 -> 0
A33: Actividad 1.3 | B33: Socialización de recomendaciones al PGIRS, retroalimentación y ajuste | C33: 0.25 | E33: Paquete documental | F33: =SUM(F34:F38) -> 3 | G33: =SUM(G34:G38) -> 0 | H33: =SUM(H34:H38) -> 0 | I33: =SUM(I34:I38) -> 0 | J33: =SUM(J34:J38) -> 1 | K33: =SUM(K34:K38) -> 1 | L33: =SUM(L34:L38) -> 1 | S33: =SUM(S34:S38) -> 0 | T33: =SUM(T34:T38) -> 0 | U33: =SUM(U34:U38) -> 0 | V33: =SUM(V34:V38) -> 0 | W33: =SUM(W34:W38) -> 0 | X33: =SUM(X34:X38) -> 0 | Y33: =SUM(Y34:Y38) -> 0 | Z33: =SUM(Z34:Z38) -> 0 | ... AD33: =SUM(AD34:AD38) -> 0 | AE33: =F33-SUM(G33:AD33) -> 0
A34: Subactividad 1.3.1 | B34: Socialización de recomendaciones al PGIRS | C34: 1 | D34: 0.1 | E34: Paquete documental | F34: 3 | H34: 0 | J34: 1 | K34: 1 | L34: 1 | AE34: =F34-SUM(G34:AD34) -> 0
A35: Subactividad 1.3.2 | D35: =C35*$C$33*$C$17 -> 0 | AE35: =F35-SUM(G35:AD35) -> 0
A36: Subactividad 1.3.3 | D36: =C36*$C$33*$C$17 -> 0 | AE36: =F36-SUM(G36:AD36) -> 0
A37: Subactividad 1.3.4 | D37: =C37*$C$33*$C$17 -> 0 | AE37: =F37-SUM(G37:AD37) -> 0
A38: Subactividad 1.3.5 | D38: =C38*$C$33*$C$17 -> 0 | AE38: =F38-SUM(G38:AD38) -> 0
A39: Actividad 1.4 | B39: Aplicativo para cifras de aprovechamiento | C39: 0.25 | E39: Aplicativo/Documentos | F39: =SUM(F40:F44) -> 1 | G39: =SUM(G40:G44) -> 0 | H39: =SUM(H40:H44) -> 0 | I39: =SUM(I40:I44) -> 0 | J39: 0 | K39: 1 | L39: =SUM(L40:L44) -> 0 | S39: =SUM(S40:S44) -> 0 | T39: =SUM(T40:T44) -> 0 | U39: =SUM(U40:U44) -> 0 | V39: =SUM(V40:V44) -> 0 | W39: =SUM(W40:W44) -> 0 | X39: =SUM(X40:X44) -> 0 | Y39: =SUM(Y40:Y44) -> 0 | Z39: =SUM(Z40:Z44) -> 0 | ... AD39: =SUM(AD40:AD44) -> 0 | AE39: =F39-SUM(G39:AD39) -> 0
A40: Subactividad 1.4.1 | B40: Aplicativo para cifras de aprovechamiento | C40: 1 | D40: 0.1 | E40: Aplicativo/Documentos | F40: 1 | J40: 0 | K40: 1 | AE40: =F40-SUM(G40:AD40) -> 0
A41: Subactividad 1.4.2 | D41: =C41*$C$39*$C$17 -> 0 | AE41: =F41-SUM(G41:AD41) -> 0
A42: Subactividad 1.4.3 | D42: =C42*$C$39*$C$17 -> 0 | AE42: =F42-SUM(G42:AD42) -> 0
A43: Subactividad 1.4.4 | D43: =C43*$C$39*$C$17 -> 0 | AE43: =F43-SUM(G43:AD43) -> 0
...

Sheet PE PSP
C1: SISTEMA DE GESTIÓN INTEGRAL - SGI | R1: Instructivo
C2: COMPONENTE FINANCIERO EP - PRESTACIÓN DE SERVICIOS PERSONALES | R2: Presupuesto - modalidad contrato - prestación de servicios personales
C3: CÓDIGO: F-PGC-21 | J3: =Instructivo!G3 -> VERSIÓN: 04
A5: MODALIDAD DE CONTRATACIÓN: | R5: =C5 -> 0
A6: OBJETO A CONTRATAR: | R6: =C6 -> 0
A8: CONTRATISTA:
A9: NOMBRE SUPERVISOR O INTERVENTOR:
A10: DURACIÓN Y/O PLAZO DEL CONTRATO (MESES):
A11: PERIODO DE PROGRAMACIÓN Y SEGUIMIENTO:
A13: PROGRAMACIÓN FÍSICA
B14: Descripción | C14: % de importancia | D14: Unidad de medida | E14: Cantidad Programada | F14: Distribución física
F15: Período 1 | G15: Período 2 | H15: Período 3 | I15: Período 4 | J15: Período 5 | K15: Período 6 | L15: Período 7 | M15: Período 8 | N15: Período 9 | O15: Período 10 | P15: Período 11 | Q15: Período 12
A16: META/ PRODUCTO A OBTENER: | C16: 1 | D16: Meses | E16: =E17 -> 0 | R16: =E16-SUM(F16:Q16) -> 0
A17: Alcance 1 | C17: 1 | D17: Meses | R17: =E17-SUM(F17:Q17) -> 0
A18: TOTAL | F18: =IFERROR(F17/$E$17,0) -> 0 | G18: =IFERROR(G17/$E$17,0) -> 0 | H18: =IFERROR(H17/$E$17,0) -> 0 | I18: =IFERROR(I17/$E$17,0) -> 0 | J18: =IFERROR(J17/$E$17,0) -> 0 | K18: =IFERROR(K17/$E$17,0) -> 0 | L18: =IFERROR(L17/$E$17,0) -> 0 | M18: =IFERROR(M17/$E$17,0) -> 0 | ... Q18: =IFERROR(Q17/$E$17,0) -> 0
A19: ACUMULADO | F19: =F18 -> 0 | G19: =G18+F19 -> 0 | H19: =H18+G19 -> 0 | I19: =I18+H19 -> 0 | J19: =J18+I19 -> 0 | K19: =K18+J19 -> 0 | L19: =L18+K19 -> 0 | M19: =M18+L19 -> 0 | N19: =N18+M19 -> 0 | ... Q19: =Q18+P19 -> 0
E21: La programación financiera debe ser coherente con la programación física, todo pago que no sea soportado en la ejecución física efectiva y certificada es un anticipo o pago anticipado, de acuerdo al caso; para tener más información sobre anticipos y pagos anticipados remitirse a la hoja | Q21: Información anticipos
E22: PROGRAMACIÓN FINANCIERA INICIAL
F23: Distribución de recursos del valor aportado por Corantioquia
E24: Valor del contrato | F24: Período 1 | G24: Período 2 | H24: Período 3 | I24: Período 4 | J24: Período 5 | K24: Período 6 | L24: Período 7 | M24: Período 8 | N24: Período 9 | O24: Período 10 | P24: Período 11 | Q24: Período 12
F25: =$E$25*F26 -> 0 | G25: =$E$25*G26 -> 0 | H25: =$E$25*H26 -> 0 | I25: =$E$25*I26 -> 0 | J25: =$E$25*J26 -> 0 | K25: =$E$25*K26 -> 0 | L25: =$E$25*L26 -> 0 | M25: =$E$25*M26 -> 0 | ... Q25: =$E$25*Q26 -> 0
E26: Porcentaje (%) | F26: =F18 -> 0 | G26: =G18 -> 0 | H26: =H18 -> 0 | I26: =I18 -> 0 | J26: =J18 -> 0 | K26: =K18 -> 0 | L26: =L18 -> 0 | M26: =M18 -> 0 | ... Q26: =Q18 -> 0
E27: Porcentaje Acumulado (%) | F27: =+F26 -> 0 | G27: =+F27+G26 -> 0 | H27: =+G27+H26 -> 0 | I27: =+H27+I26 -> 0 | J27: =+I27+J26 -> 0 | K27: =+J27+K26 -> 0 | L27: =+K27+L26 -> 0 | M27: =+L27+M26 -> 0 | N27: =+M27+N26 -> 0 | ... Q27: =+P27+Q26 -> 0
C28: Diligenciar esta información solo en caso de solicitud de Otrosí de adición de recursos o prórroga, o cuando el Otrosí de modificación implique cambios en el presupuesto. | E28: Valores ya ejecutados | F28: 0 | G28: 0 | H28: 0 | I28: 0 | J28: 0 | K28: 0 | L28: 0 | M28: 0 | N28: 0 | O28: 0 | P28: 0 | Q28: 0
E29: Porcentaje (%) PGAR | F29: =IFERROR(F28/$E$25,0) -> 0 | G29: =IFERROR(G28/$E$25,0) -> 0 | H29: =IFERROR(H28/$E$25,0) -> 0 | I29: =IFERROR(I28/$E$25,0) -> 0 | J29: =IFERROR(J28/$E$25,0) -> 0 | K29: =IFERROR(K28/$E$25,0) -> 0 | L29: =IFERROR(L28/$E$25,0) -> 0 | M29: =IFERROR(M28/$E$25,0) -> 0 | ... Q29: =IFERROR(Q28/$E$25,0) -> 0
E30: Porcentaje Acumulado (%) PGAR | F30: =F29 -> 0 | G30: =F30+G29 -> 0 | H30: =G30+H29 -> 0 | I30: =H30+I29 -> 0 | J30: =I30+J29 -> 0 | K30: =J30+K29 -> 0 | L30: =K30+L29 -> 0 | M30: =L30+M29 -> 0 | N30: =M30+N29 -> 0 | ... Q30: =P30+Q29 -> 0
C32: PROGRAMACIÓN FINANCIERA EN CASO DE ADICIÓN DE RECURSOS O PRÓRROGA
C33: Valor de la adición | D33: Valor total del contrato (incluida la adición) | E33: Distribución de recursos del valor aportado por Corantioquia
F34: Período 1 | G34: Período 2 | H34: Período 3 | I34: Período 4 | J34: Período 5 | K34: Período 6 | L34: Período 7 | M34: Período 8 | N34: Período 9 | O34: Período 10 | P34: Período 11 | Q34: Período 12 | R34: Total Valores
C35: 0 | D35: =E25+C35 -> 0 | E35: Valores ya ejecutados | F35: =F28 -> 0 | G35: =G28 -> 0 | H35: =H28 -> 0 | I35: =I28 -> 0 | J35: =J28 -> 0 | K35: =K28 -> 0 | L35: =L28 -> 0 | M35: =M28 -> 0 | ... Q35: =Q28 -> 0 | R35: =SUM(F35:Q35) -> 0
E36: Porcentaje (%) | F36: =IFERROR(F35/$D$35,0) -> 0 | G36: =IFERROR(G35/$D$35,0) -> 0 | H36: =IFERROR(H35/$D$35,0) -> 0 | I36: =IFERROR(I35/$D$35,0) -> 0 | J36: =IFERROR(J35/$D$35,0) -> 0 | K36: =IFERROR(K35/$D$35,0) -> 0 | L36: =IFERROR(L35/$D$35,0) -> 0 | M36: =IFERROR(M35/$D$35,0) -> 0 | ... Q36: =IFERROR(Q35/$D$35,0) -> 0
E37: Porcentaje Acumulado (%) | F37: =+F36 -> 0 | G37: =+F37+G36 -> 0 | H37: =+G37+H36 -> 0 | I37: =+H37+I36 -> 0 | J37: =+I37+J36 -> 0 | K37: =+J37+K36 -> 0 | L37: =+K37+L36 -> 0 | M37: =+L37+M36 -> 0 | N37: =+M37+N36 -> 0 | ... Q37: =+P37+Q36 -> 0
E38: Valores por ejecutar | F38: 0 | G38: 0 | H38: 0 | I38: 0 | J38: 0 | K38: 0 | L38: 0 | M38: 0 | N38: 0 | O38: 0 | P38: 0 | Q38: 0 | R38: =SUM(F38:Q38) -> 0
E39: Porcentaje (%) | F39: =IFERROR(F38/$D$35,0) -> 0 | G39: =IFERROR(G38/$D$35,0) -> 0 | H39: =IFERROR(H38/$D$35,0) -> 0 | I39: =IFERROR(I38/$D$35,0) -> 0 | J39: =IFERROR(J38/$D$35,0) -> 0 | K39: =IFERROR(K38/$D$35,0) -> 0 | L39: =IFERROR(L38/$D$35,0) -> 0 | M39: =IFERROR(M38/$D$35,0) -> 0 | ... Q39: =IFERROR(Q38/$D$35,0) -> 0
E40: Porcentaje Acumulado (%) | F40: =+F39 -> 0 | G40: =+F40+G39 -> 0 | H40: =+G40+H39 -> 0 | I40: =+H40+I39 -> 0 | J40: =+I40+J39 -> 0 | K40: =+J40+K39 -> 0 | L40: =+K40+L39 -> 0 | M40: =+L40+M39 -> 0 | N40: =+M40+N39 -> 0 | ... Q40: =+P40+Q39 -> 0
C41: PORCENTAJE ACUMULADO (%) TOTAL | F41: =F37+F40 -> 0 | G41: =G37+G40 -> 0 | H41: =H37+H40 -> 0 | I41: =I37+I40 -> 0 | J41: =J37+J40 -> 0 | K41: =K37+K40 -> 0 | L41: =L37+L40 -> 0 | M41: =M37+M40 -> 0 | ... Q41: =Q37+Q40 -> 0 | R41: =IFERROR((R35+R38)/D35,0) -> 0
B49: GERENTE PROGRAMA | G49: COORDINADOR GIT

Sheet Presupuesto Contrato
C1: SISTEMA DE GESTIÓN INTEGRAL - SGI | P1: Instructivo
C2: PRESUPUESTO - MODALIDAD CONTRATO
C3: CÓDIGO: F-PGC-21 | I3: =Instructivo!G3 -> VERSIÓN: 04
A5: MODALIDAD DE CONTRATACIÓN: | C5: ='Plan Ejecución'!C5 -> Contrato Interadministrativo
A6: OBJETO A CONTRATAR: | C6: ='Plan Ejecución'!C6 -> Implementación de estrategias enfocadas en la gestión integral de los residuos sólidos en la jurisdicción de Corantioquia
M7: 0.5 | N7: 0.5
A8: COSTOS DE PERSONAL | M8: Recursos por alcance, actividad o subactividad
A9: Ítem | B9: Cantidad personal | C9: (%) Dedicación | D9: Unidad de medida | E9: Cantidad 2025 | F9: Cantidad 2026 | G9: Valor unitario base 2025 | H9: Valor unitario base 2026 | I9: Valor Total 2025 | J9: Valor Total 2026 | K9: Dinero | L9: (%) PP | M9: Alcance 1 | N9: Alcance 2 | O9: Alcance 6
A10: Mano de Obra Calificada
A11: Asesor o coordinador | B11: 1 | C11: 1 | D11: Mes | E11: ='ALCANCE 1'!E17 -> 1 | F11: ='ALCANCE 1'!F17 -> 5 | G11: ='ALCANCE 1'!G17 -> 8990280 | H11: ='ALCANCE 1'!H17 -> 9439794 | I11: =IFERROR(B11*C11*E11*G11,0) -> 8990280 | J11: =IFERROR(B11*C11*F11*H11,0) -> 47198970 | K11: =J11+I11 -> 56189250 | L11: =IFERROR(K11/$K$17,0) -> 0.25375496 | M11: =$K$11*M7 -> 28094625 | N11: =$K$11*N7 -> 28094625
A12: Profesional especializado con experiencia | B12: 2 | C12: 1 | D12: Mes | E12: ='ALCANCE 1'!E18 -> 1 | F12: ='ALCANCE 1'!F18 -> 5 | G12: ='ALCANCE 1'!G18 -> 7493940 | H12: ='ALCANCE 1'!H18 -> 7868637 | I12: =IFERROR(B12*C12*E12*G12,0) -> 14987880 | J12: =IFERROR(B12*C12*F12*H12,0) -> 78686370 | K12: =J12+I12 -> 93674250 | L12: =IFERROR(K12/$K$17,0) -> 0.4230401 | M12: =$K$12*M7 -> 46837125 | N12: =$K$12*N7 -> 46837125
A13: Profesional especializado con experiencia | B13: 1 | C13: 1 | D13: Mes | F13: 1 | G13: 0 | H13: ='ALCANCE 2'!H19 -> 7868637 | I13: =IFERROR(B13*C13*E13*G13,0) -> 0 | J13: =IFERROR(B13*C13*F13*H13,0) -> 7868637 | K13: =J13+I13 -> 7868637 | L13: =IFERROR(K13/$K$17,0) -> 0.035535368 | N13: =K13 -> 7868637
A14: Profesional | B14: 2 | C14: 1 | D14: Mes | E14: ='ALCANCE 2'!E20 -> 1 | F14: ='ALCANCE 2'!F20 -> 5 | G14: =IFERROR(VLOOKUP(A14,Honorarios!$A$9:$C$15,2,FALSE),"") -> 5095920 | H14: =G14*1.05 -> 5350716 | I14: =IFERROR(B14*C14*E14*G14,0) -> 10191840 | J14: =IFERROR(B14*C14*F14*H14,0) -> 53507160 | K14: =J14+I14 -> 63699000 | L14: =IFERROR(K14/$K$17,0) -> 0.28766957 | N14: =K14 -> 63699000
J15: =IFERROR(B15*C15*F15*H15,0) -> 0 | K15: =J15+I15 -> 0 | L15: =IFERROR(K15/$K$84,0) -> 0
A17: Subtotal Mano de Obra calificada | I17: =+SUM(I11:I15) -> 34170000 | J17: =+SUM(J11:J15) -> 187261137 | K17: =+SUM(K11:K15) -> 221431137 | L17: =IFERROR(I17/$I$84,0) -> 1 | M17: =SUM(M11:M15) -> 74931750 | N17: =SUM(N11:N15) -> 146499387
A18: PROYECCIÓN COSTOS DE PERSONAL - VIGENCIAS FUTURAS | Q18: PROYECCION DEL IPC 2026-BANCO DE LA REPUBLICA 14-08-2025, EQUIVALENTE AL 3%
M19: ='ALCANCE 1'!M25 -> 0 | N19: ='ALCANCE 2 Anterior'!H26 -> 0 | P19: =I19-SUM(M19:O19) -> 0 | Q19: COORDINADOR DEL PROYECTO (A)
N20: ='ALCANCE 2 Anterior'!H27 -> 0 | P20: =I20-SUM(M20:O20) -> 0 | Q20: PROFESIONAL CON EXPERIENCIA (B) EN RESPEL, POSCONSUMO, ESPECIALES, (SE ENCARGARA TAMBIEN DE OTROS TEMAS)
M21: ='ALCANCE 1'!M26 -> 0 | N21: ='ALCANCE 2 Anterior'!H28 -> 0 | P21: =I21-SUM(M21:O21) -> 0 | Q21: PROFESIONAL CON EXPERIENCIA (C) APOYO AL SEGUIMIENTO DE LA SUPERVISION
M22: ='ALCANCE 1'!M27 -> 0 | P22: =I22-SUM(M22:O22) -> 0 | Q22: PROFESIONALES CON EXPERIENCIA (D) (AMBIENTALES, SANITARIO) PARA REVISION A PGIRS
M23: ='ALCANCE 1'!M28 -> 0 | P23: =I23-SUM(M23:O23) -> 0 | Q23: PROFESIONAL CON EXPERIENCIA (E) (DESARROLLADOR DEL APLICATIVO)
N24: ='ALCANCE 2 Anterior'!H31 -> 0 | P24: =I24-SUM(M24:O24) -> 0 | Q24: PROFESIONAL CON EXPERIENCIA (F) (SOCIAL)
N25: ='ALCANCE 2 Anterior'!H32 -> 0 | P25: =I25-SUM(M25:O25) -> 0 | Q25: PROFESIONAL COMUNICADOR (G)
N26: ='ALCANCE 2 Anterior'!H33 -> 0 | P26: =I26-SUM(M26:O26) -> 0 | Q26: PROFESIONALES AMBIENTALES (H)
G27: =IFERROR(VLOOKUP(A27,Honorarios!$A$9:$C$15,2,FALSE),"")*1.03 -> #VALUE! | H27: =G27*1.05 -> #VALUE! | I27: =IFERROR(B27*C27*E27*G27,0) -> 0 | L27: =IFERROR(I27/$I$84,0) -> 0 | P27: =I27-SUM(M27:O27) -> 0
G28: =IFERROR(VLOOKUP(A28,Honorarios!$A$9:$C$15,2,FALSE),"") | H28: =G28*1.05 -> #VALUE! | I28: =IFERROR(B28*C28*E28*G28*#REF!,0) -> 0 | L28: =IFERROR(I28/$I$84,0) -> 0 | P28: =I28-SUM(M28:O28) -> 0
G29: =IFERROR(VLOOKUP(A29,Honorarios!$A$9:$C$15,2,FALSE),"") | H29: =G29*1.05 -> #VALUE! | I29: =IFERROR(B29*C29*E29*G29*#REF!,0) -> 0 | L29: =IFERROR(I29/$I$84,0) -> 0 | P29: =I29-SUM(M29:O29) -> 0
G30: =IFERROR(VLOOKUP(A30,Honorarios!$A$9:$C$15,2,FALSE),"") | H30: =G30*1.05 -> #VALUE! | I30: =IFERROR(B30*C30*E30*G30*#REF!,0) -> 0 | L30: =IFERROR(I30/$I$84,0) -> 0 | P30: =I30-SUM(M30:O30) -> 0
G31: =IFERROR(VLOOKUP(A31,Honorarios!$A$9:$C$15,2,FALSE),"") | H31: =G31*1.05 -> #VALUE! | I31: =IFERROR(B31*C31*E31*G31*#REF!,0) -> 0 | L31: =IFERROR(I31/$I$84,0) -> 0 | P31: =I31-SUM(M31:O31) -> 0
G32: =IFERROR(VLOOKUP(A32,Honorarios!$A$9:$C$15,2,FALSE),"") | H32: =G32*1.05 -> #VALUE! | I32: =IFERROR(B32*C32*E32*G32*#REF!,0) -> 0 | L32: =IFERROR(I32/$I$84,0) -> 0 | P32: =I32-SUM(M32:O32) -> 0
G33: =IFERROR(VLOOKUP(A33,Honorarios!$A$9:$C$15,2,FALSE),"") | H33: =G33*1.05 -> #VALUE! | I33: =IFERROR(B33*C33*E33*G33*#REF!,0) -> 0 | L33: =IFERROR(I33/$I$84,0) -> 0 | P33: =I33-SUM(M33:O33) -> 0
G34: =IFERROR(VLOOKUP(A34,Honorarios!$A$9:$C$15,2,FALSE),"") | H34: =G34*1.05 -> #VALUE! | I34: =IFERROR(B34*C34*E34*G34*#REF!,0) -> 0 | L34: =IFERROR(I34/$I$84,0) -> 0 | P34: =I34-SUM(M34:O34) -> 0
G35: =IFERROR(VLOOKUP(A35,Honorarios!$A$9:$C$15,2,FALSE),"") | H35: =G35*1.05 -> #VALUE! | I35: =IFERROR(B35*C35*E35*G35*#REF!,0) -> 0 | L35: =IFERROR(I35/$I$84,0) -> 0 | P35: =I35-SUM(M35:O35) -> 0
G36: =IFERROR(VLOOKUP(A36,Honorarios!$A$9:$C$15,2,FALSE),"") | H36: =G36*1.05 -> #VALUE! | I36: =IFERROR(B36*C36*E36*G36*#REF!,0) -> 0 | L36: =IFERROR(I36/$I$84,0) -> 0 | P36: =I36-SUM(M36:O36) -> 0
G37: =IFERROR(VLOOKUP(A37,Honorarios!$A$9:$C$15,2,FALSE),"") | H37: =G37*1.05 -> #VALUE! | I37: =IFERROR(B37*C37*E37*G37*#REF!,0) -> 0 | L37: =IFERROR(I37/$I$84,0) -> 0 | P37: =I37-SUM(M37:O37) -> 0
G38: =IFERROR(VLOOKUP(A38,Honorarios!$A$9:$C$15,2,FALSE),"") | H38: =G38*1.05 -> #VALUE! | I38: =IFERROR(B38*C38*E38*G38*#REF!,0) -> 0 | L38: =IFERROR(I38/$I$84,0) -> 0 | P38: =I38-SUM(M38:O38) -> 0
G39: =IFERROR(VLOOKUP(A39,Honorarios!$A$9:$C$15,2,FALSE),"") | H39: =G39*1.05 -> #VALUE! | I39: =IFERROR(B39*C39*E39*G39*#REF!,0) -> 0 | L39: =IFERROR(I39/$I$84,0) -> 0 | P39: =I39-SUM(M39:O39) -> 0
... G55: =IFERROR(VLOOKUP(A55,Honorarios!$A$9:$C$15,2,FALSE),"") | H55: =G55*1.05 -> #VALUE! | I55: =IFERROR(B55*C55*E55*G55*#REF!,0) -> 0 | L55: =IFERROR(I55/$I$84,0) -> 0 | P55: =I55-SUM(M55:O55) -> 0
A56: Subtotal Mano de Obra calificada | I56: =SUM(I19:I55) -> 0 | J56: =SUM(J19:J55) -> 0 | K56: =SUM(K19:K55) -> 0 | L56: =IFERROR(I56/$I$84,0) -> 0
A57: Mano de Obra No Calificada
...

Sheet Ppto PSP
B1: SISTEMA DE GESTIÓN INTEGRAL - SGI | G1: Instructivo
B2: PRESUPUESTO - MODALIDAD CONTRATO - PRESTACIÓN DE SERVICIOS PERSONALES | G2: Plan de ejecución física y de inversiones - prestación de servicios personales
B3: CÓDIGO: F-PGC-21 | E3: =Instructivo!G3 -> VERSIÓN: 04
A5: MODALIDAD DE CONTRATACIÓN: | B5: ='PE PSP'!R5 -> 0
A6: OBJETO A CONTRATAR: | B6: ='PE PSP'!R6 -> 0
A8: Ítem | B8: Unidad de medida | C8: Cantidad | D8: Valor unitario base | E8: Factor prestacional | F8: Valor total
B9: Mes | D9: =IFERROR(VLOOKUP(A9,Honorarios!$A$9:$C$15,2,FALSE),"") | E9: =IFERROR(VLOOKUP(A9,Honorarios!$A$9:$C$15,3,FALSE),"") | F9: =IFERROR(C9*D9*E9,0) -> 0 | G9: Tabla de honorarios
A11: SUBTOTAL | F11: =F9+F10 -> 0
A12: IVA | F12: 0 | G12: Solo aplica en caso que la persona natural sea responsable de IVA
A13: TOTAL | F13: =F11+F12 -> 0

Sheet Presupuesto Convenio
E1: SISTEMA DE GESTIÓN INTEGRAL - SGI | T1: Instructivo
E2: PRESUPUESTO - MODALIDAD CONVENIO
E3: CÓDIGO: F-PGC-21 | L3: =Instructivo!G3 -> VERSIÓN: 04
A5: MODALIDAD DE CONTRATACIÓN: | C5: =#REF! -> #REF!
A6: OBJETO A CONTRATAR: | C6: =#REF! -> #REF!
A8: COSTOS DE PERSONAL | I8: FUENTES DE COFINANCIACIÓN | N8: Recursos en dinero de CORANTIOQUIA por alcance, actividad o subactividad
A9: Ítem | B9: Cantidad personal | C9: (%) Dedicación | D9: Unidad de medida | E9: Cantidad | F9: Valor unitario base | G9: Valor total | H9: (%) PP | I9: CORANTIOQUIA | K9: Entidad 1:
I10: DINERO | J10: ESPECIE | K10: DINERO | L10: ESPECIE | N10: Alcance 1 | O10: Alcance 2 | P10: Alcance 3 | Q10: Alcance 4 | R10: Alcance 5 | S10: Alcance 6
A11: Mano de Obra Calificada
F12: =IFERROR(VLOOKUP(A12,Honorarios!$A$9:$C$15,2,FALSE),"") | G12: =IFERROR(B12*C12*E12*F12*#REF!,0) -> 0 | H12: =IFERROR(G12/$G$100,0) -> 0 | M12: =IFERROR(G12-SUM(I12:L12),"") -> 0 | T12: =I12-SUM(N12:S12) -> 0
F13: =IFERROR(VLOOKUP(A13,Honorarios!$A$9:$C$15,2,FALSE),"") | G13: =IFERROR(B13*C13*E13*F13*#REF!,0) -> 0 | H13: =IFERROR(G13/$G$100,0) -> 0 | M13: =IFERROR(G13-SUM(I13:L13),"") -> 0 | T13: =I13-SUM(N13:S13) -> 0
F14: =IFERROR(VLOOKUP(A14,Honorarios!$A$9:$C$15,2,FALSE),"") | G14: =IFERROR(B14*C14*E14*F14*#REF!,0) -> 0 | H14: =IFERROR(G14/$G$100,0) -> 0 | M14: =IFERROR(G14-SUM(I14:L14),"") -> 0 | T14: =I14-SUM(N14:S14) -> 0
F15: =IFERROR(VLOOKUP(A15,Honorarios!$A$9:$C$15,2,FALSE),"") | G15: =IFERROR(B15*C15*E15*F15*#REF!,0) -> 0 | H15: =IFERROR(G15/$G$100,0) -> 0 | M15: =IFERROR(G15-SUM(I15:L15),"") -> 0 | T15: =I15-SUM(N15:S15) -> 0
F16: =IFERROR(VLOOKUP(A16,Honorarios!$A$9:$C$15,2,FALSE),"") | G16: =IFERROR(B16*C16*E16*F16*#REF!,0) -> 0 | H16: =IFERROR(G16/$G$100,0) -> 0 | M16: =IFERROR(G16-SUM(I16:L16),"") -> 0 | T16: =I16-SUM(N16:S16) -> 0
F17: =IFERROR(VLOOKUP(A17,Honorarios!$A$9:$C$15,2,FALSE),"") | G17: =IFERROR(B17*C17*E17*F17*#REF!,0) -> 0 | H17: =IFERROR(G17/$G$100,0) -> 0 | M17: =IFERROR(G17-SUM(I17:L17),"") -> 0 | T17: =I17-SUM(N17:S17) -> 0
F18: =IFERROR(VLOOKUP(A18,Honorarios!$A$9:$C$15,2,FALSE),"") | G18: =IFERROR(B18*C18*E18*F18*#REF!,0) -> 0 | H18: =IFERROR(G18/$G$100,0) -> 0 | M18: =IFERROR(G18-SUM(I18:L18),"") -> 0 | T18: =I18-SUM(N18:S18) -> 0
F19: =IFERROR(VLOOKUP(A19,Honorarios!$A$9:$C$15,2,FALSE),"") | G19: =IFERROR(B19*C19*E19*F19*#REF!,0) -> 0 | H19: =IFERROR(G19/$G$100,0) -> 0 | M19: =IFERROR(G19-SUM(I19:L19),"") -> 0 | T19: =I19-SUM(N19:S19) -> 0
F20: =IFERROR(VLOOKUP(A20,Honorarios!$A$9:$C$15,2,FALSE),"") | G20: =IFERROR(B20*C20*E20*F20*#REF!,0) -> 0 | H20: =IFERROR(G20/$G$100,0) -> 0 | M20: =IFERROR(G20-SUM(I20:L20),"") -> 0 | T20: =I20-SUM(N20:S20) -> 0
F21: =IFERROR(VLOOKUP(A21,Honorarios!$A$9:$C$15,2,FALSE),"") | G21: =IFERROR(B21*C21*E21*F21*#REF!,0) -> 0 | H21: =IFERROR(G21/$G$100,0) -> 0 | M21: =IFERROR(G21-SUM(I21:L21),"") -> 0 | T21: =I21-SUM(N21:S21) -> 0
F22: =IFERROR(VLOOKUP(A22,Honorarios!$A$9:$C$15,2,FALSE),"") | G22: =IFERROR(B22*C22*E22*F22*#REF!,0) -> 0 | H22: =IFERROR(G22/$G$100,0) -> 0 | M22: =IFERROR(G22-SUM(I22:L22),"") -> 0 | T22: =I22-SUM(N22:S22) -> 0
F23: =IFERROR(VLOOKUP(A23,Honorarios!$A$9:$C$15,2,FALSE),"") | G23: =IFERROR(B23*C23*E23*F23*#REF!,0) -> 0 | H23: =IFERROR(G23/$G$100,0) -> 0 | M23: =IFERROR(G23-SUM(I23:L23),"") -> 0 | T23: =I23-SUM(N23:S23) -> 0
... F60: =IFERROR(VLOOKUP(A60,Honorarios!$A$9:$C$15,2,FALSE),"") | G60: =IFERROR(B60*C60*E60*F60*#REF!,0) -> 0 | H60: =IFERROR(G60/$G$100,0) -> 0 | M60: =IFERROR(G60-SUM(I60:L60),"") -> 0 | T60: =I60-SUM(N60:S60) -> 0
A61: Subtotal Mano de Obra calificada | G61: =SUM(G12:G60) -> 0 | H61: =SUM(H12:H60) -> 0 | I61: =SUM(I12:I60) -> 0 | J61: =SUM(J12:J60) -> 0 | K61: =SUM(K12:K60) -> 0 | L61: =SUM(L12:L60) -> 0 | M61: =G61-SUM(I61:L61) -> 0
A62: Mano de Obra No Calificada
G63: =IFERROR(B63*C63*E63*F63*#REF!,0) -> 0 | H63: =IFERROR(G63/$G$100,0) -> 0 | M63: =G63-SUM(I63:L63) -> 0 | T63: =I63-SUM(N63:S63) -> 0
G64: =IFERROR(B64*C64*E64*F64*#REF!,0) -> 0 | H64: =IFERROR(G64/$G$100,0) -> 0 | M64: =G64-SUM(I64:L64) -> 0 | T64: =I64-SUM(N64:S64) -> 0
G65: =IFERROR(B65*C65*E65*F65*#REF!,0) -> 0 | H65: =IFERROR(G65/$G$100,0) -> 0 | M65: =G65-SUM(I65:L65) -> 0 | T65: =I65-SUM(N65:S65) -> 0
G66: =IFERROR(B66*C66*E66*F66*#REF!,0) -> 0 | H66: =IFERROR(G66/$G$100,0) -> 0 | M66: =G66-SUM(I66:L66) -> 0 | T66: =I66-SUM(N66:S66) -> 0
G67: =IFERROR(B67*C67*E67*F67*#REF!,0) -> 0 | H67: =IFERROR(G67/$G$100,0) -> 0 | M67: =G67-SUM(I67:L67) -> 0 | T67: =I67-SUM(N67:S67) -> 0
G68: =IFERROR(B68*C68*E68*F68*#REF!,0) -> 0 | H68: =IFERROR(G68/$G$100,0) -> 0 | M68: =G68-SUM(I68:L68) -> 0 | T68: =I68-SUM(N68:S68) -> 0
G69: =IFERROR(B69*C69*E69*F69*#REF!,0) -> 0 | H69: =IFERROR(G69/$G$100,0) -> 0 | M69: =G69-SUM(I69:L69) -> 0 | T69: =I69-SUM(N69:S69) -> 0
G70: =IFERROR(B70*C70*E70*F70*#REF!,0) -> 0 | H70: =IFERROR(G70/$G$100,0) -> 0 | M70: =G70-SUM(I70:L70) -> 0 | T70: =I70-SUM(N70:S70) -> 0
G71: =IFERROR(B71*C71*E71*F71*#REF!,0) -> 0 | H71: =IFERROR(G71/$G$100,0) -> 0 | M71: =G71-SUM(I71:L71) -> 0 | T71: =I71-SUM(N71:S71) -> 0
G72: =IFERROR(B72*C72*E72*F72*#REF!,0) -> 0 | H72: =IFERROR(G72/$G$100,0) -> 0 | M72: =G72-SUM(I72:L72) -> 0 | T72: =I72-SUM(N72:S72) -> 0
G73: =IFERROR(B73*C73*E73*F73*#REF!,0) -> 0 | H73: =IFERROR(G73/$G$100,0) -> 0 | M73: =G73-SUM(I73:L73) -> 0 | T73: =I73-SUM(N73:S73) -> 0
G74: =IFERROR(B74*C74*E74*F74*#REF!,0) -> 0 | H74: =IFERROR(G74/$G$100,0) -> 0 | M74: =G74-SUM(I74:L74) -> 0 | T74: =I74-SUM(N74:S74) -> 0
... G98: =IFERROR(B98*C98*E98*F98*#REF!,0) -> 0 | H98: =IFERROR(G98/$G$100,0) -> 0 | M98: =G98-SUM(I98:L98) -> 0 | T98: =I98-SUM(N98:S98) -> 0
A99: Subtotal Mano de Obra no Calificada | G99: =SUM(G63:G98) -> 0 | H99: =SUM(H63:H98) -> 0 | I99: =SUM(I63:I98) -> 0 | J99: =SUM(J63:J98) -> 0 | K99: =SUM(K63:K98) -> 0 | L99: =SUM(L63:L98) -> 0 | M99: =G99-SUM(I99:L99) -> 0
A100: SUBTOTAL PERSONAL (Mano de Obra Calificada + Mano de Obra no Calificada) | G100: =G61+G99 -> 0 | H100: =H61+H99 -> 0 | I100: =I61+I99 -> 0 | J100: =J61+J99 -> 0 | K100: =K61+K99 -> 0 | L100: =L61+L99 -> 0 | M100: =G100-SUM(I100:L100) -> 0
A102: COSTOS (Diferentes a los costos del personal) | I102: FUENTES DE COFINANCIACIÓN
...

Sheet Memoria de cálculo O1
B1: SISTEMA DE GESTIÓN INTEGRAL - SGI | F1: Instructivo
B2: MEMORIA DE CÁLCULO - OPCIÓN 1
B3: CÓDIGO: F-PGC-21 | D3: =Instructivo!G3 -> VERSIÓN: 04
A5: MODALIDAD DE CONTRATACIÓN: | B5: =#REF! -> #REF!
A6: OBJETO A CONTRATAR: | B6: =#REF! -> #REF!
A8: PROCESO/ ALCANCE / ACTIVIDAD:
A9: UNIDAD DE MEDIDA PARA EL PRECIO UNITARIO:
A10: ESPECIFICACIÓN TÉCNICA PARA EL PRECIO UNITARIO:
A12: Ítem | B12: Unidad de medida | C12: Cantidad | D12: Valor unitario | E12: Valor total
E13: =C13*D13 -> 0
E14: =C14*D14 -> 0
E15: =C15*D15 -> 0
E16: =C16*D16 -> 0
E17: =C17*D17 -> 0
E18: =C18*D18 -> 0
E19: =C19*D19 -> 0
E20: =C20*D20 -> 0
E21: =C21*D21 -> 0
E22: =C22*D22 -> 0
E23: =C23*D23 -> 0
E24: =C24*D24 -> 0
... E185: =C185*D185 -> 0
A186: SUBTOTAL (antes de IVA) | E186: =SUM(E13:E185) -> 0
A187: IVA | D187: 0.19 | E187: =E186*19% -> 0 | F187: Info IVA
A188: TOTAL (incluido IVA) | E188: =E186+E187 -> 0

Sheet Memoria de cálculo O2
D1: SISTEMA DE GESTIÓN INTEGRAL - SGI | L1: Instructivo
D2: MEMORIA DE CÁLCULO - OPCIÓN 2
D3: CÓDIGO: F-PGC-21 | G3: =Instructivo!G3 -> VERSIÓN: 04
A5: MODALIDAD DE CONTRATACIÓN: | F5: =#REF! -> #REF!
A6: OBJETO A CONTRATAR: | F6: =#REF! -> #REF!
A8: PROCESO/ ALCANCE / ACTIVIDAD:
A9: UNIDAD DE MEDIDA PARA EL PRECIO UNITARIO:
A10: ESPECIFICACIÓN TÉCNICA PARA EL PRECIO UNITARIO:
A12: DISCRIMINACIÓN DE COSTOS | H12: FUENTES DE COFINANCIACIÓN
H13: CORANTIOQUIA | J13: Entidad 1:
A14: Ítem | B14: Cantidad personal | C14: (%) Dedicación | D14: Unidad de medida | E14: Cantidad | F14: Valor unitario base | G14: Valor total | H14: DINERO | I14: ESPECIE | J14: DINERO | K14: ESPECIE
A15: COSTOS DE PERSONAL
G16: =B16*C16*E16*F16 -> 0
G17: =B17*C17*E17*F17 -> 0
G18: =B18*C18*E18*F18 -> 0
G19: =B19*C19*E19*F19 -> 0
G20: =B20*C20*E20*F20 -> 0
G21: =B21*C21*E21*F21 -> 0
G22: =B22*C22*E22*F22 -> 0
G23: =B23*C23*E23*F23 -> 0
G24: =B24*C24*E24*F24 -> 0
G25: =B25*C25*E25*F25 -> 0
G26: =B26*C26*E26*F26 -> 0
G27: =B27*C27*E27*F27 -> 0
... G40: =B40*C40*E40*F40 -> 0
A41: SUBTOTAL COSTOS DE PERSONAL | G41: =SUM(G16:G40) -> 0 | H41: =SUM(H16:H40) -> 0 | I41: =SUM(I16:I40) -> 0 | J41: =SUM(J16:J40) -> 0 | K41: =SUM(K16:K40) -> 0
A42: Ítem | D42: Unidad de medida | E42: Cantidad | F42: Valor unitario | G42: Valor total oferente | H42: DINERO | I42: ESPECIE | J42: DINERO | K42: ESPECIE
A43: COSTOS DE MATERIALES Y SUMINISTROS
G44: =E44*F44 -> 0
G45: =E45*F45 -> 0
G46: =E46*F46 -> 0
G47: =E47*F47 -> 0
G48: =E48*F48 -> 0
G49: =E49*F49 -> 0
G50: =E50*F50 -> 0
G51: =E51*F51 -> 0
G52: =E52*F52 -> 0
G53: =E53*F53 -> 0
G54: =E54*F54 -> 0
G55: =E55*F55 -> 0
...

Sheet ALCANCE 1
D1: SISTEMA DE GESTIÓN INTEGRAL - SGI | Q1: Instructivo
D2: MEMORIA DE CÁLCULO - OPCIÓN 3
D3: CÓDIGO: F-PGC-21 | J3: =Instructivo!G3 -> VERSIÓN: 04
A5: MODALIDAD DE CONTRATACIÓN: | G5: ='Plan Ejecución'!C5 -> Contrato Interadministrativo
A6: OBJETO A CONTRATAR: | G6: ='Plan Ejecución'!C6 -> Implementación de estrategias enfocadas en la gestión integral de los residuos sólidos en la jurisdicción de Corantioquia
A8: PROCESO/ ALCANCE / ACTIVIDAD:
A9: UNIDAD DE MEDIDA PARA EL PRECIO UNITARIO:
A10: ESPECIFICACIÓN TÉCNICA PARA EL PRECIO UNITARIO:
A12: DISCRIMINACIÓN DE COSTOS | M12: FUENTES DE COFINANCIACIÓN
M13: CORANTIOQUIA | O13: Entidad 1:
A14: =+CONCATENATE(#REF!," ",#REF!) -> #REF!
A15: Ítem | B15: Cantidad personal | C15: (%) Dedicación | D15: Unidad de medida | E15: Cantidad 2025 | F15: Cantidad 2026 | G15: Valor unitario base 2025 | H15: Valor unitario base 2026 | I15: Valor Total 2025 | J15: Valor Total 2026 | M15: DINERO | N15: ESPECIE | O15: DINERO | P15: ESPECIE
A16: COSTOS DE PERSONAL
A17: ='Presupuesto Contrato'!A11 -> Asesor o coordinador | B17: ='Presupuesto Contrato'!B11 -> 1 | C17: 0.5 | D17: Mes | E17: 1 | F17: 5 | G17: =Honorarios!B15 -> 8990280 | H17: =G17*1.05 -> 9439794 | I17: =B17*C17*E17*G17 -> 4495140 | J17: =B17*C17*F17*H17 -> 23599485 | K17: 0 | L17: 0 | M17: =I17+J17 -> 28094625
A18: Profesional especializado con experiencia | B18: ='Presupuesto Contrato'!B13 -> 1 | C18: 0.5 | D18: Mes | E18: 1 | F18: 5 | G18: =Honorarios!B14 -> 7493940 | H18: =G18*1.05 -> 7868637 | I18: =B18*C18*E18*G18 -> 3746970 | J18: =B18*C18*F18*H18 -> 19671592 | K18: 0 | L18: 0 | M18: =I18+J18 -> 23418562
A19: Profesional especializado con experiencia | B19: 1 | C19: 1 | D19: Mes | E19: 1 | F19: 5 | G19: =Honorarios!B14 -> 7493940 | H19: =G19*1.05 -> 7868637 | I19: =B19*C19*E19*G19 -> 7493940 | J19: =B19*C19*F19*H19 -> 39343185 | K19: 0 | L19: 0 | M19: =I19+J19 -> 46837125
I20: =B20*C20*E20*G20 -> 0 | K20: 0 | L20: 0 | M20: =I20+J20 -> 0
I21: =B21*C21*E21*G21 -> 0 | K21: 0 | L21: 0 | M21: =I21+J21 -> 0
I22: =B22*C22*E22*G22 -> 0 | K22: 0 | L22: 0 | M22: =I22+J22 -> 0
A24: PROYECCIÓN COSTOS DE PERSONAL , VIGENCIAS FUTURAS
J29: =B29*C29*E29*G29 -> 0 | M29: =+J29 -> 0
J30: =B30*C30*E30*G30 -> 0 | M30: =+J30 -> 0
J31: =B31*C31*E31*G31 -> 0 | M31: =+J31 -> 0
J32: =B32*C32*E32*G32 -> 0 | M32: =+J32 -> 0
A33: SUBTOTAL COSTOS DE PERSONAL | G33: =SUM(G17:G32) -> 23978160 | H33: =SUM(H17:H32) -> 25177068 | I33: =SUM(I17:I32) -> 15736050 | J33: =SUM(J17:J32) -> 82614262 | K33: =SUM(K17:K32) -> 0 | L33: =SUM(L17:L32) -> 0 | M33: =SUM(M17:M32) -> 98350312 | N33: =SUM(N17:N32) -> 0 | ... P33: =SUM(P17:P32) -> 0
A34: Ítem | D34: Unidad de medida | E34: Cantidad 2025 | F34: Cantidad 2026 | G34: Valor unitario base 2025 | H34: Valor unitario base 2026 | I34: Valor Total 2025 | J34: Valor Total 2026 | M34: DINERO | N34: ESPECIE | O34: DINERO | P34: ESPECIE
A35: OTROS COSTOS (Diferentes a los costos de personal)
A36: Visita inicial (Diagnóstico de los PGIRS municipales) | D36: Viaje | E36: 2 | F36: 3 | G36: =+('Gtos DyM'!$B$110+'Gtos DyM'!$C$110) -> 179800 | H36: =G36*1.05 -> 188790 | I36: =E36*G36 -> 359600 | J36: =F36*H36 -> 566370 | M36: =I36+J36+K36+L36 -> 925970
H37: =G37*1.05 -> 0 | I37: =E37*G37 -> 0 | J37: =F37*H37 -> 0 | M37: =I37+J37+K37+L37 -> 0
A38: Visitas para presentación de propuestas técnicas y socialización preliminar para cada municipio | D38: Viaje | E38: 0 | F38: 5 | G38: =+('Gtos DyM'!$B$110+'Gtos DyM'!$C$110) -> 179800 | H38: =G38*1.05 -> 188790 | I38: =E38*G38 -> 0 | J38: =F38*H38 -> 943950 | M38: =I38+J38+K38+L38 -> 943950
A39: Visitas para la socialización de recomendaciones al PGIRS | D39: Viaje | E39: 0 | F39: 5 | G39: =+('Gtos DyM'!$B$110+'Gtos DyM'!$C$110) -> 179800 | H39: =G39*1.05 -> 188790 | I39: =E39*G39 -> 0 | J39: =F39*H39 -> 943950 | M39: =I39+J39+K39+L39 -> 943950
A40: ='Estudio de mercado'!A15 -> Memoria USB 32 GB | D40: Unidad | E40: 0 | F40: 5 | G40: =('Estudio de mercado'!U15) -> 20196.078 | H40: =G40*1.05 -> 21205.882 | I40: =E40*G40 -> 0 | J40: =F40*H40 -> 106029.41 | M40: =I40+J40+K40+L40 -> 106029.41
Q41: EL DESARROLLADOR NO TIENE DOTACION (Se incrementa el IPC debido a que los valores son de 2022. Para 2023 el IPC fue de 13.12%, para 2024 de 9.28% y para 2025 de 5.2%). Los kits distintivos se compran durante la vigencia 2025, por lo cual no se le incrementa el IPC del 2026
J64: =E64*G64 -> 0
J65: =E65*G65 -> 0
J66: =E66*G66 -> 0
J67: =E67*G67 -> 0
A70: SUBTOTAL OTROS COSTOS | G70: =SUM(G36:G67) -> 559596.08 | H70: =SUM(H36:H67) -> 587575.88 | I70: =SUM(I36:I67) -> 359600 | J70: =SUM(J36:J67) -> 2560299.4 | K70: =SUM(K36:K67) -> 0 | L70: =SUM(L36:L67) -> 0 | M70: =SUM(M36:M67) -> 2919899.4 | N70: =SUM(N36:N67) -> 0 | ... P70: =SUM(P36:P67) -> 0 | Q70: =+M70+'ALCANCE 2'!M55 -> 1.9072388e+08
A71: SUBTOTAL ACTIVIDAD | G71: =G33+G70 -> 24537756 | H71: =H33+H70 -> 25764644 | I71: =I33+I70 -> 16095650 | J71: =J33+J70 -> 85174562 | K71: =K33+K70 -> 0 | L71: =L33+L70 -> 0 | M71: =M33+M70 -> 1.0127021e+08 | N71: =N33+N70 -> 0 | ... P71: =P33+P70 -> 0
A72: ¿ES UN CONTRATO O REQUIERE CONTRATO DERIVADO? | J72: Si
...

Sheet ALCANCE 2
D1: SISTEMA DE GESTIÓN INTEGRAL - SGI | Q1: Instructivo
D2: MEMORIA DE CÁLCULO - OPCIÓN 3
D3: CÓDIGO: F-PGC-21 | J3: =Instructivo!G3 -> VERSIÓN: 04
A5: MODALIDAD DE CONTRATACIÓN: | G5: =#REF! -> #REF!
A6: OBJETO A CONTRATAR: | G6: =#REF! -> #REF!
A8: PROCESO/ ALCANCE / ACTIVIDAD: | G8: =+ CONCATENATE(#REF!, " . ",#REF!) -> #REF!
A9: UNIDAD DE MEDIDA PARA EL PRECIO UNITARIO:
A10: ESPECIFICACIÓN TÉCNICA PARA EL PRECIO UNITARIO:
A12: DISCRIMINACIÓN DE COSTOS | M12: FUENTES DE COFINANCIACIÓN
M13: CORANTIOQUIA | O13: Entidad 1:
A14: =+CONCATENATE(#REF!," ",#REF!) -> #REF!
A15: Ítem | B15: Cantidad personal | C15: (%) Dedicación | D15: Unidad de medida | E15: Cantidad 2025 | F15: Cantidad 2026 | G15: Valor unitario base 2025 | H15: Valor unitario base 2026 | I15: Valor total 2025 | J15: Valor total 2026 | M15: DINERO | N15: ESPECIE | O15: DINERO | P15: ESPECIE
A16: COSTOS DE PERSONAL
A17: Asesor o coordinador | B17: ='Presupuesto Contrato'!B11 -> 1 | C17: 0.5 | D17: Mes | E17: 1 | F17: 5 | G17: =+'Presupuesto Contrato'!G11 -> 8990280 | H17: =G17*1.05 -> 9439794 | I17: =B17*C17*E17*G17 -> 4495140 | J17: =B17*C17*F17*H17 -> 23599485 | K17: 0 | L17: 0 | M17: =I17+J17+K17+L17 -> 28094625
A18: Profesional especializado con experiencia | B18: ='Presupuesto Contrato'!B12 -> 2 | C18: 0.5 | D18: Mes | E18: 1 | F18: 5 | G18: =+'Presupuesto Contrato'!G12 -> 7493940 | H18: =G18*1.05 -> 7868637 | I18: =B18*C18*E18*G18 -> 7493940 | J18: =B18*C18*F18*H18 -> 39343185 | K18: 0 | L18: 0 | M18: =I18+J18+K18+L18 -> 46837125
A19: Profesional especializado con experiencia | B19: 1 | C19: 1 | D19: Mes | F19: 1 | H19: 7868637 | J19: =B19*C19*F19*H19 -> 7868637 | K19: 0 | L19: 0 | M19: =I19+J19+K19+L19 -> 7868637
A20: Profesional | B20: ='Presupuesto Contrato'!B14 -> 2 | C20: 1 | D20: Mes | E20: 1 | F20: 5 | G20: =+'Presupuesto Contrato'!G14 -> 5095920 | H20: =G20*1.05 -> 5350716 | I20: =B20*C20*E20*G20 -> 10191840 | J20: =B20*C20*F20*H20 -> 53507160 | K20: 0 | L20: 0 | M20: =I20+J20+K20+L20 -> 63699000
I21: =B21*C21*E21*G21 -> 0
I22: =B22*C22*E22*G22 -> 0
A24: PROYECCIÓN COSTOS DE PERSONAL , VIGENCIAS FUTURAS | Q24: PROYECCION DEL IPC 2026-BANCO DE LA REPUBLICA 14-08-2025, EQUIVALENTE AL 3%
M25: =+J25 -> 0 | Q25: COORDINADOR DEL PROYECTO (A)
M26: =+J26 -> 0 | Q26: PROFESIONAL CON EXPERIENCIA (C) APOYO AL SEGUIMIENTO DE LA SUPERVISION
M27: =+J27 -> 0 | Q27: PROFESIONALES CON EXPERIENCIA (D) (AMBIENTALES, SANITARIO) PARA REVISION A PGIRS
M28: =+J28 -> 0 | Q28: PROFESIONAL CON EXPERIENCIA (E) (DESARROLLADOR DEL APLICATIVO)
M29: =+J29 -> 0
M30: =+J30 -> 0
M31: =+J31 -> 0
M32: =+J32 -> 0
A33: SUBTOTAL COSTOS DE PERSONAL | I33: =SUM(I17:I32) -> 22180920 | J33: =SUM(J17:J32) -> 124318467 | K33: =SUM(K17:K32) -> 0 | L33: =SUM(L17:L32) -> 0 | M33: =SUM(M17:M32) -> 146499387 | N33: =SUM(N17:N32) -> 0 | O33: =SUM(O17:O32) -> 0 | P33: =SUM(P17:P32) -> 0
A34: Ítem | D34: Unidad de medida | E34: Cantidad 2025 | F34: Cantidad 2026 | G34: Valor unitario base 2025 | H34: Valor unitario base 2026 | I34: Valor total 2025 | J34: Valor total 2026 | M34: DINERO | N34: ESPECIE | O34: DINERO | P34: ESPECIE
A35: OTROS COSTOS (Diferentes a los costos de personal)
A36: ='Estudio de mercado'!A12 -> Guantes de nitrilo (recueperadores) | D36: Unidad | E36: 640 | G36: ='Estudio de mercado'!U12 -> 7093.8375 | H36: =G36*1.05 -> 7448.5294 | I36: =E36*G36 -> 4540056 | J36: =F36*H36 -> 0 | M36: =I36+J36+K36+L36 -> 4540056
A37: Chaleco en dril y dos bordados (recuperadores) | D37: Unidad | E37: 640 | G37: =Distintivos!H11 -> 114284.12 | H37: =G37*1.05 -> 119998.32 | I37: =E37*G37 -> 73141834 | J37: =F37*H37 -> 0 | M37: =I37+J37+K37+L37 -> 73141834
A38: Pava con solapa y dos bordados | D38: Unidad | E38: 100 | G38: =Distintivos!H13 -> 72669.508 | H38: =G38*1.05 -> 76302.983 | I38: =E38*G38 -> 7266950.8 | J38: =F38*H38 -> 0 | M38: =I38+J38+K38+L38 -> 7266950.8
A39: ='Estudio de mercado'!A14 -> Bolsas en dril (reciclatón) | D39: Unidad | E39: 3500 | G39: ='Estudio de mercado'!U14 -> 13668.5 | H39: =G39*1.05 -> 14351.925 | I39: =E39*G39 -> 47839750 | J39: =F39*H39 -> 0 | M39: =I39+J39+K39+L39 -> 47839750
A40: Valla Hexagonal | D40: Unidad | F40: 30 | G40: 95734.004 | H40: =G40*1.05 -> 100520.7 | I40: =E40*G40 -> 0 | J40: =F40*H40 -> 3015621.1 | M40: =I40+J40+K40+L40 -> 3015621.1
A41: Gastos de desplzamiento Territorial Aburra Norte (reciclatón) | D41: Viaje | F41: 8 | G41: ='Gtos DyM'!B95 -> 16000 | H41: =G41*1.05 -> 16800 | I41: =E41*G41 -> 0 | J41: =F41*H41 -> 134400 | M41: =I41+J41+K41+L41 -> 134400
A42: Gastos de desplzamiento Territorial Aburra Sur (reciclatón) | D42: Viaje | F42: 10 | G42: ='Gtos DyM'!B96 -> 42000 | H42: =G42*1.05 -> 44100 | I42: =E42*G42 -> 0 | J42: =F42*H42 -> 441000 | M42: =I42+J42+K42+L42 -> 441000
A43: Gastos de desplzamiento Territorial Cartama (reciclatón) | D43: Viaje | F43: 11 | G43: ='Gtos DyM'!B97 -> 94000 | H43: =G43*1.05 -> 98700 | I43: =E43*G43 -> 0 | J43: =F43*H43 -> 1085700 | M43: =I43+J43+K43+L43 -> 1085700
A44: Gastos de desplzamiento Territorial Citará (reciclatón) | D44: Viaje | F44: 8 | G44: ='Gtos DyM'!B98 -> 103000 | H44: =G44*1.05 -> 108150 | I44: =E44*G44 -> 0 | J44: =F44*H44 -> 865200 | M44: =I44+J44+K44+L44 -> 865200
...

Sheet ALCANCE 2 Anterior
D1: SISTEMA DE GESTIÓN INTEGRAL - SGI | L1: Instructivo
D2: MEMORIA DE CÁLCULO - OPCIÓN 3
D3: CÓDIGO: F-PGC-21 | G3: =Instructivo!G3 -> VERSIÓN: 04
A5: MODALIDAD DE CONTRATACIÓN: | F5: =#REF! -> #REF!
A6: OBJETO A CONTRATAR: | F6: =#REF! -> #REF!
A8: PROCESO/ ALCANCE / ACTIVIDAD: | F8: =+ CONCATENATE(#REF!, " . ",#REF!) -> #REF!
A9: UNIDAD DE MEDIDA PARA EL PRECIO UNITARIO:
A10: ESPECIFICACIÓN TÉCNICA PARA EL PRECIO UNITARIO:
A12: DISCRIMINACIÓN DE COSTOS | H12: FUENTES DE COFINANCIACIÓN
H13: CORANTIOQUIA | J13: Entidad 1:
A14: =+CONCATENATE(#REF!," ",#REF!) -> #REF!
A15: Ítem | B15: Cantidad personal | C15: (%) Dedicación | D15: Unidad de medida | E15: Cantidad | F15: Valor unitario base | G15: Valor total | H15: DINERO | I15: ESPECIE | J15: DINERO | K15: ESPECIE
A16: COSTOS DE PERSONAL
A17: ='Presupuesto Contrato'!A11 -> Asesor o coordinador | B17: ='Presupuesto Contrato'!B11 -> 1 | C17: 0.5 | D17: Mes | E17: ='Presupuesto Contrato'!E11 -> 1 | F17: =+'Presupuesto Contrato'!G11 -> 8990280 | G17: =B17*C17*E17*F17 -> 4495140 | H17: =+G17 -> 4495140 | L17: COORDINADOR DEL PROYECTO (A)
A18: =+'Presupuesto Contrato'!A12 -> Profesional especializado con experiencia | B18: ='Presupuesto Contrato'!B12 -> 2 | C18: 1 | D18: Mes | E18: ='Presupuesto Contrato'!E12 -> 1 | F18: =+'Presupuesto Contrato'!G12 -> 7493940 | G18: =B18*C18*E18*F18 -> 14987880 | H18: =+G18 -> 14987880 | L18: PROFESIONAL CON EXPERIENCIA (B) EN RESPEL, POSCONSUMO, ESPECIALES, (SE ENCARGARA TAMBIEN DE OTROS TEMAS)
A19: ='Presupuesto Contrato'!A13 -> Profesional especializado con experiencia | B19: ='Presupuesto Contrato'!B13 -> 1 | C19: 0.5 | D19: Mes | E19: ='Presupuesto Contrato'!E13 -> 0 | F19: =+'Presupuesto Contrato'!G13 -> 0 | G19: =B19*C19*E19*F19 -> 0 | H19: =+G19 -> 0 | L19: PROFESIONAL CON EXPERIENCIA (C) APOYO AL SEGUIMIENTO DE LA SUPERVISION
A20: ='Presupuesto Contrato'!#REF! -> #REF! | B20: ='Presupuesto Contrato'!#REF! -> #REF! | C20: 1 | D20: Mes | E20: ='Presupuesto Contrato'!#REF! -> #REF! | F20: ='Presupuesto Contrato'!#REF! -> #REF! | G20: =B20*C20*E20*F20 -> #REF! | H20: =+G20 -> #REF! | L20: PROFESIONAL CON EXPERIENCIA (F) (SOCIAL)
A21: ='Presupuesto Contrato'!A14 -> Profesional | B21: ='Presupuesto Contrato'!B14 -> 2 | C21: 1 | D21: Mes | E21: ='Presupuesto Contrato'!E14 -> 1 | F21: ='Presupuesto Contrato'!G14 -> 5095920 | G21: =B21*C21*E21*F21 -> 10191840 | H21: =+G21 -> 10191840 | L21: PROFESIONALES AMBIENTALES (H)
G22: =B22*C22*E22*F22 -> 0 | H22: =+G22 -> 0
G23: =B23*C23*E23*F23 -> 0 | H23: =+G23 -> 0
G24: =B24*C24*E24*F24 -> 0 | H24: =+G24 -> 0
A25: PROYECCIÓN COSTOS DE PERSONAL , VIGENCIAS FUTURAS | L25: PROYECCION DEL IPC 2026-BANCO DE LA REPUBLICA 14-08-2025, EQUIVALENTE AL 3%
A26: ='Presupuesto Contrato'!A19 -> 0 | B26: ='Presupuesto Contrato'!B19 -> 0 | C26: 0.5 | D26: Mes | E26: ='Presupuesto Contrato'!E19 -> 0 | F26: ='Presupuesto Contrato'!G19 -> 0 | G26: =B26*C26*E26*F26 -> 0 | H26: =+G26 -> 0 | L26: COORDINADOR DEL PROYECTO (A)
A27: ='Presupuesto Contrato'!A20 -> 0 | B27: ='Presupuesto Contrato'!B20 -> 0 | C27: 1 | D27: Mes | E27: ='Presupuesto Contrato'!E20 -> 0 | F27: ='Presupuesto Contrato'!G20 -> 0 | G27: =B27*C27*E27*F27 -> 0 | H27: =+G27 -> 0 | L27: PROFESIONAL CON EXPERIENCIA (B) EN RESPEL, POSCONSUMO, ESPECIALES, (SE ENCARGARA TAMBIEN DE OTROS TEMAS)
A28: ='Presupuesto Contrato'!A21 -> 0 | B28: ='Presupuesto Contrato'!B21 -> 0 | C28: 0.5 | D28: Mes | E28: ='Presupuesto Contrato'!E21 -> 0 | F28: ='Presupuesto Contrato'!G21 -> 0 | G28: =B28*C28*E28*F28 -> 0 | H28: =+G28 -> 0 | L28: PROFESIONAL CON EXPERIENCIA (C) APOYO AL SEGUIMIENTO DE LA SUPERVISION
A29: ='Presupuesto Contrato'!A22 -> 0 | B29: ='Presupuesto Contrato'!B22 -> 0 | C29: 0 | D29: Mes | E29: ='Presupuesto Contrato'!E22 -> 0 | F29: ='Presupuesto Contrato'!G22 -> 0 | G29: =B29*C29*E29*F29 -> 0 | H29: =+G29 -> 0 | L29: PROFESIONALES CON EXPERIENCIA (D) (AMBIENTALES, SANITARIO) PARA REVISION A PGIRS
A30: ='Presupuesto Contrato'!A23 -> 0 | B30: ='Presupuesto Contrato'!B23 -> 0 | C30: 0 | D30: Mes | E30: ='Presupuesto Contrato'!E23 -> 0 | F30: ='Presupuesto Contrato'!G23 -> 0 | G30: =B30*C30*E30*F30 -> 0 | H30: =+G30 -> 0 | L30: PROFESIONAL CON EXPERIENCIA (E) (DESARROLLADOR DEL APLICATIVO)
A31: ='Presupuesto Contrato'!A24 -> 0 | B31: ='Presupuesto Contrato'!B24 -> 0 | C31: 1 | D31: Mes | E31: ='Presupuesto Contrato'!E24 -> 0 | F31: ='Presupuesto Contrato'!G24 -> 0 | G31: =B31*C31*E31*F31 -> 0 | H31: =+G31 -> 0 | L31: PROFESIONAL CON EXPERIENCIA (F) (SOCIAL)
A32: ='Presupuesto Contrato'!A25 -> 0 | B32: ='Presupuesto Contrato'!B25 -> 0 | C32: 1 | D32: Mes | E32: ='Presupuesto Contrato'!E25 -> 0 | F32: ='Presupuesto Contrato'!G25 -> 0 | G32: =B32*C32*E32*F32 -> 0 | H32: =+G32 -> 0 | L32: PROFESIONAL COMUNICADOR (G)
A33: ='Presupuesto Contrato'!A26 -> 0 | B33: ='Presupuesto Contrato'!B26 -> 0 | C33: 1 | D33: Mes | E33: ='Presupuesto Contrato'!E26 -> 0 | F33: ='Presupuesto Contrato'!G26 -> 0 | G33: =B33*C33*E33*F33 -> 0 | H33: =+G33 -> 0 | L33: PROFESIONALES AMBIENTALES (H)
A34: SUBTOTAL COSTOS DE PERSONAL | G34: =SUM(G17:G33) -> #REF! | H34: =SUM(H17:H33) -> #REF! | I34: =SUM(I17:I33) -> 0 | J34: =SUM(J17:J33) -> 0 | K34: =SUM(K17:K33) -> 0
A35: Ítem | D35: Unidad de medida | E35: Cantidad | F35: Valor unitario | G35: Valor total | H35: DINERO | I35: ESPECIE | J35: DINERO | K35: ESPECIE
A36: OTROS COSTOS (Diferentes a los costos de personal)
A37: ='Estudio de mercado'!A12 -> Guantes de nitrilo (recueperadores) | D37: Unidad | E37: 700 | F37: #NAME? | G37: =E37*F37 -> #NAME? | H37: =+G37 -> #NAME? | L37: ACTIVIDAD 2,2: Estos elementos se compran durante la vigencia 2025, por lo cual no se le incrementa el IPC del 2026
A38: Chaleco en dril y dos bordados (recuperadores) | D38: Unidad | E38: 700 | F38: =Distintivos!H11 -> 114284.12 | G38: =E38*F38 -> 79998881 | H38: =+G38 -> 79998881 | L38: ACTIVIDAD 2,2: Se incrementa el IPC debido a que los valores son de 2022. Para 2023 el IPC fue de 13.12%, para 2024 de 9.28% y para 2025 de 5.2%. Estos elementos se compran durante la vigencia 2025, por lo cual no se le incrementa el IPC del 2026
A39: Pava con solapa y dos bordados | D39: Unidad | E39: 700 | F39: =Distintivos!H13 -> 72669.508 | G39: =E39*F39 -> 50868656 | H39: =+G39 -> 50868656 | L39: ACTIVIDAD 2,2: Se incrementa el IPC debido a que los valores son de 2022. Para 2023 el IPC fue de 13.12%, para 2024 de 9.28% y para 2025 de 5.2%. Estos elementos se compran durante la vigencia 2025, por lo cual no se le incrementa el IPC del 2026
A40: ='Estudio de mercado'!A14 -> Bolsas en dril (reciclatón) | D40: Unidad | E40: 4800 | F40: ='Estudio de mercado'!U14 -> 13668.5 | G40: =E40*F40 -> 65608800 | H40: =+G40 -> 65608800 | L40: ACTIVIDAD 2,2: Estos elementos se compran durante la vigencia 2025, por lo cual no se le incrementa el IPC del 2026
