Workbook

Sheet HABILITANTES
A1: Número | B1: Nombre del proponente | C1: HABILITANTES
C2: RUP - CÓDIGOS UNSPSC | F2: Experiencia mínima | L2: Personal | Q2: Cumple/No Cumple
C3: Condición | D3: Observación | E3: Requerimiento | F3: Nombre empresa | G3: Número del Contrato | H3: Valor en SMMLV | I3: TOTAL SMMLV SMMLV | J3: Condición Ppto 386,25 | K3: Observaciones | L3: Perfil profesional Director | M3: Experiencia | O3: Condición | P3: OBSERVACIÓN
A4: 1 | B4: KMP CONSULTING S.A.S. | C4: CUMPLE | D4: - RUP vigente, expedido por la respectiva Cámara de Comercio dentro de los treinta (30) días calendario, anteriores al cierre del proceso de selección - Clasificación UNSPSC se encuentra al tercer Nivel. 80101500 | E4: 80101504 80101509 | F4: Ministerio de Educación Nacional | G4: Nº 1090-2016 RUP: 112 | H4: 1195.07 | I4: =SUM(H4:H12) -> 1195.07 | J4: CUMPLE | L4: =HV!E2 -> DELFIN SOTO CHAVES | M4: EXPERIENCIA PROFESIONAL 90 MESES | N4: =HV!AC5 -> 136.43333 | O4: =HV!AA2 -> CUMPLE | P4: =HV!Z2 -> Cumple con el perfil y la experiencia profesional de 90 meses requerida en el literal a) "RELACIÓN DE EQUIPO HUMANO MÍNIMO HABILITANTE (CUMPLE / NO CUMPLE)", del pliego de condiciones. | Q4: CUMPLE
M6: EXPERIENCIA RELACIONADA 60 MESES | N6: =HV!AC10 -> 61.966667 | O6: =HV!AA7 -> CUMPLE | P6: =HV!Z7 -> Cumple con el perfil y la experiencia profesional de 60 meses requerida en el literal a) "RELACIÓN DE EQUIPO HUMANO MÍNIMO HABILITANTE (CUMPLE / NO CUMPLE)", del pliego de condiciones.
L8: Perfil Líder en fortalecimiento institucional | N8: Experiencia | O8: Condición | P8: OBSERVACIÓN
L9: =HV!E13 -> JUANITA BENAVIDES DELGADO | M9: EXPERIENCIA PROFESIONAL 70 MESES | N9: =HV!AC16 -> 209.83333 | O9: =HV!AA13 -> CUMPLE | P9: =HV!Z13 -> Cumple con el perfil y la experiencia profesional de 70 meses requeridaen el literal a) "RELACIÓN DE EQUIPO HUMANO MÍNIMO HABILITANTE (CUMPLE / NO CUMPLE)", del pliego de condiciones.
M11: EXPERIENCIA RELACIONADA 50 MESES | N11: =HV!AC21 -> 209.83333 | O11: =HV!AA18 -> CUMPLE | P11: =HV!Z18 -> Cumple con el perfil y la experiencia relacionada de 50 meses requerida en el literal a) "RELACIÓN DE EQUIPO HUMANO MÍNIMO HABILITANTE (CUMPLE / NO CUMPLE)", del pliego de condiciones.
A14: 2 | B14: ÁNGULO & VELANDIA SAS | C14: CUMPLE | D14: - RUP vigente, expedido por la respectiva Cámara de Comercio dentro de los treinta (30) días calendario, anteriores al cierre del proceso de selección - Clasificación UNSPSC se encuentra al tercer Nivel. 80101500 | E14: 80101504 80101509 | F14: Universidad Autónoma de Occidente | G14: JUR-2017- 802 | H14: 424.28 | I14: =SUM(H14:H22) -> 594.73 | J14: CUMPLE | K14: El objeto se encuentra relacionado con las actividades descritas en el pliego (4) | L14: =HV!E24 -> Claudia Lucía Velandia Gómez | M14: EXPERIENCIA PROFESIONAL 90 MESES | N14: =HV!AC27 -> 262.3 | O14: =HV!AA24 -> CUMPLE | P14: =HV!Z24 -> Cumple con el perfil y la experiencia profesional de 90 meses requerida en el literal a) "RELACIÓN DE EQUIPO HUMANO MÍNIMO HABILITANTE (CUMPLE / NO CUMPLE)", del pliego de condiciones. | Q14: CUMPLE
F15: Universidad Católica de Manizales | G15: Contrato 40 - 2017 | H15: 125.65 | K15: El objeto se encuentra relacionado con las actividades descritas en el pliego (2-3)
F16: Universidad Santo Tomas | G16: 246 de 2017 | H16: 44.8 | K16: El objeto se encuentra relacionado con las actividades descritas en el pliego (5) | M16: EXPERIENCIA RELACIONADA 60 MESES | N16: =HV!AC32 -> 100.36667 | O16: =HV!AA29 -> CUMPLE | P16: =HV!Z29 -> Cumple con el perfil y la experiencia relacionada de 60 meses requerida en el literal a) "RELACIÓN DE EQUIPO HUMANO MÍNIMO HABILITANTE (CUMPLE / NO CUMPLE)", del pliego de condiciones.
F17: Universidad del Norte | G17: P0119783 | K17: La certificación aportada no permite ver si el objeto y las actividades están relacionados con actividades propias del Sistema de Aseguramiento de la Calidad para la Educación Superior, como lo expresa el pliego de condiciones en le literal a. EXPERIENCIA MÍNIMA DEL PROPONENTE: 3.2.1 PROPONENTE SINGULAR PERSONA NATURAL O JURÍDICA. (58,7)
L18: Perfil Líder en fortalecimiento institucional | N18: Experiencia | O18: Condición | P18: Requerimiento
L19: =HV!E35 -> Carolina Marcela Salazar Ceballos | M19: EXPERIENCIA PROFESIONAL 70 MESES | N19: =HV!AC38 -> 117.73333 | O19: =HV!AA35 -> CUMPLE | P19: =HV!Z35 -> Cumple con el perfil y la experiencia profesional de 70 meses requerida en el literal a) "RELACIÓN DE EQUIPO HUMANO MÍNIMO HABILITANTE (CUMPLE / NO CUMPLE)", del pliego de condiciones.
M21: EXPERIENCIA RELACIONADA 50 MESES | N21: =HV!AC43 -> 52.9 | O21: =HV!AA35 -> CUMPLE | P21: =HV!Z40 -> Cumple con el perfil y la experiencia relacionada de 50 meses requerida en el literal a) "RELACIÓN DE EQUIPO HUMANO MÍNIMO HABILITANTE (CUMPLE / NO CUMPLE)", del pliego de condiciones.

Sheet HV
A1: Número | B1: Nombre del proponente | C1: Requerimiento PERFIL | D1: Experiencia Habilitante | E1: Nombre | F1: Formación pregrado | G1: Formación posgrado | H1: Tarjeta profesional | I1: Condición perfil CUMPLE / NO CUMPLE | J1: Condición experiencia CUMPLE / NO CUMPLE | K1: Tipo Experiencia | L1: Contrato 1 | N1: Contrato 2 | P1: Contrato 3 | R1: Cotrato 4 | T1: Contrato 5 | V1: Contrato 6 | X1: Contrato 7 | Z1: Observaciones | AA1: Habilitante | AC1: 30
A2: 1 | B2: =HABILITANTES!B4 -> KMP CONSULTING S.A.S. | C2: DIRECTOR DEL PROYECTO Profesional universitario en cualquiera de las siguientes áreas del conocimiento de acuerdo al SNIES: 1.-Ciencias sociales y humanas. 2.-Ingeniería, Arquitectura, Urbanismo y afines. 3.-Ciencias de la educación. 4.-Economía, Administración, Contaduría y afines TÍTULO DE POSTGRADO. En modalidad Maestría o Doctorado Homologable con 36 meses de experiencia profesional relacionada adicional a la mínima solicitada en la prestación de servicios profesionales en los procedimientos propios del Sistema de Aseguramiento de la Calidad para la Educación Superior. | D2: EXPERIENCIA PROFESIONAL 90 MESES | E2: DELFIN SOTO CHAVES | F2: Economista 29/09/1989 - Universidad pedagógica y Tecnologóa de Colombia | G2: Magister en Ciencias Económicas 29/04/1998 -Universidad Nacional de Colombia | H2: Matricula de Economista -12123 03/04/1991 | I2: CUMPLE | J2: CUMPLE | K2: Experiencia Profesional 90 MESES | L2: Folio | M2: 18 | N2: Folio | O2: 19 | P2: Folio | R2: Folio | T2: Folio | V2: Folio | X2: Folio | Z2: Cumple con el perfil y la experiencia profesional de 90 meses requerida en el literal a) "RELACIÓN DE EQUIPO HUMANO MÍNIMO HABILITANTE (CUMPLE / NO CUMPLE)", del pliego de condiciones. | AA2: =IF(AND(AB5>=2700),"CUMPLE","NO CUMPLE") -> CUMPLE | AB2: Dias Totales | AC2: Meses | AD2: Años totales (en dias)
L3: 38504 | M3: 40362 | N3: 40760 | O3: 42993
L4: =IF(L3="","",(M3-L3)+1) -> 1859 | N4: =IF(N3="","",(O3-N3)+1) -> 2234 | P4: =IF(P3="","",(Q3-P3)+1) | AD4: =90*30 -> 2700
L5: CORPORACION LABOR Y FUTURO - Director de Consultorias | N5: FULECOL - Director de interventorìa | AB5: =SUM(L4:Q4) -> 4093 | AC5: =AB5/$AC$1 -> 136.43333 | AD5: =AB5-AD4 -> 1393
D7: EXPERIENCIA RELACIONADA 60 MESES Haber ejercido mínimo por 60 meses como Gerente, Director o Coordinador de proyectos en actividades relacionadas en la prestación de servicios de consultoría y/o asesoría en los procedimientos propios del Sistema de Aseguramiento de la Calidad para la Educación Superior. Estos no deberán ser adicionales a la experiencia mínima profesional exigida. | J7: CUMPLE | K7: Experiencia Relacionada 60 MESES | L7: Folio | M7: 18 | N7: Folio | P7: Folio | Z7: Cumple con el perfil y la experiencia profesional de 60 meses requerida en el literal a) "RELACIÓN DE EQUIPO HUMANO MÍNIMO HABILITANTE (CUMPLE / NO CUMPLE)", del pliego de condiciones. | AA7: =IF(AND(AB10>=1800),"CUMPLE","NO CUMPLE") -> CUMPLE | AB7: Dias Totales | AC7: Meses | AD7: Años totales (en dias)
L8: 38504 | M8: 40362
L9: =IF(L8="","",(M8-L8)+1) -> 1859 | N9: =IF(N8="","",(O8-N8)+1) | P9: =IF(P8="","",(Q8-P8)+1) | R9: =IF(R8="","",(S8-R8)+1) | T9: =IF(T8="","",(U8-T8)+1) | V9: =IF(V8="","",(W8-V8)+1) | X9: =IF(X8="","",(Y8-X8)+1) | AD9: =60*30 -> 1800
L10: CORPORACION LABOR Y FUTURO - Director de Consultorias | AB10: =SUM(L9:Q9) -> 1859 | AC10: =AB10/$AC$1 -> 61.966667 | AD10: =AB10-AD9 -> 59
C13: LÍDER EN FORTALECIMIENTO INSTITUCIONAL Profesional universitario en cualquiera de las siguientes áreas del conocimiento de acuerdo al SNIES: 1.-Ciencias sociales y humanas. 2.-Ingeniería, Arquitectura, Urbanismo y afines. 3.-Ciencias de la educación. 4.-Economía, Administración, Contaduría y afines. | D13: EXPERIENCIA PROFESIONAL 70 MESES | E13: JUANITA BENAVIDES DELGADO | F13: Economista 29/04/1982 - Pontificia Universidad Javeriana | G13: Especialista de Estadística 13/12/1993 - Universidad Nacional de Colombia | H13: Tarjeta Profesional Economista 7451 - 05/03/1986 | I13: CUMPLE | J13: CUMPLE | K13: Experiencia Profesional 70 MESES | L13: Folio | M13: 29 al 32 | N13: Folio | P13: Folio | Z13: Cumple con el perfil y la experiencia profesional de 70 meses requeridaen el literal a) "RELACIÓN DE EQUIPO HUMANO MÍNIMO HABILITANTE (CUMPLE / NO CUMPLE)", del pliego de condiciones. | AA13: =IF(AND(AB16>=2100),"CUMPLE","NO CUMPLE") -> CUMPLE | AB13: Dias Totales | AC13: Meses | AD13: Años totales (en dias)
L14: 33994 | M14: 40288
L15: =IF(L14="","",(M14-L14)+1) -> 6295 | N15: =IF(N14="","",(O14-N14)+1) | P15: =IF(P14="","",(Q14-P14)+1) | R15: =IF(R14="","",(S14-R14)+1) | T15: =IF(T14="","",(U14-T14)+1) | V15: =IF(V14="","",(W14-V14)+1) | X15: =IF(X14="","",(Y14-X14)+1) | AD15: =70*30 -> 2100
L16: UNIVERSIDAD DE CIENCIAS APLICADAS Y AMBIENTALES U.D.C.A. - Direccion del Departamento de Planeación. | AB16: =SUM(L15:Q15) -> 6295 | AC16: =AB16/$AC$1 -> 209.83333 | AD16: =AB16-AD15 -> 4195
D18: EXPERIENCIA RELACIONADA 50 MESES Contar como mínimo con 50 meses de experiencia profesional en actividades relacionadas con la prestación de servicios profesionales en los procedimientos propios del Sistema de Aseguramiento de la Calidad para la Educación Superior. No deberán ser adicionales a la experiencia mínima profesional exigida. | J18: CUMPLE | K18: Experiencia Relacionada 50 MESES | L18: Folio | M18: 29 al 32 | N18: Folio | P18: Folio | R18: Folio | T18: Folio | V18: Folio | X18: Folio | Z18: Cumple con el perfil y la experiencia relacionada de 50 meses requerida en el literal a) "RELACIÓN DE EQUIPO HUMANO MÍNIMO HABILITANTE (CUMPLE / NO CUMPLE)", del pliego de condiciones. | AA18: =IF(AND(AB21>=1500),"CUMPLE","NO CUMPLE") -> CUMPLE | AB18: Dias Totales | AC18: Meses | AD18: Años totales (en dias)
L19: 33994 | M19: 40288
L20: =IF(L19="","",(M19-L19)+1) -> 6295 | N20: =IF(N19="","",(O19-N19)+1) | P20: =IF(P19="","",(Q19-P19)+1) | R20: =IF(R19="","",(S19-R19)+1) | T20: =IF(T19="","",(U19-T19)+1) | V20: =IF(V19="","",(W19-V19)+1) | X20: =IF(X19="","",(Y19-X19)+1) | AD20: =50*30 -> 1500
L21: UNIVERSIDAD DE CIENCIAS APLICADAS Y AMBIENTALES U.D.C.A. - Direccion del Departamento de Planeación. | AB21: =SUM(L20:Q20) -> 6295 | AC21: =AB21/$AC$1 -> 209.83333 | AD21: =AB21-AD20 -> 4795
A24: 2 | B24: =HABILITANTES!B14 -> ÁNGULO & VELANDIA SAS | C24: DIRECTOR DEL PROYECTO Profesional universitario en cualquiera de las siguientes áreas del conocimiento de acuerdo al SNIES: 1.-Ciencias sociales y humanas. 2.-Ingeniería, Arquitectura, Urbanismo y afines. 3.-Ciencias de la educación. 4.-Economía, Administración, Contaduría y afines TÍTULO DE POSTGRADO. En modalidad Maestría o Doctorado Homologable con 36 meses de experiencia profesional relacionada adicional a la mínima solicitada en la prestación de servicios profesionales en los procedimientos propios del Sistema de Aseguramiento de la Calidad para la Educación Superior. | D24: EXPERIENCIA PROFESIONAL 90 MESES | E24: Claudia Lucía Velandia Gómez | F24: Arquitecto- Universidad de los Andes-20/06/1990 | G24: Acredite título en administración. 21/03/2009 | H24: Matrícula Profesional 25700-37628 22/11/1990 | I24: CUMPLE | J24: CUMPLE | K24: Experiencia Profesional 90 MESES | L24: Folio | M24: 1 | N24: Folio | O24: 2 | P24: Folio | Q24: 2 | R24: Folio | S24: 3 | T24: Folio | U24: 3 | V24: Folio | W24: 3 | X24: Folio | Y24: 1 | Z24: Cumple con el perfil y la experiencia profesional de 90 meses requerida en el literal a) "RELACIÓN DE EQUIPO HUMANO MÍNIMO HABILITANTE (CUMPLE / NO CUMPLE)", del pliego de condiciones. | AA24: =IF(AND(AB27>=2700),"CUMPLE","NO CUMPLE") -> CUMPLE | AB24: Dias Totales | AC24: Meses | AD24: Años totales (en dias)
L25: 41073 | M25: 41871 | N25: 40664 | O25: 41072 | P25: 37653 | Q25: 40663 | R25: 37257 | S25: 37652 | T25: 36683 | U25: 37256 | V25: 36173 | W25: 36682 | X25: 41944 | Y25: 44113
L26: =IF(L25="","",(M25-L25)+1) -> 799 | N26: =IF(N25="","",(O25-N25)+1) -> 409 | P26: =IF(P25="","",(Q25-P25)+1) -> 3011 | R26: =IF(R25="","",(S25-R25)+1) -> 396 | T26: =IF(T25="","",(U25-T25)+1) -> 574 | V26: =IF(V25="","",(W25-V25)+1) -> 510 | X26: =IF(X25="","",(Y25-X25)+1) -> 2170 | AD26: =90*30 -> 2700
L27: Universidad de los Andes- gerente de campus | N27: Universidad de los Andes- Vicerrectora de Asuntos Administrativos y financieros | P27: Universidad de los Andes- Directora de Planeación y evaluación | R27: Universidad de los Andes- analista de planeación | T27: Universidad de los Andes- arquitecta facultad de arquitectuura | V27: Universidad de los Andes- coodinador de centro de investigaciones CIFA | X27: Ángulo & Velandia- Consultora educación | AB27: =SUM(L26:Y26) -> 7869 | AC27: =AB27/$AC$1 -> 262.3 | AD27: =AB27-AD26 -> 5169
D29: EXPERIENCIA RELACIONADA 60 MESES Haber ejercido mínimo por 60 meses como Gerente, Director o Coordinador de proyectos en actividades relacionadas en la prestación de servicios de consultoría y/o asesoría en los procedimientos propios del Sistema de Aseguramiento de la Calidad para la Educación Superior. Estos no deberán ser adicionales a la experiencia mínima profesional exigida. | J29: CUMPLE | K29: Experiencia Relacionada 60 MESES | L29: Folio | M29: 2 | N29: Folio | P29: Folio | R29: Folio | T29: Folio | V29: Folio | X29: Folio | Z29: Cumple con el perfil y la experiencia relacionada de 60 meses requerida en el literal a) "RELACIÓN DE EQUIPO HUMANO MÍNIMO HABILITANTE (CUMPLE / NO CUMPLE)", del pliego de condiciones. | AA29: =IF(AND(AB32>=1800),"CUMPLE","NO CUMPLE") -> CUMPLE | AB29: Dias Totales | AC29: Meses | AD29: Años totales (en dias)
L30: 37653 | M30: 40663
L31: =IF(L30="","",(M30-L30)+1) -> 3011 | N31: =IF(N30="","",(O30-N30)+1) | P31: =IF(P30="","",(Q30-P30)+1) | R31: =IF(R30="","",(S30-R30)+1) | T31: =IF(T30="","",(U30-T30)+1) | V31: =IF(V30="","",(W30-V30)+1) | X31: =IF(X30="","",(Y30-X30)+1) | AD31: =60*30 -> 1800
L32: Universidad de los Andes- Directora de Planeación y evaluación | AB32: =SUM(L31:Y31) -> 3011 | AC32: =AB32/$AC$1 -> 100.36667 | AD32: =AB32-AD31 -> 1211
C35: LÍDER EN FORTALECIMIENTO INSTITUCIONAL Profesional universitario en cualquiera de las siguientes áreas del conocimiento de acuerdo al SNIES: 1.-Ciencias sociales y humanas. 2.-Ingeniería, Arquitectura, Urbanismo y afines. 3.-Ciencias de la educación. 4.-Economía, Administración, Contaduría y afines. | D35: EXPERIENCIA PROFESIONAL 70 MESES | E35: Carolina Marcela Salazar Ceballos | F35: Ingeniera insudtrial - Universidad de Antioquia-10/12/2007 | G35: N/A | H35: TP. 05228151059 ANT -21/02/2008 | I35: CUMPLE | J35: NO CUMPLE | K35: Experiencia Profesional 70 MESES | L35: Folio | M35: 1 | N35: Folio | O35: 4 al 9 | P35: Folio | Q35: 1 | R35: Folio | S35: 1 | T35: Folio | U35: 1 | V35: Folio | X35: Folio | Z35: Cumple con el perfil y la experiencia profesional de 70 meses requerida en el literal a) "RELACIÓN DE EQUIPO HUMANO MÍNIMO HABILITANTE (CUMPLE / NO CUMPLE)", del pliego de condiciones. | AA35: =IF(AND(AB38>=2100),"CUMPLE","NO CUMPLE") -> CUMPLE | AB35: Dias Totales | AC35: Meses | AD35: Años totales (en dias)
L36: 40190 | M36: 41121 | N36: 41974 | O36: 42004 | P36: 42552 | Q36: 42825 | R36: 42895 | S36: 43109 | T36: 43191 | U36: 43373 | V36: 42898 | W36: 43081 | X36: 42401 | Y36: 44113
L37: =IF(L36="","",(M36-L36)+1) -> 932 | N37: =IF(N36="","",(O36-N36)+1) -> 31 | P37: =IF(P36="","",(Q36-P36)+1) -> 274 | R37: =IF(R36="","",(S36-R36)+1) -> 215 | T37: =IF(T36="","",(U36-T36)+1) -> 183 | V37: =IF(V36="","",(W36-V36)+1) -> 184 | X37: =IF(X36="","",(Y36-X36)+1) -> 1713 | AD37: =70*30 -> 2100
L38: Universidad de los Andes- Analísta | N38: Ministerio de Educación- contrato 889 de 2014 Nacional- Contratista | P38: Sergio Arboleda | R38: Univesidad Santo Tomás-Consultoria | T38: CINDA | V38: CINDA | X38: Ángulo & Velandia | AB38: =SUM(L37:Y37) -> 3532 | AC38: =AB38/$AC$1 -> 117.73333 | AD38: =AB38-AD37 -> 1432
D40: EXPERIENCIA RELACIONADA 50 MESES Contar como mínimo con 50 meses de experiencia profesional en actividades relacionadas con la prestación de servicios profesionales en los procedimientos propios del Sistema de Aseguramiento de la Calidad para la Educación Superior. No deberán ser adicionales a la experiencia mínima profesional exigida. | J40: NO CUMPLE | K40: Experiencia Relacionada 50 MESES | L40: Folio | M40: 2 | N40: Folio | O40: 4 al 9 | P40: Folio | Q40: 1 | R40: Folio | S40: 1 | T40: Folio | U40: 1 | Z40: Cumple con el perfil y la experiencia relacionada de 50 meses requerida en el literal a) "RELACIÓN DE EQUIPO HUMANO MÍNIMO HABILITANTE (CUMPLE / NO CUMPLE)", del pliego de condiciones. | AA40: =IF(AND(AB43>=1500),"CUMPLE","NO CUMPLE") -> CUMPLE | AB40: Dias Totales | AC40: Meses | AD40: Años totales (en dias)
L41: 40208 | M41: 41091 | N41: 41974 | O41: 42004 | P41: 42552 | Q41: 42825 | R41: 42895 | S41: 43109 | T41: 43191 | U41: 43373
L42: =IF(L41="","",(M41-L41)+1) -> 884 | N42: =IF(N41="","",(O41-N41)+1) -> 31 | P42: =IF(P41="","",(Q41-P41)+1) -> 274 | R42: =IF(R41="","",(S41-R41)+1) -> 215 | T42: =IF(T41="","",(U41-T41)+1) -> 183 | AD42: =50*30 -> 1500
L43: Universidad de los Andes- Analísta | N43: Ministerio de Educación- contrato 889 de 2014 Nacional- Contratista | P43: Sergio Arboleda | R43: Univesidad Santo tomás | T43: Universidad Santo Tomás | AB43: =SUM(L42:U42) -> 1587 | AC43: =AB43/$AC$1 -> 52.9 | AD43: =AB43-AD42 -> 87

Sheet EXP ADICIONAL
A1: Número | B1: Nombre del proponente | C1: EXPERIENCIA ADICIONAL ESPECIFICA DEL EQUIPO DE TRABAJO (35 puntos): | D1: Director de proyecto o el Líder fortalecimiento institucional | E1: Nombre | F1: MESES ADICIONALES | G1: Tipo Experiencia | H1: Contrato 1 | J1: Contrato 2 | L1: Contrato 3 | V1: Observaciones | X1: 30
A2: 1 | B2: =HABILITANTES!B4 -> KMP CONSULTING S.A.S. | C2: Experiencia específica adicional, contratos que el objeto o descripción o alcance o actividades principales sea la prestación de servicios, relacionados con actividades propias del Sistema de Aseguramiento de la Calidad para la Educación Superior, que se numeran a continuación: 1. El registro calificado. 2. Mecanismo de autorregulación y autoevaluación. 3. La acreditación de calidad institucional y de programas académicos. 4. La planeación institucional de IES. 5. Seguimiento y evaluación de procesos a través de esquemas de monitoreo o tableros de control. 6. Actividades consistentes en la recopilación, análisis de información, desarrollo de insumos o propuesta para la expedición de regulaciones o reglamentos administrativos, tales como decretos, resoluciones, acuerdos y demás actos administrativos de carácter general y abstracto, es decir, que no tienen un destinatario determinado y aunque pueden en ocasiones crear situaciones particulares, su alcance es indeterminado entendiendo esto como la característica de generalidad y abstracción sobre los sujetos. Cada contrato presentado deberá cumplir con al menos una de estas actividades y no podrán ser los mismos con los que el proponente aporto para acreditar su experiencia mínima habilitante. | D2: Líder fortalecimiento institucional | E2: JUANITA BENAVIDES DELGADO | F2: =X5 -> 39.7 | G2: Experiencia adicional | H2: Folio | I2: 13 al 17 | J2: Folio | K2: 18 al 21 | L2: Folio | N2: Folio | P2: Folio | R2: Folio | T2: Folio | W2: Dias Totales | X2: Meses | Y2: Años totales (en dias)
H3: 40289 | I3: 41295 | J3: 42572 | K3: 42755
H4: =IF(H3="","",(I3-H3)+1) -> 1007 | J4: =IF(J3="","",(K3-J3)+1) -> 184 | L4: =IF(L3="","",(M3-L3)+1) | N4: =IF(N3="","",(O3-N3)+1) | P4: =IF(P3="","",(Q3-P3)+1) | R4: =IF(R3="","",(S3-R3)+1) | T4: =IF(T3="","",(U3-T3)+1) | Y4: =36*30+1 -> 1081
H5: UNIVERSIDAD DE CIENCIAS APLICADAS Y AMBIENTALES U.D.C.A. - Direccion del Departamento de Planeación. | J5: KMP CONSULTING SAS - Consultor externo de Aseguramiento de Calidad para la Educación Superior | W5: =SUM(H4:M4) -> 1191 | X5: =W5/$X$1 -> 39.7 | Y5: =W5-Y4 -> 110
A8: 2 | B8: =HABILITANTES!B14 -> ÁNGULO & VELANDIA SAS | C8: Experiencia específica adicional, contratos que el objeto o descripción o alcance o actividades principales sea la prestación de servicios, relacionados con actividades propias del Sistema de Aseguramiento de la Calidad para la Educación Superior, que se numeran a continuación: 1. El registro calificado. 2. Mecanismo de autorregulación y autoevaluación. 3. La acreditación de calidad institucional y de programas académicos. 4. La planeación institucional de IES. 5. Seguimiento y evaluación de procesos a través de esquemas de monitoreo o tableros de control. 6. Actividades consistentes en la recopilación, análisis de información, desarrollo de insumos o propuesta para la expedición de regulaciones o reglamentos administrativos, tales como decretos, resoluciones, acuerdos y demás actos administrativos de carácter general y abstracto, es decir, que no tienen un destinatario determinado y aunque pueden en ocasiones crear situaciones particulares, su alcance es indeterminado entendiendo esto como la característica de generalidad y abstracción sobre los sujetos. Cada contrato presentado deberá cumplir con al menos una de estas actividades y no podrán ser los mismos con los que el proponente aporto para acreditar su experiencia mínima habilitante. | F8: =X11 -> 0 | G8: Experiencia adicional | H8: Folio | J8: Folio | L8: Folio | N8: Folio | P8: Folio | R8: Folio | T8: Folio | V8: * El formato No.8 no está firmado por los profesionales, según lo establecido en los pliegos pagina 43 y 44 "De igual manera el proponente deberá incluir la Carta De Compromiso (FORMATO No. 8) debidamente suscrita por cada profesional y el representante legal del proponente para este criterio de experiencia adicional. Se aclara que en el evento que se allegue este documento después del cierre, de acuerdo con lo señalado en el parágrafo 1 del artículo 5 de la Ley 1882 de 2018 no se tendrá en cuenta." | W8: Dias Totales | X8: Meses | Y8: Años totales (en dias)
H10: =IF(H9="","",(I9-H9)+1) | J10: =IF(J9="","",(K9-J9)+1) | L10: =IF(L9="","",(M9-L9)+1) | N10: =IF(N9="","",(O9-N9)+1) | P10: =IF(P9="","",(Q9-P9)+1) | R10: =IF(R9="","",(S9-R9)+1) | T10: =IF(T9="","",(U9-T9)+1) | Y10: =36*30+1 -> 1081
W11: =SUM(H10:U10) -> 0 | X11: =W11/$X$1 -> 0 | Y11: =W11-Y10 -> -1081

Sheet PUNTUABLES
B1: HABILITADO | C1: Número | D1: Nombre del proponente | E1: Criterio de Calidad | K1: Puntaje | L1: TOTAL PUNTOS ASPECTOS DE CALIDAD | M1: Apoyo a la industria nacional Puntaje | N1: Valor Propuesta económica con IVA | O1: Oferta económica PAGINA 47 DEL PLIEGO (TMR XXXXXX DE 22/10/2020) | P1: Puntuación TOTAL | Q1: Orden de elegibilidad evaluación
B2: =HABILITANTES!#REF! -> #REF! | C2: 1 | D2: =HABILITANTES!B4 -> KMP CONSULTING S.A.S. | E2: EXPERIENCIA ADICIONAL ESPECIFICA DEL EQUIPO DE TRABAJO (35 puntos): | F2: MESES ADICIONALES ACREDITADOS (Director de proyecto o el Líder fortalecimiento institucional) | G2: ='EXP ADICIONAL'!X5 -> 39.7 | H2: 10 | I2: 12 meses | K2: =($H$2*J2)+($H$3*J3)+($H$4*J4)+($H$5*J5) -> 35 | L2: =K2+K7 -> 50 | M2: 10 | N2: 3.302032e+08 | O2: 39.72 | P2: =L2+M2+O2 -> 99.72 | Q2: 1 | S2: 10
H3: 20 | I3: 12 meses 1 día hasta 24 meses | S3: 20
H4: 25 | I4: 24 meses 1 día hasta 36 meses | S4: 25
H5: 35 | I5: 36 meses un día en adelante | J5: 1 | S5: 35
E7: HERRAMIENTA INFORMÁTICA (15 PUNTOS): | F7: FORMATO 9 “COMPROMISO DE HERRAMIENTA INFORMATICA" | G7: APORTA | H7: 15 | J7: x | K7: =($H$7*1) -> 15 | S7: 5
B9: =HABILITANTES!#REF! -> #REF! | C9: 2 | D9: =HABILITANTES!B14 -> ÁNGULO & VELANDIA SAS | E9: EXPERIENCIA ADICIONAL ESPECIFICA DEL EQUIPO DE TRABAJO (35 puntos): | F9: MESES ADICIONALES ACREDITADOS (Director de proyecto o el Líder fortalecimiento institucional) | G9: ='EXP ADICIONAL'!X11 -> 0 | H9: 10 | I9: 12 meses | K9: =($H$2*J9)+($H$3*J10)+($H$4*J11)+($H$5*J12) -> 0 | L9: =K9+K14 -> 15 | M9: 10 | N9: 327982921 | O9: 39.86 | P9: =L9+M9+O9 -> 64.86 | Q9: 2 | S9: 10
H10: 20 | I10: 12 meses 1 día hasta 24 meses | S10: 20
H11: 25 | I11: 24 meses 1 día hasta 36 meses | S11: 25
H12: 35 | I12: 36 meses un día en adelante | S12: 35
E14: HERRAMIENTA INFORMÁTICA (15 PUNTOS): | F14: FORMATO 9 “COMPROMISO DE HERRAMIENTA INFORMATICA" | H14: 15 | J14: X | K14: =($H$7*1) -> 15 | S14: 5

Sheet Evaluación Económica
E1: 4222205461
B2: PROPONENTE | D2: Valor techo 2020 | E2: Valor antes de IVA | F2: Valor propuesta económica sin IVA | G2: PUNTAJE | H2: Orden Propuesta económica | I2: Valor propuesta económica | J2: Habilitado / NO habilitado TÉCNICO | L2: Habilitado / NO habilitado JURÍDICO | M2: Habilitado / NO habilitado FINANCIERO
D3: 339054507 | E3: 284919754 | I3: 339054507
B4: 2 | C4: KMP CONSULTING S.A.S. | D4: 3.302032e+08 | E4: 277481680 | F4: 277481680 | G4: =TRUNC(40*(1-(2*(ABS($E$16-F4)/$E$16))),2) -> 39.72 | H4: 2 | L4: ='[1]Resultado de Evaluaciones'!E3 -> 0 | M4: ='[1]Resultado de Evaluaciones'!F3 -> 0
B5: 10 | C5: ANGULO & VELANDIA SAS | D5: 327982921 | E5: =D5-52367021 -> 275615900 | F5: =E5 -> 275615900 | G5: =+TRUNC(40*(1-(($E$16-F5)/$E$16)),2) -> 39.86 | H5: 1 | L5: ='[1]Resultado de Evaluaciones'!#REF! -> #REF! | M5: ='[1]Resultado de Evaluaciones'!#REF! -> #REF!
B6: 3 | C6: =[1]HABILITANTES!#REF! -> #REF! | D6: 1736040000 | E6: 3555050488 | F6: =E6+$E$1 -> 7777255949 | I6: 8452715542 | J6: =[1]HABILITANTES!#REF! -> #REF! | L6: ='[1]Resultado de Evaluaciones'!#REF! -> #REF! | M6: ='[1]Resultado de Evaluaciones'!#REF! -> #REF!
B7: 1 | C7: =[1]HABILITANTES!B4 -> UNION TEMPORAL "TRADENS 2020" | D7: 1710902400 | E7: 3469009839 | F7: =E7+$E$1 -> 7691215300 | I7: 8350327169 | J7: =[1]HABILITANTES!O4 -> NO CUMPLE | L7: ='[1]Resultado de Evaluaciones'!E2 -> 0 | M7: ='[1]Resultado de Evaluaciones'!F2 -> 0
B8: 6 | C8: =[1]HABILITANTES!#REF! -> #REF! | D8: 1743985462 | E8: 3534405767 | F8: =E8+$E$1 -> 7756611228 | I8: 8428148324 | J8: =[1]HABILITANTES!#REF! -> #REF! | L8: ='[1]Resultado de Evaluaciones'!#REF! -> #REF! | M8: ='[1]Resultado de Evaluaciones'!#REF! -> #REF!
B9: 7 | C9: =[1]HABILITANTES!#REF! -> #REF! | D9: 1767959760 | E9: 3586978262 | F9: =E9+$E$1 -> 7809183723 | I9: 8490709592 | J9: =[1]HABILITANTES!#REF! -> #REF! | L9: ='[1]Resultado de Evaluaciones'!#REF! -> #REF! | M9: ='[1]Resultado de Evaluaciones'!#REF! -> #REF!
B10: 8 | C10: =[1]HABILITANTES!#REF! -> #REF! | D10: 1544450758 | E10: 3177812157 | F10: =E10+$E$1 -> 7400017618 | I10: 8003801928 | J10: =[1]HABILITANTES!#REF! -> #REF! | L10: ='[1]Resultado de Evaluaciones'!#REF! -> #REF! | M10: ='[1]Resultado de Evaluaciones'!#REF! -> #REF!
B11: 9 | C11: =[1]HABILITANTES!#REF! -> #REF! | D11: 1459708128 | E11: 2999808432 | F11: =E11+$E$1 -> 7222013893 | I11: 7791977495 | J11: =[1]HABILITANTES!#REF! -> #REF! | L11: ='[1]Resultado de Evaluaciones'!#REF! -> #REF! | M11: ='[1]Resultado de Evaluaciones'!#REF! -> #REF!
B12: 11 | C12: =[1]HABILITANTES!#REF! -> #REF! | D12: 1746901370 | E12: 3547064276 | F12: =E12+$E$1 -> 7769269737 | I12: 8443211949 | J12: =[1]HABILITANTES!#REF! -> #REF! | L12: ='[1]Resultado de Evaluaciones'!#REF! -> #REF! | M12: ='[1]Resultado de Evaluaciones'!#REF! -> #REF!
C14: Tasa Representativa del Mercado (TRM) del día 22/10/2020: $ 3,784.51 Metodología para la puntuación de la Oferta económica: Medía Geométrica
D16: Media Geométrica | E16: =GEOMEAN(E4,E5) -> 2.7654722e+08
