Workbook

Sheet PRESUPUESTO OFICIAL
A1: PRESUPUESTO OFICIAL
A2: MANTENIMIENTO DE INFRAESTRUCTURA EN LAS SEDES PRIORIZADAS DE LA INSTITUCIÓN EDUCATIVA POLICARPA SALAVARRIETA DEL MUNICIPIO DE GIRARDOT - CUNDINAMARCA, EN EL MARCO DEL PROYECTO DE PRIMERA INFANCIA.
A3: SEDE REPUBLICA DE COLOMBIA
A4: SALON JARDIN
B5: ACTIVIDAD | C5: UN | D5: CANT | E5: V/UNITARIO | F5: V/TOTAL
A6: 1 | B6: CIELO RASO
A7: 1.1 | B7: CIELO RASO EN PVC E=8mm | C7: M2 | D7: 61.47 | E7: 84862 | F7: =E7*D7 -> 5216467.1
A8: 1.2 | B8: TUBERIA PVC CONDUIT 1/2" | C8: ML | D8: 20 | E8: 5176 | F8: =E8*D8 -> 103520
A9: 1.3 | B9: PUNTOS ELECTRICOS | C9: UN | D9: 6 | E9: 82937 | F9: =E9*D9 -> 497622
A10: 2 | B10: PINTURA
A11: 2.1 | B11: ESMALTE SOBRE LAMINA LLENA | C11: M2 | D11: 81.58 | E11: 22832 | F11: =E11*D11 -> 1862634.6
A12: 2.2 | B12: PINTURA EN VINILO 2 MANOS | C12: M2 | D12: 122.36 | E12: 11650 | F12: =E12*D12 -> 1425494
A13: 2.3 | B13: ESMALTE SOBRE MARCOS LAMINA | C13: M2 | D13: 9.72 | E13: 8627 | F13: =E13*D13 -> 83854.44
A14: 3 | B14: VIDRIOS
A15: 3.1 | B15: VIDRIO TRANSPARENTE 4 MM | C15: M2 | D15: 10.8 | E15: 63949 | F15: =E15*D15 -> 690649.2
A16: 4 | B16: MANTENIMIENTO DE CUBIERTA
A17: 4.1 | B17: TEJA TERMOACUSTICA | C17: M2 | D17: 61.47 | E17: 30000 | F17: =E17*D17 -> 1844100
E18: COSTO DIRECTO | F18: =F17+F15+F12+F9+F13+F7+F8 -> 9861706.8
A19: ESCUELA PRIMERO DE ENERO
A20: BAÑO
B21: ACTIVIDAD | C21: UN | D21: CANT | E21: V/UNITARIO | F21: V/TOTAL
A22: 1 | B22: PRELIMINARES
A23: 1.1 | B23: DEMOLICION MUROS PARA PUERTA | C23: M2 | D23: 1.7 | E23: 22788 | F23: =E23*D23 -> 38739.6
A24: 1.2 | B24: RETIRO DE ESCOMBROS | C24: M3 | D24: 30 | E24: 17343 | F24: =E24*D24 -> 520290
A25: 2 | B25: INSTALACION BAÑO
A26: 2.1 | B26: SUMINISTRO E INSTALACION SANITARIO PARA NIÑOS | C26: UN | D26: 1 | E26: 673203 | F26: =E26*D26 -> 673203
A27: 2.2 | B27: SUMINISTRO E INSTALACION ORINAL PARA NIÑOS | C27: UN | D27: 1 | E27: 414335 | F27: =E27*D27 -> 414335
A28: 2.3 | B28: LAVAMANOS CORRIDO PARA NIÑOS | C28: UN | D28: 1 | E28: 285990 | F28: =E28*D28 -> 285990
A29: 2.4 | B29: SUMINISTRO E INSTALACION ENCHAPE | C29: M2 | D29: 6.88 | E29: 85437 | F29: =E29*D29 -> 587806.56
A30: 2.5 | B30: ALISTADO IMPERMEABILIZADO PISOS 1:3, E=4 | C30: M2 | D30: 3.45 | E30: 53913 | F30: =E30*D30 -> 185999.85
A31: 3 | B31: PUNTO ELECTRICO
A32: 3.1 | B32: PUNTOS ELECTRICOS | C32: UN | D32: 1 | E32: 82937 | F32: =E32*D32 -> 82937
A33: 4 | B33: PINTURA
A34: 4.1 | B34: PINTURA EN VINILO 2 MANOS | C34: ML | D34: 3.45 | E34: 11650 | F34: =E34*D34 -> 40192.5
E35: COSTO DIRECTO | F35: =+F23+F24+F26+F27+F28+F29+F30+F32+F34 -> 2829493.5
A36: SALON JARDIN
B37: ACTIVIDAD | C37: UN | D37: CANT | E37: V/UNITARIO | F37: V/TOTAL
A38: 1 | B38: NIVELACION PISO
A39: 1.1 | B39: ALISTADO IMPERMEABILIZADO PISOS 1:3, E=4 | C39: M2 | D39: 35.57 | E39: 53913 | F39: =E39*D39 -> 1917685.4
A40: 2 | B40: CIELO RASO
...

Sheet MEMORIA
A1: MEMORIAS CANTIDADES DE OBRA
A3: SEDE REPUBLICA DE COLOMBIA
A4: SALON JARDIN
A5: 1 | B5: CIELO RAZO
B6: Descripción y/o localización planimetrica | C6: Longitud | D6: Base | E6: Altura | F6: Area | G6: Volumen | H6: Cantidad | I6: Unidad | J6: Total
B7: CIELO RAZO EN PVC E=8mm | C7: 9 | D7: 6.83 | I7: M2 | J7: =C7*D7 -> 61.47
B8: TUBERIA PVC CONDUIT 1/2" | C8: 20 | I8: ML | J8: =C8 -> 20
B9: PUNTOS ELECTRICOS | H9: 6 | I9: UN | J9: 6
A10: 2 | B10: PINTURA
B11: Descripción y/o localización planimetrica | C11: Longitud | D11: Base | E11: Altura | F11: Area | G11: Volumen | H11: Cantidad | I11: Unidad | J11: Total
B12: ESMALTE SOBRE LAMINA LLENA | D12: 67.98 | E12: 1.2 | I12: M2 | J12: 81.58
B13: PINTURA EN VINILO 2 MANOS | D13: 67.97 | E13: 1.8 | I13: M2 | J13: 122.36
B14: ESMALTE SOBRE MARCOS LAMINA | D14: 7.6 | E14: 1.2 | I14: M2 | J14: 9.72
A15: 3 | B15: VIDRIOS
B16: Descripción y/o localización planimetrica | C16: Longitud | D16: Base | E16: Altura | F16: Area | G16: Volumen | H16: Cantidad | I16: Unidad | J16: Total
B17: VIDRIO TRANSPARENTE 4 MM | D17: 3.6 | E17: 3 | I17: M2 | J17: 10.8
A18: 4 | B18: MANTENIMIENTO DE CUBIERTA
B19: Descripción y/o localización planimetrica | C19: Longitud | D19: Base | E19: Altura | F19: Area | G19: Volumen | H19: Cantidad | I19: Unidad | J19: Total
B20: TEJA TERMOACUSTICA | C20: 9 | E20: 6.83 | I20: M2 | J20: 61.47
A22: ESUELA PRIMERO DE ENERO
A23: BAÑO
A24: 1 | B24: PRELIMINARES
B25: Descripción y/o localización planimetrica | C25: Longitud | D25: Base | E25: Altura | F25: Area | G25: Volumen | H25: Cantidad | I25: Unidad | J25: Total
B26: DEMOLICION MUROS PARA PUERTA | C26: 1.7 | E26: 1 | I26: M2 | J26: 1.7
B27: RETIRO DE ESCOMBROS | G27: 30 | I27: M3 | J27: 30
A28: 2 | B28: INSTALACION BAÑO
B29: Descripción y/o localización planimetrica | C29: Longitud | D29: Base | E29: Altura | F29: Area | G29: Volumen | H29: Cantidad | I29: Unidad | J29: Total
B30: SUMINISTRO E INSTALACION SANITARIO PARA NIÑOS | H30: 1 | I30: UN | J30: 1
B31: SUMINISTRO E INSTALACION ORINAL PARA NIÑOS | H31: 1 | I31: UN | J31: 1
B32: LAVAMANOS CORRIDO PARA NIÑOS | H32: 1 | I32: UN | J32: 1
B33: SUMINISTRO E INSTALACION ENCHAPE | C33: 5.7 | E33: 1.2 | I33: M2 | J33: 6.88
B34: ALISTADO IMPERMEABILIZADO PISOS 1:3, E=4 | C34: 2.1 | D34: 1.64 | I34: M2 | J34: 3.45
A35: 3 | B35: PUNTO ELECTRICO
B36: Descripción y/o localización planimetrica | C36: Longitud | D36: Base | E36: Altura | F36: Area | G36: Volumen | H36: Cantidad | I36: Unidad | J36: Total
B37: PUNTOS ELECTRICOS | H37: 1 | I37: UN | J37: 1
A38: 4 | B38: PINTURA
B39: Descripción y/o localización planimetrica | C39: Longitud | D39: Base | E39: Altura | F39: Area | G39: Volumen | H39: Cantidad | I39: Unidad | J39: Total
B40: PINTURA EN VINILO 2 MANOS | C40: 1.91 | E40: 1.8 | I40: ML | J40: 3.45
A41: SALON JARDIN
A42: 1 | B42: NIVELACION PISO
...

Sheet APU
A1: SEDE REPUBLICA DE COLOMBIA
A2: SALON JARDIN
A3: 1 | B3: CIELO RASO
C5: CIELO RASO EN PVC e=8 mm (INCLUYE ESTRUCTURA DE APOYO)
C6: I. EQUIPO
C7: DESCRIPCION | E7: UNIDAD | F7: TARIFA | G7: RENDIMIENTO | H7: VALOR UNITARIO
C8: ANDAMIO SECCION | E8: D | F8: 1791 | G8: 2 | H8: 895.5
C9: TALADRO | E9: D | F9: 50120 | G9: 100 | H9: 501.2
C10: HERRAMIENTA MENOR | E10: GL | F10: 1458.47 | G10: 1 | H10: 1458.47
C11: SUB TOTAL | I11: =H10+H9+H8 -> 2855.17
C12: II. MATERIALES EN OBRA
C13: DESCRIPCION | E13: UNIDAD | F13: PRECIO-UNIT. | G13: CANTIDAD | H13: VALOR UNITARIO
C14: CIELO RASO DE PVC e=7 mm | E14: M2 | F14: 26817 | G14: 1.1 | H14: =F14*G14 -> 29498.7
C15: ANGULO CAL. 26 LAMINA GALV. 2,44M | E15: UN | F15: 6199 | G15: 0.45 | H15: =F15*G15 -> 2789.55
C16: CHAZO PLASTICO 1/4 | E16: UN | F16: 161 | G16: 3 | H16: =F16*G16 -> 483
C17: PERNO 1/2 ALT. VEL. 1 3/4" | E17: UN | F17: 896 | G17: 2 | H17: =F17*G17 -> 1792
C18: PERFIL OMEGA METALICO 63MM X 3,05 M | E18: UN | F18: 9137 | G18: 2 | H18: =F18*G18 -> 18274
C19: SUB TOTAL | I19: =H18+H17+H16+H15+H14 -> 52837.25
C20: III. TRANSPORTES
C21: MATERIAL | D21: VOL-PESO Ó CANT | E21: DISTANCIA | F21: M3-KM | G21: TARIFA | H21: VALOR UNITARIO
C22: SUB TOTAL
C23: IV. MANO DE OBRA
C24: TRABAJADOR | D24: JORNAL | E24: PRESTACIONES | F24: JORNAL TOTAL | G24: RENDIMIENTO | H24: VALOR UNITARIO
C25: MANO DE OBRA | D25: 185624 | E25: 2.2 | F25: 408372.8 | G25: 14 | H25: 29169.49
C26: SUB TOTAL | I26: =H25 -> 29169.49
C27: TOTAL COSTO DIRECTO | I27: =I26+I22+I19+I11 -> 84861.91
C29: TUBERIA PVC CONDUIT 1/2"
C30: I. EQUIPO
C31: DESCRIPCION | E31: UNIDAD | F31: TARIFA | G31: RENDIMIENTO | H31: VALOR UNITARIO
C32: SUB TOTAL
C33: II. MATERIALES EN OBRA
C34: DESCRIPCION | E34: UNIDAD | F34: PRECIO-UNIT. | G34: CANTIDAD | H34: VALOR UNITARIO
C35: ADAPTADOR PVC 1/2" CONDUIT | E35: UN | F35: 269 | G35: 0.5 | H35: 134.5
C36: TUBO PVC 1/2" CONDUIT | E36: UN | F36: 3148 | G36: 1.05 | H36: =F36*G36 -> 3305.4
C37: SOLDADURA PVC LIQUIDA 1/4 | E37: UN | F37: 85812 | G37: 0.002 | H37: =F37*G37 -> 171.624
C38: LIMPIADOR PVC 1/4 | E38: UN | F38: 62120 | G38: 0.002 | H38: =F38*G38 -> 124.24
C39: SUB TOTAL | I39: =H38+H37+H36+H35 -> 3735.764
C40: III. TRANSPORTES
C41: MATERIAL | D41: VOL-PESO Ó CANT | E41: DISTANCIA | F41: M3-KM | G41: TARIFA | H41: VALOR UNITARIO
C42: SUB TOTAL
...

Sheet MDO
C2: MANO DE OBRA
C3: PERSONAL | D3: CANT | E3: SALARIO | F3: JORNAL (dÍa)
C4: RESIDENTE DE OBRA | D4: 1 | E4: 4000000 | F4: =E4/30 -> 133333.33
C5: Maestro de Obra | D5: 1 | E5: =+F5*30 -> 3000000 | F5: 100000
C6: Oficial | D6: 1 | E6: =+F6*30 -> 2400000 | F6: 80000
C7: Ayudante | D7: 1 | E7: =+F7*30 -> 1800000 | F7: 60000
C10: Prestaciones | F10: 0.6183

Sheet AIU
B1: CALCULO DEL AIU
B2: CONCEPTO | D2: V.M./CON PRESTACIONES | E2: DEDICACIÓN | F2: DURACIÓN DE LA OBRA (Meses) | G2: V. PARCIAL | H2: %
B3: COSTO DIRECTO | H3: =+'PRESUPUESTO OFICIAL'!F59 -> 27676666
B4: ADMINISTRACIÓN
B5: SALARIOS PERSONAL DE OBRA | G5: =+G6+G7 -> 2333333.3 | H5: =+G5/H3 -> 0.084306879
B6: 1 | C6: RESIDENTE DE OBRA | D6: 4000000 | E6: 1 | F6: 3 | G6: =+(D6*E6)/F6 -> 1333333.3
B7: 2 | C7: Jefe de Cuadrilla (Maestro de Obra) | D7: 3000000 | E7: 1 | F7: 3 | G7: =+(D7*E7)/F7 -> 1000000
B8: COSTOS INDIRECTOS
B9: GASTOS DE LEGALIZACIÓN E IMPUESTOS | G9: =+SUM(G10:G13) -> 2490900 | H9: =+G9/H3 -> 0.09
B10: Impuesto de seguridad democratica | D10: =+H3 -> 27676666 | F10: 0.05 | G10: =+D10*F10 -> 1383833.3
B11: Poliza Unica de Cumplimiento | D11: =+H3 -> 27676666 | F11: 0.01 | G11: =+D11*F11 -> 276766.66
B12: Retefuente | D12: =+H3 -> 27676666 | F12: 0.02 | G12: =+D12*F12 -> 553533.32
B13: ICA | D13: =+H3 -> 27676666 | F13: 0.01 | G13: =+D13*F13 -> 276766.66
B14: A | C14: ADMINISTRACIÓN | H14: =+H9+H5 -> 0.17430688
B15: I | C15: IMPREVISTOS | H15: 0.01
B16: U | C16: UTILIDAD | H16: 0.05
B17: AIU | H17: =+H14+H15+H16 -> 0.23430688

Sheet PROGRAMACIÓN
A1: PROGRAMA DE ACTIVIDADES
A3: CRONOGRAMA INICIAL
B4: Resumen | C4: MES 1 | K4: MES 2 | S4: MES 3
A5: Item | C5: S1 | E5: S2 | G5: S3 | I5: S4 | K5: S1 | M5: S2 | O5: S3 | Q5: S4 | S5: S1 | U5: S2 | W5: S3 | Y5: S4
A6: SEDE REPUBLICA DE COLOMBIA
A7: SALON JARDIN
A8: 1 | B8: CIELO RAZO
B9: CIELO RAZO EN PVC E=8mm
B10: TUBERIA PVC CONDUIT 1/2"
B11: PUNTOS ELECTRICOS
A12: 2 | B12: PINTURA
B13: PINTURA DE ACEITE AZUL
B14: PINTURA EN VINILO 2 MANOS
B15: PINTURA PUERTAS Y VENTANAS
A16: 3 | B16: VIDRIOS
B17: VIDRIO TRANSPARENTE 4 MM
A18: 4 | B18: MANTENIMIENTO DE CUBIERTA
B19: TEJA TERMOACUSTICA
A20: ESCUELA PRIMERO DE ENERO
A21: BAÑO
A22: 1 | B22: PRELIMINARES
B23: DEMOLICION MUROS PARA PUERTA
B24: RETIRO DE ESCOMBROS
A25: 2 | B25: INSTALACION BAÑO
B26: SUMINISTRO E INSTALACION SANITARIO PARA NIÑOS
B27: SUMINISTRO E INSTALACION ORINAL PARA NIÑOS
B28: LAVAMANOS CORRIDO PARA NIÑOS
B29: SUMINISTRO E INSTALACION ENCHAPE
B30: ALISTADO IMPERMEABILIZADO PISOS 1:3, E=4
A31: 3 | B31: PUNTO ELECTRICO
B32: TUBERIA PVC CONDUIT 1/2"
B33: PUNTOS ELECTRICOS
A34: 4 | B34: PINTURA
B35: PINTURA EN VINILO 2 MANOS
A36: SALON JARDIN
A37: 1 | B37: NIVELACION PISO
B38: ALISTADO IMPERMEABILIZADO PISOS 1:3, E=4
A39: 2 | B39: CIELO RAZO
B40: CIELO RAZO EN PVC E=8mm
B41: PUNTOS ELECTRICOS
...

Sheet ANEXO 5 -OFERTA ECONÓMICA
A1: ANEXO 5 OFERTA ECONOMICA
A2: MANTENIMIENTO DE INFRAESTRUCTURA EN LAS SEDES PRIORIZADAS DE LA INSTITUCIÓN EDUCATIVA POLICARPA SALAVARRIETA DEL MUNICIPIO DE GIRARDOT - CUNDINAMARCA, EN EL MARCO DEL PROYECTO DE PRIMERA INFANCIA.
A3: SEDE REPUBLICA DE COLOMBIA
A4: SALON JARDIN
B5: ACTIVIDAD | C5: UN | D5: CANT | E5: V/UNITARIO | F5: V/TOTAL
A6: 1 | B6: CIELO RASO
A7: 1.1 | B7: CIELO RASO EN PVC E=8mm | C7: M2 | D7: 61.47
A8: 1.2 | B8: TUBERIA PVC CONDUIT 1/2" | C8: ML | D8: 20
A9: 1.3 | B9: PUNTOS ELECTRICOS | C9: UN | D9: 6
A10: 2 | B10: PINTURA
A11: 2.1 | B11: ESMALTE SOBRE LAMINA LLENA | C11: M2 | D11: 81.58
A12: 2.2 | B12: PINTURA EN VINILO 2 MANOS | C12: M2 | D12: 122.36
A13: 2.3 | B13: ESMALTE SOBRE MARCOS LAMINA | C13: M2 | D13: 9.72
A14: 3 | B14: VIDRIOS
A15: 3.1 | B15: VIDRIO TRANSPARENTE 4 MM | C15: M2 | D15: 10.8
A16: 4 | B16: MANTENIMIENTO DE CUBIERTA
A17: 4.1 | B17: TEJA TERMOACUSTICA | C17: M2 | D17: 61.47
E18: COSTO DIRECTO
A19: ESCUELA PRIMERO DE ENERO
A20: BAÑO
B21: ACTIVIDAD | C21: UN | D21: CANT | E21: V/UNITARIO | F21: V/TOTAL
A22: 1 | B22: PRELIMINARES
A23: 1.1 | B23: DEMOLICION MUROS PARA PUERTA | C23: M2 | D23: 1.7
A24: 1.2 | B24: RETIRO DE ESCOMBROS | C24: M3 | D24: 30
A25: 2 | B25: INSTALACION BAÑO
A26: 2.1 | B26: SUMINISTRO E INSTALACION SANITARIO PARA NIÑOS | C26: UN | D26: 1
A27: 2.2 | B27: SUMINISTRO E INSTALACION ORINAL PARA NIÑOS | C27: UN | D27: 1
A28: 2.3 | B28: LAVAMANOS CORRIDO PARA NIÑOS | C28: UN | D28: 1
A29: 2.4 | B29: SUMINISTRO E INSTALACION ENCHAPE | C29: M2 | D29: 6.88
A30: 2.5 | B30: ALISTADO IMPERMEABILIZADO PISOS 1:3, E=4 | C30: M2 | D30: 3.45
A31: 3 | B31: PUNTO ELECTRICO
A32: 3.1 | B32: PUNTOS ELECTRICOS | C32: UN | D32: 1
A33: 4 | B33: PINTURA
A34: 4.1 | B34: PINTURA EN VINILO 2 MANOS | C34: ML | D34: 3.45
E35: COSTO DIRECTO
A36: SALON JARDIN
B37: ACTIVIDAD | C37: UN | D37: CANT | E37: V/UNITARIO | F37: V/TOTAL
A38: 1 | B38: NIVELACION PISO
A39: 1.1 | B39: ALISTADO IMPERMEABILIZADO PISOS 1:3, E=4 | C39: M2 | D39: 35.57
A40: 2 | B40: CIELO RASO
...
