Workbook

Sheet DATOS CONSOLIDADOS
A1: TÉCNICO | B1: FECHA | C1: ORDENACIÓN ALFABÉTICA KARDEX | D1: C.C.ORDENACIÓN ALFABÉTICA KARDEX | E1: REGISTOS FUID KARDEX | F1: C.C.REGISTOS FUID KARDEX | G1: ACTUALIZACIÓN FUID CARPETAS | H1: CC ACTUALIZACIÓN FUID CARPETAS | I1: OTRAS ACTIVIDADES (HORAS) | J1: NO ASISTIÓ (HORAS) | K1: OTRAS ACTIVIDADES (DÍAS) | L1: NO ASISTIÓ (DÍAS) | M1: OBSERVACIONES
A2: DANIELA DUARTE TRIANA | B2: {=+'DANIELA DUARTE TRIANA'!A5:L119} -> 45908 | C2: 0 | D2: 0 | E2: 0 | F2: 0 | G2: 0 | H2: 0 | I2: 8 | J2: 0 | K2: 1 | L2: 0 | M2: Revisión de ajustes FAC MinDef 1 Alistamiento logístico espacio de trabajo Asistencia reunión elaboración Ficha Técnica
A3: DANIELA DUARTE TRIANA | B3: 45909 | C3: 0 | D3: 0 | E3: 0 | F3: 0 | G3: 0 | H3: 0 | I3: 8 | J3: 0 | K3: 1 | L3: 0 | M3: Traslado gavetas Kardex para diagnóstico de inventario y tiempo.
A4: DANIELA DUARTE TRIANA | B4: 45910 | C4: 0 | D4: 0 | E4: 0 | F4: 0 | G4: 0 | H4: 0 | I4: 8 | J4: 0 | K4: 1 | L4: 0 | M4: Ajustes HC MinDef 1 trabajo en casa debido a falta de red en la sede MinDef
A5: DANIELA DUARTE TRIANA | B5: 45911 | C5: 0 | D5: 0 | E5: 0 | F5: 0 | G5: 0 | H5: 0 | I5: 8 | J5: 0 | K5: 1 | L5: 0 | M5: Ejercicio de ordenación alfabética tarjetas Kardex. Prueba metodología
A6: DANIELA DUARTE TRIANA | B6: 45912 | C6: 0 | D6: 0 | E6: 0 | F6: 0 | G6: 0 | H6: 0 | I6: 8 | J6: 0 | K6: 1 | L6: 0 | M6: Ejercicio de ordenación alfabética tarjetas Kardex. Prueba metodología SE ENCUENTRA AL DIA AL 12-09-2025
A7: DANIELA DUARTE TRIANA | B7: 45913 | C7: 0 | D7: 0 | E7: 0 | F7: 0 | G7: 0 | H7: 0 | I7: 0 | J7: 0 | K7: 0 | L7: 0 | M7: 0
A8: DANIELA DUARTE TRIANA | B8: 45914 | C8: 0 | D8: 0 | E8: 0 | F8: 0 | G8: 0 | H8: 0 | I8: 0 | J8: 0 | K8: 0 | L8: 0 | M8: 0
A9: DANIELA DUARTE TRIANA | B9: 45915 | C9: 0 | D9: 0 | E9: 0 | F9: 0 | G9: 0 | H9: 0 | I9: 8 | J9: 0 | K9: 1 | L9: 0 | M9: Reuniòn AGN Subdirecciòn
A10: DANIELA DUARTE TRIANA | B10: 45916 | C10: 1 | D10: 0 | E10: 0 | F10: 0 | G10: 0 | H10: 0 | I10: 8 | J10: 0 | K10: 1 | L10: 0 | M10: Gaveta 5
A11: DANIELA DUARTE TRIANA | B11: 45917 | C11: 1 | D11: 0 | E11: 0 | F11: 0 | G11: 0 | H11: 0 | I11: 8 | J11: 0 | K11: 1 | L11: 0 | M11: Gaveta 21
A12: DANIELA DUARTE TRIANA | B12: 45918 | C12: 1 | D12: 0 | E12: 0 | F12: 0 | G12: 0 | H12: 0 | I12: 8 | J12: 0 | K12: 1 | L12: 0 | M12: Apoyo logìstico MinDef (Rotulaciòn) Gaveta 22
A13: DANIELA DUARTE TRIANA | B13: 45919 | C13: 0 | D13: 0 | E13: 0 | F13: 0 | G13: 0 | H13: 0 | I13: 8 | J13: 0 | K13: 1 | L13: 0 | M13: Apoyo logìstico MinDef (Rotulaciòn)
A14: DANIELA DUARTE TRIANA | B14: 45920 | C14: 0 | D14: 0 | E14: 0 | F14: 0 | G14: 0 | H14: 0 | I14: 0 | J14: 0 | K14: 0 | L14: 0 | M14: 0
A15: DANIELA DUARTE TRIANA | B15: 45921 | C15: 0 | D15: 0 | E15: 0 | F15: 0 | G15: 0 | H15: 0 | I15: 0 | J15: 0 | K15: 0 | L15: 0 | M15: 0
A16: DANIELA DUARTE TRIANA | B16: 45922 | C16: 1 | D16: 0 | E16: 0 | F16: 0 | G16: 0 | H16: 0 | I16: 8 | J16: 0 | K16: 1 | L16: 0 | M16: Gaveta 35
A17: DANIELA DUARTE TRIANA | B17: 45923 | C17: 1 | D17: 0 | E17: 0 | F17: 0 | G17: 0 | H17: 0 | I17: 8 | J17: 0 | K17: 1 | L17: 0 | M17: Apoyo calidad Ordenaciòn Gaveta 36 SE ENCUENTRA AL DIA AL 23/09/2025
A18: DANIELA DUARTE TRIANA | B18: 45924 | C18: 0 | D18: 0 | E18: 54 | F18: 0 | G18: 0 | H18: 0 | I18: 8 | J18: 0 | K18: 1 | L18: 0 | M18: REUNIÓN GRUPO SUBDIRECCÓN CONTROL CALIDAD ORDENACÓN KARDEX UNIFICACIÓN GAVETAS FUID KARDEX
A19: DANIELA DUARTE TRIANA | B19: 45925 | C19: 0 | D19: 0 | E19: 270 | F19: 0 | G19: 0 | H19: 0 | I19: 0 | J19: 0 | K19: 0 | L19: 0 | M19: FUID KARDEX
A20: DANIELA DUARTE TRIANA | B20: 45926 | C20: 0 | D20: 0 | E20: 202 | F20: 0 | G20: 0 | H20: 0 | I20: 0 | J20: 0 | K20: 0 | L20: 0 | M20: REUNIÓN GRUPO SUBDIRECCÓN CONTROL CALIDAD ORDENACÓN KARDEX UNIFICACIÓN GAVETAS FUID KARDEX
A21: DANIELA DUARTE TRIANA | B21: 45927 | C21: 0 | D21: 0 | E21: 0 | F21: 0 | G21: 0 | H21: 0 | I21: 0 | J21: 0 | K21: 0 | L21: 0 | M21: 0
A22: DANIELA DUARTE TRIANA | B22: 45928 | C22: 0 | D22: 0 | E22: 0 | F22: 0 | G22: 0 | H22: 0 | I22: 0 | J22: 0 | K22: 0 | L22: 0 | M22: 0
A23: DANIELA DUARTE TRIANA | B23: 45929 | C23: 0 | D23: 0 | E23: 0 | F23: 0 | G23: 0 | H23: 0 | I23: 0 | J23: 8 | K23: 0 | L23: 1 | M23: 0
A24: DANIELA DUARTE TRIANA | B24: 45930 | C24: 0 | D24: 0 | E24: 280 | F24: 0 | G24: 0 | H24: 0 | I24: 0 | J24: 0 | K24: 0 | L24: 0 | M24: FUID KARDEX
A25: DANIELA DUARTE TRIANA | B25: 45931 | C25: 0 | D25: 0 | E25: 100 | F25: 0 | G25: 0 | H25: 0 | I25: 0 | J25: 0 | K25: 0 | L25: 0 | M25: REUNIÓN GRUPO DE TRABAJO FUID KARDEZX APOYO CALIDAD ORDENACIÓN UNIFICACIÓN GAVETAS APELLIDOS
A26: DANIELA DUARTE TRIANA | B26: 45932 | C26: 0 | D26: 0 | E26: 200 | F26: 0 | G26: 0 | H26: 0 | I26: 0 | J26: 0 | K26: 0 | L26: 0 | M26: REUNIÓN GRUPO DE TRABAJO FUID KARDEZX APOYO CALIDAD ORDENACIÓN UNIFICACIÓN GAVETAS APELLIDOS
A27: DANIELA DUARTE TRIANA | B27: 45933 | C27: 0 | D27: 0 | E27: 300 | F27: 0 | G27: 0 | H27: 0 | I27: 0 | J27: 0 | K27: 0 | L27: 0 | M27: FUID KARDEX
A28: DANIELA DUARTE TRIANA | B28: 45934 | C28: 0 | D28: 0 | E28: 0 | F28: 0 | G28: 0 | H28: 0 | I28: 0 | J28: 0 | K28: 0 | L28: 0 | M28: 0
A29: DANIELA DUARTE TRIANA | B29: 45935 | C29: 0 | D29: 0 | E29: 0 | F29: 0 | G29: 0 | H29: 0 | I29: 0 | J29: 0 | K29: 0 | L29: 0 | M29: 0
A30: DANIELA DUARTE TRIANA | B30: 45936 | C30: 0 | D30: 0 | E30: 0 | F30: 0 | G30: 0 | H30: 0 | I30: 8 | J30: 0 | K30: 1 | L30: 0 | M30: INDUCCIÓN A TÉCNICOS NUEVOS
A31: DANIELA DUARTE TRIANA | B31: 45937 | C31: 0 | D31: 0 | E31: 0 | F31: 0 | G31: 0 | H31: 0 | I31: 8 | J31: 0 | K31: 1 | L31: 0 | M31: INDUCCIÓN A TÉCNICOS NUEVOS APOYO CALIDAD ORDENACIÓN UNIFICACIÓN GAVETAS APELLIDOS
A32: DANIELA DUARTE TRIANA | B32: 45938 | C32: 0 | D32: 0 | E32: 303 | F32: 0 | G32: 0 | H32: 0 | I32: 0 | J32: 0 | K32: 0 | L32: 0 | M32: FUID KARDEX
A33: DANIELA DUARTE TRIANA | B33: 45939 | C33: 0 | D33: 0 | E33: 208 | F33: 0 | G33: 0 | H33: 0 | I33: 4 | J33: 0 | K33: 0.5 | L33: 0 | M33: INDUCCIÓN A TÉCNICOS NUEVOS APOYO CALIDAD ORDENACIÓN UNIFICACIÓN GAVETAS APELLIDOS
A34: DANIELA DUARTE TRIANA | B34: 45940 | C34: 0 | D34: 0 | E34: 111 | F34: 0 | G34: 0 | H34: 0 | I34: 6 | J34: 0 | K34: 0.75 | L34: 0 | M34: INDUCCIÓN A TÉCNICOS NUEVOS APOYO CALIDAD ORDENACIÓN UNIFICACIÓN GAVETAS APELLIDOS
A35: DANIELA DUARTE TRIANA | B35: 45941 | C35: 0 | D35: 0 | E35: 0 | F35: 0 | G35: 0 | H35: 0 | I35: 0 | J35: 0 | K35: 0 | L35: 0 | M35: 0
A36: DANIELA DUARTE TRIANA | B36: 45942 | C36: 0 | D36: 0 | E36: 0 | F36: 0 | G36: 0 | H36: 0 | I36: 0 | J36: 0 | K36: 0 | L36: 0 | M36: 0
A37: DANIELA DUARTE TRIANA | B37: 45943 | C37: 0 | D37: 0 | E37: 0 | F37: 0 | G37: 0 | H37: 0 | I37: 8 | J37: 0 | K37: 1 | L37: 0 | M37: INDUCCIÓN A TÉCNICOS NUEVOS APOYO CALIDAD ORDENACIÓN UNIFICACIÓN GAVETAS APELLIDOS
A38: DANIELA DUARTE TRIANA | B38: 45944 | C38: 0 | D38: 0 | E38: 0 | F38: 0 | G38: 0 | H38: 0 | I38: 8 | J38: 0 | K38: 1 | L38: 0 | M38: INDUCCIÓN A TÉCNICOS NUEVOS APOYO CALIDAD ORDENACIÓN REUNIÓN GRUPO DE TRABAJO APOYO CALIDAD ORDENACIÓN UNIFICACIÓN GAVETAS APELLIDOS
A39: DANIELA DUARTE TRIANA | B39: 45945 | C39: 0 | D39: 0 | E39: 0 | F39: 0 | G39: 0 | H39: 0 | I39: 8 | J39: 0 | K39: 1 | L39: 0 | M39: APOYO CALIDAD ORDENACIÓN UNIFICACIÓN GAVETAS APELLIDOS PRUEBAS FUID CARPETAS
A40: DANIELA DUARTE TRIANA | B40: 45946 | C40: 0 | D40: 0 | E40: 0 | F40: 0 | G40: 0 | H40: 0 | I40: 8 | J40: 0 | K40: 1 | L40: 0 | M40: APOYO CALIDAD ORDENACIÓN UNIFICACIÓN GAVETAS APELLIDOS PRUEBAS FUID CARPETAS
A41: DANIELA DUARTE TRIANA | B41: 45947 | C41: 0 | D41: 0 | E41: 0 | F41: 0 | G41: 0 | H41: 0 | I41: 8 | J41: 0 | K41: 1 | L41: 0 | M41: APOYO CALIDAD ORDENACIÓN UNIFICACIÓN GAVETAS APELLIDOS PRUEBAS FUID CARPETAS
A42: DANIELA DUARTE TRIANA | B42: 45948 | C42: 0 | D42: 0 | E42: 0 | F42: 0 | G42: 0 | H42: 0 | I42: 0 | J42: 0 | K42: 0 | L42: 0 | M42: 0
A43: DANIELA DUARTE TRIANA | B43: 45949 | C43: 0 | D43: 0 | E43: 0 | F43: 0 | G43: 0 | H43: 0 | I43: 0 | J43: 0 | K43: 0 | L43: 0 | M43: 0
A44: DANIELA DUARTE TRIANA | B44: 45950 | C44: 0 | D44: 0 | E44: 0 | F44: 0 | G44: 0 | H44: 0 | I44: 8 | J44: 0 | K44: 1 | L44: 0 | M44: APOYO CALIDAD ORDENACIÓN UNIFICACIÓN GAVETAS APELLIDOS PRUEBAS FUID CARPETAS
A45: DANIELA DUARTE TRIANA | B45: 45951 | C45: 0 | D45: 0 | E45: 0 | F45: 0 | G45: 355 | H45: 0 | I45: 0 | J45: 0 | K45: 0 | L45: 0 | M45: ACTUALIZACIÓN FUID CARPETAS
A46: DANIELA DUARTE TRIANA | B46: 45952 | C46: 0 | D46: 0 | E46: 0 | F46: 0 | G46: 0 | H46: 0 | I46: 8 | J46: 0 | K46: 1 | L46: 0 | M46: APOYO LOGISTICO ASIGNACION DE TRABAJO EN LOS DIFERENTES PROCESOS APOYO EN PROCESOS DE INDUCCION APOYO ADMINSITRATIVO
A47: DANIELA DUARTE TRIANA | B47: 45953 | C47: 0 | D47: 0 | E47: 0 | F47: 0 | G47: 216 | H47: 0 | I47: 0 | J47: 0 | K47: 0 | L47: 0 | M47: APOYO LOGISTICO ASIGNACION DE TRABAJO EN LOS DIFERENTES PROCESOS APOYO EN PROCESOS DE INDUCCION APOYO ADMINSITRATIVO ACTUALIZACIÓN FUID CARPETAS
A48: DANIELA DUARTE TRIANA | B48: 45954 | C48: 0 | D48: 0 | E48: 0 | F48: 0 | G48: 0 | H48: 0 | I48: 8 | J48: 0 | K48: 1 | L48: 0 | M48: APOYO DEFINICIÓN PROCESO ACTUALIZACIÓN FUID CARPETAS
A49: DANIELA DUARTE TRIANA | B49: 45955 | C49: 0 | D49: 0 | E49: 0 | F49: 0 | G49: 0 | H49: 0 | I49: 0 | J49: 0 | K49: 0 | L49: 0 | M49: 0
A50: DANIELA DUARTE TRIANA | B50: 45956 | C50: 0 | D50: 0 | E50: 0 | F50: 0 | G50: 0 | H50: 0 | I50: 0 | J50: 0 | K50: 0 | L50: 0 | M50: 0
A51: DANIELA DUARTE TRIANA | B51: 45957 | C51: 0 | D51: 0 | E51: 0 | F51: 0 | G51: 0 | H51: 0 | I51: 0 | J51: 8 | K51: 0 | L51: 1 | M51: 0
A52: DANIELA DUARTE TRIANA | B52: 45958 | C52: 0 | D52: 0 | E52: 0 | F52: 0 | G52: 0 | H52: 0 | I52: 0 | J52: 0 | K52: 0 | L52: 0 | M52: 0
A53: DANIELA DUARTE TRIANA | B53: 45959 | C53: 0 | D53: 0 | E53: 0 | F53: 0 | G53: 0 | H53: 0 | I53: 0 | J53: 0 | K53: 0 | L53: 0 | M53: 0
A54: DANIELA DUARTE TRIANA | B54: 45960 | C54: 0 | D54: 0 | E54: 0 | F54: 0 | G54: 0 | H54: 0 | I54: 0 | J54: 0 | K54: 0 | L54: 0 | M54: 0
A55: DANIELA DUARTE TRIANA | B55: 45961 | C55: 0 | D55: 0 | E55: 0 | F55: 0 | G55: 0 | H55: 0 | I55: 0 | J55: 0 | K55: 0 | L55: 0 | M55: 0
A56: DANIELA DUARTE TRIANA | B56: 45962 | C56: 0 | D56: 0 | E56: 0 | F56: 0 | G56: 0 | H56: 0 | I56: 0 | J56: 0 | K56: 0 | L56: 0 | M56: 0
A57: DANIELA DUARTE TRIANA | B57: 45963 | C57: 0 | D57: 0 | E57: 0 | F57: 0 | G57: 0 | H57: 0 | I57: 0 | J57: 0 | K57: 0 | L57: 0 | M57: 0
A58: DANIELA DUARTE TRIANA | B58: 45964 | C58: 0 | D58: 0 | E58: 0 | F58: 0 | G58: 0 | H58: 0 | I58: 0 | J58: 0 | K58: 0 | L58: 0 | M58: 0
A59: DANIELA DUARTE TRIANA | B59: 45965 | C59: 0 | D59: 0 | E59: 0 | F59: 0 | G59: 0 | H59: 0 | I59: 0 | J59: 0 | K59: 0 | L59: 0 | M59: 0
A60: DANIELA DUARTE TRIANA | B60: 45966 | C60: 0 | D60: 0 | E60: 0 | F60: 0 | G60: 0 | H60: 0 | I60: 0 | J60: 0 | K60: 0 | L60: 0 | M60: 0
... A116: DANIELA DUARTE TRIANA | B116: 46022 | C116: 0 | D116: 0 | E116: 0 | F116: 0 | G116: 0 | H116: 0 | I116: 0 | J116: 0 | K116: 0 | L116: 0 | M116: 0
A117: SANDRA PATRICIA BARRETO SANCHE | B117: {=+'SANDRA PATRICIA BARRETO SANCHE'!A5:L119} -> 45908 | C117: 0 | D117: 0 | E117: 0 | F117: 0 | G117: 0 | H117: 0 | I117: 8 | J117: 0 | K117: 1 | L117: 0 | M117: Apoyo logístico, alistamiento de espacios, ´puestos y equipos de trabajo
A118: SANDRA PATRICIA BARRETO SANCHE | B118: 45909 | C118: 0 | D118: 0 | E118: 0 | F118: 0 | G118: 0 | H118: 0 | I118: 8 | J118: 0 | K118: 1 | L118: 0 | M118: Rececpión de tarjetas kardex Soldados, reconocimiento de la información, pruebas registros de iinventario
A119: SANDRA PATRICIA BARRETO SANCHE | B119: 45910 | C119: 0 | D119: 0 | E119: 0 | F119: 0 | G119: 0 | H119: 0 | I119: 8 | J119: 0 | K119: 1 | L119: 0 | M119: Ajustes rótulos MinDef 1 Mind Def Reproceso Ent 1 y Ejército Ent 3 Trabajo en casa por falta de red en sede
A120: SANDRA PATRICIA BARRETO SANCHE | B120: 45911 | C120: 0 | D120: 0 | E120: 0 | F120: 0 | G120: 0 | H120: 0 | I120: 8 | J120: 0 | K120: 1 | L120: 0 | M120: Prueba metodología ordenación Sistema Alfabético Kardex
A121: SANDRA PATRICIA BARRETO SANCHE | B121: 45912 | C121: 0 | D121: 0 | E121: 0 | F121: 0 | G121: 0 | H121: 0 | I121: 8 | J121: 0 | K121: 1 | L121: 0 | M121: Prueba metodología ordenación Sistema Alfabético Kardex traslado de documentación Kardex a lugar de trabajo SE ENCUENTRA AL DIA AL 12 -09-2025
A122: SANDRA PATRICIA BARRETO SANCHE | B122: 45913 | C122: 0 | D122: 0 | E122: 0 | F122: 0 | G122: 0 | H122: 0 | I122: 0 | J122: 0 | K122: 0 | L122: 0 | M122: 0
A123: SANDRA PATRICIA BARRETO SANCHE | B123: 45914 | C123: 0 | D123: 0 | E123: 0 | F123: 0 | G123: 0 | H123: 0 | I123: 0 | J123: 0 | K123: 0 | L123: 0 | M123: 0
A124: SANDRA PATRICIA BARRETO SANCHE | B124: 45915 | C124: 1 | D124: 0 | E124: 0 | F124: 0 | G124: 0 | H124: 0 | I124: 0 | J124: 0 | K124: 0 | L124: 0 | M124: Gaveta 7 Reuniòn AGN Subdirecciòn
A125: SANDRA PATRICIA BARRETO SANCHE | B125: 45916 | C125: 0 | D125: 0 | E125: 0 | F125: 0 | G125: 0 | H125: 0 | I125: 8 | J125: 0 | K125: 1 | L125: 0 | M125: Correcciòn ròtulos MinDef
A126: SANDRA PATRICIA BARRETO SANCHE | B126: 45917 | C126: 0 | D126: 0 | E126: 0 | F126: 0 | G126: 0 | H126: 0 | I126: 8 | J126: 0 | K126: 1 | L126: 0 | M126: Correcciòn ròtulos MinDef e inicio Gaveta 9 ordenaciòn
A127: SANDRA PATRICIA BARRETO SANCHE | B127: 45918 | C127: 1 | D127: 0 | E127: 0 | F127: 0 | G127: 0 | H127: 0 | I127: 4 | J127: 0 | K127: 0.5 | L127: 0 | M127: Inserciònes de HC y Ròtulos Gaveta 9
A128: SANDRA PATRICIA BARRETO SANCHE | B128: 45919 | C128: 0 | D128: 0 | E128: 0 | F128: 0 | G128: 0 | H128: 0 | I128: 0 | J128: 8 | K128: 0 | L128: 1 | M128: NO ASISTIO
A129: SANDRA PATRICIA BARRETO SANCHE | B129: 45920 | C129: 0 | D129: 0 | E129: 0 | F129: 0 | G129: 0 | H129: 0 | I129: 0 | J129: 0 | K129: 0 | L129: 0 | M129: 0
A130: SANDRA PATRICIA BARRETO SANCHE | B130: 45921 | C130: 0 | D130: 0 | E130: 0 | F130: 0 | G130: 0 | H130: 0 | I130: 0 | J130: 0 | K130: 0 | L130: 0 | M130: 0
A131: SANDRA PATRICIA BARRETO SANCHE | B131: 45922 | C131: 0 | D131: 0 | E131: 0 | F131: 0 | G131: 0 | H131: 0 | I131: 0 | J131: 0 | K131: 0 | L131: 0 | M131: 0
A132: SANDRA PATRICIA BARRETO SANCHE | B132: 45923 | C132: 0 | D132: 6 | E132: 0 | F132: 0 | G132: 0 | H132: 0 | I132: 0 | J132: 0 | K132: 0 | L132: 0 | M132: Gavetas 1 a 6 SE ENCUENTRA AL DÌA AL 23 DE SEPTIEMBRE DE 2025
A133: SANDRA PATRICIA BARRETO SANCHE | B133: 45924 | C133: 0 | D133: 0 | E133: 0 | F133: 0 | G133: 0 | H133: 0 | I133: 8 | J133: 0 | K133: 1 | L133: 0 | M133: APOYO LOGISTICO ASIGNACION DE TRABAJO EN LOS DIFERENTES PROCESOS APOYO EN PROCESOS DE INDUCCION APOYO ADMINSITRATIVO
A134: SANDRA PATRICIA BARRETO SANCHE | B134: 45925 | C134: 0 | D134: 6 | E134: 0 | F134: 0 | G134: 0 | H134: 0 | I134: 0 | J134: 0 | K134: 0 | L134: 0 | M134: GAVETA 7 A 12 APOYO LOGISTICO ASIGNACION DE TRABAJO EN LOS DIFERENTES PROCESOS APOYO EN PROCESOS DE INDUCCION APOYO ADMINSITRATIVO
A135: SANDRA PATRICIA BARRETO SANCHE | B135: 45926 | C135: 0 | D135: 0 | E135: 0 | F135: 0 | G135: 0 | H135: 0 | I135: 8 | J135: 0 | K135: 1 | L135: 0 | M135: APOYO LOGISTICO ASIGNACION DE TRABAJO EN LOS DIFERENTES PROCESOS APOYO EN PROCESOS DE INDUCCION APOYO ADMINSITRATIVO
A136: SANDRA PATRICIA BARRETO SANCHE | B136: 45927 | C136: 0 | D136: 0 | E136: 0 | F136: 0 | G136: 0 | H136: 0 | I136: 0 | J136: 0 | K136: 0 | L136: 0 | M136: 0
A137: SANDRA PATRICIA BARRETO SANCHE | B137: 45928 | C137: 0 | D137: 0 | E137: 0 | F137: 0 | G137: 0 | H137: 0 | I137: 0 | J137: 0 | K137: 0 | L137: 0 | M137: 0
A138: SANDRA PATRICIA BARRETO SANCHE | B138: 45929 | C138: 0 | D138: 10 | E138: 0 | F138: 0 | G138: 0 | H138: 0 | I138: 8 | J138: 0 | K138: 1 | L138: 0 | M138: GAVETA 13 A 22 APOYO LOGISTICO ASIGNACION DE TRABAJO EN LOS DIFERENTES PROCESOS APOYO EN PROCESOS DE INDUCCION APOYO ADMINSITRATIVO
A139: SANDRA PATRICIA BARRETO SANCHE | B139: 45930 | C139: 0 | D139: 6 | E139: 0 | F139: 0 | G139: 0 | H139: 0 | I139: 8 | J139: 0 | K139: 1 | L139: 0 | M139: GAVETA 23 A 28 APOYO LOGISTICO ASIGNACION DE TRABAJO EN LOS DIFERENTES PROCESOS APOYO EN PROCESOS DE INDUCCION APOYO ADMINSITRATIVO
A140: SANDRA PATRICIA BARRETO SANCHE | B140: 45931 | C140: 0 | D140: 4 | E140: 0 | F140: 0 | G140: 0 | H140: 0 | I140: 8 | J140: 0 | K140: 1 | L140: 0 | M140: GAVETA 29 A 32 APOYO LOGISTICO ASIGNACION DE TRABAJO EN LOS DIFERENTES PROCESOS APOYO EN PROCESOS DE INDUCCION APOYO ADMINSITRATIVO
A141: SANDRA PATRICIA BARRETO SANCHE | B141: 45932 | C141: 0 | D141: 8 | E141: 0 | F141: 0 | G141: 0 | H141: 0 | I141: 8 | J141: 0 | K141: 1 | L141: 0 | M141: GAVETA 32 A 40
A142: SANDRA PATRICIA BARRETO SANCHE | B142: 45933 | C142: 0 | D142: 0 | E142: 0 | F142: 0 | G142: 0 | H142: 0 | I142: 8 | J142: 0 | K142: 1 | L142: 0 | M142: APOYO LOGISTICO ASIGNACION DE TRABAJO EN LOS DIFERENTES PROCESOS APOYO EN PROCESOS DE INDUCCION APOYO ADMINSITRATIVO
A143: SANDRA PATRICIA BARRETO SANCHE | B143: 45934 | C143: 0 | D143: 0 | E143: 0 | F143: 0 | G143: 0 | H143: 0 | I143: 0 | J143: 0 | K143: 0 | L143: 0 | M143: 0
A144: SANDRA PATRICIA BARRETO SANCHE | B144: 45935 | C144: 0 | D144: 0 | E144: 0 | F144: 0 | G144: 0 | H144: 0 | I144: 0 | J144: 0 | K144: 0 | L144: 0 | M144: 0
A145: SANDRA PATRICIA BARRETO SANCHE | B145: 45936 | C145: 0 | D145: 0 | E145: 0 | F145: 0 | G145: 0 | H145: 0 | I145: 8 | J145: 0 | K145: 1 | L145: 0 | M145: APOYO LOGISTICO ASIGNACION DE TRABAJO EN LOS DIFERENTES PROCESOS APOYO EN PROCESOS DE INDUCCION APOYO ADMINSITRATIVO
A146: SANDRA PATRICIA BARRETO SANCHE | B146: 45937 | C146: 0 | D146: 0 | E146: 0 | F146: 0 | G146: 0 | H146: 0 | I146: 8 | J146: 0 | K146: 1 | L146: 0 | M146: APOYO LOGISTICO ASIGNACION DE TRABAJO EN LOS DIFERENTES PROCESOS APOYO EN PROCESOS DE INDUCCION APOYO ADMINSITRATIVO
A147: SANDRA PATRICIA BARRETO SANCHE | B147: 45938 | C147: 0 | D147: 1 | E147: 0 | F147: 0 | G147: 0 | H147: 0 | I147: 8 | J147: 0 | K147: 1 | L147: 0 | M147: GAVETA 44 APOYO LOGISTICO ASIGNACION DE TRABAJO EN LOS DIFERENTES PROCESOS APOYO EN PROCESOS DE INDUCCION APOYO ADMINSITRATIVO
A148: SANDRA PATRICIA BARRETO SANCHE | B148: 45939 | C148: 0 | D148: 0 | E148: 0 | F148: 0 | G148: 0 | H148: 0 | I148: 8 | J148: 0 | K148: 1 | L148: 0 | M148: APOYO LOGISTICO ASIGNACION DE TRABAJO EN LOS DIFERENTES PROCESOS APOYO EN PROCESOS DE INDUCCION APOYO ADMINSITRATIVO
A149: SANDRA PATRICIA BARRETO SANCHE | B149: 45940 | C149: 0 | D149: 1 | E149: 0 | F149: 0 | G149: 0 | H149: 0 | I149: 8 | J149: 0 | K149: 1 | L149: 0 | M149: GAVETA 57 APOYO LOGISTICO ASIGNACION DE TRABAJO EN LOS DIFERENTES PROCESOS APOYO EN PROCESOS DE INDUCCION APOYO ADMINSITRATIVO
A150: SANDRA PATRICIA BARRETO SANCHE | B150: 45941 | C150: 0 | D150: 0 | E150: 0 | F150: 0 | G150: 0 | H150: 0 | I150: 0 | J150: 0 | K150: 0 | L150: 0 | M150: 0
A151: SANDRA PATRICIA BARRETO SANCHE | B151: 45942 | C151: 0 | D151: 0 | E151: 0 | F151: 0 | G151: 0 | H151: 0 | I151: 0 | J151: 0 | K151: 0 | L151: 0 | M151: 0
A152: SANDRA PATRICIA BARRETO SANCHE | B152: 45943 | C152: 0 | D152: 0 | E152: 0 | F152: 0 | G152: 0 | H152: 0 | I152: 8 | J152: 0 | K152: 1 | L152: 0 | M152: APOYO LOGISTICO ASIGNACION DE TRABAJO EN LOS DIFERENTES PROCESOS APOYO EN PROCESOS DE INDUCCION APOYO ADMINSITRATIVO
A153: SANDRA PATRICIA BARRETO SANCHE | B153: 45944 | C153: 0 | D153: 0 | E153: 0 | F153: 0 | G153: 0 | H153: 0 | I153: 8 | J153: 0 | K153: 1 | L153: 0 | M153: APOYO LOGISTICO ASIGNACION DE TRABAJO EN LOS DIFERENTES PROCESOS APOYO EN PROCESOS DE INDUCCION APOYO ADMINSITRATIVO
A154: SANDRA PATRICIA BARRETO SANCHE | B154: 45945 | C154: 0 | D154: 0 | E154: 0 | F154: 0 | G154: 0 | H154: 0 | I154: 8 | J154: 0 | K154: 1 | L154: 0 | M154: APOYO LOGISTICO ASIGNACION DE TRABAJO EN LOS DIFERENTES PROCESOS APOYO EN PROCESOS DE INDUCCION APOYO ADMINSITRATIVO
A155: SANDRA PATRICIA BARRETO SANCHE | B155: 45946 | C155: 0 | D155: 0 | E155: 0 | F155: 0 | G155: 0 | H155: 0 | I155: 8 | J155: 0 | K155: 1 | L155: 0 | M155: APOYO LOGISTICO ASIGNACION DE TRABAJO EN LOS DIFERENTES PROCESOS APOYO EN PROCESOS DE INDUCCION APOYO ADMINSITRATIVO
...

Sheet RESUMEN GENERAL
A1: FECHA | B1: (Todas)
A3: Técnico | B3: Suma de REGISTOS FUID KARDEX | C3: Suma de C.C.REGISTOS FUID KARDEX | D3: Suma de ACTUALIZACIÓN FUID CARPETAS | E3: Suma de C.C.ORDENACIÓN ALFABÉTICA KARDEX | F3: Suma de ORDENACIÓN ALFABÉTICA KARDEX | G3: OTRAS ACTIV. (DÍAS) | H3: AUSENCIAS (DÍAS) | I3: Suma de CC ACTUALIZACIÓN FUID CARPETAS
A4: DANIELA DUARTE TRIANA | B4: 2028 | C4: 0 | D4: 571 | E4: 0 | F4: 5 | G4: 24.25 | H4: 2 | I4: 0
A5: IBETH ANDREA ROZO GOMEZ | B5: 5926 | C5: 0 | D5: 0 | E5: 0 | F5: 11 | G5: 4 | H5: 1 | I5: 0
A6: INGRID TATIANA PUENTES MOLINA | B6: 2396 | C6: 3029 | D6: 0 | E6: 7 | F6: 9 | G6: 4 | H6: 1 | I6: 0
A7: JULIETH NATALY ROMERO BOJACA | B7: 0 | C7: 0 | D7: 0 | E7: 0 | F7: 0 | G7: 0 | H7: 0 | I7: 0
A8: YENIFER DAYANA PEÑA VALBUENA | B8: 0 | C8: 0 | D8: 0 | E8: 0 | F8: 0 | G8: 0 | H8: 0 | I8: 0
A9: SANDRA PATRICIA BARRETO SANCHE | B9: 0 | C9: 0 | D9: 0 | E9: 42 | F9: 2 | G9: 31.5 | H9: 1 | I9: 0
A10: LILIANA ANDREA RODRIGUEZ PINEDA | B10: 1322 | C10: 0 | D10: 0 | E10: 49 | F10: 12 | G10: 6 | H10: 0 | I10: 0
A11: LUIS ALCIDES ARIZA LAITON | B11: 5525 | C11: 0 | D11: 308 | E11: 0 | F11: 2 | G11: 5 | H11: 0 | I11: 0
A12: ANDRES FELIPE MAYORGA JAIMES | B12: 1708 | C12: 0 | D12: 0 | E12: 0 | F12: 8 | G12: 0 | H12: 0 | I12: 0
A13: BRYAN ANTONIO MEJIA | B13: 2439 | C13: 0 | D13: 0 | E13: 0 | F13: 0 | G13: 0 | H13: 1 | I13: 3850.8
A14: DIANA CAROLINA RAMOS CASTAÑEDA | B14: 2644 | C14: 0 | D14: 0 | E14: 0 | F14: 9 | G14: 0 | H14: 85.375 | I14: 0
A15: LAURA VANESSA BEJARANO GARCIA | B15: 2846 | C15: 3378 | D15: 3779 | E15: 0 | F15: 0 | G15: 18 | H15: 0 | I15: 3378
... A47: Total general | B47: 84170 | C47: 12917.023 | D47: 11598 | E47: 183 | F47: 125 | G47: 407.38942 | H47: 137.17885 | I47: 10797.8

Sheet ORDENACIÓN
A2: TÉCNICO | B2: Suma de ORDENACIÓN ALFABÉTICA KARDEX
A3: INGRID TATIANA PUENTES MOLINA | B3: 9
A4: DANIELA DUARTE TRIANA | B4: 5
A5: JULIETH NATALY ROMERO BOJACA | B5: 0
A6: IBETH ANDREA ROZO GOMEZ | B6: 11
A7: YENIFER DAYANA PEÑA VALBUENA | B7: 0
A8: SANDRA PATRICIA BARRETO SANCHE | B8: 2
A9: LILIANA ANDREA RODRIGUEZ PINEDA | B9: 12
A10: LUIS ALCIDES ARIZA LAITON | B10: 2
A11: ANDRES FELIPE MAYORGA JAIMES | B11: 8
A12: BRYAN ANTONIO MEJIA | B12: 0
A13: DIANA CAROLINA RAMOS CASTAÑEDA | B13: 9
A14: LAURA VANESSA BEJARANO GARCIA | B14: 0
... A46: Total general | B46: 125

Sheet CC ORDENACIÓN
A2: TÉCNICO | B2: Suma de C.C.ORDENACIÓN ALFABÉTICA KARDEX
A3: DANIELA DUARTE TRIANA | B3: 0
A4: IBETH ANDREA ROZO GOMEZ | B4: 0
A5: INGRID TATIANA PUENTES MOLINA | B5: 7
A6: JULIETH NATALY ROMERO BOJACA | B6: 0
A7: YENIFER DAYANA PEÑA VALBUENA | B7: 0
A8: SANDRA PATRICIA BARRETO SANCHE | B8: 42
A9: LILIANA ANDREA RODRIGUEZ PINEDA | B9: 49
A10: LUIS ALCIDES ARIZA LAITON | B10: 0
A11: ANDRES FELIPE MAYORGA JAIMES | B11: 0
A12: BRYAN ANTONIO MEJIA | B12: 0
A13: DIANA CAROLINA RAMOS CASTAÑEDA | B13: 0
A14: LAURA VANESSA BEJARANO GARCIA | B14: 0
... A46: Total general | B46: 183

Sheet FUID KARDEX
A2: TÉCNICO | B2: Suma de REGISTOS FUID KARDEX
A3: INGRID TATIANA PUENTES MOLINA | B3: 2396
A4: DANIELA DUARTE TRIANA | B4: 2028
A5: JULIETH NATALY ROMERO BOJACA | B5: 0
A6: IBETH ANDREA ROZO GOMEZ | B6: 5926
A7: YENIFER DAYANA PEÑA VALBUENA | B7: 0
A8: SANDRA PATRICIA BARRETO SANCHE | B8: 0
A9: LILIANA ANDREA RODRIGUEZ PINEDA | B9: 1322
A10: LUIS ALCIDES ARIZA LAITON | B10: 5525
A11: ANDRES FELIPE MAYORGA JAIMES | B11: 1708
A12: BRYAN ANTONIO MEJIA | B12: 2439
A13: DIANA CAROLINA RAMOS CASTAÑEDA | B13: 2644
A14: LAURA VANESSA BEJARANO GARCIA | B14: 2846
... A46: Total general | B46: 84170

Sheet CC FUID KARDEX
A2: TÉCNICO | B2: Suma de C.C.REGISTOS FUID KARDEX
A3: INGRID TATIANA PUENTES MOLINA | B3: 3029
A4: DANIELA DUARTE TRIANA | B4: 0
A5: JULIETH NATALY ROMERO BOJACA | B5: 0
A6: IBETH ANDREA ROZO GOMEZ | B6: 0
A7: YENIFER DAYANA PEÑA VALBUENA | B7: 0
A8: SANDRA PATRICIA BARRETO SANCHE | B8: 0
A9: LILIANA ANDREA RODRIGUEZ PINEDA | B9: 0
A10: LUIS ALCIDES ARIZA LAITON | B10: 0
A11: ANDRES FELIPE MAYORGA JAIMES | B11: 0
A12: BRYAN ANTONIO MEJIA | B12: 0
A13: DIANA CAROLINA RAMOS CASTAÑEDA | B13: 0
A14: LAURA VANESSA BEJARANO GARCIA | B14: 3378
... A46: Total general | B46: 12917.023

Sheet OTRAS ACTIVIDADES
A1: FECHA | B1: (Todas)
A3: TÉCNICO | B3: TOTAL OTRAS ACTIVIDADES (DÍAS)
A4: LILIANA MENDOZA | B4: 144
A5: SANDRA PATRICIA BARRETO SANCHE | B5: 31.5
A6: DANIELA DUARTE TRIANA | B6: 24.25
A7: LAURA VANESSA BEJARANO GARCIA | B7: 18
A8: CAROL MARTINEZ | B8: 7
A9: LILIANA ANDREA RODRIGUEZ PINEDA | B9: 6
A10: LUIS ALCIDES ARIZA LAITON | B10: 5
A11: INGRID TATIANA PUENTES MOLINA | B11: 4
A12: IBETH ANDREA ROZO GOMEZ | B12: 4
A13: GUILLERMO RODRIGUEZ | B13: 1
A14: IGNACIO BERMUDEZ | B14: 0.13942308
A15: MARY LUZ PARRA | B15: 0
... A47: Total general | B47: 244.88942

Sheet DETALLADO TECNICO-PROCESO
A1: TÉCNICO | B1: (Todas)
A2: FECHA | B2: (Todas)
A4: Valores
A5: Suma de ORDENACIÓN ALFABÉTICA KARDEX | B5: 125
A6: Suma de C.C.ORDENACIÓN ALFABÉTICA KARDEX | B6: 183
A7: Suma de REGISTOS FUID KARDEX | B7: 84170
A8: Suma de C.C.REGISTOS FUID KARDEX | B8: 12917.023
A9: Suma de ACTUALIZACIÓN FUID CARPETAS | B9: 11598
A10: Suma de CC ACTUALIZACIÓN FUID CARPETAS | B10: 10797.8

Sheet AUSENTISMO
A1: FECHA | B1: (Todas)
A3: TÉCNICO | B3: AUSENCIAS (DÍAS)
A4: MAYRA CASTILLO | B4: 3
A5: DANIELA DUARTE TRIANA | B5: 2
A6: DIANA CAROLINA RAMOS CASTAÑEDA | B6: 1
A7: INGRID TATIANA PUENTES MOLINA | B7: 1
A8: IBETH ANDREA ROZO GOMEZ | B8: 1
A9: LILIANA PINILLA | B9: 1
A10: SANDRA PATRICIA BARRETO SANCHE | B10: 1
A11: BRYAN ANTONIO MEJIA | B11: 1
A12: ANA MILENA ROMERO | B12: 1
A13: LILIANA MENDOZA | B13: 0.55384615
A14: JULIETH NATALY ROMERO BOJACA | B14: 0
A15: YENIFER DAYANA PEÑA VALBUENA | B15: 0
... A47: Total general | B47: 12.553846

Sheet CONS. CUMPLIM METAS
A1: CONSOLIDADO SEGUIMIENTO METAS DE PRODUCCION PROYECTO MINDEFENSA
A3: Convenciones
B4: Estado crìtico de incumplimiento en metas de producciòn
B5: Al dìa en metas de producciòn
B6: Saldo a favor
C8: 1 | D8: 2 | E8: 3 | F8: 4 | G8: 5 | H8: 6 | I8: 7 | J8: 8 | K8: 9 | L8: 10 | M8: 11 | N8: 12 | O8: 13 | P8: 14 | Q8: 15 | R8: 16 | S8: 17 | T8: 18 | U8: 19 | V8: 20 | W8: 21 | X8: 22 | Y8: 23 | Z8: 24 | AA8: 25 | AB8: 26 | AC8: 27 | AD8: 28 | AE8: 29 | AF8: 30 | AG8: 31 | AH8: 32 | AI8: 33 | AJ8: 34 | AK8: 35 | AM8: 36 | AN8: 37 | AO8: 38 | AP8: 39 | AQ8: 40 | AR8: 41 | AS8: 42 | AT8: 43 | AU8: 44
A9: FECHA SEGUIMIENTO | B9: FECHA DE CORTE | C9: DIANA RAMOS | D9: BRYAN MEJIA | E9: LAURA BEJARANO | F9: JEIMY CORTES | G9: SANDY CARREÑO | H9: ANDREA RINCON | I9: LILIANA PINILLA | J9: LILIANA MENDOZA | K9: DENIS SOLARTE | L9: LUISA ESCOBAR | M9: MAYRA CASTILLO | N9: LILIANA ZARATE | O9: DIANA CARRILLO | P9: LEIDY GONZALEZ | Q9: OSCAR VALENCIA | R9: ANDREA ROZO | S9: IGNACIO BERMUDEZ | T9: CAROL MARTINEZ | U9: CLAUDIA ALZATE | V9: MARY LUZ PARRA | W9: MARTHA I MENDOZA | X9: JHON CACERES | Y9: PEDRO SALAS | Z9: FELIPE MAYORGA | AA9: LUIS ARIZA | AB9: ANGELICA ORTIZ | AC9: ORLANDO MORALES | AD9: LILIANA RODRIGUEZ | AE9: GLORIA SANTANA | AF9: GUILLERMO RODRIGUEZ | AG9: ANTONIA GIL | AH9: DIANA C ALVAREZ | AI9: KAREN ROMERO | AJ9: SANDRA BARRETO | AK9: DANIELA DUARTE | AL9: TATIANA PUENTES | AM9: YOMARA BOHORQUEZ | AN9: ERIKA CASALLAS | AO9: ANA MILENA ROMERO | AP9: MARTHA BLANCO | AQ9: VIVIANA ANGARITA | AR9: MARIA ALEIDA BARRERA | AS9: LEIDI V SUAREZ | AT9: LIZETH VELANDIA | AU9: INES BOSSIO
A10: 45939 | B10: 45938 | Z10: 6.68
A11: 45944 | B11: 45940 | C11: 0.4 | D11: 2.8 | E11: 1.9 | F11: 3.5 | G11: 3.7 | H11: 3 | I11: 4 | J11: 4.4. | K11: 3.2 | L11: 3.5
A12: 45672 | B12: 45944 | M12: 8.9 | N12: 7.5 | O12: 1
A13: 45946 | B13: 45945 | P13: 0 | Q13: 0.3 | R13: 1.02 | S13: 3.6 | T13: 5.4 | U13: 8 | V13: 8.2 | W13: 1.5 | X13: 2.5 | Y13: 1 | Z13: 8.7 | AA13: 3.7
A14: 45947 | B14: 45946 | J14: 6.7 | AB14: 12 | AC14: 1 | AD14: 0 | AE14: 4.2 | AF14: 2.8 | AG14: 2.5 | AH14: 0.5 | AI14: 2
A15: 45951 | B15: 45950 | AJ15: 0 | AL15: 0 | AM15: 5.5 | AN15: 0 | AO15: 1 | AP15: 0 | AQ15: 3
A17: 45957 | B17: 45954 | J17: 3.7 | M17: 10 | N17: 11.1 | T17: 5.7 | U17: 7 | X17: 1.6 | Z17: 6.4 | AB17: 11.6 | AC17: 1 | AE17: 3
A18: 45958 | B18: 45954 | F18: 2.5 | H18: 1 | R18: 0 | S18: 3.5 | V18: 7.4 | AA18: 0.4 | AD18: 0 | AK18: 0 | AL18: 0 | AM18: 8.7
A19: 45959 | B19: 45954 | C19: 0.8 | E19: 2.3 | G19: 3.1 | K19: 0 | L19: 1 | O19: 4.78 | AH19: 0 | AI19: 0 | AJ19: 0 | AO19: 0
A20: 45961 | B20: 45954 | D20: 2.7 | P20: 0 | Q20: 0 | Z20: 1.4 | AF20: 1.7 | AN20: 0.8 | AP20: 0.5 | AQ20: 0 | AR20: 2.5 | AS20: 0 | AT20: 0
A21: 45966 | B21: 45954 | AG21: 0.3 | AU21: 0
A22: 45967 | B22: 45954 | U22: 2
A70: FECHA SEGUIMIENTO | B70: 45939 | C70: 45944 | D70: 45672 | E70: 45946 | F70: 45947 | G70: 45951 | I70: 45957 | J70: 45958 | K70: 45958 | L70: 45958 | M70: 45958 | N70: 45958 | O70: 45958 | P70: 45958 | Q70: 45594 | R70: 45594 | S70: 45594 | T70: 45594
A71: FECHA DE CORTE | B71: 45938 | C71: 45940 | D71: 45944 | E71: 45945 | F71: 45946 | G71: 45950 | I71: 45954 | J71: 45954 | K71: 45954 | L71: 45954 | M71: 45954 | N71: 45954 | O71: 45954 | P71: 45954 | Q71: 45954 | R71: 45954 | S71: 45954 | T71: 45954
A72: DIANA RAMOS | C72: 0.4 | R72: 0.8
A73: BRYAN MEJIA | C73: 2.8
A74: LAURA BEJARANO | C74: 1.9 | R74: 2.3
A75: JEIMY CORTES | C75: 3.5 | J75: 2.5
A76: SANDY CARREÑO | C76: 3.7
A77: ANDREA RINCON | C77: 3 | J77: 1
A78: LILIANA PINILLA | C78: 4
A79: LILIANA MENDOZA | C79: 4.4. | F79: 6.7 | I79: 3.7
A80: DENIS SOLARTE | C80: 3.2
A81: LUISA ESCOBAR | C81: 3.5
A82: MAYRA CASTILLO | D82: 8.9 | I82: 10
A83: LILIANA ZARATE | D83: 7.5 | I83: 11.1
A84: DIANA CARRILLO | D84: 1 | S84: 4.78
A85: LEIDY GONZALEZ | E85: 0
A86: OSCAR VALENCIA | E86: 0.3
A87: ANDREA ROZO | E87: 1.02 | N87: 0
A88: IGNACIO BERMUDEZ | E88: 3.6 | J88: 3.5
A89: CAROL MARTINEZ | E89: 5.4 | I89: 5.7
A90: CLAUDIA ALZATE | E90: 8 | I90: 7
A91: MARY LUZ PARRA | E91: 8.2 | J91: 7.4
A92: MARTHA I MENDOZA | E92: 1.5
A93: JHON CACERES | E93: 2.5 | I93: 1.6
A94: PEDRO SALAS | E94: 1
A95: FELIPE MAYORGA | B95: 6.68 | E95: 8.7 | I95: 6.4
A96: LUIS ARIZA | E96: 3.7 | O96: 0.4
A97: ANGELICA ORTIZ | F97: 12 | I97: 11.6
A98: ORLANDO MORALES | F98: 0
A99: LILIANA RODRIGUEZ | F99: 0 | O99: 0
A100: GLORIA SANTANA | F100: 4.2 | I100: 3
A101: GUILLERMO RODRIGUEZ | F101: 2.8
A102: ANTONIA GIL | F102: 2.5
A103: DIANA C ALVAREZ | F103: 0.5
A104: KAREN ROMERO | F104: 2
A105: SANDRA BARRETO | G105: 0
A106: DANIELA DUARTE | K106: 0
A107: TATIANA PUENTES | G107: 0 | M107: 0
A108: YOMARA BOHORQUEZ | G108: 5.5 | J108: 8.7
A109: ERIKA CASALLAS | G109: 0
A110: ANA MILENA ROMERO | G110: 1
A111: MARTHA BLANCO | G111: 0
A112: VIVIANA ANGARITA | G112: 3
A113: MARIA ALEIDA BARRERA
A114: LEIDI V SUAREZ

Sheet INGRID TATIANA PUENTES MOLINA
A1: MINISTERIO DE DEFENSA 2.0
A2: REGISTRO DIARIO DE PRODUCCIÓN - 2025
A3: INGRID TATIANA PUENTES MOLINA
A4: FECHA | B4: ORDENACIÓN ALFABÉTICA KARDEX | C4: C.C.ORDENACIÓN ALFABÉTICA KARDEX | D4: REGISTOS FUID KARDEX | E4: C.C.REGISTOS FUID KARDEX | F4: ACTUALIZACIÓN FUID CARPETAS | G4: CC ACTUALIZACIÓN FUID CARPETAS | H4: OTRAS ACTIVIDADES (HORAS) | I4: NO ASISTIÓ (HORAS) | J4: OTRAS ACTIVIDADES (DÍAS) | K4: NO ASISTIÓ (DÍAS) | L4: OBSERVACIONES
A5: 45908 | H5: 8 | J5: =+H5/8 -> 1 | L5: Apoyo logístico de instalaciones y adecuación de espacios, revisión de equipos portátiles
A6: 45909 | I6: 8 | J6: =+H6/8 -> 0 | K6: =+I6/8 -> 1 | L6: NO ASISTIO | M6: Compensatorio MidDef 1
A7: 45910 | H7: 8 | J7: =+H7/8 -> 1 | L7: Prueba metodología ordenación Sistema Alfabético Kardex
A8: 45911 | H8: 8 | J8: =+H8/8 -> 1 | L8: Apoyo logístico Entrega de Cajas MinDef 1 - Prueba metodología ordenación Sistema Alfabético Kardex
A9: 45912 | H9: 8 | J9: =+H9/8 -> 1 | L9: Prueba metodología ordenación Sistema Alfabético Kardex traslado de documentación Kardex a lugar de trabajo SE ENCUENTRA AL DIA AL 12 -09-2025
A10: 45913 | J10: =+H10/8 -> 0 | K10: =+I10/8 -> 0
A11: 45914 | J11: =+H11/8 -> 0 | K11: =+I11/8 -> 0
A12: 45915 | B12: 2 | J12: =+H12/8 -> 0 | K12: =+I12/8 -> 0 | L12: Gavetas 3 y 8
A13: 45916 | J13: =+H13/8 -> 0 | K13: =+I13/8 -> 0
A14: 45917 | J14: =+H14/8 -> 0 | K14: =+I14/8 -> 0
A15: 45918 | B15: 3 | J15: =+H15/8 -> 0 | K15: =+I15/8 -> 0 | L15: Gavetas 11, 12 y 13
A16: 45919 | J16: =+H16/8 -> 0 | K16: =+I16/8 -> 0
A17: 45920 | J17: =+H17/8 -> 0 | K17: =+I17/8 -> 0
A18: 45921 | J18: =+H18/8 -> 0 | K18: =+I18/8 -> 0
A19: 45922 | B19: 3 | J19: =+H19/8 -> 0 | K19: =+I19/8 -> 0 | L19: Gavetas 26, 27 y 28
A20: 45923 | B20: 1 | J20: =+H20/8 -> 0 | K20: =+I20/8 -> 0 | L20: Gaveta 42 SE ENCUENTRA AL DIA AL 23 DE SEPTIEMBRE
A21: 45924 | D21: 50 | J21: =+H21/8 -> 0 | K21: =+I21/8 -> 0 | L21: Gaveta 2
A22: 45925 | J22: =+H22/8 -> 0 | K22: =+I22/8 -> 0 | L22: SE ENCUENTRA AL DÌA AL 25 DE SEPTIEMBRE
A23: 45926 | D23: 202 | J23: =+H23/8 -> 0 | K23: =+I23/8 -> 0 | L23: GAVETA 2
A24: 45927 | K24: =+I24/8 -> 0
A25: 45928 | K25: =+I25/8 -> 0
A26: 45929 | D26: 216 | K26: =+I26/8 -> 0 | L26: GAVETA 2
A27: 45930 | D27: 210 | K27: =+I27/8 -> 0 | L27: GAVETA 10
A28: 45931 | D28: 220 | K28: =+I28/8 -> 0 | L28: GAVETA 10
A29: 45932 | D29: 546 | K29: =+I29/8 -> 0 | L29: GAVETA 10 Y 23
A30: 45933 | D30: 295 | K30: =+I30/8 -> 0 | L30: GAVETA 23
A31: 45934 | J31: =+H31/8 -> 0 | K31: =+I31/8 -> 0
A32: 45935 | J32: =+H32/8 -> 0 | K32: =+I32/8 -> 0
A33: 45936 | D33: 270 | J33: =+H33/8 -> 0 | K33: =+I33/8 -> 0 | L33: GAVETA 23
A34: 45937 | D34: 260 | J34: =+H34/8 -> 0 | K34: =+I34/8 -> 0 | L34: GAVETA 23
A35: 45938 | C35: 1 | D35: 127 | J35: =+H35/8 -> 0 | K35: =+I35/8 -> 0 | L35: GAVETA 23 PASA A CALIDAD DE ORDENACION GAVETA 43 UNIFICACION APELLIDO DIAZ
A36: 45939 | C36: 2 | J36: =+H36/8 -> 0 | K36: =+I36/8 -> 0 | L36: GAVETAS 49 Y 50
A37: 45940 | C37: 2 | J37: =+H37/8 -> 0 | K37: =+I37/8 -> 0 | L37: GAVETAS 59 Y 60
A38: 45941 | J38: =+H38/8 -> 0 | K38: =+I38/8 -> 0
A39: 45942 | J39: =+H39/8 -> 0 | K39: =+I39/8 -> 0
A40: 45943 | J40: =+H40/8 -> 0 | K40: =+I40/8 -> 0
A41: 45944 | C41: 2 | J41: =+H41/8 -> 0 | K41: =+I41/8 -> 0 | L41: GAVETAS 65 Y 69
A42: 45945 | E42: 500 | J42: =+H42/8 -> 0 | K42: =+I42/8 -> 0 | L42: GAVETA 1
A43: 45946 | E43: 463 | J43: =+H43/8 -> 0 | K43: =+I43/8 -> 0 | L43: GAVETA 1
A44: 45947 | E44: 528 | J44: =+H44/8 -> 0 | K44: =+I44/8 -> 0 | L44: GAVETA 1 Y 5
A45: 45948 | J45: =+H45/8 -> 0 | K45: =+I45/8 -> 0
A46: 45949 | J46: =+H46/8 -> 0 | K46: =+I46/8 -> 0
A47: 45950 | E47: 552 | J47: =+H47/8 -> 0 | K47: =+I47/8 -> 0 | L47: GAVETA 5 SE REALIZA SEGUIMIENTO CON CORTE AL 20/10/2025 EVIDENCIANDO UN SALDO A FAVOR DE 203 REGISTROS EN EL PROCESO DE CC INVETNARIO KARDEX
A48: 45951 | J48: =+H48/8 -> 0 | K48: =+I48/8 -> 0
A49: 45952 | J49: =+H49/8 -> 0 | K49: =+I49/8 -> 0
A50: 45953 | J50: =+H50/8 -> 0 | K50: =+I50/8 -> 0
A51: 45954 | E51: 986 | J51: =+H51/8 -> 0 | K51: =+I51/8 -> 0 | L51: GAVETA 26
A52: 45955 | J52: =+H52/8 -> 0 | K52: =+I52/8 -> 0
A53: 45956 | J53: =+H53/8 -> 0 | K53: =+I53/8 -> 0
A54: 45957 | J54: =+H54/8 -> 0 | K54: =+I54/8 -> 0
A55: 45958 | J55: =+H55/8 -> 0 | K55: =+I55/8 -> 0
A56: 45959 | J56: =+H56/8 -> 0 | K56: =+I56/8 -> 0
A57: 45960 | J57: =+H57/8 -> 0 | K57: =+I57/8 -> 0
A58: 45961 | J58: =+H58/8 -> 0 | K58: =+I58/8 -> 0
A59: 45962 | J59: =+H59/8 -> 0 | K59: =+I59/8 -> 0
A60: 45963 | J60: =+H60/8 -> 0 | K60: =+I60/8 -> 0
A61: 45964 | J61: =+H61/8 -> 0 | K61: =+I61/8 -> 0
A62: 45965 | J62: =+H62/8 -> 0 | K62: =+I62/8 -> 0
A63: 45966 | J63: =+H63/8 -> 0 | K63: =+I63/8 -> 0
... A119: 46022 | J119: =+H119/8 -> 0 | K119: =+I119/8 -> 0
A120: PRODUCCIÓN POR PROCESO | B120: =SUM(B5:B119) -> 9 | C120: =SUM(C5:C119) -> 7 | D120: =SUM(D5:D119) -> 2396 | E120: =SUM(E5:E119) -> 3029 | F120: =SUM(F5:F119) -> 0 | G120: =SUM(G5:G119) -> 0 | H120: =SUM(H5:H119) -> 32 | I120: =SUM(I5:I119) -> 8 | ... K120: =SUM(K5:K119) -> 1

Sheet DANIELA  DUARTE TRIANA
A1: MINISTERIO DE DEFENSA 2.0
A2: REGISTRO DIARIO DE PRODUCCIÓN - 2025
A3: DANIELA DUARTE TRIANA
A4: FECHA | B4: ORDENACIÓN ALFABÉTICA KARDEX | C4: C.C.ORDENACIÓN ALFABÉTICA KARDEX | D4: REGISTOS FUID KARDEX | E4: C.C.REGISTOS FUID KARDEX | F4: ACTUALIZACIÓN FUID CARPETAS | G4: CC ACTUALIZACIÓN FUID CARPETAS | H4: OTRAS ACTIVIDADES (HORAS) | I4: NO ASISTIÓ (HORAS) | J4: OTRAS ACTIVIDADES (DÍAS) | K4: NO ASISTIÓ (DÍAS) | L4: OBSERVACIONES
A5: 45908 | H5: 8 | J5: =+H5/8 -> 1 | K5: =+I5/8 -> 0 | L5: Revisión de ajustes FAC MinDef 1 Alistamiento logístico espacio de trabajo Asistencia reunión elaboración Ficha Técnica
A6: 45909 | H6: 8 | J6: =+H6/8 -> 1 | K6: =+I6/8 -> 0 | L6: Traslado gavetas Kardex para diagnóstico de inventario y tiempo.
A7: 45910 | H7: 8 | J7: =+H7/8 -> 1 | K7: =+I7/8 -> 0 | L7: Ajustes HC MinDef 1 trabajo en casa debido a falta de red en la sede MinDef
A8: 45911 | H8: 8 | J8: =+H8/8 -> 1 | K8: =+I8/8 -> 0 | L8: Ejercicio de ordenación alfabética tarjetas Kardex. Prueba metodología
A9: 45912 | H9: 8 | J9: =+H9/8 -> 1 | K9: =+I9/8 -> 0 | L9: Ejercicio de ordenación alfabética tarjetas Kardex. Prueba metodología SE ENCUENTRA AL DIA AL 12-09-2025
A10: 45913 | J10: =+H10/8 -> 0 | K10: =+I10/8 -> 0
A11: 45914 | J11: =+H11/8 -> 0 | K11: =+I11/8 -> 0
A12: 45915 | H12: 8 | J12: =+H12/8 -> 1 | K12: =+I12/8 -> 0 | L12: Reuniòn AGN Subdirecciòn
A13: 45916 | B13: 1 | H13: 8 | J13: =+H13/8 -> 1 | K13: =+I13/8 -> 0 | L13: Gaveta 5
A14: 45917 | B14: 1 | H14: 8 | J14: =+H14/8 -> 1 | K14: =+I14/8 -> 0 | L14: Gaveta 21
A15: 45918 | B15: 1 | H15: 8 | J15: =+H15/8 -> 1 | K15: =+I15/8 -> 0 | L15: Apoyo logìstico MinDef (Rotulaciòn) Gaveta 22
A16: 45919 | H16: 8 | J16: =+H16/8 -> 1 | K16: =+I16/8 -> 0 | L16: Apoyo logìstico MinDef (Rotulaciòn)
A17: 45920 | J17: =+H17/8 -> 0 | K17: =+I17/8 -> 0
A18: 45921 | J18: =+H18/8 -> 0 | K18: =+I18/8 -> 0
A19: 45922 | B19: 1 | H19: 8 | J19: =+H19/8 -> 1 | K19: =+I19/8 -> 0 | L19: Gaveta 35
A20: 45923 | B20: 1 | H20: 8 | J20: =+H20/8 -> 1 | K20: =+I20/8 -> 0 | L20: Apoyo calidad Ordenaciòn Gaveta 36 SE ENCUENTRA AL DIA AL 23/09/2025
A21: 45924 | D21: 54 | H21: 8 | J21: =+H21/8 -> 1 | K21: =+I21/8 -> 0 | L21: REUNIÓN GRUPO SUBDIRECCÓN CONTROL CALIDAD ORDENACÓN KARDEX UNIFICACIÓN GAVETAS FUID KARDEX
A22: 45925 | D22: 270 | J22: =+H22/8 -> 0 | K22: =+I22/8 -> 0 | L22: FUID KARDEX
A23: 45926 | D23: 202 | J23: =+H23/8 -> 0 | K23: =+I23/8 -> 0 | L23: REUNIÓN GRUPO SUBDIRECCÓN CONTROL CALIDAD ORDENACÓN KARDEX UNIFICACIÓN GAVETAS FUID KARDEX
A24: 45927 | J24: =+H24/8 -> 0 | K24: =+I24/8 -> 0
A25: 45928 | J25: =+H25/8 -> 0 | K25: =+I25/8 -> 0
A26: 45929 | I26: 8 | J26: =+H26/8 -> 0 | K26: =+I26/8 -> 1
A27: 45930 | D27: 280 | J27: =+H27/8 -> 0 | K27: =+I27/8 -> 0 | L27: FUID KARDEX
A28: 45931 | D28: 100 | J28: =+H28/8 -> 0 | K28: =+I28/8 -> 0 | L28: REUNIÓN GRUPO DE TRABAJO FUID KARDEZX APOYO CALIDAD ORDENACIÓN UNIFICACIÓN GAVETAS APELLIDOS
A29: 45932 | D29: 200 | J29: =+H29/8 -> 0 | K29: =+I29/8 -> 0 | L29: REUNIÓN GRUPO DE TRABAJO FUID KARDEZX APOYO CALIDAD ORDENACIÓN UNIFICACIÓN GAVETAS APELLIDOS
A30: 45933 | D30: 300 | J30: =+H30/8 -> 0 | K30: =+I30/8 -> 0 | L30: FUID KARDEX
A31: 45934 | J31: =+H31/8 -> 0 | K31: =+I31/8 -> 0
A32: 45935 | J32: =+H32/8 -> 0 | K32: =+I32/8 -> 0
A33: 45936 | H33: 8 | J33: =+H33/8 -> 1 | K33: =+I33/8 -> 0 | L33: INDUCCIÓN A TÉCNICOS NUEVOS
A34: 45937 | H34: 8 | J34: =+H34/8 -> 1 | K34: =+I34/8 -> 0 | L34: INDUCCIÓN A TÉCNICOS NUEVOS APOYO CALIDAD ORDENACIÓN UNIFICACIÓN GAVETAS APELLIDOS
A35: 45938 | D35: 303 | J35: =+H35/8 -> 0 | K35: =+I35/8 -> 0 | L35: FUID KARDEX
A36: 45939 | D36: 208 | H36: 4 | J36: =+H36/8 -> 0.5 | K36: =+I36/8 -> 0 | L36: INDUCCIÓN A TÉCNICOS NUEVOS APOYO CALIDAD ORDENACIÓN UNIFICACIÓN GAVETAS APELLIDOS
A37: 45940 | D37: 111 | H37: 6 | J37: =+H37/8 -> 0.75 | K37: =+I37/8 -> 0 | L37: INDUCCIÓN A TÉCNICOS NUEVOS APOYO CALIDAD ORDENACIÓN UNIFICACIÓN GAVETAS APELLIDOS
A38: 45941 | J38: =+H38/8 -> 0 | K38: =+I38/8 -> 0
A39: 45942 | J39: =+H39/8 -> 0 | K39: =+I39/8 -> 0
A40: 45943 | H40: 8 | J40: =+H40/8 -> 1 | K40: =+I40/8 -> 0 | L40: INDUCCIÓN A TÉCNICOS NUEVOS APOYO CALIDAD ORDENACIÓN UNIFICACIÓN GAVETAS APELLIDOS
A41: 45944 | H41: 8 | J41: =+H41/8 -> 1 | K41: =+I41/8 -> 0 | L41: INDUCCIÓN A TÉCNICOS NUEVOS APOYO CALIDAD ORDENACIÓN REUNIÓN GRUPO DE TRABAJO APOYO CALIDAD ORDENACIÓN UNIFICACIÓN GAVETAS APELLIDOS
A42: 45945 | H42: 8 | J42: =+H42/8 -> 1 | K42: =+I42/8 -> 0 | L42: APOYO CALIDAD ORDENACIÓN UNIFICACIÓN GAVETAS APELLIDOS PRUEBAS FUID CARPETAS
A43: 45946 | H43: 8 | J43: =+H43/8 -> 1 | K43: =+I43/8 -> 0 | L43: APOYO CALIDAD ORDENACIÓN UNIFICACIÓN GAVETAS APELLIDOS PRUEBAS FUID CARPETAS
A44: 45947 | H44: 8 | J44: =+H44/8 -> 1 | K44: =+I44/8 -> 0 | L44: APOYO CALIDAD ORDENACIÓN UNIFICACIÓN GAVETAS APELLIDOS PRUEBAS FUID CARPETAS
A45: 45948 | J45: =+H45/8 -> 0 | K45: =+I45/8 -> 0
A46: 45949 | J46: =+H46/8 -> 0 | K46: =+I46/8 -> 0
A47: 45950 | H47: 8 | J47: =+H47/8 -> 1 | K47: =+I47/8 -> 0 | L47: APOYO CALIDAD ORDENACIÓN UNIFICACIÓN GAVETAS APELLIDOS PRUEBAS FUID CARPETAS
A48: 45951 | F48: 355 | H48: 0 | J48: =+H48/8 -> 0 | K48: =+I48/8 -> 0 | L48: ACTUALIZACIÓN FUID CARPETAS
A49: 45952 | H49: 8 | J49: =+H49/8 -> 1 | K49: =+I49/8 -> 0 | L49: APOYO LOGISTICO ASIGNACION DE TRABAJO EN LOS DIFERENTES PROCESOS APOYO EN PROCESOS DE INDUCCION APOYO ADMINSITRATIVO
A50: 45953 | F50: 216 | H50: 0 | J50: =+H50/8 -> 0 | K50: =+I50/8 -> 0 | L50: APOYO LOGISTICO ASIGNACION DE TRABAJO EN LOS DIFERENTES PROCESOS APOYO EN PROCESOS DE INDUCCION APOYO ADMINSITRATIVO ACTUALIZACIÓN FUID CARPETAS
A51: 45954 | H51: 8 | J51: =+H51/8 -> 1 | K51: =+I51/8 -> 0 | L51: APOYO DEFINICIÓN PROCESO ACTUALIZACIÓN FUID CARPETAS
A52: 45955 | J52: =+H52/8 -> 0 | K52: =+I52/8 -> 0
A53: 45956 | J53: =+H53/8 -> 0 | K53: =+I53/8 -> 0
A54: 45957 | H54: 0 | I54: 8 | J54: =+H54/8 -> 0 | K54: =+I54/8 -> 1
A55: 45958 | J55: =+H55/8 -> 0 | K55: =+I55/8 -> 0
A56: 45959 | J56: =+H56/8 -> 0 | K56: =+I56/8 -> 0
A57: 45960 | J57: =+H57/8 -> 0 | K57: =+I57/8 -> 0
A58: 45961 | J58: =+H58/8 -> 0 | K58: =+I58/8 -> 0
A59: 45962 | J59: =+H59/8 -> 0 | K59: =+I59/8 -> 0
A60: 45963 | J60: =+H60/8 -> 0 | K60: =+I60/8 -> 0
A61: 45964 | J61: =+H61/8 -> 0 | K61: =+I61/8 -> 0
A62: 45965 | J62: =+H62/8 -> 0 | K62: =+I62/8 -> 0
A63: 45966 | J63: =+H63/8 -> 0 | K63: =+I63/8 -> 0
A64: 45967 | J64: =+H64/8 -> 0 | K64: =+I64/8 -> 0
A65: 45968 | J65: =+H65/8 -> 0 | K65: =+I65/8 -> 0
A66: 45969 | J66: =+H66/8 -> 0 | K66: =+I66/8 -> 0
... A119: 46022 | J119: =+H119/8 -> 0 | K119: =+I119/8 -> 0
A120: PRODUCCIÓN POR PROCESO | B120: =SUM(B5:B119) -> 5 | C120: =SUM(C5:C119) -> 0 | D120: =SUM(D5:D119) -> 2028 | E120: =SUM(E5:E119) -> 0 | F120: =SUM(F5:F119) -> 571 | G120: =SUM(G5:G119) -> 0 | H120: =SUM(H5:H119) -> 194 | I120: =SUM(I5:I119) -> 16 | ... K120: =SUM(K5:K119) -> 2

Sheet SANDRA PATRICIA BARRETO SANCHE
A1: MINISTERIO DE DEFENSA 2.0
A2: REGISTRO DIARIO DE PRODUCCIÓN - 2025
A3: SANDRA PATRICIA BARRETO SANCHEZ
A4: FECHA | B4: ORDENACIÓN ALFABÉTICA KARDEX | C4: C.C.ORDENACIÓN ALFABÉTICA KARDEX | D4: REGISTOS FUID KARDEX | E4: C.C.REGISTOS FUID KARDEX | F4: ACTUALIZACIÓN FUID CARPETAS | G4: CC ACTUALIZACIÓN FUID CARPETAS | H4: OTRAS ACTIVIDADES (HORAS) | I4: NO ASISTIÓ (HORAS) | J4: OTRAS ACTIVIDADES (DÍAS) | K4: NO ASISTIÓ (DÍAS) | L4: OBSERVACIONES
A5: 45908 | H5: 8 | J5: =+H5/8 -> 1 | K5: =+I5/8 -> 0 | L5: Apoyo logístico, alistamiento de espacios, ´puestos y equipos de trabajo
A6: 45909 | H6: 8 | J6: =+H6/8 -> 1 | K6: =+I6/8 -> 0 | L6: Rececpión de tarjetas kardex Soldados, reconocimiento de la información, pruebas registros de iinventario
A7: 45910 | H7: 8 | J7: =+H7/8 -> 1 | K7: =+I7/8 -> 0 | L7: Ajustes rótulos MinDef 1 Mind Def Reproceso Ent 1 y Ejército Ent 3 Trabajo en casa por falta de red en sede
A8: 45911 | H8: 8 | J8: =+H8/8 -> 1 | K8: =+I8/8 -> 0 | L8: Prueba metodología ordenación Sistema Alfabético Kardex
A9: 45912 | H9: 8 | J9: =+H9/8 -> 1 | K9: =+I9/8 -> 0 | L9: Prueba metodología ordenación Sistema Alfabético Kardex traslado de documentación Kardex a lugar de trabajo SE ENCUENTRA AL DIA AL 12 -09-2025
A10: 45913 | J10: =+H10/8 -> 0 | K10: =+I10/8 -> 0
A11: 45914 | J11: =+H11/8 -> 0 | K11: =+I11/8 -> 0
A12: 45915 | B12: 1 | J12: =+H12/8 -> 0 | K12: =+I12/8 -> 0 | L12: Gaveta 7 Reuniòn AGN Subdirecciòn
A13: 45916 | H13: 8 | J13: =+H13/8 -> 1 | K13: =+I13/8 -> 0 | L13: Correcciòn ròtulos MinDef
A14: 45917 | H14: 8 | J14: =+H14/8 -> 1 | K14: =+I14/8 -> 0 | L14: Correcciòn ròtulos MinDef e inicio Gaveta 9 ordenaciòn
A15: 45918 | B15: 1 | H15: 4 | J15: =+H15/8 -> 0.5 | K15: =+I15/8 -> 0 | L15: Inserciònes de HC y Ròtulos Gaveta 9
A16: 45919 | I16: 8 | J16: =+H16/8 -> 0 | K16: =+I16/8 -> 1 | L16: NO ASISTIO | M16: Se paga un dìa debido a producciòn adicional MinDef 1.0
A17: 45920 | J17: =+H17/8 -> 0 | K17: =+I17/8 -> 0
A18: 45921 | J18: =+H18/8 -> 0 | K18: =+I18/8 -> 0
A19: 45922 | J19: =+H19/8 -> 0 | K19: =+I19/8 -> 0
A20: 45923 | C20: 6 | J20: =+H20/8 -> 0 | K20: =+I20/8 -> 0 | L20: Gavetas 1 a 6 SE ENCUENTRA AL DÌA AL 23 DE SEPTIEMBRE DE 2025
A21: 45924 | H21: 8 | J21: =+H21/8 -> 1 | K21: =+I21/8 -> 0 | L21: APOYO LOGISTICO ASIGNACION DE TRABAJO EN LOS DIFERENTES PROCESOS APOYO EN PROCESOS DE INDUCCION APOYO ADMINSITRATIVO
A22: 45925 | C22: 6 | J22: =+H22/8 -> 0 | K22: =+I22/8 -> 0 | L22: GAVETA 7 A 12 APOYO LOGISTICO ASIGNACION DE TRABAJO EN LOS DIFERENTES PROCESOS APOYO EN PROCESOS DE INDUCCION APOYO ADMINSITRATIVO
A23: 45926 | H23: 8 | J23: =+H23/8 -> 1 | K23: =+I23/8 -> 0 | L23: APOYO LOGISTICO ASIGNACION DE TRABAJO EN LOS DIFERENTES PROCESOS APOYO EN PROCESOS DE INDUCCION APOYO ADMINSITRATIVO
A24: 45927 | J24: =+H24/8 -> 0 | K24: =+I24/8 -> 0
A25: 45928 | J25: =+H25/8 -> 0 | K25: =+I25/8 -> 0
A26: 45929 | C26: 10 | H26: 8 | J26: =+H26/8 -> 1 | K26: =+I26/8 -> 0 | L26: GAVETA 13 A 22 APOYO LOGISTICO ASIGNACION DE TRABAJO EN LOS DIFERENTES PROCESOS APOYO EN PROCESOS DE INDUCCION APOYO ADMINSITRATIVO
A27: 45930 | C27: 6 | H27: 8 | J27: =+H27/8 -> 1 | K27: =+I27/8 -> 0 | L27: GAVETA 23 A 28 APOYO LOGISTICO ASIGNACION DE TRABAJO EN LOS DIFERENTES PROCESOS APOYO EN PROCESOS DE INDUCCION APOYO ADMINSITRATIVO
A28: 45931 | C28: 4 | H28: 8 | J28: =+H28/8 -> 1 | K28: =+I28/8 -> 0 | L28: GAVETA 29 A 32 APOYO LOGISTICO ASIGNACION DE TRABAJO EN LOS DIFERENTES PROCESOS APOYO EN PROCESOS DE INDUCCION APOYO ADMINSITRATIVO
A29: 45932 | C29: 8 | H29: 8 | J29: =+H29/8 -> 1 | K29: =+I29/8 -> 0 | L29: GAVETA 32 A 40
A30: 45933 | H30: 8 | J30: =+H30/8 -> 1 | K30: =+I30/8 -> 0 | L30: APOYO LOGISTICO ASIGNACION DE TRABAJO EN LOS DIFERENTES PROCESOS APOYO EN PROCESOS DE INDUCCION APOYO ADMINSITRATIVO
A31: 45934 | J31: =+H31/8 -> 0 | K31: =+I31/8 -> 0
A32: 45935 | J32: =+H32/8 -> 0 | K32: =+I32/8 -> 0
A33: 45936 | H33: 8 | J33: =+H33/8 -> 1 | K33: =+I33/8 -> 0 | L33: APOYO LOGISTICO ASIGNACION DE TRABAJO EN LOS DIFERENTES PROCESOS APOYO EN PROCESOS DE INDUCCION APOYO ADMINSITRATIVO
A34: 45937 | H34: 8 | J34: =+H34/8 -> 1 | K34: =+I34/8 -> 0 | L34: APOYO LOGISTICO ASIGNACION DE TRABAJO EN LOS DIFERENTES PROCESOS APOYO EN PROCESOS DE INDUCCION APOYO ADMINSITRATIVO
A35: 45938 | C35: 1 | H35: 8 | J35: =+H35/8 -> 1 | K35: =+I35/8 -> 0 | L35: GAVETA 44 APOYO LOGISTICO ASIGNACION DE TRABAJO EN LOS DIFERENTES PROCESOS APOYO EN PROCESOS DE INDUCCION APOYO ADMINSITRATIVO
A36: 45939 | H36: 8 | J36: =+H36/8 -> 1 | K36: =+I36/8 -> 0 | L36: APOYO LOGISTICO ASIGNACION DE TRABAJO EN LOS DIFERENTES PROCESOS APOYO EN PROCESOS DE INDUCCION APOYO ADMINSITRATIVO
A37: 45940 | C37: 1 | H37: 8 | J37: =+H37/8 -> 1 | K37: =+I37/8 -> 0 | L37: GAVETA 57 APOYO LOGISTICO ASIGNACION DE TRABAJO EN LOS DIFERENTES PROCESOS APOYO EN PROCESOS DE INDUCCION APOYO ADMINSITRATIVO
A38: 45941 | J38: =+H38/8 -> 0 | K38: =+I38/8 -> 0
A39: 45942 | J39: =+H39/8 -> 0 | K39: =+I39/8 -> 0
A40: 45943 | H40: 8 | J40: =+H40/8 -> 1 | K40: =+I40/8 -> 0 | L40: APOYO LOGISTICO ASIGNACION DE TRABAJO EN LOS DIFERENTES PROCESOS APOYO EN PROCESOS DE INDUCCION APOYO ADMINSITRATIVO
A41: 45944 | H41: 8 | J41: =+H41/8 -> 1 | K41: =+I41/8 -> 0 | L41: APOYO LOGISTICO ASIGNACION DE TRABAJO EN LOS DIFERENTES PROCESOS APOYO EN PROCESOS DE INDUCCION APOYO ADMINSITRATIVO
A42: 45945 | H42: 8 | J42: =+H42/8 -> 1 | K42: =+I42/8 -> 0 | L42: APOYO LOGISTICO ASIGNACION DE TRABAJO EN LOS DIFERENTES PROCESOS APOYO EN PROCESOS DE INDUCCION APOYO ADMINSITRATIVO
A43: 45946 | H43: 8 | J43: =+H43/8 -> 1 | K43: =+I43/8 -> 0 | L43: APOYO LOGISTICO ASIGNACION DE TRABAJO EN LOS DIFERENTES PROCESOS APOYO EN PROCESOS DE INDUCCION APOYO ADMINSITRATIVO
A44: 45947 | H44: 8 | J44: =+H44/8 -> 1 | K44: =+I44/8 -> 0 | L44: APOYO LOGISTICO ASIGNACION DE TRABAJO EN LOS DIFERENTES PROCESOS APOYO EN PROCESOS DE INDUCCION APOYO ADMINSITRATIVO
A45: 45948 | J45: =+H45/8 -> 0 | K45: =+I45/8 -> 0
A46: 45949 | J46: =+H46/8 -> 0 | K46: =+I46/8 -> 0
A47: 45950 | H47: 8 | J47: =+H47/8 -> 1 | K47: =+I47/8 -> 0 | L47: APOYO LOGISTICO ASIGNACION DE TRABAJO EN LOS DIFERENTES PROCESOS APOYO EN PROCESOS DE INDUCCION APOYO ADMINSITRATIVO
A48: 45951 | H48: 8 | J48: =+H48/8 -> 1 | K48: =+I48/8 -> 0 | L48: SE REALIZA SEGUIMIENTO CON CORTE AL 20 DE OCTUBRE EVIDENCIANDO QUE SE ENCUENTRA AL DIA EN EL CUMPLIMIENTO DE LAS METAS DE PRODUCCION VALIDACIÒN DE INVENTARIO Y HC
A49: 45952 | H49: 8 | J49: =+H49/8 -> 1 | K49: =+I49/8 -> 0 | L49: APOYO LOGISTICO ASIGNACION DE TRABAJO EN LOS DIFERENTES PROCESOS APOYO EN PROCESOS DE INDUCCION APOYO ADMINSITRATIVO VALIDACIÒN DE INVENTARIO Y HC
A50: 45953 | H50: 8 | J50: =+H50/8 -> 1 | K50: =+I50/8 -> 0 | L50: APOYO LOGISTICO ASIGNACION DE TRABAJO EN LOS DIFERENTES PROCESOS APOYO EN PROCESOS DE INDUCCION APOYO ADMINSITRATIVO VALIDACIÒN DE INVENTARIO Y HC
A51: 45954 | H51: 8 | J51: =+H51/8 -> 1 | K51: =+I51/8 -> 0 | L51: APOYO LOGISTICO ASIGNACION DE TRABAJO EN LOS DIFERENTES PROCESOS APOYO EN PROCESOS DE INDUCCION APOYO ADMINSITRATIVO VALIDACIÒN DE INVENTARIO Y HC
A52: 45955 | J52: =+H52/8 -> 0 | K52: =+I52/8 -> 0
A53: 45956 | J53: =+H53/8 -> 0 | K53: =+I53/8 -> 0
A54: 45957 | H54: 8 | J54: =+H54/8 -> 1 | K54: =+I54/8 -> 0 | L54: APOYO LOGISTICO ASIGNACION DE TRABAJO EN LOS DIFERENTES PROCESOS APOYO EN PROCESOS DE INDUCCION APOYO ADMINSITRATIVO VALIDACIÒN DE INVENTARIO Y HC
A55: 45958 | H55: 8 | J55: =+H55/8 -> 1 | K55: =+I55/8 -> 0 | L55: APOYO LOGISTICO ASIGNACION DE TRABAJO EN LOS DIFERENTES PROCESOS APOYO EN PROCESOS DE INDUCCION APOYO ADMINSITRATIVO VALIDACIÒN DE INVENTARIO Y HC
A56: 45959 | J56: =+H56/8 -> 0 | K56: =+I56/8 -> 0
A57: 45960 | J57: =+H57/8 -> 0 | K57: =+I57/8 -> 0
A58: 45961 | J58: =+H58/8 -> 0 | K58: =+I58/8 -> 0
A59: 45962 | J59: =+H59/8 -> 0 | K59: =+I59/8 -> 0
A60: 45963 | J60: =+H60/8 -> 0 | K60: =+I60/8 -> 0
A61: 45964 | J61: =+H61/8 -> 0 | K61: =+I61/8 -> 0
A62: 45965 | J62: =+H62/8 -> 0 | K62: =+I62/8 -> 0
A63: 45966 | J63: =+H63/8 -> 0 | K63: =+I63/8 -> 0
A64: 45967 | J64: =+H64/8 -> 0 | K64: =+I64/8 -> 0
A65: 45968 | J65: =+H65/8 -> 0 | K65: =+I65/8 -> 0
A66: 45969 | J66: =+H66/8 -> 0 | K66: =+I66/8 -> 0
A67: 45970 | J67: =+H67/8 -> 0 | K67: =+I67/8 -> 0
... A119: 46022 | J119: =+H119/8 -> 0 | K119: =+I119/8 -> 0
A120: PRODUCCIÓN POR PROCESO | B120: =SUM(B5:B119) -> 2 | C120: =SUM(C5:C119) -> 42 | D120: =SUM(D5:D119) -> 0 | E120: =SUM(E5:E119) -> 0 | F120: =SUM(F5:F119) -> 0 | G120: =SUM(G5:G119) -> 0 | H120: =SUM(H5:H119) -> 252 | I120: =SUM(I5:I119) -> 8 | ... L120: =SUM(L5:L119) -> 0

Sheet IBETH ANDREA ROZO GOMEZ
A1: MINISTERIO DE DEFENSA 2.0
A2: REGISTRO DIARIO DE PRODUCCIÓN - 2025
A3: IBETH ANDREA ROZO GOMEZ
A4: FECHA | B4: ORDENACIÓN ALFABÉTICA KARDEX | C4: C.C.ORDENACIÓN ALFABÉTICA KARDEX | D4: REGISTOS FUID KARDEX | E4: C.C.REGISTOS FUID KARDEX | F4: ACTUALIZACIÓN FUID CARPETAS | G4: CC ACTUALIZACIÓN FUID CARPETAS | H4: OTRAS ACTIVIDADES (HORAS) | I4: NO ASISTIÓ (HORAS) | J4: OTRAS ACTIVIDADES (DÍAS) | K4: NO ASISTIÓ (DÍAS) | L4: OBSERVACIONES
A5: 45908 | H5: 8 | J5: =+H5/8 -> 1 | K5: =+I5/8 -> 0 | L5: Revisión de ajustes de rotulación y HC Asistencia reunión elaboración Ficha Técnica
A6: 45909 | H6: 8 | J6: =+H6/8 -> 1 | K6: =+I6/8 -> 0 | L6: Traslado gavetas Kardex para diagnóstico de inventario y tiempo.
A7: 45910 | H7: 8 | J7: =+H7/8 -> 1 | K7: =+I7/8 -> 0 | L7: Prueba metodología ordenación Sistema Alfabético Kardex (Gaveta #1 soldados)
A8: 45911 | B8: 1 | H8: 8 | J8: =+H8/8 -> 1 | K8: =+I8/8 -> 0 | L8: Prueba metodología ordenación Sistema Alfabético Kardex (Gavetas #1 soldados)
A9: 45912 | I9: 8 | J9: =+H9/8 -> 0 | K9: =+I9/8 -> 1 | L9: NO ASISTIO
A10: 45913 | J10: =+H10/8 -> 0 | K10: =+I10/8 -> 0
A11: 45914 | J11: =+H11/8 -> 0 | K11: =+I11/8 -> 0
A12: 45915 | J12: =+H12/8 -> 0 | K12: =+I12/8 -> 0
A13: 45916 | B13: 1 | J13: =+H13/8 -> 0 | K13: =+I13/8 -> 0 | L13: Gaveta 6
A14: 45917 | J14: =+H14/8 -> 0 | K14: =+I14/8 -> 0
A15: 45918 | B15: 2 | J15: =+H15/8 -> 0 | K15: =+I15/8 -> 0 | L15: Gaveta 14 y 18
A16: 45919 | B16: 1 | J16: =+H16/8 -> 0 | K16: =+I16/8 -> 0 | L16: Gaveta 19
A17: 45920 | B17: 1 | J17: =+H17/8 -> 0 | K17: =+I17/8 -> 0 | L17: Gaveta 20
A18: 45921 | J18: =+H18/8 -> 0 | K18: =+I18/8 -> 0
A19: 45922 | B19: 3 | J19: =+H19/8 -> 0 | K19: =+I19/8 -> 0 | L19: Gavetas 32,33 y 34
A20: 45923 | B20: 1 | J20: =+H20/8 -> 0 | K20: =+I20/8 -> 0 | L20: Gaveta 37 SE ENCUENTRA AL DÌA 23 DE SEPTIEMBRE DE 2025
A21: 45924 | J21: =+H21/8 -> 0 | K21: =+I21/8 -> 0
A22: 45925 | J22: =+H22/8 -> 0 | K22: =+I22/8 -> 0
A23: 45926 | D23: 218 | J23: =+H23/8 -> 0 | K23: =+I23/8 -> 0 | L23: GAVETA 9
A24: 45927 | J24: =+H24/8 -> 0 | K24: =+I24/8 -> 0
A25: 45928 | J25: =+H25/8 -> 0 | K25: =+I25/8 -> 0
A26: 45929 | D26: 210 | J26: =+H26/8 -> 0 | K26: =+I26/8 -> 0 | L26: GAVETA 9
A27: 45930 | D27: 218 | J27: =+H27/8 -> 0 | K27: =+I27/8 -> 0 | L27: GAVETA 9
A28: 45931 | D28: 260 | J28: =+H28/8 -> 0 | K28: =+I28/8 -> 0 | L28: GAVETA 15
A29: 45932 | D29: 261 | J29: =+H29/8 -> 0 | K29: =+I29/8 -> 0 | L29: GAVETA 15
A30: 45933 | D30: 260 | J30: =+H30/8 -> 0 | K30: =+I30/8 -> 0 | L30: GAVETA 15
A31: 45934 | J31: =+H31/8 -> 0 | K31: =+I31/8 -> 0
A32: 45935 | J32: =+H32/8 -> 0 | K32: =+I32/8 -> 0
A33: 45936 | B33: 1 | D33: 260 | J33: =+H33/8 -> 0 | K33: =+I33/8 -> 0 | L33: GAVETA 38 GAVETA 15
A34: 45937 | D34: 331 | J34: =+H34/8 -> 0 | K34: =+I34/8 -> 0 | L34: GAVETA 15 GAVETA 30
A35: 45938 | D35: 260 | J35: =+H35/8 -> 0 | K35: =+I35/8 -> 0 | L35: GAVETA 30
A36: 45939 | D36: 261 | J36: =+H36/8 -> 0 | K36: =+I36/8 -> 0 | L36: GAVETA 30 y 44
A37: 45940 | D37: 270 | J37: =+H37/8 -> 0 | K37: =+I37/8 -> 0 | L37: GAVETA 44
A38: 45941 | J38: =+H38/8 -> 0 | K38: =+I38/8 -> 0
A39: 45942 | J39: =+H39/8 -> 0 | K39: =+I39/8 -> 0
A40: 45943 | J40: =+H40/8 -> 0 | K40: =+I40/8 -> 0
A41: 45944 | D41: 260 | J41: =+H41/8 -> 0 | K41: =+I41/8 -> 0 | L41: GAVETA 44
A42: 45945 | D42: 270 | J42: =+H42/8 -> 0 | K42: =+I42/8 -> 0 | L42: GAVETA 44 SE REALIZA SEGUIMIENTO CON CORTE AL 15/10/2025 EVIDENCIANDO UN SALDO PENDIENTE DE 301 REGISTROS FUID KARDEX
A43: 45946 | D43: 260 | J43: =+H43/8 -> 0 | K43: =+I43/8 -> 0
A44: 45947 | D44: =61+201 -> 262 | J44: =+H44/8 -> 0 | K44: =+I44/8 -> 0 | L44: GAVETA 44 Y 65
A45: 45948 | D45: 167 | J45: =+H45/8 -> 0 | K45: =+I45/8 -> 0 | L45: GAVETA 65
A46: 45949 | D46: 108 | J46: =+H46/8 -> 0 | K46: =+I46/8 -> 0 | L46: GAVETA 65
A47: 45950 | D47: 260 | J47: =+H47/8 -> 0 | K47: =+I47/8 -> 0 | L47: GAVETA 65
A48: 45951 | D48: 260 | J48: =+H48/8 -> 0 | K48: =+I48/8 -> 0 | L48: GAVETA 65
A49: 45952 | D49: 265 | J49: =+H49/8 -> 0 | K49: =+I49/8 -> 0 | L49: GAVETA 65
A50: 45953 | D50: =122+141 -> 263 | J50: =+H50/8 -> 0 | K50: =+I50/8 -> 0 | L50: GAVETA 65 Y 82
A51: 45954 | D51: 260 | J51: =+H51/8 -> 0 | K51: =+I51/8 -> 0 | L51: GAVETA 82
A52: 45955 | J52: =+H52/8 -> 0 | K52: =+I52/8 -> 0
A53: 45956 | J53: =+H53/8 -> 0 | K53: =+I53/8 -> 0
A54: 45957 | D54: 260 | J54: =+H54/8 -> 0 | K54: =+I54/8 -> 0 | L54: GAVETA 82 AL DÌA AL 27/10
A55: 45958 | D55: 222 | J55: =+H55/8 -> 0 | K55: =+I55/8 -> 0 | L55: GAVETA 82
A56: 45959 | J56: =+H56/8 -> 0 | K56: =+I56/8 -> 0
A57: 45960 | J57: =+H57/8 -> 0 | K57: =+I57/8 -> 0
A58: 45961 | J58: =+H58/8 -> 0 | K58: =+I58/8 -> 0
A59: 45962 | J59: =+H59/8 -> 0 | K59: =+I59/8 -> 0
A60: 45963 | J60: =+H60/8 -> 0 | K60: =+I60/8 -> 0
A61: 45964 | J61: =+H61/8 -> 0 | K61: =+I61/8 -> 0
A62: 45965 | J62: =+H62/8 -> 0 | K62: =+I62/8 -> 0
A63: 45966 | J63: =+H63/8 -> 0 | K63: =+I63/8 -> 0
A64: 45967 | J64: =+H64/8 -> 0 | K64: =+I64/8 -> 0
A65: 45968 | J65: =+H65/8 -> 0 | K65: =+I65/8 -> 0
A66: 45969 | J66: =+H66/8 -> 0 | K66: =+I66/8 -> 0
A67: 45970 | J67: =+H67/8 -> 0 | K67: =+I67/8 -> 0
... A119: 46022 | J119: =+H119/8 -> 0 | K119: =+I119/8 -> 0
A120: PRODUCCIÓN POR PROCESO | B120: =SUM(B5:B119) -> 11 | C120: =SUM(C5:C119) -> 0 | D120: =SUM(D5:D119) -> 5926 | E120: =SUM(E5:E119) -> 0 | F120: =SUM(F5:F119) -> 0 | G120: =SUM(G5:G119) -> 0 | H120: =SUM(H5:H119) -> 32 | I120: =SUM(I5:I119) -> 8 | ... L120: =SUM(L5:L119) -> 0

Sheet LILIIANA ANDREA RODRIGUEZ PINE
A1: MINISTERIO DE DEFENSA 2.0
A2: REGISTRO DIARIO DE PRODUCCIÓN - 2025
A3: LILIANA ANDREA RODRIGUEZ PINEDA
A4: FECHA | B4: ORDENACIÓN ALFABÉTICA KARDEX | C4: C.C.ORDENACIÓN ALFABÉTICA KARDEX | D4: REGISTOS FUID KARDEX | E4: C.C.REGISTOS FUID KARDEX | F4: ACTUALIZACIÓN FUID CARPETAS | G4: CC ACTUALIZACIÓN FUID CARPETAS | H4: OTRAS ACTIVIDADES (HORAS) | I4: NO ASISTIÓ (HORAS) | J4: OTRAS ACTIVIDADES (DÍAS) | K4: NO ASISTIÓ (DÍAS) | L4: OBSERVACIONES
A5: 45908 | H5: 8 | J5: =+H5/8 -> 1 | K5: =+I5/8 -> 0 | L5: Apoyo logistico instalación de equipos PC. Instalación de equipos.
A6: 45909 | H6: 8 | J6: =+H6/8 -> 1 | K6: =+I6/8 -> 0 | L6: Rececpión de tarjetas kardex Soldados, reconocimiento de la información, pruebas registros de iinventario
A7: 45910 | H7: 8 | J7: =+H7/8 -> 1 | K7: =+I7/8 -> 0 | L7: Prueba metodología ordenación Sistema Alfabético Kardex (Gaveta #2 soldados)
A8: 45911 | B8: 1 | H8: 8 | J8: =+H8/8 -> 1 | K8: =+I8/8 -> 0 | L8: Prueba metodología ordenación Sistema Alfabético Kardex (Gaveta #2 soldados)
A9: 45912 | H9: 8 | J9: =+H9/8 -> 1 | K9: =+I9/8 -> 0 | L9: Prueba metodología ordenación Sistema Alfabético Kardex (Inico Gaveta 4 y 10 soldados) SE ENCUENTRA AL DIA AL 12 -09-2025
A10: 45913 | J10: =+H10/8 -> 0 | K10: =+I10/8 -> 0
A11: 45914 | J11: =+H11/8 -> 0 | K11: =+I11/8 -> 0
A12: 45915 | J12: =+H12/8 -> 0 | K12: =+I12/8 -> 0
A13: 45916 | B13: 2 | J13: =+H13/8 -> 0 | K13: =+I13/8 -> 0 | L13: Gavetas 4 y 10
A14: 45917 | J14: =+H14/8 -> 0 | K14: =+I14/8 -> 0
A15: 45918 | B15: 3 | J15: =+H15/8 -> 0 | K15: =+I15/8 -> 0 | L15: Gavetas 15, 16 y 17
A16: 45919 | J16: =+H16/8 -> 0 | K16: =+I16/8 -> 0
A17: 45920 | J17: =+H17/8 -> 0 | K17: =+I17/8 -> 0
A18: 45921 | J18: =+H18/8 -> 0 | K18: =+I18/8 -> 0
A19: 45922 | B19: 3 | J19: =+H19/8 -> 0 | K19: =+I19/8 -> 0 | L19: Gavetas 29, 30 y 31
A20: 45923 | B20: 1 | J20: =+H20/8 -> 0 | K20: =+I20/8 -> 0 | L20: Gaveta 48 SE ENCUENTRA AL DIA AL 23 DE SEPTIEMBRE DE 2025
A21: 45924 | D21: 55 | J21: =+H21/8 -> 0 | K21: =+I21/8 -> 0 | L21: Da inicio al proceso de registros de inventario Gaveta 5 APOYO LOGISTICO
A22: 45925 | D22: 159 | J22: =+H22/8 -> 0 | K22: =+I22/8 -> 0 | L22: GAVETA 5
A23: 45926 | D23: 202 | J23: =+H23/8 -> 0 | K23: =+I23/8 -> 0 | L23: GAVETA 5
A24: 45927 | J24: =+H24/8 -> 0 | K24: =+I24/8 -> 0
A25: 45928 | J25: =+H25/8 -> 0 | K25: =+I25/8 -> 0
A26: 45929 | D26: 183 | J26: =+H26/8 -> 0 | K26: =+I26/8 -> 0 | L26: GAVETA 5
A27: 45930 | D27: 200 | J27: =+H27/8 -> 0 | K27: =+I27/8 -> 0 | L27: GAVETA 12
A28: 45931 | D28: 219 | J28: =+H28/8 -> 0 | K28: =+I28/8 -> 0 | L28: GAVETA 12 Y 17
A29: 45932 | D29: 304 | J29: =+H29/8 -> 0 | K29: =+I29/8 -> 0 | L29: GAVETA 17
A30: 45933 | B30: 1 | J30: =+H30/8 -> 0 | K30: =+I30/8 -> 0 | L30: INICIA EN ORDENACION GAVETA 40
A31: 45934 | J31: =+H31/8 -> 0 | K31: =+I31/8 -> 0
A32: 45935 | J32: =+H32/8 -> 0 | K32: =+I32/8 -> 0
A33: 45936 | B33: 1 | J33: =+H33/8 -> 0 | K33: =+I33/8 -> 0 | L33: GAVETA 50
A34: 45937 | H34: 8 | J34: =+H34/8 -> 1 | K34: =+I34/8 -> 0 | L34: PASO A CONTROL DE CALIDAD DE ORD APOYO LOGISTICO
A35: 45938 | C35: 2 | J35: =+H35/8 -> 0 | K35: =+I35/8 -> 0 | L35: GAVETAS 41 Y 42 APOYO APELLIDOS EXTENSOS
A36: 45939 | C36: 2 | J36: =+H36/8 -> 0 | K36: =+I36/8 -> 0 | L36: GAVETAS 47 Y 51 APOYO APELLIDOS EXTENSOS
A37: 45940 | C37: 2 | J37: =+H37/8 -> 0 | K37: =+I37/8 -> 0 | L37: GAVETA 56 Y 57
A38: 45941 | J38: =+H38/8 -> 0 | K38: =+I38/8 -> 0
A39: 45942 | J39: =+H39/8 -> 0 | K39: =+I39/8 -> 0
A40: 45943 | J40: =+H40/8 -> 0 | K40: =+I40/8 -> 0
A41: 45944 | C41: 2 | J41: =+H41/8 -> 0 | K41: =+I41/8 -> 0 | L41: GAVETA 64 Y 70 APOYO APELLIDOS EXTENSOS
A42: 45945 | C42: 2 | J42: =+H42/8 -> 0 | K42: =+I42/8 -> 0 | L42: GAVETAS 105 Y 106 APOYO APELLIDOS EXTENSOS
A43: 45946 | C43: 2.5 | J43: =+H43/8 -> 0 | K43: =+I43/8 -> 0 | L43: GAVETAS 111-112-113 APOYO APELLIDOS EXTENSOS
A44: 45947 | C44: 2.5 | J44: =+H44/8 -> 0 | K44: =+I44/8 -> 0 | L44: SE REALIZA SEGUIMIENTO CON CORTE AL 16/10/2025 EVDENCIANDO QUE SE ENCUENTRA AL DIA EN METAS DE PRODUCCION GAVETAS 113-114-115 APOYO APELLIDOS EXTENSOS
A45: 45948 | J45: =+H45/8 -> 0 | K45: =+I45/8 -> 0
A46: 45949 | J46: =+H46/8 -> 0 | K46: =+I46/8 -> 0
A47: 45950 | C47: 3.5 | J47: =+H47/8 -> 0 | K47: =+I47/8 -> 0 | L47: GAVETAS 116 A 119 APOYO APELLIDOS EXTENSOS
A48: 45951 | C48: 8.5 | J48: =+H48/8 -> 0 | K48: =+I48/8 -> 0 | L48: GAVETAS 119-120-123-124-126-129-130-134-135 APOYO APELLIDOS EXTENSOS
A49: 45952 | C49: 7 | J49: =+H49/8 -> 0 | K49: =+I49/8 -> 0 | L49: GAVETAS 88-89 APOYO APELLIDOS EXTENSOS APOYO CALIDAD ORDENACIÓN UNIFICACIÓN GAVETAS APELLIDOS
A50: 45953 | C50: 5 | J50: =+H50/8 -> 0 | K50: =+I50/8 -> 0 | L50: APOYO APELLIDOS EXTENSOS APOYO CALIDAD ORDENACIÓN UNIFICACIÓN
A51: 45954 | C51: 7 | J51: =+H51/8 -> 0 | K51: =+I51/8 -> 0 | L51: APOYO APELLIDOS EXTENSOS APOYO CALIDAD ORDENACIÓN UNIFICACIÓN
A52: 45955 | J52: =+H52/8 -> 0 | K52: =+I52/8 -> 0
A53: 45956 | J53: =+H53/8 -> 0 | K53: =+I53/8 -> 0
A54: 45957 | C54: 3 | J54: =+H54/8 -> 0 | K54: =+I54/8 -> 0 | L54: APOYO APELLIDOS EXTENSOS APOYO CALIDAD ORDENACIÓN UNIFICACIÓN CC GAVETA 116 AL DÌA AL 27/10
A55: 45958 | J55: =+H55/8 -> 0 | K55: =+I55/8 -> 0
A56: 45959 | J56: =+H56/8 -> 0 | K56: =+I56/8 -> 0
A57: 45960 | J57: =+H57/8 -> 0 | K57: =+I57/8 -> 0
A58: 45961 | J58: =+H58/8 -> 0 | K58: =+I58/8 -> 0
A59: 45962 | J59: =+H59/8 -> 0 | K59: =+I59/8 -> 0
A60: 45963 | J60: =+H60/8 -> 0 | K60: =+I60/8 -> 0
A61: 45964 | J61: =+H61/8 -> 0 | K61: =+I61/8 -> 0
A62: 45965 | J62: =+H62/8 -> 0 | K62: =+I62/8 -> 0
A63: 45966 | J63: =+H63/8 -> 0 | K63: =+I63/8 -> 0
A64: 45967 | J64: =+H64/8 -> 0 | K64: =+I64/8 -> 0
A65: 45968 | J65: =+H65/8 -> 0 | K65: =+I65/8 -> 0
A66: 45969 | J66: =+H66/8 -> 0 | K66: =+I66/8 -> 0
... A119: 46022 | J119: =+H119/8 -> 0 | K119: =+I119/8 -> 0
A120: PRODUCCIÓN POR PROCESO | B120: =SUM(B5:B119) -> 12 | C120: =SUM(C5:C119) -> 49 | D120: =SUM(D5:D119) -> 1322 | E120: =SUM(E5:E119) -> 0 | F120: =SUM(F5:F119) -> 0 | G120: =SUM(G5:G119) -> 0 | H120: =SUM(H5:H119) -> 48 | I120: =SUM(I5:I119) -> 0 | ... L120: =SUM(L5:L119) -> 0

Sheet LUIS ALCIDES ARIZA LAITON 
A1: MINISTERIO DE DEFENSA 2.0
A2: REGISTRO DIARIO DE PRODUCCIÓN - 2025
A3: LUIS ALCIDES ARIZA LAITON
A4: FECHA | B4: ORDENACIÓN ALFABÉTICA KARDEX | C4: C.C.ORDENACIÓN ALFABÉTICA KARDEX | D4: REGISTOS FUID KARDEX | E4: C.C.REGISTOS FUID KARDEX | F4: ACTUALIZACIÓN FUID CARPETAS | G4: CC ACTUALIZACIÓN FUID CARPETAS | H4: OTRAS ACTIVIDADES (HORAS) | I4: NO ASISTIÓ (HORAS) | J4: OTRAS ACTIVIDADES (DÍAS) | K4: NO ASISTIÓ (DÍAS) | L4: OBSERVACIONES
A5: 45908 | J5: =+H5/8 -> 0 | K5: =+I5/8 -> 0
A6: 45909 | H6: 8 | J6: =+H6/8 -> 1 | K6: =+I6/8 -> 0 | L6: Traslado de Tarjetas Kardex letra A -Prueba datos de inventario.
A7: 45910 | J7: =+H7/8 -> 0 | K7: =+I7/8 -> 0 | L7: NO ASISTIO | M7: Compensatorio MidDef 1
A8: 45911 | H8: 8 | J8: =+H8/8 -> 1 | K8: =+I8/8 -> 0 | L8: Foliación Tarjetas Kadex Veteranos de Guerra MinDef 1,0 (2092 folios)
A9: 45912 | H9: 8 | J9: =+H9/8 -> 1 | K9: =+I9/8 -> 0 | L9: Foliación Tarjetas Kadex Veteranos de Guerra MinDef 1,0 (2311 folios) SE ENCUENTRA AL DIA EN METAS DE PRODUCCION AL 12 DE SEP DE 2026
A10: 45913 | J10: =+H10/8 -> 0 | K10: =+I10/8 -> 0
A11: 45914 | J11: =+H11/8 -> 0 | K11: =+I11/8 -> 0
A12: 45915 | H12: 8 | J12: =+H12/8 -> 1 | K12: =+I12/8 -> 0 | L12: Foliación Tarjetas Kadex Veteranos de Guerra MinDef 1,0 (1010) reunión de subdirección en AGN
A13: 45916 | H13: 8 | J13: =+H13/8 -> 1 | K13: =+I13/8 -> 0 | L13: Foliación Tarjetas Kadex Veteranos de Guerra MinDef 1,0 (2626 Folios) Total de folios de Tarjetas Kardex Veteranos de Guerra 9,075 folios
A14: 45917 | J14: =+H14/8 -> 0 | K14: =+I14/8 -> 0 | L14: NO ASISTIO | M14: 1 dìa prod
A15: 45918 | J15: =+H15/8 -> 0 | K15: =+I15/8 -> 0
A16: 45919 | B16: 2 | J16: =+H16/8 -> 0 | K16: =+I16/8 -> 0 | L16: Gavetas 23 y 24 - Pdte Gaveta No.25
A17: 45920 | J17: =+H17/8 -> 0 | K17: =+I17/8 -> 0
A18: 45921 | J18: =+H18/8 -> 0 | K18: =+I18/8 -> 0
A19: 45922 | J19: =+H19/8 -> 0 | K19: =+I19/8 -> 0 | L19: Sin Producciòn
A20: 45923 | J20: =+H20/8 -> 0 | K20: =+I20/8 -> 0 | L20: Sin Producciòn SE REALIZA SEGUIMIENTO QUEDANDO PDTS 3 DIAS DE PRODUCCIÒN
A21: 45924 | D21: 61 | J21: =+H21/8 -> 0 | K21: =+I21/8 -> 0 | L21: GAVETA 3
A22: 45925 | D22: 129 | J22: =+H22/8 -> 0 | K22: =+I22/8 -> 0 | L22: GAVETA 3
A23: 45926 | D23: 125 | J23: =+H23/8 -> 0 | K23: =+I23/8 -> 0 | L23: GAVETA 3
A24: 45927 | J24: =+H24/8 -> 0 | K24: =+I24/8 -> 0
A25: 45928 | J25: =+H25/8 -> 0 | K25: =+I25/8 -> 0
A26: 45929 | D26: 157 | J26: =+H26/8 -> 0 | K26: =+I26/8 -> 0 | L26: GAVETA 3
A27: 45930 | D27: 270 | J27: =+H27/8 -> 0 | K27: =+I27/8 -> 0 | L27: GAVETA 12
A28: 45931 | D28: 281 | J28: =+H28/8 -> 0 | K28: =+I28/8 -> 0 | L28: GAVETA 12
A29: 45932 | D29: 350 | J29: =+H29/8 -> 0 | K29: =+I29/8 -> 0 | L29: GAVETA 12 Y 21
A30: 45933 | D30: 206 | J30: =+H30/8 -> 0 | K30: =+I30/8 -> 0 | L30: GAVETA 21
A31: 45934 | D31: 179 | J31: =+H31/8 -> 0 | K31: =+I31/8 -> 0 | L31: GAVETA 21
A32: 45935 | J32: =+H32/8 -> 0 | K32: =+I32/8 -> 0
A33: 45936 | D33: 320 | J33: =+H33/8 -> 0 | K33: =+I33/8 -> 0 | L33: GAVETA 28
A34: 45937 | D34: 300 | J34: =+H34/8 -> 0 | K34: =+I34/8 -> 0 | L34: GAVETA 28
A35: 45938 | D35: 305 | J35: =+H35/8 -> 0 | K35: =+I35/8 -> 0 | L35: GAVETA 28 Y 42
A36: 45939 | D36: 261 | J36: =+H36/8 -> 0 | K36: =+I36/8 -> 0 | L36: GAVETA 42 Y 48
A37: 45940 | D37: 259 | J37: =+H37/8 -> 0 | K37: =+I37/8 -> 0 | L37: GAVETA 48
A38: 45941 | J38: =+H38/8 -> 0 | K38: =+I38/8 -> 0
A39: 45942 | J39: =+H39/8 -> 0 | K39: =+I39/8 -> 0
A40: 45943 | J40: =+H40/8 -> 0 | K40: =+I40/8 -> 0
A41: 45944 | D41: 260 | J41: =+H41/8 -> 0 | K41: =+I41/8 -> 0 | L41: GAVETA 48
A42: 45945 | D42: 259 | J42: =+H42/8 -> 0 | K42: =+I42/8 -> 0 | L42: GAVETA 48 SE REALIZA SEGUIMIENTO CON CORTE AL 15/10/2025 EVIDENCIANDO UN SALDO PENDIENTE DE 3 GAVETAS DE PRODUCCION MAS 178 REGISTROS FUID KARDEX LO ANTERIOR EQUIVALENTE A 3.7 DÌAS DE PRODUCCION
A43: 45946 | D43: 300 | J43: =+H43/8 -> 0 | K43: =+I43/8 -> 0 | L43: GAVETA 48
A44: 45947 | D44: =92+177 -> 269 | J44: =+H44/8 -> 0 | K44: =+I44/8 -> 0 | L44: GAVETA 48 Y 66
A45: 45948 | D45: 271 | J45: =+H45/8 -> 0 | K45: =+I45/8 -> 0 | L45: GAVETA 66
A46: 45949 | J46: =+H46/8 -> 0 | K46: =+I46/8 -> 0
A47: 45950 | D47: 270 | J47: =+H47/8 -> 0 | K47: =+I47/8 -> 0 | L47: GAVETA 66
A48: 45951 | D48: 260 | J48: =+H48/8 -> 0 | K48: =+I48/8 -> 0 | L48: GAVETA 66
A49: 45952 | D49: 260 | J49: =+H49/8 -> 0 | K49: =+I49/8 -> 0 | L49: GAVETA 66
A50: 45953 | D50: 173 | F50: 27 | J50: =+H50/8 -> 0 | K50: =+I50/8 -> 0 | L50: GAVETA 66 ACTUALIZACIÓN INVENTARIO CARPETAS
A51: 45954 | F51: 76 | J51: =+H51/8 -> 0 | K51: =+I51/8 -> 0 | L51: ACTUALIZACIÓN INVENTARIO CARPETAS
A52: 45955 | J52: =+H52/8 -> 0 | K52: =+I52/8 -> 0
A53: 45956 | J53: =+H53/8 -> 0 | K53: =+I53/8 -> 0
A54: 45957 | F54: 103 | J54: =+H54/8 -> 0 | K54: =+I54/8 -> 0
A55: 45958 | F55: 102 | J55: =+H55/8 -> 0 | K55: =+I55/8 -> 0 | L55: 0,4 DÌAS PENDIENTES PARA QUEDAR AL DÌA AL 24/10 PRESENTA INFORME CON DATOS HASTA EL 28/10
A56: 45959 | J56: =+H56/8 -> 0 | K56: =+I56/8 -> 0 | L56: META DE ACTUALIZACIÒN FUID CARPETAS 600 REGISTROS
A57: 45960 | J57: =+H57/8 -> 0 | K57: =+I57/8 -> 0
A58: 45961 | J58: =+H58/8 -> 0 | K58: =+I58/8 -> 0
A59: 45962 | J59: =+H59/8 -> 0 | K59: =+I59/8 -> 0
A60: 45963 | J60: =+H60/8 -> 0 | K60: =+I60/8 -> 0
A61: 45964 | J61: =+H61/8 -> 0 | K61: =+I61/8 -> 0
A62: 45965 | J62: =+H62/8 -> 0 | K62: =+I62/8 -> 0
A63: 45966 | J63: =+H63/8 -> 0 | K63: =+I63/8 -> 0
A64: 45967 | J64: =+H64/8 -> 0 | K64: =+I64/8 -> 0
A65: 45968 | J65: =+H65/8 -> 0 | K65: =+I65/8 -> 0
A66: 45969 | J66: =+H66/8 -> 0 | K66: =+I66/8 -> 0
A67: 45970 | J67: =+H67/8 -> 0 | K67: =+I67/8 -> 0
A68: 45971 | J68: =+H68/8 -> 0 | K68: =+I68/8 -> 0
... A119: 46022 | J119: =+H119/8 -> 0 | K119: =+I119/8 -> 0
A120: PRODUCCIÓN POR PROCESO | B120: =SUM(B5:B119)/#REF! -> #REF! | C120: =SUM(C5:C119) -> 0 | D120: =SUM(D5:D119)/2 -> 2762.5 | E120: =SUM(E5:E119)/#REF! -> #REF! | F120: =SUM(F5:F119) -> 308 | G120: =SUM(G5:G119)/#REF! -> #REF! | H120: =SUM(H5:H119) -> 40 | I120: =SUM(I5:I119)/#REF! -> #REF! | J120: =SUM(J5:J119) -> 5 | K120: =SUM(K5:K119) -> 0 | L120: =SUM(L5:L119) -> 0

Sheet ANDRES F MAYORGA J
A1: MINISTERIO DE DEFENSA 2.0
A2: REGISTRO DIARIO DE PRODUCCIÓN - 2025
A3: ANDRES FELIPE MAYORGA JAIMES
A4: FECHA | B4: ORDENACIÓN ALFABÉTICA KARDEX | C4: C.C.ORDENACIÓN ALFABÉTICA KARDEX | D4: REGISTOS FUID KARDEX | E4: C.C.REGISTOS FUID KARDEX | F4: ACTUALIZACIÓN FUID CARPETAS | G4: CC ACTUALIZACIÓN FUID CARPETAS | H4: OTRAS ACTIVIDADES (HORAS) | I4: NO ASISTIÓ (HORAS) | J4: OTRAS ACTIVIDADES (DÍAS) | K4: NO ASISTIÓ (DÍAS) | L4: OBSERVACIONES
A5: 45908 | J5: =+H5/8 -> 0 | K5: =+I5/8 -> 0
A6: 45909 | J6: =+H6/8 -> 0 | K6: =+I6/8 -> 0
A7: 45910 | J7: =+H7/8 -> 0 | K7: =+I7/8 -> 0
A8: 45911 | J8: =+H8/8 -> 0 | K8: =+I8/8 -> 0
A9: 45912 | J9: =+H9/8 -> 0 | K9: =+I9/8 -> 0
A10: 45913 | J10: =+H10/8 -> 0 | K10: =+I10/8 -> 0
A11: 45914 | J11: =+H11/8 -> 0 | K11: =+I11/8 -> 0
A12: 45915 | J12: =+H12/8 -> 0 | K12: =+I12/8 -> 0
A13: 45916 | J13: =+H13/8 -> 0 | K13: =+I13/8 -> 0
A14: 45917 | J14: =+H14/8 -> 0 | K14: =+I14/8 -> 0
A15: 45918 | J15: =+H15/8 -> 0 | K15: =+I15/8 -> 0
A16: 45919 | J16: =+H16/8 -> 0 | K16: =+I16/8 -> 0
... A20: 45923 | J20: =+H20/8 -> 0 | K20: =+I20/8 -> 0
A21: 45924 | D21: 14 | J21: =+H21/8 -> 0 | K21: =+I21/8 -> 0 | L21: INGRESA PROYECTO MINDEFENSA /CURVA DE APRENDIZAJE PROCESO FUID KARDEX SOLDADOS (GAVETA 3)
A22: 45925 | D22: 73 | J22: =+H22/8 -> 0 | K22: =+I22/8 -> 0 | L22: GAVETA 3
A23: 45926 | D23: 50 | J23: =+H23/8 -> 0 | K23: =+I23/8 -> 0 | L23: GAVETA 3
A24: 45927 | J24: =+H24/8 -> 0 | K24: =+I24/8 -> 0
A25: 45928 | J25: =+H25/8 -> 0 | K25: =+I25/8 -> 0
A26: 45929 | D26: 50 | J26: =+H26/8 -> 0 | K26: =+I26/8 -> 0 | L26: GAVETA 3
A27: 45930 | D27: 120 | J27: =+H27/8 -> 0 | K27: =+I27/8 -> 0 | L27: GAVETA 3
A28: 45931 | D28: 90 | J28: =+H28/8 -> 0 | K28: =+I28/8 -> 0 | L28: GAVETA 3
A29: 45932 | D29: 156 | J29: =+H29/8 -> 0 | K29: =+I29/8 -> 0 | L29: GAVETA 3
A30: 45933 | J30: =+H30/8 -> 0 | K30: =+I30/8 -> 0 | L30: NO ASISTIO
A31: 45934 | J31: =+H31/8 -> 0 | K31: =+I31/8 -> 0
A32: 45935 | J32: =+H32/8 -> 0 | K32: =+I32/8 -> 0
A33: 45936 | D33: 63 | J33: =+H33/8 -> 0 | K33: =+I33/8 -> 0
A34: 45937 | J34: =+H34/8 -> 0 | K34: =+I34/8 -> 0 | L34: NO ASISTIO
A35: 45938 | D35: 140 | J35: =+H35/8 -> 0 | K35: =+I35/8 -> 0 | L35: GAVETA 31 AL DÌA 08 DE OCTUBRE DE 2025 PRESENTA UN SALDO PENDIENTE EN META DE PRODUCCIÒN DE 1,738 REGISTROS TENIENDO COMO BASE LA META ESTABLECIDA DE 260 REGISTROS POR DÌA. LO ANTERIOR ES EQUIVALENTE A 6,68 DIAS PENDIENTES EN META DE PRODUCCION.
A36: 45939 | D36: 124 | J36: =+H36/8 -> 0 | K36: =+I36/8 -> 0
A37: 45940 | D37: 166 | J37: =+H37/8 -> 0 | K37: =+I37/8 -> 0
A38: 45941 | J38: =+H38/8 -> 0 | K38: =+I38/8 -> 0
A39: 45942 | J39: =+H39/8 -> 0 | K39: =+I39/8 -> 0
A40: 45943 | J40: =+H40/8 -> 0 | K40: =+I40/8 -> 0
A41: 45944 | D41: 210 | J41: =+H41/8 -> 0 | K41: =+I41/8 -> 0 | L41: GAVETA 31
A42: 45945 | D42: 130 | J42: =+H42/8 -> 0 | K42: =+I42/8 -> 0 | L42: GAVETA 31
A43: 45946 | D43: 163 | J43: =+H43/8 -> 0 | K43: =+I43/8 -> 0 | L43: GAVETA 31 SE REALIZA SEGUIMIENTO CON CORTE AL 15/10/2025 EVIDENCIANDO UN SALDO PENDIENTE DE 2,254 REGISTROS FUID KARDEX EQUIVALENTES A 8,7 DIAS DE PRODUCCION EL SALDO PDTE EN META DE PRODUCCION DEL PROYECTO DAPRE SE AJUSTA EN EL MISMO
A44: 45947 | D44: 159 | J44: =+H44/8 -> 0 | K44: =+I44/8 -> 0 | L44: GAVETA 31
A45: 45948 | J45: =+H45/8 -> 0 | K45: =+I45/8 -> 0
A46: 45949 | J46: =+H46/8 -> 0 | K46: =+I46/8 -> 0
A47: 45950 | B47: 1 | J47: =+H47/8 -> 0 | K47: =+I47/8 -> 0 | L47: GAVETA 116
A48: 45951 | B48: 1 | J48: =+H48/8 -> 0 | K48: =+I48/8 -> 0 | L48: GAVETA 122
A49: 45952 | B49: 1 | J49: =+H49/8 -> 0 | K49: =+I49/8 -> 0 | L49: GAVETA 129
A50: 45953 | B50: 1 | J50: =+H50/8 -> 0 | K50: =+I50/8 -> 0 | L50: GAVETA 135
A51: 45954 | B51: 4 | J51: =+H51/8 -> 0 | K51: =+I51/8 -> 0 | L51: GAVETA 6 Y 15, 24 Y 25 OF SUB SE REALIZA SEGUIMIENTO CON CORTE AL 24 DE OCTUBRE DE 2025 EVIDENCIANDO UN SALDO PENDIENTE DE 2,452 REGISTROS DE INVENTARIO KARDEX EQUIVALENTES 9,4 DIAS EN META DE PRODUCCION. EN EL PROCESO DE ORDENACION PRESENTA UN SALDO A FAVRO DE 3 GAVETAS EQUIVALENTES A 3 DIAS DE PRODUCCION. SE CONCLUYE QUE EN TOTAL PRESENTA UN SALDO PENDIENTE DE 6,4 DIAS EN METAS DE PRODUCCION
A52: 45955 | J52: =+H52/8 -> 0 | K52: =+I52/8 -> 0
A53: 45956 | J53: =+H53/8 -> 0 | K53: =+I53/8 -> 0
A54: 45957 | J54: =+H54/8 -> 0 | K54: =+I54/8 -> 0
A55: 45958 | B55: 2 | J55: =+H55/8 -> 0 | K55: =+I55/8 -> 0 | L55: GAVETA 31 Y 38
A56: 45959 | B56: 1 | J56: =+H56/8 -> 0 | K56: =+I56/8 -> 0 | L56: GAVETA 46
A57: 45960 | B57: 1 | J57: =+H57/8 -> 0 | K57: =+I57/8 -> 0 | L57: GAVETA 51
A58: 45961 | B58: 1 | J58: =+H58/8 -> 0 | K58: =+I58/8 -> 0 | L58: GAVETA 58 SE REALIZA NUEVAMENTE SEGUIMIENTO CON CORTE AL 24 DE OCTUBRE LA PRODUCCION DEL DIA 27 AL 31 DE OCTUBRE SE ABONA AL CORTE MENCIONADO SE CONCLUYE QUE A LA FECHA SE ENCENTRA CON UN SALDO PENDIENTE EN META DE PRODUCCIÒN DE 1,4 DIAS
A59: 45962 | J59: =+H59/8 -> 0 | K59: =+I59/8 -> 0
A60: 45963 | J60: =+H60/8 -> 0 | K60: =+I60/8 -> 0
A61: 45964 | J61: =+H61/8 -> 0 | K61: =+I61/8 -> 0
A62: 45965 | J62: =+H62/8 -> 0 | K62: =+I62/8 -> 0
A63: 45966 | J63: =+H63/8 -> 0 | K63: =+I63/8 -> 0
A64: 45967 | J64: =+H64/8 -> 0 | K64: =+I64/8 -> 0
A65: 45968 | J65: =+H65/8 -> 0 | K65: =+I65/8 -> 0
A66: 45969 | J66: =+H66/8 -> 0 | K66: =+I66/8 -> 0
A67: 45970 | J67: =+H67/8 -> 0 | K67: =+I67/8 -> 0
A68: 45971 | J68: =+H68/8 -> 0 | K68: =+I68/8 -> 0
A69: 45972 | J69: =+H69/8 -> 0 | K69: =+I69/8 -> 0
A70: 45973 | J70: =+H70/8 -> 0 | K70: =+I70/8 -> 0
... A119: 46022 | J119: =+H119/8 -> 0 | K119: =+I119/8 -> 0
A120: PRODUCCIÓN POR PROCESO | B120: =SUM(B5:B119) -> 13 | C120: =SUM(C5:C119) -> 0 | D120: =SUM(D5:D119) -> 1708 | E120: =SUM(E5:E119) -> 0 | F120: =SUM(F5:F119) -> 0 | G120: =SUM(G5:G119) -> 0 | H120: =SUM(H5:H119) -> 0 | I120: =SUM(I5:I119) -> 0 | ... L120: =SUM(L5:L119) -> 0

Sheet BRYAN MEJIA 
A1: MINISTERIO DE DEFENSA 2.0
A2: REGISTRO DIARIO DE PRODUCCIÓN - 2025
A3: BRYAN ANTONIO MEJIA
A4: FECHA | B4: ORDENACIÓN ALFABÉTICA KARDEX | C4: C.C.ORDENACIÓN ALFABÉTICA KARDEX | D4: REGISTOS FUID KARDEX | E4: C.C.REGISTOS FUID KARDEX | F4: ACTUALIZACIÓN FUID CARPETAS | G4: CC ACTUALIZACIÓN FUID CARPETAS | H4: OTRAS ACTIVIDADES (HORAS) | I4: NO ASISTIÓ (HORAS) | J4: OTRAS ACTIVIDADES (DÍAS) | K4: NO ASISTIÓ (DÍAS) | L4: OBSERVACIONES
A5: 45924 | D5: 47 | J5: =+H5/8 -> 0 | K5: =+I5/8 -> 0 | L5: INGRESA AL PROYECTO 24/09/2025 CURVA DE APRENDIZAJE GAVETA 1
A6: 45925 | D6: 153 | J6: =+H6/8 -> 0 | K6: =+I6/8 -> 0 | L6: GAVETA 1
A7: 45926 | D7: 201 | J7: =+H7/8 -> 0 | K7: =+I7/8 -> 0 | L7: GAVETA 1
A8: 45927 | J8: =+H8/8 -> 0 | K8: =+I8/8 -> 0
A9: 45928 | J9: =+H9/8 -> 0 | K9: =+I9/8 -> 0
A10: 45929 | D10: 149 | J10: =+H10/8 -> 0 | K10: =+I10/8 -> 0 | L10: GAVETA 1
A11: 45930 | D11: 159 | J11: =+H11/8 -> 0 | K11: =+I11/8 -> 0 | L11: GAVETA 1 Y 7
A12: 45931 | D12: 122 | J12: =+H12/8 -> 0 | K12: =+I12/8 -> 0 | L12: GAVETA 7 Y 16
A13: 45932 | D13: 281 | J13: =+H13/8 -> 0 | K13: =+I13/8 -> 0 | L13: GAVETA 16
A14: 45933 | J14: =+H14/8 -> 0 | K14: =+I14/8 -> 0 | L14: NO ASISTIO
A15: 45934 | J15: =+H15/8 -> 0 | K15: =+I15/8 -> 0
A16: 45935 | J16: =+H16/8 -> 0 | K16: =+I16/8 -> 0
A17: 45936 | D17: 281 | J17: =+H17/8 -> 0 | K17: =+I17/8 -> 0 | L17: GAVETA 16
A18: 45937 | D18: 261 | J18: =+H18/8 -> 0 | K18: =+I18/8 -> 0 | L18: GAVETA 16
A19: 45938 | D19: 264 | J19: =+H19/8 -> 0 | K19: =+I19/8 -> 0 | L19: GAVETA 16
A20: 45939 | D20: 260 | J20: =+H20/8 -> 0 | K20: =+I20/8 -> 0 | L20: GAVETA 16 Y 46
A21: 45940 | D21: 261 | J21: =+H21/8 -> 0 | K21: =+I21/8 -> 0 | L21: GAVETA 46
A22: 45941 | D22: 21 | J22: =+H22/8 -> 0 | K22: =+I22/8 -> 0
A23: 45942 | J23: =+H23/8 -> 0 | K23: =+I23/8 -> 0
A24: 45943 | J24: =+H24/8 -> 0 | K24: =+I24/8 -> 0
A25: 45944 | D25: 327 | J25: =+H25/8 -> 0 | K25: =+I25/8 -> 0 | L25: GAVETA 46 SE REALIZA SEGUIMIENTO, EVIDENCIANDO UN SALDO PENDIENTE DE 728 REGISTROS FUID EQUIVALENTES A 2,8 DIAS EN META DE PRODUCCIÒN
A26: 45945 | D26: 21 | E26: 295 | J26: =+H26/8 -> 0 | K26: =+I26/8 -> 0 | L26: GAVETA 46 Y 4
A27: 45946 | E27: 400 | J27: =+H27/8 -> 0 | K27: =+I27/8 -> 0 | L27: GAVETA 4
A28: 45947 | E28: 1214 | J28: =+H28/8 -> 0 | K28: =+I28/8 -> 0 | L28: GAVETA 19
A29: 45948 | J29: =+H29/8 -> 0 | K29: =+I29/8 -> 0
A30: 45949 | J30: =+H30/8 -> 0 | K30: =+I30/8 -> 0
A31: 45950 | J31: =+H31/8 -> 0 | K31: =+I31/8 -> 0
A32: 45951 | E32: 917 | J32: =+H32/8 -> 0 | K32: =+I32/8 -> 0 | L32: GAVETA 20
A33: 45952 | E33: 250 | J33: =+H33/8 -> 0 | K33: =+I33/8 -> 0 | L33: GAVETA 20
A34: 45953 | E34: 640 | J34: =+H34/8 -> 0 | K34: =+I34/8 -> 0 | L34: GAVETA 9 SE REVISO INCOMPLETA POR CAMBIO DE PROCESO
A35: 45954 | J35: =+H35/8 -> 0 | K35: =+I35/8 -> 0 | L35: SE REALIZA SEGUIMIENTO CON CORTE AL 24 DE OCTUBRE EVIDENCIANDO QUE REALIZO UN EXCENDENTE DE 31 REGISTROS ABONADOS A LOS 728 REGISTROS PENDIENTES DEL SEGUIMIENTO ANTERIOR CONCLUSION: QUEDANDO UN SALDO PENDIENTE DE 697 REGISTROS KARDEX EQUIVALENTES A 2,7 DIAS EN METAS DE PRODUCCION
A36: 45955 | J36: =+H36/8 -> 0 | K36: =+I36/8 -> 0
A37: 45956 | J37: =+H37/8 -> 0 | K37: =+I37/8 -> 0
A38: 45957 | J38: =+H38/8 -> 0 | K38: =+I38/8 -> 0
A39: 45958 | J39: =+H39/8 -> 0 | K39: =+I39/8 -> 0
A40: 45959 | F40: 20 | J40: =+H40/8 -> 0 | K40: =+I40/8 -> 0 | L40: CAJAS 189-190-191
A41: 45960 | J41: =+H41/8 -> 0 | K41: =+I41/8 -> 0
A42: 45961 | F42: 48 | J42: =+H42/8 -> 0 | K42: =+I42/8 -> 0 | L42: CAJAS 192 A CJ 201
A43: 45962 | J43: =+H43/8 -> 0 | K43: =+I43/8 -> 0
A44: 45963 | J44: =+H44/8 -> 0 | K44: =+I44/8 -> 0
A45: 45964 | J45: =+H45/8 -> 0 | K45: =+I45/8 -> 0
A46: 45965 | F46: 46 | J46: =+H46/8 -> 0 | K46: =+I46/8 -> 0 | L46: CAJAS 202 A CJ 205 Y CJ 643 Y 644
A47: 45966 | F47: 111 | J47: =+H47/8 -> 0 | K47: =+I47/8 -> 0 | L47: CAJAS 645 A 652 Y CJ2131 SE REALIZA SEGUIMIENTO CON CORTE AL 05/11/2025 AUTORIZADO SOBRE 400 REGISTROS SE CONCLUYE QUE A LA FECHA PRESENTA UN SALDO PENDIENTE DE 2 DIAS EN META DE PRODUCCION
A48: 45967 | J48: =+H48/8 -> 0 | K48: =+I48/8 -> 0
A49: 45968 | J49: =+H49/8 -> 0 | K49: =+I49/8 -> 0
A50: 45969 | J50: =+H50/8 -> 0 | K50: =+I50/8 -> 0
A51: 45970 | J51: =+H51/8 -> 0 | K51: =+I51/8 -> 0
A52: 45971 | J52: =+H52/8 -> 0 | K52: =+I52/8 -> 0
A53: 45972 | J53: =+H53/8 -> 0 | K53: =+I53/8 -> 0
A54: 45973 | J54: =+H54/8 -> 0 | K54: =+I54/8 -> 0
A55: 45974 | J55: =+H55/8 -> 0 | K55: =+I55/8 -> 0
A56: 45975 | J56: =+H56/8 -> 0 | K56: =+I56/8 -> 0
A57: 45976 | J57: =+H57/8 -> 0 | K57: =+I57/8 -> 0
A58: 45977 | J58: =+H58/8 -> 0 | K58: =+I58/8 -> 0
A59: 45978 | J59: =+H59/8 -> 0 | K59: =+I59/8 -> 0
... A103: 46022 | J103: =+H103/8 -> 0 | K103: =+I103/8 -> 0
A104: PRODUCCIÓN POR PROCESO | B104: =SUM(B5:B103) -> 0 | C104: =SUM(C5:C103) -> 0 | D104: =SUM(D5:D103) -> 2808 | E104: =SUM(E5:E103) -> 3716 | F104: =SUM(F5:F103) -> 225 | G104: =SUM(G5:G103) -> 0 | H104: =SUM(H5:H103) -> 0 | I104: =SUM(I5:I103) -> 0 | ... L104: =SUM(L5:L103) -> 0
J105: =+H105/8 -> 0 | K105: =+I105/8 -> 0
J106: =+H106/8 -> 0 | K106: =+I106/8 -> 0
J107: =+H107/8 -> 0 | K107: =+I107/8 -> 0
J108: =+H108/8 -> 0 | K108: =+I108/8 -> 0
J109: =+H109/8 -> 0 | K109: =+I109/8 -> 0
J110: =+H110/8 -> 0 | K110: =+I110/8 -> 0
J111: =+H111/8 -> 0 | K111: =+I111/8 -> 0
J112: =+H112/8 -> 0 | K112: =+I112/8 -> 0
J113: =+H113/8 -> 0 | K113: =+I113/8 -> 0
J114: =+H114/8 -> 0 | K114: =+I114/8 -> 0
J115: =+H115/8 -> 0 | K115: =+I115/8 -> 0
J116: =+H116/8 -> 0 | K116: =+I116/8 -> 0
... J119: =+H119/8 -> 0 | K119: =+I119/8 -> 0

Sheet DIANA C RAMOS C
A1: MINISTERIO DE DEFENSA 2.0
A2: REGISTRO DIARIO DE PRODUCCIÓN - 2025
A3: DIANA CAROLINA RAMOS CASTAÑEDA
A4: FECHA | B4: ORDENACIÓN ALFABÉTICA KARDEX | C4: C.C.ORDENACIÓN ALFABÉTICA KARDEX | D4: REGISTOS FUID KARDEX | E4: C.C.REGISTOS FUID KARDEX | F4: ACTUALIZACIÓN FUID CARPETAS | G4: CC ACTUALIZACIÓN FUID CARPETAS | H4: OTRAS ACTIVIDADES (HORAS) | I4: NO ASISTIÓ (HORAS) | J4: OTRAS ACTIVIDADES (DÍAS) | K4: NO ASISTIÓ (DÍAS) | L4: OBSERVACIONES
A5: 45924 | J5: =+H5/8 -> 0 | K5: =+I5/8 -> 0 | L5: INGRESA AL PROYECTO- 24/09/2025 CURVA DE APRENDIZAJE
A6: 45925 | J6: =+H6/8 -> 0 | K6: =+I6/8 -> 0 | L6: Gaveta 3 SE ENCUENTRA AL DIA AL 25 DE SEPTIEMBRE DE 2025
A7: 45926 | D7: 306 | J7: =+H7/8 -> 0 | K7: =+I7/8 -> 0 | L7: GAVETA 2
A8: 45927 | J8: =+H8/8 -> 0 | K8: =+I8/8 -> 0
A9: 45928 | J9: =+H9/8 -> 0 | K9: =+I9/8 -> 0
A10: 45929 | J10: =+H10/8 -> 0 | K10: =+I10/8 -> 0
A11: 45930 | D11: 155 | J11: =+H11/8 -> 0 | K11: =+I11/8 -> 0 | L11: GAVETA 11
A12: 45931 | J12: =+H12/8 -> 0 | K12: =+I12/8 -> 0
A13: 45932 | D13: 156 | J13: =+H13/8 -> 0 | K13: =+I13/8 -> 0 | L13: GAVETA 11
A14: 45933 | D14: 58 | J14: =+H14/8 -> 0 | K14: =+I14/8 -> 0 | L14: GAVETA 11
A15: 45934 | J15: =+H15/8 -> 0 | K15: =+I15/8 -> 0
A16: 45935 | J16: =+H16/8 -> 0 | K16: =+I16/8 -> 0
A17: 45936 | B17: 3 | J17: =+H17/8 -> 0 | K17: =+I17/8 -> 0 | L17: GAVETAS 39,45 Y 46
A18: 45937 | B18: 1 | J18: =+H18/8 -> 0 | K18: =+I18/8 -> 0 | L18: GAVETA 59
A19: 45938 | B19: 1 | J19: =+H19/8 -> 0 | K19: =+I19/8 -> 0 | L19: GAVETA 60
A20: 45939 | B20: 2 | J20: =+H20/8 -> 0 | K20: =+I20/8 -> 0 | L20: GAVETA 62 Y 75
A21: 45940 | B21: 1 | J21: =+H21/8 -> 0 | K21: =+I21/8 -> 0 | L21: GAVETA 76
A22: 45941 | J22: =+H22/8 -> 0 | K22: =+I22/8 -> 0
A23: 45942 | J23: =+H23/8 -> 0 | K23: =+I23/8 -> 0
A24: 45943 | J24: =+H24/8 -> 0 | K24: =+I24/8 -> 0
A25: 45944 | B25: 1 | J25: =+H25/8 -> 0 | K25: =+I25/8 -> 0 | L25: GAVETA 69 SE REALIZA SEGUIMIENTO EVIDENCIANDO UN SALDO PENDIENTE DE 0,4 DÌAS EN META DE PRODUCCIÒN EL DIA 14/10/2025 PASA A PPOCESO FUID
A26: 45945 | D26: 290 | J26: =+H26/8 -> 0 | K26: =+I26/8 -> 0 | L26: GAVETA 79
A27: 45946 | D27: 287 | J27: =+H27/8 -> 0 | K27: =+I27/8 -> 0 | L27: GAVETA 79
A28: 45947 | I28: 8 | J28: =+H28/8 -> 0 | K28: =+I28/8 -> 1
A29: 45948 | J29: =+H29/8 -> 0 | K29: =+I29/8 -> 0
A30: 45949 | J30: =+H30/8 -> 0 | K30: =+I30/8 -> 0
A31: 45950 | D31: 301 | J31: =+H31/8 -> 0 | K31: =+I31/8 -> 0 | L31: GAVETA 79
A32: 45951 | D32: 311 | J32: =+H32/8 -> 0 | K32: =+I32/8 -> 0 | L32: GAVETA 79
A33: 45952 | D33: 260 | J33: =+H33/8 -> 0 | K33: =+I33/8 -> 0 | L33: GAVETA 79
A34: 45953 | D34: 260 | J34: =+H34/8 -> 0 | K34: =+I34/8 -> 0 | L34: GAVETA 79
A35: 45954 | D35: 260 | J35: =+H35/8 -> 0 | K35: =+I35/8 -> 0 | L35: GAVETA 79 SE REALIZA SEGUIMIENTO EL 29/10 CON CORTE AL 24/10 QUEDANDO PENDIENTES 111 REGISTROS=0,4 DÌAS TOTAL 0,8 DÌAS PENDIENTES = 222 REGISTROS FUID KARDEX
A36: 45955 | J36: =+H36/8 -> 0 | K36: =+I36/8 -> 0
A37: 45956 | J37: =+H37/8 -> 0 | K37: =+I37/8 -> 0
A38: 45957 | J38: =+H38/8 -> 0 | K38: =+I38/8 -> 0
A39: 45958 | J39: =+H39/8 -> 0 | K39: =+I39/8 -> 0
A40: 45959 | J40: =+H40/8 -> 0 | K40: =+I40/8 -> 0
A41: 45960 | J41: =+H41/8 -> 0 | K41: =+I41/8 -> 0
A42: 45961 | J42: =+H42/8 -> 0 | K42: =+I42/8 -> 0
A43: 45962 | J43: =+H43/8 -> 0 | K43: =+I43/8 -> 0
A44: 45963 | J44: =+H44/8 -> 0 | K44: =+I44/8 -> 0
A45: 45964 | J45: =+H45/8 -> 0 | K45: =+I45/8 -> 0
A46: 45965 | J46: =+H46/8 -> 0 | K46: =+I46/8 -> 0
A47: 45966 | J47: =+H47/8 -> 0 | K47: =+I47/8 -> 0
... A103: 46022 | J103: =+H103/8 -> 0 | K103: =+I103/8 -> 0
A104: PRODUCCIÓN POR PROCESO | B104: =SUM(B5:B103) -> 9 | C104: =SUM(C5:C103) -> 0 | D104: =SUM(D5:D103) -> 2644 | E104: =SUM(E5:E103) -> 0 | F104: =SUM(F5:F103) -> 0 | G104: =SUM(G5:G103) -> 0 | H104: =SUM(H5:H103) -> 0 | I104: =SUM(I5:I103) -> 8 | ... L104: =SUM(L5:L103) -> 0
J105: =+H105/8 -> 0 | K105: =+I105/8 -> 0
J106: =+H106/8 -> 0 | K106: =+I106/8 -> 0
J107: =+H107/8 -> 0 | K107: =+I107/8 -> 0
J108: =+H108/8 -> 0 | K108: =+I108/8 -> 0
J109: =+H109/8 -> 0 | K109: =+I109/8 -> 0
J110: =+H110/8 -> 0 | K110: =+I110/8 -> 0
J111: =+H111/8 -> 0 | K111: =+I111/8 -> 0
J112: =+H112/8 -> 0 | K112: =+I112/8 -> 0
J113: =+H113/8 -> 0 | K113: =+I113/8 -> 0
J114: =+H114/8 -> 0 | K114: =+I114/8 -> 0
J115: =+H115/8 -> 0 | K115: =+I115/8 -> 0
J116: =+H116/8 -> 0 | K116: =+I116/8 -> 0
... J119: =+H119/8 -> 0 | K119: =+I119/8 -> 0

Sheet LAURA BEJARANO
A1: MINISTERIO DE DEFENSA 2.0
A2: REGISTRO DIARIO DE PRODUCCIÓN - 2025
A3: LAURA VANESSA BEJARANO GARCIA
A4: FECHA | B4: ORDENACIÓN ALFABÉTICA KARDEX | C4: C.C.ORDENACIÓN ALFABÉTICA KARDEX | D4: REGISTOS FUID KARDEX | E4: C.C.REGISTOS FUID KARDEX | F4: ACTUALIZACIÓN FUID CARPETAS | G4: CC ACTUALIZACIÓN FUID CARPETAS | H4: OTRAS ACTIVIDADES (HORAS) | I4: NO ASISTIÓ (HORAS) | J4: OTRAS ACTIVIDADES (DÍAS) | K4: NO ASISTIÓ (DÍAS) | L4: OBSERVACIONES
A5: 45924 | J5: =+H5/8 -> 0 | K5: =+I5/8 -> 0 | L5: INICIA EL PROYECTO- 24/09/2025 | M5: 1 DIA
A6: 45925 | D6: 50 | J6: =+H6/8 -> 0 | K6: =+I6/8 -> 0 | L6: ENTRA AL PROYECTO 24/09/2025 CURVA APRENDIZAJE GAVETA 7
A7: 45926 | D7: 180 | J7: =+H7/8 -> 0 | K7: =+I7/8 -> 0 | L7: GAVETA 7
A8: 45927 | J8: =+H8/8 -> 0 | K8: =+I8/8 -> 0
A9: 45928 | J9: =+H9/8 -> 0 | K9: =+I9/8 -> 0
A10: 45929 | D10: 170 | J10: =+H10/8 -> 0 | K10: =+I10/8 -> 0 | L10: GAVETA 7
A11: 45930 | D11: 201 | J11: =+H11/8 -> 0 | K11: =+I11/8 -> 0 | L11: GAVETA 7
A12: 45931 | D12: 236 | J12: =+H12/8 -> 0 | K12: =+I12/8 -> 0 | L12: GAVETA 7
A13: 45932 | D13: 122 | J13: =+H13/8 -> 0 | K13: =+I13/8 -> 0 | L13: GAVETA 7 Y 20
A14: 45933 | D14: 215 | J14: =+H14/8 -> 0 | K14: =+I14/8 -> 0 | L14: GAVETA 20
A15: 45934 | J15: =+H15/8 -> 0 | K15: =+I15/8 -> 0
A16: 45935 | J16: =+H16/8 -> 0 | K16: =+I16/8 -> 0
A17: 45936 | D17: 379 | J17: =+H17/8 -> 0 | K17: =+I17/8 -> 0 | L17: GAVETA 20
A18: 45937 | D18: 303 | J18: =+H18/8 -> 0 | K18: =+I18/8 -> 0 | L18: GAVETA 20 Y 37
A19: 45938 | D19: 262 | J19: =+H19/8 -> 0 | K19: =+I19/8 -> 0 | L19: GAVETA 37
A20: 45939 | D20: 295 | J20: =+H20/8 -> 0 | K20: =+I20/8 -> 0 | L20: GAVETA 37
A21: 45940 | D21: 272 | J21: =+H21/8 -> 0 | K21: =+I21/8 -> 0 | L21: GAVETA 37 Y 51 SE REALIZA SEGUIMIENTO AL 10 DE OCTUBRE EVIDENCIANDO UN SALDO PENDIENTE DE 485 REGISTROS FUID EQUIVALENTES A 1,9 DIAS EN META DE PRODUCCIÒN | N21: PDTE CONF GAV 51
A22: 45941 | J22: =+H22/8 -> 0 | K22: =+I22/8 -> 0
A23: 45942 | J23: =+H23/8 -> 0 | K23: =+I23/8 -> 0
A24: 45943 | F24: SALDO PEND RI | J24: =+H24/8 -> 0 | K24: =+I24/8 -> 0
A25: 45944 | D25: 161 | F25: =260-161 -> 99 | J25: =+H25/8 -> 0 | K25: =+I25/8 -> 0 | L25: GAVETA 51
A26: 45945 | E26: 32 | F26: =460*8 -> 3680 | G26: 3378 | H26: =F26-G26 -> 302 | J26: =+H26/8 -> 37.75 | K26: =+I26/8 -> 0 | L26: GAVETA 51 SE TOMAN REGISTROS DE INV COMO CONTROL DE CALIDAD INICIAL PROCESO DE CONTROL DE CALIDAD FUID KARDEX CON UNA META DE 460 REGISTROS QUE VA HASTA LA GAVETA ASIGNADA AL 10 DE OCTUBRE PARA INVENTARIO GAVETA 3
A27: 45946 | H27: =H26-460 -> -158 | J27: =+H27/8 -> -19.75 | K27: =+I27/8 -> 0
A28: 45947 | E28: 1027 | J28: =+H28/8 -> 0 | K28: =+I28/8 -> 0 | L28: GAVETA 3
A29: 45948 | J29: =+H29/8 -> 0 | K29: =+I29/8 -> 0
A30: 45949 | J30: =+H30/8 -> 0 | K30: =+I30/8 -> 0
A31: 45950 | E31: 256 | J31: =+H31/8 -> 0 | K31: =+I31/8 -> 0 | L31: GAVETA 36 (FALTA COMPLETAR REGISTROS DE GAVETA POR CALIDAD 2)
A32: 45951 | E32: 406 | J32: =+H32/8 -> 0 | K32: =+I32/8 -> 0 | L32: GAVETA 2 (FALTA LOS REGISTROS DE DIANA RAMOS)
A33: 45952 | J33: =+H33/8 -> 0 | K33: =+I33/8 -> 0
A34: 45953 | J34: =+H34/8 -> 0 | K34: =+I34/8 -> 0
A35: 45954 | E35: 1657 | J35: =+H35/8 -> 0 | K35: =+I35/8 -> 0 | L35: GAVETA 16 Y GAVETA 36 CALIDAD 2 SE REALIZA SEGUIMIENTO CON CORTE AL 34/10/2025 EVIDENCIANDO QUE PRESENTA UN SALDO PENDIENTE DE 584 REGISTROS DE INVENTARIO EQUIVALENTES A 2 DIAS EN META DE PRODUCCION DEL PROCESO DE CALIDAD DE INVETANRIO SE ENCUENTRA UN SALDO PENDIENTE DE 158 REGISTROS EQUIVALENTES A 0,3 DIAS EN META DE PRODUCCION CONCLUSION:SE CONCLUYE QUE A LA FECHA DEL CORTE PRESENTA UN SALDO TOTAL PENDIENTE EN METAS DE PRODUCCIÒN DE 2,3 DIAS
A36: 45955 | J36: =+H36/8 -> 0 | K36: =+I36/8 -> 0
A37: 45956 | J37: =+H37/8 -> 0 | K37: =+I37/8 -> 0
A38: 45957 | J38: =+H38/8 -> 0 | K38: =+I38/8 -> 0
A39: 45958 | J39: =+H39/8 -> 0 | K39: =+I39/8 -> 0
A40: 45959 | J40: =+H40/8 -> 0 | K40: =+I40/8 -> 0
A41: 45960 | J41: =+H41/8 -> 0 | K41: =+I41/8 -> 0
A42: 45961 | J42: =+H42/8 -> 0 | K42: =+I42/8 -> 0
A43: 45962 | J43: =+H43/8 -> 0 | K43: =+I43/8 -> 0
A44: 45963 | J44: =+H44/8 -> 0 | K44: =+I44/8 -> 0
A45: 45964 | J45: =+H45/8 -> 0 | K45: =+I45/8 -> 0
A46: 45965 | J46: =+H46/8 -> 0 | K46: =+I46/8 -> 0
A47: 45966 | J47: =+H47/8 -> 0 | K47: =+I47/8 -> 0
... A103: 46022 | J103: =+H103/8 -> 0 | K103: =+I103/8 -> 0
A104: PRODUCCIÓN POR PROCESO | B104: =SUM(B5:B103)/#REF! -> #REF! | C104: =SUM(C5:C103) -> 0 | D104: =SUM(D5:D103)/2 -> 1423 | E104: =SUM(E5:E103)/#REF! -> #REF! | F104: =SUM(F5:F103) -> 3779 | G104: =SUM(G5:G103)/#REF! -> #REF! | H104: =SUM(H5:H103) -> 144 | I104: =SUM(I5:I103)/#REF! -> #REF! | J104: =+H104/8 -> 18 | K104: =+I104/8 -> #REF! | L104: =SUM(L5:L103) -> 0 | M104: =SUM(M5:M103) -> 0
J105: =+H105/8 -> 0 | K105: =+I105/8 -> 0
J106: =+H106/8 -> 0 | K106: =+I106/8 -> 0
J107: =+H107/8 -> 0 | K107: =+I107/8 -> 0
J108: =+H108/8 -> 0 | K108: =+I108/8 -> 0
J109: =+H109/8 -> 0 | K109: =+I109/8 -> 0
J110: =+H110/8 -> 0 | K110: =+I110/8 -> 0
J111: =+H111/8 -> 0 | K111: =+I111/8 -> 0
J112: =+H112/8 -> 0 | K112: =+I112/8 -> 0
J113: =+H113/8 -> 0 | K113: =+I113/8 -> 0
J114: =+H114/8 -> 0 | K114: =+I114/8 -> 0
J115: =+H115/8 -> 0 | K115: =+I115/8 -> 0
J116: =+H116/8 -> 0 | K116: =+I116/8 -> 0
... J119: =+H119/8 -> 0 | K119: =+I119/8 -> 0

Sheet JEIMY CORTES
A1: MINISTERIO DE DEFENSA 2.0
A2: REGISTRO DIARIO DE PRODUCCIÓN - 2025
A3: JEIMY CORTES
A4: FECHA | B4: ORDENACIÓN ALFABÉTICA KARDEX | C4: C.C.ORDENACIÓN ALFABÉTICA KARDEX | D4: REGISTOS FUID KARDEX | E4: C.C.REGISTOS FUID KARDEX | F4: ACTUALIZACIÓN FUID CARPETAS | G4: CC ACTUALIZACIÓN FUID CARPETAS | H4: OTRAS ACTIVIDADES (HORAS) | I4: NO ASISTIÓ (HORAS) | J4: OTRAS ACTIVIDADES (DÍAS) | K4: NO ASISTIÓ (DÍAS) | L4: OBSERVACIONES
A5: 45924 | J5: =+H5/8 -> 0 | K5: =+I5/8 -> 0
A6: 45925 | J6: =+H6/8 -> 0 | K6: =+I6/8 -> 0
A7: 45926 | J7: =+H7/8 -> 0 | K7: =+I7/8 -> 0
A8: 45927 | J8: =+H8/8 -> 0 | K8: =+I8/8 -> 0
A9: 45928 | J9: =+H9/8 -> 0 | K9: =+I9/8 -> 0
A10: 45929 | J10: =+H10/8 -> 0 | K10: =+I10/8 -> 0
A11: 45930 | J11: =+H11/8 -> 0 | K11: =+I11/8 -> 0
A12: 45931 | J12: =+H12/8 -> 0 | K12: =+I12/8 -> 0
A13: 45932 | J13: =+H13/8 -> 0 | K13: =+I13/8 -> 0
A14: 45933 | J14: =+H14/8 -> 0 | K14: =+I14/8 -> 0
A15: 45934 | J15: =+H15/8 -> 0 | K15: =+I15/8 -> 0
A16: 45935 | J16: =+H16/8 -> 0 | K16: =+I16/8 -> 0
A17: 45936 | J17: =+H17/8 -> 0 | K17: =+I17/8 -> 0 | L17: INGRESA AL PROYECTO 06/10/2025 REMITIDA DEL PROYECTO DAPRE DE DONDE VIENE CON UN SALDO PENDIENTE DE 3,5 DIAS EN META DE PRODUCCION INICIA CURVA DE APRENDIZAJE
A18: 45937 | D18: 260 | J18: =+H18/8 -> 0 | K18: =+I18/8 -> 0 | L18: GAVETA 36
A19: 45938 | D19: 260 | J19: =+H19/8 -> 0 | K19: =+I19/8 -> 0 | L19: GAVETA 36
A20: 45939 | D20: 260 | J20: =+H20/8 -> 0 | K20: =+I20/8 -> 0 | L20: GAVETA 36
A21: 45940 | D21: 260 | J21: =+H21/8 -> 0 | K21: =+I21/8 -> 0 | L21: GAVETA 36 SE REALIZA SEGUIMIENTO HASTA EL DIA 10/10/2025 EVIDENCIANDO QUE SE ENCUENTRA AL DIA CON LAS METAS DEL PRESENTE PROYECTO. CONTINUAN PDTE 3,5 DIAS DEL PROYECTO DAPRE
A22: 45941 | J22: =+H22/8 -> 0 | K22: =+I22/8 -> 0
A23: 45942 | J23: =+H23/8 -> 0 | K23: =+I23/8 -> 0
A24: 45943 | J24: =+H24/8 -> 0 | K24: =+I24/8 -> 0
A25: 45944 | D25: 295 | J25: =+H25/8 -> 0 | K25: =+I25/8 -> 0 | L25: GAVETA 62
A26: 45945 | D26: 291 | J26: =+H26/8 -> 0 | K26: =+I26/8 -> 0 | L26: GAVETA 62
A27: 45946 | D27: 290 | J27: =+H27/8 -> 0 | K27: =+I27/8 -> 0 | L27: GAVETA 62
A28: 45947 | D28: 292 | J28: =+H28/8 -> 0 | K28: =+I28/8 -> 0 | L28: GAVETA 62
A29: 45948 | J29: =+H29/8 -> 0 | K29: =+I29/8 -> 0
A30: 45949 | J30: =+H30/8 -> 0 | K30: =+I30/8 -> 0
A31: 45950 | D31: 292 | J31: =+H31/8 -> 0 | K31: =+I31/8 -> 0 | L31: GAVETA 62 Y 80
A32: 45951 | D32: 290 | J32: =+H32/8 -> 0 | K32: =+I32/8 -> 0 | L32: GAVETA 80
A33: 45952 | D33: 291 | J33: =+H33/8 -> 0 | K33: =+I33/8 -> 0 | L33: GAVETA 80
A34: 45953 | D34: 292 | J34: =+H34/8 -> 0 | K34: =+I34/8 -> 0 | L34: GAVETA 80
A35: 45954 | D35: 260 | J35: =+H35/8 -> 0 | K35: =+I35/8 -> 0 | L35: GAVETA 80 SE RECONOCE META POR AJUSTE E INSTRUCCION SE REALIZA SEGUIMIENTO CON CORTE AL 24/10/2025 EVIDENCIANDO QUE A LA FECHA PRESENTA UN SALDO A FAVOR DE 253 REGISTROS DE INVENTARIO FUID QUEDANDO UN SALDO PENDIENTE DE 2,5 DIAS EN METAS DE PRODUCCION
A36: 45955 | J36: =+H36/8 -> 0 | K36: =+I36/8 -> 0
A37: 45956 | J37: =+H37/8 -> 0 | K37: =+I37/8 -> 0
A38: 45957 | D38: 289 | J38: =+H38/8 -> 0 | K38: =+I38/8 -> 0 | L38: GAVETA 80
A39: 45958 | D39: 291 | J39: =+H39/8 -> 0 | K39: =+I39/8 -> 0 | L39: GAVETA 80 Y 102
A40: 45959 | D40: 290 | J40: =+H40/8 -> 0 | K40: =+I40/8 -> 0 | L40: GAVETA 102
A41: 45960 | D41: 200 | J41: =+H41/8 -> 0 | K41: =+I41/8 -> 0 | L41: GAVETA 102 DIA PARO TRANSPORTE
A42: 45961 | D42: 281 | J42: =+H42/8 -> 0 | K42: =+I42/8 -> 0 | L42: GAVETA 102
A43: 45962 | J43: =+H43/8 -> 0 | K43: =+I43/8 -> 0
A44: 45963 | J44: =+H44/8 -> 0 | K44: =+I44/8 -> 0
A45: 45964 | J45: =+H45/8 -> 0 | K45: =+I45/8 -> 0
A46: 45965 | D46: 284 | J46: =+H46/8 -> 0 | K46: =+I46/8 -> 0 | L46: GAVETA 102
A47: 45966 | D47: 290 | J47: =+H47/8 -> 0 | K47: =+I47/8 -> 0 | L47: GAVETA 81
A48: 45967 | J48: =+H48/8 -> 0 | K48: =+I48/8 -> 0
A49: 45968 | J49: =+H49/8 -> 0 | K49: =+I49/8 -> 0 | L49: SE REALIZA SEGUIMIENTO CUMPLIMIENTO METAS DE PRODUCCION TOMANDO LA PRODUCCION REALIZADA LOS DIAS 27 Y 28 DE OCTUBRE, EVIDENCIANDO QUE SE ENCUENTRA AL DIA EN METAS DE PRODUCCION CON CORTE AL 24 DE OCTUBRE DE 2025 LOS DEMAS DIAS AL 6 DE NOV NO SE TOMARON EN EL SEGUIMIENTO HASTA UNA VEZ SEA ESTANDARIZADA LA META DE PRODUCCION PARA EL PROCESO DE LEVANTAMIENTO DE INVENTARIO KARDEX
A50: 45969 | J50: =+H50/8 -> 0 | K50: =+I50/8 -> 0
A51: 45970 | J51: =+H51/8 -> 0 | K51: =+I51/8 -> 0
A52: 45971 | J52: =+H52/8 -> 0 | K52: =+I52/8 -> 0
A53: 45972 | J53: =+H53/8 -> 0 | K53: =+I53/8 -> 0
A54: 45973 | J54: =+H54/8 -> 0 | K54: =+I54/8 -> 0
A55: 45974 | J55: =+H55/8 -> 0 | K55: =+I55/8 -> 0
A56: 45975 | J56: =+H56/8 -> 0 | K56: =+I56/8 -> 0
A57: 45976 | J57: =+H57/8 -> 0 | K57: =+I57/8 -> 0
A58: 45977 | J58: =+H58/8 -> 0 | K58: =+I58/8 -> 0
A59: 45978 | J59: =+H59/8 -> 0 | K59: =+I59/8 -> 0
A60: 45979 | J60: =+H60/8 -> 0 | K60: =+I60/8 -> 0
A61: 45980 | J61: =+H61/8 -> 0 | K61: =+I61/8 -> 0
... A103: 46022 | J103: =+H103/8 -> 0 | K103: =+I103/8 -> 0
A104: PRODUCCIÓN POR PROCESO | B104: =SUM(B5:B103) -> 0 | C104: =SUM(C5:C103) -> 0 | D104: =SUM(D5:D103) -> 5558 | E104: =SUM(E5:E103) -> 0 | F104: =SUM(F5:F103) -> 0 | G104: =SUM(G5:G103) -> 0 | H104: =SUM(H5:H103) -> 0 | I104: =SUM(I5:I103) -> 0 | ... L104: =SUM(L5:L103) -> 0
J105: =+H105/8 -> 0 | K105: =+I105/8 -> 0
J106: =+H106/8 -> 0 | K106: =+I106/8 -> 0
J107: =+H107/8 -> 0 | K107: =+I107/8 -> 0
J108: =+H108/8 -> 0 | K108: =+I108/8 -> 0
J109: =+H109/8 -> 0 | K109: =+I109/8 -> 0
J110: =+H110/8 -> 0 | K110: =+I110/8 -> 0
J111: =+H111/8 -> 0 | K111: =+I111/8 -> 0
J112: =+H112/8 -> 0 | K112: =+I112/8 -> 0
J113: =+H113/8 -> 0 | K113: =+I113/8 -> 0
J114: =+H114/8 -> 0 | K114: =+I114/8 -> 0
J115: =+H115/8 -> 0 | K115: =+I115/8 -> 0
J116: =+H116/8 -> 0 | K116: =+I116/8 -> 0
... J119: =+H119/8 -> 0 | K119: =+I119/8 -> 0

Sheet SANDY CARREÑO
A1: MINISTERIO DE DEFENSA 2.0
A2: REGISTRO DIARIO DE PRODUCCIÓN - 2025
A3: SANDY CARREÑO
A4: FECHA | B4: ORDENACIÓN ALFABÉTICA KARDEX | C4: C.C.ORDENACIÓN ALFABÉTICA KARDEX | D4: REGISTOS FUID KARDEX | E4: C.C.REGISTOS FUID KARDEX | F4: ACTUALIZACIÓN FUID CARPETAS | G4: CC ACTUALIZACIÓN FUID CARPETAS | H4: OTRAS ACTIVIDADES (HORAS) | I4: NO ASISTIÓ (HORAS) | J4: OTRAS ACTIVIDADES (DÍAS) | K4: NO ASISTIÓ (DÍAS) | L4: OBSERVACIONES
A5: 45924 | J5: =+H5/8 -> 0 | K5: =+I5/8 -> 0
A6: 45925 | D6: 30 | J6: =+H6/8 -> 0 | K6: =+I6/8 -> 0 | L6: INGRESA 25/09/2025 AL PROYECTO CURVA DE APRENDIZAJE GAVETA 4
A7: 45926 | D7: 212 | J7: =+H7/8 -> 0 | K7: =+I7/8 -> 0 | L7: GAVETA 4
A8: 45927 | D8: 52 | J8: =+H8/8 -> 0 | K8: =+I8/8 -> 0 | L8: GAVETA 4
A9: 45928 | J9: =+H9/8 -> 0 | K9: =+I9/8 -> 0
A10: 45929 | D10: 45 | J10: =+H10/8 -> 0 | K10: =+I10/8 -> 0 | L10: GAVETA 10
A11: 45930 | J11: =+H11/8 -> 0 | K11: =+I11/8 -> 0
A12: 45931 | J12: =+H12/8 -> 0 | K12: =+I12/8 -> 0
A13: 45932 | D13: 386 | J13: =+H13/8 -> 0 | K13: =+I13/8 -> 0 | L13: GAVETA 10
A14: 45933 | D14: 137 | J14: =+H14/8 -> 0 | K14: =+I14/8 -> 0 | L14: GAVETA 25
A15: 45934 | D15: 218 | J15: =+H15/8 -> 0 | K15: =+I15/8 -> 0 | L15: GAVETA 25
A16: 45935 | J16: =+H16/8 -> 0 | K16: =+I16/8 -> 0
A17: 45936 | D17: 177 | J17: =+H17/8 -> 0 | K17: =+I17/8 -> 0 | L17: GAVETA 25
A18: 45937 | D18: 155 | J18: =+H18/8 -> 0 | K18: =+I18/8 -> 0 | L18: GAVETA 25
A19: 45938 | D19: 182 | J19: =+H19/8 -> 0 | K19: =+I19/8 -> 0 | L19: GAVETA 25
A20: 45939 | D20: 85 | J20: =+H20/8 -> 0 | K20: =+I20/8 -> 0 | L20: GAVETA 25
A21: 45940 | D21: 237 | J21: =+H21/8 -> 0 | K21: =+I21/8 -> 0 | L21: GAVETA 50 SE REALIZA SEGUIMIENTO AL 10 DE OCTUBRE DE 2025 EVIDENCIANDO UN SALDO PENDIENTE DE 974 REGISTROS DE FUID EQUIVALENTES A 3,7 DIAS EN METAS DE PRODUCCION
A22: 45941 | J22: =+H22/8 -> 0 | K22: =+I22/8 -> 0
A23: 45942 | J23: =+H23/8 -> 0 | K23: =+I23/8 -> 0
A24: 45943 | J24: =+H24/8 -> 0 | K24: =+I24/8 -> 0
A25: 45944 | D25: 166 | J25: =+H25/8 -> 0 | K25: =+I25/8 -> 0 | L25: GAVETA 50
A26: 45945 | D26: 115 | J26: =+H26/8 -> 0 | K26: =+I26/8 -> 0 | L26: GAVETA 50
A27: 45946 | D27: 201 | J27: =+H27/8 -> 0 | K27: =+I27/8 -> 0 | L27: GAVETA 50
A28: 45947 | D28: 161 | J28: =+H28/8 -> 0 | K28: =+I28/8 -> 0 | L28: GAVETA 50
A29: 45948 | D29: 120 | J29: =+H29/8 -> 0 | K29: =+I29/8 -> 0 | L29: GAVETA 50
A30: 45949 | D30: 150 | J30: =+H30/8 -> 0 | K30: =+I30/8 -> 0 | L30: GAVETA 50
A31: 45950 | D31: 263 | J31: =+H31/8 -> 0 | K31: =+I31/8 -> 0 | L31: GAVETA 50 Y 76
A32: 45951 | D32: 100 | J32: =+H32/8 -> 0 | K32: =+I32/8 -> 0 | L32: GAVETA 76
A33: 45952 | D33: 183 | J33: =+H33/8 -> 0 | K33: =+I33/8 -> 0 | L33: GAVETA 76
A34: 45953 | D34: 180 | J34: =+H34/8 -> 0 | K34: =+I34/8 -> 0 | L34: GAVETA 76
A35: 45954 | D35: 136 | J35: =+H35/8 -> 0 | K35: =+I35/8 -> 0 | L35: GAVETA 76
A36: 45955 | D36: 200 | J36: =+H36/8 -> 0 | K36: =+I36/8 -> 0 | L36: GAVETA 76
... A39: 45958 | D39: 146 | J39: =+H39/8 -> 0 | K39: =+I39/8 -> 0 | L39: GAVETA 97 SE REALIZA SEGUIMIENTO CON CORTE AL 24 DE OCTUBRE DE 2025 EVIDENCIANDO QUE PRESENTA UN PENDIENTE EN META DE PRODUCCION CORRESPONDIENTE A 798 REGISTROS DE INVENTARIO EQUIVALENTES A 3,1 DIAS DE PRODUCCION
A40: 45959 | J40: =+H40/8 -> 0 | K40: =+I40/8 -> 0
A41: 45960 | J41: =+H41/8 -> 0 | K41: =+I41/8 -> 0
A42: 45961 | J42: =+H42/8 -> 0 | K42: =+I42/8 -> 0
A43: 45962 | J43: =+H43/8 -> 0 | K43: =+I43/8 -> 0
A44: 45963 | J44: =+H44/8 -> 0 | K44: =+I44/8 -> 0
A45: 45964 | J45: =+H45/8 -> 0 | K45: =+I45/8 -> 0
A46: 45965 | J46: =+H46/8 -> 0 | K46: =+I46/8 -> 0
A47: 45966 | J47: =+H47/8 -> 0 | K47: =+I47/8 -> 0
A48: 45967 | J48: =+H48/8 -> 0 | K48: =+I48/8 -> 0
A49: 45968 | J49: =+H49/8 -> 0 | K49: =+I49/8 -> 0
A50: 45969 | J50: =+H50/8 -> 0 | K50: =+I50/8 -> 0
A51: 45970 | J51: =+H51/8 -> 0 | K51: =+I51/8 -> 0
... A103: 46022 | J103: =+H103/8 -> 0 | K103: =+I103/8 -> 0
A104: PRODUCCIÓN POR PROCESO | B104: =SUM(B5:B103) -> 0 | C104: =SUM(C5:C103) -> 0 | D104: =SUM(D5:D103) -> 4432 | E104: =SUM(E5:E103) -> 0 | F104: =SUM(F5:F103) -> 0 | G104: =SUM(G5:G103) -> 0 | H104: =SUM(H5:H103) -> 0 | I104: =SUM(I5:I103) -> 0 | ... L104: =SUM(L5:L103) -> 0
J105: =+H105/8 -> 0 | K105: =+I105/8 -> 0
J106: =+H106/8 -> 0 | K106: =+I106/8 -> 0
J107: =+H107/8 -> 0 | K107: =+I107/8 -> 0
J108: =+H108/8 -> 0 | K108: =+I108/8 -> 0
J109: =+H109/8 -> 0 | K109: =+I109/8 -> 0
J110: =+H110/8 -> 0 | K110: =+I110/8 -> 0
J111: =+H111/8 -> 0 | K111: =+I111/8 -> 0
J112: =+H112/8 -> 0 | K112: =+I112/8 -> 0
J113: =+H113/8 -> 0 | K113: =+I113/8 -> 0
J114: =+H114/8 -> 0 | K114: =+I114/8 -> 0
J115: =+H115/8 -> 0 | K115: =+I115/8 -> 0
J116: =+H116/8 -> 0 | K116: =+I116/8 -> 0
... J119: =+H119/8 -> 0 | K119: =+I119/8 -> 0

Sheet ANDREA RINCON
A1: MINISTERIO DE DEFENSA 2.0
A2: REGISTRO DIARIO DE PRODUCCIÓN - 2025
A3: ANDREA RINCON
A4: FECHA | B4: ORDENACIÓN ALFABÉTICA KARDEX | C4: C.C.ORDENACIÓN ALFABÉTICA KARDEX | D4: REGISTOS FUID KARDEX | E4: C.C.REGISTOS FUID KARDEX | F4: ACTUALIZACIÓN FUID CARPETAS | G4: CC ACTUALIZACIÓN FUID CARPETAS | H4: OTRAS ACTIVIDADES (HORAS) | I4: NO ASISTIÓ (HORAS) | J4: OTRAS ACTIVIDADES (DÍAS) | K4: NO ASISTIÓ (DÍAS) | L4: OBSERVACIONES
A5: 45924 | J5: =+H5/8 -> 0 | K5: =+I5/8 -> 0
A6: 45925 | J6: =+H6/8 -> 0 | K6: =+I6/8 -> 0
A7: 45926 | J7: =+H7/8 -> 0 | K7: =+I7/8 -> 0
A8: 45927 | J8: =+H8/8 -> 0 | K8: =+I8/8 -> 0
A9: 45928 | J9: =+H9/8 -> 0 | K9: =+I9/8 -> 0
A10: 45929 | J10: =+H10/8 -> 0 | K10: =+I10/8 -> 0
A11: 45930 | J11: =+H11/8 -> 0 | K11: =+I11/8 -> 0
A12: 45931 | J12: =+H12/8 -> 0 | K12: =+I12/8 -> 0
A13: 45932 | J13: =+H13/8 -> 0 | K13: =+I13/8 -> 0
A14: 45933 | J14: =+H14/8 -> 0 | K14: =+I14/8 -> 0 | L14: INGRESA AL PROYECTO 03/10/2025 INGRESA CON 2 DIAS PENDIENTES DE PRODUCCION DEL PROYECTO SUPERVIGILANCIA CURVA DE APRENDIZAJE NO ASISTIO
A15: 45934 | J15: =+H15/8 -> 0 | K15: =+I15/8 -> 0
A16: 45935 | J16: =+H16/8 -> 0 | K16: =+I16/8 -> 0
A17: 45936 | J17: =+H17/8 -> 0 | K17: =+I17/8 -> 0
A18: 45937 | B18: 1 | J18: =+H18/8 -> 0 | K18: =+I18/8 -> 0 | L18: GAVETA 49
A19: 45938 | B19: 2 | J19: =+H19/8 -> 0 | K19: =+I19/8 -> 0 | L19: GAVETA 63 Y 68
A20: 45939 | J20: =+H20/8 -> 0 | K20: =+I20/8 -> 0 | L20: NO ASISTIO
A21: 45940 | B21: 2 | J21: =+H21/8 -> 0 | K21: =+I21/8 -> 0 | L21: GAVETA 73 Y 87 SE REALIZA SEGUIMIENTO EVIDENCIANDO UN SALDO PDTE DE PRODUCCIÒN EQUIVALENTE A 1 GAVETA DE ORDENACION CONTINUA CON DOS DIAS PENDIENTE DEL PROYECTO SUPERVIGILANCIA
A22: 45941 | J22: =+H22/8 -> 0 | K22: =+I22/8 -> 0
A23: 45942 | J23: =+H23/8 -> 0 | K23: =+I23/8 -> 0
A24: 45943 | J24: =+H24/8 -> 0 | K24: =+I24/8 -> 0
A25: 45944 | B25: 2 | J25: =+H25/8 -> 0 | K25: =+I25/8 -> 0 | L25: GAVETA 91 Y 92
A26: 45945 | B26: 1 | J26: =+H26/8 -> 0 | K26: =+I26/8 -> 0 | L26: GAVETA 97
A27: 45946 | J27: =+H27/8 -> 0 | K27: =+I27/8 -> 0
A28: 45947 | B28: 1 | J28: =+H28/8 -> 0 | K28: =+I28/8 -> 0 | L28: GAVETA 99
A29: 45948 | J29: =+H29/8 -> 0 | K29: =+I29/8 -> 0
A30: 45949 | J30: =+H30/8 -> 0 | K30: =+I30/8 -> 0
A31: 45950 | D31: 260 | J31: =+H31/8 -> 0 | K31: =+I31/8 -> 0 | L31: GAVETA 68
A32: 45951 | D32: 260 | J32: =+H32/8 -> 0 | K32: =+I32/8 -> 0 | L32: GAVETA 68
A33: 45952 | D33: 259 | J33: =+H33/8 -> 0 | K33: =+I33/8 -> 0 | L33: GAVETA 68
A34: 45953 | D34: 261 | J34: =+H34/8 -> 0 | K34: =+I34/8 -> 0 | L34: GAVETA 68
A35: 45954 | B35: 2 | D35: 239 | J35: =+H35/8 -> 0 | K35: =+I35/8 -> 0 | L35: GAVETA 68 GAVETAS 26 Y 28 OF Y SUB SE REALIZA SEGUIMIENTO CON CORTE AL 24/10/2025 EVIDENCIANDO QUE SE ENCUENTRA PENDIENTE UN DIA DE PRODUCCION + 21 REGISTROS DE INVENTARIO
A36: 45955 | J36: =+H36/8 -> 0 | K36: =+I36/8 -> 0
A37: 45956 | J37: =+H37/8 -> 0 | K37: =+I37/8 -> 0
A38: 45957 | J38: =+H38/8 -> 0 | K38: =+I38/8 -> 0
A39: 45958 | J39: =+H39/8 -> 0 | K39: =+I39/8 -> 0
A40: 45959 | J40: =+H40/8 -> 0 | K40: =+I40/8 -> 0
A41: 45960 | J41: =+H41/8 -> 0 | K41: =+I41/8 -> 0
A42: 45961 | J42: =+H42/8 -> 0 | K42: =+I42/8 -> 0
A43: 45962 | J43: =+H43/8 -> 0 | K43: =+I43/8 -> 0
A44: 45963 | J44: =+H44/8 -> 0 | K44: =+I44/8 -> 0
A45: 45964 | J45: =+H45/8 -> 0 | K45: =+I45/8 -> 0
A46: 45965 | J46: =+H46/8 -> 0 | K46: =+I46/8 -> 0
A47: 45966 | J47: =+H47/8 -> 0 | K47: =+I47/8 -> 0
... A103: 46022 | J103: =+H103/8 -> 0 | K103: =+I103/8 -> 0
A104: PRODUCCIÓN POR PROCESO | B104: =SUM(B5:B103) -> 11 | C104: =SUM(C5:C103) -> 0 | D104: =SUM(D5:D103) -> 1279 | E104: =SUM(E5:E103) -> 0 | F104: =SUM(F5:F103) -> 0 | G104: =SUM(G5:G103) -> 0 | H104: =SUM(H5:H103) -> 0 | I104: =SUM(I5:I103) -> 0 | ... K104: =SUM(K5:K103) -> 0
J105: =+H105/8 -> 0 | K105: =+I105/8 -> 0
J106: =+H106/8 -> 0 | K106: =+I106/8 -> 0
J107: =+H107/8 -> 0 | K107: =+I107/8 -> 0
J108: =+H108/8 -> 0 | K108: =+I108/8 -> 0
J109: =+H109/8 -> 0 | K109: =+I109/8 -> 0
J110: =+H110/8 -> 0 | K110: =+I110/8 -> 0
J111: =+H111/8 -> 0 | K111: =+I111/8 -> 0
J112: =+H112/8 -> 0 | K112: =+I112/8 -> 0
J113: =+H113/8 -> 0 | K113: =+I113/8 -> 0
J114: =+H114/8 -> 0 | K114: =+I114/8 -> 0
J115: =+H115/8 -> 0 | K115: =+I115/8 -> 0
J116: =+H116/8 -> 0 | K116: =+I116/8 -> 0
... J119: =+H119/8 -> 0 | K119: =+I119/8 -> 0

Sheet LILIANA PINILLA
A1: MINISTERIO DE DEFENSA 2.0
A2: REGISTRO DIARIO DE PRODUCCIÓN - 2025
A3: LILIANA PINILLA
A4: FECHA | B4: ORDENACIÓN ALFABÉTICA KARDEX | C4: C.C.ORDENACIÓN ALFABÉTICA KARDEX | D4: REGISTOS FUID KARDEX | E4: C.C.REGISTOS FUID KARDEX | F4: ACTUALIZACIÓN FUID CARPETAS | G4: CC ACTUALIZACIÓN FUID CARPETAS | H4: OTRAS ACTIVIDADES (HORAS) | I4: NO ASISTIÓ (HORAS) | J4: OTRAS ACTIVIDADES (DÍAS) | K4: NO ASISTIÓ (DÍAS) | L4: OBSERVACIONES
A5: 45924 | I5: 8 | J5: =+H5/8 -> 0 | K5: =+I5/8 -> 1 | L5: SEGUN SECOP INICIA CTO NO ASISTIO/ SE NOTIFICO 5:00 PM SE TOMA COMO CURVA
A6: 45925 | D6: 188 | J6: =+H6/8 -> 0 | K6: =+I6/8 -> 0 | L6: GAVETA 8
A7: 45926 | D7: 138 | J7: =+H7/8 -> 0 | K7: =+I7/8 -> 0 | L7: GAVETA 8
A8: 45927 | J8: =+H8/8 -> 0 | K8: =+I8/8 -> 0
A9: 45928 | J9: =+H9/8 -> 0 | K9: =+I9/8 -> 0
A10: 45929 | D10: 138 | J10: =+H10/8 -> 0 | K10: =+I10/8 -> 0 | L10: GAVETA 8
A11: 45930 | D11: 138 | J11: =+H11/8 -> 0 | K11: =+I11/8 -> 0 | L11: GAVETA 8
A12: 45931 | D12: 138 | E12: =12*260 -> 3120 | J12: =+H12/8 -> 0 | K12: =+I12/8 -> 0 | L12: GAVETA 8
A13: 45932 | D13: 138 | E13: =E12-2074 -> 1046 | J13: =+H13/8 -> 0 | K13: =+I13/8 -> 0 | L13: GAVETA 8
A14: 45933 | D14: 139 | E14: =E13/260 -> 4.0230769 | J14: =+H14/8 -> 0 | K14: =+I14/8 -> 0 | L14: GAVETA 8
A15: 45934 | J15: =+H15/8 -> 0 | K15: =+I15/8 -> 0
A16: 45935 | J16: =+H16/8 -> 0 | K16: =+I16/8 -> 0
A17: 45936 | D17: 211 | J17: =+H17/8 -> 0 | K17: =+I17/8 -> 0 | L17: GAVETA 29
A18: 45937 | D18: 211 | J18: =+H18/8 -> 0 | K18: =+I18/8 -> 0 | L18: GAVETA 29
A19: 45938 | D19: 211 | J19: =+H19/8 -> 0 | K19: =+I19/8 -> 0 | L19: GAVETA 29
A20: 45939 | D20: 211 | J20: =+H20/8 -> 0 | K20: =+I20/8 -> 0 | L20: GAVETA 29
A21: 45940 | D21: 213 | J21: =+H21/8 -> 0 | K21: =+I21/8 -> 0 | L21: GAVETA 29 SE REALIZA SEGUIMIENTO CON CORTE AL 10/10/2025 EVIDENCIANDO UN SALDO PENDIENTE DE 1,046 REGISTROS FUID EQUIVALENTES A 4 DIAS EN META DE PRODUCCIÒN
A22: 45941 | J22: =+H22/8 -> 0 | K22: =+I22/8 -> 0
A23: 45942 | J23: =+H23/8 -> 0 | K23: =+I23/8 -> 0
A24: 45943 | J24: =+H24/8 -> 0 | K24: =+I24/8 -> 0
A25: 45944 | J25: =+H25/8 -> 0 | K25: =+I25/8 -> 0
A26: 45945 | J26: =+H26/8 -> 0 | K26: =+I26/8 -> 0
A27: 45946 | J27: =+H27/8 -> 0 | K27: =+I27/8 -> 0
A28: 45947 | J28: =+H28/8 -> 0 | K28: =+I28/8 -> 0
A29: 45948 | J29: =+H29/8 -> 0 | K29: =+I29/8 -> 0
A30: 45949 | J30: =+H30/8 -> 0 | K30: =+I30/8 -> 0
A31: 45950 | J31: =+H31/8 -> 0 | K31: =+I31/8 -> 0
A32: 45951 | J32: =+H32/8 -> 0 | K32: =+I32/8 -> 0
A33: 45952 | J33: =+H33/8 -> 0 | K33: =+I33/8 -> 0
... A103: 46022 | J103: =+H103/8 -> 0 | K103: =+I103/8 -> 0
A104: PRODUCCIÓN POR PROCESO | B104: =SUM(B5:B103) -> 0 | C104: =SUM(C5:C103) -> 0 | D104: =SUM(D5:D103) -> 2074 | E104: =SUM(E5:E103) -> 4170.0231 | F104: =SUM(F5:F103) -> 0 | G104: =SUM(G5:G103) -> 0 | H104: =SUM(H5:H103) -> 0 | I104: =SUM(I5:I103) -> 8 | ... L104: =SUM(L5:L103) -> 0
J105: =+H105/8 -> 0 | K105: =+I105/8 -> 0
J106: =+H106/8 -> 0 | K106: =+I106/8 -> 0
J107: =+H107/8 -> 0 | K107: =+I107/8 -> 0
J108: =+H108/8 -> 0 | K108: =+I108/8 -> 0
J109: =+H109/8 -> 0 | K109: =+I109/8 -> 0
J110: =+H110/8 -> 0 | K110: =+I110/8 -> 0
J111: =+H111/8 -> 0 | K111: =+I111/8 -> 0
J112: =+H112/8 -> 0 | K112: =+I112/8 -> 0
J113: =+H113/8 -> 0 | K113: =+I113/8 -> 0
J114: =+H114/8 -> 0 | K114: =+I114/8 -> 0
J115: =+H115/8 -> 0 | K115: =+I115/8 -> 0
J116: =+H116/8 -> 0 | K116: =+I116/8 -> 0
... J119: =+H119/8 -> 0 | K119: =+I119/8 -> 0

Sheet LILIANA MENDOZA
A1: MINISTERIO DE DEFENSA 2.0
A2: REGISTRO DIARIO DE PRODUCCIÓN - 2025
A3: LILIANA MENDOZA
A4: FECHA | B4: ORDENACIÓN ALFABÉTICA KARDEX | C4: C.C.ORDENACIÓN ALFABÉTICA KARDEX | D4: REGISTOS FUID KARDEX | E4: C.C.REGISTOS FUID KARDEX | F4: ACTUALIZACIÓN FUID CARPETAS | G4: CC ACTUALIZACIÓN FUID CARPETAS | H4: OTRAS ACTIVIDADES (HORAS) | I4: NO ASISTIÓ (HORAS) | J4: OTRAS ACTIVIDADES (DÍAS) | K4: NO ASISTIÓ (DÍAS) | L4: OBSERVACIONES
A5: 45924 | J5: =+H5/8 -> 0 | K5: =+I5/8 -> 0
A6: 45925 | J6: =+H6/8 -> 0 | K6: =+I6/8 -> 0
A7: 45926 | J7: =+H7/8 -> 0 | K7: =+I7/8 -> 0
A8: 45927 | J8: =+H8/8 -> 0 | K8: =+I8/8 -> 0
A9: 45928 | J9: =+H9/8 -> 0 | K9: =+I9/8 -> 0
A10: 45929 | J10: =+H10/8 -> 0 | K10: =+I10/8 -> 0
A11: 45930 | J11: =+H11/8 -> 0 | K11: =+I11/8 -> 0
A12: 45931 | J12: =+H12/8 -> 0 | K12: =+I12/8 -> 0
A13: 45932 | J13: =+H13/8 -> 0 | K13: =+I13/8 -> 0
A14: 45933 | J14: =+H14/8 -> 0 | K14: =+I14/8 -> 0
A15: 45934 | J15: =+H15/8 -> 0 | K15: =+I15/8 -> 0
A16: 45935 | J16: =+H16/8 -> 0 | K16: =+I16/8 -> 0
A17: 45936 | J17: =+H17/8 -> 0 | K17: =+I17/8 -> 0 | L17: INICIA 06/10/2025 EN PROYECTO MINDEF PRESENTA UN SALDO PENDIENTE DE 5,8 DIAS EN METAS DE PRODUCCION DEL PROYECTO DAPRE CURVA DE APRENDIZAJE
A18: 45937 | J18: =+H18/8 -> 0 | K18: =+I18/8 -> 0 | M18: UN DIA
A19: 45938 | J19: =+H19/8 -> 0 | K19: =+I19/8 -> 0
A20: 45939 | B20: 1 | D20: 124 | H20: 396 | I20: =1152/260 -> 4.4307692 | J20: =+H20/8 -> 49.5 | K20: =+I20/8 -> 0.55384615 | L20: GAVETA 56 Y GAVETA 40 FUID
A21: 45940 | D21: 443 | H21: 756 | J21: =+H21/8 -> 94.5 | K21: =+I21/8 -> 0 | L21: GAVETA 40 SE REALIZA SEGUIMIENTO EVIDENCIANDO UN SALDO PENDIENTE DE 396 REGISTROS FUID A 1,5 DIAS PENDIENTES EN METAS DE PRODUCCIÒN MAS 756 REGISTROS DEL PROYECTO DAPRE LO ANTERIOR PARA UN TOTAL DE 1152 REGISTROS EQUIVALENTES A 4.4 DIASEN METAS DE PRODUCCION
A22: 45941 | J22: =+H22/8 -> 0 | K22: =+I22/8 -> 0
A23: 45942 | J23: =+H23/8 -> 0 | K23: =+I23/8 -> 0
A24: 45943 | J24: =+H24/8 -> 0 | K24: =+I24/8 -> 0
A25: 45944 | J25: =+H25/8 -> 0 | K25: =+I25/8 -> 0
A26: 45945 | J26: =+H26/8 -> 0 | K26: =+I26/8 -> 0
A27: 45946 | J27: =+H27/8 -> 0 | K27: =+I27/8 -> 0
A28: 45947 | D28: 489 | J28: =+H28/8 -> 0 | K28: =+I28/8 -> 0 | L28: GAVETA 73 SE REALIZA SEGUIMIENTO CON CORTE AL 16/10/2025 EVIDENCIANDO UN SALDO PENDIENTE DE 993 REGISTROS FUID KARDEX PROYECTO MINDEFENSA. ADICIONAL A LO ANTERIOR DEL PROYECTO DE DAPRE SE REPORTO UN SALDO PENDIENTE DE 756 REGISTROS DE DESCRIPCION. DE LO ANTERIOR SE CONCLUYE QUE HAY UN SALDO EN TOTAL PENDIENTE DE 1,749 REGISTROS EQUIVALENTES A 6,7 DIAS EN METAS DE PRODUCCION
A29: 45948 | J29: =+H29/8 -> 0 | K29: =+I29/8 -> 0
A30: 45949 | J30: =+H30/8 -> 0 | K30: =+I30/8 -> 0
A31: 45950 | D31: 493 | J31: =+H31/8 -> 0 | K31: =+I31/8 -> 0 | L31: GAVETA 73 Y 86
A32: 45951 | D32: 555 | J32: =+H32/8 -> 0 | K32: =+I32/8 -> 0 | L32: GAVETA 73 Y 86
A33: 45952 | D33: 283 | J33: =+H33/8 -> 0 | K33: =+I33/8 -> 0 | L33: GAVETA 86
A34: 45953 | D34: 249 | J34: =+H34/8 -> 0 | K34: =+I34/8 -> 0 | L34: GAVETA 86
A35: 45954 | D35: 247 | J35: =+H35/8 -> 0 | K35: =+I35/8 -> 0 | L35: GAVETA 86 SE REALIZA SEGUIMIENTO CON CORTE AL 24 DE OCTUBRE DE 2025 EVIDENCIANDO QUE PRESENTA UN SALDO PENDIENTE EN METAS DE PRODUCCION DE 3,7 DIAS
A36: 45955 | J36: =+H36/8 -> 0 | K36: =+I36/8 -> 0
A37: 45956 | J37: =+H37/8 -> 0 | K37: =+I37/8 -> 0
A38: 45957 | J38: =+H38/8 -> 0 | K38: =+I38/8 -> 0
A39: 45958 | J39: =+H39/8 -> 0 | K39: =+I39/8 -> 0
A40: 45959 | J40: =+H40/8 -> 0 | K40: =+I40/8 -> 0
A41: 45960 | J41: =+H41/8 -> 0 | K41: =+I41/8 -> 0
A42: 45961 | J42: =+H42/8 -> 0 | K42: =+I42/8 -> 0
A43: 45962 | J43: =+H43/8 -> 0 | K43: =+I43/8 -> 0
A44: 45963 | J44: =+H44/8 -> 0 | K44: =+I44/8 -> 0
A45: 45964 | J45: =+H45/8 -> 0 | K45: =+I45/8 -> 0
A46: 45965 | J46: =+H46/8 -> 0 | K46: =+I46/8 -> 0
A47: 45966 | J47: =+H47/8 -> 0 | K47: =+I47/8 -> 0
... A103: 46022 | J103: =+H103/8 -> 0 | K103: =+I103/8 -> 0
A104: PRODUCCIÓN POR PROCESO | B104: =SUM(B5:B103) -> 1 | C104: =SUM(C5:C103) -> 0 | D104: =SUM(D5:D103) -> 2883 | E104: =SUM(E5:E103) -> 0 | F104: =SUM(F5:F103) -> 0 | G104: =SUM(G5:G103) -> 0 | H104: =SUM(H5:H103) -> 1152 | I104: =SUM(I5:I103) -> 4.4307692 | ... M104: =SUM(M5:M103) -> 0
J105: =+H105/8 -> 0 | K105: =+I105/8 -> 0
J106: =+H106/8 -> 0 | K106: =+I106/8 -> 0
J107: =+H107/8 -> 0 | K107: =+I107/8 -> 0
J108: =+H108/8 -> 0 | K108: =+I108/8 -> 0
J109: =+H109/8 -> 0 | K109: =+I109/8 -> 0
J110: =+H110/8 -> 0 | K110: =+I110/8 -> 0
J111: =+H111/8 -> 0 | K111: =+I111/8 -> 0
J112: =+H112/8 -> 0 | K112: =+I112/8 -> 0
J113: =+H113/8 -> 0 | K113: =+I113/8 -> 0
J114: =+H114/8 -> 0 | K114: =+I114/8 -> 0
J115: =+H115/8 -> 0 | K115: =+I115/8 -> 0
J116: =+H116/8 -> 0 | K116: =+I116/8 -> 0
... J119: =+H119/8 -> 0 | K119: =+I119/8 -> 0

Sheet DENIS SOLARTE
A1: MINISTERIO DE DEFENSA 2.0
A2: REGISTRO DIARIO DE PRODUCCIÓN - 2025
A3: DENIS SOLARTE
A4: FECHA | B4: ORDENACIÓN ALFABÉTICA KARDEX | C4: C.C.ORDENACIÓN ALFABÉTICA KARDEX | D4: REGISTOS FUID KARDEX | E4: C.C.REGISTOS FUID KARDEX | F4: ACTUALIZACIÓN FUID CARPETAS | G4: CC ACTUALIZACIÓN FUID CARPETAS | H4: OTRAS ACTIVIDADES (HORAS) | I4: NO ASISTIÓ (HORAS) | J4: OTRAS ACTIVIDADES (DÍAS) | K4: NO ASISTIÓ (DÍAS) | L4: OBSERVACIONES
A5: 45924 | D5: 47 | J5: =+H5/8 -> 0 | K5: =+I5/8 -> 0 | L5: REMITIDA DE MEN INICIA EN PROYECTO MINDEF CURVA DE APRENDIZAJE, GAVETA 5
A6: 45925 | D6: 116 | J6: =+H6/8 -> 0 | K6: =+I6/8 -> 0 | L6: GAVETA 5
A7: 45926 | D7: 137 | J7: =+H7/8 -> 0 | K7: =+I7/8 -> 0 | L7: GAVETA 5
A8: 45927 | J8: =+H8/8 -> 0 | K8: =+I8/8 -> 0
A9: 45928 | J9: =+H9/8 -> 0 | K9: =+I9/8 -> 0
A10: 45929 | D10: 183 | J10: =+H10/8 -> 0 | K10: =+I10/8 -> 0 | L10: GAVETA 5
A11: 45930 | D11: 152 | J11: =+H11/8 -> 0 | K11: =+I11/8 -> 0 | L11: GAVETA 5 Y 13
A12: 45931 | D12: 139 | J12: =+H12/8 -> 0 | K12: =+I12/8 -> 0 | L12: GAVETA 13
A13: 45932 | D13: 192 | J13: =+H13/8 -> 0 | K13: =+I13/8 -> 0 | L13: GAVETA 13
A14: 45933 | D14: 227 | J14: =+H14/8 -> 0 | K14: =+I14/8 -> 0 | L14: GAVETA 13
A15: 45934 | J15: =+H15/8 -> 0 | K15: =+I15/8 -> 0
A16: 45935 | J16: =+H16/8 -> 0 | K16: =+I16/8 -> 0
A17: 45936 | D17: 215 | J17: =+H17/8 -> 0 | K17: =+I17/8 -> 0 | L17: GAVETA 13
A18: 45937 | D18: 232 | J18: =+H18/8 -> 0 | K18: =+I18/8 -> 0 | L18: GAVETA 13 Y 33
A19: 45938 | D19: 230 | J19: =+H19/8 -> 0 | K19: =+I19/8 -> 0 | L19: GAVETA 33
A20: 45939 | D20: 215 | J20: =+H20/8 -> 0 | K20: =+I20/8 -> 0 | L20: GAVETA 33
A21: 45940 | D21: 260 | J21: =+H21/8 -> 0 | K21: =+I21/8 -> 0 | L21: GAVETA 33 SE REALIZA SEGUIMIENTO CON CORTE AL 10/10/2025 EVIDENCIANDO UN SALDO PENDIENTE DE 822 REGISTROS FUID EQUIVALENTES A 3,2 DIAS EN META DE PRODUCCION
A22: 45941 | J22: =+H22/8 -> 0 | K22: =+I22/8 -> 0
A23: 45942 | J23: =+H23/8 -> 0 | K23: =+I23/8 -> 0
A24: 45943 | J24: =+H24/8 -> 0 | K24: =+I24/8 -> 0
A25: 45944 | D25: 260 | J25: =+H25/8 -> 0 | K25: =+I25/8 -> 0
A26: 45945 | D26: =270+62 -> 332 | J26: =+H26/8 -> 0 | K26: =+I26/8 -> 0
A27: 45946 | D27: 280 | J27: =+H27/8 -> 0 | K27: =+I27/8 -> 0
A28: 45947 | D28: 280 | J28: =+H28/8 -> 0 | K28: =+I28/8 -> 0
A29: 45948 | J29: =+H29/8 -> 0 | K29: =+I29/8 -> 0
A30: 45949 | J30: =+H30/8 -> 0 | K30: =+I30/8 -> 0 | N30: =+D25+D26+D27+D28+D31+D32+D33+D34+D35+D38 -> 2932
A31: 45950 | D31: 360 | J31: =+H31/8 -> 0 | K31: =+I31/8 -> 0
A32: 45951 | D32: 305 | J32: =+H32/8 -> 0 | K32: =+I32/8 -> 0
A33: 45952 | D33: 280 | J33: =+H33/8 -> 0 | K33: =+I33/8 -> 0
A34: 45953 | D34: 280 | J34: =+H34/8 -> 0 | K34: =+I34/8 -> 0
A35: 45954 | D35: 285 | J35: =+H35/8 -> 0 | K35: =+I35/8 -> 0
A36: 45955 | J36: =+H36/8 -> 0 | K36: =+I36/8 -> 0
A37: 45956 | J37: =+H37/8 -> 0 | K37: =+I37/8 -> 0
A38: 45957 | D38: 270 | J38: =+H38/8 -> 0 | K38: =+I38/8 -> 0
A39: 45958 | D39: 179 | J39: =+H39/8 -> 0 | K39: =+I39/8 -> 0 | L39: AL DÌA AL 24/10 REALIZANDO SEGUIMIENTO EL 29/10
A40: 45959 | J40: =+H40/8 -> 0 | K40: =+I40/8 -> 0
A41: 45960 | J41: =+H41/8 -> 0 | K41: =+I41/8 -> 0
A42: 45961 | J42: =+H42/8 -> 0 | K42: =+I42/8 -> 0
A43: 45962 | J43: =+H43/8 -> 0 | K43: =+I43/8 -> 0
A44: 45963 | J44: =+H44/8 -> 0 | K44: =+I44/8 -> 0
A45: 45964 | J45: =+H45/8 -> 0 | K45: =+I45/8 -> 0
A46: 45965 | J46: =+H46/8 -> 0 | K46: =+I46/8 -> 0
A47: 45966 | J47: =+H47/8 -> 0 | K47: =+I47/8 -> 0
A48: 45967 | J48: =+H48/8 -> 0 | K48: =+I48/8 -> 0
A49: 45968 | J49: =+H49/8 -> 0 | K49: =+I49/8 -> 0
A50: 45969 | J50: =+H50/8 -> 0 | K50: =+I50/8 -> 0
A51: 45970 | J51: =+H51/8 -> 0 | K51: =+I51/8 -> 0
... A103: 46022 | J103: =+H103/8 -> 0 | K103: =+I103/8 -> 0
A104: PRODUCCIÓN POR PROCESO | B104: =SUM(B5:B103) -> 0 | C104: =SUM(C5:C103) -> 0 | D104: =SUM(D5:D103) -> 5456 | E104: =SUM(E5:E103) -> 0 | F104: =SUM(F5:F103) -> 0 | G104: =SUM(G5:G103) -> 0 | H104: =SUM(H5:H103) -> 0 | I104: =SUM(I5:I103) -> 0 | ... L104: =SUM(L5:L103) -> 0
J105: =+H105/8 -> 0 | K105: =+I105/8 -> 0
J106: =+H106/8 -> 0 | K106: =+I106/8 -> 0
J107: =+H107/8 -> 0 | K107: =+I107/8 -> 0
J108: =+H108/8 -> 0 | K108: =+I108/8 -> 0
J109: =+H109/8 -> 0 | K109: =+I109/8 -> 0
J110: =+H110/8 -> 0 | K110: =+I110/8 -> 0
J111: =+H111/8 -> 0 | K111: =+I111/8 -> 0
J112: =+H112/8 -> 0 | K112: =+I112/8 -> 0
J113: =+H113/8 -> 0 | K113: =+I113/8 -> 0
J114: =+H114/8 -> 0 | K114: =+I114/8 -> 0
J115: =+H115/8 -> 0 | K115: =+I115/8 -> 0
J116: =+H116/8 -> 0 | K116: =+I116/8 -> 0
... J119: =+H119/8 -> 0 | K119: =+I119/8 -> 0

Sheet LUISA ESCOBAR
A1: MINISTERIO DE DEFENSA 2.0
A2: REGISTRO DIARIO DE PRODUCCIÓN - 2025
A3: LUISA ESCOBAR
A4: FECHA | B4: ORDENACIÓN ALFABÉTICA KARDEX | C4: C.C.ORDENACIÓN ALFABÉTICA KARDEX | D4: REGISTOS FUID KARDEX | E4: C.C.REGISTOS FUID KARDEX | F4: ACTUALIZACIÓN FUID CARPETAS | G4: CC ACTUALIZACIÓN FUID CARPETAS | H4: OTRAS ACTIVIDADES (HORAS) | I4: NO ASISTIÓ (HORAS) | J4: OTRAS ACTIVIDADES (DÍAS) | K4: NO ASISTIÓ (DÍAS) | L4: OBSERVACIONES
A5: 45924 | D5: 46 | J5: =+H5/8 -> 0 | K5: =+I5/8 -> 0 | L5: REMITIDA DE MEN INICIA EN PROYECTO MINDEF CURVA DE APRENDIZAJE, GAVETA 1
A6: 45925 | D6: 115 | J6: =+H6/8 -> 0 | K6: =+I6/8 -> 0 | L6: GAVETA 1
A7: 45926 | D7: 125 | J7: =+H7/8 -> 0 | K7: =+I7/8 -> 0 | L7: GAVETA 1
A8: 45927 | J8: =+H8/8 -> 0 | K8: =+I8/8 -> 0
A9: 45928 | J9: =+H9/8 -> 0 | K9: =+I9/8 -> 0
A10: 45929 | D10: 173 | J10: =+H10/8 -> 0 | K10: =+I10/8 -> 0 | L10: GAVETA 1
A11: 45930 | D11: 152 | J11: =+H11/8 -> 0 | K11: =+I11/8 -> 0 | L11: GAVETA 1 Y 14
A12: 45931 | D12: 137 | J12: =+H12/8 -> 0 | K12: =+I12/8 -> 0 | L12: GAVETA 14
A13: 45932 | D13: 173 | J13: =+H13/8 -> 0 | K13: =+I13/8 -> 0 | L13: GAVETA 14
A14: 45933 | D14: 280 | J14: =+H14/8 -> 0 | K14: =+I14/8 -> 0 | L14: GAVETA 14
A15: 45934 | J15: =+H15/8 -> 0 | K15: =+I15/8 -> 0
A16: 45935 | J16: =+H16/8 -> 0 | K16: =+I16/8 -> 0
A17: 45936 | D17: 280 | J17: =+H17/8 -> 0 | K17: =+I17/8 -> 0 | L17: GAVETA 14
A18: 45937 | D18: 214 | J18: =+H18/8 -> 0 | K18: =+I18/8 -> 0 | L18: GAVETA 14
A19: 45938 | D19: 240 | J19: =+H19/8 -> 0 | K19: =+I19/8 -> 0 | L19: GAVETA 41
A20: 45939 | D20: 264 | J20: =+H20/8 -> 0 | K20: =+I20/8 -> 0 | L20: GAVETA 41
A21: 45940 | D21: 67 | J21: =+H21/8 -> 0 | K21: =+I21/8 -> 0 | L21: GAVETA 41 SE REALIZA SEGUIMIENTO CON CORTE AL 10/10/2025 EVIDENCIANDO UN SALDO PENDIENTE DE 900 REGISTROS FUID EQUIVALENTES A 3.5 DIAS EN METAS DE PRODUCCION
A22: 45941 | J22: =+H22/8 -> 0 | K22: =+I22/8 -> 0
A23: 45942 | J23: =+H23/8 -> 0 | K23: =+I23/8 -> 0
A24: 45943 | J24: =+H24/8 -> 0 | K24: =+I24/8 -> 0
A25: 45944 | D25: 204 | J25: =+H25/8 -> 0 | K25: =+I25/8 -> 0 | L25: GAVETA 41
A26: 45945 | D26: 203 | J26: =+H26/8 -> 0 | K26: =+I26/8 -> 0 | L26: GAVETA 41
A27: 45946 | D27: =212+68 -> 280 | J27: =+H27/8 -> 0 | K27: =+I27/8 -> 0 | L27: GAVETA 41-67
A28: 45947 | D28: 283 | J28: =+H28/8 -> 0 | K28: =+I28/8 -> 0 | L28: GAVETA 67
A29: 45948 | J29: =+H29/8 -> 0 | K29: =+I29/8 -> 0
A30: 45949 | J30: =+H30/8 -> 0 | K30: =+I30/8 -> 0
A31: 45950 | D31: 280 | J31: =+H31/8 -> 0 | K31: =+I31/8 -> 0 | L31: GAVETA 67
A32: 45951 | D32: 281 | J32: =+H32/8 -> 0 | K32: =+I32/8 -> 0 | L32: GAVETA 67
A33: 45952 | D33: 289 | J33: =+H33/8 -> 0 | K33: =+I33/8 -> 0 | L33: GAVETA 67
A34: 45953 | D34: 281 | J34: =+H34/8 -> 0 | K34: =+I34/8 -> 0 | L34: GAVETA 83
A35: 45954 | D35: 281 | J35: =+H35/8 -> 0 | K35: =+I35/8 -> 0 | L35: GAVETA 83
A36: 45955 | D36: 280 | J36: =+H36/8 -> 0 | K36: =+I36/8 -> 0 | L36: GAVETA 83
A37: 45956 | J37: =+H37/8 -> 0 | K37: =+I37/8 -> 0
A38: 45957 | D38: 260 | J38: =+H38/8 -> 0 | K38: =+I38/8 -> 0 | L38: GAVETA 83
A39: 45958 | D39: 58 | J39: =+H39/8 -> 0 | K39: =+I39/8 -> 0
A40: 45959 | J40: =+H40/8 -> 0 | K40: =+I40/8 -> 0 | L40: SE REALIZA SEGUIMIENTO EL 29/10 CON CORTE AL 24/10 QUEDANDO PENDIENTE UN DÌA DE PRODUCCIÒN (260 REGISTROS)
A41: 45960 | J41: =+H41/8 -> 0 | K41: =+I41/8 -> 0
A42: 45961 | J42: =+H42/8 -> 0 | K42: =+I42/8 -> 0
A43: 45962 | J43: =+H43/8 -> 0 | K43: =+I43/8 -> 0
A44: 45963 | J44: =+H44/8 -> 0 | K44: =+I44/8 -> 0
A45: 45964 | J45: =+H45/8 -> 0 | K45: =+I45/8 -> 0
A46: 45965 | J46: =+H46/8 -> 0 | K46: =+I46/8 -> 0
A47: 45966 | J47: =+H47/8 -> 0 | K47: =+I47/8 -> 0
A48: 45967 | J48: =+H48/8 -> 0 | K48: =+I48/8 -> 0
A49: 45968 | J49: =+H49/8 -> 0 | K49: =+I49/8 -> 0
A50: 45969 | J50: =+H50/8 -> 0 | K50: =+I50/8 -> 0
A51: 45970 | J51: =+H51/8 -> 0 | K51: =+I51/8 -> 0
A52: 45971 | J52: =+H52/8 -> 0 | K52: =+I52/8 -> 0
... A103: 46022 | J103: =+H103/8 -> 0 | K103: =+I103/8 -> 0
A104: PRODUCCIÓN POR PROCESO | B104: =SUM(B5:B103) -> 0 | C104: =SUM(C5:C103) -> 0 | D104: =SUM(D5:D103) -> 5246 | E104: =SUM(E5:E103) -> 0 | F104: =SUM(F5:F103) -> 0 | G104: =SUM(G5:G103) -> 0 | H104: =SUM(H5:H103) -> 0 | I104: =SUM(I5:I103) -> 0 | ... L104: =SUM(L5:L103) -> 0
J105: =+H105/8 -> 0 | K105: =+I105/8 -> 0
J106: =+H106/8 -> 0 | K106: =+I106/8 -> 0
J107: =+H107/8 -> 0 | K107: =+I107/8 -> 0
J108: =+H108/8 -> 0 | K108: =+I108/8 -> 0
J109: =+H109/8 -> 0 | K109: =+I109/8 -> 0
J110: =+H110/8 -> 0 | K110: =+I110/8 -> 0
J111: =+H111/8 -> 0 | K111: =+I111/8 -> 0
J112: =+H112/8 -> 0 | K112: =+I112/8 -> 0
J113: =+H113/8 -> 0 | K113: =+I113/8 -> 0
J114: =+H114/8 -> 0 | K114: =+I114/8 -> 0
J115: =+H115/8 -> 0 | K115: =+I115/8 -> 0
J116: =+H116/8 -> 0 | K116: =+I116/8 -> 0
... J119: =+H119/8 -> 0 | K119: =+I119/8 -> 0

Sheet MAYRA CASTILLO
A1: MINISTERIO DE DEFENSA 2.0
A2: REGISTRO DIARIO DE PRODUCCIÓN - 2025
A3: MAYRA CASTILLO
A4: FECHA | B4: ORDENACIÓN ALFABÉTICA KARDEX | C4: C.C.ORDENACIÓN ALFABÉTICA KARDEX | D4: REGISTOS FUID KARDEX | E4: C.C.REGISTOS FUID KARDEX | F4: ACTUALIZACIÓN FUID CARPETAS | G4: CC ACTUALIZACIÓN FUID CARPETAS | H4: OTRAS ACTIVIDADES (HORAS) | I4: NO ASISTIÓ (HORAS) | J4: OTRAS ACTIVIDADES (DÍAS) | K4: NO ASISTIÓ (DÍAS) | L4: OBSERVACIONES
A5: 45924 | J5: =+H5/8 -> 0 | K5: =+I5/8 -> 0
A6: 45925 | J6: =+H6/8 -> 0 | K6: =+I6/8 -> 0
A7: 45926 | J7: =+H7/8 -> 0 | K7: =+I7/8 -> 0
A8: 45927 | J8: =+H8/8 -> 0 | K8: =+I8/8 -> 0
A9: 45928 | J9: =+H9/8 -> 0 | K9: =+I9/8 -> 0
A10: 45929 | J10: =+H10/8 -> 0 | K10: =+I10/8 -> 0
A11: 45930 | J11: =+H11/8 -> 0 | K11: =+I11/8 -> 0
A12: 45931 | J12: =+H12/8 -> 0 | K12: =+I12/8 -> 0
A13: 45932 | J13: =+H13/8 -> 0 | K13: =+I13/8 -> 0
A14: 45933 | J14: =+H14/8 -> 0 | K14: =+I14/8 -> 0
A15: 45934 | J15: =+H15/8 -> 0 | K15: =+I15/8 -> 0
A16: 45935 | J16: =+H16/8 -> 0 | K16: =+I16/8 -> 0
A17: 45936 | J17: =+H17/8 -> 0 | K17: =+I17/8 -> 0 | L17: REMISION DEL PROYECTO DAPRE CON UN SALDO PENDIENTE EN METAS DE PRODUCCIÒN DE 3,9 DÌAS. INGRESO PROYECTO MINDEFENSA CURVA DE APRENDIZAJE PROCESO ORDENACION
A18: 45937 | J18: =+H18/8 -> 0 | K18: =+I18/8 -> 0
A19: 45938 | I19: 8 | J19: =+H19/8 -> 0 | K19: =+I19/8 -> 1 | L19: NO ASISTIO
A20: 45939 | I20: 8 | J20: =+H20/8 -> 0 | K20: =+I20/8 -> 1 | L20: NO ASISTIO
A21: 45940 | I21: 8 | J21: =+H21/8 -> 0 | K21: =+I21/8 -> 1 | L21: NO ASISTIO
A22: 45941 | J22: =+H22/8 -> 0 | K22: =+I22/8 -> 0
A23: 45942 | J23: =+H23/8 -> 0 | K23: =+I23/8 -> 0
A24: 45943 | J24: =+H24/8 -> 0 | K24: =+I24/8 -> 0
A25: 45944 | J25: =+H25/8 -> 0 | K25: =+I25/8 -> 0 | L25: NO ASISTIO SE REALIZA SEGUIMIENTO CON CORTE AL 14 DE OCTUBRE DE 2025 EVIDENCIANDO UN SALDO PENDIENTE DE 5 DIAS DE PRODUCCIÒN. LO ANTERIOR SUMADO AL SALDO PENDIENTE EN PRODUCCION DE DAPRE, DA UN TOTAL DE 8.9 DIAS PENDIENTES EN META DE PRODUCCION
A26: 45945 | J26: =+H26/8 -> 0 | K26: =+I26/8 -> 0 | L26: INICIA PROCESO FUID KARDEX
A27: 45946 | D27: 260 | J27: =+H27/8 -> 0 | K27: =+I27/8 -> 0 | L27: GAVETA 51
A28: 45947 | D28: 262 | J28: =+H28/8 -> 0 | K28: =+I28/8 -> 0 | L28: GAVETA 51
A29: 45948 | J29: =+H29/8 -> 0 | K29: =+I29/8 -> 0
A30: 45949 | J30: =+H30/8 -> 0 | K30: =+I30/8 -> 0
A31: 45950 | D31: 260 | J31: =+H31/8 -> 0 | K31: =+I31/8 -> 0 | L31: GAVETA 51
A32: 45951 | D32: 260 | J32: =+H32/8 -> 0 | K32: =+I32/8 -> 0 | L32: GAVETA 51 Y 85
A33: 45952 | D33: 260 | J33: =+H33/8 -> 0 | K33: =+I33/8 -> 0 | L33: GAVETA 85
A34: 45953 | D34: 261 | J34: =+H34/8 -> 0 | K34: =+I34/8 -> 0 | L34: GAVETA 85
A35: 45954 | D35: 222 | J35: =+H35/8 -> 0 | K35: =+I35/8 -> 0 | L35: GAVETA 85 SE REALIZA SEGUIMIENTO CON CORTE AL 24 DE OCTUBRE DE 2025 EVIDENCIANDO QUE PRESENTA UN SALDO PENDIENTE DE 10 DÌAS EN META DE PRODUCCIÒN QUE EQUIVALE EN EL PROCESO ACTUAL A 2600 REGISTROS DE INVENTARIO. ADICIONAL A LO ANTERIOR, NO DIO RESPUESTA AL CORREO ENVIADO EL DIA 16 DE OCTUBRE DE 2025
A36: 45955 | J36: =+H36/8 -> 0 | K36: =+I36/8 -> 0
A37: 45956 | J37: =+H37/8 -> 0 | K37: =+I37/8 -> 0
A38: 45957 | D38: =70+131 -> 201 | J38: =+H38/8 -> 0 | K38: =+I38/8 -> 0 | L38: GAVETA 85 -98 | M38: =2236/260 -> 8.6
A39: 45958 | D39: 262 | J39: =+H39/8 -> 0 | K39: =+I39/8 -> 0 | L39: GAVETA 98 | M39: =+M38+0.5 -> 9.1
A40: 45959 | D40: 400 | J40: =+H40/8 -> 0 | K40: =+I40/8 -> 0 | L40: GAVETA 98
A41: 45960 | D41: 200 | H41: 4 | J41: =+H41/8 -> 0.5 | K41: =+I41/8 -> 0 | L41: GAVETA 98
A42: 45961 | D42: =100+300 -> 400 | J42: =+H42/8 -> 0 | K42: =+I42/8 -> 0 | L42: GAVETA 96-98
A43: 45962 | D43: 353 | J43: =+H43/8 -> 0 | K43: =+I43/8 -> 0 | L43: GAVETA 96
A44: 45963 | J44: =+H44/8 -> 0 | K44: =+I44/8 -> 0
A45: 45964 | J45: =+H45/8 -> 0 | K45: =+I45/8 -> 0
A46: 45965 | D46: 400 | J46: =+H46/8 -> 0 | K46: =+I46/8 -> 0 | L46: GAVETA 111
A47: 45966 | D47: 20 | J47: =+H47/8 -> 0 | K47: =+I47/8 -> 0 | L47: GAVETA 111
A48: 45967 | J48: =+H48/8 -> 0 | K48: =+I48/8 -> 0 | L48: QUEDA PENDIENTE 1 DÍA DE PRODUCCIÓN PARA QUEDAR AL DÍA AL 24/10, PRESENTA INFORME
A49: 45968 | J49: =+H49/8 -> 0 | K49: =+I49/8 -> 0
A50: 45969 | J50: =+H50/8 -> 0 | K50: =+I50/8 -> 0
A51: 45970 | J51: =+H51/8 -> 0 | K51: =+I51/8 -> 0
A52: 45971 | J52: =+H52/8 -> 0 | K52: =+I52/8 -> 0
A53: 45972 | J53: =+H53/8 -> 0 | K53: =+I53/8 -> 0
A54: 45973 | J54: =+H54/8 -> 0 | K54: =+I54/8 -> 0
A55: 45974 | J55: =+H55/8 -> 0 | K55: =+I55/8 -> 0
A56: 45975 | J56: =+H56/8 -> 0 | K56: =+I56/8 -> 0
A57: 45976 | J57: =+H57/8 -> 0 | K57: =+I57/8 -> 0
A58: 45977 | J58: =+H58/8 -> 0 | K58: =+I58/8 -> 0
A59: 45978 | J59: =+H59/8 -> 0 | K59: =+I59/8 -> 0
A60: 45979 | J60: =+H60/8 -> 0 | K60: =+I60/8 -> 0
... A103: 46022 | J103: =+H103/8 -> 0 | K103: =+I103/8 -> 0
A104: PRODUCCIÓN POR PROCESO | B104: =SUM(B5:B103)/#REF! -> #REF! | C104: =SUM(C5:C103) -> 0 | D104: =SUM(D5:D103)/2 -> 2010.5 | E104: =SUM(E5:E103)/#REF! -> #REF! | F104: =SUM(F5:F103) -> 0 | G104: =SUM(G5:G103)/#REF! -> #REF! | H104: =SUM(H5:H103) -> 4 | I104: =SUM(I5:I103)/#REF! -> #REF! | J104: =+H104/8 -> 0.5 | K104: =+I104/8 -> #REF! | L104: =SUM(L5:L103) -> 0
J105: =+H105/8 -> 0 | K105: =+I105/8 -> 0
J106: =+H106/8 -> 0 | K106: =+I106/8 -> 0
J107: =+H107/8 -> 0 | K107: =+I107/8 -> 0
J108: =+H108/8 -> 0 | K108: =+I108/8 -> 0
J109: =+H109/8 -> 0 | K109: =+I109/8 -> 0
J110: =+H110/8 -> 0 | K110: =+I110/8 -> 0
J111: =+H111/8 -> 0 | K111: =+I111/8 -> 0
J112: =+H112/8 -> 0 | K112: =+I112/8 -> 0
J113: =+H113/8 -> 0 | K113: =+I113/8 -> 0
J114: =+H114/8 -> 0 | K114: =+I114/8 -> 0
J115: =+H115/8 -> 0 | K115: =+I115/8 -> 0
J116: =+H116/8 -> 0 | K116: =+I116/8 -> 0
... J119: =+H119/8 -> 0 | K119: =+I119/8 -> 0

Sheet LILIANA ZARATE
A1: MINISTERIO DE DEFENSA 2.0
A2: REGISTRO DIARIO DE PRODUCCIÓN - 2025
A3: LILIANA ZARATE
A4: FECHA | B4: ORDENACIÓN ALFABÉTICA KARDEX | C4: C.C.ORDENACIÓN ALFABÉTICA KARDEX | D4: REGISTOS FUID KARDEX | E4: C.C.REGISTOS FUID KARDEX | F4: ACTUALIZACIÓN FUID CARPETAS | G4: CC ACTUALIZACIÓN FUID CARPETAS | H4: OTRAS ACTIVIDADES (HORAS) | I4: NO ASISTIÓ (HORAS) | J4: OTRAS ACTIVIDADES (DÍAS) | K4: NO ASISTIÓ (DÍAS) | L4: OBSERVACIONES
A5: 45924 | J5: =+H5/8 -> 0 | K5: =+I5/8 -> 0
A6: 45925 | J6: =+H6/8 -> 0 | K6: =+I6/8 -> 0
A7: 45926 | J7: =+H7/8 -> 0 | K7: =+I7/8 -> 0
A8: 45927 | J8: =+H8/8 -> 0 | K8: =+I8/8 -> 0
A9: 45928 | J9: =+H9/8 -> 0 | K9: =+I9/8 -> 0
A10: 45929 | J10: =+H10/8 -> 0 | K10: =+I10/8 -> 0
A11: 45930 | J11: =+H11/8 -> 0 | K11: =+I11/8 -> 0
A12: 45931 | J12: =+H12/8 -> 0 | K12: =+I12/8 -> 0
A13: 45932 | J13: =+H13/8 -> 0 | K13: =+I13/8 -> 0
A14: 45933 | J14: =+H14/8 -> 0 | K14: =+I14/8 -> 0
A15: 45934 | J15: =+H15/8 -> 0 | K15: =+I15/8 -> 0
A16: 45935 | J16: =+H16/8 -> 0 | K16: =+I16/8 -> 0
A17: 45936 | J17: =+H17/8 -> 0 | K17: =+I17/8 -> 0 | L17: SE REMITE DEL PROYECTO DAPRE CON UN SALDO PENDIENTE DE 589 REGISTROS EQUIVALENTES A 4,5 DIAS DE PRODUCCION. INGRESA PROYECTO MINDEFENSA CURVA DE APRENDIZAJE EN EL PROCESO ORDENACION
A18: 45937 | J18: =+H18/8 -> 0 | K18: =+I18/8 -> 0
A19: 45938 | J19: =+H19/8 -> 0 | K19: =+I19/8 -> 0
A20: 45939 | B20: 1 | J20: =+H20/8 -> 0 | K20: =+I20/8 -> 0 | L20: GAVETA 9
A21: 45940 | J21: =+H21/8 -> 0 | K21: =+I21/8 -> 0 | L21: NO ASISTIO
A22: 45941 | D22: 260 | J22: =+H22/8 -> 0 | K22: =+I22/8 -> 0 | L22: GAVETA 53
A23: 45942 | J23: =+H23/8 -> 0 | K23: =+I23/8 -> 0
A24: 45943 | J24: =+H24/8 -> 0 | K24: =+I24/8 -> 0
A25: 45944 | J25: =+H25/8 -> 0 | K25: =+I25/8 -> 0 | L25: SE REALIZA SEGUIMIENTO EVIDENCIANDO UN SALDO PENDIENTE DE 3 GAVETAS EN EL PROCESO DE ORDENACION, EQUIVALENTES A TRES DIAS DE PRODUCCION. TENIENDO EN CUENTA EL SALDO PENDIENTE DE 4,5 DIAS EN EL PROYECTO DAPRE PRESENTA UN PENDIENTE EN METAS DE PRODUCCION EQUIVALENTES A 7.5 DIAS
A26: 45945 | D26: 260 | J26: =+H26/8 -> 0 | K26: =+I26/8 -> 0 | L26: GAVETA 53 PASA AL PROCESO DE INVENTARIO
A27: 45946 | D27: 260 | J27: =+H27/8 -> 0 | K27: =+I27/8 -> 0 | L27: GAVETA 53
A28: 45947 | D28: 261 | J28: =+H28/8 -> 0 | K28: =+I28/8 -> 0 | L28: GAVETA 53
A29: 45948 | J29: =+H29/8 -> 0 | K29: =+I29/8 -> 0
A30: 45949 | J30: =+H30/8 -> 0 | K30: =+I30/8 -> 0
A31: 45950 | D31: 261 | J31: =+H31/8 -> 0 | K31: =+I31/8 -> 0 | L31: GAVETA 53
A32: 45951 | D32: 101 | J32: =+H32/8 -> 0 | K32: =+I32/8 -> 0 | L32: GAVETA 53
A33: 45952 | J33: =+H33/8 -> 0 | K33: =+I33/8 -> 0 | L33: NO ASISTIO
A34: 45953 | J34: =+H34/8 -> 0 | K34: =+I34/8 -> 0 | L34: NO ASISTIO
A35: 45954 | J35: =+H35/8 -> 0 | K35: =+I35/8 -> 0 | L35: SE REALIZA SEGUIMIENTO CON CORTE AL 24 DE OCTUBRE DE 2025 EVIDENCIANDO QUE CONTINUAN PENDIENTES 3 GAVETAS DEL PROCESO DE ORDENACION + 4,5 DIAS DE PRODUCCION DEL PROYECTO DAPRE Y UN ADICIONAL DE 937 REGISTROS DE INVENTARIO EQUIVALENTES A 3,6 DIAS EN METAS DE PRODUCCION CONCLUSION: PRESENTA UN SALDO PENDIENTE DE 11,1 DIAS EN META DE PRODUCCION
A36: 45955 | J36: =+H36/8 -> 0 | K36: =+I36/8 -> 0
A37: 45956 | J37: =+H37/8 -> 0 | K37: =+I37/8 -> 0
A38: 45957 | J38: =+H38/8 -> 0 | K38: =+I38/8 -> 0
A39: 45958 | J39: =+H39/8 -> 0 | K39: =+I39/8 -> 0
A40: 45959 | J40: =+H40/8 -> 0 | K40: =+I40/8 -> 0
A41: 45960 | J41: =+H41/8 -> 0 | K41: =+I41/8 -> 0
A42: 45961 | J42: =+H42/8 -> 0 | K42: =+I42/8 -> 0
A43: 45962 | J43: =+H43/8 -> 0 | K43: =+I43/8 -> 0
A44: 45963 | J44: =+H44/8 -> 0 | K44: =+I44/8 -> 0
A45: 45964 | J45: =+H45/8 -> 0 | K45: =+I45/8 -> 0
A46: 45965 | J46: =+H46/8 -> 0 | K46: =+I46/8 -> 0
A47: 45966 | J47: =+H47/8 -> 0 | K47: =+I47/8 -> 0
... A103: 46022 | J103: =+H103/8 -> 0 | K103: =+I103/8 -> 0
A104: PRODUCCIÓN POR PROCESO | B104: =SUM(B5:B103)/#REF! -> #REF! | C104: =SUM(C5:C103) -> 0 | D104: =SUM(D5:D103)/2 -> 701.5 | E104: =SUM(E5:E103)/#REF! -> #REF! | F104: =SUM(F5:F103) -> 0 | G104: =SUM(G5:G103)/#REF! -> #REF! | H104: =SUM(H5:H103) -> 0 | I104: =SUM(I5:I103)/#REF! -> #REF! | J104: =+H104/8 -> 0 | K104: =+I104/8 -> #REF! | L104: =SUM(L5:L103) -> 0
J105: =+H105/8 -> 0 | K105: =+I105/8 -> 0
J106: =+H106/8 -> 0 | K106: =+I106/8 -> 0
J107: =+H107/8 -> 0 | K107: =+I107/8 -> 0
J108: =+H108/8 -> 0 | K108: =+I108/8 -> 0
J109: =+H109/8 -> 0 | K109: =+I109/8 -> 0
J110: =+H110/8 -> 0 | K110: =+I110/8 -> 0
J111: =+H111/8 -> 0 | K111: =+I111/8 -> 0
J112: =+H112/8 -> 0 | K112: =+I112/8 -> 0
J113: =+H113/8 -> 0 | K113: =+I113/8 -> 0
J114: =+H114/8 -> 0 | K114: =+I114/8 -> 0
J115: =+H115/8 -> 0 | K115: =+I115/8 -> 0
J116: =+H116/8 -> 0 | K116: =+I116/8 -> 0
... J119: =+H119/8 -> 0 | K119: =+I119/8 -> 0

Sheet DIANA CARRILLO
A1: MINISTERIO DE DEFENSA 2.0
A2: REGISTRO DIARIO DE PRODUCCIÓN - 2025
A3: DIANA CARRILLO
A4: FECHA | B4: ORDENACIÓN ALFABÉTICA KARDEX | C4: C.C.ORDENACIÓN ALFABÉTICA KARDEX | D4: REGISTOS FUID KARDEX | E4: C.C.REGISTOS FUID KARDEX | F4: ACTUALIZACIÓN FUID CARPETAS | G4: CC ACTUALIZACIÓN FUID CARPETAS | H4: OTRAS ACTIVIDADES (HORAS) | I4: NO ASISTIÓ (HORAS) | J4: OTRAS ACTIVIDADES (DÍAS) | K4: NO ASISTIÓ (DÍAS) | L4: OBSERVACIONES
A5: 45924 | J5: =+H5/8 -> 0 | K5: =+I5/8 -> 0
A6: 45925 | J6: =+H6/8 -> 0 | K6: =+I6/8 -> 0
A7: 45926 | J7: =+H7/8 -> 0 | K7: =+I7/8 -> 0
A8: 45927 | J8: =+H8/8 -> 0 | K8: =+I8/8 -> 0
A9: 45928 | J9: =+H9/8 -> 0 | K9: =+I9/8 -> 0
A10: 45929 | J10: =+H10/8 -> 0 | K10: =+I10/8 -> 0
A11: 45930 | J11: =+H11/8 -> 0 | K11: =+I11/8 -> 0
A12: 45931 | J12: =+H12/8 -> 0 | K12: =+I12/8 -> 0
A13: 45932 | J13: =+H13/8 -> 0 | K13: =+I13/8 -> 0
A14: 45933 | J14: =+H14/8 -> 0 | K14: =+I14/8 -> 0
A15: 45934 | J15: =+H15/8 -> 0 | K15: =+I15/8 -> 0
A16: 45935 | J16: =+H16/8 -> 0 | K16: =+I16/8 -> 0
... A20: 45939 | J20: =+H20/8 -> 0 | K20: =+I20/8 -> 0
A21: 45940 | J21: =+H21/8 -> 0 | K21: =+I21/8 -> 0 | L21: INGRESA AL PROYECTO EL DÌA 10/10/2025 CURVA DE APRENDIZAJE PROCESO ORDENACION GAVETA 81
A22: 45941 | J22: =+H22/8 -> 0 | K22: =+I22/8 -> 0
A23: 45942 | J23: =+H23/8 -> 0 | K23: =+I23/8 -> 0
A24: 45943 | J24: =+H24/8 -> 0 | K24: =+I24/8 -> 0
A25: 45944 | J25: =+H25/8 -> 0 | K25: =+I25/8 -> 0
A26: 45945 | J26: =+H26/8 -> 0 | K26: =+I26/8 -> 0 | L26: SE REALIZA SEGUIMIENTO CON CORTE AL 14 DE OCTUBRE DE 2025 SE EVIDENCIA UN SALDO PDTE DE 1 GAVETA DEL PROCESO DE ORDENACIÒN
A27: 45946 | B27: 1 | J27: =+H27/8 -> 0 | K27: =+I27/8 -> 0 | L27: GAVETA 81
A28: 45947 | J28: =+H28/8 -> 0 | K28: =+I28/8 -> 0
A29: 45948 | J29: =+H29/8 -> 0 | K29: =+I29/8 -> 0
A30: 45949 | J30: =+H30/8 -> 0 | K30: =+I30/8 -> 0
A31: 45950 | J31: =+H31/8 -> 0 | K31: =+I31/8 -> 0
A32: 45951 | J32: =+H32/8 -> 0 | K32: =+I32/8 -> 0
A33: 45952 | J33: =+H33/8 -> 0 | K33: =+I33/8 -> 0
A34: 45953 | B34: 1 | J34: =+H34/8 -> 0 | K34: =+I34/8 -> 0 | L34: GAVETA 109
A35: 45954 | D35: 12 | J35: =+H35/8 -> 0 | K35: =+I35/8 -> 0 | L35: GAVETA 84
A36: 45955 | D36: 100 | J36: =+H36/8 -> 0 | K36: =+I36/8 -> 0
A37: 45956 | J37: =+H37/8 -> 0 | K37: =+I37/8 -> 0
A38: 45957 | D38: 181 | J38: =+H38/8 -> 0 | K38: =+I38/8 -> 0
A39: 45958 | D39: 202 | J39: =+H39/8 -> 0 | K39: =+I39/8 -> 0
A40: 45959 | D40: 81 | J40: =+H40/8 -> 0 | K40: =+I40/8 -> 0 | L40: SE REALIZA SEGUIMIENTO CON CORTE AL 24/10 QUEDAN PENDIENTAS 4,7 DÌAS DE PRODUCCIÒN
A41: 45960 | J41: =+H41/8 -> 0 | K41: =+I41/8 -> 0
A42: 45961 | J42: =+H42/8 -> 0 | K42: =+I42/8 -> 0
A43: 45962 | J43: =+H43/8 -> 0 | K43: =+I43/8 -> 0
A44: 45963 | J44: =+H44/8 -> 0 | K44: =+I44/8 -> 0
A45: 45964 | J45: =+H45/8 -> 0 | K45: =+I45/8 -> 0
A46: 45965 | J46: =+H46/8 -> 0 | K46: =+I46/8 -> 0
A47: 45966 | J47: =+H47/8 -> 0 | K47: =+I47/8 -> 0
A48: 45967 | J48: =+H48/8 -> 0 | K48: =+I48/8 -> 0
A49: 45968 | J49: =+H49/8 -> 0 | K49: =+I49/8 -> 0
A50: 45969 | J50: =+H50/8 -> 0 | K50: =+I50/8 -> 0
A51: 45970 | J51: =+H51/8 -> 0 | K51: =+I51/8 -> 0
A52: 45971 | J52: =+H52/8 -> 0 | K52: =+I52/8 -> 0
... A103: 46022 | J103: =+H103/8 -> 0 | K103: =+I103/8 -> 0
A104: PRODUCCIÓN POR PROCESO | B104: =SUM(B4:B103) -> 2 | C104: =SUM(C4:C103) -> 0 | D104: =SUM(D4:D103) -> 576 | E104: =SUM(E4:E103) -> 0 | F104: =SUM(F4:F103) -> 0 | G104: =SUM(G4:G103) -> 0 | H104: =SUM(H4:H103) -> 0 | I104: =SUM(I4:I103) -> 0 | ... K104: =SUM(K4:K103) -> 0
J105: =+H105/8 -> 0 | K105: =+I105/8 -> 0
J106: =+H106/8 -> 0 | K106: =+I106/8 -> 0
J107: =+H107/8 -> 0 | K107: =+I107/8 -> 0
J108: =+H108/8 -> 0 | K108: =+I108/8 -> 0
J109: =+H109/8 -> 0 | K109: =+I109/8 -> 0
J110: =+H110/8 -> 0 | K110: =+I110/8 -> 0
J111: =+H111/8 -> 0 | K111: =+I111/8 -> 0
J112: =+H112/8 -> 0 | K112: =+I112/8 -> 0
J113: =+H113/8 -> 0 | K113: =+I113/8 -> 0
J114: =+H114/8 -> 0 | K114: =+I114/8 -> 0
J115: =+H115/8 -> 0 | K115: =+I115/8 -> 0
J116: =+H116/8 -> 0 | K116: =+I116/8 -> 0
... J119: =+H119/8 -> 0 | K119: =+I119/8 -> 0

Sheet LEIDY GONZALEZ
A1: MINISTERIO DE DEFENSA 2.0
A2: REGISTRO DIARIO DE PRODUCCIÓN - 2025
A3: LEIDY GONZALEZ
A4: FECHA | B4: ORDENACIÓN ALFABÉTICA KARDEX | C4: C.C.ORDENACIÓN ALFABÉTICA KARDEX | D4: REGISTOS FUID KARDEX | E4: C.C.REGISTOS FUID KARDEX | F4: ACTUALIZACIÓN FUID CARPETAS | G4: CC ACTUALIZACIÓN FUID CARPETAS | H4: OTRAS ACTIVIDADES (HORAS) | I4: NO ASISTIÓ (HORAS) | J4: OTRAS ACTIVIDADES (DÍAS) | K4: NO ASISTIÓ (DÍAS) | L4: OBSERVACIONES
A5: 45924 | J5: =+H5/8 -> 0 | K5: =+I5/8 -> 0
A6: 45925 | J6: =+H6/8 -> 0 | K6: =+I6/8 -> 0
A7: 45926 | J7: =+H7/8 -> 0 | K7: =+I7/8 -> 0
A8: 45927 | J8: =+H8/8 -> 0 | K8: =+I8/8 -> 0
A9: 45928 | J9: =+H9/8 -> 0 | K9: =+I9/8 -> 0
A10: 45929 | J10: =+H10/8 -> 0 | K10: =+I10/8 -> 0
A11: 45930 | J11: =+H11/8 -> 0 | K11: =+I11/8 -> 0
A12: 45931 | J12: =+H12/8 -> 0 | K12: =+I12/8 -> 0
A13: 45932 | J13: =+H13/8 -> 0 | K13: =+I13/8 -> 0
A14: 45933 | J14: =+H14/8 -> 0 | K14: =+I14/8 -> 0
A15: 45934 | J15: =+H15/8 -> 0 | K15: =+I15/8 -> 0
A16: 45935 | J16: =+H16/8 -> 0 | K16: =+I16/8 -> 0
A17: 45936 | J17: =+H17/8 -> 0 | K17: =+I17/8 -> 0 | L17: FECHA DE INICIO 06/10/2025 NO ASISTIO
A18: 45937 | J18: =+H18/8 -> 0 | K18: =+I18/8 -> 0 | L18: INGRESA AL PROYECTO POR INSTRUCCION DEL SUPERVISOR 07/10/2025 INICIA PROCESO DE FUID
A19: 45938 | D19: 260 | J19: =+H19/8 -> 0 | K19: =+I19/8 -> 0 | L19: GAVETA 34
A20: 45939 | D20: 260 | J20: =+H20/8 -> 0 | K20: =+I20/8 -> 0 | L20: GAVETA 34
A21: 45940 | D21: 260 | J21: =+H21/8 -> 0 | K21: =+I21/8 -> 0 | L21: GAVETA 34
A22: 45941 | J22: =+H22/8 -> 0 | K22: =+I22/8 -> 0
A23: 45942 | J23: =+H23/8 -> 0 | K23: =+I23/8 -> 0
A24: 45943 | J24: =+H24/8 -> 0 | K24: =+I24/8 -> 0
A25: 45944 | D25: 261 | J25: =+H25/8 -> 0 | K25: =+I25/8 -> 0 | L25: GAVETA 34 Y 46
A26: 45945 | D26: 197 | J26: =+H26/8 -> 0 | K26: =+I26/8 -> 0 | L26: GAVETA 46
A27: 45946 | D27: 261 | J27: =+H27/8 -> 0 | K27: =+I27/8 -> 0 | L27: SE REALIZA SEGUIMIENTO CON CORTE AL 15 DE OCTUBRE DE 2025, EVIDENCIANDO QUE SE ENCUENTRA AL DIA EN EL CUMPLIMIENTO DE LAS METAS DE PRODUCCION GAVETA 46
A28: 45947 | D28: 260 | J28: =+H28/8 -> 0 | K28: =+I28/8 -> 0 | L28: GAVETA 46 Y75
A29: 45948 | J29: =+H29/8 -> 0 | K29: =+I29/8 -> 0
A30: 45949 | J30: =+H30/8 -> 0 | K30: =+I30/8 -> 0
A31: 45950 | D31: 260 | J31: =+H31/8 -> 0 | K31: =+I31/8 -> 0 | L31: GAVETA 75
A32: 45951 | D32: 259 | J32: =+H32/8 -> 0 | K32: =+I32/8 -> 0 | L32: GAVETA 75
A33: 45952 | D33: 260 | J33: =+H33/8 -> 0 | K33: =+I33/8 -> 0 | L33: GAVETA 75
A34: 45953 | D34: 260 | J34: =+H34/8 -> 0 | K34: =+I34/8 -> 0 | L34: GAVETA 75
A35: 45954 | D35: 260 | J35: =+H35/8 -> 0 | K35: =+I35/8 -> 0 | L35: GAVETA 75 Y 96
A36: 45955 | J36: =+H36/8 -> 0 | K36: =+I36/8 -> 0
A37: 45956 | J37: =+H37/8 -> 0 | K37: =+I37/8 -> 0
A38: 45957 | D38: 260 | J38: =+H38/8 -> 0 | K38: =+I38/8 -> 0 | L38: GAVETA 96
A39: 45958 | D39: 260 | J39: =+H39/8 -> 0 | K39: =+I39/8 -> 0 | L39: GAVETA 96
A40: 45959 | D40: 260 | J40: =+H40/8 -> 0 | K40: =+I40/8 -> 0 | L40: GAVETA 96
A41: 45960 | D41: 66 | J41: =+H41/8 -> 0 | K41: =+I41/8 -> 0 | L41: GAVETA 96 SE REALIZA SEGUIMIENTO CON CORTE AL 29 DE OCTUBRE EVIDENCIANDO QUE SE ENCUENTRA AL DIA EN EL CUMPLIMIENTO DE LAS METAS DE PRODUCCION
A42: 45961 | J42: =+H42/8 -> 0 | K42: =+I42/8 -> 0
A43: 45962 | J43: =+H43/8 -> 0 | K43: =+I43/8 -> 0
A44: 45963 | J44: =+H44/8 -> 0 | K44: =+I44/8 -> 0
A45: 45964 | J45: =+H45/8 -> 0 | K45: =+I45/8 -> 0
A46: 45965 | J46: =+H46/8 -> 0 | K46: =+I46/8 -> 0
A47: 45966 | J47: =+H47/8 -> 0 | K47: =+I47/8 -> 0
A48: 45967 | J48: =+H48/8 -> 0 | K48: =+I48/8 -> 0
A49: 45968 | J49: =+H49/8 -> 0 | K49: =+I49/8 -> 0
A50: 45969 | J50: =+H50/8 -> 0 | K50: =+I50/8 -> 0
A51: 45970 | J51: =+H51/8 -> 0 | K51: =+I51/8 -> 0
A52: 45971 | J52: =+H52/8 -> 0 | K52: =+I52/8 -> 0
A53: 45972 | J53: =+H53/8 -> 0 | K53: =+I53/8 -> 0
... A103: 46022 | J103: =+H103/8 -> 0 | K103: =+I103/8 -> 0
A104: PRODUCCIÓN POR PROCESO | B104: =SUM(B5:B103)/#REF! -> #REF! | C104: =SUM(C5:C103) -> 0 | D104: =SUM(D5:D103)/2 -> 1952 | E104: =SUM(E5:E103)/#REF! -> #REF! | F104: =SUM(F5:F103) -> 0 | G104: =SUM(G5:G103)/#REF! -> #REF! | H104: =SUM(H5:H103) -> 0 | I104: =SUM(I5:I103)/#REF! -> #REF! | J104: =+H104/8 -> 0 | K104: =+I104/8 -> #REF! | L104: =SUM(L5:L103) -> 0
J105: =+H105/8 -> 0 | K105: =+I105/8 -> 0
J106: =+H106/8 -> 0 | K106: =+I106/8 -> 0
J107: =+H107/8 -> 0 | K107: =+I107/8 -> 0
J108: =+H108/8 -> 0 | K108: =+I108/8 -> 0
J109: =+H109/8 -> 0 | K109: =+I109/8 -> 0
J110: =+H110/8 -> 0 | K110: =+I110/8 -> 0
J111: =+H111/8 -> 0 | K111: =+I111/8 -> 0
J112: =+H112/8 -> 0 | K112: =+I112/8 -> 0
J113: =+H113/8 -> 0 | K113: =+I113/8 -> 0
J114: =+H114/8 -> 0 | K114: =+I114/8 -> 0
J115: =+H115/8 -> 0 | K115: =+I115/8 -> 0
J116: =+H116/8 -> 0 | K116: =+I116/8 -> 0
... J119: =+H119/8 -> 0 | K119: =+I119/8 -> 0

Sheet OSCAR VALENCIA
A1: MINISTERIO DE DEFENSA 2.0
A2: REGISTRO DIARIO DE PRODUCCIÓN - 2025
A3: OSCAR VALENCIA
A4: FECHA | B4: ORDENACIÓN ALFABÉTICA KARDEX | C4: C.C.ORDENACIÓN ALFABÉTICA KARDEX | D4: REGISTOS FUID KARDEX | E4: C.C.REGISTOS FUID KARDEX | F4: ACTUALIZACIÓN FUID CARPETAS | G4: CC ACTUALIZACIÓN FUID CARPETAS | H4: OTRAS ACTIVIDADES (HORAS) | I4: NO ASISTIÓ (HORAS) | J4: OTRAS ACTIVIDADES (DÍAS) | K4: NO ASISTIÓ (DÍAS) | L4: OBSERVACIONES
A5: 45924 | J5: =+H5/8 -> 0 | K5: =+I5/8 -> 0
A6: 45925 | J6: =+H6/8 -> 0 | K6: =+I6/8 -> 0
A7: 45926 | J7: =+H7/8 -> 0 | K7: =+I7/8 -> 0
A8: 45927 | J8: =+H8/8 -> 0 | K8: =+I8/8 -> 0
A9: 45928 | J9: =+H9/8 -> 0 | K9: =+I9/8 -> 0
A10: 45929 | J10: =+H10/8 -> 0 | K10: =+I10/8 -> 0
A11: 45930 | J11: =+H11/8 -> 0 | K11: =+I11/8 -> 0
A12: 45931 | J12: =+H12/8 -> 0 | K12: =+I12/8 -> 0 | L12: REMITIDO DEL PROYECTO MEN INGRESA PROYECTO MINDEF 01/10/2025 CURVA DE APRENDIZAJE INICIA EN PROCESO FUID KARDEX
A13: 45932 | D13: 169 | J13: =+H13/8 -> 0 | K13: =+I13/8 -> 0 | L13: GAVETA 19
A14: 45933 | D14: 231 | J14: =+H14/8 -> 0 | K14: =+I14/8 -> 0 | L14: GAVETA 19
A15: 45934 | D15: 274 | J15: =+H15/8 -> 0 | K15: =+I15/8 -> 0 | L15: GAVETA 19
A16: 45935 | J16: =+H16/8 -> 0 | K16: =+I16/8 -> 0
A17: 45936 | D17: 280 | J17: =+H17/8 -> 0 | K17: =+I17/8 -> 0 | L17: GAVETA 19
A18: 45937 | D18: 259 | J18: =+H18/8 -> 0 | K18: =+I18/8 -> 0 | L18: GAVETA 19
A19: 45938 | D19: 261 | J19: =+H19/8 -> 0 | K19: =+I19/8 -> 0 | L19: GAVETA 40
A20: 45939 | D20: 237 | J20: =+H20/8 -> 0 | K20: =+I20/8 -> 0 | L20: GAVETA 40
A21: 45940 | D21: 110 | J21: =+H21/8 -> 0 | K21: =+I21/8 -> 0 | L21: GAVETA 40
A22: 45941 | J22: =+H22/8 -> 0 | K22: =+I22/8 -> 0
A23: 45942 | J23: =+H23/8 -> 0 | K23: =+I23/8 -> 0
A24: 45943 | J24: =+H24/8 -> 0 | K24: =+I24/8 -> 0
A25: 45944 | D25: 140 | J25: =+H25/8 -> 0 | K25: =+I25/8 -> 0 | L25: GAVETA 55
A26: 45945 | D26: 262 | J26: =+H26/8 -> 0 | K26: =+I26/8 -> 0 | L26: GAVETA 55
A27: 45946 | D27: 261 | J27: =+H27/8 -> 0 | K27: =+I27/8 -> 0 | L27: SE REALIZA SEGUIMIENTO CON CORTE AL 15/10/2025 EVIDENCIANDO UN SALDO PENDIENTE DE 117 REGISTROS DE INVENTARIO KARDEX GAVETA 55
A28: 45947 | D28: 260 | J28: =+H28/8 -> 0 | K28: =+I28/8 -> 0 | L28: GAVETA 55
A29: 45948 | J29: =+H29/8 -> 0 | K29: =+I29/8 -> 0
A30: 45949 | J30: =+H30/8 -> 0 | K30: =+I30/8 -> 0
A31: 45950 | D31: 233 | J31: =+H31/8 -> 0 | K31: =+I31/8 -> 0 | L31: GAVETA 55
A32: 45951 | D32: 260 | J32: =+H32/8 -> 0 | K32: =+I32/8 -> 0 | L32: APOYO LOGISTICO GAVETA 77
A33: 45952 | D33: 260 | J33: =+H33/8 -> 0 | K33: =+I33/8 -> 0 | L33: GAVETA 77
A34: 45953 | D34: 185 | J34: =+H34/8 -> 0 | K34: =+I34/8 -> 0 | L34: GAVETA 77
A35: 45954 | D35: 259 | J35: =+H35/8 -> 0 | K35: =+I35/8 -> 0 | L35: GAVETA 77 SE REALIZA SEGUIMIENTO CON CORTE AL 24 DE OCTUBRE EVIDENCIANDO UN SALDO A FAVOR DE 34 REGISTROS FUID KARDEX SE TOMA DENTRO DEL CORTE LA PRODUCCION REALIZADA EL 25 DE OCTUBRE
A36: 45955 | D36: 253 | J36: =+H36/8 -> 0 | K36: =+I36/8 -> 0 | L36: GAVETA 77
A37: 45956 | J37: =+H37/8 -> 0 | K37: =+I37/8 -> 0
A38: 45957 | D38: 248 | J38: =+H38/8 -> 0 | K38: =+I38/8 -> 0 | L38: GAVETA 77 Y 88
A39: 45958 | J39: =+H39/8 -> 0 | K39: =+I39/8 -> 0
A40: 45959 | H40: 8 | J40: 1 | K40: =+I40/8 -> 0 | L40: APOYO LOGISTICO
A41: 45960 | J41: =+H41/8 -> 0 | K41: =+I41/8 -> 0
A42: 45961 | J42: =+H42/8 -> 0 | K42: =+I42/8 -> 0
A43: 45962 | J43: =+H43/8 -> 0 | K43: =+I43/8 -> 0
A44: 45963 | J44: =+H44/8 -> 0 | K44: =+I44/8 -> 0
A45: 45964 | J45: =+H45/8 -> 0 | K45: =+I45/8 -> 0
A46: 45965 | J46: =+H46/8 -> 0 | K46: =+I46/8 -> 0
A47: 45966 | J47: =+H47/8 -> 0 | K47: =+I47/8 -> 0
A48: 45967 | J48: =+H48/8 -> 0 | K48: =+I48/8 -> 0
A49: 45968 | J49: =+H49/8 -> 0 | K49: =+I49/8 -> 0
A50: 45969 | J50: =+H50/8 -> 0 | K50: =+I50/8 -> 0
A51: 45970 | J51: =+H51/8 -> 0 | K51: =+I51/8 -> 0
A52: 45971 | J52: =+H52/8 -> 0 | K52: =+I52/8 -> 0
... A103: 46022 | J103: =+H103/8 -> 0 | K103: =+I103/8 -> 0
A104: PRODUCCIÓN POR PROCESO | B104: =SUM(B5:B103)/#REF! -> #REF! | C104: =SUM(C5:C103) -> 0 | D104: =SUM(D5:D103)/2 -> 2221 | E104: =SUM(E5:E103)/#REF! -> #REF! | F104: =SUM(F5:F103) -> 0 | G104: =SUM(G5:G103)/#REF! -> #REF! | H104: =SUM(H5:H103) -> 8 | I104: =SUM(I5:I103)/#REF! -> #REF! | J104: =+H104/8 -> 1 | K104: =+I104/8 -> #REF! | L104: =SUM(L5:L103) -> 0
J105: =+H105/8 -> 0 | K105: =+I105/8 -> 0
J106: =+H106/8 -> 0 | K106: =+I106/8 -> 0
J107: =+H107/8 -> 0 | K107: =+I107/8 -> 0
J108: =+H108/8 -> 0 | K108: =+I108/8 -> 0
J109: =+H109/8 -> 0 | K109: =+I109/8 -> 0
J110: =+H110/8 -> 0 | K110: =+I110/8 -> 0
J111: =+H111/8 -> 0 | K111: =+I111/8 -> 0
J112: =+H112/8 -> 0 | K112: =+I112/8 -> 0
J113: =+H113/8 -> 0 | K113: =+I113/8 -> 0
J114: =+H114/8 -> 0 | K114: =+I114/8 -> 0
J115: =+H115/8 -> 0 | K115: =+I115/8 -> 0
J116: =+H116/8 -> 0 | K116: =+I116/8 -> 0
... J119: =+H119/8 -> 0 | K119: =+I119/8 -> 0

Sheet IGNACIO BERMUDEZ
A1: MINISTERIO DE DEFENSA 2.0
A2: REGISTRO DIARIO DE PRODUCCIÓN - 2025
A3: IGNACIO BERMUDEZ
A4: FECHA | B4: ORDENACIÓN ALFABÉTICA KARDEX | C4: C.C.ORDENACIÓN ALFABÉTICA KARDEX | D4: REGISTOS FUID KARDEX | E4: C.C.REGISTOS FUID KARDEX | F4: ACTUALIZACIÓN FUID CARPETAS | G4: CC ACTUALIZACIÓN FUID CARPETAS | H4: OTRAS ACTIVIDADES (HORAS) | I4: NO ASISTIÓ (HORAS) | J4: OTRAS ACTIVIDADES (DÍAS) | K4: NO ASISTIÓ (DÍAS) | L4: OBSERVACIONES
A5: 45924 | J5: =+H5/8 -> 0 | K5: =+I5/8 -> 0
A6: 45925 | J6: =+H6/8 -> 0 | K6: =+I6/8 -> 0
A7: 45926 | J7: =+H7/8 -> 0 | K7: =+I7/8 -> 0
A8: 45927 | J8: =+H8/8 -> 0 | K8: =+I8/8 -> 0
A9: 45928 | J9: =+H9/8 -> 0 | K9: =+I9/8 -> 0
A10: 45929 | J10: =+H10/8 -> 0 | K10: =+I10/8 -> 0
A11: 45930 | J11: =+H11/8 -> 0 | K11: =+I11/8 -> 0
A12: 45931 | J12: =+H12/8 -> 0 | K12: =+I12/8 -> 0
A13: 45932 | J13: =+H13/8 -> 0 | K13: =+I13/8 -> 0
A14: 45933 | J14: =+H14/8 -> 0 | K14: =+I14/8 -> 0
A15: 45934 | J15: =+H15/8 -> 0 | K15: =+I15/8 -> 0
A16: 45935 | J16: =+H16/8 -> 0 | K16: =+I16/8 -> 0
A17: 45936 | J17: =+H17/8 -> 0 | K17: =+I17/8 -> 0
A18: 45937 | J18: =+H18/8 -> 0 | K18: =+I18/8 -> 0 | L18: REMITIDO DEL PROYECTO DAPRE INGRESA A MINDEFENSA 07/10/2025 CURVA DE APRENDIZAJE INICIA CON PROCESO DE FUID KARDEX GAVETA 35
A19: 45938 | D19: 125 | J19: =+H19/8 -> 0 | K19: =+I19/8 -> 0 | L19: GAVETA 35
A20: 45939 | D20: 165 | J20: =+H20/8 -> 0 | K20: =+I20/8 -> 0 | L20: GAVETA 35
A21: 45940 | D21: 346 | J21: =+H21/8 -> 0 | K21: =+I21/8 -> 0 | L21: GAVETA 35 Y 57
A22: 45941 | J22: =+H22/8 -> 0 | K22: =+I22/8 -> 0
A23: 45942 | J23: =+H23/8 -> 0 | K23: =+I23/8 -> 0
A24: 45943 | J24: =+H24/8 -> 0 | K24: =+I24/8 -> 0
A25: 45944 | D25: 160 | J25: =+H25/8 -> 0 | K25: =+I25/8 -> 0 | L25: GAVETA 57
A26: 45945 | D26: 182 | J26: =+H26/8 -> 0 | K26: =+I26/8 -> 0 | L26: GAVETA 57 SE REALIZA SEGUIMIENTO CON CORTE AL 15/10/2025 EVIDENCIANDO UN SALDO PENDIENTE DE 322 REGISTROS FUID KARDEX ADICIONAL A LO ANTERIOR REPORTAN UN SALDO PENDIENTE DE 611 REGISTROS DEL PROYECTO DAPRE LO ANTERIOR EQUIVALENTE A 3,6 DIAS METAS DE PRODUCCIÒN
A27: 45946 | J27: =+H27/8 -> 0 | K27: =+I27/8 -> 0
A28: 45947 | J28: =+H28/8 -> 0 | K28: =+I28/8 -> 0
A29: 45948 | J29: =+H29/8 -> 0 | K29: =+I29/8 -> 0
A30: 45949 | J30: =+H30/8 -> 0 | K30: =+I30/8 -> 0
A31: 45950 | D31: 232 | J31: =+H31/8 -> 0 | K31: =+I31/8 -> 0 | L31: GAVETA 72
A32: 45951 | D32: 171 | H32: =290/260 -> 1.1153846 | J32: =+H32/8 -> 0.13942308 | K32: =+I32/8 -> 0 | L32: GAVETA 72
A33: 45952 | D33: 140 | J33: =+H33/8 -> 0 | K33: =+I33/8 -> 0 | L33: GAVETA 72
A34: 45953 | D34: 352 | J34: =+H34/8 -> 0 | K34: =+I34/8 -> 0 | L34: GAVETA 72
A35: 45954 | D35: 480 | J35: =+H35/8 -> 0 | K35: =+I35/8 -> 0 | L35: GAVETA 72 Y 93 SE REALIZA SEGUIMIENTO CON CORTE AL 24 DE OCTUBRE EVIDENCIANDO QUE PRESENTA UN SALDO PENDIENTE DE 290 REGISTROS DE INVENTARIO KARDEX. ADICIONAL A LO ANTERIOR DEL PROYECTO DAPRE REPORTAN UN SALDO PENDIENTE DE 611 REGISTROS EQUIIVALENTES A 2,4 DIAS PARA META ESTABLECIDA EN EL PROYECTO ACTUAL CONCLUSION: PRESENTA UN SALDO PENDIENTE DE 3,5 DIAS EN METAS DE PRODUCCION | M35: 910 registros
A36: 45955
A37: 45956 | J37: =+H37/8 -> 0 | K37: =+I37/8 -> 0
A38: 45957 | J38: =+H38/8 -> 0 | K38: =+I38/8 -> 0
A39: 45958 | J39: =+H39/8 -> 0 | K39: =+I39/8 -> 0
A40: 45959 | J40: =+H40/8 -> 0 | K40: =+I40/8 -> 0
A41: 45960 | J41: =+H41/8 -> 0 | K41: =+I41/8 -> 0
A42: 45961 | J42: =+H42/8 -> 0 | K42: =+I42/8 -> 0
A43: 45962 | J43: =+H43/8 -> 0 | K43: =+I43/8 -> 0
A44: 45963 | J44: =+H44/8 -> 0 | K44: =+I44/8 -> 0
A45: 45964 | J45: =+H45/8 -> 0 | K45: =+I45/8 -> 0
A46: 45965 | D46: 1066 | J46: =+H46/8 -> 0 | K46: =+I46/8 -> 0 | L46: SE REALIZA SEGUIMIENTO CON CORTE AL 24/10/2025 EVIDENCIANDO QUE QUEDA AL DIA EN METAS DE PRIODUCCION Y PRESENTA UN SALDO A FAVOR DE 156 REGISTROS DEL PROESO DE LEVANTAMIENTO DE INVENTARIO FICHAS KARDEX REALIZA ENTREGA DEL CARNET INSTITUCIONAL Y BATA.
A47: 45966 | J47: =+H47/8 -> 0 | K47: =+I47/8 -> 0
A48: 45967 | J48: =+H48/8 -> 0 | K48: =+I48/8 -> 0
A49: 45968 | J49: =+H49/8 -> 0 | K49: =+I49/8 -> 0
A50: 45969 | J50: =+H50/8 -> 0 | K50: =+I50/8 -> 0
A51: 45970 | J51: =+H51/8 -> 0 | K51: =+I51/8 -> 0
A52: 45971 | J52: =+H52/8 -> 0 | K52: =+I52/8 -> 0
A53: 45972 | J53: =+H53/8 -> 0 | K53: =+I53/8 -> 0
A54: 45973 | J54: =+H54/8 -> 0 | K54: =+I54/8 -> 0
A55: 45974 | J55: =+H55/8 -> 0 | K55: =+I55/8 -> 0
A56: 45975 | J56: =+H56/8 -> 0 | K56: =+I56/8 -> 0
A57: 45976 | J57: =+H57/8 -> 0 | K57: =+I57/8 -> 0
A58: 45977 | J58: =+H58/8 -> 0 | K58: =+I58/8 -> 0
... A103: 46022 | J103: =+H103/8 -> 0 | K103: =+I103/8 -> 0
A104: PRODUCCIÓN POR PROCESO | B104: =SUM(B5:B103)/#REF! -> #REF! | C104: =SUM(C5:C103) -> 0 | D104: =SUM(D5:D103)/2 -> 1709.5 | E104: =SUM(E5:E103)/#REF! -> #REF! | F104: =SUM(F5:F103) -> 0 | G104: =SUM(G5:G103)/#REF! -> #REF! | H104: =SUM(H5:H103) -> 1.1153846 | I104: =SUM(I5:I103)/#REF! -> #REF! | J104: =+H104/8 -> 0.13942308 | K104: =+I104/8 -> #REF! | L104: =SUM(L5:L103) -> 0
J105: =+H105/8 -> 0 | K105: =+I105/8 -> 0
J106: =+H106/8 -> 0 | K106: =+I106/8 -> 0
J107: =+H107/8 -> 0 | K107: =+I107/8 -> 0
J108: =+H108/8 -> 0 | K108: =+I108/8 -> 0
J109: =+H109/8 -> 0 | K109: =+I109/8 -> 0
J110: =+H110/8 -> 0 | K110: =+I110/8 -> 0
J111: =+H111/8 -> 0 | K111: =+I111/8 -> 0
J112: =+H112/8 -> 0 | K112: =+I112/8 -> 0
J113: =+H113/8 -> 0 | K113: =+I113/8 -> 0
J114: =+H114/8 -> 0 | K114: =+I114/8 -> 0
J115: =+H115/8 -> 0 | K115: =+I115/8 -> 0
J116: =+H116/8 -> 0 | K116: =+I116/8 -> 0
... J119: =+H119/8 -> 0 | K119: =+I119/8 -> 0

Sheet CAROL MARTINEZ
A1: MINISTERIO DE DEFENSA 2.0
A2: REGISTRO DIARIO DE PRODUCCIÓN - 2025
A3: CAROL MARTINEZ QUIROZ
A4: FECHA | B4: ORDENACIÓN ALFABÉTICA KARDEX | C4: C.C.ORDENACIÓN ALFABÉTICA KARDEX | D4: REGISTOS FUID KARDEX | E4: C.C.REGISTOS FUID KARDEX | F4: ACTUALIZACIÓN FUID CARPETAS | G4: CC ACTUALIZACIÓN FUID CARPETAS | H4: OTRAS ACTIVIDADES (HORAS) | I4: NO ASISTIÓ (HORAS) | J4: OTRAS ACTIVIDADES (DÍAS) | K4: NO ASISTIÓ (DÍAS) | L4: OBSERVACIONES
A5: 45924 | J5: =+H5/8 -> 0 | K5: =+I5/8 -> 0
A6: 45925 | J6: =+H6/8 -> 0 | K6: =+I6/8 -> 0
A7: 45926 | J7: =+H7/8 -> 0 | K7: =+I7/8 -> 0
A8: 45927 | J8: =+H8/8 -> 0 | K8: =+I8/8 -> 0
A9: 45928 | J9: =+H9/8 -> 0 | K9: =+I9/8 -> 0
A10: 45929 | J10: =+H10/8 -> 0 | K10: =+I10/8 -> 0
A11: 45930 | J11: =+H11/8 -> 0 | K11: =+I11/8 -> 0
A12: 45931 | J12: =+H12/8 -> 0 | K12: =+I12/8 -> 0
A13: 45932 | J13: =+H13/8 -> 0 | K13: =+I13/8 -> 0
A14: 45933 | J14: =+H14/8 -> 0 | K14: =+I14/8 -> 0
A15: 45934 | J15: =+H15/8 -> 0 | K15: =+I15/8 -> 0
A16: 45935 | J16: =+H16/8 -> 0 | K16: =+I16/8 -> 0
A17: 45936 | J17: =+H17/8 -> 0 | K17: =+I17/8 -> 0 | L17: ES REMITIDA DEL PROYECTO DAPRE INGRESA PROYECTO MINDEFENSA 06/10/2025 CURVA DE APRENDIZAJE PROCESO ORDENACION GAVETA 54
A18: 45937 | J18: =+H18/8 -> 0 | K18: =+I18/8 -> 0
A19: 45938 | B19: 1 | J19: =+H19/8 -> 0 | K19: =+I19/8 -> 0 | L19: GAVETA 54
A20: 45939 | D20: 80 | J20: =+H20/8 -> 0 | K20: =+I20/8 -> 0 | L20: GAVETA 43
A21: 45940 | D21: 112 | J21: =+H21/8 -> 0 | K21: =+I21/8 -> 0 | L21: GAVETA 43
A22: 45941 | J22: =+H22/8 -> 0 | K22: =+I22/8 -> 0
A23: 45942 | J23: =+H23/8 -> 0 | K23: =+I23/8 -> 0
A24: 45943 | J24: =+H24/8 -> 0 | K24: =+I24/8 -> 0
A25: 45944 | D25: 260 | J25: =+H25/8 -> 0 | K25: =+I25/8 -> 0 | L25: GAVETA 43
A26: 45945 | D26: 260 | J26: =+H26/8 -> 0 | K26: =+I26/8 -> 0 | L26: GAVETA 43 SE REALIZA SEGUIMIENTO EVIDENCIANDO UN SALDO PENDIENTE DE 1 GAVETA DE ORDENACION Y 328 REGISTROS FUID KARDEX ADICIONAL A LO ANTERIOR SE REPORTO DEL PROYECTO DAPRE UN SALDO PENDIENTE DE 825 REGISTROS LO ANTERIOR PARA UN TOTAL DE 1153 REGISTROS Y 1 GAVETA DE ORDENACION EQUIVALENTES A 5,4 DIAS DE RPODUCCION
A27: 45946 | D27: 227 | F27: =260*5 -> 1300 | K27: =+I27/8 -> 0 | L27: GAVETA 43
A28: 45947 | J28: =+H28/8 -> 0 | K28: =+I28/8 -> 0
A29: 45948 | D29: 224 | J29: =+H29/8 -> 0 | K29: =+I29/8 -> 0 | L29: GAVETA 74
A30: 45949 | J30: =+H30/8 -> 0 | K30: =+I30/8 -> 0
A31: 45950 | D31: 265 | J31: =+H31/8 -> 0 | K31: =+I31/8 -> 0 | L31: GAVETA 74
A32: 45951 | D32: 265 | J32: =+H32/8 -> 0 | K32: =+I32/8 -> 0 | L32: GAVETA 74
A33: 45952 | D33: 263 | J33: =+H33/8 -> 0 | K33: =+I33/8 -> 0 | L33: GAVETA 74
A34: 45953 | F34: 32 | J34: =+H34/8 -> 0 | K34: =+I34/8 -> 0 | L34: INICIO PRUEBAS PROCESO ACTUALIZACION DE INVENTARIO CARPETAS Y LIBROS CURVA DEL PROCESO
A35: 45954 | F35: 61 | J35: =+H35/8 -> 0 | K35: =+I35/8 -> 0 | L35: SE REALIZA SEGUIMIENTO CON CORTE AL 24 DE OCTUBRE EVIDENCIANDO QUE TIENE UN SALDO PENDIENTE DE 5,7 DIAS EN METAS DE PRODUCCION
A36: 45955 | J36: =+H36/8 -> 0 | K36: =+I36/8 -> 0
A37: 45956 | J37: =+H37/8 -> 0 | K37: =+I37/8 -> 0
A38: 45957 | J38: =+H38/8 -> 0 | K38: =+I38/8 -> 0
A39: 45958 | J39: =+H39/8 -> 0 | K39: =+I39/8 -> 0
A40: 45959 | J40: =+H40/8 -> 0 | K40: =+I40/8 -> 0
A41: 45960 | J41: =+H41/8 -> 0 | K41: =+I41/8 -> 0
A42: 45961 | J42: =+H42/8 -> 0 | K42: =+I42/8 -> 0
A43: 45962 | J43: =+H43/8 -> 0 | K43: =+I43/8 -> 0
A44: 45963 | J44: =+H44/8 -> 0 | K44: =+I44/8 -> 0
A45: 45964 | J45: =+H45/8 -> 0 | K45: =+I45/8 -> 0
A46: 45965 | J46: =+H46/8 -> 0 | K46: =+I46/8 -> 0
A47: 45966 | J47: =+H47/8 -> 0 | K47: =+I47/8 -> 0
... A103: 46022 | J103: =+H103/8 -> 0 | K103: =+I103/8 -> 0
A104: PRODUCCIÓN POR PROCESO | B104: =SUM(B5:B103)/#REF! -> #REF! | C104: =SUM(C5:C103) -> 0 | D104: =SUM(D5:D103)/2 -> 978 | E104: =SUM(E5:E103)/#REF! -> #REF! | F104: =SUM(F5:F103) -> 1393 | G104: =SUM(G5:G103)/#REF! -> #REF! | H104: =SUM(H5:H103) -> 0 | I104: =SUM(I5:I103) -> 0 | J104: =+H104/8 -> 0 | K104: =+I104/8 -> 0 | L104: =SUM(L5:L103) -> 0
J105: =+H105/8 -> 0 | K105: =+I105/8 -> 0
J106: =+H106/8 -> 0 | K106: =+I106/8 -> 0
J107: =+H107/8 -> 0 | K107: =+I107/8 -> 0
J108: =+H108/8 -> 0 | K108: =+I108/8 -> 0
J109: =+H109/8 -> 0 | K109: =+I109/8 -> 0
J110: =+H110/8 -> 0 | K110: =+I110/8 -> 0
J111: =+H111/8 -> 0 | K111: =+I111/8 -> 0
J112: =+H112/8 -> 0 | K112: =+I112/8 -> 0
J113: =+H113/8 -> 0 | K113: =+I113/8 -> 0
J114: =+H114/8 -> 0 | K114: =+I114/8 -> 0
J115: =+H115/8 -> 0 | K115: =+I115/8 -> 0
J116: =+H116/8 -> 0 | K116: =+I116/8 -> 0
... J119: =+H119/8 -> 0 | K119: =+I119/8 -> 0

Sheet CLAUDIA ALZATE
A1: MINISTERIO DE DEFENSA 2.0
A2: REGISTRO DIARIO DE PRODUCCIÓN - 2025
A3: CLAUDIA ALZATE
A4: FECHA | B4: ORDENACIÓN ALFABÉTICA KARDEX | C4: C.C.ORDENACIÓN ALFABÉTICA KARDEX | D4: REGISTOS FUID KARDEX | E4: C.C.REGISTOS FUID KARDEX | F4: ACTUALIZACIÓN FUID CARPETAS | G4: CC ACTUALIZACIÓN FUID CARPETAS | H4: OTRAS ACTIVIDADES (HORAS) | I4: NO ASISTIÓ (HORAS) | J4: OTRAS ACTIVIDADES (DÍAS) | K4: NO ASISTIÓ (DÍAS) | L4: OBSERVACIONES
A5: 45924 | J5: =+H5/8 -> 0 | K5: =+I5/8 -> 0
A6: 45925 | J6: =+H6/8 -> 0 | K6: =+I6/8 -> 0
A7: 45926 | J7: =+H7/8 -> 0 | K7: =+I7/8 -> 0
A8: 45927 | J8: =+H8/8 -> 0 | K8: =+I8/8 -> 0
A9: 45928 | J9: =+H9/8 -> 0 | K9: =+I9/8 -> 0
A10: 45929 | J10: =+H10/8 -> 0 | K10: =+I10/8 -> 0
A11: 45930 | J11: =+H11/8 -> 0 | K11: =+I11/8 -> 0
A12: 45931 | J12: =+H12/8 -> 0 | K12: =+I12/8 -> 0
A13: 45932 | J13: =+H13/8 -> 0 | K13: =+I13/8 -> 0
A14: 45933 | J14: =+H14/8 -> 0 | K14: =+I14/8 -> 0 | L14: REMITIDA DEL PROYECTO SUPERVIGILANCIA INICIA PROYECTO MINDEFENSA CURVA DE APRENDIZAJE GAVETA 43
A15: 45934 | J15: =+H15/8 -> 0 | K15: =+I15/8 -> 0
A16: 45935 | J16: =+H16/8 -> 0 | K16: =+I16/8 -> 0
A17: 45936 | J17: =+H17/8 -> 0 | K17: =+I17/8 -> 0
A18: 45937 | B18: 1 | J18: =+H18/8 -> 0 | K18: =+I18/8 -> 0 | L18: GAVETA 43
A19: 45938 | J19: =+H19/8 -> 0 | K19: =+I19/8 -> 0
A20: 45939 | B20: 1 | J20: =+H20/8 -> 0 | K20: =+I20/8 -> 0 | L20: GAVETA 64
A21: 45940 | B21: 1 | J21: =+H21/8 -> 0 | K21: =+I21/8 -> 0 | L21: GAVETA 78
A22: 45941 | J22: =+H22/8 -> 0 | K22: =+I22/8 -> 0
A23: 45942 | J23: =+H23/8 -> 0 | K23: =+I23/8 -> 0
A24: 45943 | J24: =+H24/8 -> 0 | K24: =+I24/8 -> 0
A25: 45944 | B25: 1 | J25: =+H25/8 -> 0 | K25: =+I25/8 -> 0 | L25: GAVETA 88
A26: 45945 | J26: =+H26/8 -> 0 | K26: =+I26/8 -> 0
A27: 45946 | B27: 1 | J27: =+H27/8 -> 0 | K27: =+I27/8 -> 0 | L27: GAVETA 93 SE REALIZA SEGUIMIENTO EVIDENCIANDO UN SALDO PENDIENTE DE 3 GAVETAS DE ORDENACION TARJETAS KADEX ADICIONAL A LO ANTERIOR SE REPORTO DEL PROYECTO SUPERVIGILANCIA UN SALDO PENDIENTE DE 5 DIAS DE PRODUCCION REALIZANDO EQUIVALENCIA A LA META ESTABLECIDAD PARA EL PROCESO DE ORDENACION ES UN TOTAL DE 8 GAVETAS PENDIENTES.
A28: 45947 | B28: 1 | J28: =+H28/8 -> 0 | K28: =+I28/8 -> 0 | L28: GAVETA 105
A29: 45948 | J29: =+H29/8 -> 0 | K29: =+I29/8 -> 0
A30: 45949 | J30: =+H30/8 -> 0 | K30: =+I30/8 -> 0
A31: 45950 | B31: 2 | J31: =+H31/8 -> 0 | K31: =+I31/8 -> 0 | L31: GAVETA 113 Y 114
A32: 45951 | J32: =+H32/8 -> 0 | K32: =+I32/8 -> 0
A33: 45952 | B33: 1 | J33: =+H33/8 -> 0 | K33: =+I33/8 -> 0 | L33: GAVETA 117
A34: 45953 | B34: 1 | J34: =+H34/8 -> 0 | K34: =+I34/8 -> 0 | L34: GAVETA 133
A35: 45954 | B35: 2 | J35: =+H35/8 -> 0 | K35: =+I35/8 -> 0 | L35: GAVETA 12 Y 22 OF SE REALIZA SEGUIMIENTO CON CORTE AL 24 DE OCTUBRE DE 2025 EVIDENCIANDO UN SALDO PENDIENTE DE 7 GAVETAS DEL PROCESO DE ORDENACION KARDEX EQUIVALENTES A 7 DIAS EN METAS DE PRODUCCION NO DIO RESPUESTA POR ESCRITO AL CORREO ENVIADO DE SEGUIMIENTO SE HABLA AL RESPEFCTO DE MANERA VERBAL
A36: 45955 | J36: =+H36/8 -> 0 | K36: =+I36/8 -> 0
A37: 45956 | J37: =+H37/8 -> 0 | K37: =+I37/8 -> 0
A38: 45957 | B38: 1 | J38: =+H38/8 -> 0 | K38: =+I38/8 -> 0
A39: 45958 | H39: 4 | J39: =+H39/8 -> 0.5 | K39: =+I39/8 -> 0
A40: 45959 | J40: =+H40/8 -> 0 | K40: =+I40/8 -> 0
A41: 45960 | H41: 4 | J41: =+H41/8 -> 0.5 | K41: =+I41/8 -> 0
A42: 45961 | B42: 3 | J42: =+H42/8 -> 0 | K42: =+I42/8 -> 0
A43: 45962 | J43: =+H43/8 -> 0 | K43: =+I43/8 -> 0
A44: 45963 | J44: =+H44/8 -> 0 | K44: =+I44/8 -> 0
A45: 45964 | J45: =+H45/8 -> 0 | K45: =+I45/8 -> 0
A46: 45965 | J46: =+H46/8 -> 0 | K46: =+I46/8 -> 0
A47: 45966 | J47: =+H47/8 -> 0 | K47: =+I47/8 -> 0
A48: 45967 | J48: =+H48/8 -> 0 | K48: =+I48/8 -> 0 | L48: QUEDAN PENDIENTES 2 DÍAS DE PRODUCCIÓN CON CORTE AL 24/10
A49: 45968 | J49: =+H49/8 -> 0 | K49: =+I49/8 -> 0
A50: 45969 | J50: =+H50/8 -> 0 | K50: =+I50/8 -> 0
A51: 45970 | J51: =+H51/8 -> 0 | K51: =+I51/8 -> 0
A52: 45971 | J52: =+H52/8 -> 0 | K52: =+I52/8 -> 0
A53: 45972 | J53: =+H53/8 -> 0 | K53: =+I53/8 -> 0
A54: 45973 | J54: =+H54/8 -> 0 | K54: =+I54/8 -> 0
A55: 45974 | J55: =+H55/8 -> 0 | K55: =+I55/8 -> 0
A56: 45975 | J56: =+H56/8 -> 0 | K56: =+I56/8 -> 0
A57: 45976 | J57: =+H57/8 -> 0 | K57: =+I57/8 -> 0
A58: 45977 | J58: =+H58/8 -> 0 | K58: =+I58/8 -> 0
A59: 45978 | J59: =+H59/8 -> 0 | K59: =+I59/8 -> 0
A60: 45979 | J60: =+H60/8 -> 0 | K60: =+I60/8 -> 0
... A103: 46022 | J103: =+H103/8 -> 0 | K103: =+I103/8 -> 0
A104: PRODUCCIÓN POR PROCESO | B104: =SUM(B5:B103)/#REF! -> #REF! | C104: =SUM(C5:C103) -> 0 | D104: =SUM(D5:D103)/2 -> 0 | E104: =SUM(E5:E103)/#REF! -> #REF! | F104: =SUM(F5:F103) -> 0 | G104: =SUM(G5:G103)/#REF! -> #REF! | H104: =SUM(H5:H103) -> 8 | I104: =SUM(I5:I103)/#REF! -> #REF! | J104: =+H104/8 -> 1 | K104: =+I104/8 -> #REF! | L104: =SUM(L5:L103) -> 0
J105: =+H105/8 -> 0 | K105: =+I105/8 -> 0
J106: =+H106/8 -> 0 | K106: =+I106/8 -> 0
J107: =+H107/8 -> 0 | K107: =+I107/8 -> 0
J108: =+H108/8 -> 0 | K108: =+I108/8 -> 0
J109: =+H109/8 -> 0 | K109: =+I109/8 -> 0
J110: =+H110/8 -> 0 | K110: =+I110/8 -> 0
J111: =+H111/8 -> 0 | K111: =+I111/8 -> 0
J112: =+H112/8 -> 0 | K112: =+I112/8 -> 0
J113: =+H113/8 -> 0 | K113: =+I113/8 -> 0
J114: =+H114/8 -> 0 | K114: =+I114/8 -> 0
J115: =+H115/8 -> 0 | K115: =+I115/8 -> 0
J116: =+H116/8 -> 0 | K116: =+I116/8 -> 0
... J119: =+H119/8 -> 0 | K119: =+I119/8 -> 0

Sheet MARY LUZ PARRA
A1: MINISTERIO DE DEFENSA 2.0
A2: REGISTRO DIARIO DE PRODUCCIÓN - 2025
A3: MARY LUZ PARRA
A4: FECHA | B4: ORDENACIÓN ALFABÉTICA KARDEX | C4: C.C.ORDENACIÓN ALFABÉTICA KARDEX | D4: REGISTOS FUID KARDEX | E4: C.C.REGISTOS FUID KARDEX | F4: ACTUALIZACIÓN FUID CARPETAS | G4: CC ACTUALIZACIÓN FUID CARPETAS | H4: OTRAS ACTIVIDADES (HORAS) | I4: NO ASISTIÓ (HORAS) | J4: OTRAS ACTIVIDADES (DÍAS) | K4: NO ASISTIÓ (DÍAS) | L4: OBSERVACIONES
A5: 45924 | J5: =+H5/8 -> 0 | K5: =+I5/8 -> 0
A6: 45925 | J6: =+H6/8 -> 0 | K6: =+I6/8 -> 0
A7: 45926 | J7: =+H7/8 -> 0 | K7: =+I7/8 -> 0
A8: 45927 | J8: =+H8/8 -> 0 | K8: =+I8/8 -> 0
A9: 45928 | J9: =+H9/8 -> 0 | K9: =+I9/8 -> 0
A10: 45929 | J10: =+H10/8 -> 0 | K10: =+I10/8 -> 0
A11: 45930 | J11: =+H11/8 -> 0 | K11: =+I11/8 -> 0
A12: 45931 | J12: =+H12/8 -> 0 | K12: =+I12/8 -> 0
A13: 45932 | J13: =+H13/8 -> 0 | K13: =+I13/8 -> 0
A14: 45933 | D14: 100 | J14: =+H14/8 -> 0 | K14: =+I14/8 -> 0 | L14: REMITIDA DE PROYECTO SUPERVIGILANCIA INICIA PROYECTO MINDEFENSA CURVA DE APRENDIZAJE PROCESO FUID - GAVETA17
A15: 45934 | J15: =+H15/8 -> 0 | K15: =+I15/8 -> 0
A16: 45935 | J16: =+H16/8 -> 0 | K16: =+I16/8 -> 0
A17: 45936 | D17: 467 | J17: =+H17/8 -> 0 | K17: =+I17/8 -> 0 | L17: GAVETA 17
A18: 45937 | D18: 112 | J18: =+H18/8 -> 0 | K18: =+I18/8 -> 0 | L18: GAVETA 17
A19: 45938 | D19: 261 | J19: =+H19/8 -> 0 | K19: =+I19/8 -> 0 | L19: GAVETA 47
A20: 45939 | D20: 260 | J20: =+H20/8 -> 0 | K20: =+I20/8 -> 0 | L20: GAVETA 47
A21: 45940 | D21: 640 | J21: =+H21/8 -> 0 | K21: =+I21/8 -> 0
A22: 45941 | J22: =+H22/8 -> 0 | K22: =+I22/8 -> 0
A23: 45942 | J23: =+H23/8 -> 0 | K23: =+I23/8 -> 0
A24: 45943 | J24: =+H24/8 -> 0 | K24: =+I24/8 -> 0
A25: 45944 | J25: =+H25/8 -> 0 | K25: =+I25/8 -> 0
A26: 45945 | D26: 134 | J26: =+H26/8 -> 0 | K26: =+I26/8 -> 0 | L26: GAVETA 61 SE REALIZA SEGUIMIENTO CON CORTE AL 15/10/2025 EVIDENCIANDO UN SALDO ADICIONAL DE 54 REGISTROS. SE ENCUENTRA AL DIA EN PROYECTO MINDEF ADICIONAL A LO ANTERIOR SE REPORTO UN SALDO PDTE DE 8.5 DIAS EN METAS DE PRODUCCION DEL PROYECTO SUPERVIGILANCIA EN TERMINOS DE LA META ACTUAL Y RESTANDO EL SALDO ADICIONAL DE 54 REGISTROS SE CONCLUYE QUE: QUEDA UN SALDO PENDIENTE DE 2,156 REGISTROS FUID KARDEX EQUIVALENTES A 8,2 DIAS EN METAS DE PRODUCCION
A27: 45946 | D27: 260 | J27: =+H27/8 -> 0 | K27: =+I27/8 -> 0 | L27: GAVETA 61
A28: 45947 | D28: 261 | J28: =+H28/8 -> 0 | K28: =+I28/8 -> 0 | L28: GAVETA 61
A29: 45948 | J29: =+H29/8 -> 0 | K29: =+I29/8 -> 0
A30: 45949 | J30: =+H30/8 -> 0 | K30: =+I30/8 -> 0
A31: 45950 | D31: 260 | J31: =+H31/8 -> 0 | K31: =+I31/8 -> 0 | L31: GAVETA 61
A32: 45951 | D32: 261 | J32: =+H32/8 -> 0 | K32: =+I32/8 -> 0 | L32: GAVETA 61
A33: 45952 | D33: 260 | J33: =+H33/8 -> 0 | K33: =+I33/8 -> 0 | L33: GAVETA 61
A34: 45953 | D34: 291 | J34: =+H34/8 -> 0 | K34: =+I34/8 -> 0 | L34: GAVETA 61 Y 56
A35: 45954 | D35: 471 | J35: =+H35/8 -> 0 | K35: =+I35/8 -> 0 | L35: GAVETA 56 SE REALIZA SEGUIMIENTO CON CORTE AL 24/10/2025 EVIDENCIANDO UN SALDO ADICIONAL SOBRE LA META CUMPLIDA DE 244 REGISTROS DE INVENTARIO KARDEX, LOS ANTERIORES SE ABONAN AL SALDO QUE SE ENCONTRABA PENDIENTE. COMO CONCLUSION QUEDA UN SALDO PENDIENTE EN META DE PRODUCCION CORRESPONDIENTE A 1912 REGISTROS DE INVENTARIO KARDEX EQUIVALENTES A 7,4 DIAS EN METAS DE PRODUCCION
A36: 45955 | J36: =+H36/8 -> 0 | K36: =+I36/8 -> 0
A37: 45956 | J37: =+H37/8 -> 0 | K37: =+I37/8 -> 0
A38: 45957 | D38: 260 | J38: =+H38/8 -> 0 | K38: =+I38/8 -> 0 | L38: GAVETA 56
A39: 45958 | D39: 260 | J39: =+H39/8 -> 0 | K39: =+I39/8 -> 0 | L39: GAVETA 56 Y 101
A40: 45959 | D40: 260 | J40: =+H40/8 -> 0 | K40: =+I40/8 -> 0 | L40: GAVETA 101
A41: 45960 | D41: 260 | H41: 4 | J41: =+H41/8 -> 0.5 | K41: =+I41/8 -> 0 | L41: GAVETA 101
A42: 45961 | D42: 260 | J42: =+H42/8 -> 0 | K42: =+I42/8 -> 0 | L42: GAVETA 101
A43: 45962 | J43: =+H43/8 -> 0 | K43: =+I43/8 -> 0
A44: 45963 | J44: =+H44/8 -> 0 | K44: =+I44/8 -> 0
A45: 45964 | J45: =+H45/8 -> 0 | K45: =+I45/8 -> 0
A46: 45965 | D46: 260 | J46: =+H46/8 -> 0 | K46: =+I46/8 -> 0 | L46: GAVETA 101
A47: 45966 | J47: =+H47/8 -> 0 | K47: =+I47/8 -> 0
A48: 45967 | D48: 260 | J48: =+H48/8 -> 0 | K48: =+I48/8 -> 0 | L48: AL DÍA AL 24/10
A49: 45968 | J49: =+H49/8 -> 0 | K49: =+I49/8 -> 0
A50: 45969 | J50: =+H50/8 -> 0 | K50: =+I50/8 -> 0
A51: 45970 | J51: =+H51/8 -> 0 | K51: =+I51/8 -> 0
A52: 45971 | J52: =+H52/8 -> 0 | K52: =+I52/8 -> 0
A53: 45972 | J53: =+H53/8 -> 0 | K53: =+I53/8 -> 0
A54: 45973 | J54: =+H54/8 -> 0 | K54: =+I54/8 -> 0
A55: 45974 | J55: =+H55/8 -> 0 | K55: =+I55/8 -> 0
A56: 45975 | J56: =+H56/8 -> 0 | K56: =+I56/8 -> 0
A57: 45976 | J57: =+H57/8 -> 0 | K57: =+I57/8 -> 0
A58: 45977 | J58: =+H58/8 -> 0 | K58: =+I58/8 -> 0
A59: 45978 | J59: =+H59/8 -> 0 | K59: =+I59/8 -> 0
A60: 45979 | J60: =+H60/8 -> 0 | K60: =+I60/8 -> 0
... A103: 46022 | J103: =+H103/8 -> 0 | K103: =+I103/8 -> 0
A104: PRODUCCIÓN POR PROCESO | B104: =SUM(B5:B103)/#REF! -> #REF! | C104: =SUM(C5:C103) -> 0 | D104: =SUM(D5:D103)/2 -> 2929 | E104: =SUM(E5:E103)/#REF! -> #REF! | F104: =SUM(F5:F103) -> 0 | G104: =SUM(G5:G103)/#REF! -> #REF! | H104: =SUM(H5:H103) -> 4 | I104: =SUM(I5:I103)/#REF! -> #REF! | J104: =+H104/8 -> 0.5 | K104: =+I104/8 -> #REF! | L104: =SUM(L5:L103) -> 0
J105: =+H105/8 -> 0 | K105: =+I105/8 -> 0
J106: =+H106/8 -> 0 | K106: =+I106/8 -> 0
J107: =+H107/8 -> 0 | K107: =+I107/8 -> 0
J108: =+H108/8 -> 0 | K108: =+I108/8 -> 0
J109: =+H109/8 -> 0 | K109: =+I109/8 -> 0
J110: =+H110/8 -> 0 | K110: =+I110/8 -> 0
J111: =+H111/8 -> 0 | K111: =+I111/8 -> 0
J112: =+H112/8 -> 0 | K112: =+I112/8 -> 0
J113: =+H113/8 -> 0 | K113: =+I113/8 -> 0
J114: =+H114/8 -> 0 | K114: =+I114/8 -> 0
J115: =+H115/8 -> 0 | K115: =+I115/8 -> 0
J116: =+H116/8 -> 0 | K116: =+I116/8 -> 0
... J119: =+H119/8 -> 0 | K119: =+I119/8 -> 0

Sheet MARTA I MENDOZA N
A1: MINISTERIO DE DEFENSA 2.0
A2: REGISTRO DIARIO DE PRODUCCIÓN - 2025
A3: MARTA ISABEL MENDOZA N
A4: FECHA | B4: ORDENACIÓN ALFABÉTICA KARDEX | C4: C.C.ORDENACIÓN ALFABÉTICA KARDEX | D4: REGISTOS FUID KARDEX | E4: C.C.REGISTOS FUID KARDEX | F4: ACTUALIZACIÓN FUID CARPETAS | G4: CC ACTUALIZACIÓN FUID CARPETAS | H4: OTRAS ACTIVIDADES (HORAS) | I4: NO ASISTIÓ (HORAS) | J4: OTRAS ACTIVIDADES (DÍAS) | K4: NO ASISTIÓ (DÍAS) | L4: OBSERVACIONES
A5: 45924 | J5: =+H5/8 -> 0 | K5: =+I5/8 -> 0
A6: 45925 | J6: =+H6/8 -> 0 | K6: =+I6/8 -> 0
A7: 45926 | J7: =+H7/8 -> 0 | K7: =+I7/8 -> 0
A8: 45927 | J8: =+H8/8 -> 0 | K8: =+I8/8 -> 0
A9: 45928 | J9: =+H9/8 -> 0 | K9: =+I9/8 -> 0
A10: 45929 | J10: =+H10/8 -> 0 | K10: =+I10/8 -> 0
A11: 45930 | J11: =+H11/8 -> 0 | K11: =+I11/8 -> 0
A12: 45931 | J12: =+H12/8 -> 0 | K12: =+I12/8 -> 0
A13: 45932 | J13: =+H13/8 -> 0 | K13: =+I13/8 -> 0
A14: 45933 | J14: =+H14/8 -> 0 | K14: =+I14/8 -> 0
A15: 45934 | J15: =+H15/8 -> 0 | K15: =+I15/8 -> 0
A16: 45935 | J16: =+H16/8 -> 0 | K16: =+I16/8 -> 0
A17: 45936 | J17: =+H17/8 -> 0 | K17: =+I17/8 -> 0 | L17: SE REMITE DEL PROYECTO DAPRE INGRESA RPOYECTO MINDEF CURVA DE APRENDIZAJE PROCESO ORDENACION GAVETA 53
A18: 45937 | J18: =+H18/8 -> 0 | K18: =+I18/8 -> 0
A19: 45938 | B19: 1 | D19: 260 | F19: =260*5 -> 1300 | G19: =F19-1190 -> 110 | J19: =+H19/8 -> 0 | K19: =+I19/8 -> 0 | L19: GAVETA 53 Y 38
A20: 45939 | D20: 260 | G20: =198+G19 -> 308 | J20: =+H20/8 -> 0 | K20: =+I20/8 -> 0 | L20: GAVETA 38
A21: 45940 | D21: 260 | J21: =+H21/8 -> 0 | K21: =+I21/8 -> 0 | L21: GAVETA 38
A22: 45941 | J22: =+H22/8 -> 0 | K22: =+I22/8 -> 0
A23: 45942 | J23: =+H23/8 -> 0 | K23: =+I23/8 -> 0
A24: 45943 | J24: =+H24/8 -> 0 | K24: =+I24/8 -> 0
A25: 45944 | D25: 260 | J25: =+H25/8 -> 0 | K25: =+I25/8 -> 0 | L25: GAVETA 38
A26: 45945 | D26: 150 | J26: =+H26/8 -> 0 | K26: =+I26/8 -> 0 | L26: GAVETA 38 Y 64 SE REALIZA SEGUIMIENTO CON CORTE AL 15/10/2025 Y SE EVIDENCIA UN SALDO PDTE EN META DE PRODUCCION DE 110 REGISTROS FUID KARDEX ADICIONAL A LO ANTERIOR SE REPORTO UN SALDO PENDIENTE DEL PROYECTO DAPRE DE 198 REGISTROS. TENIENDO EN CUENTA LO ANTERIOR DA UN TOTAL DE 308 REGISTROS PENDIENTES EN META DE PRODUCCION EQUIVALENTE A 1,5 DIAS
A27: 45946 | J27: =+H27/8 -> 0 | K27: =+I27/8 -> 0
A28: 45947 | J28: =+H28/8 -> 0 | K28: =+I28/8 -> 0
A29: 45948 | J29: =+H29/8 -> 0 | K29: =+I29/8 -> 0
A30: 45949 | J30: =+H30/8 -> 0 | K30: =+I30/8 -> 0
A31: 45950 | J31: =+H31/8 -> 0 | K31: =+I31/8 -> 0
A32: 45951 | J32: =+H32/8 -> 0 | K32: =+I32/8 -> 0
A33: 45952 | J33: =+H33/8 -> 0 | K33: =+I33/8 -> 0
A34: 45953 | J34: =+H34/8 -> 0 | K34: =+I34/8 -> 0
A35: 45954 | J35: =+H35/8 -> 0 | K35: =+I35/8 -> 0
A36: 45955 | J36: =+H36/8 -> 0 | K36: =+I36/8 -> 0
A37: 45956 | J37: =+H37/8 -> 0 | K37: =+I37/8 -> 0
A38: 45957 | J38: =+H38/8 -> 0 | K38: =+I38/8 -> 0
... A103: 46022 | J103: =+H103/8 -> 0 | K103: =+I103/8 -> 0
A104: PRODUCCIÓN POR PROCESO | B104: =SUM(B5:B103)/#REF! -> #REF! | C104: =SUM(C5:C103) -> 0 | D104: =SUM(D5:D103)/2 -> 595 | E104: =SUM(E5:E103)/#REF! -> #REF! | F104: =SUM(F5:F103) -> 1300 | G104: =SUM(G5:G103)/#REF! -> #REF! | H104: =SUM(H5:H103) -> 0 | I104: =SUM(I5:I103)/#REF! -> #REF! | J104: =+H104/8 -> 0 | K104: =+I104/8 -> #REF! | L104: =SUM(L5:L103) -> 0
J105: =+H105/8 -> 0 | K105: =+I105/8 -> 0
J106: =+H106/8 -> 0 | K106: =+I106/8 -> 0
J107: =+H107/8 -> 0 | K107: =+I107/8 -> 0
J108: =+H108/8 -> 0 | K108: =+I108/8 -> 0
J109: =+H109/8 -> 0 | K109: =+I109/8 -> 0
J110: =+H110/8 -> 0 | K110: =+I110/8 -> 0
J111: =+H111/8 -> 0 | K111: =+I111/8 -> 0
J112: =+H112/8 -> 0 | K112: =+I112/8 -> 0
J113: =+H113/8 -> 0 | K113: =+I113/8 -> 0
J114: =+H114/8 -> 0 | K114: =+I114/8 -> 0
J115: =+H115/8 -> 0 | K115: =+I115/8 -> 0
J116: =+H116/8 -> 0 | K116: =+I116/8 -> 0
... J119: =+H119/8 -> 0 | K119: =+I119/8 -> 0

Sheet JHON CACERES
A1: MINISTERIO DE DEFENSA 2.0
A2: REGISTRO DIARIO DE PRODUCCIÓN - 2025
A3: JHON CACERES
A4: FECHA | B4: ORDENACIÓN ALFABÉTICA KARDEX | C4: C.C.ORDENACIÓN ALFABÉTICA KARDEX | D4: REGISTOS FUID KARDEX | E4: C.C.REGISTOS FUID KARDEX | F4: ACTUALIZACIÓN FUID CARPETAS | G4: CC ACTUALIZACIÓN FUID CARPETAS | H4: OTRAS ACTIVIDADES (HORAS) | I4: NO ASISTIÓ (HORAS) | J4: OTRAS ACTIVIDADES (DÍAS) | K4: NO ASISTIÓ (DÍAS) | L4: OBSERVACIONES
A5: 45924 | J5: =+H5/8 -> 0 | K5: =+I5/8 -> 0
A6: 45925 | J6: =+H6/8 -> 0 | K6: =+I6/8 -> 0
A7: 45926 | J7: =+H7/8 -> 0 | K7: =+I7/8 -> 0
A8: 45927 | J8: =+H8/8 -> 0 | K8: =+I8/8 -> 0
A9: 45928 | J9: =+H9/8 -> 0 | K9: =+I9/8 -> 0
A10: 45929 | J10: =+H10/8 -> 0 | K10: =+I10/8 -> 0
A11: 45930 | J11: =+H11/8 -> 0 | K11: =+I11/8 -> 0
A12: 45931 | J12: =+H12/8 -> 0 | K12: =+I12/8 -> 0
A13: 45932 | J13: =+H13/8 -> 0 | K13: =+I13/8 -> 0
A14: 45933 | J14: =+H14/8 -> 0 | K14: =+I14/8 -> 0
A15: 45934 | J15: =+H15/8 -> 0 | K15: =+I15/8 -> 0
A16: 45935 | J16: =+H16/8 -> 0 | K16: =+I16/8 -> 0
A17: 45936 | J17: =+H17/8 -> 0 | K17: =+I17/8 -> 0
A18: 45937 | D18: 50 | J18: =+H18/8 -> 0 | K18: =+I18/8 -> 0 | L18: SE REMITE DEL PROYECTO DAPRE INICIA EN PROYECTO MINDEFENSA CURVA DFE APRENDIZAJE GAVETA 35
A19: 45938 | D19: 260 | J19: =+H19/8 -> 0 | K19: =+I19/8 -> 0 | L19: GAVETA 35
A20: 45939 | D20: 262 | J20: =+H20/8 -> 0 | K20: =+I20/8 -> 0 | L20: GAVETA 35 Y 58
A21: 45940 | D21: 260 | J21: =+H21/8 -> 0 | K21: =+I21/8 -> 0 | L21: GAVETA 58
A22: 45941 | J22: =+H22/8 -> 0 | K22: =+I22/8 -> 0
A23: 45942 | J23: =+H23/8 -> 0 | K23: =+I23/8 -> 0
A24: 45943 | J24: =+H24/8 -> 0 | K24: =+I24/8 -> 0
A25: 45944 | D25: 260 | J25: =+H25/8 -> 0 | K25: =+I25/8 -> 0 | L25: GAVETA 58
A26: 45945 | D26: 278 | J26: =+H26/8 -> 0 | K26: =+I26/8 -> 0 | L26: SE REALIZA SEGUIMIENTO CON CORTE AL 15/10/2025 EVIDENCIANDO UN SALDO PENDIENTE DE 208 REGISTROS SE REPORTO DEL PROYECTO DAPRE UN SALDO PENDIENTE DE 430 REGISTROS DADO LO ANTERIOR SE CONCLUYE QUE EL SALDO TOTAL PENDIENTE EN REGISTROS ES DE 638 REGSTROS FUID KARDEX LO CUAL DA UN EQUIVALENTE 2,5 DIAS DE PRODUCCION GAVETA 58
A27: 45946 | D27: 280 | J27: =+H27/8 -> 0 | K27: =+I27/8 -> 0 | L27: GAVETA 58
A28: 45947 | D28: 280 | J28: =+H28/8 -> 0 | K28: =+I28/8 -> 0 | L28: GAVETA 58 Y 71
A29: 45948 | J29: =+H29/8 -> 0 | K29: =+I29/8 -> 0
A30: 45949 | J30: =+H30/8 -> 0 | K30: =+I30/8 -> 0
A31: 45950 | D31: 270 | J31: =+H31/8 -> 0 | K31: =+I31/8 -> 0 | L31: GAVETA 71
A32: 45951 | D32: 270 | J32: =+H32/8 -> 0 | K32: =+I32/8 -> 0 | L32: GAVETA 71
A33: 45952 | D33: 270 | J33: =+H33/8 -> 0 | K33: =+I33/8 -> 0 | L33: GAVETA 71
A34: 45953 | D34: 270 | J34: =+H34/8 -> 0 | K34: =+I34/8 -> 0 | L34: GAVETA 71
A35: 45954 | D35: 575 | J35: =+H35/8 -> 0 | K35: =+I35/8 -> 0 | L35: GAVETA 71 Y 92 SE REALIZA SEGUIMIENTO CON CORTE AL 24 DE OCTUBRE DE 2025 EVIDENCIANDO QUE PRESENTA A FAVOR UN SALDO DE 413 REGISTROS EQUIVALENTES A 1,6 DIAS DE PRODUCCION
A36: 45955 | J36: =+H36/8 -> 0 | K36: =+I36/8 -> 0
A37: 45956 | J37: =+H37/8 -> 0 | K37: =+I37/8 -> 0
A38: 45957 | J38: =+H38/8 -> 0 | K38: =+I38/8 -> 0
A39: 45958 | J39: =+H39/8 -> 0 | K39: =+I39/8 -> 0
A40: 45959 | J40: =+H40/8 -> 0 | K40: =+I40/8 -> 0
A41: 45960 | J41: =+H41/8 -> 0 | K41: =+I41/8 -> 0
A42: 45961 | J42: =+H42/8 -> 0 | K42: =+I42/8 -> 0
A43: 45962 | J43: =+H43/8 -> 0 | K43: =+I43/8 -> 0
A44: 45963 | J44: =+H44/8 -> 0 | K44: =+I44/8 -> 0
A45: 45964 | J45: =+H45/8 -> 0 | K45: =+I45/8 -> 0
A46: 45965 | J46: =+H46/8 -> 0 | K46: =+I46/8 -> 0
A47: 45966 | J47: =+H47/8 -> 0 | K47: =+I47/8 -> 0
... A103: 46022 | J103: =+H103/8 -> 0 | K103: =+I103/8 -> 0
A104: PRODUCCIÓN POR PROCESO | B104: =SUM(B5:B103)/#REF! -> #REF! | C104: =SUM(C5:C103) -> 0 | D104: =SUM(D5:D103)/2 -> 1792.5 | E104: =SUM(E5:E103)/#REF! -> #REF! | F104: =SUM(F5:F103) -> 0 | G104: =SUM(G5:G103)/#REF! -> #REF! | H104: =SUM(H5:H103) -> 0 | I104: =SUM(I5:I103)/#REF! -> #REF! | J104: =+H104/8 -> 0 | K104: =+I104/8 -> #REF! | L104: =SUM(L5:L103) -> 0
J105: =+H105/8 -> 0 | K105: =+I105/8 -> 0
J106: =+H106/8 -> 0 | K106: =+I106/8 -> 0
J107: =+H107/8 -> 0 | K107: =+I107/8 -> 0
J108: =+H108/8 -> 0 | K108: =+I108/8 -> 0
J109: =+H109/8 -> 0 | K109: =+I109/8 -> 0
J110: =+H110/8 -> 0 | K110: =+I110/8 -> 0
J111: =+H111/8 -> 0 | K111: =+I111/8 -> 0
J112: =+H112/8 -> 0 | K112: =+I112/8 -> 0
J113: =+H113/8 -> 0 | K113: =+I113/8 -> 0
J114: =+H114/8 -> 0 | K114: =+I114/8 -> 0
J115: =+H115/8 -> 0 | K115: =+I115/8 -> 0
J116: =+H116/8 -> 0 | K116: =+I116/8 -> 0
... J119: =+H119/8 -> 0 | K119: =+I119/8 -> 0

Sheet PEDRO SALAS
A1: MINISTERIO DE DEFENSA 2.0
A2: REGISTRO DIARIO DE PRODUCCIÓN - 2025
A3: PEDRO SALAS
A4: FECHA | B4: ORDENACIÓN ALFABÉTICA KARDEX | C4: C.C.ORDENACIÓN ALFABÉTICA KARDEX | D4: REGISTOS FUID KARDEX | E4: C.C.REGISTOS FUID KARDEX | F4: ACTUALIZACIÓN FUID CARPETAS | G4: CC ACTUALIZACIÓN FUID CARPETAS | H4: OTRAS ACTIVIDADES (HORAS) | I4: NO ASISTIÓ (HORAS) | J4: OTRAS ACTIVIDADES (DÍAS) | K4: NO ASISTIÓ (DÍAS) | L4: OBSERVACIONES
A5: 45924 | J5: =+H5/8 -> 0 | K5: =+I5/8 -> 0
A6: 45925 | J6: =+H6/8 -> 0 | K6: =+I6/8 -> 0
A7: 45926 | J7: =+H7/8 -> 0 | K7: =+I7/8 -> 0
A8: 45927 | J8: =+H8/8 -> 0 | K8: =+I8/8 -> 0
A9: 45928 | J9: =+H9/8 -> 0 | K9: =+I9/8 -> 0
A10: 45929 | J10: =+H10/8 -> 0 | K10: =+I10/8 -> 0
A11: 45930 | J11: =+H11/8 -> 0 | K11: =+I11/8 -> 0
A12: 45931 | J12: =+H12/8 -> 0 | K12: =+I12/8 -> 0
A13: 45932 | J13: =+H13/8 -> 0 | K13: =+I13/8 -> 0
A14: 45933 | J14: =+H14/8 -> 0 | K14: =+I14/8 -> 0
A15: 45934 | J15: =+H15/8 -> 0 | K15: =+I15/8 -> 0
A16: 45935 | J16: =+H16/8 -> 0 | K16: =+I16/8 -> 0
A17: 45936 | J17: =+H17/8 -> 0 | K17: =+I17/8 -> 0 | L17: INGRESA 6/10/2025 CURVA DE APRENDIZAJE PROCESO ORDENACION GAVETA 47
A18: 45937 | B18: 1 | J18: =+H18/8 -> 0 | K18: =+I18/8 -> 0 | L18: GAVETA 47
A19: 45938 | B19: 1 | J19: =+H19/8 -> 0 | K19: =+I19/8 -> 0 | L19: GAVETA 61
A20: 45939 | J20: =+H20/8 -> 0 | K20: =+I20/8 -> 0
A21: 45940 | B21: 1 | J21: =+H21/8 -> 0 | K21: =+I21/8 -> 0 | L21: GAVETA 72
A22: 45941 | J22: =+H22/8 -> 0 | K22: =+I22/8 -> 0
A23: 45942 | J23: =+H23/8 -> 0 | K23: =+I23/8 -> 0
A24: 45943 | J24: =+H24/8 -> 0 | K24: =+I24/8 -> 0
A25: 45944 | B25: 1 | J25: =+H25/8 -> 0 | K25: =+I25/8 -> 0 | L25: GAVETA 82
A26: 45945 | B26: 1 | J26: =+H26/8 -> 0 | K26: =+I26/8 -> 0 | L26: GAVETA 94 SE REALIZA EL SEGUIMIENTO CON CORTE AL 15/10/2025 EVIDENCIANDO UN SALDO PENDIENTE DE 1 GAVETA DE ORDENACION
A27: 45946 | J27: =+H27/8 -> 0 | K27: =+I27/8 -> 0
A28: 45947 | J28: =+H28/8 -> 0 | K28: =+I28/8 -> 0
A29: 45948 | J29: =+H29/8 -> 0 | K29: =+I29/8 -> 0
A30: 45949 | J30: =+H30/8 -> 0 | K30: =+I30/8 -> 0
A31: 45950 | J31: =+H31/8 -> 0 | K31: =+I31/8 -> 0
A32: 45951 | J32: =+H32/8 -> 0 | K32: =+I32/8 -> 0
A33: 45952 | J33: =+H33/8 -> 0 | K33: =+I33/8 -> 0
A34: 45953 | J34: =+H34/8 -> 0 | K34: =+I34/8 -> 0
A35: 45954 | J35: =+H35/8 -> 0 | K35: =+I35/8 -> 0
A36: 45955 | J36: =+H36/8 -> 0 | K36: =+I36/8 -> 0
A37: 45956 | J37: =+H37/8 -> 0 | K37: =+I37/8 -> 0
A38: 45957 | J38: =+H38/8 -> 0 | K38: =+I38/8 -> 0
... A103: 46022 | J103: =+H103/8 -> 0 | K103: =+I103/8 -> 0
A104: PRODUCCIÓN POR PROCESO | B104: =SUM(B5:B103)/#REF! -> #REF! | C104: =SUM(C5:C103) -> 0 | D104: =SUM(D5:D103)/2 -> 0 | E104: =SUM(E5:E103)/#REF! -> #REF! | F104: =SUM(F5:F103) -> 0 | G104: =SUM(G5:G103)/#REF! -> #REF! | H104: =SUM(H5:H103) -> 0 | I104: =SUM(I5:I103)/#REF! -> #REF! | J104: =+H104/8 -> 0 | K104: =+I104/8 -> #REF! | L104: =SUM(L5:L103) -> 0
J105: =+H105/8 -> 0 | K105: =+I105/8 -> 0
J106: =+H106/8 -> 0 | K106: =+I106/8 -> 0
J107: =+H107/8 -> 0 | K107: =+I107/8 -> 0
J108: =+H108/8 -> 0 | K108: =+I108/8 -> 0
J109: =+H109/8 -> 0 | K109: =+I109/8 -> 0
J110: =+H110/8 -> 0 | K110: =+I110/8 -> 0
J111: =+H111/8 -> 0 | K111: =+I111/8 -> 0
J112: =+H112/8 -> 0 | K112: =+I112/8 -> 0
J113: =+H113/8 -> 0 | K113: =+I113/8 -> 0
J114: =+H114/8 -> 0 | K114: =+I114/8 -> 0
J115: =+H115/8 -> 0 | K115: =+I115/8 -> 0
J116: =+H116/8 -> 0 | K116: =+I116/8 -> 0
... J119: =+H119/8 -> 0 | K119: =+I119/8 -> 0

Sheet ANGELICA ORTIZ
A1: MINISTERIO DE DEFENSA 2.0
A2: REGISTRO DIARIO DE PRODUCCIÓN - 2025
A3: ANGELICA ORTIZ
A4: FECHA | B4: ORDENACIÓN ALFABÉTICA KARDEX | C4: C.C.ORDENACIÓN ALFABÉTICA KARDEX | D4: REGISTOS FUID KARDEX | E4: C.C.REGISTOS FUID KARDEX | F4: ACTUALIZACIÓN FUID CARPETAS | G4: CC ACTUALIZACIÓN FUID CARPETAS | H4: OTRAS ACTIVIDADES (HORAS) | I4: NO ASISTIÓ (HORAS) | J4: OTRAS ACTIVIDADES (DÍAS) | K4: NO ASISTIÓ (DÍAS) | L4: OBSERVACIONES
A5: 45924 | J5: =+H5/8 -> 0 | K5: =+I5/8 -> 0
A6: 45925 | J6: =+H6/8 -> 0 | K6: =+I6/8 -> 0
A7: 45926 | J7: =+H7/8 -> 0 | K7: =+I7/8 -> 0
A8: 45927 | J8: =+H8/8 -> 0 | K8: =+I8/8 -> 0
A9: 45928 | J9: =+H9/8 -> 0 | K9: =+I9/8 -> 0
A10: 45929 | J10: =+H10/8 -> 0 | K10: =+I10/8 -> 0
A11: 45930 | J11: =+H11/8 -> 0 | K11: =+I11/8 -> 0
A12: 45931 | J12: =+H12/8 -> 0 | K12: =+I12/8 -> 0
A13: 45932 | J13: =+H13/8 -> 0 | K13: =+I13/8 -> 0
A14: 45933 | D14: 26 | J14: =+H14/8 -> 0 | K14: =+I14/8 -> 0 | L14: REMITIDA PROYECTO SUPERVIGILANCIA INGRESO PROYECTO MINDEFENSA CURVA DE APRENDIZAJE PROCESO INVENTARIO KARDEX GAVETA 22
A15: 45934 | J15: =+H15/8 -> 0 | K15: =+I15/8 -> 0
A16: 45935 | J16: =+H16/8 -> 0 | K16: =+I16/8 -> 0
A17: 45936 | D17: 287 | J17: =+H17/8 -> 0 | K17: =+I17/8 -> 0 | L17: GAVETA 22
A18: 45937 | D18: 379 | J18: =+H18/8 -> 0 | K18: =+I18/8 -> 0 | L18: GAVETA 22
A19: 45938 | J19: =+H19/8 -> 0 | K19: =+I19/8 -> 0
A20: 45939 | J20: =+H20/8 -> 0 | K20: =+I20/8 -> 0
A21: 45940 | J21: =+H21/8 -> 0 | K21: =+I21/8 -> 0
A22: 45941 | J22: =+H22/8 -> 0 | K22: =+I22/8 -> 0
A23: 45942 | J23: =+H23/8 -> 0 | K23: =+I23/8 -> 0
A24: 45943 | J24: =+H24/8 -> 0 | K24: =+I24/8 -> 0
A25: 45944 | J25: =+H25/8 -> 0 | K25: =+I25/8 -> 0
A26: 45945 | J26: =+H26/8 -> 0 | K26: =+I26/8 -> 0
A27: 45946 | J27: =+H27/8 -> 0 | K27: =+I27/8 -> 0 | L27: SE REALIZA SEGUIMIENTO EVIDENCIANDO UN SALDO PENDIENTE EN CUMPLIMIENTO DE METAS DE PRODUCCION DE 1,388 REGISTROS DE INVENTARIO KARDEX EQUIVALENTES A 5,3 DIAS PDTES EN META DE PRODUCCION DEL PROYECTO MINDEFENSA. ADICIONAL A LO ANTERIOR SE REPORTO DEL PROYECTO SUPERVIGILANCIA 6,75 DIAS PENDIENTES EN META DE PRODUCCION. TENIENDO EN CUENTA LO ANTERIOR SE CONCLUYE QUE TIENE UN SALDO PDTE EN META DE PRODUCCION EQUIVALENTE A 12 DIAS DE PRODUCCION
A28: 45947 | D28: 114 | J28: =+H28/8 -> 0 | K28: =+I28/8 -> 0 | L28: GAVETA 22
A29: 45948 | D29: 239 | J29: =+H29/8 -> 0 | K29: =+I29/8 -> 0 | L29: GAVETA 52
A30: 45949 | J30: =+H30/8 -> 0 | K30: =+I30/8 -> 0
A31: 45950 | D31: 447 | J31: =+H31/8 -> 0 | K31: =+I31/8 -> 0 | L31: GAVETA 22 Y 52
A32: 45951 | D32: 56 | J32: =+H32/8 -> 0 | K32: =+I32/8 -> 0 | L32: GAVETA 22
A33: 45952 | D33: 447 | J33: =+H33/8 -> 0 | K33: =+I33/8 -> 0 | L33: GAVETA 22 Y 52
A34: 45953 | J34: =+H34/8 -> 0 | K34: =+I34/8 -> 0 | L34: NO ASISTIO
A35: 45954 | D35: 351 | J35: =+H35/8 -> 0 | K35: =+I35/8 -> 0 | L35: GAVETA 52 SE REALIZA SEGUIMIENTO CON CORTE AL 24 DE OCTUBRE DE 2025 EVIDENCIANDO UN SALDO PENDIENTE DE 1,294 REGISTROS DE INVENTARIO KARDEX EQUIVALENTES A 4,9 DIAS EN META DE PRODUCCION CONTINUA CON EL SALDO PENDIENTE DEL PROYECTO SUPERVIGILANCIA DE 6,75 DIA EN META DE PRODUCCION PARA UN TOTAL DE 11,6 DIAS EN METAS DE PRODUCCION
A36: 45955 | J36: =+H36/8 -> 0 | K36: =+I36/8 -> 0
A37: 45956 | J37: =+H37/8 -> 0 | K37: =+I37/8 -> 0
A38: 45957 | D38: 110 | J38: =+H38/8 -> 0 | K38: =+I38/8 -> 0 | L38: GAVETA 52
A39: 45958 | D39: 140 | J39: =+H39/8 -> 0 | K39: =+I39/8 -> 0 | L39: GAVETA 91
A40: 45959 | F40: 54 | J40: =+H40/8 -> 0 | K40: =+I40/8 -> 0
A41: 45960 | F41: 45 | J41: =+H41/8 -> 0 | K41: =+I41/8 -> 0
A42: 45961 | F42: 57 | J42: =+H42/8 -> 0 | K42: =+I42/8 -> 0
A43: 45962 | J43: =+H43/8 -> 0 | K43: =+I43/8 -> 0
A44: 45963 | J44: =+H44/8 -> 0 | K44: =+I44/8 -> 0
A45: 45964 | J45: =+H45/8 -> 0 | K45: =+I45/8 -> 0
A46: 45965 | F46: 42 | J46: =+H46/8 -> 0 | K46: =+I46/8 -> 0
A47: 45966 | F47: 57 | J47: =+H47/8 -> 0 | K47: =+I47/8 -> 0 | L47: QUEDA PENDIENTE REVISAR CON LA SUPERVISIÓN
A48: 45967 | J48: =+H48/8 -> 0 | K48: =+I48/8 -> 0
A49: 45968 | J49: =+H49/8 -> 0 | K49: =+I49/8 -> 0
A50: 45969 | J50: =+H50/8 -> 0 | K50: =+I50/8 -> 0
A51: 45970 | J51: =+H51/8 -> 0 | K51: =+I51/8 -> 0
A52: 45971 | J52: =+H52/8 -> 0 | K52: =+I52/8 -> 0
A53: 45972 | J53: =+H53/8 -> 0 | K53: =+I53/8 -> 0
A54: 45973 | J54: =+H54/8 -> 0 | K54: =+I54/8 -> 0
A55: 45974 | J55: =+H55/8 -> 0 | K55: =+I55/8 -> 0
A56: 45975 | J56: =+H56/8 -> 0 | K56: =+I56/8 -> 0
A57: 45976 | J57: =+H57/8 -> 0 | K57: =+I57/8 -> 0
A58: 45977 | J58: =+H58/8 -> 0 | K58: =+I58/8 -> 0
A59: 45978 | J59: =+H59/8 -> 0 | K59: =+I59/8 -> 0
... A103: 46022 | J103: =+H103/8 -> 0 | K103: =+I103/8 -> 0
A104: PRODUCCIÓN POR PROCESO | B104: =SUM(B5:B103)/#REF! -> #REF! | C104: =SUM(C5:C103) -> 0 | D104: =SUM(D5:D103)/2 -> 1298 | E104: =SUM(E5:E103)/#REF! -> #REF! | F104: =SUM(F5:F103) -> 255 | G104: =SUM(G5:G103)/#REF! -> #REF! | H104: =SUM(H5:H103) -> 0 | I104: =SUM(I5:I103)/#REF! -> #REF! | J104: =+H104/8 -> 0 | K104: =+I104/8 -> #REF! | L104: =SUM(L5:L103) -> 0
J105: =+H105/8 -> 0 | K105: =+I105/8 -> 0
J106: =+H106/8 -> 0 | K106: =+I106/8 -> 0
J107: =+H107/8 -> 0 | K107: =+I107/8 -> 0
J108: =+H108/8 -> 0 | K108: =+I108/8 -> 0
J109: =+H109/8 -> 0 | K109: =+I109/8 -> 0
J110: =+H110/8 -> 0 | K110: =+I110/8 -> 0
J111: =+H111/8 -> 0 | K111: =+I111/8 -> 0
J112: =+H112/8 -> 0 | K112: =+I112/8 -> 0
J113: =+H113/8 -> 0 | K113: =+I113/8 -> 0
J114: =+H114/8 -> 0 | K114: =+I114/8 -> 0
J115: =+H115/8 -> 0 | K115: =+I115/8 -> 0
J116: =+H116/8 -> 0 | K116: =+I116/8 -> 0
... J119: =+H119/8 -> 0 | K119: =+I119/8 -> 0

Sheet GLORIA YAMILE SANTANA ORTIZ
A1: MINISTERIO DE DEFENSA 2.0
A2: REGISTRO DIARIO DE PRODUCCIÓN - 2025
A3: GLORIA YAMILE SANTANA ORTIZ
A4: FECHA | B4: ORDENACIÓN ALFABÉTICA KARDEX | C4: C.C.ORDENACIÓN ALFABÉTICA KARDEX | D4: REGISTOS FUID KARDEX | E4: C.C.REGISTOS FUID KARDEX | F4: ACTUALIZACIÓN FUID CARPETAS | G4: CC ACTUALIZACIÓN FUID CARPETAS | H4: OTRAS ACTIVIDADES (HORAS) | I4: NO ASISTIÓ (HORAS) | J4: OTRAS ACTIVIDADES (DÍAS) | K4: NO ASISTIÓ (DÍAS) | L4: OBSERVACIONES
A5: 45933 | J5: =+H5/8 -> 0 | K5: =+I5/8 -> 0 | L5: NO ASISTIO INICIA PROYECTO MINDEFENSA CURVA DE APRENDIZAJE INICIA PROCESO FUID
A6: 45934 | J6: =+H6/8 -> 0 | K6: =+I6/8 -> 0
A7: 45935 | J7: =+H7/8 -> 0 | K7: =+I7/8 -> 0
A8: 45936 | J8: =+H8/8 -> 0 | K8: =+I8/8 -> 0
A9: 45937 | J9: =+H9/8 -> 0 | K9: =+I9/8 -> 0
A10: 45938 | J10: =+H10/8 -> 0 | K10: =+I10/8 -> 0
A11: 45939 | J11: =+H11/8 -> 0 | K11: =+I11/8 -> 0
A12: 45940 | J12: =+H12/8 -> 0 | K12: =+I12/8 -> 0
A13: 45941 | J13: =+H13/8 -> 0 | K13: =+I13/8 -> 0
A14: 45942 | J14: =+H14/8 -> 0 | K14: =+I14/8 -> 0
A15: 45943 | J15: =+H15/8 -> 0 | K15: =+I15/8 -> 0
A16: 45944 | D16: 1102 | J16: =+H16/8 -> 0 | K16: =+I16/8 -> 0 | L16: GAVETA 32
A17: 45945 | J17: =+H17/8 -> 0 | K17: =+I17/8 -> 0
A18: 45946 | D18: 260 | J18: =+H18/8 -> 0 | K18: =+I18/8 -> 0 | L18: GAVETA 63 SE REALIZA SEGUIMIENTO EVIDENCIANDO QUE PRESENTA UN SALDO PENDIENTE EN METAS DE PRODUCCIÓN DE 718 REGISTROS FUID INVENTARIO TARJETAS KARDEX ADICIONAL A LO ANTERIOR DEL PROYECTO SUPERVIGILACIA SE REPORTO UN SALDO PENDIENTE DE 1.5 DIAS EN META DE PRODUCCION ES DECIR QUE AL AORTE DEL 16/10/2025 TIENE PENDIENTES 4,2 DÌAS DE PRODUCCIÒN.
A19: 45947 | D19: 259 | J19: =+H19/8 -> 0 | K19: =+I19/8 -> 0 | L19: GAVETA 63
A20: 45948 | J20: =+H20/8 -> 0 | K20: =+I20/8 -> 0
A21: 45949 | J21: =+H21/8 -> 0 | K21: =+I21/8 -> 0
A22: 45950 | D22: 297 | J22: =+H22/8 -> 0 | K22: =+I22/8 -> 0 | L22: GAVETA 63
A23: 45951 | D23: 266 | J23: =+H23/8 -> 0 | K23: =+I23/8 -> 0 | L23: GAVETA 63
A24: 45952 | D24: 275 | J24: =+H24/8 -> 0 | K24: =+I24/8 -> 0 | L24: GAVETA 63
A25: 45953 | J25: =+H25/8 -> 0 | K25: =+I25/8 -> 0 | L25: PASA AL PROCESO DE ORDENACION
A26: 45954 | B26: 3 | J26: =+H26/8 -> 0 | K26: =+I26/8 -> 0 | L26: GAVETAS 8, 20,21 OF Y SUB SE REALIZA SEGUIMIENTO CON CORTE AL 24 DE OCTUBRE DE 2025 EVIDENCIANDO QUE EN TOTAL PRESENTA UN SALDO PENDIENTE DE 661 REGISTROS DE INVENTARIO KARDEX Y 0,5 DIAS DE PRODUCCION DEL PROYECTO SUPERVIGILANCIA SE CONCLUYE UN TOTAL PENDIENTE Y EQUIVALENTE A 3 DIAS DE PRODUCCION
A27: 45955 | J27: =+H27/8 -> 0 | K27: =+I27/8 -> 0
A28: 45956 | J28: =+H28/8 -> 0 | K28: =+I28/8 -> 0
A29: 45957 | J29: =+H29/8 -> 0 | K29: =+I29/8 -> 0
A30: 45958 | J30: =+H30/8 -> 0 | K30: =+I30/8 -> 0
A31: 45959 | J31: =+H31/8 -> 0 | K31: =+I31/8 -> 0
A32: 45960 | J32: =+H32/8 -> 0 | K32: =+I32/8 -> 0
A33: 45961 | J33: =+H33/8 -> 0 | K33: =+I33/8 -> 0
A34: 45962 | J34: =+H34/8 -> 0 | K34: =+I34/8 -> 0
A35: 45963 | J35: =+H35/8 -> 0 | K35: =+I35/8 -> 0
A36: 45964 | J36: =+H36/8 -> 0 | K36: =+I36/8 -> 0
A37: 45965 | J37: =+H37/8 -> 0 | K37: =+I37/8 -> 0
A38: 45966 | J38: =+H38/8 -> 0 | K38: =+I38/8 -> 0
... A94: 46022 | J94: =+H94/8 -> 0 | K94: =+I94/8 -> 0
J95: =+H95/8 -> 0 | K95: =+I95/8 -> 0
J96: =+H96/8 -> 0 | K96: =+I96/8 -> 0
J97: =+H97/8 -> 0 | K97: =+I97/8 -> 0
J98: =+H98/8 -> 0 | K98: =+I98/8 -> 0
J99: =+H99/8 -> 0 | K99: =+I99/8 -> 0
J100: =+H100/8 -> 0 | K100: =+I100/8 -> 0
J101: =+H101/8 -> 0 | K101: =+I101/8 -> 0
J102: =+H102/8 -> 0 | K102: =+I102/8 -> 0
J103: =+H103/8 -> 0 | K103: =+I103/8 -> 0
J104: =+H104/8 -> 0 | K104: =+I104/8 -> 0
J105: =+H105/8 -> 0 | K105: =+I105/8 -> 0
J106: =+H106/8 -> 0 | K106: =+I106/8 -> 0
... J119: =+H119/8 -> 0 | K119: =+I119/8 -> 0

Sheet ORLANDO MORALES
A1: MINISTERIO DE DEFENSA 2.0
A2: REGISTRO DIARIO DE PRODUCCIÓN - 2025
A3: ORLANDO MORALES
A4: FECHA | B4: ORDENACIÓN ALFABÉTICA KARDEX | C4: C.C.ORDENACIÓN ALFABÉTICA KARDEX | D4: REGISTOS FUID KARDEX | E4: C.C.REGISTOS FUID KARDEX | F4: ACTUALIZACIÓN FUID CARPETAS | G4: CC ACTUALIZACIÓN FUID CARPETAS | H4: OTRAS ACTIVIDADES (HORAS) | I4: NO ASISTIÓ (HORAS) | J4: OTRAS ACTIVIDADES (DÍAS) | K4: NO ASISTIÓ (DÍAS) | L4: OBSERVACIONES
A5: 45933 | J5: =+H5/8 -> 0 | K5: =+I5/8 -> 0
A6: 45934 | J6: =+H6/8 -> 0 | K6: =+I6/8 -> 0
A7: 45935 | J7: =+H7/8 -> 0 | K7: =+I7/8 -> 0
A8: 45936 | J8: =+H8/8 -> 0 | K8: =+I8/8 -> 0
A9: 45937 | J9: =+H9/8 -> 0 | K9: =+I9/8 -> 0
A10: 45938 | J10: =+H10/8 -> 0 | K10: =+I10/8 -> 0 | L10: REMITIDO PROYECTO DAPRE INICIO PROYECTO MINDEF CURVA DE APRENDIZAJE GAVETA 70
A11: 45939 | B11: 1 | J11: =+H11/8 -> 0 | K11: =+I11/8 -> 0 | L11: GAVETA 70
A12: 45940 | B12: 1 | J12: =+H12/8 -> 0 | K12: =+I12/8 -> 0 | L12: GAVETA 79
A13: 45941 | J13: =+H13/8 -> 0 | K13: =+I13/8 -> 0
A14: 45942 | J14: =+H14/8 -> 0 | K14: =+I14/8 -> 0
A15: 45943 | J15: =+H15/8 -> 0 | K15: =+I15/8 -> 0
A16: 45944 | B16: 1 | J16: =+H16/8 -> 0 | K16: =+I16/8 -> 0 | L16: GAVETA 83
A17: 45945 | B17: 1 | J17: =+H17/8 -> 0 | K17: =+I17/8 -> 0 | L17: GAVETA 95
A18: 45946 | B18: 2 | J18: =+H18/8 -> 0 | K18: =+I18/8 -> 0 | L18: GAVETA 100 Y 103
A19: 45947 | B19: 1 | J19: =+H19/8 -> 0 | K19: =+I19/8 -> 0 | L19: GAVETA 107 SE REALIZA SEGUIMIENTO CON CORTE AL 16/10/2025 EVIDENCIANDO UN SALDO ADICIONAL DE 1 GAVETA SE ENCUENTRA AL DIA EN METAS DE PRODUCCION
A20: 45948 | J20: =+H20/8 -> 0 | K20: =+I20/8 -> 0
A21: 45949 | J21: =+H21/8 -> 0 | K21: =+I21/8 -> 0
A22: 45950 | B22: 1 | J22: =+H22/8 -> 0 | K22: =+I22/8 -> 0 | L22: GAVETA 112
A23: 45951 | B23: 1 | J23: =+H23/8 -> 0 | K23: =+I23/8 -> 0 | L23: GAVETA 121
A24: 45952 | B24: 1 | J24: =+H24/8 -> 0 | K24: =+I24/8 -> 0 | L24: GAVETA 125
A25: 45953 | B25: 1 | J25: =+H25/8 -> 0 | K25: =+I25/8 -> 0 | L25: GAVETA 128
A26: 45954 | B26: 1 | J26: =+H26/8 -> 0 | K26: =+I26/8 -> 0 | L26: GAVETA 137 SE REALIZA SEGUIMIENTO CON CORTE AL 24 DE OCTUBRE EVIDENCIANDO QUE SE E NCUENTRA AL DIA EN METAS DE PRODUCCION Y PRESENTA UN SALDO A FAVOR DE UNA GAVETA EQUIVALENTE A 1 DIA DE PRODUCCION
A27: 45955 | J27: =+H27/8 -> 0 | K27: =+I27/8 -> 0
A28: 45956 | J28: =+H28/8 -> 0 | K28: =+I28/8 -> 0
A29: 45957 | J29: =+H29/8 -> 0 | K29: =+I29/8 -> 0
A30: 45958 | J30: =+H30/8 -> 0 | K30: =+I30/8 -> 0
A31: 45959 | J31: =+H31/8 -> 0 | K31: =+I31/8 -> 0
A32: 45960 | J32: =+H32/8 -> 0 | K32: =+I32/8 -> 0
A33: 45961 | J33: =+H33/8 -> 0 | K33: =+I33/8 -> 0
A34: 45962 | J34: =+H34/8 -> 0 | K34: =+I34/8 -> 0
A35: 45963 | J35: =+H35/8 -> 0 | K35: =+I35/8 -> 0
A36: 45964 | J36: =+H36/8 -> 0 | K36: =+I36/8 -> 0
A37: 45965 | J37: =+H37/8 -> 0 | K37: =+I37/8 -> 0
A38: 45966 | J38: =+H38/8 -> 0 | K38: =+I38/8 -> 0
... A94: 46022 | J94: =+H94/8 -> 0 | K94: =+I94/8 -> 0
J95: =+H95/8 -> 0 | K95: =+I95/8 -> 0
J96: =+H96/8 -> 0 | K96: =+I96/8 -> 0
J97: =+H97/8 -> 0 | K97: =+I97/8 -> 0
J98: =+H98/8 -> 0 | K98: =+I98/8 -> 0
J99: =+H99/8 -> 0 | K99: =+I99/8 -> 0
J100: =+H100/8 -> 0 | K100: =+I100/8 -> 0
J101: =+H101/8 -> 0 | K101: =+I101/8 -> 0
J102: =+H102/8 -> 0 | K102: =+I102/8 -> 0
J103: =+H103/8 -> 0 | K103: =+I103/8 -> 0
J104: =+H104/8 -> 0 | K104: =+I104/8 -> 0
J105: =+H105/8 -> 0 | K105: =+I105/8 -> 0
J106: =+H106/8 -> 0 | K106: =+I106/8 -> 0
... J119: =+H119/8 -> 0 | K119: =+I119/8 -> 0

Sheet YOMARA BOHORQUEZ PEÑA
A1: MINISTERIO DE DEFENSA 2.0
A2: REGISTRO DIARIO DE PRODUCCIÓN - 2025
A3: YOMARA BOHORQUEZ
A4: FECHA | B4: ORDENACIÓN ALFABÉTICA KARDEX | C4: C.C.ORDENACIÓN ALFABÉTICA KARDEX | D4: REGISTOS FUID KARDEX | E4: C.C.REGISTOS FUID KARDEX | F4: ACTUALIZACIÓN FUID CARPETAS | G4: CC ACTUALIZACIÓN FUID CARPETAS | H4: OTRAS ACTIVIDADES (HORAS) | I4: NO ASISTIÓ (HORAS) | J4: OTRAS ACTIVIDADES (DÍAS) | K4: NO ASISTIÓ (DÍAS) | L4: OBSERVACIONES
A5: 45933 | J5: =+H5/8 -> 0 | K5: =+I5/8 -> 0 | L5: REMITIDA DEL PROYECTO SUPERVIGILANCIA INICIA PROYECTO MINDEFENSA CURVA DE APRENDIZAJE INICIA PROCESO DE ORDENACION GAVETA 44
A6: 45934 | J6: =+H6/8 -> 0 | K6: =+I6/8 -> 0
A7: 45935 | J7: =+H7/8 -> 0 | K7: =+I7/8 -> 0
A8: 45936 | J8: =+H8/8 -> 0 | K8: =+I8/8 -> 0
A9: 45937 | J9: =+H9/8 -> 0 | K9: =+I9/8 -> 0
A10: 45938 | B10: 1 | J10: =+H10/8 -> 0 | K10: =+I10/8 -> 0 | L10: GAVETA 8
A11: 45939 | J11: =+H11/8 -> 0 | K11: =+I11/8 -> 0
A12: 45940 | B12: 1 | J12: =+H12/8 -> 0 | K12: =+I12/8 -> 0 | L12: GAVETA 71
A13: 45941 | J13: =+H13/8 -> 0 | K13: =+I13/8 -> 0
A14: 45942 | J14: =+H14/8 -> 0 | K14: =+I14/8 -> 0
A15: 45943 | J15: =+H15/8 -> 0 | K15: =+I15/8 -> 0
A16: 45944 | B16: 1 | J16: =+H16/8 -> 0 | K16: =+I16/8 -> 0 | L16: GAVETA 86
A17: 45945 | B17: 1 | J17: =+H17/8 -> 0 | K17: =+I17/8 -> 0 | L17: GAVETA 90
A18: 45946 | J18: =+H18/8 -> 0 | K18: =+I18/8 -> 0
A19: 45947 | B19: 1 | J19: =+H19/8 -> 0 | K19: =+I19/8 -> 0 | L19: GAVETA 89
A20: 45948 | J20: =+H20/8 -> 0 | K20: =+I20/8 -> 0
A21: 45949 | J21: =+H21/8 -> 0 | K21: =+I21/8 -> 0
A22: 45950 | B22: 2 | J22: =+H22/8 -> 0 | K22: =+I22/8 -> 0 | L22: GAVETA 110 Y 115 SE REALIZA SEGUIMIENTO CON CORTE AL DIA 20/10/2025 EVIDENCIANDO UN SALDO PENDIENTE DE 3 GAVETAS DE PROCESO DE ORDENACION, EQUIVALENTES A 3 DIAS DE PRODUCCIÒN ADICIONAL A LO ANTERIOR DE PROYECTO SUPERVIGILACIA SE REPORTARON 2,5 DÌAS PENDIENTES EN METAS DE PRODUCCION SE CONCLUYE QUE PRESENTA UN SALDO PENDIENTE DE 5,5 DIAS DE PRODUCCION SE ACUERDA CON LA COMPAÑERA EL TRASLADO DE PROCESO A ELABORACION DE INVENTARIO A PARTTIR DEL DIA 22/10/2025
A23: 45951 | J23: =+H23/8 -> 0 | K23: =+I23/8 -> 0 | M23: 1 ORD
A24: 45952 | D24: 140 | J24: =+H24/8 -> 0 | K24: =+I24/8 -> 0
A25: 45953 | D25: 33 | J25: =+H25/8 -> 0 | K25: =+I25/8 -> 0 | L25: GAVETA 81
A26: 45954 | D26: 13 | J26: =+H26/8 -> 0 | K26: =+I26/8 -> 0
A27: 45955 | J27: =+H27/8 -> 0 | K27: =+I27/8 -> 0
A28: 45956 | J28: =+H28/8 -> 0 | K28: =+I28/8 -> 0
A29: 45957 | I29: 8 | J29: =+H29/8 -> 0 | K29: =+I29/8 -> 1
A30: 45958 | J30: =+H30/8 -> 0 | K30: =+I30/8 -> 0 | L30: GAVETA 81 SE REALIZA SEGUIMIENTO CON CORTE AL 24 DE OCTUBRE DE 2025 EVIDENCIANDO UN SALDO PENDIENTE DE 4 GAVETAS DEL PROCESO DE ORDENACIÒN EQUIVALENTES A 4 DÌAS DE PRODUCCION + 594 REGISTROS DE LEVANTAMIENTO DE INVENTARIO KARDEX EQUIVALENTE A 2,2 DIAS EN META DE PRODUCCION. ADICIONAL A LO ANTERIOR DEL PROYECTO SUPERVIGILACIA SE REPORTARON 2,5 DÌAS PENDIENTES EN METAS DE PRODUCCION. CONCLUSION: PRESENTA UN SALDO PENDIENTE EN METAS DE PRODUCCION EQUIVALENTES A 8,7 DIAS
A31: 45959 | J31: =+H31/8 -> 0 | K31: =+I31/8 -> 0
A32: 45960 | J32: =+H32/8 -> 0 | K32: =+I32/8 -> 0
A33: 45961 | J33: =+H33/8 -> 0 | K33: =+I33/8 -> 0
A34: 45962 | J34: =+H34/8 -> 0 | K34: =+I34/8 -> 0
A35: 45963 | J35: =+H35/8 -> 0 | K35: =+I35/8 -> 0
A36: 45964 | J36: =+H36/8 -> 0 | K36: =+I36/8 -> 0
A37: 45965 | J37: =+H37/8 -> 0 | K37: =+I37/8 -> 0
A38: 45966 | J38: =+H38/8 -> 0 | K38: =+I38/8 -> 0
A39: 45967 | J39: =+H39/8 -> 0 | K39: =+I39/8 -> 0 | L39: SE REALIZO REUNIÓN DE SEGUIMIENTO POR SOLICITUD DE FINALIZACIÓN DE CONTRATO, QUEDANDO EN COMÚN ACUERDO QUE PARA EL MES DE OCTUBRE LA PRODUCCIÓN SE REALIZÓ HASTA EL 17 DE OCTUBRE (INCLUIDO OCTUBRE). EN ESE SENTIDO SE DEJA DOCUMENTO LA NOVEDAD EN EL CUADRO DE PRODUCCIÓN
A40: 45968 | J40: =+H40/8 -> 0 | K40: =+I40/8 -> 0
A41: 45969 | J41: =+H41/8 -> 0 | K41: =+I41/8 -> 0
A42: 45970 | J42: =+H42/8 -> 0 | K42: =+I42/8 -> 0
A43: 45971 | J43: =+H43/8 -> 0 | K43: =+I43/8 -> 0
A44: 45972 | J44: =+H44/8 -> 0 | K44: =+I44/8 -> 0
A45: 45973 | J45: =+H45/8 -> 0 | K45: =+I45/8 -> 0
A46: 45974 | J46: =+H46/8 -> 0 | K46: =+I46/8 -> 0
A47: 45975 | J47: =+H47/8 -> 0 | K47: =+I47/8 -> 0
A48: 45976 | J48: =+H48/8 -> 0 | K48: =+I48/8 -> 0
A49: 45977 | J49: =+H49/8 -> 0 | K49: =+I49/8 -> 0
A50: 45978 | J50: =+H50/8 -> 0 | K50: =+I50/8 -> 0
A51: 45979 | J51: =+H51/8 -> 0 | K51: =+I51/8 -> 0
... A94: 46022 | J94: =+H94/8 -> 0 | K94: =+I94/8 -> 0
J95: =+H95/8 -> 0 | K95: =+I95/8 -> 0
J96: =+H96/8 -> 0 | K96: =+I96/8 -> 0
J97: =+H97/8 -> 0 | K97: =+I97/8 -> 0
J98: =+H98/8 -> 0 | K98: =+I98/8 -> 0
J99: =+H99/8 -> 0 | K99: =+I99/8 -> 0
J100: =+H100/8 -> 0 | K100: =+I100/8 -> 0
J101: =+H101/8 -> 0 | K101: =+I101/8 -> 0
J102: =+H102/8 -> 0 | K102: =+I102/8 -> 0
J103: =+H103/8 -> 0 | K103: =+I103/8 -> 0
J104: =+H104/8 -> 0 | K104: =+I104/8 -> 0
J105: =+H105/8 -> 0 | K105: =+I105/8 -> 0
J106: =+H106/8 -> 0 | K106: =+I106/8 -> 0
... J119: =+H119/8 -> 0 | K119: =+I119/8 -> 0

Sheet ANA MILENA ROMERO
A1: MINISTERIO DE DEFENSA 2.0
A2: REGISTRO DIARIO DE PRODUCCIÓN - 2025
A3: ANA MILENA ROMERO
A4: FECHA | B4: ORDENACIÓN ALFABÉTICA KARDEX | C4: C.C.ORDENACIÓN ALFABÉTICA KARDEX | D4: REGISTOS FUID KARDEX | E4: C.C.REGISTOS FUID KARDEX | F4: ACTUALIZACIÓN FUID CARPETAS | G4: CC ACTUALIZACIÓN FUID CARPETAS | H4: OTRAS ACTIVIDADES (HORAS) | I4: NO ASISTIÓ (HORAS) | J4: OTRAS ACTIVIDADES (DÍAS) | K4: NO ASISTIÓ (DÍAS) | L4: OBSERVACIONES
A5: 45933 | J5: =+H5/8 -> 0 | K5: =+I5/8 -> 0
A6: 45934 | J6: =+H6/8 -> 0 | K6: =+I6/8 -> 0
A7: 45935 | J7: =+H7/8 -> 0 | K7: =+I7/8 -> 0
A8: 45936 | J8: =+H8/8 -> 0 | K8: =+I8/8 -> 0 | L8: INGRESA PROYECTO MINDEFENSA CURVA DE APRENDIZAJE INICIA EN PROCESO DE ORDENACION GAVETA 51
A9: 45937 | B9: 1 | J9: =+H9/8 -> 0 | K9: =+I9/8 -> 0 | L9: GAVETA 51
A10: 45938 | B10: 1 | J10: =+H10/8 -> 0 | K10: =+I10/8 -> 0 | L10: GAVETA 67
A11: 45939 | C11: 1 | J11: =+H11/8 -> 0 | K11: =+I11/8 -> 0 | L11: GAVETA 52 UNIFICACION DE GAVETA APELLIDO GARCIA ORDENACION GAVETA DIANA RAMOS
A12: 45940 | C12: 2 | J12: =+H12/8 -> 0 | K12: =+I12/8 -> 0 | L12: GAVETA 55 Y 61
A13: 45941 | J13: =+H13/8 -> 0 | K13: =+I13/8 -> 0
A14: 45942 | J14: =+H14/8 -> 0 | K14: =+I14/8 -> 0
A15: 45943 | J15: =+H15/8 -> 0 | K15: =+I15/8 -> 0
A16: 45944 | C16: 2 | J16: =+H16/8 -> 0 | K16: =+I16/8 -> 0 | L16: GAVETA 66 Y 72
A17: 45945 | C17: 1 | J17: =+H17/8 -> 0 | K17: =+I17/8 -> 0 | L17: GAVETA 71 UNIFICACION APELLIDO LOPEZ Y APELLIDO GARZON
A18: 45946 | C18: 2 | J18: =+H18/8 -> 0 | K18: =+I18/8 -> 0 | L18: GAVETA 79 Y 83
A19: 45947 | C19: 2 | J19: =+H19/8 -> 0 | K19: =+I19/8 -> 0 | L19: GAVETA 84 Y 88
A20: 45948 | J20: =+H20/8 -> 0 | K20: =+I20/8 -> 0
A21: 45949 | J21: =+H21/8 -> 0 | K21: =+I21/8 -> 0
A22: 45950 | I22: 8 | J22: =+H22/8 -> 0 | K22: =+I22/8 -> 1 | L22: NO ASISTIO SE REALIZA SEGUIMIENTO CON CORTE AL 20/10/2025 EVIDENCIANDO QUE PRESENTA UN SALDO PENDIENTE DE 1 DIA DE PRODUCCION
A23: 45951 | C23: 2 | J23: =+H23/8 -> 0 | K23: =+I23/8 -> 0 | L23: GAVETA 95-99
A24: 45952 | C24: 2 | J24: =+H24/8 -> 0 | K24: =+I24/8 -> 0 | L24: GAVETA 102-106
A25: 45953 | C25: 2 | J25: =+H25/8 -> 0 | K25: =+I25/8 -> 0 | L25: GAVETA 108-109
A26: 45954 | C26: 2 | J26: =+H26/8 -> 0 | K26: =+I26/8 -> 0 | L26: GAVETA 112 Y 1 DE HL
A27: 45955 | J27: =+H27/8 -> 0 | K27: =+I27/8 -> 0
A28: 45956 | J28: =+H28/8 -> 0 | K28: =+I28/8 -> 0
A29: 45957 | C29: 3 | J29: =+H29/8 -> 0 | K29: =+I29/8 -> 0 | L29: GAVETA 118-121-125
A30: 45958 | C30: 3 | J30: =+H30/8 -> 0 | K30: =+I30/8 -> 0 | L30: GAVETA 133 Y 11-3 HL AL DÌA HASTA EL 28/10
A31: 45959 | J31: =+H31/8 -> 0 | K31: =+I31/8 -> 0
A32: 45960 | J32: =+H32/8 -> 0 | K32: =+I32/8 -> 0
A33: 45961 | J33: =+H33/8 -> 0 | K33: =+I33/8 -> 0
A34: 45962 | J34: =+H34/8 -> 0 | K34: =+I34/8 -> 0
A35: 45963 | J35: =+H35/8 -> 0 | K35: =+I35/8 -> 0
A36: 45964 | J36: =+H36/8 -> 0 | K36: =+I36/8 -> 0
A37: 45965 | J37: =+H37/8 -> 0 | K37: =+I37/8 -> 0
A38: 45966 | J38: =+H38/8 -> 0 | K38: =+I38/8 -> 0
A39: 45967 | J39: =+H39/8 -> 0 | K39: =+I39/8 -> 0
A40: 45968 | J40: =+H40/8 -> 0 | K40: =+I40/8 -> 0
A41: 45969 | J41: =+H41/8 -> 0 | K41: =+I41/8 -> 0
A42: 45970 | J42: =+H42/8 -> 0 | K42: =+I42/8 -> 0
... A94: 46022 | J94: =+H94/8 -> 0 | K94: =+I94/8 -> 0
J95: =+H95/8 -> 0 | K95: =+I95/8 -> 0
J96: =+H96/8 -> 0 | K96: =+I96/8 -> 0
J97: =+H97/8 -> 0 | K97: =+I97/8 -> 0
J98: =+H98/8 -> 0 | K98: =+I98/8 -> 0
