Workbook

Sheet DATOS CONSOLIDADOS
A1: TÉCNICO | B1: FECHA | C1: ORDENACIÓN ALFABÉTICA KARDEX | D1: C.C.ORDENACIÓN ALFABÉTICA KARDEX | E1: REGISTOS FUID KARDEX | F1: C.C.REGISTOS FUID KARDEX | G1: ACTUALIZACIÓN FUID CARPETAS | H1: CC ACTUALIZACIÓN FUID CARPETAS | I1: OTRAS ACTIVIDADES (HORAS) | J1: NO ASISTIÓ (HORAS) | K1: OTRAS ACTIVIDADES (DÍAS) | L1: NO ASISTIÓ (DÍAS) | M1: OBSERVACIONES
A2: DANIELA DUARTE TRIANA | B2: {=+'DANIELA DUARTE TRIANA'!A5:L119} -> 45908 | C2: 0 | D2: 0 | E2: 0 | F2: 0 | G2: 0 | H2: 0 | I2: 8 | J2: 0 | K2: 1 | L2: 0 | M2: Revisión de ajustes FAC MinDef 1 Alistamiento logístico espacio de trabajo Asistencia reunión elaboración Ficha Técnica
A3: DANIELA DUARTE TRIANA | B3: 45909 | C3: 0 | D3: 0 | E3: 0 | F3: 0 | G3: 0 | H3: 0 | I3: 8 | J3: 0 | K3: 1 | L3: 0 | M3: Traslado gavetas Kardex para diagnóstico de inventario y tiempo.
A4: DANIELA DUARTE TRIANA | B4: 45910 | C4: 0 | D4: 0 | E4: 0 | F4: 0 | G4: 0 | H4: 0 | I4: 8 | J4: 0 | K4: 1 | L4: 0 | M4: Ajustes HC MinDef 1 trabajo en casa debido a falta de red en la sede MinDef
A5: DANIELA DUARTE TRIANA | B5: 45911 | C5: 0 | D5: 0 | E5: 0 | F5: 0 | G5: 0 | H5: 0 | I5: 8 | J5: 0 | K5: 1 | L5: 0 | M5: Ejercicio de ordenación alfabética tarjetas Kardex. Prueba metodología
A6: DANIELA DUARTE TRIANA | B6: 45912 | C6: 0 | D6: 0 | E6: 0 | F6: 0 | G6: 0 | H6: 0 | I6: 8 | J6: 0 | K6: 1 | L6: 0 | M6: Ejercicio de ordenación alfabética tarjetas Kardex. Prueba metodología SE ENCUENTRA AL DIA AL 12-09-2025
A7: DANIELA DUARTE TRIANA | B7: 45913 | C7: 0 | D7: 0 | E7: 0 | F7: 0 | G7: 0 | H7: 0 | I7: 0 | J7: 0 | K7: 0 | L7: 0 | M7: 0
A8: DANIELA DUARTE TRIANA | B8: 45914 | C8: 0 | D8: 0 | E8: 0 | F8: 0 | G8: 0 | H8: 0 | I8: 0 | J8: 0 | K8: 0 | L8: 0 | M8: 0
A9: DANIELA DUARTE TRIANA | B9: 45915 | C9: 0 | D9: 0 | E9: 0 | F9: 0 | G9: 0 | H9: 0 | I9: 8 | J9: 0 | K9: 1 | L9: 0 | M9: Reuniòn AGN Subdirecciòn
A10: DANIELA DUARTE TRIANA | B10: 45916 | C10: 1 | D10: 0 | E10: 0 | F10: 0 | G10: 0 | H10: 0 | I10: 8 | J10: 0 | K10: 1 | L10: 0 | M10: Gaveta 5
A11: DANIELA DUARTE TRIANA | B11: 45917 | C11: 1 | D11: 0 | E11: 0 | F11: 0 | G11: 0 | H11: 0 | I11: 8 | J11: 0 | K11: 1 | L11: 0 | M11: Gaveta 21
A12: DANIELA DUARTE TRIANA | B12: 45918 | C12: 1 | D12: 0 | E12: 0 | F12: 0 | G12: 0 | H12: 0 | I12: 8 | J12: 0 | K12: 1 | L12: 0 | M12: Apoyo logìstico MinDef (Rotulaciòn) Gaveta 22
A13: DANIELA DUARTE TRIANA | B13: 45919 | C13: 0 | D13: 0 | E13: 0 | F13: 0 | G13: 0 | H13: 0 | I13: 8 | J13: 0 | K13: 1 | L13: 0 | M13: Apoyo logìstico MinDef (Rotulaciòn)
A14: DANIELA DUARTE TRIANA | B14: 45920 | C14: 0 | D14: 0 | E14: 0 | F14: 0 | G14: 0 | H14: 0 | I14: 0 | J14: 0 | K14: 0 | L14: 0 | M14: 0
A15: DANIELA DUARTE TRIANA | B15: 45921 | C15: 0 | D15: 0 | E15: 0 | F15: 0 | G15: 0 | H15: 0 | I15: 0 | J15: 0 | K15: 0 | L15: 0 | M15: 0
A16: DANIELA DUARTE TRIANA | B16: 45922 | C16: 1 | D16: 0 | E16: 0 | F16: 0 | G16: 0 | H16: 0 | I16: 8 | J16: 0 | K16: 1 | L16: 0 | M16: Gaveta 35
A17: DANIELA DUARTE TRIANA | B17: 45923 | C17: 1 | D17: 0 | E17: 0 | F17: 0 | G17: 0 | H17: 0 | I17: 8 | J17: 0 | K17: 1 | L17: 0 | M17: Apoyo calidad Ordenaciòn Gaveta 36 SE ENCUENTRA AL DIA AL 23/09/2025
A18: DANIELA DUARTE TRIANA | B18: 45924 | C18: 0 | D18: 0 | E18: 54 | F18: 0 | G18: 0 | H18: 0 | I18: 8 | J18: 0 | K18: 1 | L18: 0 | M18: REUNIÓN GRUPO SUBDIRECCÓN CONTROL CALIDAD ORDENACÓN KARDEX UNIFICACIÓN GAVETAS FUID KARDEX
A19: DANIELA DUARTE TRIANA | B19: 45925 | C19: 0 | D19: 0 | E19: 270 | F19: 0 | G19: 0 | H19: 0 | I19: 0 | J19: 0 | K19: 0 | L19: 0 | M19: FUID KARDEX
A20: DANIELA DUARTE TRIANA | B20: 45926 | C20: 0 | D20: 0 | E20: 202 | F20: 0 | G20: 0 | H20: 0 | I20: 0 | J20: 0 | K20: 0 | L20: 0 | M20: REUNIÓN GRUPO SUBDIRECCÓN CONTROL CALIDAD ORDENACÓN KARDEX UNIFICACIÓN GAVETAS FUID KARDEX
A21: DANIELA DUARTE TRIANA | B21: 45927 | C21: 0 | D21: 0 | E21: 0 | F21: 0 | G21: 0 | H21: 0 | I21: 0 | J21: 0 | K21: 0 | L21: 0 | M21: 0
A22: DANIELA DUARTE TRIANA | B22: 45928 | C22: 0 | D22: 0 | E22: 0 | F22: 0 | G22: 0 | H22: 0 | I22: 0 | J22: 0 | K22: 0 | L22: 0 | M22: 0
A23: DANIELA DUARTE TRIANA | B23: 45929 | C23: 0 | D23: 0 | E23: 0 | F23: 0 | G23: 0 | H23: 0 | I23: 0 | J23: 8 | K23: 0 | L23: 1 | M23: 0
A24: DANIELA DUARTE TRIANA | B24: 45930 | C24: 0 | D24: 0 | E24: 280 | F24: 0 | G24: 0 | H24: 0 | I24: 0 | J24: 0 | K24: 0 | L24: 0 | M24: FUID KARDEX
A25: DANIELA DUARTE TRIANA | B25: 45931 | C25: 0 | D25: 0 | E25: 100 | F25: 0 | G25: 0 | H25: 0 | I25: 0 | J25: 0 | K25: 0 | L25: 0 | M25: REUNIÓN GRUPO DE TRABAJO FUID KARDEZX APOYO CALIDAD ORDENACIÓN UNIFICACIÓN GAVETAS APELLIDOS
A26: DANIELA DUARTE TRIANA | B26: 45932 | C26: 0 | D26: 0 | E26: 200 | F26: 0 | G26: 0 | H26: 0 | I26: 0 | J26: 0 | K26: 0 | L26: 0 | M26: REUNIÓN GRUPO DE TRABAJO FUID KARDEZX APOYO CALIDAD ORDENACIÓN UNIFICACIÓN GAVETAS APELLIDOS
A27: DANIELA DUARTE TRIANA | B27: 45933 | C27: 0 | D27: 0 | E27: 300 | F27: 0 | G27: 0 | H27: 0 | I27: 0 | J27: 0 | K27: 0 | L27: 0 | M27: FUID KARDEX
A28: DANIELA DUARTE TRIANA | B28: 45934 | C28: 0 | D28: 0 | E28: 0 | F28: 0 | G28: 0 | H28: 0 | I28: 0 | J28: 0 | K28: 0 | L28: 0 | M28: 0
A29: DANIELA DUARTE TRIANA | B29: 45935 | C29: 0 | D29: 0 | E29: 0 | F29: 0 | G29: 0 | H29: 0 | I29: 0 | J29: 0 | K29: 0 | L29: 0 | M29: 0
A30: DANIELA DUARTE TRIANA | B30: 45936 | C30: 0 | D30: 0 | E30: 0 | F30: 0 | G30: 0 | H30: 0 | I30: 8 | J30: 0 | K30: 1 | L30: 0 | M30: INDUCCIÓN A TÉCNICOS NUEVOS
A31: DANIELA DUARTE TRIANA | B31: 45937 | C31: 0 | D31: 0 | E31: 0 | F31: 0 | G31: 0 | H31: 0 | I31: 8 | J31: 0 | K31: 1 | L31: 0 | M31: INDUCCIÓN A TÉCNICOS NUEVOS APOYO CALIDAD ORDENACIÓN UNIFICACIÓN GAVETAS APELLIDOS
A32: DANIELA DUARTE TRIANA | B32: 45938 | C32: 0 | D32: 0 | E32: 303 | F32: 0 | G32: 0 | H32: 0 | I32: 0 | J32: 0 | K32: 0 | L32: 0 | M32: FUID KARDEX
A33: DANIELA DUARTE TRIANA | B33: 45939 | C33: 0 | D33: 0 | E33: 208 | F33: 0 | G33: 0 | H33: 0 | I33: 4 | J33: 0 | K33: 0.5 | L33: 0 | M33: INDUCCIÓN A TÉCNICOS NUEVOS APOYO CALIDAD ORDENACIÓN UNIFICACIÓN GAVETAS APELLIDOS
A34: DANIELA DUARTE TRIANA | B34: 45940 | C34: 0 | D34: 0 | E34: 111 | F34: 0 | G34: 0 | H34: 0 | I34: 6 | J34: 0 | K34: 0.75 | L34: 0 | M34: INDUCCIÓN A TÉCNICOS NUEVOS APOYO CALIDAD ORDENACIÓN UNIFICACIÓN GAVETAS APELLIDOS
A35: DANIELA DUARTE TRIANA | B35: 45941 | C35: 0 | D35: 0 | E35: 0 | F35: 0 | G35: 0 | H35: 0 | I35: 0 | J35: 0 | K35: 0 | L35: 0 | M35: 0
A36: DANIELA DUARTE TRIANA | B36: 45942 | C36: 0 | D36: 0 | E36: 0 | F36: 0 | G36: 0 | H36: 0 | I36: 0 | J36: 0 | K36: 0 | L36: 0 | M36: 0
A37: DANIELA DUARTE TRIANA | B37: 45943 | C37: 0 | D37: 0 | E37: 0 | F37: 0 | G37: 0 | H37: 0 | I37: 8 | J37: 0 | K37: 1 | L37: 0 | M37: INDUCCIÓN A TÉCNICOS NUEVOS APOYO CALIDAD ORDENACIÓN UNIFICACIÓN GAVETAS APELLIDOS
A38: DANIELA DUARTE TRIANA | B38: 45944 | C38: 0 | D38: 0 | E38: 0 | F38: 0 | G38: 0 | H38: 0 | I38: 8 | J38: 0 | K38: 1 | L38: 0 | M38: INDUCCIÓN A TÉCNICOS NUEVOS APOYO CALIDAD ORDENACIÓN REUNIÓN GRUPO DE TRABAJO APOYO CALIDAD ORDENACIÓN UNIFICACIÓN GAVETAS APELLIDOS
A39: DANIELA DUARTE TRIANA | B39: 45945 | C39: 0 | D39: 0 | E39: 0 | F39: 0 | G39: 0 | H39: 0 | I39: 8 | J39: 0 | K39: 1 | L39: 0 | M39: APOYO CALIDAD ORDENACIÓN UNIFICACIÓN GAVETAS APELLIDOS PRUEBAS FUID CARPETAS
A40: DANIELA DUARTE TRIANA | B40: 45946 | C40: 0 | D40: 0 | E40: 0 | F40: 0 | G40: 0 | H40: 0 | I40: 8 | J40: 0 | K40: 1 | L40: 0 | M40: APOYO CALIDAD ORDENACIÓN UNIFICACIÓN GAVETAS APELLIDOS PRUEBAS FUID CARPETAS
...

Sheet RESUMEN GENERAL
A1: FECHA | B1: (Todas)
A3: Técnico | B3: Suma de REGISTOS FUID KARDEX | C3: Suma de C.C.REGISTOS FUID KARDEX | D3: Suma de ACTUALIZACIÓN FUID CARPETAS | E3: Suma de C.C.ORDENACIÓN ALFABÉTICA KARDEX | F3: Suma de ORDENACIÓN ALFABÉTICA KARDEX | G3: OTRAS ACTIV. (DÍAS) | H3: AUSENCIAS (DÍAS) | I3: Suma de CC ACTUALIZACIÓN FUID CARPETAS
A4: DANIELA DUARTE TRIANA | B4: 2028 | C4: 0 | D4: 571 | E4: 0 | F4: 5 | G4: 24.25 | H4: 2 | I4: 0
A5: IBETH ANDREA ROZO GOMEZ | B5: 5926 | C5: 0 | D5: 0 | E5: 0 | F5: 11 | G5: 4 | H5: 1 | I5: 0
A6: INGRID TATIANA PUENTES MOLINA | B6: 2396 | C6: 3029 | D6: 0 | E6: 7 | F6: 9 | G6: 4 | H6: 1 | I6: 0
A7: JULIETH NATALY ROMERO BOJACA | B7: 0 | C7: 0 | D7: 0 | E7: 0 | F7: 0 | G7: 0 | H7: 0 | I7: 0
A8: YENIFER DAYANA PEÑA VALBUENA | B8: 0 | C8: 0 | D8: 0 | E8: 0 | F8: 0 | G8: 0 | H8: 0 | I8: 0
A9: SANDRA PATRICIA BARRETO SANCHE | B9: 0 | C9: 0 | D9: 0 | E9: 42 | F9: 2 | G9: 31.5 | H9: 1 | I9: 0
A10: LILIANA ANDREA RODRIGUEZ PINEDA | B10: 1322 | C10: 0 | D10: 0 | E10: 49 | F10: 12 | G10: 6 | H10: 0 | I10: 0
A11: LUIS ALCIDES ARIZA LAITON | B11: 5525 | C11: 0 | D11: 308 | E11: 0 | F11: 2 | G11: 5 | H11: 0 | I11: 0
A12: ANDRES FELIPE MAYORGA JAIMES | B12: 1708 | C12: 0 | D12: 0 | E12: 0 | F12: 8 | G12: 0 | H12: 0 | I12: 0
A13: BRYAN ANTONIO MEJIA | B13: 2439 | C13: 0 | D13: 0 | E13: 0 | F13: 0 | G13: 0 | H13: 1 | I13: 3850.8
A14: DIANA CAROLINA RAMOS CASTAÑEDA | B14: 2644 | C14: 0 | D14: 0 | E14: 0 | F14: 9 | G14: 0 | H14: 85.375 | I14: 0
A15: LAURA VANESSA BEJARANO GARCIA | B15: 2846 | C15: 3378 | D15: 3779 | E15: 0 | F15: 0 | G15: 18 | H15: 0 | I15: 3378
... A47: Total general | B47: 84170 | C47: 12917.023 | D47: 11598 | E47: 183 | F47: 125 | G47: 407.38942 | H47: 137.17885 | I47: 10797.8

Sheet ORDENACIÓN
A2: TÉCNICO | B2: Suma de ORDENACIÓN ALFABÉTICA KARDEX
A3: INGRID TATIANA PUENTES MOLINA | B3: 9
A4: DANIELA DUARTE TRIANA | B4: 5
A5: JULIETH NATALY ROMERO BOJACA | B5: 0
A6: IBETH ANDREA ROZO GOMEZ | B6: 11
A7: YENIFER DAYANA PEÑA VALBUENA | B7: 0
A8: SANDRA PATRICIA BARRETO SANCHE | B8: 2
A9: LILIANA ANDREA RODRIGUEZ PINEDA | B9: 12
A10: LUIS ALCIDES ARIZA LAITON | B10: 2
A11: ANDRES FELIPE MAYORGA JAIMES | B11: 8
A12: BRYAN ANTONIO MEJIA | B12: 0
A13: DIANA CAROLINA RAMOS CASTAÑEDA | B13: 9
A14: LAURA VANESSA BEJARANO GARCIA | B14: 0
... A46: Total general | B46: 125

Sheet CC ORDENACIÓN
A2: TÉCNICO | B2: Suma de C.C.ORDENACIÓN ALFABÉTICA KARDEX
A3: DANIELA DUARTE TRIANA | B3: 0
A4: IBETH ANDREA ROZO GOMEZ | B4: 0
A5: INGRID TATIANA PUENTES MOLINA | B5: 7
A6: JULIETH NATALY ROMERO BOJACA | B6: 0
A7: YENIFER DAYANA PEÑA VALBUENA | B7: 0
A8: SANDRA PATRICIA BARRETO SANCHE | B8: 42
A9: LILIANA ANDREA RODRIGUEZ PINEDA | B9: 49
A10: LUIS ALCIDES ARIZA LAITON | B10: 0
A11: ANDRES FELIPE MAYORGA JAIMES | B11: 0
A12: BRYAN ANTONIO MEJIA | B12: 0
A13: DIANA CAROLINA RAMOS CASTAÑEDA | B13: 0
A14: LAURA VANESSA BEJARANO GARCIA | B14: 0
... A46: Total general | B46: 183

Sheet FUID KARDEX
A2: TÉCNICO | B2: Suma de REGISTOS FUID KARDEX
A3: INGRID TATIANA PUENTES MOLINA | B3: 2396
A4: DANIELA DUARTE TRIANA | B4: 2028
A5: JULIETH NATALY ROMERO BOJACA | B5: 0
A6: IBETH ANDREA ROZO GOMEZ | B6: 5926
A7: YENIFER DAYANA PEÑA VALBUENA | B7: 0
A8: SANDRA PATRICIA BARRETO SANCHE | B8: 0
A9: LILIANA ANDREA RODRIGUEZ PINEDA | B9: 1322
A10: LUIS ALCIDES ARIZA LAITON | B10: 5525
A11: ANDRES FELIPE MAYORGA JAIMES | B11: 1708
A12: BRYAN ANTONIO MEJIA | B12: 2439
A13: DIANA CAROLINA RAMOS CASTAÑEDA | B13: 2644
A14: LAURA VANESSA BEJARANO GARCIA | B14: 2846
... A46: Total general | B46: 84170

Sheet CC FUID KARDEX
A2: TÉCNICO | B2: Suma de C.C.REGISTOS FUID KARDEX
A3: INGRID TATIANA PUENTES MOLINA | B3: 3029
A4: DANIELA DUARTE TRIANA | B4: 0
A5: JULIETH NATALY ROMERO BOJACA | B5: 0
A6: IBETH ANDREA ROZO GOMEZ | B6: 0
A7: YENIFER DAYANA PEÑA VALBUENA | B7: 0
A8: SANDRA PATRICIA BARRETO SANCHE | B8: 0
A9: LILIANA ANDREA RODRIGUEZ PINEDA | B9: 0
A10: LUIS ALCIDES ARIZA LAITON | B10: 0
A11: ANDRES FELIPE MAYORGA JAIMES | B11: 0
A12: BRYAN ANTONIO MEJIA | B12: 0
A13: DIANA CAROLINA RAMOS CASTAÑEDA | B13: 0
A14: LAURA VANESSA BEJARANO GARCIA | B14: 3378
... A46: Total general | B46: 12917.023

Sheet OTRAS ACTIVIDADES
A1: FECHA | B1: (Todas)
A3: TÉCNICO | B3: TOTAL OTRAS ACTIVIDADES (DÍAS)
A4: LILIANA MENDOZA | B4: 144
A5: SANDRA PATRICIA BARRETO SANCHE | B5: 31.5
A6: DANIELA DUARTE TRIANA | B6: 24.25
A7: LAURA VANESSA BEJARANO GARCIA | B7: 18
A8: CAROL MARTINEZ | B8: 7
A9: LILIANA ANDREA RODRIGUEZ PINEDA | B9: 6
A10: LUIS ALCIDES ARIZA LAITON | B10: 5
A11: INGRID TATIANA PUENTES MOLINA | B11: 4
A12: IBETH ANDREA ROZO GOMEZ | B12: 4
A13: GUILLERMO RODRIGUEZ | B13: 1
A14: IGNACIO BERMUDEZ | B14: 0.13942308
A15: MARY LUZ PARRA | B15: 0
... A47: Total general | B47: 244.88942

Sheet DETALLADO TECNICO-PROCESO
A1: TÉCNICO | B1: (Todas)
A2: FECHA | B2: (Todas)
A4: Valores
A5: Suma de ORDENACIÓN ALFABÉTICA KARDEX | B5: 125
A6: Suma de C.C.ORDENACIÓN ALFABÉTICA KARDEX | B6: 183
A7: Suma de REGISTOS FUID KARDEX | B7: 84170
A8: Suma de C.C.REGISTOS FUID KARDEX | B8: 12917.023
A9: Suma de ACTUALIZACIÓN FUID CARPETAS | B9: 11598
A10: Suma de CC ACTUALIZACIÓN FUID CARPETAS | B10: 10797.8

Sheet AUSENTISMO
A1: FECHA | B1: (Todas)
A3: TÉCNICO | B3: AUSENCIAS (DÍAS)
A4: MAYRA CASTILLO | B4: 3
A5: DANIELA DUARTE TRIANA | B5: 2
A6: DIANA CAROLINA RAMOS CASTAÑEDA | B6: 1
A7: INGRID TATIANA PUENTES MOLINA | B7: 1
A8: IBETH ANDREA ROZO GOMEZ | B8: 1
A9: LILIANA PINILLA | B9: 1
A10: SANDRA PATRICIA BARRETO SANCHE | B10: 1
A11: BRYAN ANTONIO MEJIA | B11: 1
A12: ANA MILENA ROMERO | B12: 1
A13: LILIANA MENDOZA | B13: 0.55384615
A14: JULIETH NATALY ROMERO BOJACA | B14: 0
A15: YENIFER DAYANA PEÑA VALBUENA | B15: 0
... A47: Total general | B47: 12.553846

Sheet CONS. CUMPLIM METAS
A1: CONSOLIDADO SEGUIMIENTO METAS DE PRODUCCION PROYECTO MINDEFENSA
A3: Convenciones
B4: Estado crìtico de incumplimiento en metas de producciòn
B5: Al dìa en metas de producciòn
B6: Saldo a favor
C8: 1 | D8: 2 | E8: 3 | F8: 4 | G8: 5 | H8: 6 | I8: 7 | J8: 8 | K8: 9 | L8: 10 | M8: 11 | N8: 12 | O8: 13 | P8: 14 | Q8: 15 | R8: 16 | S8: 17 | T8: 18 | U8: 19 | V8: 20 | W8: 21 | X8: 22 | Y8: 23 | Z8: 24 | AA8: 25 | AB8: 26 | AC8: 27 | AD8: 28 | AE8: 29 | AF8: 30 | AG8: 31 | AH8: 32 | AI8: 33 | AJ8: 34 | AK8: 35 | AM8: 36 | AN8: 37 | AO8: 38 | AP8: 39 | AQ8: 40 | AR8: 41 | AS8: 42 | AT8: 43 | AU8: 44
A9: FECHA SEGUIMIENTO | B9: FECHA DE CORTE | C9: DIANA RAMOS | D9: BRYAN MEJIA | E9: LAURA BEJARANO | F9: JEIMY CORTES | G9: SANDY CARREÑO | H9: ANDREA RINCON | I9: LILIANA PINILLA | J9: LILIANA MENDOZA | K9: DENIS SOLARTE | L9: LUISA ESCOBAR | M9: MAYRA CASTILLO | N9: LILIANA ZARATE | O9: DIANA CARRILLO | P9: LEIDY GONZALEZ | Q9: OSCAR VALENCIA | R9: ANDREA ROZO | S9: IGNACIO BERMUDEZ | T9: CAROL MARTINEZ | U9: CLAUDIA ALZATE | V9: MARY LUZ PARRA | W9: MARTHA I MENDOZA | X9: JHON CACERES | Y9: PEDRO SALAS | Z9: FELIPE MAYORGA | AA9: LUIS ARIZA | AB9: ANGELICA ORTIZ | AC9: ORLANDO MORALES | AD9: LILIANA RODRIGUEZ | AE9: GLORIA SANTANA | AF9: GUILLERMO RODRIGUEZ | AG9: ANTONIA GIL | AH9: DIANA C ALVAREZ | AI9: KAREN ROMERO | AJ9: SANDRA BARRETO | AK9: DANIELA DUARTE | AL9: TATIANA PUENTES | AM9: YOMARA BOHORQUEZ | AN9: ERIKA CASALLAS | AO9: ANA MILENA ROMERO | AP9: MARTHA BLANCO | AQ9: VIVIANA ANGARITA | AR9: MARIA ALEIDA BARRERA | AS9: LEIDI V SUAREZ | AT9: LIZETH VELANDIA | AU9: INES BOSSIO
A10: 45939 | B10: 45938 | Z10: 6.68
A11: 45944 | B11: 45940 | C11: 0.4 | D11: 2.8 | E11: 1.9 | F11: 3.5 | G11: 3.7 | H11: 3 | I11: 4 | J11: 4.4. | K11: 3.2 | L11: 3.5
A12: 45672 | B12: 45944 | M12: 8.9 | N12: 7.5 | O12: 1
A13: 45946 | B13: 45945 | P13: 0 | Q13: 0.3 | R13: 1.02 | S13: 3.6 | T13: 5.4 | U13: 8 | V13: 8.2 | W13: 1.5 | X13: 2.5 | Y13: 1 | Z13: 8.7 | AA13: 3.7
A14: 45947 | B14: 45946 | J14: 6.7 | AB14: 12 | AC14: 1 | AD14: 0 | AE14: 4.2 | AF14: 2.8 | AG14: 2.5 | AH14: 0.5 | AI14: 2
A15: 45951 | B15: 45950 | AJ15: 0 | AL15: 0 | AM15: 5.5 | AN15: 0 | AO15: 1 | AP15: 0 | AQ15: 3
A17: 45957 | B17: 45954 | J17: 3.7 | M17: 10 | N17: 11.1 | T17: 5.7 | U17: 7 | X17: 1.6 | Z17: 6.4 | AB17: 11.6 | AC17: 1 | AE17: 3
A18: 45958 | B18: 45954 | F18: 2.5 | H18: 1 | R18: 0 | S18: 3.5 | V18: 7.4 | AA18: 0.4 | AD18: 0 | AK18: 0 | AL18: 0 | AM18: 8.7
A19: 45959 | B19: 45954 | C19: 0.8 | E19: 2.3 | G19: 3.1 | K19: 0 | L19: 1 | O19: 4.78 | AH19: 0 | AI19: 0 | AJ19: 0 | AO19: 0
A20: 45961 | B20: 45954 | D20: 2.7 | P20: 0 | Q20: 0 | Z20: 1.4 | AF20: 1.7 | AN20: 0.8 | AP20: 0.5 | AQ20: 0 | AR20: 2.5 | AS20: 0 | AT20: 0
A21: 45966 | B21: 45954 | AG21: 0.3 | AU21: 0
A22: 45967 | B22: 45954 | U22: 2
A70: FECHA SEGUIMIENTO | B70: 45939 | C70: 45944 | D70: 45672 | E70: 45946 | F70: 45947 | G70: 45951 | I70: 45957 | J70: 45958 | K70: 45958 | L70: 45958 | M70: 45958 | N70: 45958 | O70: 45958 | P70: 45958 | Q70: 45594 | R70: 45594 | S70: 45594 | T70: 45594
A71: FECHA DE CORTE | B71: 45938 | C71: 45940 | D71: 45944 | E71: 45945 | F71: 45946 | G71: 45950 | I71: 45954 | J71: 45954 | K71: 45954 | L71: 45954 | M71: 45954 | N71: 45954 | O71: 45954 | P71: 45954 | Q71: 45954 | R71: 45954 | S71: 45954 | T71: 45954
A72: DIANA RAMOS | C72: 0.4 | R72: 0.8
A73: BRYAN MEJIA | C73: 2.8
A74: LAURA BEJARANO | C74: 1.9 | R74: 2.3
A75: JEIMY CORTES | C75: 3.5 | J75: 2.5
A76: SANDY CARREÑO | C76: 3.7
A77: ANDREA RINCON | C77: 3 | J77: 1
A78: LILIANA PINILLA | C78: 4
A79: LILIANA MENDOZA | C79: 4.4. | F79: 6.7 | I79: 3.7
A80: DENIS SOLARTE | C80: 3.2
A81: LUISA ESCOBAR | C81: 3.5
A82: MAYRA CASTILLO | D82: 8.9 | I82: 10
A83: LILIANA ZARATE | D83: 7.5 | I83: 11.1
A84: DIANA CARRILLO | D84: 1 | S84: 4.78
A85: LEIDY GONZALEZ | E85: 0
A86: OSCAR VALENCIA | E86: 0.3
A87: ANDREA ROZO | E87: 1.02 | N87: 0
A88: IGNACIO BERMUDEZ | E88: 3.6 | J88: 3.5
A89: CAROL MARTINEZ | E89: 5.4 | I89: 5.7
A90: CLAUDIA ALZATE | E90: 8 | I90: 7
...

Sheet INGRID TATIANA PUENTES MOLINA
A1: MINISTERIO DE DEFENSA 2.0
A2: REGISTRO DIARIO DE PRODUCCIÓN - 2025
A3: INGRID TATIANA PUENTES MOLINA
A4: FECHA | B4: ORDENACIÓN ALFABÉTICA KARDEX | C4: C.C.ORDENACIÓN ALFABÉTICA KARDEX | D4: REGISTOS FUID KARDEX | E4: C.C.REGISTOS FUID KARDEX | F4: ACTUALIZACIÓN FUID CARPETAS | G4: CC ACTUALIZACIÓN FUID CARPETAS | H4: OTRAS ACTIVIDADES (HORAS) | I4: NO ASISTIÓ (HORAS) | J4: OTRAS ACTIVIDADES (DÍAS) | K4: NO ASISTIÓ (DÍAS) | L4: OBSERVACIONES
A5: 45908 | H5: 8 | J5: =+H5/8 -> 1 | L5: Apoyo logístico de instalaciones y adecuación de espacios, revisión de equipos portátiles
A6: 45909 | I6: 8 | J6: =+H6/8 -> 0 | K6: =+I6/8 -> 1 | L6: NO ASISTIO | M6: Compensatorio MidDef 1
A7: 45910 | H7: 8 | J7: =+H7/8 -> 1 | L7: Prueba metodología ordenación Sistema Alfabético Kardex
A8: 45911 | H8: 8 | J8: =+H8/8 -> 1 | L8: Apoyo logístico Entrega de Cajas MinDef 1 - Prueba metodología ordenación Sistema Alfabético Kardex
A9: 45912 | H9: 8 | J9: =+H9/8 -> 1 | L9: Prueba metodología ordenación Sistema Alfabético Kardex traslado de documentación Kardex a lugar de trabajo SE ENCUENTRA AL DIA AL 12 -09-2025
A10: 45913 | J10: =+H10/8 -> 0 | K10: =+I10/8 -> 0
A11: 45914 | J11: =+H11/8 -> 0 | K11: =+I11/8 -> 0
A12: 45915 | B12: 2 | J12: =+H12/8 -> 0 | K12: =+I12/8 -> 0 | L12: Gavetas 3 y 8
A13: 45916 | J13: =+H13/8 -> 0 | K13: =+I13/8 -> 0
A14: 45917 | J14: =+H14/8 -> 0 | K14: =+I14/8 -> 0
A15: 45918 | B15: 3 | J15: =+H15/8 -> 0 | K15: =+I15/8 -> 0 | L15: Gavetas 11, 12 y 13
A16: 45919 | J16: =+H16/8 -> 0 | K16: =+I16/8 -> 0
A17: 45920 | J17: =+H17/8 -> 0 | K17: =+I17/8 -> 0
A18: 45921 | J18: =+H18/8 -> 0 | K18: =+I18/8 -> 0
A19: 45922 | B19: 3 | J19: =+H19/8 -> 0 | K19: =+I19/8 -> 0 | L19: Gavetas 26, 27 y 28
A20: 45923 | B20: 1 | J20: =+H20/8 -> 0 | K20: =+I20/8 -> 0 | L20: Gaveta 42 SE ENCUENTRA AL DIA AL 23 DE SEPTIEMBRE
A21: 45924 | D21: 50 | J21: =+H21/8 -> 0 | K21: =+I21/8 -> 0 | L21: Gaveta 2
A22: 45925 | J22: =+H22/8 -> 0 | K22: =+I22/8 -> 0 | L22: SE ENCUENTRA AL DÌA AL 25 DE SEPTIEMBRE
A23: 45926 | D23: 202 | J23: =+H23/8 -> 0 | K23: =+I23/8 -> 0 | L23: GAVETA 2
A24: 45927 | K24: =+I24/8 -> 0
A25: 45928 | K25: =+I25/8 -> 0
A26: 45929 | D26: 216 | K26: =+I26/8 -> 0 | L26: GAVETA 2
A27: 45930 | D27: 210 | K27: =+I27/8 -> 0 | L27: GAVETA 10
A28: 45931 | D28: 220 | K28: =+I28/8 -> 0 | L28: GAVETA 10
A29: 45932 | D29: 546 | K29: =+I29/8 -> 0 | L29: GAVETA 10 Y 23
A30: 45933 | D30: 295 | K30: =+I30/8 -> 0 | L30: GAVETA 23
A31: 45934 | J31: =+H31/8 -> 0 | K31: =+I31/8 -> 0
A32: 45935 | J32: =+H32/8 -> 0 | K32: =+I32/8 -> 0
A33: 45936 | D33: 270 | J33: =+H33/8 -> 0 | K33: =+I33/8 -> 0 | L33: GAVETA 23
A34: 45937 | D34: 260 | J34: =+H34/8 -> 0 | K34: =+I34/8 -> 0 | L34: GAVETA 23
A35: 45938 | C35: 1 | D35: 127 | J35: =+H35/8 -> 0 | K35: =+I35/8 -> 0 | L35: GAVETA 23 PASA A CALIDAD DE ORDENACION GAVETA 43 UNIFICACION APELLIDO DIAZ
A36: 45939 | C36: 2 | J36: =+H36/8 -> 0 | K36: =+I36/8 -> 0 | L36: GAVETAS 49 Y 50
A37: 45940 | C37: 2 | J37: =+H37/8 -> 0 | K37: =+I37/8 -> 0 | L37: GAVETAS 59 Y 60
A38: 45941 | J38: =+H38/8 -> 0 | K38: =+I38/8 -> 0
A39: 45942 | J39: =+H39/8 -> 0 | K39: =+I39/8 -> 0
A40: 45943 | J40: =+H40/8 -> 0 | K40: =+I40/8 -> 0
...

Sheet DANIELA  DUARTE TRIANA
A1: MINISTERIO DE DEFENSA 2.0
A2: REGISTRO DIARIO DE PRODUCCIÓN - 2025
A3: DANIELA DUARTE TRIANA
A4: FECHA | B4: ORDENACIÓN ALFABÉTICA KARDEX | C4: C.C.ORDENACIÓN ALFABÉTICA KARDEX | D4: REGISTOS FUID KARDEX | E4: C.C.REGISTOS FUID KARDEX | F4: ACTUALIZACIÓN FUID CARPETAS | G4: CC ACTUALIZACIÓN FUID CARPETAS | H4: OTRAS ACTIVIDADES (HORAS) | I4: NO ASISTIÓ (HORAS) | J4: OTRAS ACTIVIDADES (DÍAS) | K4: NO ASISTIÓ (DÍAS) | L4: OBSERVACIONES
A5: 45908 | H5: 8 | J5: =+H5/8 -> 1 | K5: =+I5/8 -> 0 | L5: Revisión de ajustes FAC MinDef 1 Alistamiento logístico espacio de trabajo Asistencia reunión elaboración Ficha Técnica
A6: 45909 | H6: 8 | J6: =+H6/8 -> 1 | K6: =+I6/8 -> 0 | L6: Traslado gavetas Kardex para diagnóstico de inventario y tiempo.
A7: 45910 | H7: 8 | J7: =+H7/8 -> 1 | K7: =+I7/8 -> 0 | L7: Ajustes HC MinDef 1 trabajo en casa debido a falta de red en la sede MinDef
A8: 45911 | H8: 8 | J8: =+H8/8 -> 1 | K8: =+I8/8 -> 0 | L8: Ejercicio de ordenación alfabética tarjetas Kardex. Prueba metodología
A9: 45912 | H9: 8 | J9: =+H9/8 -> 1 | K9: =+I9/8 -> 0 | L9: Ejercicio de ordenación alfabética tarjetas Kardex. Prueba metodología SE ENCUENTRA AL DIA AL 12-09-2025
A10: 45913 | J10: =+H10/8 -> 0 | K10: =+I10/8 -> 0
A11: 45914 | J11: =+H11/8 -> 0 | K11: =+I11/8 -> 0
A12: 45915 | H12: 8 | J12: =+H12/8 -> 1 | K12: =+I12/8 -> 0 | L12: Reuniòn AGN Subdirecciòn
A13: 45916 | B13: 1 | H13: 8 | J13: =+H13/8 -> 1 | K13: =+I13/8 -> 0 | L13: Gaveta 5
A14: 45917 | B14: 1 | H14: 8 | J14: =+H14/8 -> 1 | K14: =+I14/8 -> 0 | L14: Gaveta 21
A15: 45918 | B15: 1 | H15: 8 | J15: =+H15/8 -> 1 | K15: =+I15/8 -> 0 | L15: Apoyo logìstico MinDef (Rotulaciòn) Gaveta 22
A16: 45919 | H16: 8 | J16: =+H16/8 -> 1 | K16: =+I16/8 -> 0 | L16: Apoyo logìstico MinDef (Rotulaciòn)
A17: 45920 | J17: =+H17/8 -> 0 | K17: =+I17/8 -> 0
A18: 45921 | J18: =+H18/8 -> 0 | K18: =+I18/8 -> 0
A19: 45922 | B19: 1 | H19: 8 | J19: =+H19/8 -> 1 | K19: =+I19/8 -> 0 | L19: Gaveta 35
A20: 45923 | B20: 1 | H20: 8 | J20: =+H20/8 -> 1 | K20: =+I20/8 -> 0 | L20: Apoyo calidad Ordenaciòn Gaveta 36 SE ENCUENTRA AL DIA AL 23/09/2025
A21: 45924 | D21: 54 | H21: 8 | J21: =+H21/8 -> 1 | K21: =+I21/8 -> 0 | L21: REUNIÓN GRUPO SUBDIRECCÓN CONTROL CALIDAD ORDENACÓN KARDEX UNIFICACIÓN GAVETAS FUID KARDEX
A22: 45925 | D22: 270 | J22: =+H22/8 -> 0 | K22: =+I22/8 -> 0 | L22: FUID KARDEX
A23: 45926 | D23: 202 | J23: =+H23/8 -> 0 | K23: =+I23/8 -> 0 | L23: REUNIÓN GRUPO SUBDIRECCÓN CONTROL CALIDAD ORDENACÓN KARDEX UNIFICACIÓN GAVETAS FUID KARDEX
A24: 45927 | J24: =+H24/8 -> 0 | K24: =+I24/8 -> 0
A25: 45928 | J25: =+H25/8 -> 0 | K25: =+I25/8 -> 0
A26: 45929 | I26: 8 | J26: =+H26/8 -> 0 | K26: =+I26/8 -> 1
A27: 45930 | D27: 280 | J27: =+H27/8 -> 0 | K27: =+I27/8 -> 0 | L27: FUID KARDEX
A28: 45931 | D28: 100 | J28: =+H28/8 -> 0 | K28: =+I28/8 -> 0 | L28: REUNIÓN GRUPO DE TRABAJO FUID KARDEZX APOYO CALIDAD ORDENACIÓN UNIFICACIÓN GAVETAS APELLIDOS
A29: 45932 | D29: 200 | J29: =+H29/8 -> 0 | K29: =+I29/8 -> 0 | L29: REUNIÓN GRUPO DE TRABAJO FUID KARDEZX APOYO CALIDAD ORDENACIÓN UNIFICACIÓN GAVETAS APELLIDOS
A30: 45933 | D30: 300 | J30: =+H30/8 -> 0 | K30: =+I30/8 -> 0 | L30: FUID KARDEX
A31: 45934 | J31: =+H31/8 -> 0 | K31: =+I31/8 -> 0
A32: 45935 | J32: =+H32/8 -> 0 | K32: =+I32/8 -> 0
A33: 45936 | H33: 8 | J33: =+H33/8 -> 1 | K33: =+I33/8 -> 0 | L33: INDUCCIÓN A TÉCNICOS NUEVOS
A34: 45937 | H34: 8 | J34: =+H34/8 -> 1 | K34: =+I34/8 -> 0 | L34: INDUCCIÓN A TÉCNICOS NUEVOS APOYO CALIDAD ORDENACIÓN UNIFICACIÓN GAVETAS APELLIDOS
A35: 45938 | D35: 303 | J35: =+H35/8 -> 0 | K35: =+I35/8 -> 0 | L35: FUID KARDEX
A36: 45939 | D36: 208 | H36: 4 | J36: =+H36/8 -> 0.5 | K36: =+I36/8 -> 0 | L36: INDUCCIÓN A TÉCNICOS NUEVOS APOYO CALIDAD ORDENACIÓN UNIFICACIÓN GAVETAS APELLIDOS
A37: 45940 | D37: 111 | H37: 6 | J37: =+H37/8 -> 0.75 | K37: =+I37/8 -> 0 | L37: INDUCCIÓN A TÉCNICOS NUEVOS APOYO CALIDAD ORDENACIÓN UNIFICACIÓN GAVETAS APELLIDOS
A38: 45941 | J38: =+H38/8 -> 0 | K38: =+I38/8 -> 0
A39: 45942 | J39: =+H39/8 -> 0 | K39: =+I39/8 -> 0
A40: 45943 | H40: 8 | J40: =+H40/8 -> 1 | K40: =+I40/8 -> 0 | L40: INDUCCIÓN A TÉCNICOS NUEVOS APOYO CALIDAD ORDENACIÓN UNIFICACIÓN GAVETAS APELLIDOS
...

Sheet SANDRA PATRICIA BARRETO SANCHE
A1: MINISTERIO DE DEFENSA 2.0
A2: REGISTRO DIARIO DE PRODUCCIÓN - 2025
A3: SANDRA PATRICIA BARRETO SANCHEZ
A4: FECHA | B4: ORDENACIÓN ALFABÉTICA KARDEX | C4: C.C.ORDENACIÓN ALFABÉTICA KARDEX | D4: REGISTOS FUID KARDEX | E4: C.C.REGISTOS FUID KARDEX | F4: ACTUALIZACIÓN FUID CARPETAS | G4: CC ACTUALIZACIÓN FUID CARPETAS | H4: OTRAS ACTIVIDADES (HORAS) | I4: NO ASISTIÓ (HORAS) | J4: OTRAS ACTIVIDADES (DÍAS) | K4: NO ASISTIÓ (DÍAS) | L4: OBSERVACIONES
A5: 45908 | H5: 8 | J5: =+H5/8 -> 1 | K5: =+I5/8 -> 0 | L5: Apoyo logístico, alistamiento de espacios, ´puestos y equipos de trabajo
A6: 45909 | H6: 8 | J6: =+H6/8 -> 1 | K6: =+I6/8 -> 0 | L6: Rececpión de tarjetas kardex Soldados, reconocimiento de la información, pruebas registros de iinventario
A7: 45910 | H7: 8 | J7: =+H7/8 -> 1 | K7: =+I7/8 -> 0 | L7: Ajustes rótulos MinDef 1 Mind Def Reproceso Ent 1 y Ejército Ent 3 Trabajo en casa por falta de red en sede
A8: 45911 | H8: 8 | J8: =+H8/8 -> 1 | K8: =+I8/8 -> 0 | L8: Prueba metodología ordenación Sistema Alfabético Kardex
A9: 45912 | H9: 8 | J9: =+H9/8 -> 1 | K9: =+I9/8 -> 0 | L9: Prueba metodología ordenación Sistema Alfabético Kardex traslado de documentación Kardex a lugar de trabajo SE ENCUENTRA AL DIA AL 12 -09-2025
A10: 45913 | J10: =+H10/8 -> 0 | K10: =+I10/8 -> 0
A11: 45914 | J11: =+H11/8 -> 0 | K11: =+I11/8 -> 0
A12: 45915 | B12: 1 | J12: =+H12/8 -> 0 | K12: =+I12/8 -> 0 | L12: Gaveta 7 Reuniòn AGN Subdirecciòn
A13: 45916 | H13: 8 | J13: =+H13/8 -> 1 | K13: =+I13/8 -> 0 | L13: Correcciòn ròtulos MinDef
A14: 45917 | H14: 8 | J14: =+H14/8 -> 1 | K14: =+I14/8 -> 0 | L14: Correcciòn ròtulos MinDef e inicio Gaveta 9 ordenaciòn
A15: 45918 | B15: 1 | H15: 4 | J15: =+H15/8 -> 0.5 | K15: =+I15/8 -> 0 | L15: Inserciònes de HC y Ròtulos Gaveta 9
A16: 45919 | I16: 8 | J16: =+H16/8 -> 0 | K16: =+I16/8 -> 1 | L16: NO ASISTIO | M16: Se paga un dìa debido a producciòn adicional MinDef 1.0
A17: 45920 | J17: =+H17/8 -> 0 | K17: =+I17/8 -> 0
A18: 45921 | J18: =+H18/8 -> 0 | K18: =+I18/8 -> 0
A19: 45922 | J19: =+H19/8 -> 0 | K19: =+I19/8 -> 0
A20: 45923 | C20: 6 | J20: =+H20/8 -> 0 | K20: =+I20/8 -> 0 | L20: Gavetas 1 a 6 SE ENCUENTRA AL DÌA AL 23 DE SEPTIEMBRE DE 2025
A21: 45924 | H21: 8 | J21: =+H21/8 -> 1 | K21: =+I21/8 -> 0 | L21: APOYO LOGISTICO ASIGNACION DE TRABAJO EN LOS DIFERENTES PROCESOS APOYO EN PROCESOS DE INDUCCION APOYO ADMINSITRATIVO
A22: 45925 | C22: 6 | J22: =+H22/8 -> 0 | K22: =+I22/8 -> 0 | L22: GAVETA 7 A 12 APOYO LOGISTICO ASIGNACION DE TRABAJO EN LOS DIFERENTES PROCESOS APOYO EN PROCESOS DE INDUCCION APOYO ADMINSITRATIVO
A23: 45926 | H23: 8 | J23: =+H23/8 -> 1 | K23: =+I23/8 -> 0 | L23: APOYO LOGISTICO ASIGNACION DE TRABAJO EN LOS DIFERENTES PROCESOS APOYO EN PROCESOS DE INDUCCION APOYO ADMINSITRATIVO
A24: 45927 | J24: =+H24/8 -> 0 | K24: =+I24/8 -> 0
A25: 45928 | J25: =+H25/8 -> 0 | K25: =+I25/8 -> 0
A26: 45929 | C26: 10 | H26: 8 | J26: =+H26/8 -> 1 | K26: =+I26/8 -> 0 | L26: GAVETA 13 A 22 APOYO LOGISTICO ASIGNACION DE TRABAJO EN LOS DIFERENTES PROCESOS APOYO EN PROCESOS DE INDUCCION APOYO ADMINSITRATIVO
A27: 45930 | C27: 6 | H27: 8 | J27: =+H27/8 -> 1 | K27: =+I27/8 -> 0 | L27: GAVETA 23 A 28 APOYO LOGISTICO ASIGNACION DE TRABAJO EN LOS DIFERENTES PROCESOS APOYO EN PROCESOS DE INDUCCION APOYO ADMINSITRATIVO
A28: 45931 | C28: 4 | H28: 8 | J28: =+H28/8 -> 1 | K28: =+I28/8 -> 0 | L28: GAVETA 29 A 32 APOYO LOGISTICO ASIGNACION DE TRABAJO EN LOS DIFERENTES PROCESOS APOYO EN PROCESOS DE INDUCCION APOYO ADMINSITRATIVO
A29: 45932 | C29: 8 | H29: 8 | J29: =+H29/8 -> 1 | K29: =+I29/8 -> 0 | L29: GAVETA 32 A 40
A30: 45933 | H30: 8 | J30: =+H30/8 -> 1 | K30: =+I30/8 -> 0 | L30: APOYO LOGISTICO ASIGNACION DE TRABAJO EN LOS DIFERENTES PROCESOS APOYO EN PROCESOS DE INDUCCION APOYO ADMINSITRATIVO
A31: 45934 | J31: =+H31/8 -> 0 | K31: =+I31/8 -> 0
A32: 45935 | J32: =+H32/8 -> 0 | K32: =+I32/8 -> 0
A33: 45936 | H33: 8 | J33: =+H33/8 -> 1 | K33: =+I33/8 -> 0 | L33: APOYO LOGISTICO ASIGNACION DE TRABAJO EN LOS DIFERENTES PROCESOS APOYO EN PROCESOS DE INDUCCION APOYO ADMINSITRATIVO
A34: 45937 | H34: 8 | J34: =+H34/8 -> 1 | K34: =+I34/8 -> 0 | L34: APOYO LOGISTICO ASIGNACION DE TRABAJO EN LOS DIFERENTES PROCESOS APOYO EN PROCESOS DE INDUCCION APOYO ADMINSITRATIVO
A35: 45938 | C35: 1 | H35: 8 | J35: =+H35/8 -> 1 | K35: =+I35/8 -> 0 | L35: GAVETA 44 APOYO LOGISTICO ASIGNACION DE TRABAJO EN LOS DIFERENTES PROCESOS APOYO EN PROCESOS DE INDUCCION APOYO ADMINSITRATIVO
A36: 45939 | H36: 8 | J36: =+H36/8 -> 1 | K36: =+I36/8 -> 0 | L36: APOYO LOGISTICO ASIGNACION DE TRABAJO EN LOS DIFERENTES PROCESOS APOYO EN PROCESOS DE INDUCCION APOYO ADMINSITRATIVO
A37: 45940 | C37: 1 | H37: 8 | J37: =+H37/8 -> 1 | K37: =+I37/8 -> 0 | L37: GAVETA 57 APOYO LOGISTICO ASIGNACION DE TRABAJO EN LOS DIFERENTES PROCESOS APOYO EN PROCESOS DE INDUCCION APOYO ADMINSITRATIVO
A38: 45941 | J38: =+H38/8 -> 0 | K38: =+I38/8 -> 0
A39: 45942 | J39: =+H39/8 -> 0 | K39: =+I39/8 -> 0
A40: 45943 | H40: 8 | J40: =+H40/8 -> 1 | K40: =+I40/8 -> 0 | L40: APOYO LOGISTICO ASIGNACION DE TRABAJO EN LOS DIFERENTES PROCESOS APOYO EN PROCESOS DE INDUCCION APOYO ADMINSITRATIVO
...

Sheet IBETH ANDREA ROZO GOMEZ
A1: MINISTERIO DE DEFENSA 2.0
A2: REGISTRO DIARIO DE PRODUCCIÓN - 2025
A3: IBETH ANDREA ROZO GOMEZ
A4: FECHA | B4: ORDENACIÓN ALFABÉTICA KARDEX | C4: C.C.ORDENACIÓN ALFABÉTICA KARDEX | D4: REGISTOS FUID KARDEX | E4: C.C.REGISTOS FUID KARDEX | F4: ACTUALIZACIÓN FUID CARPETAS | G4: CC ACTUALIZACIÓN FUID CARPETAS | H4: OTRAS ACTIVIDADES (HORAS) | I4: NO ASISTIÓ (HORAS) | J4: OTRAS ACTIVIDADES (DÍAS) | K4: NO ASISTIÓ (DÍAS) | L4: OBSERVACIONES
A5: 45908 | H5: 8 | J5: =+H5/8 -> 1 | K5: =+I5/8 -> 0 | L5: Revisión de ajustes de rotulación y HC Asistencia reunión elaboración Ficha Técnica
A6: 45909 | H6: 8 | J6: =+H6/8 -> 1 | K6: =+I6/8 -> 0 | L6: Traslado gavetas Kardex para diagnóstico de inventario y tiempo.
A7: 45910 | H7: 8 | J7: =+H7/8 -> 1 | K7: =+I7/8 -> 0 | L7: Prueba metodología ordenación Sistema Alfabético Kardex (Gaveta #1 soldados)
A8: 45911 | B8: 1 | H8: 8 | J8: =+H8/8 -> 1 | K8: =+I8/8 -> 0 | L8: Prueba metodología ordenación Sistema Alfabético Kardex (Gavetas #1 soldados)
A9: 45912 | I9: 8 | J9: =+H9/8 -> 0 | K9: =+I9/8 -> 1 | L9: NO ASISTIO
A10: 45913 | J10: =+H10/8 -> 0 | K10: =+I10/8 -> 0
A11: 45914 | J11: =+H11/8 -> 0 | K11: =+I11/8 -> 0
A12: 45915 | J12: =+H12/8 -> 0 | K12: =+I12/8 -> 0
A13: 45916 | B13: 1 | J13: =+H13/8 -> 0 | K13: =+I13/8 -> 0 | L13: Gaveta 6
A14: 45917 | J14: =+H14/8 -> 0 | K14: =+I14/8 -> 0
A15: 45918 | B15: 2 | J15: =+H15/8 -> 0 | K15: =+I15/8 -> 0 | L15: Gaveta 14 y 18
A16: 45919 | B16: 1 | J16: =+H16/8 -> 0 | K16: =+I16/8 -> 0 | L16: Gaveta 19
A17: 45920 | B17: 1 | J17: =+H17/8 -> 0 | K17: =+I17/8 -> 0 | L17: Gaveta 20
A18: 45921 | J18: =+H18/8 -> 0 | K18: =+I18/8 -> 0
A19: 45922 | B19: 3 | J19: =+H19/8 -> 0 | K19: =+I19/8 -> 0 | L19: Gavetas 32,33 y 34
A20: 45923 | B20: 1 | J20: =+H20/8 -> 0 | K20: =+I20/8 -> 0 | L20: Gaveta 37 SE ENCUENTRA AL DÌA 23 DE SEPTIEMBRE DE 2025
A21: 45924 | J21: =+H21/8 -> 0 | K21: =+I21/8 -> 0
A22: 45925 | J22: =+H22/8 -> 0 | K22: =+I22/8 -> 0
A23: 45926 | D23: 218 | J23: =+H23/8 -> 0 | K23: =+I23/8 -> 0 | L23: GAVETA 9
A24: 45927 | J24: =+H24/8 -> 0 | K24: =+I24/8 -> 0
A25: 45928 | J25: =+H25/8 -> 0 | K25: =+I25/8 -> 0
A26: 45929 | D26: 210 | J26: =+H26/8 -> 0 | K26: =+I26/8 -> 0 | L26: GAVETA 9
A27: 45930 | D27: 218 | J27: =+H27/8 -> 0 | K27: =+I27/8 -> 0 | L27: GAVETA 9
A28: 45931 | D28: 260 | J28: =+H28/8 -> 0 | K28: =+I28/8 -> 0 | L28: GAVETA 15
A29: 45932 | D29: 261 | J29: =+H29/8 -> 0 | K29: =+I29/8 -> 0 | L29: GAVETA 15
A30: 45933 | D30: 260 | J30: =+H30/8 -> 0 | K30: =+I30/8 -> 0 | L30: GAVETA 15
A31: 45934 | J31: =+H31/8 -> 0 | K31: =+I31/8 -> 0
A32: 45935 | J32: =+H32/8 -> 0 | K32: =+I32/8 -> 0
A33: 45936 | B33: 1 | D33: 260 | J33: =+H33/8 -> 0 | K33: =+I33/8 -> 0 | L33: GAVETA 38 GAVETA 15
A34: 45937 | D34: 331 | J34: =+H34/8 -> 0 | K34: =+I34/8 -> 0 | L34: GAVETA 15 GAVETA 30
A35: 45938 | D35: 260 | J35: =+H35/8 -> 0 | K35: =+I35/8 -> 0 | L35: GAVETA 30
A36: 45939 | D36: 261 | J36: =+H36/8 -> 0 | K36: =+I36/8 -> 0 | L36: GAVETA 30 y 44
A37: 45940 | D37: 270 | J37: =+H37/8 -> 0 | K37: =+I37/8 -> 0 | L37: GAVETA 44
A38: 45941 | J38: =+H38/8 -> 0 | K38: =+I38/8 -> 0
A39: 45942 | J39: =+H39/8 -> 0 | K39: =+I39/8 -> 0
A40: 45943 | J40: =+H40/8 -> 0 | K40: =+I40/8 -> 0
...

Sheet LILIIANA ANDREA RODRIGUEZ PINE
A1: MINISTERIO DE DEFENSA 2.0
A2: REGISTRO DIARIO DE PRODUCCIÓN - 2025
A3: LILIANA ANDREA RODRIGUEZ PINEDA
A4: FECHA | B4: ORDENACIÓN ALFABÉTICA KARDEX | C4: C.C.ORDENACIÓN ALFABÉTICA KARDEX | D4: REGISTOS FUID KARDEX | E4: C.C.REGISTOS FUID KARDEX | F4: ACTUALIZACIÓN FUID CARPETAS | G4: CC ACTUALIZACIÓN FUID CARPETAS | H4: OTRAS ACTIVIDADES (HORAS) | I4: NO ASISTIÓ (HORAS) | J4: OTRAS ACTIVIDADES (DÍAS) | K4: NO ASISTIÓ (DÍAS) | L4: OBSERVACIONES
A5: 45908 | H5: 8 | J5: =+H5/8 -> 1 | K5: =+I5/8 -> 0 | L5: Apoyo logistico instalación de equipos PC. Instalación de equipos.
A6: 45909 | H6: 8 | J6: =+H6/8 -> 1 | K6: =+I6/8 -> 0 | L6: Rececpión de tarjetas kardex Soldados, reconocimiento de la información, pruebas registros de iinventario
A7: 45910 | H7: 8 | J7: =+H7/8 -> 1 | K7: =+I7/8 -> 0 | L7: Prueba metodología ordenación Sistema Alfabético Kardex (Gaveta #2 soldados)
A8: 45911 | B8: 1 | H8: 8 | J8: =+H8/8 -> 1 | K8: =+I8/8 -> 0 | L8: Prueba metodología ordenación Sistema Alfabético Kardex (Gaveta #2 soldados)
A9: 45912 | H9: 8 | J9: =+H9/8 -> 1 | K9: =+I9/8 -> 0 | L9: Prueba metodología ordenación Sistema Alfabético Kardex (Inico Gaveta 4 y 10 soldados) SE ENCUENTRA AL DIA AL 12 -09-2025
A10: 45913 | J10: =+H10/8 -> 0 | K10: =+I10/8 -> 0
A11: 45914 | J11: =+H11/8 -> 0 | K11: =+I11/8 -> 0
A12: 45915 | J12: =+H12/8 -> 0 | K12: =+I12/8 -> 0
A13: 45916 | B13: 2 | J13: =+H13/8 -> 0 | K13: =+I13/8 -> 0 | L13: Gavetas 4 y 10
A14: 45917 | J14: =+H14/8 -> 0 | K14: =+I14/8 -> 0
A15: 45918 | B15: 3 | J15: =+H15/8 -> 0 | K15: =+I15/8 -> 0 | L15: Gavetas 15, 16 y 17
A16: 45919 | J16: =+H16/8 -> 0 | K16: =+I16/8 -> 0
A17: 45920 | J17: =+H17/8 -> 0 | K17: =+I17/8 -> 0
A18: 45921 | J18: =+H18/8 -> 0 | K18: =+I18/8 -> 0
A19: 45922 | B19: 3 | J19: =+H19/8 -> 0 | K19: =+I19/8 -> 0 | L19: Gavetas 29, 30 y 31
A20: 45923 | B20: 1 | J20: =+H20/8 -> 0 | K20: =+I20/8 -> 0 | L20: Gaveta 48 SE ENCUENTRA AL DIA AL 23 DE SEPTIEMBRE DE 2025
A21: 45924 | D21: 55 | J21: =+H21/8 -> 0 | K21: =+I21/8 -> 0 | L21: Da inicio al proceso de registros de inventario Gaveta 5 APOYO LOGISTICO
A22: 45925 | D22: 159 | J22: =+H22/8 -> 0 | K22: =+I22/8 -> 0 | L22: GAVETA 5
A23: 45926 | D23: 202 | J23: =+H23/8 -> 0 | K23: =+I23/8 -> 0 | L23: GAVETA 5
A24: 45927 | J24: =+H24/8 -> 0 | K24: =+I24/8 -> 0
A25: 45928 | J25: =+H25/8 -> 0 | K25: =+I25/8 -> 0
A26: 45929 | D26: 183 | J26: =+H26/8 -> 0 | K26: =+I26/8 -> 0 | L26: GAVETA 5
A27: 45930 | D27: 200 | J27: =+H27/8 -> 0 | K27: =+I27/8 -> 0 | L27: GAVETA 12
A28: 45931 | D28: 219 | J28: =+H28/8 -> 0 | K28: =+I28/8 -> 0 | L28: GAVETA 12 Y 17
A29: 45932 | D29: 304 | J29: =+H29/8 -> 0 | K29: =+I29/8 -> 0 | L29: GAVETA 17
A30: 45933 | B30: 1 | J30: =+H30/8 -> 0 | K30: =+I30/8 -> 0 | L30: INICIA EN ORDENACION GAVETA 40
A31: 45934 | J31: =+H31/8 -> 0 | K31: =+I31/8 -> 0
A32: 45935 | J32: =+H32/8 -> 0 | K32: =+I32/8 -> 0
A33: 45936 | B33: 1 | J33: =+H33/8 -> 0 | K33: =+I33/8 -> 0 | L33: GAVETA 50
A34: 45937 | H34: 8 | J34: =+H34/8 -> 1 | K34: =+I34/8 -> 0 | L34: PASO A CONTROL DE CALIDAD DE ORD APOYO LOGISTICO
A35: 45938 | C35: 2 | J35: =+H35/8 -> 0 | K35: =+I35/8 -> 0 | L35: GAVETAS 41 Y 42 APOYO APELLIDOS EXTENSOS
A36: 45939 | C36: 2 | J36: =+H36/8 -> 0 | K36: =+I36/8 -> 0 | L36: GAVETAS 47 Y 51 APOYO APELLIDOS EXTENSOS
A37: 45940 | C37: 2 | J37: =+H37/8 -> 0 | K37: =+I37/8 -> 0 | L37: GAVETA 56 Y 57
A38: 45941 | J38: =+H38/8 -> 0 | K38: =+I38/8 -> 0
A39: 45942 | J39: =+H39/8 -> 0 | K39: =+I39/8 -> 0
A40: 45943 | J40: =+H40/8 -> 0 | K40: =+I40/8 -> 0
...

Sheet LUIS ALCIDES ARIZA LAITON 
A1: MINISTERIO DE DEFENSA 2.0
A2: REGISTRO DIARIO DE PRODUCCIÓN - 2025
A3: LUIS ALCIDES ARIZA LAITON
A4: FECHA | B4: ORDENACIÓN ALFABÉTICA KARDEX | C4: C.C.ORDENACIÓN ALFABÉTICA KARDEX | D4: REGISTOS FUID KARDEX | E4: C.C.REGISTOS FUID KARDEX | F4: ACTUALIZACIÓN FUID CARPETAS | G4: CC ACTUALIZACIÓN FUID CARPETAS | H4: OTRAS ACTIVIDADES (HORAS) | I4: NO ASISTIÓ (HORAS) | J4: OTRAS ACTIVIDADES (DÍAS) | K4: NO ASISTIÓ (DÍAS) | L4: OBSERVACIONES
A5: 45908 | J5: =+H5/8 -> 0 | K5: =+I5/8 -> 0
A6: 45909 | H6: 8 | J6: =+H6/8 -> 1 | K6: =+I6/8 -> 0 | L6: Traslado de Tarjetas Kardex letra A -Prueba datos de inventario.
A7: 45910 | J7: =+H7/8 -> 0 | K7: =+I7/8 -> 0 | L7: NO ASISTIO | M7: Compensatorio MidDef 1
A8: 45911 | H8: 8 | J8: =+H8/8 -> 1 | K8: =+I8/8 -> 0 | L8: Foliación Tarjetas Kadex Veteranos de Guerra MinDef 1,0 (2092 folios)
A9: 45912 | H9: 8 | J9: =+H9/8 -> 1 | K9: =+I9/8 -> 0 | L9: Foliación Tarjetas Kadex Veteranos de Guerra MinDef 1,0 (2311 folios) SE ENCUENTRA AL DIA EN METAS DE PRODUCCION AL 12 DE SEP DE 2026
A10: 45913 | J10: =+H10/8 -> 0 | K10: =+I10/8 -> 0
A11: 45914 | J11: =+H11/8 -> 0 | K11: =+I11/8 -> 0
A12: 45915 | H12: 8 | J12: =+H12/8 -> 1 | K12: =+I12/8 -> 0 | L12: Foliación Tarjetas Kadex Veteranos de Guerra MinDef 1,0 (1010) reunión de subdirección en AGN
A13: 45916 | H13: 8 | J13: =+H13/8 -> 1 | K13: =+I13/8 -> 0 | L13: Foliación Tarjetas Kadex Veteranos de Guerra MinDef 1,0 (2626 Folios) Total de folios de Tarjetas Kardex Veteranos de Guerra 9,075 folios
A14: 45917 | J14: =+H14/8 -> 0 | K14: =+I14/8 -> 0 | L14: NO ASISTIO | M14: 1 dìa prod
A15: 45918 | J15: =+H15/8 -> 0 | K15: =+I15/8 -> 0
A16: 45919 | B16: 2 | J16: =+H16/8 -> 0 | K16: =+I16/8 -> 0 | L16: Gavetas 23 y 24 - Pdte Gaveta No.25
A17: 45920 | J17: =+H17/8 -> 0 | K17: =+I17/8 -> 0
A18: 45921 | J18: =+H18/8 -> 0 | K18: =+I18/8 -> 0
A19: 45922 | J19: =+H19/8 -> 0 | K19: =+I19/8 -> 0 | L19: Sin Producciòn
A20: 45923 | J20: =+H20/8 -> 0 | K20: =+I20/8 -> 0 | L20: Sin Producciòn SE REALIZA SEGUIMIENTO QUEDANDO PDTS 3 DIAS DE PRODUCCIÒN
A21: 45924 | D21: 61 | J21: =+H21/8 -> 0 | K21: =+I21/8 -> 0 | L21: GAVETA 3
A22: 45925 | D22: 129 | J22: =+H22/8 -> 0 | K22: =+I22/8 -> 0 | L22: GAVETA 3
A23: 45926 | D23: 125 | J23: =+H23/8 -> 0 | K23: =+I23/8 -> 0 | L23: GAVETA 3
A24: 45927 | J24: =+H24/8 -> 0 | K24: =+I24/8 -> 0
A25: 45928 | J25: =+H25/8 -> 0 | K25: =+I25/8 -> 0
A26: 45929 | D26: 157 | J26: =+H26/8 -> 0 | K26: =+I26/8 -> 0 | L26: GAVETA 3
A27: 45930 | D27: 270 | J27: =+H27/8 -> 0 | K27: =+I27/8 -> 0 | L27: GAVETA 12
A28: 45931 | D28: 281 | J28: =+H28/8 -> 0 | K28: =+I28/8 -> 0 | L28: GAVETA 12
A29: 45932 | D29: 350 | J29: =+H29/8 -> 0 | K29: =+I29/8 -> 0 | L29: GAVETA 12 Y 21
A30: 45933 | D30: 206 | J30: =+H30/8 -> 0 | K30: =+I30/8 -> 0 | L30: GAVETA 21
A31: 45934 | D31: 179 | J31: =+H31/8 -> 0 | K31: =+I31/8 -> 0 | L31: GAVETA 21
A32: 45935 | J32: =+H32/8 -> 0 | K32: =+I32/8 -> 0
A33: 45936 | D33: 320 | J33: =+H33/8 -> 0 | K33: =+I33/8 -> 0 | L33: GAVETA 28
A34: 45937 | D34: 300 | J34: =+H34/8 -> 0 | K34: =+I34/8 -> 0 | L34: GAVETA 28
A35: 45938 | D35: 305 | J35: =+H35/8 -> 0 | K35: =+I35/8 -> 0 | L35: GAVETA 28 Y 42
A36: 45939 | D36: 261 | J36: =+H36/8 -> 0 | K36: =+I36/8 -> 0 | L36: GAVETA 42 Y 48
A37: 45940 | D37: 259 | J37: =+H37/8 -> 0 | K37: =+I37/8 -> 0 | L37: GAVETA 48
A38: 45941 | J38: =+H38/8 -> 0 | K38: =+I38/8 -> 0
A39: 45942 | J39: =+H39/8 -> 0 | K39: =+I39/8 -> 0
A40: 45943 | J40: =+H40/8 -> 0 | K40: =+I40/8 -> 0
...

Sheet ANDRES F MAYORGA J
A1: MINISTERIO DE DEFENSA 2.0
A2: REGISTRO DIARIO DE PRODUCCIÓN - 2025
A3: ANDRES FELIPE MAYORGA JAIMES
A4: FECHA | B4: ORDENACIÓN ALFABÉTICA KARDEX | C4: C.C.ORDENACIÓN ALFABÉTICA KARDEX | D4: REGISTOS FUID KARDEX | E4: C.C.REGISTOS FUID KARDEX | F4: ACTUALIZACIÓN FUID CARPETAS | G4: CC ACTUALIZACIÓN FUID CARPETAS | H4: OTRAS ACTIVIDADES (HORAS) | I4: NO ASISTIÓ (HORAS) | J4: OTRAS ACTIVIDADES (DÍAS) | K4: NO ASISTIÓ (DÍAS) | L4: OBSERVACIONES
A5: 45908 | J5: =+H5/8 -> 0 | K5: =+I5/8 -> 0
A6: 45909 | J6: =+H6/8 -> 0 | K6: =+I6/8 -> 0
A7: 45910 | J7: =+H7/8 -> 0 | K7: =+I7/8 -> 0
A8: 45911 | J8: =+H8/8 -> 0 | K8: =+I8/8 -> 0
A9: 45912 | J9: =+H9/8 -> 0 | K9: =+I9/8 -> 0
A10: 45913 | J10: =+H10/8 -> 0 | K10: =+I10/8 -> 0
A11: 45914 | J11: =+H11/8 -> 0 | K11: =+I11/8 -> 0
A12: 45915 | J12: =+H12/8 -> 0 | K12: =+I12/8 -> 0
A13: 45916 | J13: =+H13/8 -> 0 | K13: =+I13/8 -> 0
A14: 45917 | J14: =+H14/8 -> 0 | K14: =+I14/8 -> 0
A15: 45918 | J15: =+H15/8 -> 0 | K15: =+I15/8 -> 0
A16: 45919 | J16: =+H16/8 -> 0 | K16: =+I16/8 -> 0
... A20: 45923 | J20: =+H20/8 -> 0 | K20: =+I20/8 -> 0
A21: 45924 | D21: 14 | J21: =+H21/8 -> 0 | K21: =+I21/8 -> 0 | L21: INGRESA PROYECTO MINDEFENSA /CURVA DE APRENDIZAJE PROCESO FUID KARDEX SOLDADOS (GAVETA 3)
A22: 45925 | D22: 73 | J22: =+H22/8 -> 0 | K22: =+I22/8 -> 0 | L22: GAVETA 3
A23: 45926 | D23: 50 | J23: =+H23/8 -> 0 | K23: =+I23/8 -> 0 | L23: GAVETA 3
A24: 45927 | J24: =+H24/8 -> 0 | K24: =+I24/8 -> 0
A25: 45928 | J25: =+H25/8 -> 0 | K25: =+I25/8 -> 0
A26: 45929 | D26: 50 | J26: =+H26/8 -> 0 | K26: =+I26/8 -> 0 | L26: GAVETA 3
A27: 45930 | D27: 120 | J27: =+H27/8 -> 0 | K27: =+I27/8 -> 0 | L27: GAVETA 3
A28: 45931 | D28: 90 | J28: =+H28/8 -> 0 | K28: =+I28/8 -> 0 | L28: GAVETA 3
A29: 45932 | D29: 156 | J29: =+H29/8 -> 0 | K29: =+I29/8 -> 0 | L29: GAVETA 3
A30: 45933 | J30: =+H30/8 -> 0 | K30: =+I30/8 -> 0 | L30: NO ASISTIO
A31: 45934 | J31: =+H31/8 -> 0 | K31: =+I31/8 -> 0
A32: 45935 | J32: =+H32/8 -> 0 | K32: =+I32/8 -> 0
A33: 45936 | D33: 63 | J33: =+H33/8 -> 0 | K33: =+I33/8 -> 0
A34: 45937 | J34: =+H34/8 -> 0 | K34: =+I34/8 -> 0 | L34: NO ASISTIO
A35: 45938 | D35: 140 | J35: =+H35/8 -> 0 | K35: =+I35/8 -> 0 | L35: GAVETA 31 AL DÌA 08 DE OCTUBRE DE 2025 PRESENTA UN SALDO PENDIENTE EN META DE PRODUCCIÒN DE 1,738 REGISTROS TENIENDO COMO BASE LA META ESTABLECIDA DE 260 REGISTROS POR DÌA. LO ANTERIOR ES EQUIVALENTE A 6,68 DIAS PENDIENTES EN META DE PRODUCCION.
A36: 45939 | D36: 124 | J36: =+H36/8 -> 0 | K36: =+I36/8 -> 0
A37: 45940 | D37: 166 | J37: =+H37/8 -> 0 | K37: =+I37/8 -> 0
A38: 45941 | J38: =+H38/8 -> 0 | K38: =+I38/8 -> 0
A39: 45942 | J39: =+H39/8 -> 0 | K39: =+I39/8 -> 0
A40: 45943 | J40: =+H40/8 -> 0 | K40: =+I40/8 -> 0
A41: 45944 | D41: 210 | J41: =+H41/8 -> 0 | K41: =+I41/8 -> 0 | L41: GAVETA 31
A42: 45945 | D42: 130 | J42: =+H42/8 -> 0 | K42: =+I42/8 -> 0 | L42: GAVETA 31
A43: 45946 | D43: 163 | J43: =+H43/8 -> 0 | K43: =+I43/8 -> 0 | L43: GAVETA 31 SE REALIZA SEGUIMIENTO CON CORTE AL 15/10/2025 EVIDENCIANDO UN SALDO PENDIENTE DE 2,254 REGISTROS FUID KARDEX EQUIVALENTES A 8,7 DIAS DE PRODUCCION EL SALDO PDTE EN META DE PRODUCCION DEL PROYECTO DAPRE SE AJUSTA EN EL MISMO
...

Sheet BRYAN MEJIA 
A1: MINISTERIO DE DEFENSA 2.0
A2: REGISTRO DIARIO DE PRODUCCIÓN - 2025
A3: BRYAN ANTONIO MEJIA
A4: FECHA | B4: ORDENACIÓN ALFABÉTICA KARDEX | C4: C.C.ORDENACIÓN ALFABÉTICA KARDEX | D4: REGISTOS FUID KARDEX | E4: C.C.REGISTOS FUID KARDEX | F4: ACTUALIZACIÓN FUID CARPETAS | G4: CC ACTUALIZACIÓN FUID CARPETAS | H4: OTRAS ACTIVIDADES (HORAS) | I4: NO ASISTIÓ (HORAS) | J4: OTRAS ACTIVIDADES (DÍAS) | K4: NO ASISTIÓ (DÍAS) | L4: OBSERVACIONES
A5: 45924 | D5: 47 | J5: =+H5/8 -> 0 | K5: =+I5/8 -> 0 | L5: INGRESA AL PROYECTO 24/09/2025 CURVA DE APRENDIZAJE GAVETA 1
A6: 45925 | D6: 153 | J6: =+H6/8 -> 0 | K6: =+I6/8 -> 0 | L6: GAVETA 1
A7: 45926 | D7: 201 | J7: =+H7/8 -> 0 | K7: =+I7/8 -> 0 | L7: GAVETA 1
A8: 45927 | J8: =+H8/8 -> 0 | K8: =+I8/8 -> 0
A9: 45928 | J9: =+H9/8 -> 0 | K9: =+I9/8 -> 0
A10: 45929 | D10: 149 | J10: =+H10/8 -> 0 | K10: =+I10/8 -> 0 | L10: GAVETA 1
A11: 45930 | D11: 159 | J11: =+H11/8 -> 0 | K11: =+I11/8 -> 0 | L11: GAVETA 1 Y 7
A12: 45931 | D12: 122 | J12: =+H12/8 -> 0 | K12: =+I12/8 -> 0 | L12: GAVETA 7 Y 16
A13: 45932 | D13: 281 | J13: =+H13/8 -> 0 | K13: =+I13/8 -> 0 | L13: GAVETA 16
A14: 45933 | J14: =+H14/8 -> 0 | K14: =+I14/8 -> 0 | L14: NO ASISTIO
A15: 45934 | J15: =+H15/8 -> 0 | K15: =+I15/8 -> 0
A16: 45935 | J16: =+H16/8 -> 0 | K16: =+I16/8 -> 0
A17: 45936 | D17: 281 | J17: =+H17/8 -> 0 | K17: =+I17/8 -> 0 | L17: GAVETA 16
A18: 45937 | D18: 261 | J18: =+H18/8 -> 0 | K18: =+I18/8 -> 0 | L18: GAVETA 16
A19: 45938 | D19: 264 | J19: =+H19/8 -> 0 | K19: =+I19/8 -> 0 | L19: GAVETA 16
A20: 45939 | D20: 260 | J20: =+H20/8 -> 0 | K20: =+I20/8 -> 0 | L20: GAVETA 16 Y 46
A21: 45940 | D21: 261 | J21: =+H21/8 -> 0 | K21: =+I21/8 -> 0 | L21: GAVETA 46
A22: 45941 | D22: 21 | J22: =+H22/8 -> 0 | K22: =+I22/8 -> 0
A23: 45942 | J23: =+H23/8 -> 0 | K23: =+I23/8 -> 0
A24: 45943 | J24: =+H24/8 -> 0 | K24: =+I24/8 -> 0
A25: 45944 | D25: 327 | J25: =+H25/8 -> 0 | K25: =+I25/8 -> 0 | L25: GAVETA 46 SE REALIZA SEGUIMIENTO, EVIDENCIANDO UN SALDO PENDIENTE DE 728 REGISTROS FUID EQUIVALENTES A 2,8 DIAS EN META DE PRODUCCIÒN
A26: 45945 | D26: 21 | E26: 295 | J26: =+H26/8 -> 0 | K26: =+I26/8 -> 0 | L26: GAVETA 46 Y 4
A27: 45946 | E27: 400 | J27: =+H27/8 -> 0 | K27: =+I27/8 -> 0 | L27: GAVETA 4
A28: 45947 | E28: 1214 | J28: =+H28/8 -> 0 | K28: =+I28/8 -> 0 | L28: GAVETA 19
A29: 45948 | J29: =+H29/8 -> 0 | K29: =+I29/8 -> 0
A30: 45949 | J30: =+H30/8 -> 0 | K30: =+I30/8 -> 0
A31: 45950 | J31: =+H31/8 -> 0 | K31: =+I31/8 -> 0
A32: 45951 | E32: 917 | J32: =+H32/8 -> 0 | K32: =+I32/8 -> 0 | L32: GAVETA 20
A33: 45952 | E33: 250 | J33: =+H33/8 -> 0 | K33: =+I33/8 -> 0 | L33: GAVETA 20
A34: 45953 | E34: 640 | J34: =+H34/8 -> 0 | K34: =+I34/8 -> 0 | L34: GAVETA 9 SE REVISO INCOMPLETA POR CAMBIO DE PROCESO
A35: 45954 | J35: =+H35/8 -> 0 | K35: =+I35/8 -> 0 | L35: SE REALIZA SEGUIMIENTO CON CORTE AL 24 DE OCTUBRE EVIDENCIANDO QUE REALIZO UN EXCENDENTE DE 31 REGISTROS ABONADOS A LOS 728 REGISTROS PENDIENTES DEL SEGUIMIENTO ANTERIOR CONCLUSION: QUEDANDO UN SALDO PENDIENTE DE 697 REGISTROS KARDEX EQUIVALENTES A 2,7 DIAS EN METAS DE PRODUCCION
A36: 45955 | J36: =+H36/8 -> 0 | K36: =+I36/8 -> 0
A37: 45956 | J37: =+H37/8 -> 0 | K37: =+I37/8 -> 0
A38: 45957 | J38: =+H38/8 -> 0 | K38: =+I38/8 -> 0
A39: 45958 | J39: =+H39/8 -> 0 | K39: =+I39/8 -> 0
A40: 45959 | F40: 20 | J40: =+H40/8 -> 0 | K40: =+I40/8 -> 0 | L40: CAJAS 189-190-191
...

Sheet DIANA C RAMOS C
A1: MINISTERIO DE DEFENSA 2.0
A2: REGISTRO DIARIO DE PRODUCCIÓN - 2025
A3: DIANA CAROLINA RAMOS CASTAÑEDA
A4: FECHA | B4: ORDENACIÓN ALFABÉTICA KARDEX | C4: C.C.ORDENACIÓN ALFABÉTICA KARDEX | D4: REGISTOS FUID KARDEX | E4: C.C.REGISTOS FUID KARDEX | F4: ACTUALIZACIÓN FUID CARPETAS | G4: CC ACTUALIZACIÓN FUID CARPETAS | H4: OTRAS ACTIVIDADES (HORAS) | I4: NO ASISTIÓ (HORAS) | J4: OTRAS ACTIVIDADES (DÍAS) | K4: NO ASISTIÓ (DÍAS) | L4: OBSERVACIONES
A5: 45924 | J5: =+H5/8 -> 0 | K5: =+I5/8 -> 0 | L5: INGRESA AL PROYECTO- 24/09/2025 CURVA DE APRENDIZAJE
A6: 45925 | J6: =+H6/8 -> 0 | K6: =+I6/8 -> 0 | L6: Gaveta 3 SE ENCUENTRA AL DIA AL 25 DE SEPTIEMBRE DE 2025
A7: 45926 | D7: 306 | J7: =+H7/8 -> 0 | K7: =+I7/8 -> 0 | L7: GAVETA 2
A8: 45927 | J8: =+H8/8 -> 0 | K8: =+I8/8 -> 0
A9: 45928 | J9: =+H9/8 -> 0 | K9: =+I9/8 -> 0
A10: 45929 | J10: =+H10/8 -> 0 | K10: =+I10/8 -> 0
A11: 45930 | D11: 155 | J11: =+H11/8 -> 0 | K11: =+I11/8 -> 0 | L11: GAVETA 11
A12: 45931 | J12: =+H12/8 -> 0 | K12: =+I12/8 -> 0
A13: 45932 | D13: 156 | J13: =+H13/8 -> 0 | K13: =+I13/8 -> 0 | L13: GAVETA 11
A14: 45933 | D14: 58 | J14: =+H14/8 -> 0 | K14: =+I14/8 -> 0 | L14: GAVETA 11
A15: 45934 | J15: =+H15/8 -> 0 | K15: =+I15/8 -> 0
A16: 45935 | J16: =+H16/8 -> 0 | K16: =+I16/8 -> 0
A17: 45936 | B17: 3 | J17: =+H17/8 -> 0 | K17: =+I17/8 -> 0 | L17: GAVETAS 39,45 Y 46
A18: 45937 | B18: 1 | J18: =+H18/8 -> 0 | K18: =+I18/8 -> 0 | L18: GAVETA 59
A19: 45938 | B19: 1 | J19: =+H19/8 -> 0 | K19: =+I19/8 -> 0 | L19: GAVETA 60
A20: 45939 | B20: 2 | J20: =+H20/8 -> 0 | K20: =+I20/8 -> 0 | L20: GAVETA 62 Y 75
A21: 45940 | B21: 1 | J21: =+H21/8 -> 0 | K21: =+I21/8 -> 0 | L21: GAVETA 76
A22: 45941 | J22: =+H22/8 -> 0 | K22: =+I22/8 -> 0
A23: 45942 | J23: =+H23/8 -> 0 | K23: =+I23/8 -> 0
A24: 45943 | J24: =+H24/8 -> 0 | K24: =+I24/8 -> 0
A25: 45944 | B25: 1 | J25: =+H25/8 -> 0 | K25: =+I25/8 -> 0 | L25: GAVETA 69 SE REALIZA SEGUIMIENTO EVIDENCIANDO UN SALDO PENDIENTE DE 0,4 DÌAS EN META DE PRODUCCIÒN EL DIA 14/10/2025 PASA A PPOCESO FUID
A26: 45945 | D26: 290 | J26: =+H26/8 -> 0 | K26: =+I26/8 -> 0 | L26: GAVETA 79
A27: 45946 | D27: 287 | J27: =+H27/8 -> 0 | K27: =+I27/8 -> 0 | L27: GAVETA 79
A28: 45947 | I28: 8 | J28: =+H28/8 -> 0 | K28: =+I28/8 -> 1
A29: 45948 | J29: =+H29/8 -> 0 | K29: =+I29/8 -> 0
A30: 45949 | J30: =+H30/8 -> 0 | K30: =+I30/8 -> 0
A31: 45950 | D31: 301 | J31: =+H31/8 -> 0 | K31: =+I31/8 -> 0 | L31: GAVETA 79
A32: 45951 | D32: 311 | J32: =+H32/8 -> 0 | K32: =+I32/8 -> 0 | L32: GAVETA 79
A33: 45952 | D33: 260 | J33: =+H33/8 -> 0 | K33: =+I33/8 -> 0 | L33: GAVETA 79
A34: 45953 | D34: 260 | J34: =+H34/8 -> 0 | K34: =+I34/8 -> 0 | L34: GAVETA 79
A35: 45954 | D35: 260 | J35: =+H35/8 -> 0 | K35: =+I35/8 -> 0 | L35: GAVETA 79 SE REALIZA SEGUIMIENTO EL 29/10 CON CORTE AL 24/10 QUEDANDO PENDIENTES 111 REGISTROS=0,4 DÌAS TOTAL 0,8 DÌAS PENDIENTES = 222 REGISTROS FUID KARDEX
A36: 45955 | J36: =+H36/8 -> 0 | K36: =+I36/8 -> 0
A37: 45956 | J37: =+H37/8 -> 0 | K37: =+I37/8 -> 0
A38: 45957 | J38: =+H38/8 -> 0 | K38: =+I38/8 -> 0
A39: 45958 | J39: =+H39/8 -> 0 | K39: =+I39/8 -> 0
A40: 45959 | J40: =+H40/8 -> 0 | K40: =+I40/8 -> 0
...

Sheet LAURA BEJARANO
A1: MINISTERIO DE DEFENSA 2.0
A2: REGISTRO DIARIO DE PRODUCCIÓN - 2025
A3: LAURA VANESSA BEJARANO GARCIA
A4: FECHA | B4: ORDENACIÓN ALFABÉTICA KARDEX | C4: C.C.ORDENACIÓN ALFABÉTICA KARDEX | D4: REGISTOS FUID KARDEX | E4: C.C.REGISTOS FUID KARDEX | F4: ACTUALIZACIÓN FUID CARPETAS | G4: CC ACTUALIZACIÓN FUID CARPETAS | H4: OTRAS ACTIVIDADES (HORAS) | I4: NO ASISTIÓ (HORAS) | J4: OTRAS ACTIVIDADES (DÍAS) | K4: NO ASISTIÓ (DÍAS) | L4: OBSERVACIONES
A5: 45924 | J5: =+H5/8 -> 0 | K5: =+I5/8 -> 0 | L5: INICIA EL PROYECTO- 24/09/2025 | M5: 1 DIA
A6: 45925 | D6: 50 | J6: =+H6/8 -> 0 | K6: =+I6/8 -> 0 | L6: ENTRA AL PROYECTO 24/09/2025 CURVA APRENDIZAJE GAVETA 7
A7: 45926 | D7: 180 | J7: =+H7/8 -> 0 | K7: =+I7/8 -> 0 | L7: GAVETA 7
A8: 45927 | J8: =+H8/8 -> 0 | K8: =+I8/8 -> 0
A9: 45928 | J9: =+H9/8 -> 0 | K9: =+I9/8 -> 0
A10: 45929 | D10: 170 | J10: =+H10/8 -> 0 | K10: =+I10/8 -> 0 | L10: GAVETA 7
A11: 45930 | D11: 201 | J11: =+H11/8 -> 0 | K11: =+I11/8 -> 0 | L11: GAVETA 7
A12: 45931 | D12: 236 | J12: =+H12/8 -> 0 | K12: =+I12/8 -> 0 | L12: GAVETA 7
A13: 45932 | D13: 122 | J13: =+H13/8 -> 0 | K13: =+I13/8 -> 0 | L13: GAVETA 7 Y 20
A14: 45933 | D14: 215 | J14: =+H14/8 -> 0 | K14: =+I14/8 -> 0 | L14: GAVETA 20
A15: 45934 | J15: =+H15/8 -> 0 | K15: =+I15/8 -> 0
A16: 45935 | J16: =+H16/8 -> 0 | K16: =+I16/8 -> 0
A17: 45936 | D17: 379 | J17: =+H17/8 -> 0 | K17: =+I17/8 -> 0 | L17: GAVETA 20
A18: 45937 | D18: 303 | J18: =+H18/8 -> 0 | K18: =+I18/8 -> 0 | L18: GAVETA 20 Y 37
A19: 45938 | D19: 262 | J19: =+H19/8 -> 0 | K19: =+I19/8 -> 0 | L19: GAVETA 37
A20: 45939 | D20: 295 | J20: =+H20/8 -> 0 | K20: =+I20/8 -> 0 | L20: GAVETA 37
A21: 45940 | D21: 272 | J21: =+H21/8 -> 0 | K21: =+I21/8 -> 0 | L21: GAVETA 37 Y 51 SE REALIZA SEGUIMIENTO AL 10 DE OCTUBRE EVIDENCIANDO UN SALDO PENDIENTE DE 485 REGISTROS FUID EQUIVALENTES A 1,9 DIAS EN META DE PRODUCCIÒN | N21: PDTE CONF GAV 51
A22: 45941 | J22: =+H22/8 -> 0 | K22: =+I22/8 -> 0
A23: 45942 | J23: =+H23/8 -> 0 | K23: =+I23/8 -> 0
A24: 45943 | F24: SALDO PEND RI | J24: =+H24/8 -> 0 | K24: =+I24/8 -> 0
A25: 45944 | D25: 161 | F25: =260-161 -> 99 | J25: =+H25/8 -> 0 | K25: =+I25/8 -> 0 | L25: GAVETA 51
A26: 45945 | E26: 32 | F26: =460*8 -> 3680 | G26: 3378 | H26: =F26-G26 -> 302 | J26: =+H26/8 -> 37.75 | K26: =+I26/8 -> 0 | L26: GAVETA 51 SE TOMAN REGISTROS DE INV COMO CONTROL DE CALIDAD INICIAL PROCESO DE CONTROL DE CALIDAD FUID KARDEX CON UNA META DE 460 REGISTROS QUE VA HASTA LA GAVETA ASIGNADA AL 10 DE OCTUBRE PARA INVENTARIO GAVETA 3
A27: 45946 | H27: =H26-460 -> -158 | J27: =+H27/8 -> -19.75 | K27: =+I27/8 -> 0
A28: 45947 | E28: 1027 | J28: =+H28/8 -> 0 | K28: =+I28/8 -> 0 | L28: GAVETA 3
A29: 45948 | J29: =+H29/8 -> 0 | K29: =+I29/8 -> 0
A30: 45949 | J30: =+H30/8 -> 0 | K30: =+I30/8 -> 0
A31: 45950 | E31: 256 | J31: =+H31/8 -> 0 | K31: =+I31/8 -> 0 | L31: GAVETA 36 (FALTA COMPLETAR REGISTROS DE GAVETA POR CALIDAD 2)
A32: 45951 | E32: 406 | J32: =+H32/8 -> 0 | K32: =+I32/8 -> 0 | L32: GAVETA 2 (FALTA LOS REGISTROS DE DIANA RAMOS)
A33: 45952 | J33: =+H33/8 -> 0 | K33: =+I33/8 -> 0
A34: 45953 | J34: =+H34/8 -> 0 | K34: =+I34/8 -> 0
A35: 45954 | E35: 1657 | J35: =+H35/8 -> 0 | K35: =+I35/8 -> 0 | L35: GAVETA 16 Y GAVETA 36 CALIDAD 2 SE REALIZA SEGUIMIENTO CON CORTE AL 34/10/2025 EVIDENCIANDO QUE PRESENTA UN SALDO PENDIENTE DE 584 REGISTROS DE INVENTARIO EQUIVALENTES A 2 DIAS EN META DE PRODUCCION DEL PROCESO DE CALIDAD DE INVETANRIO SE ENCUENTRA UN SALDO PENDIENTE DE 158 REGISTROS EQUIVALENTES A 0,3 DIAS EN META DE PRODUCCION CONCLUSION:SE CONCLUYE QUE A LA FECHA DEL CORTE PRESENTA UN SALDO TOTAL PENDIENTE EN METAS DE PRODUCCIÒN DE 2,3 DIAS
A36: 45955 | J36: =+H36/8 -> 0 | K36: =+I36/8 -> 0
A37: 45956 | J37: =+H37/8 -> 0 | K37: =+I37/8 -> 0
A38: 45957 | J38: =+H38/8 -> 0 | K38: =+I38/8 -> 0
A39: 45958 | J39: =+H39/8 -> 0 | K39: =+I39/8 -> 0
A40: 45959 | J40: =+H40/8 -> 0 | K40: =+I40/8 -> 0
...

Sheet JEIMY CORTES
A1: MINISTERIO DE DEFENSA 2.0
A2: REGISTRO DIARIO DE PRODUCCIÓN - 2025
A3: JEIMY CORTES
A4: FECHA | B4: ORDENACIÓN ALFABÉTICA KARDEX | C4: C.C.ORDENACIÓN ALFABÉTICA KARDEX | D4: REGISTOS FUID KARDEX | E4: C.C.REGISTOS FUID KARDEX | F4: ACTUALIZACIÓN FUID CARPETAS | G4: CC ACTUALIZACIÓN FUID CARPETAS | H4: OTRAS ACTIVIDADES (HORAS) | I4: NO ASISTIÓ (HORAS) | J4: OTRAS ACTIVIDADES (DÍAS) | K4: NO ASISTIÓ (DÍAS) | L4: OBSERVACIONES
A5: 45924 | J5: =+H5/8 -> 0 | K5: =+I5/8 -> 0
A6: 45925 | J6: =+H6/8 -> 0 | K6: =+I6/8 -> 0
A7: 45926 | J7: =+H7/8 -> 0 | K7: =+I7/8 -> 0
A8: 45927 | J8: =+H8/8 -> 0 | K8: =+I8/8 -> 0
A9: 45928 | J9: =+H9/8 -> 0 | K9: =+I9/8 -> 0
A10: 45929 | J10: =+H10/8 -> 0 | K10: =+I10/8 -> 0
A11: 45930 | J11: =+H11/8 -> 0 | K11: =+I11/8 -> 0
A12: 45931 | J12: =+H12/8 -> 0 | K12: =+I12/8 -> 0
A13: 45932 | J13: =+H13/8 -> 0 | K13: =+I13/8 -> 0
A14: 45933 | J14: =+H14/8 -> 0 | K14: =+I14/8 -> 0
A15: 45934 | J15: =+H15/8 -> 0 | K15: =+I15/8 -> 0
A16: 45935 | J16: =+H16/8 -> 0 | K16: =+I16/8 -> 0
A17: 45936 | J17: =+H17/8 -> 0 | K17: =+I17/8 -> 0 | L17: INGRESA AL PROYECTO 06/10/2025 REMITIDA DEL PROYECTO DAPRE DE DONDE VIENE CON UN SALDO PENDIENTE DE 3,5 DIAS EN META DE PRODUCCION INICIA CURVA DE APRENDIZAJE
A18: 45937 | D18: 260 | J18: =+H18/8 -> 0 | K18: =+I18/8 -> 0 | L18: GAVETA 36
A19: 45938 | D19: 260 | J19: =+H19/8 -> 0 | K19: =+I19/8 -> 0 | L19: GAVETA 36
A20: 45939 | D20: 260 | J20: =+H20/8 -> 0 | K20: =+I20/8 -> 0 | L20: GAVETA 36
A21: 45940 | D21: 260 | J21: =+H21/8 -> 0 | K21: =+I21/8 -> 0 | L21: GAVETA 36 SE REALIZA SEGUIMIENTO HASTA EL DIA 10/10/2025 EVIDENCIANDO QUE SE ENCUENTRA AL DIA CON LAS METAS DEL PRESENTE PROYECTO. CONTINUAN PDTE 3,5 DIAS DEL PROYECTO DAPRE
A22: 45941 | J22: =+H22/8 -> 0 | K22: =+I22/8 -> 0
A23: 45942 | J23: =+H23/8 -> 0 | K23: =+I23/8 -> 0
A24: 45943 | J24: =+H24/8 -> 0 | K24: =+I24/8 -> 0
A25: 45944 | D25: 295 | J25: =+H25/8 -> 0 | K25: =+I25/8 -> 0 | L25: GAVETA 62
A26: 45945 | D26: 291 | J26: =+H26/8 -> 0 | K26: =+I26/8 -> 0 | L26: GAVETA 62
A27: 45946 | D27: 290 | J27: =+H27/8 -> 0 | K27: =+I27/8 -> 0 | L27: GAVETA 62
A28: 45947 | D28: 292 | J28: =+H28/8 -> 0 | K28: =+I28/8 -> 0 | L28: GAVETA 62
A29: 45948 | J29: =+H29/8 -> 0 | K29: =+I29/8 -> 0
A30: 45949 | J30: =+H30/8 -> 0 | K30: =+I30/8 -> 0
A31: 45950 | D31: 292 | J31: =+H31/8 -> 0 | K31: =+I31/8 -> 0 | L31: GAVETA 62 Y 80
A32: 45951 | D32: 290 | J32: =+H32/8 -> 0 | K32: =+I32/8 -> 0 | L32: GAVETA 80
A33: 45952 | D33: 291 | J33: =+H33/8 -> 0 | K33: =+I33/8 -> 0 | L33: GAVETA 80
A34: 45953 | D34: 292 | J34: =+H34/8 -> 0 | K34: =+I34/8 -> 0 | L34: GAVETA 80
A35: 45954 | D35: 260 | J35: =+H35/8 -> 0 | K35: =+I35/8 -> 0 | L35: GAVETA 80 SE RECONOCE META POR AJUSTE E INSTRUCCION SE REALIZA SEGUIMIENTO CON CORTE AL 24/10/2025 EVIDENCIANDO QUE A LA FECHA PRESENTA UN SALDO A FAVOR DE 253 REGISTROS DE INVENTARIO FUID QUEDANDO UN SALDO PENDIENTE DE 2,5 DIAS EN METAS DE PRODUCCION
A36: 45955 | J36: =+H36/8 -> 0 | K36: =+I36/8 -> 0
A37: 45956 | J37: =+H37/8 -> 0 | K37: =+I37/8 -> 0
A38: 45957 | D38: 289 | J38: =+H38/8 -> 0 | K38: =+I38/8 -> 0 | L38: GAVETA 80
A39: 45958 | D39: 291 | J39: =+H39/8 -> 0 | K39: =+I39/8 -> 0 | L39: GAVETA 80 Y 102
A40: 45959 | D40: 290 | J40: =+H40/8 -> 0 | K40: =+I40/8 -> 0 | L40: GAVETA 102
...

Sheet SANDY CARREÑO
A1: MINISTERIO DE DEFENSA 2.0
A2: REGISTRO DIARIO DE PRODUCCIÓN - 2025
A3: SANDY CARREÑO
A4: FECHA | B4: ORDENACIÓN ALFABÉTICA KARDEX | C4: C.C.ORDENACIÓN ALFABÉTICA KARDEX | D4: REGISTOS FUID KARDEX | E4: C.C.REGISTOS FUID KARDEX | F4: ACTUALIZACIÓN FUID CARPETAS | G4: CC ACTUALIZACIÓN FUID CARPETAS | H4: OTRAS ACTIVIDADES (HORAS) | I4: NO ASISTIÓ (HORAS) | J4: OTRAS ACTIVIDADES (DÍAS) | K4: NO ASISTIÓ (DÍAS) | L4: OBSERVACIONES
A5: 45924 | J5: =+H5/8 -> 0 | K5: =+I5/8 -> 0
A6: 45925 | D6: 30 | J6: =+H6/8 -> 0 | K6: =+I6/8 -> 0 | L6: INGRESA 25/09/2025 AL PROYECTO CURVA DE APRENDIZAJE GAVETA 4
A7: 45926 | D7: 212 | J7: =+H7/8 -> 0 | K7: =+I7/8 -> 0 | L7: GAVETA 4
A8: 45927 | D8: 52 | J8: =+H8/8 -> 0 | K8: =+I8/8 -> 0 | L8: GAVETA 4
A9: 45928 | J9: =+H9/8 -> 0 | K9: =+I9/8 -> 0
A10: 45929 | D10: 45 | J10: =+H10/8 -> 0 | K10: =+I10/8 -> 0 | L10: GAVETA 10
A11: 45930 | J11: =+H11/8 -> 0 | K11: =+I11/8 -> 0
A12: 45931 | J12: =+H12/8 -> 0 | K12: =+I12/8 -> 0
A13: 45932 | D13: 386 | J13: =+H13/8 -> 0 | K13: =+I13/8 -> 0 | L13: GAVETA 10
A14: 45933 | D14: 137 | J14: =+H14/8 -> 0 | K14: =+I14/8 -> 0 | L14: GAVETA 25
A15: 45934 | D15: 218 | J15: =+H15/8 -> 0 | K15: =+I15/8 -> 0 | L15: GAVETA 25
A16: 45935 | J16: =+H16/8 -> 0 | K16: =+I16/8 -> 0
A17: 45936 | D17: 177 | J17: =+H17/8 -> 0 | K17: =+I17/8 -> 0 | L17: GAVETA 25
A18: 45937 | D18: 155 | J18: =+H18/8 -> 0 | K18: =+I18/8 -> 0 | L18: GAVETA 25
A19: 45938 | D19: 182 | J19: =+H19/8 -> 0 | K19: =+I19/8 -> 0 | L19: GAVETA 25
A20: 45939 | D20: 85 | J20: =+H20/8 -> 0 | K20: =+I20/8 -> 0 | L20: GAVETA 25
A21: 45940 | D21: 237 | J21: =+H21/8 -> 0 | K21: =+I21/8 -> 0 | L21: GAVETA 50 SE REALIZA SEGUIMIENTO AL 10 DE OCTUBRE DE 2025 EVIDENCIANDO UN SALDO PENDIENTE DE 974 REGISTROS DE FUID EQUIVALENTES A 3,7 DIAS EN METAS DE PRODUCCION
A22: 45941 | J22: =+H22/8 -> 0 | K22: =+I22/8 -> 0
A23: 45942 | J23: =+H23/8 -> 0 | K23: =+I23/8 -> 0
A24: 45943 | J24: =+H24/8 -> 0 | K24: =+I24/8 -> 0
A25: 45944 | D25: 166 | J25: =+H25/8 -> 0 | K25: =+I25/8 -> 0 | L25: GAVETA 50
A26: 45945 | D26: 115 | J26: =+H26/8 -> 0 | K26: =+I26/8 -> 0 | L26: GAVETA 50
A27: 45946 | D27: 201 | J27: =+H27/8 -> 0 | K27: =+I27/8 -> 0 | L27: GAVETA 50
A28: 45947 | D28: 161 | J28: =+H28/8 -> 0 | K28: =+I28/8 -> 0 | L28: GAVETA 50
A29: 45948 | D29: 120 | J29: =+H29/8 -> 0 | K29: =+I29/8 -> 0 | L29: GAVETA 50
A30: 45949 | D30: 150 | J30: =+H30/8 -> 0 | K30: =+I30/8 -> 0 | L30: GAVETA 50
A31: 45950 | D31: 263 | J31: =+H31/8 -> 0 | K31: =+I31/8 -> 0 | L31: GAVETA 50 Y 76
A32: 45951 | D32: 100 | J32: =+H32/8 -> 0 | K32: =+I32/8 -> 0 | L32: GAVETA 76
A33: 45952 | D33: 183 | J33: =+H33/8 -> 0 | K33: =+I33/8 -> 0 | L33: GAVETA 76
A34: 45953 | D34: 180 | J34: =+H34/8 -> 0 | K34: =+I34/8 -> 0 | L34: GAVETA 76
A35: 45954 | D35: 136 | J35: =+H35/8 -> 0 | K35: =+I35/8 -> 0 | L35: GAVETA 76
