Workbook
Name \A: #REF!
Name \A: #REF!
Name \A: #REF!
Name \A: #REF!
Name \B: [11]DATOS!$F$109
Name \C: [2]DATOS!#REF!
Name \C: [2]DATOS!#REF!
Name \C: [2]DATOS!#REF!
Name \C: [2]DATOS!#REF!
Name \D: #REF!
Name \D: #REF!
Name \D: #REF!
Name \D: #REF!
Name \E: [11]DATOS!#REF!
Name \E: [11]DATOS!#REF!
Name \E: [11]DATOS!#REF!
Name \E: [11]DATOS!#REF!
Name \L: #REF!
Name \L: #REF!
Name \L: #REF!
Name \L: #REF!
Name \P: #REF!
Name \P: #REF!
Name \P: #REF!
Name \P: #REF!
Name \Z: #REF!
Name \Z: #REF!
Name \Z: #REF!
Name \Z: #REF!
Name _____________________________________________AFC1: [1]INV!$A$25:$D$28
Name _____________________________________________AFC3: [1]INV!$F$25:$I$28
Name _____________________________________________AFC5: [1]INV!$K$25:$N$28
Name _____________________________________________BGC1: [1]INV!$A$5:$D$8
Name _____________________________________________BGC3: [1]INV!$F$5:$I$8
Name _____________________________________________BGC5: [1]INV!$K$5:$N$8
Name _____________________________________________CAC1: [1]INV!$A$19:$D$22
Name _____________________________________________CAC3: [1]INV!$F$19:$I$22
Name _____________________________________________CAC5: [1]INV!$K$19:$N$22
Name _____________________________________________SBC1: [1]INV!$A$12:$D$15
Name _____________________________________________SBC3: [1]INV!$F$12:$I$15
Name _____________________________________________SBC5: [1]INV!$K$12:$N$15
Name ____________________________________________AFC1: [1]INV!$A$25:$D$28
Name ____________________________________________AFC3: [1]INV!$F$25:$I$28
Name ____________________________________________AFC5: [1]INV!$K$25:$N$28
Name ____________________________________________BGC1: [1]INV!$A$5:$D$8
Name ____________________________________________BGC3: [1]INV!$F$5:$I$8
Name ____________________________________________BGC5: [1]INV!$K$5:$N$8
Name ____________________________________________CAC1: [1]INV!$A$19:$D$22
Name ____________________________________________CAC3: [1]INV!$F$19:$I$22
Name ____________________________________________CAC5: [1]INV!$K$19:$N$22
Name ____________________________________________SBC1: [1]INV!$A$12:$D$15
Name ____________________________________________SBC3: [1]INV!$F$12:$I$15
Name ____________________________________________SBC5: [1]INV!$K$12:$N$15
Name ___________________________________________AFC1: [1]INV!$A$25:$D$28
Name ___________________________________________AFC3: [1]INV!$F$25:$I$28
Name ___________________________________________AFC5: [1]INV!$K$25:$N$28
Name ___________________________________________BGC1: [1]INV!$A$5:$D$8
Name ___________________________________________BGC3: [1]INV!$F$5:$I$8
Name ___________________________________________BGC5: [1]INV!$K$5:$N$8
Name ___________________________________________CAC1: [1]INV!$A$19:$D$22

Sheet ANALISIS COMPARATIVO V U
A1: ESTUDIO DE MERCADO Y/O ANALISIS COMPARATIVO DE PRECIOS
A4: RFI DE FERRETERIA PROCESO IDACO | O4: El coheficiente de variacion Celda sg (Amarillo), se debe modificar en el porcentaje establecido para el proceso, como ejemplo se establece un 20%. Modificar la formula de la celda S7 de acuerdo con lo establecido en la celda T5 y copiar formula para los demas items
O5: PROMEDIO UNITARIO DE LAS COTIZACIONES ALLEGADAS | P5: COTIZACIONES ALLEGADAS | Q5: DESVIACION ESTANDAR | R5: COEFICIENTE DE VARIACION (CV) | S5: 0.2 | T5: SI / NO APLICA LIMITE | V5: LIMITE INFERIOR LIMITE SUPERIOR | Y5: VALOR UNITARIO PROMEDIO | AA5: JUSTIFICACION | AB5: DESVIACION RESPECTO AL PROMEDIO | AM5: VALIDACION
A6: No. | B6: NOMBRE DEL ÍTEM | C6: RFI | D6: 178209_-_IDACO_-_region_5_Prese | E6: 178209_IDACO | F6: RFI_FERRETERIA_(16)_Evento_1782 | G6: EVENTO_No._178209_SEP.__24_SEP | H6: 178209_RFI_FERRETERIA | I6: RFI_178209 | M6: VALOR UNITARIO PROMEDIO | S6: COHEFICIENTE CV ESTABLECIDO PARA EL PROCESO 20 % | V6: Rango inferior de eliminación | W6: Rango superior de eliminación | AB6: =C6 -> RFI | AC6: =D6 -> 178209_-_IDACO_-_region_5_Prese | AD6: =E6 -> 178209_IDACO | AE6: =F6 -> RFI_FERRETERIA_(16)_Evento_1782 | AF6: =G6 -> EVENTO_No._178209_SEP.__24_SEP | AG6: =H6 -> 178209_RFI_FERRETERIA | AH6: =I6 -> RFI_178209 | AI6: =J6 -> 0 | ... AK6: =L6 -> 0 | AM6: =C6 -> RFI | AN6: =D6 -> 178209_-_IDACO_-_region_5_Prese | AO6: =E6 -> 178209_IDACO | AP6: =F6 -> RFI_FERRETERIA_(16)_Evento_1782 | AQ6: =G6 -> EVENTO_No._178209_SEP.__24_SEP | AR6: =H6 -> 178209_RFI_FERRETERIA | AS6: =I6 -> RFI_178209 | AT6: =J6 -> 0 | ... AV6: =L6 -> 0
A7: =+[55]ESPECIFICACIONES!A2 -> #REF! | B7: =+[55]ESPECIFICACIONES!B2 -> #REF! | C7: =+[55]RFI!F2 -> #REF! | D7: =+'[55]178209_-_IDACO_-_region_5_Prese'!F4 -> #REF! | E7: =+'[55]178209_IDACO'!F4 -> #REF! | F7: =+'[55]RFI_FERRETERIA_(16)_Evento_1782'!F4 -> #REF! | G7: =+'[55]EVENTO_No._178209_SEP.__24_SEP'!F5 -> #REF! | H7: =+'[55]178209_RFI_FERRETERIA'!F4 -> #REF! | I7: =+[55]RFI_178209!F4 -> #REF! | M7: =IF(P7<=1,Y7,(ROUND(+Y7,0))) -> #DIV/0! | O7: =ROUND(AVERAGE(C7:L7),0) -> #REF! | P7: =COUNT(C7:L7) -> 0 | Q7: =+STDEVA(C7:L7) -> #REF! | R7: =+Q7/O7 -> #REF! | S7: =IF(R7>=$S$5,"COEFICIENTE DE VARIACION MAYOR AL 20%",IF(R7<=$S$5,"COEFICIENTE DE VARIACION MENOR AL 20%")) -> #REF! | T7: =IF(P7<=1,"NO APLICA LIMITES",IF(R7>=$S$5,"SI APLICA LIMITE INFERIOR Y SUPERIOR",IF(R7<=$S$5,"NO APLICA LIMITES"))) -> NO APLICA LIMITES | V7: =O7-Q7 -> #REF! | W7: =O7+Q7 -> #REF! | Y7: =AVERAGEIFS(C7:L7,AM7:AV7,"promediar") -> #DIV/0! | AA7: =IF(T7="NO APLICA LIMITES","Las cotizaciones tenidas en cuenta son las allegadas por las empresas: "&IF(AND(AM7="PROMEDIAR",C7<>""),$C$6&", ","")&IF(AND(AN7="PROMEDIAR",D7<>""),$D$6&", ","")&IF(AND(AO7="PROMEDIAR",E7<>""),$E$6&", ","")&IF(AND(AP7="PROMEDIAR",F7<>""),$F$6&", ","")&IF(AND(AQ7="PROMEDIAR",G7<>""),$G$6&", ","")&" "&IF(AND(AR7="PROMEDIAR",H7<>""),$H$6&", ","")&" "&IF(AND(AS7="PROMEDIAR",I7<>""),$I$6&", ","")&" "&IF(AND(AT7="PROMEDIAR",J7<>""),$J$6&", ","")&" "&IF(AND(AU7="PROMEDIAR",K7<>""),$K$6&", ","")&" "&IF(AND(AV7="PROMEDIAR",L7<>""),$L$6&", ","")&" por encontrarse dentro del promedio requerido por la Corporación","Las cotizaciones tenidas en cuenta son las allegadas por las empresas: "&IF(AND(AM7="PROMEDIAR",C7<>""),$C$6&", ","")&IF(AND(AN7="PROMEDIAR",D7<>""),$D$6&", ","")&IF(AND(AO7="PROMEDIAR",E7<>""),$E$6&", ","")&IF(AND(AP7="PROMEDIAR",F7<>""),$F$6&", ","")&IF(AND(AQ7="PROMEDIAR",G7<>""),$G$6&", ","")&" "&IF(AND(AR7="PROMEDIAR",H7<>""),$H$6&", ","")&" "&IF(AND(AS7="PROMEDIAR",I7<>""),$I$6&", ","")&" "&IF(AND(AT7="PROMEDIAR",J7<>""),$J$6&", ","")&" "&IF(AND(AU7="PROMEDIAR",K7<>""),$K$6&", ","")&" "&IF(AND(AV7="PROMEDIAR",L7<>""),$L$6&", ","")&" por encontrarse dentro del promedio requerido por la Corporación"&" y se descarta los valores cotizados por: "&IF(AND(AM7="DESCARTAR",C7<>""),$C$6&", ","")&IF(AND(AN7="DESCARTAR",D7<>""),$D$6&", ","")&IF(AND(AO7="DESCARTAR",E7<>""),$E$6&", ","")&IF(AND(AP7="DESCARTAR",F7<>""),$F$6&", ","")&IF(AND(AQ7="DESCARTAR",G7<>""),$G$6&", ","")&" "&IF(AND(AR7="DESCARTAR",H7<>""),$H$6&", ","")&" "&IF(AND(AS7="PROMEDIAR",I7<>""),$I$6&", ","")&" "&IF(AND(AT7="PROMEDIAR",J7<>""),$J$6&", ","")&" "&IF(AND(AU7="PROMEDIAR",K7<>""),$K$6&", ","")&" "&IF(AND(AV7="PROMEDIAR",L7<>""),$L$6&", ","")&"por ser un dato atípico.") -> #REF! | AB7: =IF(C7<>"",(C7/$M7-1),"") -> #REF! | AC7: =IF(D7<>"",(D7/$M7-1),"") -> #REF! | AD7: =IF(E7<>"",(E7/$M7-1),"") -> #REF! | AE7: =IF(F7<>"",(F7/$M7-1),"") -> #REF! | AF7: =IF(G7<>"",(G7/$M7-1),"") -> #REF! | AG7: =IF(H7<>"",(H7/$M7-1),"") -> #REF! | AH7: =IF(I7<>"",(I7/$I7-1),"") -> #REF! | AI7: =IF(J7<>"",(J7/$I7-1),"") | AJ7: =IF(K7<>"",(K7/$I7-1),"") | AK7: =IF(L7<>"",(L7/$I7-1),"") | AM7: =IF(C7<>"",IF(C7=0,"SIN COTIZACIÓN",IF(T7="NO APLICA LIMITES","PROMEDIAR",IF(C7<V7,"DESCARTAR",IF(C7>W7,"DESCARTAR","PROMEDIAR")))),"") -> #REF! | AN7: =IF(D7<>"",IF(D7=0,"SIN COTIZACIÓN",IF($T7="NO APLICA LIMITES","PROMEDIAR",IF(D7<$V7,"DESCARTAR",IF(D7>$W7,"DESCARTAR","PROMEDIAR")))),"") -> #REF! | AO7: =IF(E7<>"",IF(E7=0,"SIN COTIZACIÓN",IF($T7="NO APLICA LIMITES","PROMEDIAR",IF(E7<$V7,"DESCARTAR",IF(E7>$W7,"DESCARTAR","PROMEDIAR")))),"") -> #REF! | AP7: =IF(F7<>"",IF(F7=0,"SIN COTIZACIÓN",IF($T7="NO APLICA LIMITES","PROMEDIAR",IF(F7<$V7,"DESCARTAR",IF(F7>$W7,"DESCARTAR","PROMEDIAR")))),"") -> #REF! | AQ7: =IF(G7<>"",IF(G7=0,"SIN COTIZACIÓN",IF($T7="NO APLICA LIMITES","PROMEDIAR",IF(G7<$V7,"DESCARTAR",IF(G7>$W7,"DESCARTAR","PROMEDIAR")))),"") -> #REF! | AR7: =IF(H7<>"",IF(H7=0,"SIN COTIZACIÓN",IF($T7="NO APLICA LIMITES","PROMEDIAR",IF(H7<$V7,"DESCARTAR",IF(H7>$W7,"DESCARTAR","PROMEDIAR")))),"") -> #REF! | AS7: =IF(I7<>"",IF(I7=0,"SIN COTIZACIÓN",IF($T7="NO APLICA LIMITES","PROMEDIAR",IF(I7<$V7,"DESCARTAR",IF(I7>$W7,"DESCARTAR","PROMEDIAR")))),"") -> #REF! | AT7: =IF(J7<>"",IF(J7=0,"SIN COTIZACIÓN",IF($T7="NO APLICA LIMITES","PROMEDIAR",IF(J7<$V7,"DESCARTAR",IF(J7>$W7,"DESCARTAR","PROMEDIAR")))),"") | AU7: =IF(K7<>"",IF(K7=0,"SIN COTIZACIÓN",IF($T7="NO APLICA LIMITES","PROMEDIAR",IF(K7<$V7,"DESCARTAR",IF(K7>$W7,"DESCARTAR","PROMEDIAR")))),"") | AV7: =IF(L7<>"",IF(L7=0,"SIN COTIZACIÓN",IF($T7="NO APLICA LIMITES","PROMEDIAR",IF(L7<$V7,"DESCARTAR",IF(L7>$W7,"DESCARTAR","PROMEDIAR")))),"")
A8: =+[55]ESPECIFICACIONES!A3 -> #REF! | B8: =+[55]ESPECIFICACIONES!B3 -> #REF! | C8: =+[55]RFI!F3 -> #REF! | D8: =+'[55]178209_-_IDACO_-_region_5_Prese'!F5 -> #REF! | E8: =+'[55]178209_IDACO'!F5 -> #REF! | F8: =+'[55]RFI_FERRETERIA_(16)_Evento_1782'!F5 -> #REF! | G8: =+'[55]EVENTO_No._178209_SEP.__24_SEP'!F6 -> #REF! | H8: =+'[55]178209_RFI_FERRETERIA'!F5 -> #REF! | I8: =+[55]RFI_178209!F5 -> #REF! | M8: =IF(P8<=1,Y8,(ROUND(+Y8,0))) -> #DIV/0! | O8: =ROUND(AVERAGE(C8:L8),0) -> #REF! | P8: =COUNT(C8:L8) -> 0 | Q8: =+STDEVA(C8:L8) -> #REF! | R8: =+Q8/O8 -> #REF! | S8: =IF(R8>=$S$5,"COEFICIENTE DE VARIACION MAYOR AL 20%",IF(R8<=$S$5,"COEFICIENTE DE VARIACION MENOR AL 20%")) -> #REF! | T8: =IF(P8<=1,"NO APLICA LIMITES",IF(R8>=$S$5,"SI APLICA LIMITE INFERIOR Y SUPERIOR",IF(R8<=$S$5,"NO APLICA LIMITES"))) -> NO APLICA LIMITES | V8: =O8-Q8 -> #REF! | W8: =O8+Q8 -> #REF! | Y8: =AVERAGEIFS(C8:L8,AM8:AV8,"promediar") -> #DIV/0! | AA8: =IF(T8="NO APLICA LIMITES","Las cotizaciones tenidas en cuenta son las allegadas por las empresas: "&IF(AND(AM8="PROMEDIAR",C8<>""),$C$6&", ","")&IF(AND(AN8="PROMEDIAR",D8<>""),$D$6&", ","")&IF(AND(AO8="PROMEDIAR",E8<>""),$E$6&", ","")&IF(AND(AP8="PROMEDIAR",F8<>""),$F$6&", ","")&IF(AND(AQ8="PROMEDIAR",G8<>""),$G$6&", ","")&" "&IF(AND(AR8="PROMEDIAR",H8<>""),$H$6&", ","")&" "&IF(AND(AS8="PROMEDIAR",I8<>""),$I$6&", ","")&" "&IF(AND(AT8="PROMEDIAR",J8<>""),$J$6&", ","")&" "&IF(AND(AU8="PROMEDIAR",K8<>""),$K$6&", ","")&" "&IF(AND(AV8="PROMEDIAR",L8<>""),$L$6&", ","")&" por encontrarse dentro del promedio requerido por la Corporación","Las cotizaciones tenidas en cuenta son las allegadas por las empresas: "&IF(AND(AM8="PROMEDIAR",C8<>""),$C$6&", ","")&IF(AND(AN8="PROMEDIAR",D8<>""),$D$6&", ","")&IF(AND(AO8="PROMEDIAR",E8<>""),$E$6&", ","")&IF(AND(AP8="PROMEDIAR",F8<>""),$F$6&", ","")&IF(AND(AQ8="PROMEDIAR",G8<>""),$G$6&", ","")&" "&IF(AND(AR8="PROMEDIAR",H8<>""),$H$6&", ","")&" "&IF(AND(AS8="PROMEDIAR",I8<>""),$I$6&", ","")&" "&IF(AND(AT8="PROMEDIAR",J8<>""),$J$6&", ","")&" "&IF(AND(AU8="PROMEDIAR",K8<>""),$K$6&", ","")&" "&IF(AND(AV8="PROMEDIAR",L8<>""),$L$6&", ","")&" por encontrarse dentro del promedio requerido por la Corporación"&" y se descarta los valores cotizados por: "&IF(AND(AM8="DESCARTAR",C8<>""),$C$6&", ","")&IF(AND(AN8="DESCARTAR",D8<>""),$D$6&", ","")&IF(AND(AO8="DESCARTAR",E8<>""),$E$6&", ","")&IF(AND(AP8="DESCARTAR",F8<>""),$F$6&", ","")&IF(AND(AQ8="DESCARTAR",G8<>""),$G$6&", ","")&" "&IF(AND(AR8="DESCARTAR",H8<>""),$H$6&", ","")&" "&IF(AND(AS8="PROMEDIAR",I8<>""),$I$6&", ","")&" "&IF(AND(AT8="PROMEDIAR",J8<>""),$J$6&", ","")&" "&IF(AND(AU8="PROMEDIAR",K8<>""),$K$6&", ","")&" "&IF(AND(AV8="PROMEDIAR",L8<>""),$L$6&", ","")&"por ser un dato atípico.") -> #REF! | AB8: =IF(C8<>"",(C8/$M8-1),"") -> #REF! | AC8: =IF(D8<>"",(D8/$M8-1),"") -> #REF! | AD8: =IF(E8<>"",(E8/$M8-1),"") -> #REF! | AE8: =IF(F8<>"",(F8/$M8-1),"") -> #REF! | AF8: =IF(G8<>"",(G8/$M8-1),"") -> #REF! | AG8: =IF(H8<>"",(H8/$M8-1),"") -> #REF! | AH8: =IF(I8<>"",(I8/$I8-1),"") -> #REF! | AI8: =IF(J8<>"",(J8/$I8-1),"") | AJ8: =IF(K8<>"",(K8/$I8-1),"") | AK8: =IF(L8<>"",(L8/$I8-1),"") | AM8: =IF(C8<>"",IF(C8=0,"SIN COTIZACIÓN",IF(T8="NO APLICA LIMITES","PROMEDIAR",IF(C8<V8,"DESCARTAR",IF(C8>W8,"DESCARTAR","PROMEDIAR")))),"") -> #REF! | AN8: =IF(D8<>"",IF(D8=0,"SIN COTIZACIÓN",IF($T8="NO APLICA LIMITES","PROMEDIAR",IF(D8<$V8,"DESCARTAR",IF(D8>$W8,"DESCARTAR","PROMEDIAR")))),"") -> #REF! | AO8: =IF(E8<>"",IF(E8=0,"SIN COTIZACIÓN",IF($T8="NO APLICA LIMITES","PROMEDIAR",IF(E8<$V8,"DESCARTAR",IF(E8>$W8,"DESCARTAR","PROMEDIAR")))),"") -> #REF! | AP8: =IF(F8<>"",IF(F8=0,"SIN COTIZACIÓN",IF($T8="NO APLICA LIMITES","PROMEDIAR",IF(F8<$V8,"DESCARTAR",IF(F8>$W8,"DESCARTAR","PROMEDIAR")))),"") -> #REF! | AQ8: =IF(G8<>"",IF(G8=0,"SIN COTIZACIÓN",IF($T8="NO APLICA LIMITES","PROMEDIAR",IF(G8<$V8,"DESCARTAR",IF(G8>$W8,"DESCARTAR","PROMEDIAR")))),"") -> #REF! | AR8: =IF(H8<>"",IF(H8=0,"SIN COTIZACIÓN",IF($T8="NO APLICA LIMITES","PROMEDIAR",IF(H8<$V8,"DESCARTAR",IF(H8>$W8,"DESCARTAR","PROMEDIAR")))),"") -> #REF! | AS8: =IF(I8<>"",IF(I8=0,"SIN COTIZACIÓN",IF($T8="NO APLICA LIMITES","PROMEDIAR",IF(I8<$V8,"DESCARTAR",IF(I8>$W8,"DESCARTAR","PROMEDIAR")))),"") -> #REF! | AT8: =IF(J8<>"",IF(J8=0,"SIN COTIZACIÓN",IF($T8="NO APLICA LIMITES","PROMEDIAR",IF(J8<$V8,"DESCARTAR",IF(J8>$W8,"DESCARTAR","PROMEDIAR")))),"") | AU8: =IF(K8<>"",IF(K8=0,"SIN COTIZACIÓN",IF($T8="NO APLICA LIMITES","PROMEDIAR",IF(K8<$V8,"DESCARTAR",IF(K8>$W8,"DESCARTAR","PROMEDIAR")))),"") | AV8: =IF(L8<>"",IF(L8=0,"SIN COTIZACIÓN",IF($T8="NO APLICA LIMITES","PROMEDIAR",IF(L8<$V8,"DESCARTAR",IF(L8>$W8,"DESCARTAR","PROMEDIAR")))),"") | AZ8: ,
A9: =+[55]ESPECIFICACIONES!A4 -> #REF! | B9: =+[55]ESPECIFICACIONES!B4 -> #REF! | C9: =+[55]RFI!F4 -> #REF! | D9: =+'[55]178209_-_IDACO_-_region_5_Prese'!F6 -> #REF! | E9: =+'[55]178209_IDACO'!F6 -> #REF! | F9: =+'[55]RFI_FERRETERIA_(16)_Evento_1782'!F6 -> #REF! | G9: =+'[55]EVENTO_No._178209_SEP.__24_SEP'!F7 -> #REF! | H9: =+'[55]178209_RFI_FERRETERIA'!F6 -> #REF! | I9: =+[55]RFI_178209!F6 -> #REF! | M9: =IF(P9<=1,Y9,(ROUND(+Y9,0))) -> #DIV/0! | O9: =ROUND(AVERAGE(C9:L9),0) -> #REF! | P9: =COUNT(C9:L9) -> 0 | Q9: =+STDEVA(C9:L9) -> #REF! | R9: =+Q9/O9 -> #REF! | S9: =IF(R9>=$S$5,"COEFICIENTE DE VARIACION MAYOR AL 20%",IF(R9<=$S$5,"COEFICIENTE DE VARIACION MENOR AL 20%")) -> #REF! | T9: =IF(P9<=1,"NO APLICA LIMITES",IF(R9>=$S$5,"SI APLICA LIMITE INFERIOR Y SUPERIOR",IF(R9<=$S$5,"NO APLICA LIMITES"))) -> NO APLICA LIMITES | V9: =O9-Q9 -> #REF! | W9: =O9+Q9 -> #REF! | Y9: =AVERAGEIFS(C9:L9,AM9:AV9,"promediar") -> #DIV/0! | AA9: =IF(T9="NO APLICA LIMITES","Las cotizaciones tenidas en cuenta son las allegadas por las empresas: "&IF(AND(AM9="PROMEDIAR",C9<>""),$C$6&", ","")&IF(AND(AN9="PROMEDIAR",D9<>""),$D$6&", ","")&IF(AND(AO9="PROMEDIAR",E9<>""),$E$6&", ","")&IF(AND(AP9="PROMEDIAR",F9<>""),$F$6&", ","")&IF(AND(AQ9="PROMEDIAR",G9<>""),$G$6&", ","")&" "&IF(AND(AR9="PROMEDIAR",H9<>""),$H$6&", ","")&" "&IF(AND(AS9="PROMEDIAR",I9<>""),$I$6&", ","")&" "&IF(AND(AT9="PROMEDIAR",J9<>""),$J$6&", ","")&" "&IF(AND(AU9="PROMEDIAR",K9<>""),$K$6&", ","")&" "&IF(AND(AV9="PROMEDIAR",L9<>""),$L$6&", ","")&" por encontrarse dentro del promedio requerido por la Corporación","Las cotizaciones tenidas en cuenta son las allegadas por las empresas: "&IF(AND(AM9="PROMEDIAR",C9<>""),$C$6&", ","")&IF(AND(AN9="PROMEDIAR",D9<>""),$D$6&", ","")&IF(AND(AO9="PROMEDIAR",E9<>""),$E$6&", ","")&IF(AND(AP9="PROMEDIAR",F9<>""),$F$6&", ","")&IF(AND(AQ9="PROMEDIAR",G9<>""),$G$6&", ","")&" "&IF(AND(AR9="PROMEDIAR",H9<>""),$H$6&", ","")&" "&IF(AND(AS9="PROMEDIAR",I9<>""),$I$6&", ","")&" "&IF(AND(AT9="PROMEDIAR",J9<>""),$J$6&", ","")&" "&IF(AND(AU9="PROMEDIAR",K9<>""),$K$6&", ","")&" "&IF(AND(AV9="PROMEDIAR",L9<>""),$L$6&", ","")&" por encontrarse dentro del promedio requerido por la Corporación"&" y se descarta los valores cotizados por: "&IF(AND(AM9="DESCARTAR",C9<>""),$C$6&", ","")&IF(AND(AN9="DESCARTAR",D9<>""),$D$6&", ","")&IF(AND(AO9="DESCARTAR",E9<>""),$E$6&", ","")&IF(AND(AP9="DESCARTAR",F9<>""),$F$6&", ","")&IF(AND(AQ9="DESCARTAR",G9<>""),$G$6&", ","")&" "&IF(AND(AR9="DESCARTAR",H9<>""),$H$6&", ","")&" "&IF(AND(AS9="PROMEDIAR",I9<>""),$I$6&", ","")&" "&IF(AND(AT9="PROMEDIAR",J9<>""),$J$6&", ","")&" "&IF(AND(AU9="PROMEDIAR",K9<>""),$K$6&", ","")&" "&IF(AND(AV9="PROMEDIAR",L9<>""),$L$6&", ","")&"por ser un dato atípico.") -> #REF! | AB9: =IF(C9<>"",(C9/$M9-1),"") -> #REF! | AC9: =IF(D9<>"",(D9/$M9-1),"") -> #REF! | AD9: =IF(E9<>"",(E9/$M9-1),"") -> #REF! | AE9: =IF(F9<>"",(F9/$M9-1),"") -> #REF! | AF9: =IF(G9<>"",(G9/$M9-1),"") -> #REF! | AG9: =IF(H9<>"",(H9/$M9-1),"") -> #REF! | AH9: =IF(I9<>"",(I9/$I9-1),"") -> #REF! | AI9: =IF(J9<>"",(J9/$I9-1),"") | AJ9: =IF(K9<>"",(K9/$I9-1),"") | AK9: =IF(L9<>"",(L9/$I9-1),"") | AM9: =IF(C9<>"",IF(C9=0,"SIN COTIZACIÓN",IF(T9="NO APLICA LIMITES","PROMEDIAR",IF(C9<V9,"DESCARTAR",IF(C9>W9,"DESCARTAR","PROMEDIAR")))),"") -> #REF! | AN9: =IF(D9<>"",IF(D9=0,"SIN COTIZACIÓN",IF($T9="NO APLICA LIMITES","PROMEDIAR",IF(D9<$V9,"DESCARTAR",IF(D9>$W9,"DESCARTAR","PROMEDIAR")))),"") -> #REF! | AO9: =IF(E9<>"",IF(E9=0,"SIN COTIZACIÓN",IF($T9="NO APLICA LIMITES","PROMEDIAR",IF(E9<$V9,"DESCARTAR",IF(E9>$W9,"DESCARTAR","PROMEDIAR")))),"") -> #REF! | AP9: =IF(F9<>"",IF(F9=0,"SIN COTIZACIÓN",IF($T9="NO APLICA LIMITES","PROMEDIAR",IF(F9<$V9,"DESCARTAR",IF(F9>$W9,"DESCARTAR","PROMEDIAR")))),"") -> #REF! | AQ9: =IF(G9<>"",IF(G9=0,"SIN COTIZACIÓN",IF($T9="NO APLICA LIMITES","PROMEDIAR",IF(G9<$V9,"DESCARTAR",IF(G9>$W9,"DESCARTAR","PROMEDIAR")))),"") -> #REF! | AR9: =IF(H9<>"",IF(H9=0,"SIN COTIZACIÓN",IF($T9="NO APLICA LIMITES","PROMEDIAR",IF(H9<$V9,"DESCARTAR",IF(H9>$W9,"DESCARTAR","PROMEDIAR")))),"") -> #REF! | AS9: =IF(I9<>"",IF(I9=0,"SIN COTIZACIÓN",IF($T9="NO APLICA LIMITES","PROMEDIAR",IF(I9<$V9,"DESCARTAR",IF(I9>$W9,"DESCARTAR","PROMEDIAR")))),"") -> #REF! | AT9: =IF(J9<>"",IF(J9=0,"SIN COTIZACIÓN",IF($T9="NO APLICA LIMITES","PROMEDIAR",IF(J9<$V9,"DESCARTAR",IF(J9>$W9,"DESCARTAR","PROMEDIAR")))),"") | AU9: =IF(K9<>"",IF(K9=0,"SIN COTIZACIÓN",IF($T9="NO APLICA LIMITES","PROMEDIAR",IF(K9<$V9,"DESCARTAR",IF(K9>$W9,"DESCARTAR","PROMEDIAR")))),"") | AV9: =IF(L9<>"",IF(L9=0,"SIN COTIZACIÓN",IF($T9="NO APLICA LIMITES","PROMEDIAR",IF(L9<$V9,"DESCARTAR",IF(L9>$W9,"DESCARTAR","PROMEDIAR")))),"")
A10: =+[55]ESPECIFICACIONES!A5 -> #REF! | B10: =+[55]ESPECIFICACIONES!B5 -> #REF! | C10: =+[55]RFI!F5 -> #REF! | D10: =+'[55]178209_-_IDACO_-_region_5_Prese'!F7 -> #REF! | E10: =+'[55]178209_IDACO'!F7 -> #REF! | F10: =+'[55]RFI_FERRETERIA_(16)_Evento_1782'!F7 -> #REF! | G10: =+'[55]EVENTO_No._178209_SEP.__24_SEP'!F8 -> #REF! | H10: =+'[55]178209_RFI_FERRETERIA'!F7 -> #REF! | I10: =+[55]RFI_178209!F7 -> #REF! | M10: =IF(P10<=1,Y10,(ROUND(+Y10,0))) -> #DIV/0! | O10: =ROUND(AVERAGE(C10:L10),0) -> #REF! | P10: =COUNT(C10:L10) -> 0 | Q10: =+STDEVA(C10:L10) -> #REF! | R10: =+Q10/O10 -> #REF! | S10: =IF(R10>=$S$5,"COEFICIENTE DE VARIACION MAYOR AL 20%",IF(R10<=$S$5,"COEFICIENTE DE VARIACION MENOR AL 20%")) -> #REF! | T10: =IF(P10<=1,"NO APLICA LIMITES",IF(R10>=$S$5,"SI APLICA LIMITE INFERIOR Y SUPERIOR",IF(R10<=$S$5,"NO APLICA LIMITES"))) -> NO APLICA LIMITES | V10: =O10-Q10 -> #REF! | W10: =O10+Q10 -> #REF! | Y10: =AVERAGEIFS(C10:L10,AM10:AV10,"promediar") -> #DIV/0! | AA10: =IF(T10="NO APLICA LIMITES","Las cotizaciones tenidas en cuenta son las allegadas por las empresas: "&IF(AND(AM10="PROMEDIAR",C10<>""),$C$6&", ","")&IF(AND(AN10="PROMEDIAR",D10<>""),$D$6&", ","")&IF(AND(AO10="PROMEDIAR",E10<>""),$E$6&", ","")&IF(AND(AP10="PROMEDIAR",F10<>""),$F$6&", ","")&IF(AND(AQ10="PROMEDIAR",G10<>""),$G$6&", ","")&" "&IF(AND(AR10="PROMEDIAR",H10<>""),$H$6&", ","")&" "&IF(AND(AS10="PROMEDIAR",I10<>""),$I$6&", ","")&" "&IF(AND(AT10="PROMEDIAR",J10<>""),$J$6&", ","")&" "&IF(AND(AU10="PROMEDIAR",K10<>""),$K$6&", ","")&" "&IF(AND(AV10="PROMEDIAR",L10<>""),$L$6&", ","")&" por encontrarse dentro del promedio requerido por la Corporación","Las cotizaciones tenidas en cuenta son las allegadas por las empresas: "&IF(AND(AM10="PROMEDIAR",C10<>""),$C$6&", ","")&IF(AND(AN10="PROMEDIAR",D10<>""),$D$6&", ","")&IF(AND(AO10="PROMEDIAR",E10<>""),$E$6&", ","")&IF(AND(AP10="PROMEDIAR",F10<>""),$F$6&", ","")&IF(AND(AQ10="PROMEDIAR",G10<>""),$G$6&", ","")&" "&IF(AND(AR10="PROMEDIAR",H10<>""),$H$6&", ","")&" "&IF(AND(AS10="PROMEDIAR",I10<>""),$I$6&", ","")&" "&IF(AND(AT10="PROMEDIAR",J10<>""),$J$6&", ","")&" "&IF(AND(AU10="PROMEDIAR",K10<>""),$K$6&", ","")&" "&IF(AND(AV10="PROMEDIAR",L10<>""),$L$6&", ","")&" por encontrarse dentro del promedio requerido por la Corporación"&" y se descarta los valores cotizados por: "&IF(AND(AM10="DESCARTAR",C10<>""),$C$6&", ","")&IF(AND(AN10="DESCARTAR",D10<>""),$D$6&", ","")&IF(AND(AO10="DESCARTAR",E10<>""),$E$6&", ","")&IF(AND(AP10="DESCARTAR",F10<>""),$F$6&", ","")&IF(AND(AQ10="DESCARTAR",G10<>""),$G$6&", ","")&" "&IF(AND(AR10="DESCARTAR",H10<>""),$H$6&", ","")&" "&IF(AND(AS10="PROMEDIAR",I10<>""),$I$6&", ","")&" "&IF(AND(AT10="PROMEDIAR",J10<>""),$J$6&", ","")&" "&IF(AND(AU10="PROMEDIAR",K10<>""),$K$6&", ","")&" "&IF(AND(AV10="PROMEDIAR",L10<>""),$L$6&", ","")&"por ser un dato atípico.") -> #REF! | AB10: =IF(C10<>"",(C10/$M10-1),"") -> #REF! | AC10: =IF(D10<>"",(D10/$M10-1),"") -> #REF! | AD10: =IF(E10<>"",(E10/$M10-1),"") -> #REF! | AE10: =IF(F10<>"",(F10/$M10-1),"") -> #REF! | AF10: =IF(G10<>"",(G10/$M10-1),"") -> #REF! | AG10: =IF(H10<>"",(H10/$M10-1),"") -> #REF! | AH10: =IF(I10<>"",(I10/$I10-1),"") -> #REF! | AI10: =IF(J10<>"",(J10/$I10-1),"") | AJ10: =IF(K10<>"",(K10/$I10-1),"") | AK10: =IF(L10<>"",(L10/$I10-1),"") | AM10: =IF(C10<>"",IF(C10=0,"SIN COTIZACIÓN",IF(T10="NO APLICA LIMITES","PROMEDIAR",IF(C10<V10,"DESCARTAR",IF(C10>W10,"DESCARTAR","PROMEDIAR")))),"") -> #REF! | AN10: =IF(D10<>"",IF(D10=0,"SIN COTIZACIÓN",IF($T10="NO APLICA LIMITES","PROMEDIAR",IF(D10<$V10,"DESCARTAR",IF(D10>$W10,"DESCARTAR","PROMEDIAR")))),"") -> #REF! | AO10: =IF(E10<>"",IF(E10=0,"SIN COTIZACIÓN",IF($T10="NO APLICA LIMITES","PROMEDIAR",IF(E10<$V10,"DESCARTAR",IF(E10>$W10,"DESCARTAR","PROMEDIAR")))),"") -> #REF! | AP10: =IF(F10<>"",IF(F10=0,"SIN COTIZACIÓN",IF($T10="NO APLICA LIMITES","PROMEDIAR",IF(F10<$V10,"DESCARTAR",IF(F10>$W10,"DESCARTAR","PROMEDIAR")))),"") -> #REF! | AQ10: =IF(G10<>"",IF(G10=0,"SIN COTIZACIÓN",IF($T10="NO APLICA LIMITES","PROMEDIAR",IF(G10<$V10,"DESCARTAR",IF(G10>$W10,"DESCARTAR","PROMEDIAR")))),"") -> #REF! | AR10: =IF(H10<>"",IF(H10=0,"SIN COTIZACIÓN",IF($T10="NO APLICA LIMITES","PROMEDIAR",IF(H10<$V10,"DESCARTAR",IF(H10>$W10,"DESCARTAR","PROMEDIAR")))),"") -> #REF! | AS10: =IF(I10<>"",IF(I10=0,"SIN COTIZACIÓN",IF($T10="NO APLICA LIMITES","PROMEDIAR",IF(I10<$V10,"DESCARTAR",IF(I10>$W10,"DESCARTAR","PROMEDIAR")))),"") -> #REF! | AT10: =IF(J10<>"",IF(J10=0,"SIN COTIZACIÓN",IF($T10="NO APLICA LIMITES","PROMEDIAR",IF(J10<$V10,"DESCARTAR",IF(J10>$W10,"DESCARTAR","PROMEDIAR")))),"") | AU10: =IF(K10<>"",IF(K10=0,"SIN COTIZACIÓN",IF($T10="NO APLICA LIMITES","PROMEDIAR",IF(K10<$V10,"DESCARTAR",IF(K10>$W10,"DESCARTAR","PROMEDIAR")))),"") | AV10: =IF(L10<>"",IF(L10=0,"SIN COTIZACIÓN",IF($T10="NO APLICA LIMITES","PROMEDIAR",IF(L10<$V10,"DESCARTAR",IF(L10>$W10,"DESCARTAR","PROMEDIAR")))),"")
A11: =+[55]ESPECIFICACIONES!A6 -> #REF! | B11: =+[55]ESPECIFICACIONES!B6 -> #REF! | C11: =+[55]RFI!F6 -> #REF! | D11: =+'[55]178209_-_IDACO_-_region_5_Prese'!F8 -> #REF! | E11: =+'[55]178209_IDACO'!F8 -> #REF! | F11: =+'[55]RFI_FERRETERIA_(16)_Evento_1782'!F8 -> #REF! | G11: =+'[55]EVENTO_No._178209_SEP.__24_SEP'!F9 -> #REF! | H11: =+'[55]178209_RFI_FERRETERIA'!F8 -> #REF! | I11: =+[55]RFI_178209!F8 -> #REF! | M11: =IF(P11<=1,Y11,(ROUND(+Y11,0))) -> #DIV/0! | O11: =ROUND(AVERAGE(C11:L11),0) -> #REF! | P11: =COUNT(C11:L11) -> 0 | Q11: =+STDEVA(C11:L11) -> #REF! | R11: =+Q11/O11 -> #REF! | S11: =IF(R11>=$S$5,"COEFICIENTE DE VARIACION MAYOR AL 20%",IF(R11<=$S$5,"COEFICIENTE DE VARIACION MENOR AL 20%")) -> #REF! | T11: =IF(P11<=1,"NO APLICA LIMITES",IF(R11>=$S$5,"SI APLICA LIMITE INFERIOR Y SUPERIOR",IF(R11<=$S$5,"NO APLICA LIMITES"))) -> NO APLICA LIMITES | V11: =O11-Q11 -> #REF! | W11: =O11+Q11 -> #REF! | Y11: =AVERAGEIFS(C11:L11,AM11:AV11,"promediar") -> #DIV/0! | AA11: =IF(T11="NO APLICA LIMITES","Las cotizaciones tenidas en cuenta son las allegadas por las empresas: "&IF(AND(AM11="PROMEDIAR",C11<>""),$C$6&", ","")&IF(AND(AN11="PROMEDIAR",D11<>""),$D$6&", ","")&IF(AND(AO11="PROMEDIAR",E11<>""),$E$6&", ","")&IF(AND(AP11="PROMEDIAR",F11<>""),$F$6&", ","")&IF(AND(AQ11="PROMEDIAR",G11<>""),$G$6&", ","")&" "&IF(AND(AR11="PROMEDIAR",H11<>""),$H$6&", ","")&" "&IF(AND(AS11="PROMEDIAR",I11<>""),$I$6&", ","")&" "&IF(AND(AT11="PROMEDIAR",J11<>""),$J$6&", ","")&" "&IF(AND(AU11="PROMEDIAR",K11<>""),$K$6&", ","")&" "&IF(AND(AV11="PROMEDIAR",L11<>""),$L$6&", ","")&" por encontrarse dentro del promedio requerido por la Corporación","Las cotizaciones tenidas en cuenta son las allegadas por las empresas: "&IF(AND(AM11="PROMEDIAR",C11<>""),$C$6&", ","")&IF(AND(AN11="PROMEDIAR",D11<>""),$D$6&", ","")&IF(AND(AO11="PROMEDIAR",E11<>""),$E$6&", ","")&IF(AND(AP11="PROMEDIAR",F11<>""),$F$6&", ","")&IF(AND(AQ11="PROMEDIAR",G11<>""),$G$6&", ","")&" "&IF(AND(AR11="PROMEDIAR",H11<>""),$H$6&", ","")&" "&IF(AND(AS11="PROMEDIAR",I11<>""),$I$6&", ","")&" "&IF(AND(AT11="PROMEDIAR",J11<>""),$J$6&", ","")&" "&IF(AND(AU11="PROMEDIAR",K11<>""),$K$6&", ","")&" "&IF(AND(AV11="PROMEDIAR",L11<>""),$L$6&", ","")&" por encontrarse dentro del promedio requerido por la Corporación"&" y se descarta los valores cotizados por: "&IF(AND(AM11="DESCARTAR",C11<>""),$C$6&", ","")&IF(AND(AN11="DESCARTAR",D11<>""),$D$6&", ","")&IF(AND(AO11="DESCARTAR",E11<>""),$E$6&", ","")&IF(AND(AP11="DESCARTAR",F11<>""),$F$6&", ","")&IF(AND(AQ11="DESCARTAR",G11<>""),$G$6&", ","")&" "&IF(AND(AR11="DESCARTAR",H11<>""),$H$6&", ","")&" "&IF(AND(AS11="PROMEDIAR",I11<>""),$I$6&", ","")&" "&IF(AND(AT11="PROMEDIAR",J11<>""),$J$6&", ","")&" "&IF(AND(AU11="PROMEDIAR",K11<>""),$K$6&", ","")&" "&IF(AND(AV11="PROMEDIAR",L11<>""),$L$6&", ","")&"por ser un dato atípico.") -> #REF! | AB11: =IF(C11<>"",(C11/$M11-1),"") -> #REF! | AC11: =IF(D11<>"",(D11/$M11-1),"") -> #REF! | AD11: =IF(E11<>"",(E11/$M11-1),"") -> #REF! | AE11: =IF(F11<>"",(F11/$M11-1),"") -> #REF! | AF11: =IF(G11<>"",(G11/$M11-1),"") -> #REF! | AG11: =IF(H11<>"",(H11/$M11-1),"") -> #REF! | AH11: =IF(I11<>"",(I11/$I11-1),"") -> #REF! | AI11: =IF(J11<>"",(J11/$I11-1),"") | AJ11: =IF(K11<>"",(K11/$I11-1),"") | AK11: =IF(L11<>"",(L11/$I11-1),"") | AM11: =IF(C11<>"",IF(C11=0,"SIN COTIZACIÓN",IF(T11="NO APLICA LIMITES","PROMEDIAR",IF(C11<V11,"DESCARTAR",IF(C11>W11,"DESCARTAR","PROMEDIAR")))),"") -> #REF! | AN11: =IF(D11<>"",IF(D11=0,"SIN COTIZACIÓN",IF($T11="NO APLICA LIMITES","PROMEDIAR",IF(D11<$V11,"DESCARTAR",IF(D11>$W11,"DESCARTAR","PROMEDIAR")))),"") -> #REF! | AO11: =IF(E11<>"",IF(E11=0,"SIN COTIZACIÓN",IF($T11="NO APLICA LIMITES","PROMEDIAR",IF(E11<$V11,"DESCARTAR",IF(E11>$W11,"DESCARTAR","PROMEDIAR")))),"") -> #REF! | AP11: =IF(F11<>"",IF(F11=0,"SIN COTIZACIÓN",IF($T11="NO APLICA LIMITES","PROMEDIAR",IF(F11<$V11,"DESCARTAR",IF(F11>$W11,"DESCARTAR","PROMEDIAR")))),"") -> #REF! | AQ11: =IF(G11<>"",IF(G11=0,"SIN COTIZACIÓN",IF($T11="NO APLICA LIMITES","PROMEDIAR",IF(G11<$V11,"DESCARTAR",IF(G11>$W11,"DESCARTAR","PROMEDIAR")))),"") -> #REF! | AR11: =IF(H11<>"",IF(H11=0,"SIN COTIZACIÓN",IF($T11="NO APLICA LIMITES","PROMEDIAR",IF(H11<$V11,"DESCARTAR",IF(H11>$W11,"DESCARTAR","PROMEDIAR")))),"") -> #REF! | AS11: =IF(I11<>"",IF(I11=0,"SIN COTIZACIÓN",IF($T11="NO APLICA LIMITES","PROMEDIAR",IF(I11<$V11,"DESCARTAR",IF(I11>$W11,"DESCARTAR","PROMEDIAR")))),"") -> #REF! | AT11: =IF(J11<>"",IF(J11=0,"SIN COTIZACIÓN",IF($T11="NO APLICA LIMITES","PROMEDIAR",IF(J11<$V11,"DESCARTAR",IF(J11>$W11,"DESCARTAR","PROMEDIAR")))),"") | AU11: =IF(K11<>"",IF(K11=0,"SIN COTIZACIÓN",IF($T11="NO APLICA LIMITES","PROMEDIAR",IF(K11<$V11,"DESCARTAR",IF(K11>$W11,"DESCARTAR","PROMEDIAR")))),"") | AV11: =IF(L11<>"",IF(L11=0,"SIN COTIZACIÓN",IF($T11="NO APLICA LIMITES","PROMEDIAR",IF(L11<$V11,"DESCARTAR",IF(L11>$W11,"DESCARTAR","PROMEDIAR")))),"")
A12: =+[55]ESPECIFICACIONES!A7 -> #REF! | B12: =+[55]ESPECIFICACIONES!B7 -> #REF! | C12: =+[55]RFI!F7 -> #REF! | D12: =+'[55]178209_-_IDACO_-_region_5_Prese'!F9 -> #REF! | E12: =+'[55]178209_IDACO'!F9 -> #REF! | F12: =+'[55]RFI_FERRETERIA_(16)_Evento_1782'!F9 -> #REF! | G12: =+'[55]EVENTO_No._178209_SEP.__24_SEP'!F10 -> #REF! | H12: =+'[55]178209_RFI_FERRETERIA'!F9 -> #REF! | I12: =+[55]RFI_178209!F9 -> #REF! | M12: =IF(P12<=1,Y12,(ROUND(+Y12,0))) -> #DIV/0! | O12: =ROUND(AVERAGE(C12:L12),0) -> #REF! | P12: =COUNT(C12:L12) -> 0 | Q12: =+STDEVA(C12:L12) -> #REF! | R12: =+Q12/O12 -> #REF! | S12: =IF(R12>=$S$5,"COEFICIENTE DE VARIACION MAYOR AL 20%",IF(R12<=$S$5,"COEFICIENTE DE VARIACION MENOR AL 20%")) -> #REF! | T12: =IF(P12<=1,"NO APLICA LIMITES",IF(R12>=$S$5,"SI APLICA LIMITE INFERIOR Y SUPERIOR",IF(R12<=$S$5,"NO APLICA LIMITES"))) -> NO APLICA LIMITES | V12: =O12-Q12 -> #REF! | W12: =O12+Q12 -> #REF! | Y12: =AVERAGEIFS(C12:L12,AM12:AV12,"promediar") -> #DIV/0! | AA12: =IF(T12="NO APLICA LIMITES","Las cotizaciones tenidas en cuenta son las allegadas por las empresas: "&IF(AND(AM12="PROMEDIAR",C12<>""),$C$6&", ","")&IF(AND(AN12="PROMEDIAR",D12<>""),$D$6&", ","")&IF(AND(AO12="PROMEDIAR",E12<>""),$E$6&", ","")&IF(AND(AP12="PROMEDIAR",F12<>""),$F$6&", ","")&IF(AND(AQ12="PROMEDIAR",G12<>""),$G$6&", ","")&" "&IF(AND(AR12="PROMEDIAR",H12<>""),$H$6&", ","")&" "&IF(AND(AS12="PROMEDIAR",I12<>""),$I$6&", ","")&" "&IF(AND(AT12="PROMEDIAR",J12<>""),$J$6&", ","")&" "&IF(AND(AU12="PROMEDIAR",K12<>""),$K$6&", ","")&" "&IF(AND(AV12="PROMEDIAR",L12<>""),$L$6&", ","")&" por encontrarse dentro del promedio requerido por la Corporación","Las cotizaciones tenidas en cuenta son las allegadas por las empresas: "&IF(AND(AM12="PROMEDIAR",C12<>""),$C$6&", ","")&IF(AND(AN12="PROMEDIAR",D12<>""),$D$6&", ","")&IF(AND(AO12="PROMEDIAR",E12<>""),$E$6&", ","")&IF(AND(AP12="PROMEDIAR",F12<>""),$F$6&", ","")&IF(AND(AQ12="PROMEDIAR",G12<>""),$G$6&", ","")&" "&IF(AND(AR12="PROMEDIAR",H12<>""),$H$6&", ","")&" "&IF(AND(AS12="PROMEDIAR",I12<>""),$I$6&", ","")&" "&IF(AND(AT12="PROMEDIAR",J12<>""),$J$6&", ","")&" "&IF(AND(AU12="PROMEDIAR",K12<>""),$K$6&", ","")&" "&IF(AND(AV12="PROMEDIAR",L12<>""),$L$6&", ","")&" por encontrarse dentro del promedio requerido por la Corporación"&" y se descarta los valores cotizados por: "&IF(AND(AM12="DESCARTAR",C12<>""),$C$6&", ","")&IF(AND(AN12="DESCARTAR",D12<>""),$D$6&", ","")&IF(AND(AO12="DESCARTAR",E12<>""),$E$6&", ","")&IF(AND(AP12="DESCARTAR",F12<>""),$F$6&", ","")&IF(AND(AQ12="DESCARTAR",G12<>""),$G$6&", ","")&" "&IF(AND(AR12="DESCARTAR",H12<>""),$H$6&", ","")&" "&IF(AND(AS12="PROMEDIAR",I12<>""),$I$6&", ","")&" "&IF(AND(AT12="PROMEDIAR",J12<>""),$J$6&", ","")&" "&IF(AND(AU12="PROMEDIAR",K12<>""),$K$6&", ","")&" "&IF(AND(AV12="PROMEDIAR",L12<>""),$L$6&", ","")&"por ser un dato atípico.") -> #REF! | AB12: =IF(C12<>"",(C12/$M12-1),"") -> #REF! | AC12: =IF(D12<>"",(D12/$M12-1),"") -> #REF! | AD12: =IF(E12<>"",(E12/$M12-1),"") -> #REF! | AE12: =IF(F12<>"",(F12/$M12-1),"") -> #REF! | AF12: =IF(G12<>"",(G12/$M12-1),"") -> #REF! | AG12: =IF(H12<>"",(H12/$M12-1),"") -> #REF! | AH12: =IF(I12<>"",(I12/$I12-1),"") -> #REF! | AI12: =IF(J12<>"",(J12/$I12-1),"") | AJ12: =IF(K12<>"",(K12/$I12-1),"") | AK12: =IF(L12<>"",(L12/$I12-1),"") | AM12: =IF(C12<>"",IF(C12=0,"SIN COTIZACIÓN",IF(T12="NO APLICA LIMITES","PROMEDIAR",IF(C12<V12,"DESCARTAR",IF(C12>W12,"DESCARTAR","PROMEDIAR")))),"") -> #REF! | AN12: =IF(D12<>"",IF(D12=0,"SIN COTIZACIÓN",IF($T12="NO APLICA LIMITES","PROMEDIAR",IF(D12<$V12,"DESCARTAR",IF(D12>$W12,"DESCARTAR","PROMEDIAR")))),"") -> #REF! | AO12: =IF(E12<>"",IF(E12=0,"SIN COTIZACIÓN",IF($T12="NO APLICA LIMITES","PROMEDIAR",IF(E12<$V12,"DESCARTAR",IF(E12>$W12,"DESCARTAR","PROMEDIAR")))),"") -> #REF! | AP12: =IF(F12<>"",IF(F12=0,"SIN COTIZACIÓN",IF($T12="NO APLICA LIMITES","PROMEDIAR",IF(F12<$V12,"DESCARTAR",IF(F12>$W12,"DESCARTAR","PROMEDIAR")))),"") -> #REF! | AQ12: =IF(G12<>"",IF(G12=0,"SIN COTIZACIÓN",IF($T12="NO APLICA LIMITES","PROMEDIAR",IF(G12<$V12,"DESCARTAR",IF(G12>$W12,"DESCARTAR","PROMEDIAR")))),"") -> #REF! | AR12: =IF(H12<>"",IF(H12=0,"SIN COTIZACIÓN",IF($T12="NO APLICA LIMITES","PROMEDIAR",IF(H12<$V12,"DESCARTAR",IF(H12>$W12,"DESCARTAR","PROMEDIAR")))),"") -> #REF! | AS12: =IF(I12<>"",IF(I12=0,"SIN COTIZACIÓN",IF($T12="NO APLICA LIMITES","PROMEDIAR",IF(I12<$V12,"DESCARTAR",IF(I12>$W12,"DESCARTAR","PROMEDIAR")))),"") -> #REF! | AT12: =IF(J12<>"",IF(J12=0,"SIN COTIZACIÓN",IF($T12="NO APLICA LIMITES","PROMEDIAR",IF(J12<$V12,"DESCARTAR",IF(J12>$W12,"DESCARTAR","PROMEDIAR")))),"") | AU12: =IF(K12<>"",IF(K12=0,"SIN COTIZACIÓN",IF($T12="NO APLICA LIMITES","PROMEDIAR",IF(K12<$V12,"DESCARTAR",IF(K12>$W12,"DESCARTAR","PROMEDIAR")))),"") | AV12: =IF(L12<>"",IF(L12=0,"SIN COTIZACIÓN",IF($T12="NO APLICA LIMITES","PROMEDIAR",IF(L12<$V12,"DESCARTAR",IF(L12>$W12,"DESCARTAR","PROMEDIAR")))),"")
A13: =+[55]ESPECIFICACIONES!A8 -> #REF! | B13: =+[55]ESPECIFICACIONES!B8 -> #REF! | C13: =+[55]RFI!F8 -> #REF! | D13: =+'[55]178209_-_IDACO_-_region_5_Prese'!F10 -> #REF! | E13: =+'[55]178209_IDACO'!F10 -> #REF! | F13: =+'[55]RFI_FERRETERIA_(16)_Evento_1782'!F10 -> #REF! | G13: =+'[55]EVENTO_No._178209_SEP.__24_SEP'!F11 -> #REF! | H13: =+'[55]178209_RFI_FERRETERIA'!F10 -> #REF! | I13: =+[55]RFI_178209!F10 -> #REF! | M13: =IF(P13<=1,Y13,(ROUND(+Y13,0))) -> #DIV/0! | O13: =ROUND(AVERAGE(C13:L13),0) -> #REF! | P13: =COUNT(C13:L13) -> 0 | Q13: =+STDEVA(C13:L13) -> #REF! | R13: =+Q13/O13 -> #REF! | S13: =IF(R13>=$S$5,"COEFICIENTE DE VARIACION MAYOR AL 20%",IF(R13<=$S$5,"COEFICIENTE DE VARIACION MENOR AL 20%")) -> #REF! | T13: =IF(P13<=1,"NO APLICA LIMITES",IF(R13>=$S$5,"SI APLICA LIMITE INFERIOR Y SUPERIOR",IF(R13<=$S$5,"NO APLICA LIMITES"))) -> NO APLICA LIMITES | V13: =O13-Q13 -> #REF! | W13: =O13+Q13 -> #REF! | Y13: =AVERAGEIFS(C13:L13,AM13:AV13,"promediar") -> #DIV/0! | AA13: =IF(T13="NO APLICA LIMITES","Las cotizaciones tenidas en cuenta son las allegadas por las empresas: "&IF(AND(AM13="PROMEDIAR",C13<>""),$C$6&", ","")&IF(AND(AN13="PROMEDIAR",D13<>""),$D$6&", ","")&IF(AND(AO13="PROMEDIAR",E13<>""),$E$6&", ","")&IF(AND(AP13="PROMEDIAR",F13<>""),$F$6&", ","")&IF(AND(AQ13="PROMEDIAR",G13<>""),$G$6&", ","")&" "&IF(AND(AR13="PROMEDIAR",H13<>""),$H$6&", ","")&" "&IF(AND(AS13="PROMEDIAR",I13<>""),$I$6&", ","")&" "&IF(AND(AT13="PROMEDIAR",J13<>""),$J$6&", ","")&" "&IF(AND(AU13="PROMEDIAR",K13<>""),$K$6&", ","")&" "&IF(AND(AV13="PROMEDIAR",L13<>""),$L$6&", ","")&" por encontrarse dentro del promedio requerido por la Corporación","Las cotizaciones tenidas en cuenta son las allegadas por las empresas: "&IF(AND(AM13="PROMEDIAR",C13<>""),$C$6&", ","")&IF(AND(AN13="PROMEDIAR",D13<>""),$D$6&", ","")&IF(AND(AO13="PROMEDIAR",E13<>""),$E$6&", ","")&IF(AND(AP13="PROMEDIAR",F13<>""),$F$6&", ","")&IF(AND(AQ13="PROMEDIAR",G13<>""),$G$6&", ","")&" "&IF(AND(AR13="PROMEDIAR",H13<>""),$H$6&", ","")&" "&IF(AND(AS13="PROMEDIAR",I13<>""),$I$6&", ","")&" "&IF(AND(AT13="PROMEDIAR",J13<>""),$J$6&", ","")&" "&IF(AND(AU13="PROMEDIAR",K13<>""),$K$6&", ","")&" "&IF(AND(AV13="PROMEDIAR",L13<>""),$L$6&", ","")&" por encontrarse dentro del promedio requerido por la Corporación"&" y se descarta los valores cotizados por: "&IF(AND(AM13="DESCARTAR",C13<>""),$C$6&", ","")&IF(AND(AN13="DESCARTAR",D13<>""),$D$6&", ","")&IF(AND(AO13="DESCARTAR",E13<>""),$E$6&", ","")&IF(AND(AP13="DESCARTAR",F13<>""),$F$6&", ","")&IF(AND(AQ13="DESCARTAR",G13<>""),$G$6&", ","")&" "&IF(AND(AR13="DESCARTAR",H13<>""),$H$6&", ","")&" "&IF(AND(AS13="PROMEDIAR",I13<>""),$I$6&", ","")&" "&IF(AND(AT13="PROMEDIAR",J13<>""),$J$6&", ","")&" "&IF(AND(AU13="PROMEDIAR",K13<>""),$K$6&", ","")&" "&IF(AND(AV13="PROMEDIAR",L13<>""),$L$6&", ","")&"por ser un dato atípico.") -> #REF! | AB13: =IF(C13<>"",(C13/$M13-1),"") -> #REF! | AC13: =IF(D13<>"",(D13/$M13-1),"") -> #REF! | AD13: =IF(E13<>"",(E13/$M13-1),"") -> #REF! | AE13: =IF(F13<>"",(F13/$M13-1),"") -> #REF! | AF13: =IF(G13<>"",(G13/$M13-1),"") -> #REF! | AG13: =IF(H13<>"",(H13/$M13-1),"") -> #REF! | AH13: =IF(I13<>"",(I13/$I13-1),"") -> #REF! | AI13: =IF(J13<>"",(J13/$I13-1),"") | AJ13: =IF(K13<>"",(K13/$I13-1),"") | AK13: =IF(L13<>"",(L13/$I13-1),"") | AM13: =IF(C13<>"",IF(C13=0,"SIN COTIZACIÓN",IF(T13="NO APLICA LIMITES","PROMEDIAR",IF(C13<V13,"DESCARTAR",IF(C13>W13,"DESCARTAR","PROMEDIAR")))),"") -> #REF! | AN13: =IF(D13<>"",IF(D13=0,"SIN COTIZACIÓN",IF($T13="NO APLICA LIMITES","PROMEDIAR",IF(D13<$V13,"DESCARTAR",IF(D13>$W13,"DESCARTAR","PROMEDIAR")))),"") -> #REF! | AO13: =IF(E13<>"",IF(E13=0,"SIN COTIZACIÓN",IF($T13="NO APLICA LIMITES","PROMEDIAR",IF(E13<$V13,"DESCARTAR",IF(E13>$W13,"DESCARTAR","PROMEDIAR")))),"") -> #REF! | AP13: =IF(F13<>"",IF(F13=0,"SIN COTIZACIÓN",IF($T13="NO APLICA LIMITES","PROMEDIAR",IF(F13<$V13,"DESCARTAR",IF(F13>$W13,"DESCARTAR","PROMEDIAR")))),"") -> #REF! | AQ13: =IF(G13<>"",IF(G13=0,"SIN COTIZACIÓN",IF($T13="NO APLICA LIMITES","PROMEDIAR",IF(G13<$V13,"DESCARTAR",IF(G13>$W13,"DESCARTAR","PROMEDIAR")))),"") -> #REF! | AR13: =IF(H13<>"",IF(H13=0,"SIN COTIZACIÓN",IF($T13="NO APLICA LIMITES","PROMEDIAR",IF(H13<$V13,"DESCARTAR",IF(H13>$W13,"DESCARTAR","PROMEDIAR")))),"") -> #REF! | AS13: =IF(I13<>"",IF(I13=0,"SIN COTIZACIÓN",IF($T13="NO APLICA LIMITES","PROMEDIAR",IF(I13<$V13,"DESCARTAR",IF(I13>$W13,"DESCARTAR","PROMEDIAR")))),"") -> #REF! | AT13: =IF(J13<>"",IF(J13=0,"SIN COTIZACIÓN",IF($T13="NO APLICA LIMITES","PROMEDIAR",IF(J13<$V13,"DESCARTAR",IF(J13>$W13,"DESCARTAR","PROMEDIAR")))),"") | AU13: =IF(K13<>"",IF(K13=0,"SIN COTIZACIÓN",IF($T13="NO APLICA LIMITES","PROMEDIAR",IF(K13<$V13,"DESCARTAR",IF(K13>$W13,"DESCARTAR","PROMEDIAR")))),"") | AV13: =IF(L13<>"",IF(L13=0,"SIN COTIZACIÓN",IF($T13="NO APLICA LIMITES","PROMEDIAR",IF(L13<$V13,"DESCARTAR",IF(L13>$W13,"DESCARTAR","PROMEDIAR")))),"")
A14: =+[55]ESPECIFICACIONES!A9 -> #REF! | B14: =+[55]ESPECIFICACIONES!B9 -> #REF! | C14: =+[55]RFI!F9 -> #REF! | D14: =+'[55]178209_-_IDACO_-_region_5_Prese'!F11 -> #REF! | E14: =+'[55]178209_IDACO'!F11 -> #REF! | F14: =+'[55]RFI_FERRETERIA_(16)_Evento_1782'!F11 -> #REF! | G14: =+'[55]EVENTO_No._178209_SEP.__24_SEP'!F12 -> #REF! | H14: =+'[55]178209_RFI_FERRETERIA'!F11 -> #REF! | I14: =+[55]RFI_178209!F11 -> #REF! | M14: =IF(P14<=1,Y14,(ROUND(+Y14,0))) -> #DIV/0! | O14: =ROUND(AVERAGE(C14:L14),0) -> #REF! | P14: =COUNT(C14:L14) -> 0 | Q14: =+STDEVA(C14:L14) -> #REF! | R14: =+Q14/O14 -> #REF! | S14: =IF(R14>=$S$5,"COEFICIENTE DE VARIACION MAYOR AL 20%",IF(R14<=$S$5,"COEFICIENTE DE VARIACION MENOR AL 20%")) -> #REF! | T14: =IF(P14<=1,"NO APLICA LIMITES",IF(R14>=$S$5,"SI APLICA LIMITE INFERIOR Y SUPERIOR",IF(R14<=$S$5,"NO APLICA LIMITES"))) -> NO APLICA LIMITES | V14: =O14-Q14 -> #REF! | W14: =O14+Q14 -> #REF! | Y14: =AVERAGEIFS(C14:L14,AM14:AV14,"promediar") -> #DIV/0! | AA14: =IF(T14="NO APLICA LIMITES","Las cotizaciones tenidas en cuenta son las allegadas por las empresas: "&IF(AND(AM14="PROMEDIAR",C14<>""),$C$6&", ","")&IF(AND(AN14="PROMEDIAR",D14<>""),$D$6&", ","")&IF(AND(AO14="PROMEDIAR",E14<>""),$E$6&", ","")&IF(AND(AP14="PROMEDIAR",F14<>""),$F$6&", ","")&IF(AND(AQ14="PROMEDIAR",G14<>""),$G$6&", ","")&" "&IF(AND(AR14="PROMEDIAR",H14<>""),$H$6&", ","")&" "&IF(AND(AS14="PROMEDIAR",I14<>""),$I$6&", ","")&" "&IF(AND(AT14="PROMEDIAR",J14<>""),$J$6&", ","")&" "&IF(AND(AU14="PROMEDIAR",K14<>""),$K$6&", ","")&" "&IF(AND(AV14="PROMEDIAR",L14<>""),$L$6&", ","")&" por encontrarse dentro del promedio requerido por la Corporación","Las cotizaciones tenidas en cuenta son las allegadas por las empresas: "&IF(AND(AM14="PROMEDIAR",C14<>""),$C$6&", ","")&IF(AND(AN14="PROMEDIAR",D14<>""),$D$6&", ","")&IF(AND(AO14="PROMEDIAR",E14<>""),$E$6&", ","")&IF(AND(AP14="PROMEDIAR",F14<>""),$F$6&", ","")&IF(AND(AQ14="PROMEDIAR",G14<>""),$G$6&", ","")&" "&IF(AND(AR14="PROMEDIAR",H14<>""),$H$6&", ","")&" "&IF(AND(AS14="PROMEDIAR",I14<>""),$I$6&", ","")&" "&IF(AND(AT14="PROMEDIAR",J14<>""),$J$6&", ","")&" "&IF(AND(AU14="PROMEDIAR",K14<>""),$K$6&", ","")&" "&IF(AND(AV14="PROMEDIAR",L14<>""),$L$6&", ","")&" por encontrarse dentro del promedio requerido por la Corporación"&" y se descarta los valores cotizados por: "&IF(AND(AM14="DESCARTAR",C14<>""),$C$6&", ","")&IF(AND(AN14="DESCARTAR",D14<>""),$D$6&", ","")&IF(AND(AO14="DESCARTAR",E14<>""),$E$6&", ","")&IF(AND(AP14="DESCARTAR",F14<>""),$F$6&", ","")&IF(AND(AQ14="DESCARTAR",G14<>""),$G$6&", ","")&" "&IF(AND(AR14="DESCARTAR",H14<>""),$H$6&", ","")&" "&IF(AND(AS14="PROMEDIAR",I14<>""),$I$6&", ","")&" "&IF(AND(AT14="PROMEDIAR",J14<>""),$J$6&", ","")&" "&IF(AND(AU14="PROMEDIAR",K14<>""),$K$6&", ","")&" "&IF(AND(AV14="PROMEDIAR",L14<>""),$L$6&", ","")&"por ser un dato atípico.") -> #REF! | AB14: =IF(C14<>"",(C14/$M14-1),"") -> #REF! | AC14: =IF(D14<>"",(D14/$M14-1),"") -> #REF! | AD14: =IF(E14<>"",(E14/$M14-1),"") -> #REF! | AE14: =IF(F14<>"",(F14/$M14-1),"") -> #REF! | AF14: =IF(G14<>"",(G14/$M14-1),"") -> #REF! | AG14: =IF(H14<>"",(H14/$M14-1),"") -> #REF! | AH14: =IF(I14<>"",(I14/$I14-1),"") -> #REF! | AI14: =IF(J14<>"",(J14/$I14-1),"") | AJ14: =IF(K14<>"",(K14/$I14-1),"") | AK14: =IF(L14<>"",(L14/$I14-1),"") | AM14: =IF(C14<>"",IF(C14=0,"SIN COTIZACIÓN",IF(T14="NO APLICA LIMITES","PROMEDIAR",IF(C14<V14,"DESCARTAR",IF(C14>W14,"DESCARTAR","PROMEDIAR")))),"") -> #REF! | AN14: =IF(D14<>"",IF(D14=0,"SIN COTIZACIÓN",IF($T14="NO APLICA LIMITES","PROMEDIAR",IF(D14<$V14,"DESCARTAR",IF(D14>$W14,"DESCARTAR","PROMEDIAR")))),"") -> #REF! | AO14: =IF(E14<>"",IF(E14=0,"SIN COTIZACIÓN",IF($T14="NO APLICA LIMITES","PROMEDIAR",IF(E14<$V14,"DESCARTAR",IF(E14>$W14,"DESCARTAR","PROMEDIAR")))),"") -> #REF! | AP14: =IF(F14<>"",IF(F14=0,"SIN COTIZACIÓN",IF($T14="NO APLICA LIMITES","PROMEDIAR",IF(F14<$V14,"DESCARTAR",IF(F14>$W14,"DESCARTAR","PROMEDIAR")))),"") -> #REF! | AQ14: =IF(G14<>"",IF(G14=0,"SIN COTIZACIÓN",IF($T14="NO APLICA LIMITES","PROMEDIAR",IF(G14<$V14,"DESCARTAR",IF(G14>$W14,"DESCARTAR","PROMEDIAR")))),"") -> #REF! | AR14: =IF(H14<>"",IF(H14=0,"SIN COTIZACIÓN",IF($T14="NO APLICA LIMITES","PROMEDIAR",IF(H14<$V14,"DESCARTAR",IF(H14>$W14,"DESCARTAR","PROMEDIAR")))),"") -> #REF! | AS14: =IF(I14<>"",IF(I14=0,"SIN COTIZACIÓN",IF($T14="NO APLICA LIMITES","PROMEDIAR",IF(I14<$V14,"DESCARTAR",IF(I14>$W14,"DESCARTAR","PROMEDIAR")))),"") -> #REF! | AT14: =IF(J14<>"",IF(J14=0,"SIN COTIZACIÓN",IF($T14="NO APLICA LIMITES","PROMEDIAR",IF(J14<$V14,"DESCARTAR",IF(J14>$W14,"DESCARTAR","PROMEDIAR")))),"") | AU14: =IF(K14<>"",IF(K14=0,"SIN COTIZACIÓN",IF($T14="NO APLICA LIMITES","PROMEDIAR",IF(K14<$V14,"DESCARTAR",IF(K14>$W14,"DESCARTAR","PROMEDIAR")))),"") | AV14: =IF(L14<>"",IF(L14=0,"SIN COTIZACIÓN",IF($T14="NO APLICA LIMITES","PROMEDIAR",IF(L14<$V14,"DESCARTAR",IF(L14>$W14,"DESCARTAR","PROMEDIAR")))),"")
A15: =+[55]ESPECIFICACIONES!A10 -> #REF! | B15: =+[55]ESPECIFICACIONES!B10 -> #REF! | C15: =+[55]RFI!F10 -> #REF! | D15: =+'[55]178209_-_IDACO_-_region_5_Prese'!F12 -> #REF! | E15: =+'[55]178209_IDACO'!F12 -> #REF! | F15: =+'[55]RFI_FERRETERIA_(16)_Evento_1782'!F12 -> #REF! | G15: =+'[55]EVENTO_No._178209_SEP.__24_SEP'!F13 -> #REF! | H15: =+'[55]178209_RFI_FERRETERIA'!F12 -> #REF! | I15: =+[55]RFI_178209!F12 -> #REF! | M15: =IF(P15<=1,Y15,(ROUND(+Y15,0))) -> #DIV/0! | O15: =ROUND(AVERAGE(C15:L15),0) -> #REF! | P15: =COUNT(C15:L15) -> 0 | Q15: =+STDEVA(C15:L15) -> #REF! | R15: =+Q15/O15 -> #REF! | S15: =IF(R15>=$S$5,"COEFICIENTE DE VARIACION MAYOR AL 20%",IF(R15<=$S$5,"COEFICIENTE DE VARIACION MENOR AL 20%")) -> #REF! | T15: =IF(P15<=1,"NO APLICA LIMITES",IF(R15>=$S$5,"SI APLICA LIMITE INFERIOR Y SUPERIOR",IF(R15<=$S$5,"NO APLICA LIMITES"))) -> NO APLICA LIMITES | V15: =O15-Q15 -> #REF! | W15: =O15+Q15 -> #REF! | Y15: =AVERAGEIFS(C15:L15,AM15:AV15,"promediar") -> #DIV/0! | AA15: =IF(T15="NO APLICA LIMITES","Las cotizaciones tenidas en cuenta son las allegadas por las empresas: "&IF(AND(AM15="PROMEDIAR",C15<>""),$C$6&", ","")&IF(AND(AN15="PROMEDIAR",D15<>""),$D$6&", ","")&IF(AND(AO15="PROMEDIAR",E15<>""),$E$6&", ","")&IF(AND(AP15="PROMEDIAR",F15<>""),$F$6&", ","")&IF(AND(AQ15="PROMEDIAR",G15<>""),$G$6&", ","")&" "&IF(AND(AR15="PROMEDIAR",H15<>""),$H$6&", ","")&" "&IF(AND(AS15="PROMEDIAR",I15<>""),$I$6&", ","")&" "&IF(AND(AT15="PROMEDIAR",J15<>""),$J$6&", ","")&" "&IF(AND(AU15="PROMEDIAR",K15<>""),$K$6&", ","")&" "&IF(AND(AV15="PROMEDIAR",L15<>""),$L$6&", ","")&" por encontrarse dentro del promedio requerido por la Corporación","Las cotizaciones tenidas en cuenta son las allegadas por las empresas: "&IF(AND(AM15="PROMEDIAR",C15<>""),$C$6&", ","")&IF(AND(AN15="PROMEDIAR",D15<>""),$D$6&", ","")&IF(AND(AO15="PROMEDIAR",E15<>""),$E$6&", ","")&IF(AND(AP15="PROMEDIAR",F15<>""),$F$6&", ","")&IF(AND(AQ15="PROMEDIAR",G15<>""),$G$6&", ","")&" "&IF(AND(AR15="PROMEDIAR",H15<>""),$H$6&", ","")&" "&IF(AND(AS15="PROMEDIAR",I15<>""),$I$6&", ","")&" "&IF(AND(AT15="PROMEDIAR",J15<>""),$J$6&", ","")&" "&IF(AND(AU15="PROMEDIAR",K15<>""),$K$6&", ","")&" "&IF(AND(AV15="PROMEDIAR",L15<>""),$L$6&", ","")&" por encontrarse dentro del promedio requerido por la Corporación"&" y se descarta los valores cotizados por: "&IF(AND(AM15="DESCARTAR",C15<>""),$C$6&", ","")&IF(AND(AN15="DESCARTAR",D15<>""),$D$6&", ","")&IF(AND(AO15="DESCARTAR",E15<>""),$E$6&", ","")&IF(AND(AP15="DESCARTAR",F15<>""),$F$6&", ","")&IF(AND(AQ15="DESCARTAR",G15<>""),$G$6&", ","")&" "&IF(AND(AR15="DESCARTAR",H15<>""),$H$6&", ","")&" "&IF(AND(AS15="PROMEDIAR",I15<>""),$I$6&", ","")&" "&IF(AND(AT15="PROMEDIAR",J15<>""),$J$6&", ","")&" "&IF(AND(AU15="PROMEDIAR",K15<>""),$K$6&", ","")&" "&IF(AND(AV15="PROMEDIAR",L15<>""),$L$6&", ","")&"por ser un dato atípico.") -> #REF! | AB15: =IF(C15<>"",(C15/$M15-1),"") -> #REF! | AC15: =IF(D15<>"",(D15/$M15-1),"") -> #REF! | AD15: =IF(E15<>"",(E15/$M15-1),"") -> #REF! | AE15: =IF(F15<>"",(F15/$M15-1),"") -> #REF! | AF15: =IF(G15<>"",(G15/$M15-1),"") -> #REF! | AG15: =IF(H15<>"",(H15/$M15-1),"") -> #REF! | AH15: =IF(I15<>"",(I15/$I15-1),"") -> #REF! | AI15: =IF(J15<>"",(J15/$I15-1),"") | AJ15: =IF(K15<>"",(K15/$I15-1),"") | AK15: =IF(L15<>"",(L15/$I15-1),"") | AM15: =IF(C15<>"",IF(C15=0,"SIN COTIZACIÓN",IF(T15="NO APLICA LIMITES","PROMEDIAR",IF(C15<V15,"DESCARTAR",IF(C15>W15,"DESCARTAR","PROMEDIAR")))),"") -> #REF! | AN15: =IF(D15<>"",IF(D15=0,"SIN COTIZACIÓN",IF($T15="NO APLICA LIMITES","PROMEDIAR",IF(D15<$V15,"DESCARTAR",IF(D15>$W15,"DESCARTAR","PROMEDIAR")))),"") -> #REF! | AO15: =IF(E15<>"",IF(E15=0,"SIN COTIZACIÓN",IF($T15="NO APLICA LIMITES","PROMEDIAR",IF(E15<$V15,"DESCARTAR",IF(E15>$W15,"DESCARTAR","PROMEDIAR")))),"") -> #REF! | AP15: =IF(F15<>"",IF(F15=0,"SIN COTIZACIÓN",IF($T15="NO APLICA LIMITES","PROMEDIAR",IF(F15<$V15,"DESCARTAR",IF(F15>$W15,"DESCARTAR","PROMEDIAR")))),"") -> #REF! | AQ15: =IF(G15<>"",IF(G15=0,"SIN COTIZACIÓN",IF($T15="NO APLICA LIMITES","PROMEDIAR",IF(G15<$V15,"DESCARTAR",IF(G15>$W15,"DESCARTAR","PROMEDIAR")))),"") -> #REF! | AR15: =IF(H15<>"",IF(H15=0,"SIN COTIZACIÓN",IF($T15="NO APLICA LIMITES","PROMEDIAR",IF(H15<$V15,"DESCARTAR",IF(H15>$W15,"DESCARTAR","PROMEDIAR")))),"") -> #REF! | AS15: =IF(I15<>"",IF(I15=0,"SIN COTIZACIÓN",IF($T15="NO APLICA LIMITES","PROMEDIAR",IF(I15<$V15,"DESCARTAR",IF(I15>$W15,"DESCARTAR","PROMEDIAR")))),"") -> #REF! | AT15: =IF(J15<>"",IF(J15=0,"SIN COTIZACIÓN",IF($T15="NO APLICA LIMITES","PROMEDIAR",IF(J15<$V15,"DESCARTAR",IF(J15>$W15,"DESCARTAR","PROMEDIAR")))),"") | AU15: =IF(K15<>"",IF(K15=0,"SIN COTIZACIÓN",IF($T15="NO APLICA LIMITES","PROMEDIAR",IF(K15<$V15,"DESCARTAR",IF(K15>$W15,"DESCARTAR","PROMEDIAR")))),"") | AV15: =IF(L15<>"",IF(L15=0,"SIN COTIZACIÓN",IF($T15="NO APLICA LIMITES","PROMEDIAR",IF(L15<$V15,"DESCARTAR",IF(L15>$W15,"DESCARTAR","PROMEDIAR")))),"")
A16: =+[55]ESPECIFICACIONES!A11 -> #REF! | B16: =+[55]ESPECIFICACIONES!B11 -> #REF! | C16: =+[55]RFI!F11 -> #REF! | D16: =+'[55]178209_-_IDACO_-_region_5_Prese'!F13 -> #REF! | E16: =+'[55]178209_IDACO'!F13 -> #REF! | F16: =+'[55]RFI_FERRETERIA_(16)_Evento_1782'!F13 -> #REF! | G16: =+'[55]EVENTO_No._178209_SEP.__24_SEP'!F14 -> #REF! | H16: =+'[55]178209_RFI_FERRETERIA'!F13 -> #REF! | I16: =+[55]RFI_178209!F13 -> #REF! | M16: =IF(P16<=1,Y16,(ROUND(+Y16,0))) -> #DIV/0! | O16: =ROUND(AVERAGE(C16:L16),0) -> #REF! | P16: =COUNT(C16:L16) -> 0 | Q16: =+STDEVA(C16:L16) -> #REF! | R16: =+Q16/O16 -> #REF! | S16: =IF(R16>=$S$5,"COEFICIENTE DE VARIACION MAYOR AL 20%",IF(R16<=$S$5,"COEFICIENTE DE VARIACION MENOR AL 20%")) -> #REF! | T16: =IF(P16<=1,"NO APLICA LIMITES",IF(R16>=$S$5,"SI APLICA LIMITE INFERIOR Y SUPERIOR",IF(R16<=$S$5,"NO APLICA LIMITES"))) -> NO APLICA LIMITES | V16: =O16-Q16 -> #REF! | W16: =O16+Q16 -> #REF! | Y16: =AVERAGEIFS(C16:L16,AM16:AV16,"promediar") -> #DIV/0! | AA16: =IF(T16="NO APLICA LIMITES","Las cotizaciones tenidas en cuenta son las allegadas por las empresas: "&IF(AND(AM16="PROMEDIAR",C16<>""),$C$6&", ","")&IF(AND(AN16="PROMEDIAR",D16<>""),$D$6&", ","")&IF(AND(AO16="PROMEDIAR",E16<>""),$E$6&", ","")&IF(AND(AP16="PROMEDIAR",F16<>""),$F$6&", ","")&IF(AND(AQ16="PROMEDIAR",G16<>""),$G$6&", ","")&" "&IF(AND(AR16="PROMEDIAR",H16<>""),$H$6&", ","")&" "&IF(AND(AS16="PROMEDIAR",I16<>""),$I$6&", ","")&" "&IF(AND(AT16="PROMEDIAR",J16<>""),$J$6&", ","")&" "&IF(AND(AU16="PROMEDIAR",K16<>""),$K$6&", ","")&" "&IF(AND(AV16="PROMEDIAR",L16<>""),$L$6&", ","")&" por encontrarse dentro del promedio requerido por la Corporación","Las cotizaciones tenidas en cuenta son las allegadas por las empresas: "&IF(AND(AM16="PROMEDIAR",C16<>""),$C$6&", ","")&IF(AND(AN16="PROMEDIAR",D16<>""),$D$6&", ","")&IF(AND(AO16="PROMEDIAR",E16<>""),$E$6&", ","")&IF(AND(AP16="PROMEDIAR",F16<>""),$F$6&", ","")&IF(AND(AQ16="PROMEDIAR",G16<>""),$G$6&", ","")&" "&IF(AND(AR16="PROMEDIAR",H16<>""),$H$6&", ","")&" "&IF(AND(AS16="PROMEDIAR",I16<>""),$I$6&", ","")&" "&IF(AND(AT16="PROMEDIAR",J16<>""),$J$6&", ","")&" "&IF(AND(AU16="PROMEDIAR",K16<>""),$K$6&", ","")&" "&IF(AND(AV16="PROMEDIAR",L16<>""),$L$6&", ","")&" por encontrarse dentro del promedio requerido por la Corporación"&" y se descarta los valores cotizados por: "&IF(AND(AM16="DESCARTAR",C16<>""),$C$6&", ","")&IF(AND(AN16="DESCARTAR",D16<>""),$D$6&", ","")&IF(AND(AO16="DESCARTAR",E16<>""),$E$6&", ","")&IF(AND(AP16="DESCARTAR",F16<>""),$F$6&", ","")&IF(AND(AQ16="DESCARTAR",G16<>""),$G$6&", ","")&" "&IF(AND(AR16="DESCARTAR",H16<>""),$H$6&", ","")&" "&IF(AND(AS16="PROMEDIAR",I16<>""),$I$6&", ","")&" "&IF(AND(AT16="PROMEDIAR",J16<>""),$J$6&", ","")&" "&IF(AND(AU16="PROMEDIAR",K16<>""),$K$6&", ","")&" "&IF(AND(AV16="PROMEDIAR",L16<>""),$L$6&", ","")&"por ser un dato atípico.") -> #REF! | AB16: =IF(C16<>"",(C16/$M16-1),"") -> #REF! | AC16: =IF(D16<>"",(D16/$M16-1),"") -> #REF! | AD16: =IF(E16<>"",(E16/$M16-1),"") -> #REF! | AE16: =IF(F16<>"",(F16/$M16-1),"") -> #REF! | AF16: =IF(G16<>"",(G16/$M16-1),"") -> #REF! | AG16: =IF(H16<>"",(H16/$M16-1),"") -> #REF! | AH16: =IF(I16<>"",(I16/$I16-1),"") -> #REF! | AI16: =IF(J16<>"",(J16/$I16-1),"") | AJ16: =IF(K16<>"",(K16/$I16-1),"") | AK16: =IF(L16<>"",(L16/$I16-1),"") | AM16: =IF(C16<>"",IF(C16=0,"SIN COTIZACIÓN",IF(T16="NO APLICA LIMITES","PROMEDIAR",IF(C16<V16,"DESCARTAR",IF(C16>W16,"DESCARTAR","PROMEDIAR")))),"") -> #REF! | AN16: =IF(D16<>"",IF(D16=0,"SIN COTIZACIÓN",IF($T16="NO APLICA LIMITES","PROMEDIAR",IF(D16<$V16,"DESCARTAR",IF(D16>$W16,"DESCARTAR","PROMEDIAR")))),"") -> #REF! | AO16: =IF(E16<>"",IF(E16=0,"SIN COTIZACIÓN",IF($T16="NO APLICA LIMITES","PROMEDIAR",IF(E16<$V16,"DESCARTAR",IF(E16>$W16,"DESCARTAR","PROMEDIAR")))),"") -> #REF! | AP16: =IF(F16<>"",IF(F16=0,"SIN COTIZACIÓN",IF($T16="NO APLICA LIMITES","PROMEDIAR",IF(F16<$V16,"DESCARTAR",IF(F16>$W16,"DESCARTAR","PROMEDIAR")))),"") -> #REF! | AQ16: =IF(G16<>"",IF(G16=0,"SIN COTIZACIÓN",IF($T16="NO APLICA LIMITES","PROMEDIAR",IF(G16<$V16,"DESCARTAR",IF(G16>$W16,"DESCARTAR","PROMEDIAR")))),"") -> #REF! | AR16: =IF(H16<>"",IF(H16=0,"SIN COTIZACIÓN",IF($T16="NO APLICA LIMITES","PROMEDIAR",IF(H16<$V16,"DESCARTAR",IF(H16>$W16,"DESCARTAR","PROMEDIAR")))),"") -> #REF! | AS16: =IF(I16<>"",IF(I16=0,"SIN COTIZACIÓN",IF($T16="NO APLICA LIMITES","PROMEDIAR",IF(I16<$V16,"DESCARTAR",IF(I16>$W16,"DESCARTAR","PROMEDIAR")))),"") -> #REF! | AT16: =IF(J16<>"",IF(J16=0,"SIN COTIZACIÓN",IF($T16="NO APLICA LIMITES","PROMEDIAR",IF(J16<$V16,"DESCARTAR",IF(J16>$W16,"DESCARTAR","PROMEDIAR")))),"") | AU16: =IF(K16<>"",IF(K16=0,"SIN COTIZACIÓN",IF($T16="NO APLICA LIMITES","PROMEDIAR",IF(K16<$V16,"DESCARTAR",IF(K16>$W16,"DESCARTAR","PROMEDIAR")))),"") | AV16: =IF(L16<>"",IF(L16=0,"SIN COTIZACIÓN",IF($T16="NO APLICA LIMITES","PROMEDIAR",IF(L16<$V16,"DESCARTAR",IF(L16>$W16,"DESCARTAR","PROMEDIAR")))),"")
A17: =+[55]ESPECIFICACIONES!A12 -> #REF! | B17: =+[55]ESPECIFICACIONES!B12 -> #REF! | C17: =+[55]RFI!F12 -> #REF! | D17: =+'[55]178209_-_IDACO_-_region_5_Prese'!F14 -> #REF! | E17: =+'[55]178209_IDACO'!F14 -> #REF! | F17: =+'[55]RFI_FERRETERIA_(16)_Evento_1782'!F14 -> #REF! | G17: =+'[55]EVENTO_No._178209_SEP.__24_SEP'!F15 -> #REF! | H17: =+'[55]178209_RFI_FERRETERIA'!F14 -> #REF! | I17: =+[55]RFI_178209!F14 -> #REF! | M17: =IF(P17<=1,Y17,(ROUND(+Y17,0))) -> #DIV/0! | O17: =ROUND(AVERAGE(C17:L17),0) -> #REF! | P17: =COUNT(C17:L17) -> 0 | Q17: =+STDEVA(C17:L17) -> #REF! | R17: =+Q17/O17 -> #REF! | S17: =IF(R17>=$S$5,"COEFICIENTE DE VARIACION MAYOR AL 20%",IF(R17<=$S$5,"COEFICIENTE DE VARIACION MENOR AL 20%")) -> #REF! | T17: =IF(P17<=1,"NO APLICA LIMITES",IF(R17>=$S$5,"SI APLICA LIMITE INFERIOR Y SUPERIOR",IF(R17<=$S$5,"NO APLICA LIMITES"))) -> NO APLICA LIMITES | V17: =O17-Q17 -> #REF! | W17: =O17+Q17 -> #REF! | Y17: =AVERAGEIFS(C17:L17,AM17:AV17,"promediar") -> #DIV/0! | AA17: =IF(T17="NO APLICA LIMITES","Las cotizaciones tenidas en cuenta son las allegadas por las empresas: "&IF(AND(AM17="PROMEDIAR",C17<>""),$C$6&", ","")&IF(AND(AN17="PROMEDIAR",D17<>""),$D$6&", ","")&IF(AND(AO17="PROMEDIAR",E17<>""),$E$6&", ","")&IF(AND(AP17="PROMEDIAR",F17<>""),$F$6&", ","")&IF(AND(AQ17="PROMEDIAR",G17<>""),$G$6&", ","")&" "&IF(AND(AR17="PROMEDIAR",H17<>""),$H$6&", ","")&" "&IF(AND(AS17="PROMEDIAR",I17<>""),$I$6&", ","")&" "&IF(AND(AT17="PROMEDIAR",J17<>""),$J$6&", ","")&" "&IF(AND(AU17="PROMEDIAR",K17<>""),$K$6&", ","")&" "&IF(AND(AV17="PROMEDIAR",L17<>""),$L$6&", ","")&" por encontrarse dentro del promedio requerido por la Corporación","Las cotizaciones tenidas en cuenta son las allegadas por las empresas: "&IF(AND(AM17="PROMEDIAR",C17<>""),$C$6&", ","")&IF(AND(AN17="PROMEDIAR",D17<>""),$D$6&", ","")&IF(AND(AO17="PROMEDIAR",E17<>""),$E$6&", ","")&IF(AND(AP17="PROMEDIAR",F17<>""),$F$6&", ","")&IF(AND(AQ17="PROMEDIAR",G17<>""),$G$6&", ","")&" "&IF(AND(AR17="PROMEDIAR",H17<>""),$H$6&", ","")&" "&IF(AND(AS17="PROMEDIAR",I17<>""),$I$6&", ","")&" "&IF(AND(AT17="PROMEDIAR",J17<>""),$J$6&", ","")&" "&IF(AND(AU17="PROMEDIAR",K17<>""),$K$6&", ","")&" "&IF(AND(AV17="PROMEDIAR",L17<>""),$L$6&", ","")&" por encontrarse dentro del promedio requerido por la Corporación"&" y se descarta los valores cotizados por: "&IF(AND(AM17="DESCARTAR",C17<>""),$C$6&", ","")&IF(AND(AN17="DESCARTAR",D17<>""),$D$6&", ","")&IF(AND(AO17="DESCARTAR",E17<>""),$E$6&", ","")&IF(AND(AP17="DESCARTAR",F17<>""),$F$6&", ","")&IF(AND(AQ17="DESCARTAR",G17<>""),$G$6&", ","")&" "&IF(AND(AR17="DESCARTAR",H17<>""),$H$6&", ","")&" "&IF(AND(AS17="PROMEDIAR",I17<>""),$I$6&", ","")&" "&IF(AND(AT17="PROMEDIAR",J17<>""),$J$6&", ","")&" "&IF(AND(AU17="PROMEDIAR",K17<>""),$K$6&", ","")&" "&IF(AND(AV17="PROMEDIAR",L17<>""),$L$6&", ","")&"por ser un dato atípico.") -> #REF! | AB17: =IF(C17<>"",(C17/$M17-1),"") -> #REF! | AC17: =IF(D17<>"",(D17/$M17-1),"") -> #REF! | AD17: =IF(E17<>"",(E17/$M17-1),"") -> #REF! | AE17: =IF(F17<>"",(F17/$M17-1),"") -> #REF! | AF17: =IF(G17<>"",(G17/$M17-1),"") -> #REF! | AG17: =IF(H17<>"",(H17/$M17-1),"") -> #REF! | AH17: =IF(I17<>"",(I17/$I17-1),"") -> #REF! | AI17: =IF(J17<>"",(J17/$I17-1),"") | AJ17: =IF(K17<>"",(K17/$I17-1),"") | AK17: =IF(L17<>"",(L17/$I17-1),"") | AM17: =IF(C17<>"",IF(C17=0,"SIN COTIZACIÓN",IF(T17="NO APLICA LIMITES","PROMEDIAR",IF(C17<V17,"DESCARTAR",IF(C17>W17,"DESCARTAR","PROMEDIAR")))),"") -> #REF! | AN17: =IF(D17<>"",IF(D17=0,"SIN COTIZACIÓN",IF($T17="NO APLICA LIMITES","PROMEDIAR",IF(D17<$V17,"DESCARTAR",IF(D17>$W17,"DESCARTAR","PROMEDIAR")))),"") -> #REF! | AO17: =IF(E17<>"",IF(E17=0,"SIN COTIZACIÓN",IF($T17="NO APLICA LIMITES","PROMEDIAR",IF(E17<$V17,"DESCARTAR",IF(E17>$W17,"DESCARTAR","PROMEDIAR")))),"") -> #REF! | AP17: =IF(F17<>"",IF(F17=0,"SIN COTIZACIÓN",IF($T17="NO APLICA LIMITES","PROMEDIAR",IF(F17<$V17,"DESCARTAR",IF(F17>$W17,"DESCARTAR","PROMEDIAR")))),"") -> #REF! | AQ17: =IF(G17<>"",IF(G17=0,"SIN COTIZACIÓN",IF($T17="NO APLICA LIMITES","PROMEDIAR",IF(G17<$V17,"DESCARTAR",IF(G17>$W17,"DESCARTAR","PROMEDIAR")))),"") -> #REF! | AR17: =IF(H17<>"",IF(H17=0,"SIN COTIZACIÓN",IF($T17="NO APLICA LIMITES","PROMEDIAR",IF(H17<$V17,"DESCARTAR",IF(H17>$W17,"DESCARTAR","PROMEDIAR")))),"") -> #REF! | AS17: =IF(I17<>"",IF(I17=0,"SIN COTIZACIÓN",IF($T17="NO APLICA LIMITES","PROMEDIAR",IF(I17<$V17,"DESCARTAR",IF(I17>$W17,"DESCARTAR","PROMEDIAR")))),"") -> #REF! | AT17: =IF(J17<>"",IF(J17=0,"SIN COTIZACIÓN",IF($T17="NO APLICA LIMITES","PROMEDIAR",IF(J17<$V17,"DESCARTAR",IF(J17>$W17,"DESCARTAR","PROMEDIAR")))),"") | AU17: =IF(K17<>"",IF(K17=0,"SIN COTIZACIÓN",IF($T17="NO APLICA LIMITES","PROMEDIAR",IF(K17<$V17,"DESCARTAR",IF(K17>$W17,"DESCARTAR","PROMEDIAR")))),"") | AV17: =IF(L17<>"",IF(L17=0,"SIN COTIZACIÓN",IF($T17="NO APLICA LIMITES","PROMEDIAR",IF(L17<$V17,"DESCARTAR",IF(L17>$W17,"DESCARTAR","PROMEDIAR")))),"")
