Workbook
Name _________APU221: #REF!
Name _________APU465: [1]!absc
Name _________APU465: [1]!absc
Name _________PJ50: #REF!
Name _________pj51: #REF!
Name ________APU221: #REF!
Name ________APU465: [1]!absc
Name ________APU465: [1]!absc
Name ________PJ50: #REF!
Name ________pj51: #REF!
Name ________rc: #REF!
Name _______APU221: #REF!
Name _______APU465: [1]!absc
Name _______APU465: [1]!absc
Name _______PJ50: #REF!
Name _______pj51: #REF!
Name _______rc: #REF!
Name ______APU221: #REF!
Name ______APU465: [1]!absc
Name ______APU465: [1]!absc
Name ______PJ50: #REF!
Name ______pj51: #REF!
Name ______rc: #REF!
Name _____APU221: #REF!
Name _____APU465: [1]!absc
Name _____APU465: [1]!absc
Name _____PJ50: #REF!
Name _____pj51: #REF!
Name _____rc: #REF!
Name ____APU221: #REF!
Name ____APU465: [1]!absc
Name ____APU465: [1]!absc
Name ____PJ50: #REF!
Name ____pj51: #REF!
Name ____rc: #REF!
Name ___APU221: #REF!
Name ___APU465: [1]!absc
Name ___APU465: [1]!absc
Name ___PJ50: #REF!
Name ___pj51: #REF!
Name ___rc: #REF!
Name __APU221: #REF!
Name __APU465: [1]!absc
Name __APU465: [1]!absc
Name __inf1: #REF!
Name __PJ50: #REF!
Name __pj51: #REF!
Name __rc: #REF!
Name _APU221: #REF!
Name _APU3: #REF!
Name _APU465: [1]!absc
Name _APU465: [1]!absc
Name _inf1: #REF!
Name _PJ50: #REF!
Name _pj51: #REF!
Name _rc: #REF!
Name A: #REF!
Name A_impresión_IM: #REF!
Name aa: #REF!
Name absc: #N/A

Sheet Ppto Mezcla Afirmado
C3: Formulario 1 - Propuesta económica - Documento tipo de selección abreviada de menor cuantía - versión 2
C4: Código | D4: CCE-EICP-FM-25 | E4: Versión | F4: 2
C6: INSTITUTO NACIONAL DE VIAS
C7: DIRECCION OPERATIVA
C8: SUBDIRECCIÓN DE GESTIÓN INTEGRAL DE CARRETERAS NACIONALES
C9: DIRECCIÓN TERRITORIAL MAGDALENA
C12: IP-DT-MAG-004-2025
C13: SUMINISTRO DE AFIRMADO PARA LA VÍA 2701 PLATO - SALAMINA PR15 +000 a PR29+000, A CARGO DE LA DIRECCIÓN TERRITORIAL MAGDALENA DEL INVIAS
C15: Formulario 1- Presupuesto Oficial
C18: Nº | D18: ITEM DE PAGO | E18: ESPECIFICACIONES | G18: DESCRIPCION | H18: UND. | I18: CANTIDAD | J18: VALOR UNITARIO | K18: VALOR TOTAL
E19: GENERAL | F19: PARTICULAR
C20: SUMINISTRO DE MEZCLAS ASFALTICAS EN CALIENTE
C21: 1 | D21: 311 | E21: 311-22 | F21: 311-P | G21: SUMINISTRO DE AFIRMADO SUELTO (Analisis aplicado para el suministro del material tipo afirmado, suministro de equipo, transporte). | H21: M3 | I21: 319.62462 | K21: =I21*J21 -> 0
C23: =+#REF!+1 -> #REF! | F23: 343,1P | G23: Base Estabilizada en Caliente con Asfalto - BECA | H23: m3 | I23: 0 | J23: 450127 | K23: =I23*J23 -> 0
C24: =C23+1 -> #REF! | F24: 661,1P | G24: Suministro e instalación tubería PVC RS o similar especificación de D=36" | H24: m | I24: 0 | J24: 393454 | K24: =I24*J24 -> 0
C25: =C24+1 -> #REF! | F25: 220.1P | G25: Suministro de material aluvial - crudo de rio y/o material de cantera tipo seleccionado para mejoramientos (suministro suelto) | H25: m3 | I25: 0 | J25: 50721 | K25: =I25*J25 -> 0
C26: =#REF!+1 -> #REF! | F26: 420.1P | G26: Riego de imprimación enriquecido con sello de arena | H26: m2 | I26: 0 | J26: 4797 | K26: =I26*J26 -> 0
C27: =C26+1 -> #REF! | F27: 621.1P | G27: Pilotes tipo Caisson preexcavados en concreto Clase C, excavados a hasta una profundidad máxima 25 m; incluye la excavación - anillos de encamisado y formaleta (no incluye el acero de refuerzo ni del pilote ni de los anillos) | H27: m3 | I27: 0 | J27: 2235790 | K27: =I27*J27 -> 0
C28: =C27+1 -> #REF! | F28: 661.2P | G28: Suministro e instalación tubería PVC RS o similar de D=12" | H28: m | I28: 0 | J28: 134681 | K28: =I28*J28 -> 0
C29: =C28+1 -> #REF! | F29: 670.3P | G29: Disipadores de energía y sedimentadores en concreto reforzado (no incluye acero) | H29: m3 | I29: 0 | J29: 738838 | K29: =I29*J29 -> 0
C30: =C29+1 -> #REF! | F30: 671.2P | G30: Zanja colectora media caña diámetro 12" prefabricada | H30: m | I30: 0 | J30: 61818 | K30: =I30*J30 -> 0
C31: =C30+1 -> #REF! | F31: 675.1P | G31: Cámaras de inspección vertical de 1.20 x 1.20 interno, para sitios de disposición de materiales (no incluye el acero) | H31: m | I31: 0 | J31: 1046202 | K31: =I31*J31 -> 0
C32: =C31+1 -> #REF! | F32: 675.2P | G32: Cámaras de inspección vertical de 1.50 x 1.50 interno, para sitios de disposición de materiales (no incluye el acero) | H32: m | I32: 0 | J32: 1163781 | K32: =I32*J32 -> 0
C33: =C32+1 -> #REF! | F33: 675.3P | G33: Placa en concreto reforzado con aro tapa para cámaras de inspección (incluye aro tapa HF - y acero de refuerzo) | H33: u | I33: 0 | J33: 990224 | K33: =I33*J33 -> 0
C34: SUBTOTAL OBRAS | K34: =K21 -> 0
C35: (1) VALOR TOTAL BÁSICO DEL SUMINISTRO | K35: =K34 -> 0
C36: (2) VALOR IVA (19% del SUMINISTRO) | K36: =ROUND(0.19*K35,0) -> 0
C37: (3) =(1)+(2) VALOR TOTAL SUMINISTRO (INCLUYE IVA) | K37: =ROUND(K35+K36,0) -> 0
C38: ajuste | J38: ajuste
C39: VALOR TOTAL SUMINISTRO (INCLUYE IVA) | K39: =+K37+K38 -> 0
C41: VALOR TOTAL EN LETRAS:
C42: NOTA 1: Se debe tener en cuenta que el PRECIO UNITARIO incluye el valor de A.I.U. | H42: DESCRIPCION | K42: PORCENTAJE
C43: NOTA 2: Cuando la fracción decimal del peso sea igual o superior a 5 se aproximara por exceso al número entero siguiente del peso y cuando la fracción decimal del peso sea inferior a 5 se aproximará por defecto al número entero del peso. | H43: ADMINISTRACION | J43: A= | K43: 0.2
C44: NOTA 3: El A y su discriminación deben estar en porcentaje (%). | H44: IMPREVISTO | J44: I= | K44: 0
C45: NOTA 4: Teniendo en cuenta el Manual de Señalización Vial de Colombia. Dispositivos uniformes en la infraestructura vial para la regulación del tránsito y la seguridad vial, adoptado mediante Resolución No. 45005 de 2024 del Ministerio de Transporte, se aclara que el aparte de SEÑALIZACIÓN se debe ajustar a todo su contenido, se deberá colocar toda la señalización requerida en el PLAN DE MANEJO DE TRANSITO, para el correcto desarrollo del suministro de mezcla | H45: UTILIDAD | J45: U= | K45: 0
C46: NOTA 5:El control de tráfico temporal (controladores de trafico) y la señalización provisional necesarios para la ejecución de las obras será por cuenta y riesgo del contratista. | H46: TOTAL A.I.U | J46: A.I.U.= | K46: 0.2
C47: NOTA 6: El reconocimiento económico de los requerimientos ambientales exigidos por las autoridades ambientales, y/o sociales que son de obligatorio cumplimiento, serán reconocidos a cargo de reembolso de gastos (afectados por un % de administracion).
C48: NOTA 7: Los valores que aparecen fijos e inmodificables no podrán alterarse, de lo contrario, será causal de rechazo de la propuesta que hace parte integral del presente proceso.
G51: FIRMA REPRESENTANTE LEGAL

Sheet 311.1P
K1: CÓDIGO | L1: FR-APU-1 | N1: #VALUE!
C2: INSTITUTO NACIONAL DE VIAS
C3: ANÁLISIS DE PRECIOS UNITARIOS DE REFERENCIA REGIONALIZADOS | K3: VERSIÓN | L3: 2021
C5: ACTUALIZACIÓN PERIÓDICA | K5: PÁGINA
K8: FECHA
L9: (Día) | M9: (Mes) | N9: (Año)
B10: ÍTEM BASE DE APU DE REFERENCIA: | E10: ⊠ | F10: PUBLICACIÓN: | H10: 2025 - 1, junio de 2025
B12: ÍTEM DE PROYECTO PARTICULAR:
B13: ÍTEM DE LA PROPUESTA ECONÓMICA: | E13: □ | H13: ÍTEM NO PREVISTO: | J13: □ | K13: ÍTEM APU PARTICULAR: | M13: □
B14: UNIDAD EJECUTORA: | H14: DIRECCIÓN TERRITORIAL: | J14: =+[20]PORTADA!D21 -> MAGDALENA | K14: PROVINCIA: | L14: =+[20]PORTADA!CL21 -> CENTRO
B17: CONTRATO No. | D17: FECHA:
B18: OBJETO DEL CONTRATO:
B21: CARRETERA: | J21: SECTOR:
B23: CONTRATISTA:
B25: INTERVENTOR: | K25: CONTRATO No. | M25: FECHA:
B27: FECHA DE CIERRE DEL PROCESO DE SELECCIÓN DEL CONTRATO: | I27: / | J27: /
F28: (Día) | H28: (Día) | I28: (Mes) | J28: (Año)
B30: DATOS ESPECÍFICOS
B32: ÍTEM | C32: DESCRIPCIÓN | K32: GRUPO DE AJUSTE | L32: UNIDAD | N32: CANTIDAD
B33: 311,1 | C33: SUMINISTRO DE AFIRMADO SUELTO (Analisis aplicado para el suministro del material tipo afirmado, suministro de equipo, transporte). | L33: =VLOOKUP(B33,[20]ÍNDICE!B5:D994,3,FALSE) -> m3
B34: ,
B35: I. EQUIPO
B37: CÓDIGO | C37: DESCRIPCIÓN | J37: TIPO | K37: TARIFA/HORA | L37: RENDIMIENTO | N37: Vr. UNITARIO
B38: =IF(IFERROR(VLOOKUP(B$33,[20]APU´S!C$4:CO$996,6,FALSE),"")="","",VLOOKUP(B$33,[20]APU´S!C$4:CO$996,6,FALSE)) -> C0010150 | C38: Carrotanque de agua (1000 Galones) (incluye operador) | K38: =IFERROR(VLOOKUP(B38,[20]EQUIPO!C$6:G$164,5,FALSE),"") -> 100545.2 | L38: =IF(B38="","",VLOOKUP(B$33,[20]APU´S!C$4:CO$996,7,FALSE)*((1/(VLOOKUP(B$33,'[20]HOJA DE CALCULOS '!FQ$5:FU$499,5,FALSE))))) -> 0.022222222 | N38: =IF(L38="","",ROUND(L38*K38,2)) -> 2234.34 | U38: =+T38*Q38 -> 0
B39: =IF(IFERROR(VLOOKUP(B$33,[20]APU´S!C$4:CO$996,8,FALSE),"")="","",VLOOKUP(B$33,[20]APU´S!C$4:CO$996,8,FALSE)) -> C0010610 | C39: Motoniveladora potencia 215 HP, ancho de cuchilla 4,27 m, peso 18 ton (incluye operador) | K39: =IFERROR(VLOOKUP(B39,[20]EQUIPO!C$6:G$164,5,FALSE),"") -> 269993.12 | L39: =IF(B39="","",VLOOKUP(B$33,[20]APU´S!C$4:CO$996,9,FALSE)*(1/(VLOOKUP(B$33,'[20]HOJA DE CALCULOS '!FQ$5:FU$499,5,FALSE)))) -> 0.022222222 | N39: =IF(L39="","",ROUND(L39*K39,2)) -> 5999.85
B40: =IF(IFERROR(VLOOKUP(B$33,[20]APU´S!C$4:CO$996,10,FALSE),"")="","",VLOOKUP(B$33,[20]APU´S!C$4:CO$996,10,FALSE)) -> C0010923 | C40: =IFERROR(VLOOKUP(B40,[20]EQUIPO!C$6:E$164,3,FALSE),"") -> Vibrocompactador, potencia 153 HP, peso 10 ton | K40: =IFERROR(VLOOKUP(B40,[20]EQUIPO!C$6:G$164,5,FALSE),"") -> 177683.29 | L40: =IF(B40="","",VLOOKUP(B$33,[20]APU´S!C$4:CO$996,11,FALSE)*((1/VLOOKUP(B$33,'[20]HOJA DE CALCULOS '!FQ$5:FU$499,5,FALSE)))) -> 0.022222222 | N40: =IF(L40="","",ROUND(L40*K40,2)) -> 3948.52 | U40: =1/U38 -> #DIV/0!
B41: =IF(IFERROR(VLOOKUP(B$33,[20]APU´S!C$4:CO$996,12,FALSE),"")="","",VLOOKUP(B$33,[20]APU´S!C$4:CO$996,12,FALSE)) | C41: =IFERROR(VLOOKUP(B41,[20]EQUIPO!C$6:E$164,3,FALSE),"") | K41: =IFERROR(VLOOKUP(B41,[20]EQUIPO!C$6:G$164,5,FALSE),"") | L41: =IF(B41="","",VLOOKUP(B$33,[20]APU´S!C$4:CO$996,13,FALSE)*((1/VLOOKUP(B$33,'[20]HOJA DE CALCULOS '!FQ$5:FU$499,5,FALSE)))) | N41: =IF(L41="","",ROUND(L41*K41,2)) | U41: =+U40*7.6667 -> #DIV/0!
B42: =IF(IFERROR(VLOOKUP(B$33,[20]APU´S!C$4:CO$996,14,FALSE),"")="","",VLOOKUP(B$33,[20]APU´S!C$4:CO$996,14,FALSE)) | C42: =IFERROR(VLOOKUP(B42,[20]EQUIPO!C$6:E$164,3,FALSE),"") | K42: =IFERROR(VLOOKUP(B42,[20]EQUIPO!C$6:G$164,5,FALSE),"") | L42: =IF(B42="","",VLOOKUP(B$33,[20]APU´S!C$4:CO$996,15,FALSE)*((1/VLOOKUP(B$33,'[20]HOJA DE CALCULOS '!FQ$5:FU$499,5,FALSE)))) | N42: =IF(L42="","",ROUND(L42*K42,2))
B43: =IF(IFERROR(VLOOKUP(B$33,[20]APU´S!C$4:CO$996,16,FALSE),"")="","",VLOOKUP(B$33,[20]APU´S!C$4:CO$996,16,FALSE)) | C43: =IFERROR(VLOOKUP(B43,[20]EQUIPO!C$6:E$164,3,FALSE),"") | K43: =IFERROR(VLOOKUP(B43,[20]EQUIPO!C$6:G$164,5,FALSE),"") | L43: =IF(B43="","",VLOOKUP(B$33,[20]APU´S!C$4:CO$996,17,FALSE)*((1/VLOOKUP(B$33,'[20]HOJA DE CALCULOS '!FQ$5:FU$499,5,FALSE)))) | N43: =IF(L43="","",ROUND(L43*K43,2))
B44: =IF(IFERROR(VLOOKUP(B$33,[20]APU´S!C$4:CO$996,18,FALSE),"")="","",VLOOKUP(B$33,[20]APU´S!C$4:CO$996,18,FALSE)) | C44: =IFERROR(VLOOKUP(B44,[20]EQUIPO!C$6:E$164,3,FALSE),"") | K44: =IFERROR(VLOOKUP(B44,[20]EQUIPO!C$6:G$164,5,FALSE),"") | L44: =IF(B44="","",VLOOKUP(B$33,[20]APU´S!C$4:CO$996,19,FALSE)*((1/VLOOKUP(B$33,'[20]HOJA DE CALCULOS '!FQ$5:FU$499,5,FALSE)))) | N44: =IF(L44="","",ROUND(L44*K44,2))
B45: =IF(IFERROR(VLOOKUP(B$33,[20]APU´S!C$4:CO$996,20,FALSE),"")="","",VLOOKUP(B$33,[20]APU´S!C$4:CO$996,20,FALSE)) | C45: =IFERROR(VLOOKUP(B45,[20]EQUIPO!C$6:E$164,3,FALSE),"") | K45: =IFERROR(VLOOKUP(B45,[20]EQUIPO!C$6:G$164,5,FALSE),"") | L45: =IF(B45="","",VLOOKUP(B$33,[20]APU´S!C$4:CO$996,21,FALSE)*((1/VLOOKUP(B$33,'[20]HOJA DE CALCULOS '!FQ$5:FU$499,5,FALSE)))) | N45: =IF(L45="","",ROUND(L45*K45,2))
B46: =IF(IFERROR(VLOOKUP(B$33,[20]APU´S!C$4:CO$996,22,FALSE),"")="","",VLOOKUP(B$33,[20]APU´S!C$4:CO$996,22,FALSE)) | C46: =IFERROR(VLOOKUP(B46,[20]EQUIPO!C$6:E$164,3,FALSE),"") | K46: =IFERROR(VLOOKUP(B46,[20]EQUIPO!C$6:G$164,5,FALSE),"") | L46: =IF(B46="","",VLOOKUP(B$33,[20]APU´S!C$4:CO$996,23,FALSE)*((1/VLOOKUP(B$33,'[20]HOJA DE CALCULOS '!FQ$5:FU$499,5,FALSE)))) | N46: =IF(L46="","",ROUND(L46*K46,2))
B47: =IF(IFERROR(VLOOKUP(B$33,[20]APU´S!C$4:CO$996,24,FALSE),"")="","",VLOOKUP(B$33,[20]APU´S!C$4:CO$996,24,FALSE)) | C47: =IFERROR(VLOOKUP(B47,[20]EQUIPO!C$6:E$164,3,FALSE),"") | K47: =IFERROR(VLOOKUP(B47,[20]EQUIPO!C$6:G$164,5,FALSE),"") | L47: =IF(B47="","",VLOOKUP(B$33,[20]APU´S!C$4:CO$996,25,FALSE)*((1/VLOOKUP(B$33,'[20]HOJA DE CALCULOS '!FQ$5:FU$499,5,FALSE)))) | N47: =IF(L47="","",ROUND(L47*K47,2))
B48: =IF(IFERROR(VLOOKUP(B$33,[20]APU´S!C$4:CO$996,26,FALSE),"")="","",VLOOKUP(B$33,[20]APU´S!C$4:CO$996,26,FALSE)) | C48: =IFERROR(VLOOKUP(B48,[20]EQUIPO!C$6:E$164,3,FALSE),"") | K48: =IFERROR(VLOOKUP(B48,[20]EQUIPO!C$6:G$164,5,FALSE),"") | L48: =IF(B48="","",VLOOKUP(B$33,[20]APU´S!C$4:CO$996,27,FALSE)*((1/VLOOKUP(B$33,'[20]HOJA DE CALCULOS '!FQ$5:FU$499,5,FALSE)))) | N48: =IF(L48="","",ROUND(L48*K48,2))
B49: =IF(IFERROR(VLOOKUP(B$33,[20]APU´S!C$4:CO$996,28,FALSE),"")="","",VLOOKUP(B$33,[20]APU´S!C$4:CO$996,28,FALSE)) | C49: =IFERROR(VLOOKUP(B49,[20]EQUIPO!C$6:E$164,3,FALSE),"") | K49: =IFERROR(VLOOKUP(B49,[20]EQUIPO!C$6:G$164,5,FALSE),"") | L49: =IF(B49="","",VLOOKUP(B$33,[20]APU´S!C$4:CO$996,29,FALSE)*((1/VLOOKUP(B$33,'[20]HOJA DE CALCULOS '!FQ$5:FU$499,5,FALSE)))) | N49: =IF(L49="","",ROUND(L49*K49,2))
B50: =IF(IFERROR(VLOOKUP(B$33,[20]APU´S!C$4:CO$996,30,FALSE),"")="","",VLOOKUP(B$33,[20]APU´S!C$4:CO$996,30,FALSE)) | C50: =IFERROR(VLOOKUP(B50,[20]EQUIPO!C$6:E$164,3,FALSE),"") | K50: =IFERROR(VLOOKUP(B50,[20]EQUIPO!C$6:G$164,5,FALSE),"") | L50: =IF(B50="","",VLOOKUP(B$33,[20]APU´S!C$4:CO$996,31,FALSE)*((1/VLOOKUP(B$33,'[20]HOJA DE CALCULOS '!FQ$5:FU$499,5,FALSE)))) | N50: =IF(L50="","",ROUND(L50*K50,2))
C51: =IFERROR(VLOOKUP(B51,[20]EQUIPO!C$6:E$164,3,FALSE),"") | K51: =IFERROR(VLOOKUP(B51,[20]EQUIPO!C$6:G$164,5,FALSE),"") | L51: =IF(B51="","",VLOOKUP(B$33,[20]APU´S!C$4:CO$996,33,FALSE)*((1/VLOOKUP(B$33,'[20]HOJA DE CALCULOS '!FQ$5:FU$499,5,FALSE)))) | N51: =IF(L51="","",ROUND(L51*K51,2))
B52: =IF(IFERROR(VLOOKUP(B$33,[20]APU´S!C$4:CO$996,4,FALSE),"")="","",VLOOKUP(B$33,[20]APU´S!C$4:CO$996,4,FALSE)) -> HERMENINV | C52: HERRAMIENTA MENOR (% MANO DE OBRA) | J52: =IFERROR(VLOOKUP(B52,[20]EQUIPO!C$6:E$164,2,FALSE),"") -> % | K52: 15000 | L52: =IF(B52="","",VLOOKUP(B$33,[20]APU´S!C$4:CO$996,5,FALSE)) -> 0.05 | N52: =IF(K52="","",ROUND(L52*K52,2)) -> 750
B53: SUBTOTAL $ | N53: =ROUND(SUM(N38:N52),2) -> 12932.71
B55: II. MATERIALES
...
