Workbook
Name Data: '[1]Tabla de Valoración'!$I$2:$L$5
Name Diseño: '[1]Tabla de Valoración'!$I$2:$I$5
Name Ejecución: '[1]Tabla de Valoración'!$I$2:$L$2
Name Posibilidad: [2]Hoja2!$H$3:$H$7
Name Posibilidad: [2]Hoja2!$H$3:$H$7

Sheet Presentacion 
A1: Consejo Superior de la Judicatura
A7: MAPA DE RIESGOS SIGCMA
A9: DEPENDENCIA (Unidad misional del CSJ o Unidad de la DEAJ o Seccional o CSJ en caso de despachos judiciales certificados) | B9: DIRECCIÓN SECCIONAL DE ADMINISTRACIÓN JUDICIAL DE PEREIRA
A11: PROCESO (indique el tipo de proceso si es Estratégico. Misional, Apoyo, Evaluación y Mejora y especifique el nombre del proceso) | B11: Apoyo | C11: ADQUISICIÓN DE BIENES Y SERVICIOS
A13: CONSEJO SUPERIOR DE LA JUDICATURA
A14: CONSEJO SECCIONAL DE LA JUDICATURA
A15: DIRECCIÓN SECCIONAL DE ADMINISTRACIÓN JUDICIAL | B15: X
A16: DESPACHO JUDICIAL CERTIFICADO
A18: FECHA

Sheet Contexto
B1: Consejo Superior de la Judicatura
B2: Análisis de Contexto
A4: DEPENDENCIA: | B4: DIRECCION SECCIONAL DE ADMINISTRACION JUDICIAL DE PEREIRA | D4: PROCESO | E4: ADQUISICION DE BIENES Y SERVICIOS
A6: CONSEJO SECCIONAL/ DIRECCIÓN SECCIONAL DE ADMINISTRACIÓN JUDICIAL | B6: DIRECCION SECCIONAL DE ADMINISTRACION JUDICIAL DE PEREIRA
A8: OBJETIVO DEL PROCESO: | B8: Adquirir oportunamente los bienes y servicios requeridos por la Rama Judicial para garantizar una óptima gestión en cada vigencia, en el marco del sistema de gestión de la calidad, medio ambiente y seguridad y salud en el trabajo.
A9: CONTEXTO EXTERNO
A10: FACTORES | B10: No. | C10: AMENAZAS (Factores) | D10: No. | E10: OPORTUNIDADES (Factores)
A11: Político (cambios de gobierno, legislación, políticas públicas, regulación). | B11: 1 | C11: Eliminación o cambio del Proceso de adquisición de bienes y servicios por una Nueva legislación que impactan el quehacer normal de las diferentes instancias de la Rama Judicial. | D11: 1 | E11: Expedición de la Ley del Plan Nacional de Desarrollo que contiene el Plan Sectorial de Desarrollo de la Rama Judicial.
B12: 2 | C12: El cambio de gobierno puede incidir en la priorización de los temas ambientales en los diferentes instrumentos gubernamentales | D12: 2 | E12: Normatividad que parte de gobierno y de las políticas internacionales para la preservación de medio Ambiente.
A13: Económicos y Financieros | B13: 3 | C13: El aplazamiento o recorte presupuestal que realiza el Ministerio de Hacienda al presupuesto de la Rama Judicial. | D13: 3 | E13: Asignación anual de presupuestos de inversión y funcionamiento por parte del Gobierno Nacional.
B14: 4 | C14: Legislación en materia de COVID que establece austeridad y limita la disponibilidad de recursos. | D14: 4 | E14: Asignación de presupuesto para la realización de actividades de bienestar para los servidores judiciales y para la atención de la emergencia sanitaria.
B15: 5 | C15: Las decisiones que adopta el Congreso de la Republica cuando aprueba el proyecto de presupuesto de la Rama Judicial.
A16: Sociales y culturales | B16: 6 | C16: Actos delictivos cometidos por usuarios del servicio, contratistas y/o autoridades públicas. | D16: 5 | E16: Acceso por parte de la ciudadanía a los canales de comunicación institucionales a través de los medios virtuales.
B17: 7 | C17: Restricciones de movilidad, aislamiento, restricciones de ingreso a las sedes judiciales. | D17: 6 | E17: Fomentar la conservación de patrimonio cultural en las sedes judiciales.
B18: 8 | C18: Alteración del orden público. | D18: 7 | E18: Aumento de la demanda de medios tecnológicos y plataformas por parte de los usuarios de la administración de justicia.
B19: 9 | C19: Afectación emocional por atención a clientes internos y externos irrespetuosos | D19: 8 | E19: La cultura de la calidad y de la gestión ambiental desarrollada en las diferentes entidades y de cierta manera esperada por la ciudadanía.
A20: Tecnológicos | B20: 10 | C20: Implementación de nuevos software para el manejo de los procesos sin la suficiente capacitación, para ser aplicada en las seccionales. | D20: 9 | E20: Nuevas herramientas para trabajo colaborativo.
B21: 11 | C21: Falla de conectividad en la plataforma transaccional SECOP II | D21: 10 | E21: Disponibilidad en el mercado de herramientas tecnológicas.
B22: 12 | C22: Desconocimiento en el manejo de la plataforma transaccional SECOP II por parte de los proveedores.
B23: 13 | C23: Riesgos de la seguridad de la información por amenazas externas.(Ataques cibernéticos., Fraudes electrónicos)
B24: 14 | C24: Perdida de la información por virus.
A25: Ambientales | B25: 15 | C25: Ocurrencia de fenómenos naturales (Inundaciones, sismos, vendavales, pandemias) que pueden afectar la prestación del servicio | D25: 11 | E25: Se cuenta con organismos y entidades para el control adecuado de las emergencias ambientales.
B26: 16 | D26: 12 | E26: Los proveedores se encuentran en mejores condiciones para cumplimiento de requerimientos ambientales.
A27: Legales y reglamentarios | B27: 17 | C27: Servicios de proveedores que no cumplen con la normatividad ambiental en sus productos o servicios. | D27: 13 | E27: Legislación vigente (Calidad, Ambiental y SST). Manual de espacios fisicos saludables
B28: 18 | C28: Multiplicidad de decretos emitidos por la emergencia sanitaria que asignan más funciones y responsabilidades en el desempeño de proceso. | E28: Las opciones de integración de los sistemas de gestión y los modelos administrativos de apoyo a la rama judicial.
B29: 19 | C29: Excesiva cantidad de normas que podrían llevar a aplicar normatividad derogada.
A30: Otros | B30: 20 | C30: Expedición de directrices dadas a conocer sin la oportunidad suficiente y sin capacitación previa. | D30: 14 | E30: Disponibilidad de proveedores que ofertan productos biodegradables y/o amigables con el medio ambiente (papel a partir de bagazo de caña, insumos para la limpieza y desinfección).
B31: 21 | C31: Pliegos tipo de Colombia Compra eficiente, no se refuerza el tema ambiental en ellos, si no que prevalece el menor valor y menos requsitos para mayor oferentes. | D31: 15 | E31: Posibilidad de acceder a multiples proveedores de Bienes y Servicios a traves de la Plataforma Transaccional SECOP 2
A32: CONTEXTO INTERNO
A33: FACTORES | B33: No. | C33: DEBILIDADES (Factores) | D33: No. | E33: FORTALEZAS (Factores)
A34: Estratégicos: (direccionamiento estratégico, planeación institucional, liderazgo, trabajo en equipo) | B34: 1 | C34: Falta de comunicación y trabajo en equipo para los integrantes del proceso de adquisición de bienes y servicios | D34: 1 | E34: Programación de actividades del area con base en el plan anual de adquisiciones.
B35: 2 | C35: Expedición de directrices dadas a conocer de manera tardía y sin capacitación previa. | D35: 2 | E35: Existencia y funcionamiento de la Junta Seccional de Contratación y de Comité Evaluador y Estructurador seccional
B36: 3 | C36: Falta de mayor integración entre los enlaces de proceso con el líder de calidad y el lider ambiental de la seccional. | D36: 3 | E36: Reglamentación definida a través de Acuerdos para la planeación y adquisición de bienes y servicios.
B37: 4 | C37: Falta de conocimiento en la documentación dispuesta por el SIGCMA para el proceso de adquisición de bienes y servicios | D37: 4 | E37: Mejoramiento continuo de los documentos y anexos para adelantar los procesos de contratación.
A38: Recursos financieros (presupuesto de funcionamiento, recursos de inversión) | B38: 5 | C38: No asignación desde el mes de enero de todos los recursos solicitados por la seccional. | D38: 5 | E38: optimización de recursos disponibles para actividades específicas del proceso
B39: 6 | C39: Aprobación tardía de los proyectos de inversión.
B40: 7 | C40: No disponibilidad de recursos financieros para todas las actividades requeridas.
B41: 8 | C41: Demora en la asignación de PAC por restricciones o iliquidez en el Ministerio.
B42: 9 | C42: No se cuenta con un presupuesto asignado para la realización de proyectos ambientales.
B43: 10 | C43: Falta de asignación de recursos, para personal de apoyo técnico y metodológico en las seccionales en cuanto a la implementación y seguimiento de SIGCMA.
...

Sheet Estrategias
A1: Consejo Superior de la Judicatura
A2: ESTRATEGIAS/ACCIONES
A3: ESTRATEGIAS DOFA
A4: ESTRATEGIA/ACCIÓN/ PROYECTO | B4: GESTIONA | F4: DOCUMENTADA EN
B5: A | C5: O | D5: D | E5: F
A6: Establecer Cronograma de actividades para la ejecucion de la Contratacion | E6: 1, 2 , 3
A7: Solicitar a la EJRLB cursos en Contratacion Publica. | D7: 3 | F7: Solicitud a la EJRLB
A8: Establecer las Polizas de Garantia de producto Incluir clausulado ambiental en los pliegos de condiciones y en las minutas del contrato | B8: 5 y 6 | C8: 5 y 6 | E8: 4 | F8: Pliegos de condiciones y minutas de contratos

Sheet Mapa Final
D1: MATRIZ DE RIESGOS SIGCMA | AL1: SIGCMA
A4: Proceso: | D4: Adquisición de bienes y servicios
A5: Objetivo: | D5: Adquirir oportunamente los bienes y servicios requeridos por la Rama Judicial para garantizar una óptima gestión en cada vigencia, en el marco del sistema de gestión de la calidad, medio ambiente y seguridad y salud en el trabajo.
A6: Alcance: | D6: Nivel Central - Nivel Seccional
A7: Identificación del riesgo | I7: Análisis del riesgo inherente | O7: Evaluación del riesgo - Valoración de los controles | X7: Evaluación del riesgo - Nivel del riesgo residual | AI7: Plan de Acción
A8: N. | B8: Riesgo | C8: Impacto | D8: Causas Inmediata | E8: Causa Raíz | F8: Descripción del Riesgo | G8: Clasificación del Riesgo | H8: Frecuencia con la cual se realiza la actividad | I8: Probabilidad Inherente | J8: % | K8: Criterios de impacto | L8: Impacto Inherente | M8: % | N8: Zona de Riesgo Inherente | O8: No. Control | P8: Descripción del Control | Q8: Afectación | R8: Atributos | X8: Probabilidad Residual | Y8: Probabilidad Residua Finall | Z8: % | AC8: Impacto Residual Final | AD8: % | AG8: Zona de Riesgo Final | AH8: Tratamiento | AI8: Plan de Acción | AJ8: Responsable | AK8: Fecha Implementación | AL8: Fecha Seguimiento | AM8: Seguimiento | AN8: Estado
R9: Tipo | S9: Implementación | T9: Calificación | U9: Documentación | V9: Frecuencia | W9: Evidencia | AA9: Probabilidad Residual Final | AB9: % | AE9: Impacto Residual Final | AF9: %
A10: 1 | B10: Desabastecimiento | C10: Afectación en la Prestación del Servicio de Justicia | D10: Alteración del orden publico | E10: No disponibilidad de productos y/o servicios por alteracion del orden publico | F10: Probabilidad de afectación en la prestación del Servicio de Justicia por la no disponibilidad de productos y/o servicios por alteracion del orden publico | G10: Daños Activos Fijos/Eventos Externos | H10: 4 | I10: =IF(H10<=2,'Tabla probabilidad'!$B$5,IF(H10<=24,'Tabla probabilidad'!$B$6,IF(H10<=500,'Tabla probabilidad'!$B$7,IF(H10<=5000,'Tabla probabilidad'!$B$8,IF(H10>5000,'Tabla probabilidad'!$B$9))))) -> Baja | J10: =IF(H10<=2,'Tabla probabilidad'!$D$5,IF(H10<=24,'Tabla probabilidad'!$D$6,IF(H10<=500,'Tabla probabilidad'!$D$7,IF(H10<=5000,'Tabla probabilidad'!$D$8,IF(H10>5000,'Tabla probabilidad'!$D$9))))) -> 0.4 | K10: Afecta la Prestación del Servicio de Administración de Justicia en 15% | L10: =IF(K10="El riesgo afecta la imagen de alguna área de la organización","Leve",IF(K10="El riesgo afecta la imagen de la entidad internamente, de conocimiento general, nivel interno, alta dirección, contratista y/o de provedores","Menor",IF(K10="El riesgo afecta la imagen de la entidad con algunos usuarios de relevancia frente al logro de los objetivos","Moderado",IF(K10="El riesgo afecta la imagen de de la entidad con efecto publicitario sostenido a nivel del sector justicia","Mayor",IF(K10="El riesgo afecta la imagen de la entidad a nivel nacional, con efecto publicitarios sostenible a nivel país","Catastrófico",IF(K10="Impacto que afecte la ejecución presupuestal en un valor ≥0,5%.","Leve",IF(K10="Impacto que afecte la ejecución presupuestal en un valor ≥1%.","Menor",IF(K10="Impacto que afecte la ejecución presupuestal en un valor ≥5%.","Moderado",IF(K10="Impacto que afecte la ejecución presupuestal en un valor ≥20%.","Mayor",IF(K10="Impacto que afecte la ejecución presupuestal en un valor ≥50%.","Catastrófico",IF(K10="Incumplimiento máximo del 5% de la meta planeada","Leve",IF(K10="Incumplimiento máximo del 15% de la meta planeada","Menor",IF(K10="Incumplimiento máximo del 20% de la meta planeada","Moderado",IF(K10="Incumplimiento máximo del 50% de la meta planeada","Mayor",IF(K10="Incumplimiento máximo del 80% de la meta planeada","Catastrófico",IF(K10="Cualquier afectación a la violacion de los derechos de los ciudadanos se considera con consecuencias altas","Mayor",IF(K10="Cualquier afectación a la violacion de los derechos de los ciudadanos se considera con consecuencias desastrosas","Catastrófico",IF(K10="Afecta la Prestación del Servicio de Administración de Justicia en 5%","Leve",IF(K10="Afecta la Prestación del Servicio de Administración de Justicia en 10%","Menor",IF(K10="Afecta la Prestación del Servicio de Administración de Justicia en 15%","Moderado",IF(K10="Afecta la Prestación del Servicio de Administración de Justicia en 20%","Mayor",IF(K10="Afecta la Prestación del Servicio de Administración de Justicia en más del 50%","Catastrófico",IF(K10="Cualquier acto indebido de los servidores judiciales genera altas consecuencias para la entidad","Mayor",IF(K10="Cualquier acto indebido de los servidores judiciales genera consecuencias desastrosas para la entidad","Catastrófico",IF(K10="Si el hecho llegara a presentarse, tendría consecuencias o efectos mínimos sobre la entidad","Leve",IF(K10="Si el hecho llegara a presentarse, tendría bajo impacto o efecto sobre la entidad","Menor",IF(K10="Si el hecho llegara a presentarse, tendría medianas consecuencias o efectos sobre la entidad","Moderado",IF(K10="Si el hecho llegara a presentarse, tendría altas consecuencias o efectos sobre la entidad","Mayor",IF(K10="Si el hecho llegara a presentarse, tendría desastrosas consecuencias o efectos sobre la entidad","Catastrófico"))))))))))))))))))))))))))))) -> Moderado | M10: =IF(K10="El riesgo afecta la imagen de alguna área de la organización","20%",IF(K10="El riesgo afecta la imagen de la entidad internamente, de conocimiento general, nivel interno, alta dirección, contratista y/o de provedores","40%",IF(K10="El riesgo afecta la imagen de la entidad con algunos usuarios de relevancia frente al logro de los objetivos","60%",IF(K10="El riesgo afecta la imagen de de la entidad con efecto publicitario sostenido a nivel del sector justicia","80%",IF(K10="El riesgo afecta la imagen de la entidad a nivel nacional, con efecto publicitarios sostenible a nivel país","100%",IF(K10="Impacto que afecte la ejecución presupuestal en un valor ≥0,5%.","20%",IF(K10="Impacto que afecte la ejecución presupuestal en un valor ≥1%.","40%",IF(K10="Impacto que afecte la ejecución presupuestal en un valor ≥5%.","60%",IF(K10="Impacto que afecte la ejecución presupuestal en un valor ≥20%.","80%",IF(K10="Impacto que afecte la ejecución presupuestal en un valor ≥50%.","100%",IF(K10="Incumplimiento máximo del 5% de la meta planeada","20%",IF(K10="Incumplimiento máximo del 15% de la meta planeada","40%",IF(K10="Incumplimiento máximo del 20% de la meta planeada","60%",IF(K10="Incumplimiento máximo del 50% de la meta planeada","80%",IF(K10="Incumplimiento máximo del 80% de la meta planeada","100%",IF(K10="Cualquier afectación a la violacion de los derechos de los ciudadanos se considera con consecuencias altas","80%",IF(K10="Cualquier afectación a la violacion de los derechos de los ciudadanos se considera con consecuencias desastrosas","100%",IF(K10="Afecta la Prestación del Servicio de Administración de Justicia en 5%","20%",IF(K10="Afecta la Prestación del Servicio de Administración de Justicia en 10%","40%",IF(K10="Afecta la Prestación del Servicio de Administración de Justicia en 15%","60%",IF(K10="Afecta la Prestación del Servicio de Administración de Justicia en 20%","80%",IF(K10="Afecta la Prestación del Servicio de Administración de Justicia en más del 50%","100%",IF(K10="Cualquier acto indebido de los servidores judiciales genera altas consecuencias para la entidad","80%",IF(K10="Cualquier acto indebido de los servidores judiciales genera consecuencias desastrosas para la entidad","100%",IF(K10="Si el hecho llegara a presentarse, tendría consecuencias o efectos mínimos sobre la entidad","20%",IF(K10="Si el hecho llegara a presentarse, tendría bajo impacto o efecto sobre la entidad","40%",IF(K10="Si el hecho llegara a presentarse, tendría medianas consecuencias o efectos sobre la entidad","60%",IF(K10="Si el hecho llegara a presentarse, tendría altas consecuencias o efectos sobre la entidad","80%",IF(K10="Si el hecho llegara a presentarse, tendría desastrosas consecuencias o efectos sobre la entidad","100%"))))))))))))))))))))))))))))) -> 60% | N10: =VLOOKUP((I10&L10),Hoja1!$B$4:$C$28,2,0) -> Moderado | O10: 1 | P10: Planeación adecuada de la adquisición de bienes y servicios, teniendo en cuenta que se puede presentar alteración de orden público. | Q10: =IF(R10="Preventivo","Probabilidad",IF(R10="Detectivo","Probabilidad", IF(R10="Correctivo","Impacto"))) -> Probabilidad | R10: Preventivo | S10: Manual | T10: =VLOOKUP(R10&S10,Hoja1!$Q$4:$R$9,2,0) -> 0.45 | U10: Documentado | V10: Continua | W10: Con Registro | X10: =IF(Q10="Probabilidad",($J$10*T10),IF(Q10="Impacto"," ")) -> 0.18 | Y10: =IF(Z10<=20%,'Tabla probabilidad'!$B$5,IF(Z10<=40%,'Tabla probabilidad'!$B$6,IF(Z10<=60%,'Tabla probabilidad'!$B$7,IF(Z10<=80%,'Tabla probabilidad'!$B$8,IF(Z10<=100%,'Tabla probabilidad'!$B$9))))) -> Baja | Z10: =IF(R10="Preventivo",(J10-(J10*T10)),IF(R10="Detectivo",(J10-(J10*T10)),IF(R10="Correctivo",(J10)))) -> 0.22 | AA10: =IF(AB10<=20%,'Tabla probabilidad'!$B$5,IF(AB10<=40%,'Tabla probabilidad'!$B$6,IF(AB10<=60%,'Tabla probabilidad'!$B$7,IF(AB10<=80%,'Tabla probabilidad'!$B$8,IF(AB10<=100%,'Tabla probabilidad'!$B$9))))) -> Baja | AB10: =AVERAGE(Z10:Z13) -> 0.22 | AC10: =IF(AD10<=20%,"Leve",IF(AD10<=40%,"Menor",IF(AD10<=60%,"Moderado",IF(AD10<=80%,"Mayor",IF(AD10<=100%,"Catastrófico"))))) -> Moderado | AD10: =IF(Q10="Probabilidad",(($M$10-0)),IF(Q10="Impacto",($M$10-($M$10*T10)))) -> 0.6 | AE10: =IF(AF10<=20%,"Leve",IF(AF10<=40%,"Menor",IF(AF10<=60%,"Moderado",IF(AF10<=80%,"Mayor",IF(AF10<=100%,"Catastrófico"))))) -> Moderado | AF10: =AVERAGE(AD10:AD13) -> 0.6 | AG10: =VLOOKUP(AA10&AE10,Hoja1!$B$4:$C$28,2,0) -> Moderado | AH10: Aceptar
D11: Cierre de vias | O11: 2 | P11: Verificar el estado de las vías del departamento antes de partir hacia las diferentes sedes judiciales a realizar mantenimientos y entregas de insumos. | Q11: =IF(R11="Preventivo","Probabilidad",IF(R11="Detectivo","Probabilidad", IF(R11="Correctivo","Impacto"))) -> Probabilidad | R11: Preventivo | S11: Manual | T11: =VLOOKUP(R11&S11,Hoja1!$Q$4:$R$9,2,0) -> 0.45 | U11: Documentado | V11: Continua | W11: Con Registro | X11: =IF(Q11="Probabilidad",($J$10*T11),IF(Q11="Impacto"," ")) -> 0.18 | Y11: =IF(Z11<=20%,'Tabla probabilidad'!$B$5,IF(Z11<=40%,'Tabla probabilidad'!$B$6,IF(Z11<=60%,'Tabla probabilidad'!$B$7,IF(Z11<=80%,'Tabla probabilidad'!$B$8,IF(Z11<=100%,'Tabla probabilidad'!$B$9))))) -> Baja | Z11: =IF(R11="Preventivo",(J10-(J10*T11)),IF(R11="Detectivo",(J10-(J10*T11)),IF(R11="Correctivo",(J10)))) -> 0.22 | AC11: =IF(AD11<=20%,"Leve",IF(AD11<=40%,"Menor",IF(AD11<=60%,"Moderado",IF(AD11<=80%,"Mayor",IF(AD11<=100%,"Catastrófico"))))) -> Moderado | AD11: =IF(Q11="Probabilidad",(($M$10-0)),IF(Q11="Impacto",($M$10-($M$10*T11)))) -> 0.6
D12: Declaratorias de emergencia | O12: 3 | P12: Planeación de actividades fuera de la sede (trabajo en casa) | Q12: =IF(R12="Preventivo","Probabilidad",IF(R12="Detectivo","Probabilidad", IF(R12="Correctivo","Impacto"))) -> Probabilidad | R12: Preventivo | S12: Manual | T12: =VLOOKUP(R12&S12,Hoja1!$Q$4:$R$9,2,0) -> 0.45 | U12: Documentado | V12: Continua | W12: Con Registro | X12: =IF(Q12="Probabilidad",($J$10*T12),IF(Q12="Impacto"," ")) -> 0.18 | Y12: =IF(Z12<=20%,'Tabla probabilidad'!$B$5,IF(Z12<=40%,'Tabla probabilidad'!$B$6,IF(Z12<=60%,'Tabla probabilidad'!$B$7,IF(Z12<=80%,'Tabla probabilidad'!$B$8,IF(Z12<=100%,'Tabla probabilidad'!$B$9))))) -> Baja | Z12: =IF(R12="Preventivo",(J10-(J10*T12)),IF(R12="Detectivo",(J10-(J10*T12)),IF(R12="Correctivo",(J10)))) -> 0.22 | AC12: =IF(AD12<=20%,"Leve",IF(AD12<=40%,"Menor",IF(AD12<=60%,"Moderado",IF(AD12<=80%,"Mayor",IF(AD12<=100%,"Catastrófico"))))) -> Moderado | AD12: =IF(Q12="Probabilidad",(($M$10-0)),IF(Q12="Impacto",($M$10-($M$10*T12)))) -> 0.6
D13: Cierre de proveedores | O13: 4 | P13: Inventario y stock suficiente para atender necesidades del distrito. | Q13: Probabilidad | R13: Preventivo | S13: Manual | T13: =VLOOKUP(R13&S13,Hoja1!$Q$4:$R$9,2,0) -> 0.45 | U13: Documentado | V13: Continua | W13: Con Registro | X13: =IF(Q13="Probabilidad",($J$10*T13),IF(Q13="Impacto"," ")) -> 0.18 | Y13: =IF(Z13<=20%,'Tabla probabilidad'!$B$5,IF(Z13<=40%,'Tabla probabilidad'!$B$6,IF(Z13<=60%,'Tabla probabilidad'!$B$7,IF(Z13<=80%,'Tabla probabilidad'!$B$8,IF(Z13<=100%,'Tabla probabilidad'!$B$9))))) -> Baja | Z13: =IF(R13="Preventivo",(J10-(J10*T13)),IF(R13="Detectivo",(J10-(J10*T13)),IF(R13="Correctivo",(J10)))) -> 0.22 | AC13: =IF(AD13<=20%,"Leve",IF(AD13<=40%,"Menor",IF(AD13<=60%,"Moderado",IF(AD13<=80%,"Mayor",IF(AD13<=100%,"Catastrófico"))))) -> Moderado | AD13: =IF(Q13="Probabilidad",(($M$10-0)),IF(Q13="Impacto",($M$10-($M$10*T13)))) -> 0.6
D14: Incumplimiento en la prestación del servicio y en el desarrollo normal de la operación en las distintas sedes Judiciales. | E14: No entrega de insumos en tiempos que permitan el debido abastecimiento de las diferentes Sedes Judiciales. | F14: Probabilidad de afectación en la prestación del Servicio de Justicia por la no entrega de insumos en tiempos que permitan el debido abastecimiento de las diferentes Sedes Judiciales. | G14: Usuarios, productos y prácticas organizacionales | H14: 113 | I14: =IF(H14<=2,'Tabla probabilidad'!$B$5,IF(H14<=24,'Tabla probabilidad'!$B$6,IF(H14<=500,'Tabla probabilidad'!$B$7,IF(H14<=5000,'Tabla probabilidad'!$B$8,IF(H14>5000,'Tabla probabilidad'!$B$9))))) -> Media | J14: =IF(H14<=2,'Tabla probabilidad'!$D$5,IF(H14<=24,'Tabla probabilidad'!$D$6,IF(H14<=500,'Tabla probabilidad'!$D$7,IF(H14<=5000,'Tabla probabilidad'!$D$8,IF(H14>5000,'Tabla probabilidad'!$D$9))))) -> 0.6 | K14: Afecta la Prestación del Servicio de Administración de Justicia en 20% | L14: =IF(K14="El riesgo afecta la imagen de alguna área de la organización","Leve",IF(K14="El riesgo afecta la imagen de la entidad internamente, de conocimiento general, nivel interno, alta dirección, contratista y/o de provedores","Menor",IF(K14="El riesgo afecta la imagen de la entidad con algunos usuarios de relevancia frente al logro de los objetivos","Moderado",IF(K14="El riesgo afecta la imagen de de la entidad con efecto publicitario sostenido a nivel del sector justicia","Mayor",IF(K14="El riesgo afecta la imagen de la entidad a nivel nacional, con efecto publicitarios sostenible a nivel país","Catastrófico",IF(K14="Impacto que afecte la ejecución presupuestal en un valor ≥0,5%.","Leve",IF(K14="Impacto que afecte la ejecución presupuestal en un valor ≥1%.","Menor",IF(K14="Impacto que afecte la ejecución presupuestal en un valor ≥5%.","Moderado",IF(K14="Impacto que afecte la ejecución presupuestal en un valor ≥20%.","Mayor",IF(K14="Impacto que afecte la ejecución presupuestal en un valor ≥50%.","Catastrófico",IF(K14="Incumplimiento máximo del 5% de la meta planeada","Leve",IF(K14="Incumplimiento máximo del 15% de la meta planeada","Menor",IF(K14="Incumplimiento máximo del 20% de la meta planeada","Moderado",IF(K14="Incumplimiento máximo del 50% de la meta planeada","Mayor",IF(K14="Incumplimiento máximo del 80% de la meta planeada","Catastrófico",IF(K14="Cualquier afectación a la violacion de los derechos de los ciudadanos se considera con consecuencias altas","Mayor",IF(K14="Cualquier afectación a la violacion de los derechos de los ciudadanos se considera con consecuencias desastrosas","Catastrófico",IF(K14="Afecta la Prestación del Servicio de Administración de Justicia en 5%","Leve",IF(K14="Afecta la Prestación del Servicio de Administración de Justicia en 10%","Menor",IF(K14="Afecta la Prestación del Servicio de Administración de Justicia en 15%","Moderado",IF(K14="Afecta la Prestación del Servicio de Administración de Justicia en 20%","Mayor",IF(K14="Afecta la Prestación del Servicio de Administración de Justicia en más del 50%","Catastrófico",IF(K14="Cualquier acto indebido de los servidores judiciales genera altas consecuencias para la entidad","Mayor",IF(K14="Cualquier acto indebido de los servidores judiciales genera consecuencias desastrosas para la entidad","Catastrófico",IF(K14="Si el hecho llegara a presentarse, tendría consecuencias o efectos mínimos sobre la entidad","Leve",IF(K14="Si el hecho llegara a presentarse, tendría bajo impacto o efecto sobre la entidad","Menor",IF(K14="Si el hecho llegara a presentarse, tendría medianas consecuencias o efectos sobre la entidad","Moderado",IF(K14="Si el hecho llegara a presentarse, tendría altas consecuencias o efectos sobre la entidad","Mayor",IF(K14="Si el hecho llegara a presentarse, tendría desastrosas consecuencias o efectos sobre la entidad","Catastrófico"))))))))))))))))))))))))))))) -> Mayor | M14: =IF(K14="El riesgo afecta la imagen de alguna área de la organización","20%",IF(K14="El riesgo afecta la imagen de la entidad internamente, de conocimiento general, nivel interno, alta dirección, contratista y/o de provedores","40%",IF(K14="El riesgo afecta la imagen de la entidad con algunos usuarios de relevancia frente al logro de los objetivos","60%",IF(K14="El riesgo afecta la imagen de de la entidad con efecto publicitario sostenido a nivel del sector justicia","80%",IF(K14="El riesgo afecta la imagen de la entidad a nivel nacional, con efecto publicitarios sostenible a nivel país","100%",IF(K14="Impacto que afecte la ejecución presupuestal en un valor ≥0,5%.","20%",IF(K14="Impacto que afecte la ejecución presupuestal en un valor ≥1%.","40%",IF(K14="Impacto que afecte la ejecución presupuestal en un valor ≥5%.","60%",IF(K14="Impacto que afecte la ejecución presupuestal en un valor ≥20%.","80%",IF(K14="Impacto que afecte la ejecución presupuestal en un valor ≥50%.","100%",IF(K14="Incumplimiento máximo del 5% de la meta planeada","20%",IF(K14="Incumplimiento máximo del 15% de la meta planeada","40%",IF(K14="Incumplimiento máximo del 20% de la meta planeada","60%",IF(K14="Incumplimiento máximo del 50% de la meta planeada","80%",IF(K14="Incumplimiento máximo del 80% de la meta planeada","100%",IF(K14="Cualquier afectación a la violacion de los derechos de los ciudadanos se considera con consecuencias altas","80%",IF(K14="Cualquier afectación a la violacion de los derechos de los ciudadanos se considera con consecuencias desastrosas","100%",IF(K14="Afecta la Prestación del Servicio de Administración de Justicia en 5%","20%",IF(K14="Afecta la Prestación del Servicio de Administración de Justicia en 10%","40%",IF(K14="Afecta la Prestación del Servicio de Administración de Justicia en 15%","60%",IF(K14="Afecta la Prestación del Servicio de Administración de Justicia en 20%","80%",IF(K14="Afecta la Prestación del Servicio de Administración de Justicia en más del 50%","100%",IF(K14="Cualquier acto indebido de los servidores judiciales genera altas consecuencias para la entidad","80%",IF(K14="Cualquier acto indebido de los servidores judiciales genera consecuencias desastrosas para la entidad","100%",IF(K14="Si el hecho llegara a presentarse, tendría consecuencias o efectos mínimos sobre la entidad","20%",IF(K14="Si el hecho llegara a presentarse, tendría bajo impacto o efecto sobre la entidad","40%",IF(K14="Si el hecho llegara a presentarse, tendría medianas consecuencias o efectos sobre la entidad","60%",IF(K14="Si el hecho llegara a presentarse, tendría altas consecuencias o efectos sobre la entidad","80%",IF(K14="Si el hecho llegara a presentarse, tendría desastrosas consecuencias o efectos sobre la entidad","100%"))))))))))))))))))))))))))))) -> 80% | N14: =VLOOKUP((I14&L14),Hoja1!$B$4:$C$28,2,0) -> Alto | O14: 1 | P14: Asegurar medios de transporte propios para la entrega de productos, servicios y suministros en las distintas sedes del Distrito Risaralda. | Q14: =IF(R14="Preventivo","Probabilidad",IF(R14="Detectivo","Probabilidad", IF(R14="Correctivo","Impacto"))) -> Probabilidad | R14: Preventivo | S14: Manual | T14: =VLOOKUP(R14&S14,Hoja1!$Q$4:$R$9,2,0) -> 0.45 | U14: Documentado | V14: Continua | W14: Con Registro | X14: =IF(Q14="Probabilidad",($J$40*T14),IF(Q14="Impacto"," ")) -> 0.09 | Y14: =IF(Z14<=20%,'Tabla probabilidad'!$B$5,IF(Z14<=40%,'Tabla probabilidad'!$B$6,IF(Z14<=60%,'Tabla probabilidad'!$B$7,IF(Z14<=80%,'Tabla probabilidad'!$B$8,IF(Z14<=100%,'Tabla probabilidad'!$B$9))))) -> Baja | Z14: =IF(R14="Preventivo",(J14-(J14*T14)),IF(R14="Detectivo",(J14-(J14*T14)),IF(R14="Correctivo",(J14)))) -> 0.33 | AA14: =IF(AB14<=20%,'Tabla probabilidad'!$B$5,IF(AB14<=40%,'Tabla probabilidad'!$B$6,IF(AB14<=60%,'Tabla probabilidad'!$B$7,IF(AB14<=80%,'Tabla probabilidad'!$B$8,IF(AB14<=100%,'Tabla probabilidad'!$B$9))))) -> Baja | AB14: =AVERAGE(Z14:Z16) -> 0.33 | AC14: =IF(AD14<=20%,"Leve",IF(AD14<=40%,"Menor",IF(AD14<=60%,"Moderado",IF(AD14<=80%,"Mayor",IF(AD14<=100%,"Catastrófico"))))) -> Leve | AD14: =IF(Q14="Probabilidad",(($M$40-0)),IF(Q14="Impacto",($M$40-($M$40*T14)))) -> 0.2 | AE14: =IF(AF14<=20%,"Leve",IF(AF14<=40%,"Menor",IF(AF14<=60%,"Moderado",IF(AF14<=80%,"Mayor",IF(AF14<=100%,"Catastrófico"))))) -> Leve | AF14: =AVERAGE(AD14:AD16) -> 0.2 | AG14: =VLOOKUP(AA14&AE14,Hoja1!$B$4:$C$28,2,0) -> Bajo | AH14: Aceptar
D15: Incumplimiento en la entrega de suministro a los diferentes despachos judiciales. | O15: 2 | P15: Programar las entregas de insumos con suficiente antelación antes de que en los despachos judiciales se acaben las existencias. | Q15: =IF(R15="Preventivo","Probabilidad",IF(R15="Detectivo","Probabilidad", IF(R15="Correctivo","Impacto"))) -> Probabilidad | R15: Preventivo | S15: Manual | T15: =VLOOKUP(R15&S15,Hoja1!$Q$4:$R$9,2,0) -> 0.45 | U15: Documentado | V15: Continua | W15: Con Registro | X15: =IF(Q15="Probabilidad",($J$40*T15),IF(Q15="Impacto"," ")) -> 0.09 | Y15: =IF(Z15<=20%,'Tabla probabilidad'!$B$5,IF(Z15<=40%,'Tabla probabilidad'!$B$6,IF(Z15<=60%,'Tabla probabilidad'!$B$7,IF(Z15<=80%,'Tabla probabilidad'!$B$8,IF(Z15<=100%,'Tabla probabilidad'!$B$9))))) -> Baja | Z15: =IF(R15="Preventivo",(J14-(J14*T15)),IF(R15="Detectivo",(J14-(J14*T15)),IF(R15="Correctivo",(J14)))) -> 0.33 | AC15: =IF(AD15<=20%,"Leve",IF(AD15<=40%,"Menor",IF(AD15<=60%,"Moderado",IF(AD15<=80%,"Mayor",IF(AD15<=100%,"Catastrófico"))))) -> Leve | AD15: =IF(Q15="Probabilidad",(($M$40-0)),IF(Q15="Impacto",($M$40-($M$40*T15)))) -> 0.2
D16: Falta de suministros para operar en las distintas sedes judiciales. | O16: 3 | P16: Para garantizar la disponibilidad de los insumos y productos que requieren los despachos judiciales se tiene un cuadro de requerimientos. | Q16: =IF(R16="Preventivo","Probabilidad",IF(R16="Detectivo","Probabilidad", IF(R16="Correctivo","Impacto"))) -> Probabilidad | R16: Preventivo | S16: Manual | T16: =VLOOKUP(R16&S16,Hoja1!$Q$4:$R$9,2,0) -> 0.45 | U16: Documentado | V16: Continua | W16: Con Registro | X16: =IF(Q16="Probabilidad",($J$40*T16),IF(Q16="Impacto"," ")) -> 0.09 | Y16: =IF(Z16<=20%,'Tabla probabilidad'!$B$5,IF(Z16<=40%,'Tabla probabilidad'!$B$6,IF(Z16<=60%,'Tabla probabilidad'!$B$7,IF(Z16<=80%,'Tabla probabilidad'!$B$8,IF(Z16<=100%,'Tabla probabilidad'!$B$9))))) -> Baja | Z16: =IF(R16="Preventivo",(J14-(J14*T16)),IF(R16="Detectivo",(J14-(J14*T16)),IF(R16="Correctivo",(J14)))) -> 0.33 | AC16: =IF(AD16<=20%,"Leve",IF(AD16<=40%,"Menor",IF(AD16<=60%,"Moderado",IF(AD16<=80%,"Mayor",IF(AD16<=100%,"Catastrófico"))))) -> Leve | AD16: =IF(Q16="Probabilidad",(($M$40-0)),IF(Q16="Impacto",($M$40-($M$40*T16)))) -> 0.2
D17: Afectación de la curva de aprendizaje. | E17: No ajuste de la contratación a las necesidades especificas de la Seccional | F17: Probabilidad de afectación en la prestación del Servicio de Justicia por el no ajuste de la contratación a las necesidades especificas de la Seccional | G17: Usuarios, productos y prácticas organizacionales | H17: 2 | I17: =IF(H17<=2,'Tabla probabilidad'!$B$5,IF(H17<=24,'Tabla probabilidad'!$B$6,IF(H17<=500,'Tabla probabilidad'!$B$7,IF(H17<=5000,'Tabla probabilidad'!$B$8,IF(H17>5000,'Tabla probabilidad'!$B$9))))) -> Muy Baja | J17: =IF(H17<=2,'Tabla probabilidad'!$D$5,IF(H17<=24,'Tabla probabilidad'!$D$6,IF(H17<=500,'Tabla probabilidad'!$D$7,IF(H17<=5000,'Tabla probabilidad'!$D$8,IF(H17>5000,'Tabla probabilidad'!$D$9))))) -> 0.2 | K17: El riesgo afecta la imagen de alguna área de la organización | L17: =IF(K17="El riesgo afecta la imagen de alguna área de la organización","Leve",IF(K17="El riesgo afecta la imagen de la entidad internamente, de conocimiento general, nivel interno, alta dirección, contratista y/o de provedores","Menor",IF(K17="El riesgo afecta la imagen de la entidad con algunos usuarios de relevancia frente al logro de los objetivos","Moderado",IF(K17="El riesgo afecta la imagen de de la entidad con efecto publicitario sostenido a nivel del sector justicia","Mayor",IF(K17="El riesgo afecta la imagen de la entidad a nivel nacional, con efecto publicitarios sostenible a nivel país","Catastrófico",IF(K17="Impacto que afecte la ejecución presupuestal en un valor ≥0,5%.","Leve",IF(K17="Impacto que afecte la ejecución presupuestal en un valor ≥1%.","Menor",IF(K17="Impacto que afecte la ejecución presupuestal en un valor ≥5%.","Moderado",IF(K17="Impacto que afecte la ejecución presupuestal en un valor ≥20%.","Mayor",IF(K17="Impacto que afecte la ejecución presupuestal en un valor ≥50%.","Catastrófico",IF(K17="Incumplimiento máximo del 5% de la meta planeada","Leve",IF(K17="Incumplimiento máximo del 15% de la meta planeada","Menor",IF(K17="Incumplimiento máximo del 20% de la meta planeada","Moderado",IF(K17="Incumplimiento máximo del 50% de la meta planeada","Mayor",IF(K17="Incumplimiento máximo del 80% de la meta planeada","Catastrófico",IF(K17="Cualquier afectación a la violacion de los derechos de los ciudadanos se considera con consecuencias altas","Mayor",IF(K17="Cualquier afectación a la violacion de los derechos de los ciudadanos se considera con consecuencias desastrosas","Catastrófico",IF(K17="Afecta la Prestación del Servicio de Administración de Justicia en 5%","Leve",IF(K17="Afecta la Prestación del Servicio de Administración de Justicia en 10%","Menor",IF(K17="Afecta la Prestación del Servicio de Administración de Justicia en 15%","Moderado",IF(K17="Afecta la Prestación del Servicio de Administración de Justicia en 20%","Mayor",IF(K17="Afecta la Prestación del Servicio de Administración de Justicia en más del 50%","Catastrófico",IF(K17="Cualquier acto indebido de los servidores judiciales genera altas consecuencias para la entidad","Mayor",IF(K17="Cualquier acto indebido de los servidores judiciales genera consecuencias desastrosas para la entidad","Catastrófico",IF(K17="Si el hecho llegara a presentarse, tendría consecuencias o efectos mínimos sobre la entidad","Leve",IF(K17="Si el hecho llegara a presentarse, tendría bajo impacto o efecto sobre la entidad","Menor",IF(K17="Si el hecho llegara a presentarse, tendría medianas consecuencias o efectos sobre la entidad","Moderado",IF(K17="Si el hecho llegara a presentarse, tendría altas consecuencias o efectos sobre la entidad","Mayor",IF(K17="Si el hecho llegara a presentarse, tendría desastrosas consecuencias o efectos sobre la entidad","Catastrófico"))))))))))))))))))))))))))))) -> Leve | M17: =IF(K17="El riesgo afecta la imagen de alguna área de la organización","20%",IF(K17="El riesgo afecta la imagen de la entidad internamente, de conocimiento general, nivel interno, alta dirección, contratista y/o de provedores","40%",IF(K17="El riesgo afecta la imagen de la entidad con algunos usuarios de relevancia frente al logro de los objetivos","60%",IF(K17="El riesgo afecta la imagen de de la entidad con efecto publicitario sostenido a nivel del sector justicia","80%",IF(K17="El riesgo afecta la imagen de la entidad a nivel nacional, con efecto publicitarios sostenible a nivel país","100%",IF(K17="Impacto que afecte la ejecución presupuestal en un valor ≥0,5%.","20%",IF(K17="Impacto que afecte la ejecución presupuestal en un valor ≥1%.","40%",IF(K17="Impacto que afecte la ejecución presupuestal en un valor ≥5%.","60%",IF(K17="Impacto que afecte la ejecución presupuestal en un valor ≥20%.","80%",IF(K17="Impacto que afecte la ejecución presupuestal en un valor ≥50%.","100%",IF(K17="Incumplimiento máximo del 5% de la meta planeada","20%",IF(K17="Incumplimiento máximo del 15% de la meta planeada","40%",IF(K17="Incumplimiento máximo del 20% de la meta planeada","60%",IF(K17="Incumplimiento máximo del 50% de la meta planeada","80%",IF(K17="Incumplimiento máximo del 80% de la meta planeada","100%",IF(K17="Cualquier afectación a la violacion de los derechos de los ciudadanos se considera con consecuencias altas","80%",IF(K17="Cualquier afectación a la violacion de los derechos de los ciudadanos se considera con consecuencias desastrosas","100%",IF(K17="Afecta la Prestación del Servicio de Administración de Justicia en 5%","20%",IF(K17="Afecta la Prestación del Servicio de Administración de Justicia en 10%","40%",IF(K17="Afecta la Prestación del Servicio de Administración de Justicia en 15%","60%",IF(K17="Afecta la Prestación del Servicio de Administración de Justicia en 20%","80%",IF(K17="Afecta la Prestación del Servicio de Administración de Justicia en más del 50%","100%",IF(K17="Cualquier acto indebido de los servidores judiciales genera altas consecuencias para la entidad","80%",IF(K17="Cualquier acto indebido de los servidores judiciales genera consecuencias desastrosas para la entidad","100%",IF(K17="Si el hecho llegara a presentarse, tendría consecuencias o efectos mínimos sobre la entidad","20%",IF(K17="Si el hecho llegara a presentarse, tendría bajo impacto o efecto sobre la entidad","40%",IF(K17="Si el hecho llegara a presentarse, tendría medianas consecuencias o efectos sobre la entidad","60%",IF(K17="Si el hecho llegara a presentarse, tendría altas consecuencias o efectos sobre la entidad","80%",IF(K17="Si el hecho llegara a presentarse, tendría desastrosas consecuencias o efectos sobre la entidad","100%"))))))))))))))))))))))))))))) -> 20% | N17: =VLOOKUP((I17&L17),Hoja1!$B$4:$C$28,2,0) -> Bajo | O17: 1 | P17: Exigencia en la contratación que el cambio de personal deba ser acordado con el Supervisor, para evitar la rotación permanentemente del personal que presta sus servicios en las sedes judiciales. | Q17: =IF(R17="Preventivo","Probabilidad",IF(R17="Detectivo","Probabilidad", IF(R17="Correctivo","Impacto"))) -> Probabilidad | R17: Preventivo | S17: Manual | T17: =VLOOKUP(R17&S17,Hoja1!$Q$4:$R$9,2,0) -> 0.45 | U17: Documentado | V17: Continua | W17: Con Registro | X17: =IF(Q17="Probabilidad",($J$40*T17),IF(Q17="Impacto"," ")) -> 0.09 | Y17: =IF(Z17<=20%,'Tabla probabilidad'!$B$5,IF(Z17<=40%,'Tabla probabilidad'!$B$6,IF(Z17<=60%,'Tabla probabilidad'!$B$7,IF(Z17<=80%,'Tabla probabilidad'!$B$8,IF(Z17<=100%,'Tabla probabilidad'!$B$9))))) -> Muy Baja | Z17: =IF(R17="Preventivo",(J17-(J17*T17)),IF(R17="Detectivo",(J17-(J17*T17)),IF(R17="Correctivo",(J17)))) -> 0.11 | AA17: =IF(AB17<=20%,'Tabla probabilidad'!$B$5,IF(AB17<=40%,'Tabla probabilidad'!$B$6,IF(AB17<=60%,'Tabla probabilidad'!$B$7,IF(AB17<=80%,'Tabla probabilidad'!$B$8,IF(AB17<=100%,'Tabla probabilidad'!$B$9))))) -> Muy Baja | AB17: =AVERAGE(Z17:Z19) -> 0.11 | AC17: =IF(AD17<=20%,"Leve",IF(AD17<=40%,"Menor",IF(AD17<=60%,"Moderado",IF(AD17<=80%,"Mayor",IF(AD17<=100%,"Catastrófico"))))) -> Leve | AD17: =IF(Q17="Probabilidad",(($M$40-0)),IF(Q17="Impacto",($M$40-($M$40*T17)))) -> 0.2 | AE17: =IF(AF17<=20%,"Leve",IF(AF17<=40%,"Menor",IF(AF17<=60%,"Moderado",IF(AF17<=80%,"Mayor",IF(AF17<=100%,"Catastrófico"))))) -> Leve | AF17: =AVERAGE(AD17:AD19) -> 0.2 | AG17: =VLOOKUP(AA17&AE17,Hoja1!$B$4:$C$28,2,0) -> Bajo | AH17: Aceptar
D18: Afectación de knox hoy de la entidad, KNOW - HOWY (Que hacer y como). | O18: 2 | P18: Constitución de Polizas de garantías | Q18: =IF(R18="Preventivo","Probabilidad",IF(R18="Detectivo","Probabilidad", IF(R18="Correctivo","Impacto"))) -> Probabilidad | R18: Preventivo | S18: Manual | T18: =VLOOKUP(R18&S18,Hoja1!$Q$4:$R$9,2,0) -> 0.45 | U18: Documentado | V18: Continua | W18: Con Registro | X18: =IF(Q18="Probabilidad",($J$40*T18),IF(Q18="Impacto"," ")) -> 0.09 | Y18: =IF(Z18<=20%,'Tabla probabilidad'!$B$5,IF(Z18<=40%,'Tabla probabilidad'!$B$6,IF(Z18<=60%,'Tabla probabilidad'!$B$7,IF(Z18<=80%,'Tabla probabilidad'!$B$8,IF(Z18<=100%,'Tabla probabilidad'!$B$9))))) -> Muy Baja | Z18: =IF(R18="Preventivo",(J17-(J17*T18)),IF(R18="Detectivo",(J17-(J17*T18)),IF(R18="Correctivo",(J17)))) -> 0.11 | AC18: =IF(AD18<=20%,"Leve",IF(AD18<=40%,"Menor",IF(AD18<=60%,"Moderado",IF(AD18<=80%,"Mayor",IF(AD18<=100%,"Catastrófico"))))) -> Leve | AD18: =IF(Q18="Probabilidad",(($M$40-0)),IF(Q18="Impacto",($M$40-($M$40*T18)))) -> 0.2
D19: Mala imagen institucional | O19: 3 | P19: Definición de condiciones explicitas de la necesidad en los estudios previos. | Q19: =IF(R19="Preventivo","Probabilidad",IF(R19="Detectivo","Probabilidad", IF(R19="Correctivo","Impacto"))) -> Probabilidad | R19: Preventivo | S19: Manual | T19: =VLOOKUP(R19&S19,Hoja1!$Q$4:$R$9,2,0) -> 0.45 | U19: Documentado | V19: Continua | W19: Con Registro | X19: =IF(Q19="Probabilidad",($J$40*T19),IF(Q19="Impacto"," ")) -> 0.09 | Y19: =IF(Z19<=20%,'Tabla probabilidad'!$B$5,IF(Z19<=40%,'Tabla probabilidad'!$B$6,IF(Z19<=60%,'Tabla probabilidad'!$B$7,IF(Z19<=80%,'Tabla probabilidad'!$B$8,IF(Z19<=100%,'Tabla probabilidad'!$B$9))))) -> Muy Baja | Z19: =IF(R19="Preventivo",(J17-(J17*T19)),IF(R19="Detectivo",(J17-(J17*T19)),IF(R19="Correctivo",(J17)))) -> 0.11 | AC19: =IF(AD19<=20%,"Leve",IF(AD19<=40%,"Menor",IF(AD19<=60%,"Moderado",IF(AD19<=80%,"Mayor",IF(AD19<=100%,"Catastrófico"))))) -> Leve | AD19: =IF(Q19="Probabilidad",(($M$40-0)),IF(Q19="Impacto",($M$40-($M$40*T19)))) -> 0.2
A20: 2 | B20: Desacierto | C20: Incumplimiento de las metas establecidas | D20: Seleccion no adecuada de los contratistas y prestadores de servicios. | E20: Falta de detalle en la planificación de las condiciones tecnicas, alcances y demas anexos del estudio | F20: Adquisición de bienes, servicios y obras públicas que no cumplen las especificaciones | G20: Ejecución y Administración de Procesos | H20: 80 | I20: =IF(H20<=2,'Tabla probabilidad'!$B$5,IF(H20<=24,'Tabla probabilidad'!$B$6,IF(H20<=500,'Tabla probabilidad'!$B$7,IF(H20<=5000,'Tabla probabilidad'!$B$8,IF(H20>5000,'Tabla probabilidad'!$B$9))))) -> Media | J20: =IF(H20<=2,'Tabla probabilidad'!$D$5,IF(H20<=24,'Tabla probabilidad'!$D$6,IF(H20<=500,'Tabla probabilidad'!$D$7,IF(H20<=5000,'Tabla probabilidad'!$D$8,IF(H20>5000,'Tabla probabilidad'!$D$9))))) -> 0.6 | K20: Incumplimiento máximo del 5% de la meta planeada | L20: =IF(K20="El riesgo afecta la imagen de alguna área de la organización","Leve",IF(K20="El riesgo afecta la imagen de la entidad internamente, de conocimiento general, nivel interno, alta dirección, contratista y/o de provedores","Menor",IF(K20="El riesgo afecta la imagen de la entidad con algunos usuarios de relevancia frente al logro de los objetivos","Moderado",IF(K20="El riesgo afecta la imagen de de la entidad con efecto publicitario sostenido a nivel del sector justicia","Mayor",IF(K20="El riesgo afecta la imagen de la entidad a nivel nacional, con efecto publicitarios sostenible a nivel país","Catastrófico",IF(K20="Impacto que afecte la ejecución presupuestal en un valor ≥0,5%.","Leve",IF(K20="Impacto que afecte la ejecución presupuestal en un valor ≥1%.","Menor",IF(K20="Impacto que afecte la ejecución presupuestal en un valor ≥5%.","Moderado",IF(K20="Impacto que afecte la ejecución presupuestal en un valor ≥20%.","Mayor",IF(K20="Impacto que afecte la ejecución presupuestal en un valor ≥50%.","Catastrófico",IF(K20="Incumplimiento máximo del 5% de la meta planeada","Leve",IF(K20="Incumplimiento máximo del 15% de la meta planeada","Menor",IF(K20="Incumplimiento máximo del 20% de la meta planeada","Moderado",IF(K20="Incumplimiento máximo del 50% de la meta planeada","Mayor",IF(K20="Incumplimiento máximo del 80% de la meta planeada","Catastrófico",IF(K20="Cualquier afectación a la violacion de los derechos de los ciudadanos se considera con consecuencias altas","Mayor",IF(K20="Cualquier afectación a la violacion de los derechos de los ciudadanos se considera con consecuencias desastrosas","Catastrófico",IF(K20="Afecta la Prestación del Servicio de Administración de Justicia en 5%","Leve",IF(K20="Afecta la Prestación del Servicio de Administración de Justicia en 10%","Menor",IF(K20="Afecta la Prestación del Servicio de Administración de Justicia en 15%","Moderado",IF(K20="Afecta la Prestación del Servicio de Administración de Justicia en 20%","Mayor",IF(K20="Afecta la Prestación del Servicio de Administración de Justicia en más del 50%","Catastrófico",IF(K20="Cualquier acto indebido de los servidores judiciales genera altas consecuencias para la entidad","Mayor",IF(K20="Cualquier acto indebido de los servidores judiciales genera consecuencias desastrosas para la entidad","Catastrófico",IF(K20="Si el hecho llegara a presentarse, tendría consecuencias o efectos mínimos sobre la entidad","Leve",IF(K20="Si el hecho llegara a presentarse, tendría bajo impacto o efecto sobre la entidad","Menor",IF(K20="Si el hecho llegara a presentarse, tendría medianas consecuencias o efectos sobre la entidad","Moderado",IF(K20="Si el hecho llegara a presentarse, tendría altas consecuencias o efectos sobre la entidad","Mayor",IF(K20="Si el hecho llegara a presentarse, tendría desastrosas consecuencias o efectos sobre la entidad","Catastrófico"))))))))))))))))))))))))))))) -> Leve | M20: =IF(K20="El riesgo afecta la imagen de alguna área de la organización","20%",IF(K20="El riesgo afecta la imagen de la entidad internamente, de conocimiento general, nivel interno, alta dirección, contratista y/o de provedores","40%",IF(K20="El riesgo afecta la imagen de la entidad con algunos usuarios de relevancia frente al logro de los objetivos","60%",IF(K20="El riesgo afecta la imagen de de la entidad con efecto publicitario sostenido a nivel del sector justicia","80%",IF(K20="El riesgo afecta la imagen de la entidad a nivel nacional, con efecto publicitarios sostenible a nivel país","100%",IF(K20="Impacto que afecte la ejecución presupuestal en un valor ≥0,5%.","20%",IF(K20="Impacto que afecte la ejecución presupuestal en un valor ≥1%.","40%",IF(K20="Impacto que afecte la ejecución presupuestal en un valor ≥5%.","60%",IF(K20="Impacto que afecte la ejecución presupuestal en un valor ≥20%.","80%",IF(K20="Impacto que afecte la ejecución presupuestal en un valor ≥50%.","100%",IF(K20="Incumplimiento máximo del 5% de la meta planeada","20%",IF(K20="Incumplimiento máximo del 15% de la meta planeada","40%",IF(K20="Incumplimiento máximo del 20% de la meta planeada","60%",IF(K20="Incumplimiento máximo del 50% de la meta planeada","80%",IF(K20="Incumplimiento máximo del 80% de la meta planeada","100%",IF(K20="Cualquier afectación a la violacion de los derechos de los ciudadanos se considera con consecuencias altas","80%",IF(K20="Cualquier afectación a la violacion de los derechos de los ciudadanos se considera con consecuencias desastrosas","100%",IF(K20="Afecta la Prestación del Servicio de Administración de Justicia en 5%","20%",IF(K20="Afecta la Prestación del Servicio de Administración de Justicia en 10%","40%",IF(K20="Afecta la Prestación del Servicio de Administración de Justicia en 15%","60%",IF(K20="Afecta la Prestación del Servicio de Administración de Justicia en 20%","80%",IF(K20="Afecta la Prestación del Servicio de Administración de Justicia en más del 50%","100%",IF(K20="Cualquier acto indebido de los servidores judiciales genera altas consecuencias para la entidad","80%",IF(K20="Cualquier acto indebido de los servidores judiciales genera consecuencias desastrosas para la entidad","100%",IF(K20="Si el hecho llegara a presentarse, tendría consecuencias o efectos mínimos sobre la entidad","20%",IF(K20="Si el hecho llegara a presentarse, tendría bajo impacto o efecto sobre la entidad","40%",IF(K20="Si el hecho llegara a presentarse, tendría medianas consecuencias o efectos sobre la entidad","60%",IF(K20="Si el hecho llegara a presentarse, tendría altas consecuencias o efectos sobre la entidad","80%",IF(K20="Si el hecho llegara a presentarse, tendría desastrosas consecuencias o efectos sobre la entidad","100%"))))))))))))))))))))))))))))) -> 20% | N20: =VLOOKUP((I20&L20),Hoja1!$B$4:$C$28,2,0) -> Moderado | O20: 1 | P20: Estructurar bien los Estudios previos para la contratación | Q20: =IF(R20="Preventivo","Probabilidad",IF(R20="Detectivo","Probabilidad", IF(R20="Correctivo","Impacto"))) -> Probabilidad | R20: Preventivo | S20: Manual | T20: =VLOOKUP(R20&S20,Hoja1!$Q$4:$R$9,2,0) -> 0.45 | U20: Documentado | V20: Continua | W20: Con Registro | X20: =IF(Q20="Probabilidad",($J$20*T20),IF(Q20="Impacto"," ")) -> 0.27 | Y20: =IF(Z20<=20%,'Tabla probabilidad'!$B$5,IF(Z20<=40%,'Tabla probabilidad'!$B$6,IF(Z20<=60%,'Tabla probabilidad'!$B$7,IF(Z20<=80%,'Tabla probabilidad'!$B$8,IF(Z20<=100%,'Tabla probabilidad'!$B$9))))) -> Baja | Z20: =IF(R20="Preventivo",(J20-(J20*T20)),IF(R20="Detectivo",(J20-(J20*T20)),IF(R20="Correctivo",(J20)))) -> 0.33 | AA20: =IF(AB20<=20%,'Tabla probabilidad'!$B$5,IF(AB20<=40%,'Tabla probabilidad'!$B$6,IF(AB20<=60%,'Tabla probabilidad'!$B$7,IF(AB20<=80%,'Tabla probabilidad'!$B$8,IF(AB20<=100%,'Tabla probabilidad'!$B$9))))) -> Baja | AB20: =AVERAGE(Z20:Z22) -> 0.33 | AC20: =IF(AD20<=20%,"Leve",IF(AD20<=40%,"Menor",IF(AD20<=60%,"Moderado",IF(AD20<=80%,"Mayor",IF(AD20<=100%,"Catastrófico"))))) -> Leve | AD20: =IF(Q20="Probabilidad",(($M$20-0)),IF(Q20="Impacto",($M$20-($M$20*T20)))) -> 0.2 | AE20: =IF(AF20<=20%,"Leve",IF(AF20<=40%,"Menor",IF(AF20<=60%,"Moderado",IF(AF20<=80%,"Mayor",IF(AF20<=100%,"Catastrófico"))))) -> Leve | AF20: =AVERAGE(AD20:AD22) -> 0.2 | AG20: =VLOOKUP(AA20&AE20,Hoja1!$B$4:$C$28,2,0) -> Bajo | AH20: Aceptar
D21: Falta de definicion de la necesidad | O21: 2 | P21: Detallar la necesidad que la entidad busca satisfacer, con base a la normatividad vigente | Q21: =IF(R21="Preventivo","Probabilidad",IF(R21="Detectivo","Probabilidad", IF(R21="Correctivo","Impacto"))) -> Probabilidad | R21: Preventivo | S21: Manual | T21: =VLOOKUP(R21&S21,Hoja1!$Q$4:$R$9,2,0) -> 0.45 | U21: Documentado | V21: Continua | W21: Con Registro | X21: =IF(Q21="Probabilidad",($J$20*T21),IF(Q21="Impacto"," ")) -> 0.27 | Y21: =IF(Z21<=20%,'Tabla probabilidad'!$B$5,IF(Z21<=40%,'Tabla probabilidad'!$B$6,IF(Z21<=60%,'Tabla probabilidad'!$B$7,IF(Z21<=80%,'Tabla probabilidad'!$B$8,IF(Z21<=100%,'Tabla probabilidad'!$B$9))))) -> Baja | Z21: =IF(R21="Preventivo",(J20-(J20*T21)),IF(R21="Detectivo",(J20-(J20*T21)),IF(R21="Correctivo",(J20)))) -> 0.33 | AC21: =IF(AD21<=20%,"Leve",IF(AD21<=40%,"Menor",IF(AD21<=60%,"Moderado",IF(AD21<=80%,"Mayor",IF(AD21<=100%,"Catastrófico"))))) -> Leve | AD21: =IF(Q21="Probabilidad",(($M$20-0)),IF(Q21="Impacto",($M$20-($M$20*T21)))) -> 0.2
D22: Falta de precision de las Condiciones tecnicas, alcances y demas anexos del estudio para la contratacion de bienes o servicios | O22: 3 | P22: Fortalecimiento de los estudios previos en cuanto a las condiciones tecnicas, alcances y demas anexos del estudio, solicitud de muestras para comparar y analizar las distintas alternativas que el mercado ofrece | Q22: =IF(R22="Preventivo","Probabilidad",IF(R22="Detectivo","Probabilidad", IF(R22="Correctivo","Impacto"))) -> Probabilidad | R22: Preventivo | S22: Manual | T22: =VLOOKUP(R22&S22,Hoja1!$Q$4:$R$9,2,0) -> 0.45 | U22: Documentado | V22: Continua | W22: Con Registro | X22: =IF(Q22="Probabilidad",($J$20*T22),IF(Q22="Impacto"," ")) -> 0.27 | Y22: =IF(Z22<=20%,'Tabla probabilidad'!$B$5,IF(Z22<=40%,'Tabla probabilidad'!$B$6,IF(Z22<=60%,'Tabla probabilidad'!$B$7,IF(Z22<=80%,'Tabla probabilidad'!$B$8,IF(Z22<=100%,'Tabla probabilidad'!$B$9))))) -> Baja | Z22: =IF(R22="Preventivo",(J20-(J20*T22)),IF(R22="Detectivo",(J20-(J20*T22)),IF(R22="Correctivo",(J20)))) -> 0.33 | AC22: =IF(AD22<=20%,"Leve",IF(AD22<=40%,"Menor",IF(AD22<=60%,"Moderado",IF(AD22<=80%,"Mayor",IF(AD22<=100%,"Catastrófico"))))) -> Leve | AD22: =IF(Q22="Probabilidad",(($M$20-0)),IF(Q22="Impacto",($M$20-($M$20*T22)))) -> 0.2
