Workbook
Name Adm: '[1]COSTO DIRECTO'!#REF!
Name Imprev: '[1]COSTO DIRECTO'!#REF!
Name IvaSUtl: '[1]COSTO DIRECTO'!#REF!
Name SbtPpto: '[1]COSTO DIRECTO'!#REF!
Name ssss: '[1]COSTO DIRECTO'!#REF!
Name Utilidad: '[1]COSTO DIRECTO'!#REF!

Sheet PRESUPUESTO
A1: REPÚBLICA DE COLOMBIA
A2: DEPARTAMENTO DE ARAUCA
A3: ALCALDIA DE ARAUCA
A4: SECRETARIA DE OBRAS PÚBLICAS MUNICIPAL
A5: PRESUPUESTO OFICIAL
A7: PROYECTO: RECONSTRUCCION DEL MALECÓN ECOTURISTICO, DEL MUNICIPIO DE ARAUCA, DEPARTAMENTO DE ARAUCA.
A9: ITEM | B9: DESCRIPCIÓN | C9: UNIDAD | D9: CANTIDAD | E9: PRECIO UNITARIO | F9: VALOR PARCIAL
A10: 1 | B10: PRELIMINARES, DESMONTES Y DEMOLICIONES
A11: =+A10+0.01 -> 1.01 | B11: =+'[2]1,1'!$E$16 -> LOCALIZACION Y REPLANTEO TOPOGRAFICO | C11: M2 | D11: =+'[3]1,1'!$Q$160 -> 48139.11 | E11: =+'[2]1,1'!$I$60 -> 6635 | F11: =+D11*E11 -> 3.1940299e+08 | G11: 6458.4 | H11: =+G11*D11 -> 3.1090163e+08 | I11: 6635 | J11: =+I11-E11 -> 0 | K11: =+I11*D11 -> 3.1940299e+08 | M11: =+K11-H11 -> 8501366.8 | N11: 2000 | O11: =+N11*D11 -> 96278220
A12: =+A11+0.01 -> 1.02 | B12: =+'[2]1,2'!$E$16 -> DEMOLICION MANUAL PLACA DE CCTO-ANDEN | C12: M2 | D12: =+'[3]1,2'!$Q$160 -> 9526.51 | E12: =+'[2]1,2'!$I$60 -> 18887 | F12: =+D12*E12 -> 1.7992719e+08 | G12: 18247.95 | H12: =+G12*D12 -> 1.7383928e+08 | I12: 18887 | J12: =+I12-E12 -> 0 | K12: =+I12*D12 -> 1.7992719e+08 | M12: =+K12-H12 -> 6087916.2 | N12: 12000 | O12: =+N12*D12 -> 1.1431812e+08
A13: =+A12+0.01 -> 1.03 | B13: =+'[2]1,3'!$E$16 -> DEMOLICION DE SARDINEL 12X40 | C13: ML | D13: =+'[3]1,3'!$Q$48 -> 1627.2 | E13: =+'[2]1,3'!$I$60 -> 18887 | F13: =+D13*E13 -> 30732926 | G13: 18247.95 | H13: =+G13*D13 -> 29693064 | I13: 18887 | J13: =+I13-E13 -> 0 | K13: =+I13*D13 -> 30732926 | M13: =+K13-H13 -> 1039862.2 | N13: 12000 | O13: =+N13*D13 -> 19526400
A14: =+A13+0.01 -> 1.04 | B14: =+'[2]1,4'!$E$16 -> DEMOLICION MANUAL DE MURO EN BLOQUE DE ARCILLA N° 5 E=0.15 M. | C14: M2 | D14: =+'[3]1,4'!$Q$104 -> 665.17 | E14: =+'[2]1,4'!$I$60 -> 11804 | F14: =+D14*E14 -> 7851666.7 | G14: 11404.8 | H14: =+G14*D14 -> 7586130.8 | I14: 11804 | J14: =+I14-E14 -> 0 | K14: =+I14*D14 -> 7851666.7 | M14: =+K14-H14 -> 265535.86 | N14: 4500 | O14: =+N14*D14 -> 2993265
A15: =+A14+0.01 -> 1.05 | B15: =+#REF! -> #REF! | C15: M3 | D15: =+'[3]1,5'!$Q$48 -> 6.84 | E15: =+#REF! -> #REF! | F15: =+D15*E15 -> #REF! | G15: 124868.25 | H15: =+G15*D15 -> 854098.83 | I15: 125979 | J15: =+I15-E15 -> #REF! | K15: =+I15*D15 -> 861696.36 | M15: =+K15-H15 -> 7597.53 | N15: 54000 | O15: =+N15*D15 -> 369360
A16: =+A15+0.01 -> 1.06 | B16: =+'[2]1,6'!$E$16 -> DESMONTE DE CUBIERTA EXISTENTE EN ADBESTO CEMENTO-FIBROCEMENTO | C16: M2 | D16: =+'[3]1,6'!$Q$48 -> 89.3 | E16: =+'[2]1,6'!$I$60 -> 11191 | F16: =+D16*E16 -> 999356.3 | G16: 10817.55 | H16: =+G16*D16 -> 966007.22 | I16: 11191 | J16: =+I16-E16 -> 0 | K16: =+I16*D16 -> 999356.3 | M16: =+K16-H16 -> 33349.085 | N16: 5000 | O16: =+N16*D16 -> 446500
A17: =+A16+0.01 -> 1.07 | B17: =+'[2]1,7'!$E$16 -> DEMOLICION PISO EN ADOQUIN | C17: M2 | D17: =+'[3]1,7'!$Q$48 -> 2520.51 | E17: =+'[2]1,7'!$I$60 -> 15788 | F17: =+D17*E17 -> 39793812 | G17: 15253.65 | H17: =+G17*D17 -> 38446977 | I17: 15788 | J17: =+I17-E17 -> 0 | K17: =+I17*D17 -> 39793812 | M17: =+K17-H17 -> 1346834.5 | N17: 7000 | O17: =+N17*D17 -> 17643570
A18: =+A17+0.01 -> 1.08 | B18: =+'[2]1,8'!$E$16 -> DESMONTE DE SARDINEL EN LADRILLO PRENSADO | C18: ML | D18: =+'[3]1,8'!$Q$48 -> 1614.52 | E18: =+'[2]1,8'!$I$60 -> 4663 | F18: =+D18*E18 -> 7528506.8 | G18: 4506.3 | H18: =+G18*D18 -> 7275511.5 | I18: 4663 | J18: =+I18-E18 -> 0 | K18: =+I18*D18 -> 7528506.8 | M18: =+K18-H18 -> 252995.28 | N18: 2000 | O18: =+N18*D18 -> 3229040
A19: =+A18+0.01 -> 1.09 | B19: =+#REF! -> #REF! | C19: M2 | D19: =+'[3]1,9'!$Q$48 -> 829.68 | E19: =+#REF! -> #REF! | F19: =+D19*E19 -> #REF! | G19: 88399.35 | H19: =+G19*D19 -> 73343173 | I19: 90175 | J19: =+I19-E19 -> #REF! | K19: =+I19*D19 -> 74816394 | M19: =+K19-H19 -> 1473221.3 | N19: 35000 | O19: =+N19*D19 -> 29038800
A20: =+A19+0.01 -> 1.1 | B20: =+#REF! -> #REF! | C20: KM | D20: =+'[3]1,10'!$Q$48 -> 1.63 | E20: =+#REF! -> #REF! | F20: =+D20*E20 -> #REF! | G20: 2033347.1 | H20: =+G20*D20 -> 3314355.7 | I20: 2639525 | J20: =+I20-E20 -> #REF! | K20: =+I20*D20 -> 4302425.8 | M20: =+K20-H20 -> 988070.06 | N20: 1000000 | O20: =+N20*D20 -> 1630000
A21: =+A20+0.01 -> 1.11 | B21: =+#REF! -> #REF! | C21: UN | D21: =+'[3]1,11'!$Q$48 -> 32 | E21: =+#REF! -> #REF! | F21: =+D21*E21 -> #REF! | G21: 42711.3 | H21: =+G21*D21 -> 1366761.6 | I21: 44207 | J21: =+I21-E21 -> #REF! | K21: =+I21*D21 -> 1414624 | M21: =+K21-H21 -> 47862.4 | N21: 10000 | O21: =+N21*D21 -> 320000
A22: =+A21+0.01 -> 1.12 | B22: =+#REF! -> #REF! | C22: UN | D22: =+'[3]1,12'!$Q$48 -> 164 | E22: =+#REF! -> #REF! | F22: =+D22*E22 -> #REF! | G22: 42711.3 | H22: =+G22*D22 -> 7004653.2 | I22: 44207 | J22: =+I22-E22 -> #REF! | K22: =+I22*D22 -> 7249948 | M22: =+K22-H22 -> 245294.8 | N22: 10000 | O22: =+N22*D22 -> 1640000
A23: =+A22+0.01 -> 1.13 | B23: =+#REF! -> #REF! | C23: M3 | D23: =+'[3]1,13'!$Q$48 -> 1314.54 | E23: =+#REF! -> #REF! | F23: =+D23*E23 -> #REF! | G23: 30071.25 | H23: =+G23*D23 -> 39529861 | I23: 30503 | J23: =+I23-E23 -> #REF! | K23: =+I23*D23 -> 40097414 | M23: =+K23-H23 -> 567552.64 | N23: 15000 | O23: =+N23*D23 -> 19718100
E24: SUBTOTAL PRELIMINARES, DESMONTES Y DEMOLICIONES | F24: =SUM(F11:F23) -> #REF! | J24: =+I24-E24 -> #VALUE! | O24: =+N24*D24 -> 0
A25: 2 | B25: MOVIMIENTOS DE TIERRAS, EXCAVACIONES Y RELLENOS | G25: 0 | H25: =+G25*D25 -> 0 | J25: =+I25-E25 -> 0 | K25: =+I25*D25 -> 0 | M25: =+K25-H25 -> 0 | O25: =+N25*D25 -> 0
A26: =+A25+0.01 -> 2.01 | B26: =+'[2]2,1'!$E$16 -> EXCAVACION MANUAL EN MATERIAL COMUN ENTRE 0-2 M. DE PROFUNDIDAD | C26: M3 | D26: =+'[3]2,1'!$Q$160 -> 19345.14 | E26: =+'[2]2,1'!$I$60 -> 34976 | F26: =+D26*E26 -> 6.7661562e+08 | G26: 33791.85 | H26: =+G26*D26 -> 6.5370807e+08 | I26: 34976 | J26: =+I26-E26 -> 0 | K26: =+I26*D26 -> 6.7661562e+08 | M26: =+K26-H26 -> 22907548 | N26: 18000 | O26: =+N26*D26 -> 348212520
A27: =+A26+0.01 -> 2.02 | B27: =+'[2]2,2'!$E$16 -> NIVELADO DE PISO Y COMPATACION CON RANA | C27: M2 | D27: =+'[3]2,2'!$Q$48 -> 22128.06 | E27: =+'[2]2,2'!$I$60 -> 5504 | F27: =+D27*E27 -> 1.2179284e+08 | G27: 5422.95 | H27: =+G27*D27 -> 1.1999936e+08 | I27: 5504 | J27: =+I27-E27 -> 0 | K27: =+I27*D27 -> 1.2179284e+08 | M27: =+K27-H27 -> 1793479.3 | N27: 2000 | O27: =+N27*D27 -> 44256120
A28: =+A27+0.01 -> 2.03 | B28: =+'[2]2,3'!$E$16 -> RELLENO Y COMPACTACION CON RANA | C28: M3 | D28: =+'[3]2,3'!$Q$160 -> 15588.3 | E28: =+'[2]2,3'!$I$60 -> 63559 | F28: =+D28*E28 -> 9.9077676e+08 | G28: 62920.8 | H28: =+G28*D28 -> 9.8082831e+08 | I28: 63559 | J28: =+I28-E28 -> 0 | K28: =+I28*D28 -> 9.9077676e+08 | M28: =+K28-H28 -> 9948453.1 | N28: 32000 | O28: =+N28*D28 -> 498825600
A29: =+A28+0.01 -> 2.04 | B29: =+'[2]2,4'!$E$16 -> SUB BASE GRANULAR EXTENDIDA Y COMPACTADA CON RANA-CON TOPOGRAFIA | C29: M3 | D29: =+'[3]2,4'!$Q$160 -> 1600.9 | E29: =+'[2]2,4'!$I$60 -> 409005 | F29: =+D29*E29 -> 6.547761e+08 | G29: 396477.45 | H29: =+G29*D29 -> 6.3472075e+08 | I29: 409005 | J29: =+I29-E29 -> 0 | K29: =+I29*D29 -> 6.547761e+08 | M29: =+K29-H29 -> 20055355 | N29: 195000 | O29: =+N29*D29 -> 312175500
A30: =+A29+0.01 -> 2.05 | B30: =+'[2]2,5'!$E$16 -> CARGUE MANUAL TRANSPORTE Y DISPOSICION FINAL DE ESCOMBROS | C30: M3 | D30: =+'[3]2,5'!$Q$48 -> 19345.14 | E30: =+'[2]2,5'!$I$60 -> 30503 | F30: =+D30*E30 -> 5.9008481e+08 | G30: 30071.25 | H30: =+G30*D30 -> 5.8173254e+08 | I30: =+I23 -> 30503 | J30: =+I30-E30 -> 0 | K30: =+I30*D30 -> 5.9008481e+08 | M30: =+K30-H30 -> 8352264.2 | N30: 15000 | O30: =+N30*D30 -> 290177100
A31: =+A30+0.01 -> 2.06 | B31: =+#REF! -> #REF! | C31: M2 | D31: =+'[3]2,6'!$Q$48 -> 22128.06 | E31: =+#REF! -> #REF! | F31: =+D31*E31 -> #REF! | G31: 18191.25 | H31: =+G31*D31 -> 4.0253707e+08 | I31: 18257 | J31: =+I31-E31 -> #REF! | K31: =+I31*D31 -> 4.0399199e+08 | M31: =+K31-H31 -> 1454919.9 | N31: 5500 | O31: =+N31*D31 -> 121704330
E32: SUBTOTAL MOVIMIENTOS DE TIERRAS, EXCAVACIONES Y RELLENOS | F32: =SUM(F26:F31) -> #REF! | J32: =+I32-E32 -> #VALUE! | O32: =+N32*D32 -> 0
A33: 3 | B33: REDES HIDRAULICAS, SANITARIAS Y PLUVIALES | G33: 0 | H33: =+G33*D33 -> 0 | J33: =+I33-E33 -> 0 | K33: =+I33*D33 -> 0 | M33: =+K33-H33 -> 0 | O33: =+N33*D33 -> 0
A34: =+A33+0.01 -> 3.01 | B34: =+'[2]3,1'!$E$16 -> DESMONTE DE MEDIDOR DE AGUA | C34: UN | D34: =+'[3]3,1'!$Q$48 -> 3 | E34: =+'[2]3,1'!$I$60 -> 41683 | F34: =+D34*E34 -> 125049 | G34: 40273.2 | H34: =+G34*D34 -> 120819.6 | I34: 41683 | J34: =+I34-E34 -> 0 | K34: =+I34*D34 -> 125049 | M34: =+K34-H34 -> 4229.4 | N34: 15000 | O34: =+N34*D34 -> 45000
A35: =+A34+0.01 -> 3.02 | B35: =+'[2]3,2'!$E$16 -> MEDIDOR VOLUMETRICO 1/2 pulg. INSTALADO CON CAJA Y VALVULA ANTIFRAUDE | C35: UN | D35: =+'[3]3,2'!$Q$48 -> 6 | E35: =+'[2]3,2'!$I$60 -> 305772 | F35: =+D35*E35 -> 1834632 | G35: 298491.75 | H35: =+G35*D35 -> 1790950.5 | I35: 305772 | J35: =+I35-E35 -> 0 | K35: =+I35*D35 -> 1834632 | M35: =+K35-H35 -> 43681.5 | N35: 145000 | O35: =+N35*D35 -> 870000
B36: REDES MÓDULO VENTAS | G36: 0 | H36: =+G36*D36 -> 0 | J36: =+I36-E36 -> 0 | K36: =+I36*D36 -> 0 | M36: =+K36-H36 -> 0 | O36: =+N36*D36 -> 0
A37: =+A35+0.01 -> 3.03 | B37: =+'[2]3,3'!$E$16 -> CAJA DE INSPECCION 1.00x1.00x1.00 EN LADRILLO TOLETE | C37: UN | D37: =+'[3]3,3'!$Q$48 -> 10 | E37: =+'[2]3,3'!$I$60 -> 1188656 | F37: =+D37*E37 -> 11886560 | G37: 1139960.2 | H37: =+G37*D37 -> 11399602 | I37: 1188656 | J37: =+I37-E37 -> 0 | K37: =+I37*D37 -> 11886560 | M37: =+K37-H37 -> 486957.5 | N37: 400000 | O37: =+N37*D37 -> 4000000
A38: =+A37+0.01 -> 3.04 | B38: =+'[2]3,4'!$E$16 -> PUNTO HIDRAULICO PVC-P 1/2pulg. | C38: UN | D38: =+'[3]3,4'!$Q$48 -> 6 | E38: =+'[2]3,4'!$I$60 -> 41849 | F38: =+D38*E38 -> 251094 | G38: 39339 | H38: =+G38*D38 -> 236034 | I38: 41849 | J38: =+I38-E38 -> 0 | K38: =+I38*D38 -> 251094 | M38: =+K38-H38 -> 15060 | N38: 19000 | O38: =+N38*D38 -> 114000
A39: =+A38+0.01 -> 3.05 | B39: =+'[2]3,5'!$E$16 -> PUNTO SANITARIO TUBERIA PVC 2 PULG. | C39: UN | D39: =+'[3]3,5'!$Q$48 -> 6 | E39: =+'[2]3,5'!$I$60 -> 59469 | F39: =+D39*E39 -> 356814 | G39: 54302.4 | H39: =+G39*D39 -> 325814.4 | I39: 59469 | J39: =+I39-E39 -> 0 | K39: =+I39*D39 -> 356814 | M39: =+K39-H39 -> 30999.6 | N39: 28000 | O39: =+N39*D39 -> 168000
A40: =+A39+0.01 -> 3.06 | B40: =+#REF! -> #REF! | C40: UN | D40: =+'[3]3,6'!$Q$48 -> 8 | E40: =+#REF! -> #REF! | F40: =+D40*E40 -> #REF! | G40: 88581.6 | H40: =+G40*D40 -> 708652.8 | I40: 96485 | J40: =+I40-E40 -> #REF! | K40: =+I40*D40 -> 771880 | M40: =+K40-H40 -> 63227.2 | N40: 42000 | O40: =+N40*D40 -> 336000
A41: =+A40+0.01 -> 3.07 | B41: =+#REF! -> #REF! | C41: UN | D41: =+'[3]3,7'!$Q$48 -> 6 | E41: =+#REF! -> #REF! | F41: =+D41*E41 -> #REF! | G41: 34807.05 | H41: =+G41*D41 -> 208842.3 | I41: 38854 | J41: =+I41-E41 -> #REF! | K41: =+I41*D41 -> 233124 | M41: =+K41-H41 -> 24281.7 | N41: 15000 | O41: =+N41*D41 -> 90000
A42: =+A41+0.01 -> 3.08 | B42: =+#REF! -> #REF! | C42: UN | D42: =+'[3]3,8'!$Q$48 -> 6 | E42: =+#REF! -> #REF! | F42: =+D42*E42 -> #REF! | G42: 70155.45 | H42: =+G42*D42 -> 420932.7 | I42: 75900 | J42: =+I42-E42 -> #REF! | K42: =+I42*D42 -> 455400 | M42: =+K42-H42 -> 34467.3 | N42: 35000 | O42: =+N42*D42 -> 210000
...

Sheet PRESUPUESTO INCL AIU
A1: REPÚBLICA DE COLOMBIA
A2: DEPARTAMENTO DE ARAUCA
A3: ALCALDIA DE ARAUCA
A4: SECRETARIA DE OBRAS PÚBLICAS MUNICIPAL
A5: PRESUPUESTO OFICIAL
A7: PROYECTO: MALECOM ARAUCA POR LA PAZ: "CONSTRUCCIÓN DE OBRAS DE PROTECCION CONTRA EROSION E INUNDACION, OBRAS DE URBANISMO, Y DOTACION DE MOBILIARIO URBANO EN EL MALECOM ECOTURISTICO EN EL MUNICIPIO DE ARAUCA, DEPARTAMENTO ARAUCA
A9: ITEM | B9: DESCRIPCIÓN | C9: UNIDAD | D9: CANTIDAD | E9: PRECIO UNITARIO | F9: VALOR PARCIAL
A10: 1 | B10: PRELIMINARES, DESMONTES Y DEMOLICIONES
A11: =+A10+0.01 -> 1.01 | B11: LOCALIZACION Y REPLANTEO TOPOGRAFICO | C11: M2 | D11: =+#REF! -> #REF! | E11: =+'[4]1,1'!$I$60 -> 6458 | F11: =+D11*E11 -> #REF!
A12: =+A11+0.01 -> 1.02 | B12: DEMOLICION MANUAL PLACA DE CCTO-ANDEN | C12: M2 | D12: =+#REF! -> #REF! | E12: =+'[4]1,2'!$I$60 -> 18248 | F12: =+D12*E12 -> #REF!
A13: =+A12+0.01 -> 1.03 | B13: DEMOLICION DE SARDINEL 12X40 | C13: ML | D13: =+#REF! -> #REF! | E13: =+'[4]1,3'!$I$60 -> 18248 | F13: =+D13*E13 -> #REF!
A14: =+A13+0.01 -> 1.04 | B14: DEMOLICION MANUAL DE MURO EN BLOQUE DE ARCILLA N° 5 E=0.15 M. | C14: M2 | D14: =+#REF! -> #REF! | E14: =+'[4]1,4'!$I$60 -> 11405 | F14: =+D14*E14 -> #REF!
A15: =+A14+0.01 -> 1.05 | B15: DEMOLICION MECANICA DE ESTRUCTURAS EN CONCRETO INCLUYE RECOLECCION | C15: M3 | D15: =+#REF! -> #REF! | E15: =+'[4]1,5'!$I$60 -> 124868 | F15: =+D15*E15 -> #REF!
A16: =+A15+0.01 -> 1.06 | B16: DESMONTE DE CUBIERTA EXISTENTE EN ADBESTO CEMENTO-FIBROCEMENTO | C16: M2 | D16: =+#REF! -> #REF! | E16: =+'[4]1,6'!$I$60 -> 10818 | F16: =+D16*E16 -> #REF!
A17: =+A16+0.01 -> 1.07 | B17: DEMOLICION PISO EN ADOQUIN | C17: M2 | D17: =+#REF! -> #REF! | E17: =+'[4]1,7'!$I$60 -> 15254 | F17: =+D17*E17 -> #REF!
A18: =+A17+0.01 -> 1.08 | B18: DESMONTE DE SARDINEL EN LADRILLO PRENSADO | C18: ML | D18: =+#REF! -> #REF! | E18: =+'[4]1,8'!$I$60 -> 4506 | F18: =+D18*E18 -> #REF!
A19: =+A18+0.01 -> 1.09 | B19: DEMOLICION PAVIMENTO RIGIDO REFORZADO E=015 M. | C19: M2 | D19: =+#REF! -> #REF! | E19: =+'[4]1,9'!$I$60 -> 88399 | F19: =+D19*E19 -> #REF!
A20: =+A19+0.01 -> 1.1 | B20: DESMONTAJE RED ABIERTA B.T. MONOF. ACSR | C20: KM | D20: =+#REF! -> #REF! | E20: =+#REF! -> #REF! | F20: =+D20*E20 -> #REF!
A21: =+A20+0.01 -> 1.11 | B21: DESMONTE SEÑAL VIAL Y VALLAS INFORMATIVA | C21: UN | D21: =+#REF! -> #REF! | E21: =+'[4]1,11'!$I$60 -> 42712 | F21: =+D21*E21 -> #REF!
A22: =+A21+0.01 -> 1.12 | B22: DESMONTE POSTES METALICOS Y LAMPARAS | C22: UN | D22: =+#REF! -> #REF! | E22: =+'[4]1,12'!$I$60 -> 42712 | F22: =+D22*E22 -> #REF!
A23: =+A22+0.01 -> 1.13 | B23: CARGUE MANUAL TRANSPORTE Y DISPOSICION FINAL DE ESCOMBROS | C23: M3 | D23: =+#REF! -> #REF! | E23: =+'[4]1,13'!$I$60 -> 30072 | F23: =+D23*E23 -> #REF!
E24: SUBTOTAL PRELIMINARES, DESMONTES Y DEMOLICIONES | F24: =SUM(F11:F23) -> #REF!
A25: 2 | B25: MOVIMIENTOS DE TIERRAS, EXCAVACIONES Y RELLENOS
A26: =+A25+0.01 -> 2.01 | B26: EXCAVACION MANUAL EN MATERIAL COMUN ENTRE 0-2 M. DE PROFUNDIDAD | C26: M3 | D26: =+#REF! -> #REF! | E26: =+'[4]2,1'!$I$60 -> 33792 | F26: =+D26*E26 -> #REF!
A27: =+A26+0.01 -> 2.02 | B27: NIVELADO DE PISO Y COMPATACION CON RANA | C27: M2 | D27: =+#REF! -> #REF! | E27: =+'[4]2,2'!$I$60 -> 5424 | F27: =+D27*E27 -> #REF!
A28: =+A27+0.01 -> 2.03 | B28: RELLENO Y COMPACTACION CON RANA | C28: M3 | D28: =+#REF! -> #REF! | E28: =+'[4]2,3'!$I$60 -> 62921 | F28: =+D28*E28 -> #REF!
A29: =+A28+0.01 -> 2.04 | B29: SUB BASE GRANULAR EXTENDIDA Y COMPACTADA CON RANA-CON TOPOGRAFIA | C29: M3 | D29: =+#REF! -> #REF! | E29: =+'[4]2,4'!$I$60 -> 396477 | F29: =+D29*E29 -> #REF!
A30: =+A29+0.01 -> 2.05 | B30: =+B23 -> CARGUE MANUAL TRANSPORTE Y DISPOSICION FINAL DE ESCOMBROS | C30: M3 | D30: =+#REF! -> #REF! | E30: =+'[4]2,5'!$I$60 -> 30072 | F30: =+D30*E30 -> #REF!
A31: =+A30+0.01 -> 2.06 | B31: GEOTEXTIL TR 4000 O SIMILAR | C31: M2 | D31: =+#REF! -> #REF! | E31: =+'[4]2,6'!$I$60 -> 18191 | F31: =+D31*E31 -> #REF!
E32: SUBTOTAL MOVIMIENTOS DE TIERRAS, EXCAVACIONES Y RELLENOS | F32: =SUM(F26:F31) -> #REF!
A33: 3 | B33: REDES HIDRAULICAS, SANITARIAS Y PLUVIALES
A34: =+A33+0.01 -> 3.01 | B34: DESMONTE DE MEDIDOR DE AGUA | C34: UN | D34: =+#REF! -> #REF! | E34: =+'[4]3,1'!$I$60 -> 40273 | F34: =+D34*E34 -> #REF!
A35: =+A34+0.01 -> 3.02 | B35: MEDIDOR VOLUMETRICO 1/2 pulg. INSTALADO CON CAJA Y VALVULA ANTIFRAUDE | C35: UN | D35: =+#REF! -> #REF! | E35: =+'[4]3,2'!$I$60 -> 298492 | F35: =+D35*E35 -> #REF!
B36: REDES MÓDULO VENTAS
A37: =+A35+0.01 -> 3.03 | B37: CAJA DE INSPECCION 1.00x1.00x1.00 EN LADRILLO TOLETE | C37: UN | D37: =+#REF! -> #REF! | E37: =+'[4]3,3'!$I$60 -> 1139960 | F37: =+D37*E37 -> #REF!
A38: =+A37+0.01 -> 3.04 | B38: PUNTO HIDRAULICO PVC-P 1/2pulg. | C38: UN | D38: =+#REF! -> #REF! | E38: =+'[4]3,4'!$I$60 -> 39338 | F38: =+D38*E38 -> #REF!
A39: =+A38+0.01 -> 3.05 | B39: PUNTO SANITARIO TUBERIA PVC 2 PULG. | C39: UN | D39: =+#REF! -> #REF! | E39: =+'[4]3,5'!$I$60 -> 54303 | F39: =+D39*E39 -> #REF!
A40: =+A39+0.01 -> 3.06 | B40: PUNTO SANITARIO TUBERIA PVC 4 PULG. | C40: UN | D40: =+#REF! -> #REF! | E40: =+'[4]3,6'!$I$60 -> 88581 | F40: =+D40*E40 -> #REF!
A41: =+A40+0.01 -> 3.07 | B41: SIFON DE 3 pulg. | C41: UN | D41: =+#REF! -> #REF! | E41: =+'[4]3,7'!$I$60 -> 34807 | F41: =+D41*E41 -> #REF!
A42: =+A41+0.01 -> 3.08 | B42: PUNTO SANITARIO TUBERIA PVC 3 PULG. | C42: UN | D42: =+#REF! -> #REF! | E42: =+'[4]3,8'!$I$60 -> 70155 | F42: =+D42*E42 -> #REF!
...

Sheet PRESUPUESTO OFICIAL
A2: REPÚBLICA DE COLOMBIA
A3: DEPARTAMENTO DE CUNDINAMARCA
A4: ALCALDIA DE GIRARDOT
A5: SECRETARIA DE EDUCACION MUNICIPAL
A8: PROYECTO: CONSTRUCCIÓN Y MEJORAMIENTO BATERÍAS DE BAÑOS PARA PREESCOLAR Y BÁSICA PRIMARIA DE LA INSTITUCIÓN EDUCATIVA RURAL LUIS ANTONIO DUQUE PEÑA GIRARDOT – CUNDINAMARCA
A10: CONSTRUCCIÓN BATERIA DE BAÑOS PARA PREESCOLAR
A11: ITEM | B11: ICCU | C11: DESCRIPCIÓN | D11: UNIDAD | E11: CANTIDAD | F11: PRECIO UNITARIO | G11: VALOR PARCIAL
A12: NORM INV | C12: EXCAVACION Y EXPLANEACIONES
B13: 210.1.1 | C13: EXPLANACIÓN Y EXCAVACIONES | D13: m3 | E13: =SUM(+excavacion!J19) -> 14.7 | F13: 13103 | G13: =E13*F13 -> 192614.1
G14: =SUM(G13) -> 192614.1
A15: CAPITULO 1,0 | C15: PRELIMINARES
A16: 1.3 | B16: 1.46 | C16: RETIRO DE SOBRANTES A UNA DISTANCIA DE 5 KM (INCLUYE CARGUE Y BOTADERO AUTORIZADO) | D16: m³ | E16: =SUM(+'retiro de sobrantes'!J19) -> 12.09 | F16: 17343 | G16: =F16*E16 -> 209676.87
G17: =SUM(G16:G16) -> 209676.87
A18: CAPITULO 2,0 | C18: CIMIENTOS
A19: 2.1 | B19: 2.7 | C19: VIGA DE AMARRE EN CONCRETO 3500 PSI | D19: M3 | E19: =SUM(+viga!J20) -> 0.79 | F19: 830106 | G19: =ROUND(E19*F19,2) -> 655783.74
A20: 2.2 | B20: 2.8 | C20: ZAPATAS EN CONCRETO 3500 PSI | D20: M3 | E20: =SUM(+zapata!J19) -> 0.59 | F20: 778175 | G20: =ROUND(E20*F20,2) -> 459123.25
G21: =SUM(G19:G20) -> 1114907
A22: CAPITULO 3,0 | C22: DESAGÜES E INSTALACIONES SUBTERRÁNEAS
A23: 3.1 | B23: 3.5 | C23: CAJA DE INSPECCIÓN DE 80X80 | D23: UN | E23: 1 | F23: 375078 | G23: =SUM(E23*F23) -> 375078
G24: =SUM(G23) -> 375078
A25: CAPITULO 4,0 | C25: ESTRUCTURAS EN CONCRETO
A26: 4.1 | B26: 4.3 | C26: COLUMNAS 3500 PSI | D26: M3 | E26: =SUM(+columnas!J22) -> 0.7 | F26: 1101603 | G26: =ROUND(E26*F26,2) -> 771122.1
A27: 4.2 | B27: 4.26 | C27: VIGA AÉREA 3500 PSI | D27: m3 | E27: =SUM(+'viga aerea'!J23) -> 0.47475 | F27: 1179863 | G27: =ROUND(E27*F27,2) -> 560139.96
A28: 4.4 | B28: 4.22 | C28: ACERO FIGURADO 60000 PSI | D28: KG | E28: =SUM(+'acero 60000'!K20) -> 161.76 | F28: 8062 | G28: =ROUND(E28*F28,2) -> 1304109.1
A29: 4.5 | B29: 4.21 | C29: ACERO FIGURADO 37000 PSI | D29: KG | E29: =SUM(+'acero de 37000'!J22) -> 160.08 | F29: 7800 | G29: =SUM(E29*F29) -> 1248624
A30: 4.6 | B30: 4.23 | C30: REFUERZO MALLA ELECTROSOLDADA | D30: KG | E30: =SUM(+malla!J21) -> 26.69 | F30: 10618 | G30: =SUM(E30*F30) -> 283394.42
G31: =SUM(G26:G30) -> 4167389.6
A32: CAPITULO 5,0 | C32: MAMPOSTERIA
A33: 5.1 | B33: 5.17 | C33: MURO EN BLOQUE Nº 5 E=0.12 M | D33: m² | E33: =SUM(+'muros '!J23) -> 25.4505 | F33: 60726 | G33: =E33*F33 -> 1545507.1
G34: =SUM(G33) -> 1545507.1
A35: CAPITULO 6,0 | C35: PAÑETES, REVOQUES Y REPELLOS
A36: 6.1 | B36: 6.19 | C36: PAÑETE LISO MUROS 1:5, E=1.5 CM | D36: m² | E36: =SUM(+pañete!J27) -> 42.9643 | F36: 27068 | G36: =ROUND(E36*F36,2) -> 1162957.7
G37: =SUM(G36:G36) -> 1162957.7
A38: CAPITULO 7,0 | C38: CUBIERTA
A39: 7.1 | B39: 7.2 | C39: TEJA EN LÁMINA GALVANIZADA CAL 26 PINTADA | D39: m² | E39: =SUM(+cubierta!J22) -> 15.8 | F39: 67001 | G39: =ROUND(E39*F39,2) -> 1058615.8
A40: 7.2 | B40: APU | C40: ESTRUCTURA PARA CUBIERTA EN LÁMINA GALVANIZADA | D40: m² | E40: =SUM(+'estruc. cubierta'!J22) -> 15.8 | F40: 84955 | G40: =ROUND(E40*F40,2) -> 1342289
G41: =SUM(G39:G40) -> 2400904.8
A42: CAPITULO 10,0 | C42: CARPINTERIA METALICA
A43: 10.1 | B43: 10.4 | C43: MARCO PARA PUERTA EN LÁMINA CAL 18 -0.8 | D43: und | E43: =SUM(+'marco puerta'!J22) -> 1 | F43: 230693 | G43: =F43*E43 -> 230693
A44: 10.2 | B44: 10.7 | C44: PUERTA EN LÁMINA CAL 18 INC. ANTICORROSIVO | D44: m² | E44: =SUM(+'puerta metalica'!J22) -> 6.32 | F44: 312947 | G44: =F44*E44 -> 1977825
...

Sheet ANEXO 5 - OFERTA ECONÓMICA
A3: ANEXO 5 - OFERTA ECONÓMICA
A6: PROYECTO: CONSTRUCCIÓN Y MEJORAMIENTO BATERÍAS DE BAÑOS PARA PREESCOLAR Y BÁSICA PRIMARIA DE LA INSTITUCIÓN EDUCATIVA RURAL LUIS ANTONIO DUQUE PEÑA GIRARDOT – CUNDINAMARCA
A8: CONSTRUCCIÓN BATERIA DE BAÑOS PARA PREESCOLAR
A9: ITEM | B9: ICCU | C9: DESCRIPCIÓN | D9: UNIDAD | E9: CANTIDAD | F9: PRECIO UNITARIO | G9: VALOR PARCIAL
A10: NORM INV | C10: EXCAVACION Y EXPLANEACIONES
B11: 210.1.1 | C11: EXPLANACIÓN Y EXCAVACIONES | D11: m3 | E11: =SUM(+excavacion!J19) -> 14.7
A13: CAPITULO 1,0 | C13: PRELIMINARES
A14: 1.3 | B14: 1.46 | C14: RETIRO DE SOBRANTES A UNA DISTANCIA DE 5 KM (INCLUYE CARGUE Y BOTADERO AUTORIZADO) | D14: m³ | E14: =SUM(+'retiro de sobrantes'!J19) -> 12.09
A16: CAPITULO 2,0 | C16: CIMIENTOS
A17: 2.1 | B17: 2.7 | C17: VIGA DE AMARRE EN CONCRETO 3500 PSI | D17: M3 | E17: =SUM(+viga!J20) -> 0.79
A18: 2.2 | B18: 2.8 | C18: ZAPATAS EN CONCRETO 3500 PSI | D18: M3 | E18: =SUM(+zapata!J19) -> 0.59
A21: CAPITULO 3,0 | C21: DESAGÜES E INSTALACIONES SUBTERRÁNEAS
A22: 3.1 | B22: 3.5 | C22: CAJA DE INSPECCIÓN DE 80X80 | D22: UN | E22: 1
A25: CAPITULO 4,0 | C25: ESTRUCTURAS EN CONCRETO
A26: 4.1 | B26: 4.3 | C26: COLUMNAS 3500 PSI | D26: M3 | E26: =SUM(+columnas!J22) -> 0.7
A27: 4.2 | B27: 4.26 | C27: VIGA AÉREA 3500 PSI | D27: m3 | E27: =SUM(+'viga aerea'!J23) -> 0.47475
A28: 4.4 | B28: 4.22 | C28: ACERO FIGURADO 60000 PSI | D28: KG | E28: =SUM(+'acero 60000'!K20) -> 161.76
A29: 4.5 | B29: 4.21 | C29: ACERO FIGURADO 37000 PSI | D29: KG | E29: =SUM(+'acero de 37000'!J22) -> 160.08
A30: 4.6 | B30: 4.23 | C30: REFUERZO MALLA ELECTROSOLDADA | D30: KG | E30: =SUM(+malla!J21) -> 26.69
A33: CAPITULO 5,0 | C33: MAMPOSTERIA
A34: 5.1 | B34: 5.17 | C34: MURO EN BLOQUE Nº 5 E=0.12 M | D34: m² | E34: =SUM(+'muros '!J23) -> 25.4505
A37: CAPITULO 6,0 | C37: PAÑETES, REVOQUES Y REPELLOS
A38: 6.1 | B38: 6.19 | C38: PAÑETE LISO MUROS 1:5, E=1.5 CM | D38: m² | E38: =SUM(+pañete!J27) -> 42.9643
A41: CAPITULO 7,0 | C41: CUBIERTA
A42: 7.1 | B42: 7.2 | C42: TEJA EN LÁMINA GALVANIZADA CAL 26 PINTADA | D42: m² | E42: =SUM(+cubierta!J22) -> 15.8
A43: 7.2 | B43: APU | C43: ESTRUCTURA PARA CUBIERTA EN LÁMINA GALVANIZADA | D43: m² | E43: =SUM(+'estruc. cubierta'!J22) -> 15.8
A46: CAPITULO 10,0 | C46: CARPINTERIA METALICA
A47: 10.1 | B47: 10.4 | C47: MARCO PARA PUERTA EN LÁMINA CAL 18 -0.8 | D47: und | E47: =SUM(+'marco puerta'!J22) -> 1
A48: 10.2 | B48: 10.7 | C48: PUERTA EN LÁMINA CAL 18 INC. ANTICORROSIVO | D48: m² | E48: =SUM(+'puerta metalica'!J22) -> 6.32
A49: 10.3 | B49: 10.2 | C49: VENTANA LÁMINA CALIBRE 18 INC. ANTICORROSIVO | D49: m² | E49: =SUM(+ventana!J21) -> 0.804
A52: CAPITULO 11,0 | C52: INSTALACIONES HIDROSANITARIAS
A53: 11.1 | B53: 11.8 | C53: CONEXIÓN TANQUE ELEVADO PVC | D53: und | E53: =SUM(+'conexion tanque'!J22) -> 1
A54: 11.2 | B54: 11.12 | C54: LLAVE MANGUERA | D54: und | E54: =SUM(+'llave manguera'!J22) -> 2
A55: 11.3 | B55: 11.16 | C55: PUNTO HIDRÁULICO PVC-P/PARAL 1/2" | D55: und | E55: =SUM(+'puntos hidraulicos'!J21) -> 5
A56: 11.4 | B56: 11.31 | C56: RED SANITARIA PVC-S 2" | D56: ml | E56: =SUM(+'red sanitaria 2"'!J22) -> 6.9
A57: 11.5 | B57: 11.33 | C57: RED SANITARIA PVC-S 4" | D57: ml, | E57: 10
A58: 11.6 | B58: 11.19 | C58: SALIDA SANITARIA PVC-S/PARAL 2" | D58: und | E58: =SUM(+'salida sanitaria 2"'!J22) -> 2
A59: 11.7 | B59: 11.21 | C59: SALIDA SANITARIA PVC-S/PARAL 4" | D59: und | E59: =SUM(+'salida sanitaria 4"'!J22) -> 3
A60: 11.8 | B60: 11.27 | C60: RED SUMINISTRO PVC 1/2" | D60: ml | E60: =SUM(+'red suministro'!J24) -> 12
A63: CAPITULO 12,0 | C63: INSTALACIONES ELÉCTRICAS
...

Sheet excavacion
C2: MEMORIA DE CANTIDADES DE OBRA
B5: SOPORTE DEL MEMORIA DE CALCULO | K5: SEPTIEMBRE DE 2025
B6: OBJETO | C6: PRESUPUESTO CONSTRUCCION DE BATERIA DE BAÑOS INSTITUCIÓN EDUCATIVA LUIS A. DUQUE PEÑA SEDE PRINCIPAL BARZALOZA
B7: CAPITULO | C7: 2 | D7: CIMIENTOS
B8: ITEM | C8: 2.8 | D8: ZAPATAS EN CONCRETO 3500 PSI | N8: UNIDAD
N9: M3
B11: FECHA | C11: LOCALIZACIÓN | E11: DIMENSIONES | H11: CANTIDAD | I11: UNIDAD | J11: TOTAL | K11: ESQUEMA Y/O REGISTRO FOTOGRAFICO
E12: long | F12: alto | G12: ancho | J12: ACUMULADO
C13: Zapatas de 0,70x0,70 | E13: 0.7 | F13: 1 | G13: 0.7 | H13: 4 | J13: =SUM(E13*F13*G13*H13) -> 1.96
C14: viga | E14: =SUM(3.1+2.93+3.1+2.93) -> 12.06 | H14: 1 | J14: =SUM(E14*H14) -> 12.06
C15: redes sanitarias 2" | E15: =SUM(1.22+1.5+1.06) -> 3.78 | F15: 0.3 | G15: 0.25 | J15: =SUM(E15*F15*G15) -> 0.2835
C16: redes sanitarias 4" | E16: =SUM(1.22+1.5+1.06) -> 3.78 | F16: 0.3 | G16: 0.35 | J16: =SUM(E16*F16*G16) -> 0.3969
B17: TOTAL ACUMULADO | J17: =ROUND(SUM(J13:J16),2) -> 14.7
B18: TOTAL ANTERIOR | J18: 0
B19: TOTAL | J19: =J17-J18 -> 14.7
B21: Elaboró | I21: Aprobó
B22: EL CONTRATISTA: | I22: LA INTERVENTORIA
AC27: =+X28*0.01 -> 0
AC31: =+AA31-AB31 -> 0

Sheet retiro de sobrantes
C2: MEMORIA DE CANTIDADES DE OBRA
B5: SOPORTE DEL MEMORIA DE CALCULO | K5: SEPTIEMBRE DE 2025
B6: OBJETO | C6: PRESUPUESTO CONSTRUCCION DE BATERIA DE BAÑOS INSTITUCIÓN EDUCATIVA LUIS A. DUQUE PEÑA SEDE PRINCIPAL BARZALOZA
B7: CAPITULO | C7: 1 | D7: PRELIMINARES
B8: ITEM | C8: 1.46 | D8: RETIRO DE SOBRANTES A UNA DISTANCIA DE 5 KM (INCLUYE CARGUE Y BOTADERO AUTORIZADO) | N8: UNIDAD
N9: M3
B11: FECHA | C11: LOCALIZACIÓN | E11: DIMENSIONES | H11: FACTOR EXPANSION | I11: CANT, M3 | J11: TOTAL | K11: ESQUEMA Y/O REGISTRO FOTOGRAFICO
E12: long | F12: alto | G12: ancho | J12: ACUMULADO
C13: DEMOLICION DE PLACA PISO | E13: 1 | F13: 0.1 | G13: 0.7 | H13: 0.25 | J13: =SUM(E13*F13*G13)*1.25 -> 0.0875
C14: EXCAVACIONES | H14: 0.25 | I14: 8 | J14: =SUM(I14*1.25) -> 10
C15: RESIDUOS DE OBRA | I15: 2 | J15: =SUM(+I15) -> 2
B17: TOTAL ACUMULADO | J17: =ROUND(SUM(J13:J16),2) -> 12.09
B18: TOTAL ANTERIOR | J18: 0
B19: TOTAL | J19: =J17-J18 -> 12.09
B21: Elaboró | I21: Aprobó
B22: EL CONTRATISTA: | I22: LA INTERVENTORIA
AC27: =+X28*0.01 -> 0
AC31: =+AA31-AB31 -> 0

Sheet viga
C2: MEMORIA DE CANTIDADES DE OBRA
B5: SOPORTE DEL MEMORIA DE CALCULO | K5: SEPTIEMBRE DE 2025
B6: OBJETO | C6: PRESUPUESTO CONSTRUCCION DE BATERIA DE BAÑOS INSTITUCIÓN EDUCATIVA LUIS A. DUQUE PEÑA SEDE PRINCIPAL BARZALOZA
B7: CAPITULO | C7: 2 | D7: CIMIENTOS
B8: ITEM | C8: 2.7 | D8: VIGA DE AMARRE EN CONCRETO 3500 PSI | N8: UNIDAD
N9: M3
B11: FECHA | C11: LOCALIZACIÓN | E11: DIMENSIONES | H11: CANTIDAD | I11: UNIDAD | J11: TOTAL | K11: ESQUEMA Y/O REGISTRO FOTOGRAFICO
E12: alto | F12: long | G12: ancho | J12: ACUMULADO
C13: FACHADA FRONTAL | E13: 0.25 | F13: 3.4 | G13: 0.25 | J13: =SUM(E13*F13*G13) -> 0.2125
C14: FECHADA LATERAL DERECHA | E14: 0.25 | F14: 2.93 | G14: 0.25 | J14: =SUM(E14*F14*G14) -> 0.183125
C15: FACHADA LATERAL IZQUIERDA | E15: 0.25 | F15: 3.4 | G15: 0.25 | J15: =SUM(E15*F15*G15) -> 0.2125
C16: FACHADA POSTERIOR | E16: 0.25 | F16: 2.93 | G16: 0.25 | J16: =SUM(E16*F16*G16) -> 0.183125
C17: longitud total de viga | F17: =SUM(F13:F16) -> 12.66
B18: TOTAL ACUMULADO | J18: =ROUND(SUM(J13:J17),2) -> 0.79
B19: TOTAL ANTERIOR | J19: 0
B20: TOTAL | J20: =J18-J19 -> 0.79
B22: Elaboró | I22: Aprobó
B23: EL CONTRATISTA: | I23: LA INTERVENTORIA
AC28: =+X29*0.01 -> 0
AC32: =+AA32-AB32 -> 0

Sheet zapata
C2: MEMORIA DE CANTIDADES DE OBRA
B5: SOPORTE DEL MEMORIA DE CALCULO | K5: SEPTIEMBRE DE 2025
B6: OBJETO | C6: PRESUPUESTO CONSTRUCCION DE BATERIA DE BAÑOS INSTITUCIÓN EDUCATIVA LUIS A. DUQUE PEÑA SEDE PRINCIPAL BARZALOZA
B7: CAPITULO | C7: 2 | D7: CIMIENTOS
B8: ITEM | C8: 2.8 | D8: ZAPATAS EN CONCRETO 3500 PSI | N8: UNIDAD
N9: M3
B11: FECHA | C11: LOCALIZACIÓN | E11: DIMENSIONES | H11: CANTIDAD | I11: UNIDAD | J11: TOTAL | K11: ESQUEMA Y/O REGISTRO FOTOGRAFICO
E12: long | F12: alto | G12: ancho | J12: ACUMULADO
C13: Zapatas de 0,70x0,70 | E13: 0.7 | F13: 0.3 | G13: 0.7 | H13: 4 | J13: =SUM(E13*F13*G13*H13) -> 0.588
J14: =SUM(E14*F14*G14*H14) -> 0
B17: TOTAL ACUMULADO | J17: =ROUND(SUM(J13:J16),2) -> 0.59
B18: TOTAL ANTERIOR | J18: 0
B19: TOTAL | J19: =J17-J18 -> 0.59
B21: Elaboró | I21: Aprobó
B22: EL CONTRATISTA: | I22: LA INTERVENTORIA
AC27: =+X28*0.01 -> 0
AC31: =+AA31-AB31 -> 0

Sheet columnas
C2: MEMORIA DE CANTIDADES DE OBRA
B5: SOPORTE DEL MEMORIA DE CALCULO | K5: SEPTIEMBRE DE 2025
B6: OBJETO | C6: PRESUPUESTO CONSTRUCCION DE BATERIA DE BAÑOS INSTITUCIÓN EDUCATIVA LUIS A. DUQUE PEÑA SEDE PRINCIPAL BARZALOZA
B7: CAPITULO | C7: 4 | D7: ESTRUCTURAS EN CONCRETO
B8: ITEM | C8: 4.3 | D8: COLUMNAS 3500 PSI | N8: UNIDAD
N9: M3
B11: FECHA | C11: LOCALIZACIÓN | E11: DIMENSIONES | H11: CANTIDAD | I11: log columnas | J11: TOTAL | K11: ESQUEMA Y/O REGISTRO FOTOGRAFICO
E12: alto | F12: ancho | G12: ancho | J12: ACUMULADO
E13: 2.47 | F13: 0.25 | G13: 0.25 | H13: 2 | J13: =SUM(E13*F13*G13*H13) -> 0.30875
E14: 3.09 | F14: 0.25 | G14: 0.25 | H14: 2 | J14: =SUM(E14*F14*G14*H14) -> 0.38625
B20: TOTAL ACUMULADO | J20: =ROUND(SUM(J13:J19),2) -> 0.7
B21: TOTAL ANTERIOR | J21: 0
B22: TOTAL | J22: =J20-J21 -> 0.7
B24: Elaboró | I24: Aprobó
B25: EL CONTRATISTA: | I25: LA INTERVENTORIA
AC30: =+X31*0.01 -> 0
AC34: =+AA34-AB34 -> 0

Sheet viga aerea
C2: MEMORIA DE CANTIDADES DE OBRA
B5: SOPORTE DEL MEMORIA DE CALCULO | K5: SEPTIEMBRE DE 2025
B6: OBJETO | C6: PRESUPUESTO CONSTRUCCION DE BATERIA DE BAÑOS INSTITUCIÓN EDUCATIVA LUIS A. DUQUE PEÑA SEDE PRINCIPAL BARZALOZA
B7: CAPITULO | C7: 4 | D7: ESTRUCTURAS EN CONCRETO
B8: ITEM | C8: 4.26 | D8: VIGA AÉREA 3500 PSI | N8: UNIDAD
N9: M3
B11: FECHA | C11: LOCALIZACIÓN | E11: DIMENSIONES | H11: CANTIDAD | I11: UNIDAD | J11: TOTAL | K11: ESQUEMA Y/O REGISTRO FOTOGRAFICO
E12: alto | F12: ancho | G12: ancho | J12: ACUMULADO
C13: FACHADA FRONTAL | E13: 0.25 | F13: 3.4 | G13: 0.15 | J13: =SUM(E13*F13*G13) -> 0.1275
C14: FECHADA LATERAL DERECHA | E14: 0.25 | F14: 2.93 | G14: 0.15 | J14: =SUM(E14*F14*G14) -> 0.109875
C15: FACHADA LATERAL IZQUIERDA | E15: 0.25 | F15: 3.4 | G15: 0.15 | J15: =SUM(E15*F15*G15) -> 0.1275
C16: FACHADA POSTERIOR | E16: 0.25 | F16: 2.93 | G16: 0.15 | J16: =SUM(E16*F16*G16) -> 0.109875
J17: =SUM(E17*F17*G17) -> 0
J18: =SUM(E18*F18*G18) -> 0
J19: =SUM(E19*F19*G19) -> 0
B21: TOTAL ACUMULADO | J21: =ROUND(SUM(J13:J20),2) -> 0.47
B22: TOTAL ANTERIOR | J22: 0
B23: TOTAL | J23: =SUM(J13:J20) -> 0.47475
B25: Elaboró | I25: Aprobó
B26: EL CONTRATISTA: | I26: LA INTERVENTORIA
AC31: =+X32*0.01 -> 0
AC35: =+AA35-AB35 -> 0

Sheet acero 60000
C2: MEMORIA DE CANTIDADES DE OBRA
B5: SOPORTE DEL MEMORIA DE CALCULO | L5: SEPTIEMBRE DE 2025
B6: OBJETO | C6: PRESUPUESTO CONSTRUCCION DE BATERIA DE BAÑOS INSTITUCIÓN EDUCATIVA LUIS A. DUQUE PEÑA SEDE PRINCIPAL BARZALOZA
B7: CAPITULO | C7: 4 | D7: ESTRUCTURAS EN CONCRETO
B8: ITEM | C8: 4.22 | D8: ACERO FIGURADO 60000 PSI | O8: UNIDAD
O9: KG
B11: FECHA | C11: LOCALIZACIÓN | E11: DIMENSIONES | H11: CANTIDAD | J11: FACTOR CONVERSION | K11: TOTAL | L11: ESQUEMA Y/O REGISTRO FOTOGRAFICO
E12: LONG | F12: varillas | G12: long parcial | I12: long total | K12: ACUMULADO
C13: ZAPATAS | E13: 0.8 | F13: 5 | G13: =SUM(E13*F13) -> 4 | H13: 4 | I13: =SUM(G13*H13) -> 16 | J13: 1 | K13: =SUM(E13*F13*H13*J13) -> 16
C14: TOTAL ML DE VIGA AMARRE | E14: {=SUM(+viga!F13:F16)} -> 12.66 | F14: 4 | G14: =SUM(E14*F14) -> 50.64 | H14: 1 | I14: =SUM(G14*H14) -> 50.64 | J14: 1 | K14: =SUM(E14*F14*H14*J14) -> 50.64
C15: TOTAL ML COLUMNAS | E15: 2.47 | F15: 4 | G15: =SUM(E15*F15) -> 9.88 | H15: 2 | I15: =SUM(G15*H15) -> 19.76 | J15: 1 | K15: =SUM(E15*F15*H15*J15) -> 19.76
E16: 3.09 | F16: 4 | G16: =SUM(E16*F16) -> 12.36 | H16: 2 | I16: =SUM(G16*H16) -> 24.72 | J16: 1 | K16: =SUM(E16*F16*H16*J16) -> 24.72
C17: TOTAL ML VIGA AEREA | E17: 12.66 | F17: 4 | G17: =SUM(E17*F17) -> 50.64 | H17: 1 | I17: =SUM(G17*H17) -> 50.64 | J17: 1 | K17: =SUM(E17*F17*H17*J17) -> 50.64
K18: =ROUND(SUM(K13:K17),2) -> 161.76
B19: TOTAL ANTERIOR | K19: 0
B20: TOTAL | K20: =K18-K19 -> 161.76
B22: Elaboró | J22: Aprobó
B23: EL CONTRATISTA: | J23: LA INTERVENTORIA
AD28: =+Y29*0.01 -> 0
AD32: =+AB32-AC32 -> 0

Sheet acero de 37000
C2: MEMORIA DE CANTIDADES DE OBRA
B5: SOPORTE DEL MEMORIA DE CALCULO | K5: SEPTIEMBRE DE 2025
B6: OBJETO | C6: PRESUPUESTO CONSTRUCCION DE BATERIA DE BAÑOS INSTITUCIÓN EDUCATIVA LUIS A. DUQUE PEÑA SEDE PRINCIPAL BARZALOZA
B7: CAPITULO | C7: 4 | D7: ESTRUCTURAS EN CONCRETO
B8: ITEM | C8: 4.21 | D8: ACERO FIGURADO 37000 PSI | N8: UNIDAD
N9: KG
B11: FECHA | C11: LOCALIZACIÓN | E11: DIMENSIONES | H11: LONG TOTAL FLEJE | I11: FACTOR CONVERSION | J11: TOTAL | K11: ESQUEMA Y/O REGISTRO FOTOGRAFICO
E12: LONG | F12: LONG FLEJE | G12: numero de flejes | J12: ACUMULADO
C13: viga de amarre | E13: =SUM(+viga!F17) -> 12.66 | F13: 0.9 | G13: =SUM(E13/0.1) -> 126.6 | H13: =SUM(F13*G13) -> 113.94 | I13: 0.65 | J13: =SUM(H13*I13) -> 74.061
C14: viga aerea | E14: 12.66 | F14: 0.65 | G14: =SUM(E14/0.1) -> 126.6 | H14: =SUM(F14*G14) -> 82.29 | I14: 0.65 | J14: =SUM(H14*I14) -> 53.4885
C15: columnas | E15: 2.47 | F15: 0.9 | G15: =SUM(E15/0.1) -> 24.7 | H15: =SUM(F15*G15) -> 22.23 | I15: 0.65 | J15: =SUM(H15*I15) -> 14.4495
E16: 3.09 | F16: 0.9 | G16: =SUM(E16/0.1) -> 30.9 | H16: =SUM(F16*G16) -> 27.81 | I16: 0.65 | J16: =SUM(H16*I16) -> 18.0765
B20: | | J20: =ROUND(SUM(J13:J19),2) -> 160.08
B21: TOTAL ANTERIOR | J21: 0
B22: TOTAL | J22: =J20-J21 -> 160.08
B24: Elaboró | I24: Aprobó
B25: EL CONTRATISTA: | I25: LA INTERVENTORIA
AC30: =+X31*0.01 -> 0
AC34: =+AA34-AB34 -> 0

Sheet malla
C2: MEMORIA DE CANTIDADES DE OBRA
B5: SOPORTE DEL MEMORIA DE CALCULO | K5: SEPTIEMBRE DE 2025
B6: OBJETO | C6: PRESUPUESTO CONSTRUCCION DE BATERIA DE BAÑOS INSTITUCIÓN EDUCATIVA LUIS A. DUQUE PEÑA SEDE PRINCIPAL BARZALOZA
B7: CAPITULO | C7: 4 | D7: ESTRUCTURAS EN CONCRETO
B8: ITEM | C8: 4.23 | D8: REFUERZO MALLA ELECTROSOLDADA | N8: UNIDAD
N9: M3
B11: FECHA | C11: LOCALIZACIÓN | E11: DIMENSIONES | H11: peso de malla por m2 | I11: FACTOR CONVERSION malla 0,15x0,15 | J11: TOTAL | K11: ESQUEMA Y/O REGISTRO FOTOGRAFICO
E12: largo | F12: ancho | G12: area | J12: ACUMULADO
C13: area piso baños niñas | E13: 3.1 | F13: 2.88 | G13: =SUM(E13*F13) -> 8.928 | H13: 2.99 | J13: =SUM(G13*H13) -> 26.69472
B19: TOTAL ACUMULADO | J19: =ROUND(SUM(J13:J18),2) -> 26.69
B20: TOTAL ANTERIOR | J20: 0
B21: TOTAL | J21: =J19-J20 -> 26.69
B23: Elaboró | I23: Aprobó
B24: EL CONTRATISTA: | I24: LA INTERVENTORIA
AC29: =+X30*0.01 -> 0
AC33: =+AA33-AB33 -> 0

Sheet muros 
C2: MEMORIA DE CANTIDADES DE OBRA
B5: SOPORTE DEL MEMORIA DE CALCULO | K5: SEPTIEMBRE DE 2025
B6: OBJETO | C6: PRESUPUESTO CONSTRUCCION DE BATERIA DE BAÑOS INSTITUCIÓN EDUCATIVA LUIS A. DUQUE PEÑA SEDE PRINCIPAL BARZALOZA
B7: CAPITULO | C7: 5 | D7: MAMPOSTERÍA
B8: ITEM | C8: 5.17 | D8: MURO EN BLOQUE Nº 5 E=0.12 M | N8: UNIDAD
N9: M2
B11: FECHA | C11: LOCALIZACIÓN | E11: DIMENSIONES | H11: CANTIDAD | I11: AREA TOTAL | J11: TOTAL | K11: ESQUEMA Y/O REGISTRO FOTOGRAFICO
E12: largo | F12: ALTO | G12: AREA | J12: ACUMULADO
C13: fachada frontal | E13: 2 | F13: 2.1 | J13: =SUM(E13*F13) -> 4.2
C14: cuchilla | F14: 1.36 | J14: =SUM(+F14) -> 1.36
C15: fachada lateral derecha | E15: 2.71 | F15: 1.7 | J15: =SUM(E15*F15) -> 4.607
E16: 2.71 | F16: 0.14 | J16: =SUM(E16*F16) -> 0.3794
C17: fachada lateral izquierda | E17: 2.71 | F17: 2 | J17: =SUM(E17*F17) -> 5.42
C18: cuchilla | E18: 2.71 | F18: 0.71 | J18: =SUM(E18*F18) -> 1.9241
C19: fachada posterior | E19: 3.1 | F19: 2 | J19: =SUM(E19*F19) -> 6.2
C20: cuchilla | F20: 1.36 | J20: =SUM(+F20) -> 1.36
B21: TOTAL ACUMULADO | J21: =SUM(J13:J20) -> 25.4505
B22: TOTAL ANTERIOR | J22: 0
B23: TOTAL | J23: =J21-J22 -> 25.4505
B25: Elaboró | I25: Aprobó
B26: EL CONTRATISTA: | I26: LA INTERVENTORIA
AC31: =+X32*0.01 -> 0
AC35: =+AA35-AB35 -> 0

Sheet pañete
C2: MEMORIA DE CANTIDADES DE OBRA
B5: SOPORTE DEL MEMORIA DE CALCULO | K5: SEPTIEMBRE DE 2025
B6: OBJETO | C6: PRESUPUESTO CONSTRUCCION DE BATERIA DE BAÑOS INSTITUCIÓN EDUCATIVA LUIS A. DUQUE PEÑA SEDE PRINCIPAL BARZALOZA
B7: CAPITULO | C7: 6 | D7: MAMPOSTERÍA
B8: ITEM | C8: 6.17 | D8: PAÑETE LISO MUROS 1:4, E=1.5 CM | N8: UNIDAD
N9: M3
B11: FECHA | C11: LOCALIZACIÓN | E11: DIMENSIONES | H11: CANTIDAD | I11: menos area puerta | J11: TOTAL | K11: ESQUEMA Y/O REGISTRO FOTOGRAFICO
E12: largo | F12: ALTO | G12: AREA | J12: ACUMULADO
C13: fachada frontal exterior | G13: 8.31 | I13: 2 | J13: =SUM(G13-I13) -> 6.31
C14: fachada frontal interior | G14: 8.31 | I14: 2 | J14: =SUM(G14-I14) -> 6.31
C15: fachada lateral derecha exterior | E15: 2.71 | F15: 1.7 | G15: =SUM(E15*F15) -> 4.607 | J15: =SUM(+G15) -> 4.607
C16: fachada lateral derecha exterior | E16: 2.71 | F16: =SUM(0.14+0.25) -> 0.39 | G16: =SUM(E16*F16) -> 1.0569 | J16: =SUM(+G16) -> 1.0569
C17: fachada lateral izquierda exterior | E17: 2.71 | F17: 1.7 | G17: =SUM(E17*F17) -> 4.607 | J17: =SUM(+G17) -> 4.607
C18: fachada lateral izquierda exterior | E18: 2.71 | F18: =SUM(0.14+0.25) -> 0.39 | G18: =SUM(E18*F18) -> 1.0569 | J18: =SUM(+G18) -> 1.0569
C19: fachada lateral izquierda interior | E19: 2.71 | F19: 2.95 | G19: =SUM(E19*F19) -> 7.9945 | J19: =SUM(+G19) -> 7.9945
C20: fachada posterior interior | G20: 8.31 | J20: =SUM(+G20) -> 8.31
C21: meson | E21: 1.9 | F21: 0.6 | G21: =SUM(E21*F21) -> 1.14 | J21: =SUM(+G21) -> 1.14
E22: 0.87 | F22: 0.6 | G22: =SUM(E22*F22) -> 0.522 | J22: =SUM(+G22) -> 0.522
E23: 1.75 | F23: 0.6 | G23: =SUM(E23*F23) -> 1.05 | J23: =SUM(+G23) -> 1.05
B25: TOTAL ACUMULADO | J25: =SUM(J13:J23) -> 42.9643
B26: TOTAL ANTERIOR | J26: 0
B27: TOTAL | J27: =J25-J26 -> 42.9643
B29: Elaboró | I29: Aprobó
B30: EL CONTRATISTA: | I30: LA INTERVENTORIA
C35: MEMORIA DE CANTIDADES DE OBRA | AC35: =+X36*0.01 -> 0
B38: SOPORTE DEL MEMORIA DE CALCULO | K38: SEPTIEMBRE DE 2025
B39: OBJETO | C39: PRESUPUESTO CONSTRUCCION DE BATERIA DE BAÑOS INSTITUCIÓN EDUCATIVA LUIS A. DUQUE PEÑA SEDE PRINCIPAL BARZALOZA | AC39: =+AA39-AB39 -> 0
B40: CAPITULO | C40: 6 | D40: MAMPOSTERÍA
B41: ITEM | C41: 6.17 | D41: PAÑETE LISO MUROS 1:4, E=1.5 CM | N41: UNIDAD
N42: M3
B44: FECHA | C44: LOCALIZACIÓN | E44: DIMENSIONES | H44: CANTIDAD | I44: menos area puerta | J44: TOTAL | K44: ESQUEMA Y/O REGISTRO FOTOGRAFICO
E45: largo | F45: ALTO | G45: AREA | J45: ACUMULADO
E46: 0.75566978 | F46: 2.14 | G46: =SUM(E46*F46) -> 1.6171333 | H46: 6 | J46: =SUM(G46*H46) -> 9.7028
E47: 1.37 | F47: 2.14 | G47: =SUM(E47*F47) -> 2.9318 | H47: 6 | J47: =SUM(G47*H47) -> 17.5908
E48: 0.34 | F48: 2.14 | G48: =SUM(E48*F48) -> 0.7276 | H48: 6 | J48: =SUM(G48*H48) -> 4.3656
E49: 0.12 | F49: 2.14 | G49: =SUM(E49*F49) -> 0.2568 | H49: 6 | J49: =SUM(G49*H49) -> 1.5408
B58: TOTAL ACUMULADO | J58: =SUM(J46:J56) -> 33.2
B59: TOTAL ANTERIOR | J59: 0
B60: TOTAL | J60: =J58-J59 -> 33.2
B62: Elaboró | I62: Aprobó
...

Sheet cubierta
C2: MEMORIA DE CANTIDADES DE OBRA
B5: SOPORTE DEL MEMORIA DE CALCULO | K5: SEPTIEMBRE DE 2025
B6: OBJETO | C6: PRESUPUESTO CONSTRUCCION DE BATERIA DE BAÑOS INSTITUCIÓN EDUCATIVA LUIS A. DUQUE PEÑA SEDE PRINCIPAL BARZALOZA
B7: CAPITULO | C7: 7 | D7: CUBIERTAS
B8: ITEM | C8: 7.2 | D8: TEJA EN LÁMINA GALVANIZADA CAL 26 PINTADA | N8: UNIDAD
N9: m2
B11: FECHA | C11: LOCALIZACIÓN | E11: DIMENSIONES | H11: CANTIDAD | I11: AREA TOTAL | J11: TOTAL | K11: ESQUEMA Y/O REGISTRO FOTOGRAFICO
E12: largo | F12: ancho | G12: AREA | J12: ACUMULADO
C13: cubierta baños niñas | E13: 4 | F13: 3.95 | G13: =SUM(E13*F13) -> 15.8 | J13: =SUM(+G13) -> 15.8
B20: TOTAL ACUMULADO | J20: =SUM(J13:J19) -> 15.8
B21: TOTAL ANTERIOR | J21: 0
B22: TOTAL | J22: =J20-J21 -> 15.8
B24: Elaboró | I24: Aprobó
B25: EL CONTRATISTA: | I25: LA INTERVENTORIA
AC30: =+X31*0.01 -> 0
AC34: =+AA34-AB34 -> 0

Sheet estruc. cubierta
C2: MEMORIA DE CANTIDADES DE OBRA
B5: SOPORTE DEL MEMORIA DE CALCULO | K5: SEPTIEMBRE DE 2025
B6: OBJETO | C6: PRESUPUESTO CONSTRUCCION DE BATERIA DE BAÑOS INSTITUCIÓN EDUCATIVA LUIS A. DUQUE PEÑA SEDE PRINCIPAL BARZALOZA
B7: CAPITULO | D7: ESTRUCTURA PARA CUBIERTA
B8: ITEM | C8: APU | D8: ESTRUCTURA PARA CUBIERTA EN LÁMINA GALVANIZADA | N8: UNIDAD
N9: m2
B11: FECHA | C11: LOCALIZACIÓN | E11: DIMENSIONES | H11: CANTIDAD | I11: AREA TOTAL | J11: TOTAL | K11: ESQUEMA Y/O REGISTRO FOTOGRAFICO
E12: largo | F12: ancho | G12: AREA | J12: ACUMULADO
C13: cubierta baños niñas | E13: 4 | F13: 3.95 | G13: =SUM(E13*F13) -> 15.8 | J13: =SUM(+G13) -> 15.8
B20: TOTAL ACUMULADO | J20: =SUM(J13:J19) -> 15.8
B21: TOTAL ANTERIOR | J21: 0
B22: TOTAL | J22: =J20-J21 -> 15.8
B24: Elaboró | I24: Aprobó
B25: EL CONTRATISTA: | I25: LA INTERVENTORIA
AC30: =+X31*0.01 -> 0
AC34: =+AA34-AB34 -> 0

Sheet marco puerta
C2: MEMORIA DE CANTIDADES DE OBRA
B5: SOPORTE DEL MEMORIA DE CALCULO | K5: SEPTIEMBRE DE 2025
B6: OBJETO | C6: PRESUPUESTO CONSTRUCCION DE BATERIA DE BAÑOS INSTITUCIÓN EDUCATIVA LUIS A. DUQUE PEÑA SEDE PRINCIPAL BARZALOZA
B7: CAPITULO | C7: 10 | D7: CARPINTERIA METALICA
B8: ITEM | C8: 10.4 | D8: MARCO PARA PUERTA EN LÁMINA CAL 18 -0.8 | N8: UNIDAD
N9: UNIDAD
B11: FECHA | C11: LOCALIZACIÓN | E11: DIMENSIONES | H11: CANTIDAD | I11: AREA TOTAL | J11: TOTAL | K11: ESQUEMA Y/O REGISTRO FOTOGRAFICO
E12: largo | F12: ancho | G12: AREA | J12: ACUMULADO
C13: baños niñas y discapacidad | H13: 1 | J13: =SUM(+H13) -> 1
B20: TOTAL ACUMULADO | J20: =SUM(J13:J19) -> 1
B21: TOTAL ANTERIOR | J21: 0
B22: TOTAL | J22: =J20-J21 -> 1
B24: Elaboró | I24: Aprobó
B25: EL CONTRATISTA: | I25: LA INTERVENTORIA
AC30: =+X31*0.01 -> 0
AC34: =+AA34-AB34 -> 0

Sheet puerta metalica
C2: MEMORIA DE CANTIDADES DE OBRA
B5: SOPORTE DEL MEMORIA DE CALCULO | K5: SEPTIEMBRE DE 2025
B6: OBJETO | C6: PRESUPUESTO CONSTRUCCION DE BATERIA DE BAÑOS INSTITUCIÓN EDUCATIVA LUIS A. DUQUE PEÑA SEDE PRINCIPAL BARZALOZA
B7: CAPITULO | C7: 10 | D7: CARPINTERIA METALICA
B8: ITEM | C8: 10.7 | D8: PUERTA EN LÁMINA CAL 18 INC. ANTICORROSIVO | N8: UNIDAD
N9: m2
B11: FECHA | C11: LOCALIZACIÓN | E11: DIMENSIONES | H11: CANTIDAD | I11: AREA TOTAL | J11: TOTAL | K11: ESQUEMA Y/O REGISTRO FOTOGRAFICO
E12: largo | F12: ancho | G12: AREA | J12: ACUMULADO
C13: baños niñas y discapacidad | E13: 2 | F13: 1 | H13: 1 | J13: =SUM(E13*F13*H13) -> 2
E14: 1.6 | F14: 0.9 | H14: 3 | J14: =SUM(E14*F14*H14) -> 4.32
B20: TOTAL ACUMULADO | J20: =SUM(J13:J19) -> 6.32
B21: TOTAL ANTERIOR | J21: 0
B22: TOTAL | J22: =J20-J21 -> 6.32
B24: Elaboró | I24: Aprobó
B25: EL CONTRATISTA: | I25: LA INTERVENTORIA
C30: MEMORIA DE CANTIDADES DE OBRA | AC30: =+X31*0.01 -> 0
B33: SOPORTE DEL MEMORIA DE CALCULO | K33: SEPTIEMBRE DE 2025
B34: OBJETO | C34: PRESUPUESTO CONSTRUCCION DE BATERIA DE BAÑOS INSTITUCIÓN EDUCATIVA LUIS A. DUQUE PEÑA SEDE PRINCIPAL BARZALOZA | AC34: =+AA34-AB34 -> 0
B35: CAPITULO | C35: 10 | D35: CARPINTERIA METALICA
B36: ITEM | C36: 10.7 | D36: PUERTA EN LÁMINA CAL 18 INC. ANTICORROSIVO | N36: UNIDAD
N37: m2
B39: FECHA | C39: LOCALIZACIÓN | E39: DIMENSIONES | H39: CANTIDAD | I39: AREA TOTAL | J39: TOTAL | K39: ESQUEMA Y/O REGISTRO FOTOGRAFICO
E40: largo | F40: ancho | G40: AREA | J40: ACUMULADO
C41: baños niñas y discapacidad | E41: 1.7 | F41: 0.6 | G41: =SUM(E41*F41) -> 1.02 | H41: 6 | J41: =SUM(E41*F41*H41) -> 6.12
B48: TOTAL ACUMULADO | J48: =SUM(J41:J47) -> 6.12
B49: TOTAL ANTERIOR | J49: 0
B50: TOTAL | J50: =J48-J49 -> 6.12

Sheet ventana
C2: MEMORIA DE CANTIDADES DE OBRA
B5: SOPORTE DEL MEMORIA DE CALCULO | K5: SEPTIEMBRE DE 2025
B6: OBJETO | C6: PRESUPUESTO CONSTRUCCION DE BATERIA DE BAÑOS INSTITUCIÓN EDUCATIVA LUIS A. DUQUE PEÑA SEDE PRINCIPAL BARZALOZA
B7: CAPITULO | C7: 10 | D7: CARPINTERIA METALICA
B8: ITEM | C8: 10.2 | D8: VENTANA LÁMINA CALIBRE 18 INC. ANTICORROSIVO | N8: UNIDAD
N9: m2
B11: FECHA | C11: LOCALIZACIÓN | E11: DIMENSIONES | H11: CANTIDAD | I11: AREA TOTAL | J11: TOTAL | K11: ESQUEMA Y/O REGISTRO FOTOGRAFICO
E12: largo | F12: ancho | G12: AREA | J12: ACUMULADO
C13: baños niñas | E13: 2.68 | F13: 0.3 | J13: =SUM(E13*F13) -> 0.804
B19: TOTAL ACUMULADO | J19: =SUM(J13:J18) -> 0.804
B20: TOTAL ANTERIOR | J20: 0
B21: TOTAL | J21: =J19-J20 -> 0.804
B23: Elaboró | I23: Aprobó
B24: EL CONTRATISTA: | I24: LA INTERVENTORIA
AC29: =+X30*0.01 -> 0
AC33: =+AA33-AB33 -> 0

Sheet conexion tanque
C2: MEMORIA DE CANTIDADES DE OBRA
B5: SOPORTE DEL MEMORIA DE CALCULO | K5: SEPTIEMBRE DE 2025
B6: OBJETO | C6: PRESUPUESTO CONSTRUCCION DE BATERIA DE BAÑOS INSTITUCIÓN EDUCATIVA LUIS A. DUQUE PEÑA SEDE PRINCIPAL BARZALOZA
B7: CAPITULO | C7: 11 | D7: INSTALACIONES HIDROSANITARIAS
B8: ITEM | C8: 11.8 | D8: CONEXIÓN TANQUE ELEVADO PVC
N9: unidad
B11: FECHA | C11: LOCALIZACIÓN | E11: DIMENSIONES | H11: CANTIDAD | I11: LONG TOTAL | J11: TOTAL | K11: ESQUEMA Y/O REGISTRO FOTOGRAFICO
E12: largo | F12: ancho | G12: AREA | J12: ACUMULADO
C13: baños niñas y discapacidad | H13: 1 | J13: =SUM(+H13) -> 1
B20: TOTAL ACUMULADO | J20: =SUM(J13:J19) -> 1
B21: TOTAL ANTERIOR | J21: 0
B22: TOTAL | J22: =J20-J21 -> 1
B24: Elaboró | I24: Aprobó
B25: EL CONTRATISTA: | I25: LA INTERVENTORIA
AC30: =+X31*0.01 -> 0
AC34: =+AA34-AB34 -> 0

Sheet llave manguera
C2: MEMORIA DE CANTIDADES DE OBRA
B5: SOPORTE DEL MEMORIA DE CALCULO | K5: SEPTIEMBRE DE 2025
B6: OBJETO | C6: PRESUPUESTO CONSTRUCCION DE BATERIA DE BAÑOS INSTITUCIÓN EDUCATIVA LUIS A. DUQUE PEÑA SEDE PRINCIPAL BARZALOZA
B7: CAPITULO | C7: 11 | D7: INSTALACIONES HIDROSANITARIAS
B8: ITEM | C8: 11.12 | D8: LLAVE MANGUERA
N9: m2
B11: FECHA | C11: LOCALIZACIÓN | E11: DIMENSIONES | H11: CANTIDAD | I11: AREA TOTAL | J11: TOTAL | K11: ESQUEMA Y/O REGISTRO FOTOGRAFICO
E12: largo | F12: ancho | G12: AREA | J12: ACUMULADO
C13: baños niñas | H13: 2 | J13: =SUM(+H13) -> 2
B20: TOTAL ACUMULADO | J20: =SUM(J13:J19) -> 2
B21: TOTAL ANTERIOR | J21: 0
B22: TOTAL | J22: =J20-J21 -> 2
B24: Elaboró | I24: Aprobó
B25: EL CONTRATISTA: | I25: LA INTERVENTORIA
C30: MEMORIA DE CANTIDADES DE OBRA | AC30: =+X31*0.01 -> 0
B33: SOPORTE DEL MEMORIA DE CALCULO | K33: SEPTIEMBRE DE 2025
B34: OBJETO | C34: PRESUPUESTO CONSTRUCCION DE BATERIA DE BAÑOS INSTITUCIÓN EDUCATIVA LUIS A. DUQUE PEÑA SEDE PRINCIPAL BARZALOZA | AC34: =+AA34-AB34 -> 0
B35: CAPITULO | C35: 11 | D35: INSTALACIONES HIDROSANITARIAS
B36: ITEM | C36: 11.12 | D36: LLAVE MANGUERA
N37: m2
B39: FECHA | C39: LOCALIZACIÓN | E39: DIMENSIONES | H39: CANTIDAD | I39: AREA TOTAL | J39: TOTAL | K39: ESQUEMA Y/O REGISTRO FOTOGRAFICO
E40: largo | F40: ancho | G40: AREA | J40: ACUMULADO
C41: baños niñas | H41: 4 | J41: =SUM(+H41) -> 4
B48: TOTAL ACUMULADO | J48: =SUM(J41:J47) -> 4
B49: TOTAL ANTERIOR | J49: 0
B50: TOTAL | J50: =J48-J49 -> 4
B52: Elaboró | I52: Aprobó
B53: EL CONTRATISTA: | I53: LA INTERVENTORIA

Sheet puntos hidraulicos
C2: MEMORIA DE CANTIDADES DE OBRA
B5: SOPORTE DEL MEMORIA DE CALCULO | K5: SEPTIEMBRE DE 2025
B6: OBJETO | C6: PRESUPUESTO CONSTRUCCION DE BATERIA DE BAÑOS INSTITUCIÓN EDUCATIVA LUIS A. DUQUE PEÑA SEDE PRINCIPAL BARZALOZA
B7: CAPITULO | C7: 11 | D7: INSTALACIONES HIDROSANITARIAS
B8: ITEM | C8: 11.16 | D8: PUNTO HIDRÁULICO PVC-P/PARAL 1/2"
N9: un
B11: FECHA | C11: LOCALIZACIÓN | E11: PUNTOS | I11: TOTAL PUNTOS | J11: TOTAL | K11: ESQUEMA Y/O REGISTRO FOTOGRAFICO
E12: DUCHA | F12: LAVAMANOS | G12: SANITARIO | H12: ORINAL | J12: ACUMULADO
C13: baños niñas | F13: 2 | G13: 3 | J13: =SUM(+F13+G13) -> 5
B19: TOTAL ACUMULADO | J19: =SUM(J13:J18) -> 5
B20: TOTAL ANTERIOR | J20: 0
B21: TOTAL | J21: =J19-J20 -> 5
B23: Elaboró | I23: Aprobó
B24: EL CONTRATISTA: | I24: LA INTERVENTORIA
AC29: =+X30*0.01 -> 0
AC33: =+AA33-AB33 -> 0

Sheet salida sanitaria 2"
C2: MEMORIA DE CANTIDADES DE OBRA
B5: SOPORTE DEL MEMORIA DE CALCULO | K5: SEPTIEMBRE DE 2025
B6: OBJETO | C6: PRESUPUESTO CONSTRUCCION DE BATERIA DE BAÑOS INSTITUCIÓN EDUCATIVA LUIS A. DUQUE PEÑA SEDE PRINCIPAL BARZALOZA
B7: CAPITULO | C7: 11 | D7: INSTALACIONES HIDROSANITARIAS
B8: ITEM | C8: 11.19 | D8: SALIDA SANITARIA PVC-S/PARAL 2"
N9: m2
B11: FECHA | C11: LOCALIZACIÓN | I11: unidad | J11: TOTAL | K11: ESQUEMA Y/O REGISTRO FOTOGRAFICO
C13: baños niñas | I13: 2 | J13: =SUM(+I13) -> 2
B20: TOTAL ACUMULADO | J20: =SUM(J12:J19) -> 2
B21: TOTAL ANTERIOR | J21: 0
B22: TOTAL | J22: =J20-J21 -> 2
B24: Elaboró | I24: Aprobó
B25: EL CONTRATISTA: | I25: LA INTERVENTORIA
AC30: =+X31*0.01 -> 0
AC34: =+AA34-AB34 -> 0

Sheet salida sanitaria 4"
C2: MEMORIA DE CANTIDADES DE OBRA
B5: SOPORTE DEL MEMORIA DE CALCULO | K5: SEPTIEMBRE DE 2025
B6: OBJETO | C6: PRESUPUESTO CONSTRUCCION DE BATERIA DE BAÑOS INSTITUCIÓN EDUCATIVA LUIS A. DUQUE PEÑA SEDE PRINCIPAL BARZALOZA
B7: CAPITULO | C7: 11 | D7: INSTALACIONES HIDROSANITARIAS
B8: ITEM | C8: 11.21 | D8: SALIDA SANITARIA PVC-S/PARAL 4"
N9: ml
B11: FECHA | C11: LOCALIZACIÓN | I11: unidades | J11: TOTAL | K11: ESQUEMA Y/O REGISTRO FOTOGRAFICO
C13: baños niñas | I13: 3 | J13: =SUM(+I13) -> 3
B20: TOTAL ACUMULADO | J20: =SUM(J12:J19) -> 3
B21: TOTAL ANTERIOR | J21: 0
B22: TOTAL | J22: =J20-J21 -> 3
B24: Elaboró | I24: Aprobó
B25: EL CONTRATISTA: | I25: LA INTERVENTORIA
AC30: =+X31*0.01 -> 0
AC34: =+AA34-AB34 -> 0

Sheet red sanitaria 2"
C2: MEMORIA DE CANTIDADES DE OBRA
B5: SOPORTE DEL MEMORIA DE CALCULO | K5: SEPTIEMBRE DE 2025
B6: OBJETO | C6: PRESUPUESTO CONSTRUCCION DE BATERIA DE BAÑOS INSTITUCIÓN EDUCATIVA LUIS A. DUQUE PEÑA SEDE PRINCIPAL BARZALOZA
B7: CAPITULO | C7: 11 | D7: INSTALACIONES HIDROSANITARIAS
B8: ITEM | C8: 11.31 | D8: RED SANITARIA PVC-S/PARAL 2"
N9: ml
B11: FECHA | C11: LOCALIZACIÓN | I11: unidades | J11: TOTAL | K11: ESQUEMA Y/O REGISTRO FOTOGRAFICO
E12: longitud
C13: baños niñas y discapacitados | E13: =SUM(3.42+3.48) -> 6.9 | J13: =SUM(+E13) -> 6.9
B20: TOTAL ACUMULADO | J20: =SUM(J12:J19) -> 6.9
B21: TOTAL ANTERIOR | J21: 0
B22: TOTAL | J22: =J20-J21 -> 6.9
B24: Elaboró | I24: Aprobó
B25: EL CONTRATISTA: | I25: LA INTERVENTORIA
AC30: =+X31*0.01 -> 0
AC34: =+AA34-AB34 -> 0

Sheet red sanitaria de 4"
C2: MEMORIA DE CANTIDADES DE OBRA
B5: SOPORTE DEL MEMORIA DE CALCULO | K5: SEPTIEMBRE DE 2025
B6: OBJETO | C6: PRESUPUESTO CONSTRUCCION DE BATERIA DE BAÑOS INSTITUCIÓN EDUCATIVA LUIS A. DUQUE PEÑA SEDE PRINCIPAL BARZALOZA
B7: CAPITULO | C7: 11 | D7: INSTALACIONES HIDROSANITARIAS
B8: ITEM | C8: 11.33 | D8: RED SANITARIA PVC-S/PARAL 4"
N9: ml
B11: FECHA | C11: LOCALIZACIÓN | E11: longitud | I11: unidades | J11: TOTAL | K11: ESQUEMA Y/O REGISTRO FOTOGRAFICO
C13: baños niñas | E13: 10 | J13: =SUM(+E13) -> 10
B20: TOTAL ACUMULADO | J20: =SUM(J12:J19) -> 10
B21: TOTAL ANTERIOR | J21: 0
B22: TOTAL | J22: =J20-J21 -> 10
B24: Elaboró | I24: Aprobó
B25: EL CONTRATISTA: | I25: LA INTERVENTORIA
AC30: =+X31*0.01 -> 0
AC34: =+AA34-AB34 -> 0

Sheet caja inspeccion
C2: MEMORIA DE CANTIDADES DE OBRA
B5: SOPORTE DEL MEMORIA DE CALCULO | K5: SEPTIEMBRE DE 2025
B6: OBJETO | C6: PRESUPUESTO CONSTRUCCION DE BATERIA DE BAÑOS INSTITUCIÓN EDUCATIVA LUIS A. DUQUE PEÑA SEDE PRINCIPAL BARZALOZA
B7: CAPITULO | D7: INSTALACIONES HIDROSANITARIAS
B8: ITEM | D8: CAJA DE INSPECCION DE 0,60X0,60
N9: ml
B11: FECHA | C11: LOCALIZACIÓN | I11: unidades | J11: TOTAL | K11: ESQUEMA Y/O REGISTRO FOTOGRAFICO
C13: baños niñas y discapacitados | I13: 1 | J13: 2
B20: TOTAL ACUMULADO | J20: =SUM(J12:J19) -> 2
B21: TOTAL ANTERIOR | J21: 0
B22: TOTAL | J22: =J20-J21 -> 2
B24: Elaboró | I24: Aprobó
B25: EL CONTRATISTA: | I25: LA INTERVENTORIA
AC30: =+X31*0.01 -> 0
AC34: =+AA34-AB34 -> 0

Sheet red suministro
C2: MEMORIA DE CANTIDADES DE OBRA
B5: SOPORTE DEL MEMORIA DE CALCULO | K5: SEPTIEMBRE DE 2025
B6: OBJETO | C6: PRESUPUESTO CONSTRUCCION DE BATERIA DE BAÑOS INSTITUCIÓN EDUCATIVA LUIS A. DUQUE PEÑA SEDE PRINCIPAL BARZALOZA
B7: CAPITULO | C7: 11 | D7: INSTALACIONES HIDROSANITARIAS
B8: ITEM | C8: 11.23 | D8: RED SUMINISTRO PVC 1/2"
N9: ML
B11: FECHA | C11: LOCALIZACIÓN | E11: DIMENSIONES | H11: CANTIDAD | I11: AREA TOTAL | J11: TOTAL | K11: ESQUEMA Y/O REGISTRO FOTOGRAFICO
E12: largo | F12: alto | G12: AREA | J12: ACUMULADO
C13: baños niñas y discapacitados | E13: 12 | J13: =SUM(+E13) -> 12
B22: TOTAL ACUMULADO
B23: TOTAL ANTERIOR | J23: 0
B24: =+F13 -> 0 | J24: =SUM(J13:J19) -> 12
B26: Elaboró | I26: Aprobó
B27: EL CONTRATISTA: | I27: LA INTERVENTORIA
AC32: =+X33*0.01 -> 0
AC36: =+AA36-AB36 -> 0

Sheet acometida electr.
C2: MEMORIA DE CANTIDADES DE OBRA
B5: SOPORTE DEL MEMORIA DE CALCULO | K5: SEPTIEMBRE DE 2025
B6: OBJETO | C6: PRESUPUESTO CONSTRUCCION DE BATERIA DE BAÑOS INSTITUCIÓN EDUCATIVA LUIS A. DUQUE PEÑA SEDE PRINCIPAL BARZALOZA
B7: CAPITULO | C7: 12 | D7: INSTALACIONES HIDROSANITARIAS
B8: ITEM | C8: 12.1 | D8: ACOMETIDA AÉREA 10 M. PVC
N9: ML
B11: FECHA | C11: LOCALIZACIÓN | E11: DIMENSIONES | H11: CANTIDAD | I11: AREA TOTAL | J11: TOTAL | K11: ESQUEMA Y/O REGISTRO FOTOGRAFICO
E12: largo | F12: alto | G12: AREA | J12: ACUMULADO
C13: acometida aerea 10m | H13: 1 | J13: =SUM(+H13) -> 1
B22: TOTAL ACUMULADO
B23: TOTAL ANTERIOR | J23: 0
B24: =+F13 -> 0 | J24: =SUM(J13:J19) -> 1
B26: Elaboró | I26: Aprobó
B27: EL CONTRATISTA: | I27: LA INTERVENTORIA
AC32: =+X33*0.01 -> 0
AC36: =+AA36-AB36 -> 0

Sheet salida lampara
C2: MEMORIA DE CANTIDADES DE OBRA
B5: SOPORTE DEL MEMORIA DE CALCULO | K5: SEPTIEMBRE DE 2025
B6: OBJETO | C6: PRESUPUESTO CONSTRUCCION DE BATERIA DE BAÑOS INSTITUCIÓN EDUCATIVA LUIS A. DUQUE PEÑA SEDE PRINCIPAL BARZALOZA
B7: CAPITULO | C7: 12 | D7: INSTALACIONES HIDROSANITARIAS
B8: ITEM | C8: 12.2 | D8: SALIDA LÁMPARA TOMA EMT COMPLETA
N9: ML
B11: FECHA | C11: LOCALIZACIÓN | E11: DIMENSIONES | H11: CANTIDAD | I11: AREA TOTAL | J11: TOTAL | K11: ESQUEMA Y/O REGISTRO FOTOGRAFICO
E12: largo | F12: alto | G12: AREA | J12: ACUMULADO
C13: baños niñas y discapacitados | H13: 3 | J13: =SUM(+H13) -> 3
B22: TOTAL ACUMULADO
B23: TOTAL ANTERIOR | J23: 0
B24: =+F13 -> 0 | J24: =SUM(J13:J19) -> 3
B26: Elaboró | I26: Aprobó
B27: EL CONTRATISTA: | I27: LA INTERVENTORIA
AC32: =+X33*0.01 -> 0
AC36: =+AA36-AB36 -> 0

Sheet tuberia conduit
C2: MEMORIA DE CANTIDADES DE OBRA
B5: SOPORTE DEL MEMORIA DE CALCULO | K5: SEPTIEMBRE DE 2025
B6: OBJETO | C6: PRESUPUESTO CONSTRUCCION DE BATERIA DE BAÑOS INSTITUCIÓN EDUCATIVA LUIS A. DUQUE PEÑA SEDE PRINCIPAL BARZALOZA
B7: CAPITULO | C7: 12
B8: ITEM | C8: 12.16 | D8: TUBERÍA PVC CONDUIT 1/2"
N9: ML
B11: FECHA | C11: LOCALIZACIÓN | E11: DIMENSIONES | H11: CANTIDAD | I11: AREA TOTAL | J11: TOTAL | K11: ESQUEMA Y/O REGISTRO FOTOGRAFICO
E12: largo | F12: alto | G12: AREA | J12: ACUMULADO
C13: baños niñas y discapacitados | E13: 15 | J13: =SUM(+E13) -> 15
B22: TOTAL ACUMULADO
B23: TOTAL ANTERIOR | J23: 0
B24: =+F13 -> 0 | J24: =SUM(J13:J19) -> 15
B26: Elaboró | I26: Aprobó
B27: EL CONTRATISTA: | I27: LA INTERVENTORIA
AC32: =+X33*0.01 -> 0
AC36: =+AA36-AB36 -> 0

Sheet placa piso
C2: MEMORIA DE CANTIDADES DE OBRA
B5: SOPORTE DEL MEMORIA DE CALCULO | K5: SEPTIEMBRE DE 2025
B6: OBJETO | C6: PRESUPUESTO CONSTRUCCION DE BATERIA DE BAÑOS INSTITUCIÓN EDUCATIVA LUIS A. DUQUE PEÑA SEDE PRINCIPAL BARZALOZA
B7: CAPITULO | C7: 13 | D7: PISOS BASES
B8: ITEM | C8: 13.13 | D8: PLACA BASE CONCRETO 0.10 2500 PSI | N8: UNIDAD
N9: M2
B11: FECHA | C11: LOCALIZACIÓN | E11: DIMENSIONES | H11: CANTIDAD | I11: AREA TOTAL | J11: TOTAL | K11: ESQUEMA Y/O REGISTRO FOTOGRAFICO
E12: largo | F12: ancho | G12: AREA | J12: ACUMULADO
C13: area piso baños niñas | E13: 3.1 | F13: 2.88 | G13: =SUM(E13*F13) -> 8.928 | J13: =SUM(+G13) -> 8.928
C14: anden de entrada | E14: 1 | F14: 1 | G14: =SUM(E14*F14) -> 1 | J14: =SUM(+G14) -> 1
B20: TOTAL ACUMULADO | J20: =SUM(J13:J19) -> 9.928
B21: TOTAL ANTERIOR | J21: 0
B22: TOTAL | J22: =J20-J21 -> 9.928
B24: Elaboró | I24: Aprobó
B25: EL CONTRATISTA: | I25: LA INTERVENTORIA
J29: 2
J30: 3.1 | AC30: =+X31*0.01 -> 0
J31: 5.1
J32: 2.3
J33: 1.7
J34: 0.88 | AC34: =+AA34-AB34 -> 0
J35: 2.25
J37: =SUM(J29:J36) -> 17.33
J38: 0.15
J40: =SUM(J37*J38) -> 2.5995

Sheet alistado piso
C2: MEMORIA DE CANTIDADES DE OBRA
B5: SOPORTE DEL MEMORIA DE CALCULO | K5: SEPTIEMBRE DE 2025
B6: OBJETO | C6: PRESUPUESTO CONSTRUCCION DE BATERIA DE BAÑOS INSTITUCIÓN EDUCATIVA LUIS A. DUQUE PEÑA SEDE PRINCIPAL BARZALOZA
B7: CAPITULO | C7: 10 | D7: PISOS BASES
B8: ITEM | C8: 10.4 | D8: ALISTADO PISOS 1:3, E=0.04 | N8: UNIDAD
N9: M2
B11: FECHA | C11: LOCALIZACIÓN | E11: DIMENSIONES | H11: CANTIDAD | I11: AREA TOTAL | J11: TOTAL | K11: ESQUEMA Y/O REGISTRO FOTOGRAFICO
E12: largo | F12: ancho | G12: AREA | J12: ACUMULADO
C13: area piso baños niñas | E13: 3.1 | F13: 2.88 | G13: =SUM(E13*F13) -> 8.928 | J13: =SUM(+G13) -> 8.928
C14: anden de entrada | E14: 1 | F14: 1 | G14: =SUM(E14*F14) -> 1 | J14: =SUM(+G14) -> 1
B20: TOTAL ACUMULADO | J20: =SUM(J13:J19) -> 9.928
B21: TOTAL ANTERIOR | J21: 0
B22: TOTAL | J22: =J20-J21 -> 9.928
B24: Elaboró | I24: Aprobó
B25: EL CONTRATISTA: | I25: LA INTERVENTORIA
AC30: =+X31*0.01 -> 0
AC34: =+AA34-AB34 -> 0

Sheet baldosa pared
C2: MEMORIA DE CANTIDADES DE OBRA
B5: SOPORTE DEL MEMORIA DE CALCULO | M5: SEPTIEMBRE DE 2025
B6: OBJETO | C6: PRESUPUESTO CONSTRUCCION DE BATERIA DE BAÑOS INSTITUCIÓN EDUCATIVA LUIS A. DUQUE PEÑA SEDE PRINCIPAL BARZALOZA
B7: CAPITULO | C7: 14 | D7: PISOS,ACABADOS,ENCHAPES Y ACCESORIOS
B8: ITEM | C8: 14.1 | D8: BALDOSA CERÁMICA PISO-PARED 20X20 CALIDAD PRIMERA
P9: M2
B11: FECHA | C11: LOCALIZACIÓN | E11: DIMENSIONES | I11: menos area ventanas y puertas | J11: AREA TOTAL | K11: unidades | L11: TOTAL | M11: ESQUEMA Y/O REGISTRO FOTOGRAFICO
E12: alto | F12: ancho | G12: largo | H12: AREA | L12: ACUMULADO
C13: baño niñas | E13: 1.2 | G13: 3.1 | H13: =SUM(E13*G13) -> 3.72 | L13: =SUM(+H13) -> 3.72
E14: 1.2 | G14: 2.88 | H14: =SUM(E14*G14) -> 3.456 | L14: =SUM(+H14) -> 3.456
E15: 1.2 | G15: 2.1 | H15: =SUM(E15*G15) -> 2.52 | L15: =SUM(+H15) -> 2.52
E16: 1.2 | G16: 2.88 | H16: =SUM(E16*G16) -> 3.456 | L16: =SUM(+H16) -> 3.456
B20: TOTAL ACUMULADO | L20: =SUM(L13:L19) -> 13.152
B21: TOTAL ANTERIOR | L21: 0
B22: TOTAL | L22: =L20-L21 -> 13.152
B24: Elaboró | J24: Aprobó
B25: EL CONTRATISTA: | J25: LA INTERVENTORIA
C29: MEMORIA DE CANTIDADES DE OBRA
AE30: =+Z31*0.01 -> 0
B32: SOPORTE DEL MEMORIA DE CALCULO | M32: SEPTIEMBRE DE 2025
B33: OBJETO | C33: PRESUPUESTO CONSTRUCCION DE BATERIA DE BAÑOS INSTITUCIÓN EDUCATIVA LUIS A. DUQUE PEÑA SEDE PRINCIPAL BARZALOZA
B34: CAPITULO | C34: 14 | D34: PISOS,ACABADOS,ENCHAPES Y ACCESORIOS | AE34: =+AC34-AD34 -> 0
B35: ITEM | C35: 14.1 | D35: BALDOSA CERÁMICA PISO-PARED 20X20 CALIDAD PRIMERA
P36: M2
B38: FECHA | C38: LOCALIZACIÓN | E38: DIMENSIONES | I38: menos area ventanas y puertas | J38: AREA TOTAL | K38: unidades | L38: TOTAL | M38: ESQUEMA Y/O REGISTRO FOTOGRAFICO
E39: alto | F39: ancho | G39: largo | H39: AREA | L39: ACUMULADO
C40: baño niñas | E40: 1.5 | F40: 1.18 | H40: =SUM(E40*F40) -> 1.77 | I40: 1 | K40: 5 | L40: =SUM(H40*I40*K40) -> 8.85
E41: 1.5 | F41: 1.37 | H41: =SUM(E41*F41) -> 2.055 | I41: 2 | K41: 5 | L41: =SUM(H41*I41*K41) -> 20.55
E42: 1.5 | F42: 0.34 | H42: =SUM(E42*F42) -> 0.51 | I42: 1 | K42: 5 | L42: =SUM(H42*I42*K42) -> 2.55
E43: 1.5 | F43: 0.12 | H43: =SUM(E43*F43) -> 0.18 | I43: 1 | K43: 5 | L43: =SUM(H43*I43*K43) -> 0.9
B47: TOTAL ACUMULADO | L47: =SUM(L40:L46) -> 32.85
B48: TOTAL ANTERIOR | L48: 0
B49: TOTAL | L49: =L47-L48 -> 32.85
B51: Elaboró | J51: Aprobó
B52: EL CONTRATISTA: | J52: LA INTERVENTORIA

Sheet baldosa piso
C2: MEMORIA DE CANTIDADES DE OBRA
B5: SOPORTE DEL MEMORIA DE CALCULO | M5: SEPTIEMBRE DE 2025
B6: OBJETO | C6: PRESUPUESTO CONSTRUCCION DE BATERIA DE BAÑOS INSTITUCIÓN EDUCATIVA LUIS A. DUQUE PEÑA SEDE PRINCIPAL BARZALOZA
B7: CAPITULO | C7: 3.2 | D7: PISOS,ACABADOS,ENCHAPES Y ACCESORIOS
B8: ITEM | C8: 14.41 | D8: CERÁMICA PISO TRÁFICO 5, CALIDAD PRIMERA
P9: M2
B11: FECHA | C11: LOCALIZACIÓN | E11: DIMENSIONES | I11: menos area ventanas y puertas | J11: AREA TOTAL | K11: unidades | L11: TOTAL | M11: ESQUEMA Y/O REGISTRO FOTOGRAFICO
E12: largo | F12: ancho | G12: AREA | H12: AREA | L12: ACUMULADO
C13: area piso baños niñas | E13: 3.1 | F13: 2.88 | G13: =SUM(E13*F13) -> 8.928 | H13: =SUM(+G13) -> 8.928 | L13: =SUM(H13-I13) -> 8.928
E14: 1 | F14: 1 | G14: =SUM(E14*F14) -> 1 | H14: =SUM(+G14) -> 1 | L14: =SUM(H14-I14) -> 1
B20: TOTAL ACUMULADO | L20: =SUM(L13:L19) -> 9.928
B21: TOTAL ANTERIOR | L21: 0
B22: TOTAL | L22: =L20-L21 -> 9.928
B24: Elaboró | J24: Aprobó
B25: EL CONTRATISTA: | J25: LA INTERVENTORIA
