Workbook
Name contratación: 'IDENTIFICACION Y ANALISIS'!$B$39:$B$43
Name ejecución: 'IDENTIFICACION Y ANALISIS'!$B$45:$B$68
Name OPCIONES: 'ASIGNACION Y TRATAMIENTO'!$B$42:$B$44
Name planeación: 'IDENTIFICACION Y ANALISIS'!$B$19:$B$29
Name selección: 'IDENTIFICACION Y ANALISIS'!$B$31:$B$37

Sheet CONTEXTO
C2: MATRIZ DE RIESGOS EN CONTRATACIÓN | F2: Código: GCO-GCI-F164 Versión: 02 Vigencia: 01 de diciembre de 2022 Caso HOLA: 280117
B6: ESTABLECER EL CONTEXTO
B7: El punto inicial es identificar el contexto en el cual interactúa la Entidad Estatal para conocer el ambiente social, económico y político, e identificar (i) sus propios Riesgos; (ii) los Riesgos comunes a sus Procesos de Contratación; y (iii) los Riesgos del Proceso de Contratación en particular. (Aplica igual para contratos interadministrativos) En este paso la Entidad Estatal debe identificar los aspectos que se mencionan a continuación y los posibles efectos adversos que estos pueden generar.
B8: Objeto del Proceso de Contratación
B9: Partícipes del Proceso de Contratación: Agentes externos (Organismos de control, veedurías ciudadanas), agentes internos (supervisores, funcionarios y demás usuarios).
B10: Ciudadanía que se beneficia del Proceso de Contratación: Agentes internos (funcionarios, pasantes) y externos (contratistas, visitantes y usuarios externos en general)
B11: Capacidad de la Entidad Estatal entendida como la disponibilidad de recursos y conocimientos para el Proceso de Contratación: La disponibilidad de la Entidad de sus recursos y el conocimiento de su equipo humano se refleja en los diferentes funcionarios que participarán en las diversas etapas del proceso de selección: participan las áreas que requieren los procesos de contratación (Etapa de Planeación), Dirección de Contratación, Comité Evaluador (Etapa de selección), Dirección de Contratación (Etapa de contratación) y la supervisión y apoyos a la misma (Estapa de Ejecución).
B12: Suficiencia del presupuesto oficial del Proceso de Contratación: De acuerdo al Plan Anual de Adquisiciones se deben estimar los recursos necesarios para el desarrollo del proceso de la contratación, el cual tendrá el soporte presupuestal suficiente para su desarrollo.
B13: Condiciones geográficas y de acceso del lugar en el cual se debe cumplir el objeto del Proceso de Contratación: El suministro, obra o servicio se prestará principalmente en las Sedes de la Entidad, o en el lugar indicado en los estudios previos del proceso.
B14: Entorno socio ambiental: Si aplican
B15: Condiciones políticas: Si aplican
B16: Factores ambientales.
B17: Sector del objeto del Proceso de Contratación y su mercado.
... B19: Experiencia propia y de otras Entidades Estatales en Procesos de Contratación del mismo tipo.

Sheet IDENTIFICACION Y ANALISIS
C2: MATRIZ DE RIESGOS DE CONTRATACIÓN | F2: Código: GCO-GCI-F164 Versión: 02 Vigencia: 01 de diciembre de 2022 Caso HOLA: 280117
B6: DEFINICIONES
B7: RIESGO: Evento que puede generar efectos adversos y de distinta magnitud en el logro de los objetivos del Proceso de Contratación o en la ejecución de un contrato RIESGOS PREVISIBLES: Son los posibles hechos o circunstancias que por la naturaleza del contrato y de la actividad a ejecutar es factible su ocurrencia. ETAPA DE PLANEACIÓN: Está comprendida desde el momento en que se identifican las necesidades que debe satisfacer la Secretaría Distrital de Gobierno y los Fondos de Desarrollo Local, a través del abastecimiento de bienes, obras o servicios, la elaboración del Plan Anual de Adquisiciones y la estructuración de los documentos y estudios previos. ETAPA DE SELECCIÓN: Está comprendida entre el acto de Apertura del Proceso de Contratación y la Adjudicación o la declaración de desierto del Proceso de Contratación ETAPA DE CONTRATACIÓN: Una vez adjudicado el contrato objeto del Proceso de Contratación, inicia la etapa para la celebración del contrato y el cumplimiento de los requisitos para de perfeccionamiento y ejecución. ETAPA DE EJECUCIÓN: Inicia una vez cumplidos los requisitos previstos para iniciar la ejecución del contrato respectivo y termina con el vencimiento del plazo del contrato o la fecha de liquidación si hay lugar a ella. RIESGO GENERAL: Es un riesgo de todos los procesos de contratación adelantados por la Entidad Estatal, por lo cual está presente en toda su actividad contractual. RIEGO ESPECIFICO: Es un riesgo propio del proceso de contratación objeto de análisis. RIESGOS ECONÓMICOS: Son los derivados del comportamiento del mercado, tales como la fluctuación de los precios de los insumos, desabastecimiento y especulación de los mismos, entre otros. RIESGOS SOCIALES O POLÍTICOS: son los derivados de los cambios de las políticas gubernamentales y de cambios en las condiciones sociales que tengan impacto en la ejecución del contrato. RIESGOS OPERACIONALES: Son los asociados a la operatividad del contrato, tales como la suficiencia del presupuesto oficial, del plazo o los derivados de procesos, procedimientos, parámetros, sistemas de información y tecnológicos, equipos humanos o técnicos inadecuados o insuficientes. RIESGOS FINANCIEROS: Son (i) el riesgo de consecución de financiación o riesgo de liquidez para obtener recursos para cumplir con el objeto del contrato, y (ii) el riesgo de las condiciones financieras establecidas para la obtención de los recursos, tales como plazos, tasas, garantías, contragarantías, y refinanciaciones, entre otros. RIESGOS REGULATORIOS: Derivados de cambios regulatorios o reglamentarios que afecten la ecuación económica del contrato. RIESGOS DE LA NATURALEZA: Son los eventos naturales previsibles en los cuales no hay intervención humana que puedan tener impacto en la ejecución del contrato, por ejemplo los temblores, inundaciones, lluvias, sequías, entre otros. RIESGOS AMBIENTALES: Son los derivados de las obligaciones legales o reglamentarias de carácter ambiental, así como de las licencias, planes de manejo o de permisos y autorizaciones ambientales, incluyendo tasas retributivas y compensatorias, obligaciones de mitigación, tareas de monitoreo y control, entre otras. RIESGOS TECNOLÓGICOS: Son los derivados de fallas en los sistemas de comunicación de voz y de datos, suspensión de servicios públicos, nuevos desarrollos tecnológicos o estándares que deben ser tenidos en cuenta para la ejecución del contrato, obsolescencia tecnológica.
B15: INSTRUCCIONES PARA LA IDENTIFICACIÓN, ANALISIS, EVALUACIÓN , ASIGNACIÓN Y TRATAMIENTO DE RIESGOS EN LA CONTRATACIÓN
B16: 1) Identifique los riesgos previsibles que le apliquen al objeto contractual que se adelante. Los relacionados a continuación se establecen de manera general y como proforma. No obstante, si del objeto contractual se identifican otros riesgos diferentes a los aquí determinados, por favor reemplace el texto de la casilla teniendo en cuenta la etapa del proceso. Así mismo, seleccione la clase, fuente y el tipo (Operacional, Económico, Sociales o Políticos, Regulatorios, Financieros, Tecnológicos, De la naturaleza, Ambientales) 2) Continúe en la hoja de "EVALUACIÓN" (SI EXISTEN DUDAS CONCEPTUALES PARA LA ELABORACIÓN DE LA MATRIZ DE RIESGO CONSULTE EL MANUAL PARA LA IDENTIFICACIÓN Y COBERTURA DEL RIESGO EN LOS PROCESOS DE CONTRATACIÓN EXPEDIDO POR COLOMBIA COMPRA EFICIENTE Y LA GUÍA DE RIESGOS PREVISIBLES CONTRACTUALES, EXPEDIDA POR LA VEEDURÍA DISTRITAL)
C17: ETAPAS | D17: CLASE | E17: FUENTE | F17: TIPO
C18: PLANEACIÓN
B19: Inadecuada escogencia de la modalidad de contratación | D19: General | E19: Interno | F19: Operacionales
B20: Requisitos habilitantes inapropiados para el proceso de selección | D20: General | E20: Interno | F20: Operacionales
B21: Inadecuado análisis económico estimativo del valor del contrato | D21: General | E21: Interno | F21: Economicos
B22: Inadecuada descripción del bien o servicio requerido | D22: General | E22: Interno | F22: Operacionales
B23: Inadecuada elaboración de estudios y diseños | D23: General | E23: Interno | F23: Operacionales
B24: Requisitos habilitantes que impidan la selección objetiva | D24: General | E24: Interno | F24: Operacionales
B25: Falta de profundidad en el estudio de sector no identificandose claramente aspectos de oferta y demanda | D25: General | E25: Interno | F25: Economicos
B26: Ausencia de fundamentación de la justificación y conveniencia de la contratación | D26: General | E26: Interno | F26: Operacionales
B27: Inadecuada identificación de las condiciones contractuales | D27: General | E27: Interno | F27: Operacionales
B28: No aprobación o demoras en la expedición vigencias futuras | D28: General | E28: Interno | F28: Operacionales
B29: Apertura de procesos sin disponibilidad presupuestal | D29: General | E29: Interno | F29: Operacionales
C30: SELECCIÓN
B31: Inadecuada evaluación de las ofertas y/o verificación de requisitos habilitantes | D31: Especifico | E31: Interno | F31: Operacionales
B32: Inadecuado manejo administrativo del proceso contractual | D32: Especifico | E32: Interno | F32: Operacionales
B33: Falta de claridad en la elaboración de los actos administrativos | D33: General | E33: Interno | F33: Operacionales
B34: Contestación inoportuna a todas las observaciones formuladas a los documentos de la contratación | D34: Estatal | E34: Interno | F34: Operacionales
B35: No publicación de la documentación del proceso de selección en el SECOP | D35: Estatal | E35: Interno | F35: Operacionales
B36: Confabulacion de los proponentes (Colusión) | D36: Especifico | E36: Externo | F36: Operacionales
B37: Selección de ofertas con precios artificialmente bajos. | D37: Especifico | E37: Externo | F37: Operacionales
C38: CONTRATACIÓN
B39: Riesgo de que no se firme el contrato. | D39: General | E39: Interno | F39: Operacionales
B40: Falta de constitución o constitución tardía de la garantía única. Aceptación de garantías que no se ajustan a lo contemplado en el contrato | D40: Especifico | E40: Interno | F40: Operacionales
B41: Falta de solicitud o solicitud tardía del registro presupuestal | D41: General | E41: Interno | F41: Operacionales
B42: No publicación de la documentación del proceso de selección en el SECOP | D42: General | E42: Interno | F42: Operacionales
B43: Presentación de reclamos de terceros sobre la selección del oferente que retrasen el perfeccionamiento del contrato. | D43: Especifico | E43: Externo | F43: Operacionales
C44: EJECUCIÓN
B45: Fluctuaciones del valor de la moneda | D45: General | E45: Externo | F45: Economicos
B46: Cambio de precios en factores de producción. | D46: General | E46: Externo | F46: Economicos
B47: Variación de los precios del mercado | D47: General | E47: Externo | F47: Economicos
B48: Factores políticos o macroeconómicos. | D48: General | E48: Externo | F48: Sociales o Políticos
B49: Cancelación de pedidos. | D49: General | E49: Externo | F49: Economicos
B50: Variación en la disponibilidad o en el costo de los insumos necesarios para prestar los servicios. | D50: General | E50: Externo | F50: Economicos
B51: Incumplimiento de compromisos adquiridos por el contratista seleccionado con sus subcontratistas, suministradores de bienes y servicios. | D51: Especifico | E51: Externo | F51: Economicos
...

Sheet EVALUACION
C2: MATRIZ DE RIESGOS DE CONTRATACIÓN | K2: Código: GCO-GCI-F164 Versión: 02 Vigencia: 01 de diciembre de 2022 Caso HOLA: 280117
B6: Objeto Contractual: "CONTRATAR LA ADQUISICIÓN DE EQUIPOS DE PRENSA PARA EL FORTALECIMIENTO TÉCNICO, LOGÍSTICO Y OPERATIVO DE LAS FUNCIONES DEL ÁREA DE COMUNICACIONES DEL FDLSC"
B7: INSTRUCCIONES PARA LA IDENTIFICACIÓN, ANALISIS, EVALUACIÓN , ASIGNACIÓN Y TRATAMIENTO DE RIESGOS EN LA CONTRATACIÓN
B8: 1) Diligencie el objeto contractual y seleccione la(s) etapas y los riesgos que aplican al objeto contractual, de acuerdo a lo definido en la hoja de "IDENTIFICACIÓN Y ANÁLISIS"
B9: 2) Describa las consecuencias de la ocurrencia del Riesgo/evento.
B10: 3) Asigne la probabilidad de ocurrencia del riesgo, de conformidad con la tabla de probabilidad y la valoración del riesgo (Cualitativa o Monetaria)
B11: 4) Asigne el impacto que generaría la materialización del riesgo, de conformidad con la tabla de impacto y la valoración del riesgo (Cualitativa o Monetaria)
B12: 5) Al realizar las anteriores actividades se obtendrá la calificación total y la valoración del riesgo (prioridad).
B13: 6) Continúe en la hoja de "EVALUACIÓN DE CONTROLES"
B15: CALIFICACIÓN | H15: Cualitativa
B16: ETAPA | C16: Descripción (Que puede pasar y, cómo puede ocurrir) | H16: Consecuencias de la ocurrencia del evento | I16: Probabilidad de Ocurrencia | J16: Impacto | K16: Calificación Total | L16: Prioridad
B17: PLANEACIÓN | C17: Inadecuada escogencia de la modalidad de contratación | G17: El proceso de planeación de los documentos de estudios y diseños se ven afectados por el desconocimiento de la normatividad legal vigente. | I17: 1 | J17: 3 | K17: =+I17+J17 -> 4 | L17: =IF(K17<=4,"BAJO",IF(K17=5,"MEDIO",IF(K17=6,"ALTO",IF(K17=7,"ALTO","EXTREMO")))) -> BAJO
B18: CONTRATACIÓN | C18: No publicación de la documentación del proceso de selección en el SECOP | G18: Que se declare desierto el proceso de selección | I18: 2 | J18: 2 | K18: =+I18+J18 -> 4 | L18: =IF(K18<=4,"BAJO",IF(K18=5,"MEDIO",IF(K18=6,"ALTO",IF(K18=7,"ALTO","EXTREMO")))) -> BAJO
B19: SELECCIÓN | C19: Inadecuada evaluación de las ofertas y/o verificación de requisitos habilitantes | G19: Selección de ofertas con precios artificialmente bajos. | I19: =+[1]EVALUACION!I20 -> 2 | J19: 4 | K19: =+I19+J19 -> 6 | L19: =IF(K19<=4,"BAJO",IF(K19=5,"MEDIO",IF(K19=6,"ALTO",IF(K19=7,"ALTO","EXTREMO")))) -> ALTO
B20: CONTRATACIÓN | C20: Selección de ofertas con precios artificialmente bajos. | G20: Inadecuado manejo administrativo del proceso contractual | I20: =+[1]EVALUACION!I21 -> 2 | J20: 4 | K20: =+I20+J20 -> 6 | L20: =IF(K20<=4,"BAJO",IF(K20=5,"MEDIO",IF(K20=6,"ALTO",IF(K20=7,"ALTO","EXTREMO")))) -> ALTO
B21: =+[1]EVALUACION!B22 -> EJECUCIÓN | C21: Obsolecencia técnologica | G21: la adquisición de tecnología desactualizada o con poca vida útil, lo cual limita la eficiencia operativa, reduce la compatibilidad con nuevos sistemas y herramientas, y afecta la capacidad de respuesta del área de comunicaciones. | I21: 2 | J21: 3 | K21: =+I21+J21 -> 5 | L21: =IF(K21<=4,"BAJO",IF(K21=5,"MEDIO",IF(K21=6,"ALTO",IF(K21=7,"ALTO","EXTREMO")))) -> MEDIO
B22: =+[1]EVALUACION!B23 -> EJECUCIÓN | C22: =+[1]EVALUACION!C23 -> Variación de los precios del mercado | G22: Desequilibrio económico del contrato | I22: 1 | J22: 3 | K22: =+I22+J22 -> 4 | L22: =IF(K22<=4,"BAJO",IF(K22=5,"MEDIO",IF(K22=6,"ALTO",IF(K22=7,"ALTO","EXTREMO")))) -> BAJO
B23: =+[1]EVALUACION!B24 -> CONTRATACIÓN | C23: =+[1]EVALUACION!C24 -> Riesgo de que no se firme el contrato. | G23: No poder ejecutar los recursos asignados al contrato y la consecuente afectacion de los compromisos de la Entidad | I23: 1 | J23: 3 | K23: =+I23+J23 -> 4 | L23: =IF(K23<=4,"BAJO",IF(K23=5,"MEDIO",IF(K23=6,"ALTO",IF(K23=7,"ALTO","EXTREMO")))) -> BAJO
B24: =+[1]EVALUACION!B25 -> EJECUCIÓN | C24: =+[1]EVALUACION!C25 -> Defectos en los equipos. | G24: Suspension temporal o retraso en la ejecución del contrato. | I24: 2 | J24: 4 | K24: =+I24+J24 -> 6 | L24: =IF(K24<=4,"BAJO",IF(K24=5,"MEDIO",IF(K24=6,"ALTO",IF(K24=7,"ALTO","EXTREMO")))) -> ALTO
B25: =+[1]EVALUACION!B26 -> EJECUCIÓN | C25: =+[1]EVALUACION!C26 -> Defecto en la instalación de equipos | G25: Verificar la correcta instalación previa a la entrega y realizar pruebas de funcionamiento | I25: 2 | J25: 4 | K25: =+I25+J25 -> 6 | L25: =IF(K25<=4,"BAJO",IF(K25=5,"MEDIO",IF(K25=6,"ALTO",IF(K25=7,"ALTO","EXTREMO")))) -> ALTO
B26: =+[1]EVALUACION!B27 -> EJECUCIÓN | C26: =+[1]EVALUACION!C27 -> Incumplimiento de compromisos adquiridos por el contratista seleccionado con sus subcontratistas, suministradores de bienes y servicios. | G26: Suspension temporal o retraso en la ejecución del contrato. | I26: 2 | J26: 4 | K26: =+I26+J26 -> 6 | L26: =IF(K26<=4,"BAJO",IF(K26=5,"MEDIO",IF(K26=6,"ALTO",IF(K26=7,"ALTO","EXTREMO")))) -> ALTO
B29: Probabilidad | C29: Catagoria | E29: Valoración | G29: Impacto | H29: Categoria | I29: Valoración
C30: Raro (puede ocurrir excepcionalmente) | E30: 1 | H30: Insignificante | I30: 1
C31: Improbable (puede ocurrir ocasionalmente) | E31: 2 | H31: Menor | I31: 2
C32: Posible (puede ocurrir en cualquier momento futuro) | E32: 3 | H32: Moderado | I32: 3
C33: Probable (probablemente va a ocurrir) | E33: 4 | H33: Mayor | I33: 4
C34: Casi cierto (ocurre en la mayoria de circunstancias) | E34: 5 | H34: Catastrófico | I34: 5
C36: Valoración del Riesgo
C37: Calificación Cualitativa | F37: Obstruye la ejecución del contrato de manera intrascendente. | G37: Dificulta la ejecución del contrato de manera baja, aplicando medidas mínimas se pueden lograr el objeto contractual | H37: Afecta la ejecución del contrato sin alterar el beneficio para las partes | I37: Obstruye la ejecución del contrato sustancialmente pero aun así permite la consecución del objeto contractual | K37: Perturba la ejecución del contrato de manera grave imposibilitando la consecución del objeto contractual.
C38: Calificación Monetaria | F38: Los sobrecostos no representan más del uno por ciento (1%) del valor del contrato. | G38: Los sobrecostos no representan más del cinco por ciento (5%) del valor del contrato. | H38: Genera un impacto sobre el valor del contrato entre el cinco (5%) y el quince por ciento (15%). | I38: Incrementa el valor del contrato entre el quince (15%) y el treinta por ciento (30%). | K38: Impacto sobre el valor del contrato en más del treinta por ciento (30%).
C39: Categoría | E39: Valoración | F39: Insignificante | G39: Menor | H39: Moderado | I39: Mayor | K39: Catastrófico
F40: 1 | G40: 2 | H40: 3 | I40: 4 | K40: 5
C41: Raro (puede ocurrir excepcionalmente) | E41: 1 | F41: 2 | G41: 3 | H41: 4 | I41: 5 | K41: 6
C42: Improbable (puede ocurrir ocasionalmente) | E42: 2 | F42: 3 | G42: 4 | H42: 5 | I42: 6 | K42: 7
C43: Posible (puede ocurrir en cualquier momento futuro) | E43: 3 | F43: 4 | G43: 5 | H43: 6 | I43: 7 | K43: 8
C44: Probable (probablemente va a ocurrir) | E44: 4 | F44: 5 | G44: 6 | H44: 7 | I44: 8 | K44: 9
C45: Casi cierto (ocurre en la mayoria de circunstancias) | E45: 5 | F45: 6 | G45: 7 | H45: 8 | I45: 9 | K45: 10
G47: Categoria del Riesgo
G48: Valoración del Riesgo | H48: Categoría
G49: 8, 9 y 10 | H49: Riesgo extremo
...

Sheet EVALUACION CON CONTROLES
C2: MATRIZ DE RIESGOS DE CONTRATACIÓN | Q2: Código: GCO-GCI-F164 Versión: 02 Vigencia: 01 de diciembre de 2022 Caso HOLA: 280117
B6: =+EVALUACION!B6 -> Objeto Contractual: "CONTRATAR LA ADQUISICIÓN DE EQUIPOS DE PRENSA PARA EL FORTALECIMIENTO TÉCNICO, LOGÍSTICO Y OPERATIVO DE LAS FUNCIONES DEL ÁREA DE COMUNICACIONES DEL FDLSC"
B7: INSTRUCCIONES PARA LA IDENTIFICACIÓN, ANALISIS, EVALUACIÓN , ASIGNACIÓN Y TRATAMIENTO DE RIESGOS EN LA CONTRATACIÓN
B8: 1) Describa el tratamiento/controles a ser implementados
B9: 2) Diligencie la información de las siguientes columnas, de acuerdo con el análisis realizado a cada riesgo: Afecta el equilibrio económico, persona responsable de implementar el tratamiento, fecha estimada de inicio del tratamiento, fecha estimada en la que se completa el tratamiento, cómo se realiza el monitoreo y la periodicidad.
B10: 3) Continúe en la hoja de "ASIGNACIÓN Y TRATAMIENTO" y diligencie las siguientes casillas: A quien se le asigna y el porcentaje que asume cada una de las partes en caso de que sea compartido.
B15: ETAPA | C15: Descripción (Que puede pasar y, cómo puede ocurrir) | G15: Tratamiento/Controles a ser implementados | I15: Probabilidad de Ocurrencia | J15: Impacto | K15: Calificación Total | L15: Prioridad | M15: ¿Afecta el equilibrio económico del contrato? | N15: Persona responsable por implementar el tratamiento | O15: Fecha estimada en que se inicia el tratamiento | P15: Fecha estimada en que se completa el tratamiento | Q15: ¿Cómo se realiza el monitoreo? | R15: Periodicidad ¿Cuándo?
B16: =+EVALUACION!B17 -> PLANEACIÓN | C16: =+EVALUACION!C17 -> Inadecuada escogencia de la modalidad de contratación | G16: Para mitigar su ocurrencia se debe hacer un estudio en contexto del objeto a contratar, las obligaciones y las entregas del contratista, entre la dependencia solicitante y la oficina asesora jurídica. | I16: =+EVALUACION!I17 -> 1 | J16: =+EVALUACION!J17 -> 3 | K16: =+I16+J16 -> 4 | L16: =IF(K16<=4,"BAJO",IF(K16=5,"MEDIO",IF(K16=6,"ALTO",IF(K16=7,"ALTO","EXTREMO")))) -> BAJO | M16: NO | N16: Área tecnica, financiera y juridica a cargo del proceso | O16: Desde la estructuración del proceso | P16: Hasta la ejecución del contrato | Q16: Al momento de la evaluación del proceso | R16: Durante la planeación y evaluación
B17: =+EVALUACION!B18 -> CONTRATACIÓN | C17: =+EVALUACION!C18 -> No publicación de la documentación del proceso de selección en el SECOP | G17: Falta de constitución o constitución tardía de la garantía única. Aceptación de garantías que no se ajustan a lo contemplado en el contrato | I17: =+EVALUACION!I18 -> 2 | J17: =+EVALUACION!J18 -> 2 | K17: =+I17+J17 -> 4 | L17: =IF(K17<=4,"BAJO",IF(K17=5,"MEDIO",IF(K17=6,"ALTO",IF(K17=7,"ALTO","EXTREMO")))) -> BAJO | M17: NO | N17: Área tecnica, financiera y juridica a cargo del proceso | O17: Desde la estructuración del proceso | P17: Hasta la ejecución del contrato | Q17: Al momento de la evaluación del proceso | R17: Cuando ocurra, y se aplicara de manera inmediata
B18: =+EVALUACION!B19 -> SELECCIÓN | C18: =+EVALUACION!C19 -> Inadecuada evaluación de las ofertas y/o verificación de requisitos habilitantes | G18: Selección de ofertas con precios artificialmente bajos. | I18: =+EVALUACION!I19 -> 2 | J18: =+EVALUACION!J19 -> 4 | K18: =+I18+J18 -> 6 | L18: =IF(K18<=4,"BAJO",IF(K18=5,"MEDIO",IF(K18=6,"ALTO",IF(K18=7,"ALTO","EXTREMO")))) -> ALTO | M18: SI | N18: Contratista | O18: Desde la estructuración del proceso | P18: Hasta la ejecución del contrato | Q18: Con la revisión previa a adjudicar el contrato | R18: Cuando ocurra, y se aplicara de manera inmediata
B19: =+EVALUACION!B20 -> CONTRATACIÓN | C19: =+EVALUACION!C20 -> Selección de ofertas con precios artificialmente bajos. | G19: El FDLSC debe realizar una estructuración de costos a partir de un análisis de mercado que tenga en cuenta los precios asociados a los productos tales como IVA, impuestos y demás gravámenes, de modo tal que la desviación estándar entre las cotizaciones deseablemente no sea mayor al 10%. | I19: =+EVALUACION!I20 -> 2 | J19: =+EVALUACION!J20 -> 4 | K19: =+I19+J19 -> 6 | L19: =IF(K19<=4,"BAJO",IF(K19=5,"MEDIO",IF(K19=6,"ALTO",IF(K19=7,"ALTO","EXTREMO")))) -> ALTO | M19: SI | N19: FDLSC | O19: Desde la estructuración del proceso | P19: Hasta la ejecución del contrato | Q19: Al momento de la ejecución del contrato | R19: Cuando ocurra, y se aplicara de manera inmediata
B20: =+EVALUACION!B21 -> EJECUCIÓN | C20: =+EVALUACION!C21 -> Obsolecencia técnologica | G20: la adquisición de tecnología desactualizada o con poca vida útil, lo cual limita la eficiencia operativa, reduce la compatibilidad con nuevos sistemas y herramientas, y afecta la capacidad de respuesta del área de comunicaciones. | I20: =+EVALUACION!I21 -> 2 | J20: =+EVALUACION!J21 -> 3 | K20: =+I20+J20 -> 5 | L20: =IF(K20<=4,"BAJO",IF(K20=5,"MEDIO",IF(K20=6,"ALTO",IF(K20=7,"ALTO","EXTREMO")))) -> MEDIO | M20: SI | N20: Contratista | O20: Desde la estructuración del proceso | P20: Hasta la ejecución del contrato | Q20: Al momento de la ejecución del contrato | R20: Cuando ocurra, y se aplicara de manera inmediata
B21: =+EVALUACION!B22 -> EJECUCIÓN | C21: =+EVALUACION!C22 -> Variación de los precios del mercado | G21: Analizar las consecuencias en el incremento de los precios y mitigar a través de planes de contingencia. | I21: =+EVALUACION!I22 -> 1 | J21: =+EVALUACION!J22 -> 3 | K21: =+I21+J21 -> 4 | L21: =IF(K21<=4,"BAJO",IF(K21=5,"MEDIO",IF(K21=6,"ALTO",IF(K21=7,"ALTO","EXTREMO")))) -> BAJO | M21: SI | N21: Contratista y FDLSC | O21: Desde la estructuración del proceso | P21: Hasta la ejecución del contrato | Q21: Al momento de la ejecución del contrato | R21: Cuando ocurra, y se aplicara de manera inmediata
B22: =+EVALUACION!B23 -> CONTRATACIÓN | C22: =+EVALUACION!C23 -> Riesgo de que no se firme el contrato. | G22: Cumplimiento de los plazos establecidos de acuerdo a la modalidad de Contratación | I22: =+EVALUACION!I23 -> 1 | J22: =+EVALUACION!J23 -> 3 | K22: =+I22+J22 -> 4 | L22: =IF(K22<=4,"BAJO",IF(K22=5,"MEDIO",IF(K22=6,"ALTO",IF(K22=7,"ALTO","EXTREMO")))) -> BAJO | M22: SI | N22: Contratista y FDLSC | O22: Desde la estructuración del proceso | P22: Hasta la ejecución del contrato | Q22: Al momento de la ejecución del contrato | R22: Cuando ocurra, y se aplicara de manera inmediata
B23: =+EVALUACION!B24 -> EJECUCIÓN | C23: =+EVALUACION!C24 -> Defectos en los equipos. | G23: Realizar el cambio del equipo por garantias o reparación del mismo si aplica | I23: =+EVALUACION!I24 -> 2 | J23: =+EVALUACION!J24 -> 4 | K23: =+I23+J23 -> 6 | L23: =IF(K23<=4,"BAJO",IF(K23=5,"MEDIO",IF(K23=6,"ALTO",IF(K23=7,"ALTO","EXTREMO")))) -> ALTO | M23: SI | N23: Contratista | O23: Desde la estructuración del proceso | P23: Hasta la ejecución del contrato | Q23: Al momento de la ejecucion del contrato | R23: Cuando ocurra, y se aplicara de manera inmediata
B24: =+EVALUACION!B25 -> EJECUCIÓN | C24: =+EVALUACION!C25 -> Defecto en la instalación de equipos | G24: Verificar la correcta instalación previa a la entrega y realizar pruebas de funcionamiento | I24: =+EVALUACION!I25 -> 2 | J24: =+EVALUACION!J25 -> 4 | K24: =+I24+J24 -> 6 | L24: =IF(K24<=4,"BAJO",IF(K24=5,"MEDIO",IF(K24=6,"ALTO",IF(K24=7,"ALTO","EXTREMO")))) -> ALTO | M24: SI | N24: Contratista | O24: Desde la estructuración del proceso | P24: Hasta la ejecución del contrato | Q24: Al momento de la ejecucion del contrato | R24: Cuando ocurra, y se aplicara de manera inmediata
B25: =+EVALUACION!B26 -> EJECUCIÓN | C25: =+EVALUACION!C26 -> Incumplimiento de compromisos adquiridos por el contratista seleccionado con sus subcontratistas, suministradores de bienes y servicios. | G25: Considerar la demora en la entrega como justificación para la ampliación del plazo del contrato | I25: =+EVALUACION!I26 -> 2 | J25: =+EVALUACION!J26 -> 4 | K25: =+I25+J25 -> 6 | L25: =IF(K25<=4,"BAJO",IF(K25=5,"MEDIO",IF(K25=6,"ALTO",IF(K25=7,"ALTO","EXTREMO")))) -> ALTO | M25: SI | N25: Contratista y FDLSC | O25: Desde la estructuración del proceso | P25: Hasta la ejecución del contrato | Q25: Al momento de la ejecucion del contrato | R25: Cuando ocurra, y se aplicara de manera inmediata
C27: Categoria del Riesgo | H27: Impacto del Riesgo
B28: Probabilidad | C28: Catagoria | F28: Valoración | H28: Categoria | J28: Valoración | N28: Categoria del Riesgo
C29: Raro (puede ocurrir excepcionalmente) | F29: 1 | H29: Insignificante | J29: 1 | N29: Valoración del Riesgo | P29: Categoría
C30: Improbable (puede ocurrir ocasionalmente) | F30: 2 | H30: Menor | J30: 2 | N30: 8, 9 y 10 | P30: Riesgo extremo
C31: Posible (puede ocurrir en cualquier momento futuro) | F31: 3 | H31: Moderado | J31: 3 | N31: 6 y 7 | P31: Riesgo alto
C32: Probable (probablemente va a ocurrir) | F32: 4 | H32: Mayor | J32: 4 | N32: 5 | P32: Riesgo medio
C33: Casi cierto (ocurre en la mayoria de circunstancias) | F33: 5 | H33: Catastrófico | J33: 5 | N33: 2, 3 y 4 | P33: Riesgo bajo
C35: Valoración del Riesgo
C36: Calificación Cualitativa | G36: Obstruye la ejecución del contrato de manera intrascendente. | I36: Dificulta la ejecución del contrato de manera baja, aplicando medidas mínimas se pueden lograr el objeto contractual | L36: Afecta la ejecución del contrato sin alterar el beneficio para las partes | N36: Obstruye la ejecución del contrato sustancialmente pero aun así permite la consecución del objeto contractual | P36: Perturba la ejecución del contrato de manera grave imposibilitando la consecución del objeto contractual.
C37: Calificación Monetaria | G37: Los sobrecostos no representan más del uno por ciento (1%) del valor del contrato. | I37: Los sobrecostos no representan más del cinco por ciento (5%) del valor del contrato. | L37: Genera un impacto sobre el valor del contrato entre el cinco (5%) y el quince por ciento (15%). | N37: Incrementa el valor del contrato entre el quince (15%) y el treinta por ciento (30%). | P37: Impacto sobre el valor del contrato en más del treinta por ciento (30%).
C38: Catagoria | F38: Valoración | G38: Insignificante | I38: Menor | L38: Moderado | N38: Mayor | P38: Catastrófico
G39: 1 | I39: 2 | L39: 3 | N39: 4 | P39: 5
C40: Raro (puede ocurrir excepcionalmente) | F40: 1 | G40: 2 | I40: 3 | L40: 4 | N40: 5 | P40: 6
C41: Improbable (puede ocurrir ocasionalmente) | F41: 2 | G41: 3 | I41: 4 | L41: 5 | N41: 6 | P41: 7
C42: Posible (puede ocurrir en cualquier momento futuro) | F42: 3 | G42: 4 | I42: 5 | L42: 6 | N42: 7 | P42: 8
C43: Probable (probablemente va a ocurrir) | F43: 4 | G43: 5 | I43: 6 | L43: 7 | N43: 8 | P43: 9
C44: Casi cierto (ocurre en la mayoria de circunstancias) | F44: 5 | G44: 6 | I44: 7 | L44: 8 | N44: 9 | P44: 10

Sheet ASIGNACION Y TRATAMIENTO
C2: MATRIZ DE RIESGOS DE CONTRATACIÓN | W2: Código: GCO-GCI-F164 Versión: 02 Vigencia: 01 de diciembre de 2022 Caso HOLA: 280117
B6: =+EVALUACION!B6 -> Objeto Contractual: "CONTRATAR LA ADQUISICIÓN DE EQUIPOS DE PRENSA PARA EL FORTALECIMIENTO TÉCNICO, LOGÍSTICO Y OPERATIVO DE LAS FUNCIONES DEL ÁREA DE COMUNICACIONES DEL FDLSC"
B7: Esta matriz es un documento anexo del Estudio Previo
B10: No | C10: Descripción (Que puede pasar y, cómo puede ocurrir) | D10: Etapa | E10: Clase | F10: Fuente | G10: Consecuencias de la ocurrencia del evento | H10: Probabilidad | I10: Impacto | J10: Calificación total | K10: Prioridad | L10: ¿A quien se le asigna? | M10: % | N10: Tratamiento/Controles a ser implementados | O10: Probabilidad | P10: Impacto | Q10: Calificación total | R10: Prioridad | S10: ¿Afecta el equilibrio económico del contrato? | T10: Persona responsable por implementar el tratamiento | U10: Fecha estimada en que se inicia el tratamiento | V10: Fecha estimada en que se completa el tratamiento | W10: ¿Cómo se realiza el monitoreo | X10: Periodicidad ¿Cuándo?
B11: 1 | C11: =+'EVALUACION CON CONTROLES'!C16:F16 -> Inadecuada escogencia de la modalidad de contratación | D11: =+'EVALUACION CON CONTROLES'!B16 -> PLANEACIÓN | E11: =VLOOKUP(C11,'IDENTIFICACION Y ANALISIS'!$B$19:$F$68,3,FALSE) -> General | F11: =VLOOKUP(C11,'IDENTIFICACION Y ANALISIS'!$B$19:$F$68,4,FALSE) -> Interno | G11: =+[1]EVALUACION!H17 -> El proceso de planeación de los documentos de estudios y diseños se ven afectados por el desconocimiento de la normatividad legal vigente. | H11: =+EVALUACION!I17 -> 1 | I11: =+EVALUACION!J17 -> 3 | J11: =+EVALUACION!K17 -> 4 | K11: =+EVALUACION!L17 -> BAJO | L11: SDG | M11: 100 | N11: =+'EVALUACION CON CONTROLES'!G16 -> Para mitigar su ocurrencia se debe hacer un estudio en contexto del objeto a contratar, las obligaciones y las entregas del contratista, entre la dependencia solicitante y la oficina asesora jurídica. | O11: =+'EVALUACION CON CONTROLES'!I16 -> 1 | P11: =+'EVALUACION CON CONTROLES'!J16 -> 3 | Q11: =+'EVALUACION CON CONTROLES'!K16 -> 4 | R11: =+'EVALUACION CON CONTROLES'!L16 -> BAJO | S11: =+'[1]EVALUACION CON CONTROLES'!M16 -> NO | T11: =+'[1]EVALUACION CON CONTROLES'!N16 -> Área tecnica, financiera y juridica a cargo del proceso | U11: =+'[1]EVALUACION CON CONTROLES'!O16 -> Desde la estructuración del proceso | V11: =+'[1]EVALUACION CON CONTROLES'!P16 -> Hasta la ejecución del contrato | W11: =+'[1]EVALUACION CON CONTROLES'!Q16 -> Al momento de la evaluación del proceso | X11: =+'[1]EVALUACION CON CONTROLES'!R16 -> Durante la planeación y evaluación
B12: 2 | C12: =+'EVALUACION CON CONTROLES'!C17:F17 -> No publicación de la documentación del proceso de selección en el SECOP | D12: =+'EVALUACION CON CONTROLES'!B17 -> CONTRATACIÓN | E12: =VLOOKUP(C12,'IDENTIFICACION Y ANALISIS'!$B$19:$F$68,3,FALSE) -> Estatal | F12: =VLOOKUP(C12,'IDENTIFICACION Y ANALISIS'!$B$19:$F$68,4,FALSE) -> Interno | G12: =+[1]EVALUACION!H18 -> Que se declare desierto el proceso de selección | H12: =+EVALUACION!I18 -> 2 | I12: =+EVALUACION!J18 -> 2 | J12: =+EVALUACION!K18 -> 4 | K12: =+EVALUACION!L18 -> BAJO | L12: SDG | M12: 100 | N12: =+'EVALUACION CON CONTROLES'!G17 -> Falta de constitución o constitución tardía de la garantía única. Aceptación de garantías que no se ajustan a lo contemplado en el contrato | O12: =+'EVALUACION CON CONTROLES'!I17 -> 2 | P12: =+'EVALUACION CON CONTROLES'!J17 -> 2 | Q12: =+'EVALUACION CON CONTROLES'!K17 -> 4 | R12: =+'EVALUACION CON CONTROLES'!L17 -> BAJO | S12: =+'[1]EVALUACION CON CONTROLES'!M17 -> NO | T12: =+'[1]EVALUACION CON CONTROLES'!N17 -> Área tecnica, financiera y juridica a cargo del proceso | U12: =+'[1]EVALUACION CON CONTROLES'!O17 -> Desde la estructuración del proceso | V12: =+'[1]EVALUACION CON CONTROLES'!P17 -> Hasta la ejecución del contrato | W12: =+'[1]EVALUACION CON CONTROLES'!Q17 -> Al momento de la evaluación del proceso | X12: =+'[1]EVALUACION CON CONTROLES'!R17 -> Cuando ocurra, y se aplicara de manera inmediata
B13: 3 | C13: =+'EVALUACION CON CONTROLES'!C18:F18 -> Inadecuada evaluación de las ofertas y/o verificación de requisitos habilitantes | D13: =+'EVALUACION CON CONTROLES'!B18 -> SELECCIÓN | E13: =VLOOKUP(C13,'IDENTIFICACION Y ANALISIS'!$B$19:$F$68,3,FALSE) -> Especifico | F13: =VLOOKUP(C13,'IDENTIFICACION Y ANALISIS'!$B$19:$F$68,4,FALSE) -> Interno | G13: =+[1]EVALUACION!H19 -> Ocurre cuando la propuesta económica que presenta el oferente no estima adecuadamente los costos de los conceptos necesarios para el cumplimiento del objeto del contrato | H13: =+EVALUACION!I19 -> 2 | I13: =+EVALUACION!J19 -> 4 | J13: =+EVALUACION!K19 -> 6 | K13: =+EVALUACION!L19 -> ALTO | L13: SDG | M13: 100 | N13: =+'EVALUACION CON CONTROLES'!G18 -> Selección de ofertas con precios artificialmente bajos. | O13: =+'EVALUACION CON CONTROLES'!I18 -> 2 | P13: =+'EVALUACION CON CONTROLES'!J18 -> 4 | Q13: =+'EVALUACION CON CONTROLES'!K18 -> 6 | R13: =+'EVALUACION CON CONTROLES'!L18 -> ALTO | S13: =+'[1]EVALUACION CON CONTROLES'!M18 -> SI | T13: =+'[1]EVALUACION CON CONTROLES'!N18 -> Contratista | U13: =+'[1]EVALUACION CON CONTROLES'!O18 -> Desde la estructuración del proceso | V13: =+'[1]EVALUACION CON CONTROLES'!P18 -> Hasta la ejecución del contrato | W13: =+'[1]EVALUACION CON CONTROLES'!Q18 -> Con la revisión previa a adjudicar el contrato | X13: =+'[1]EVALUACION CON CONTROLES'!R18 -> Cuando ocurra, y se aplicara de manera inmediata
B14: 4 | C14: =+'EVALUACION CON CONTROLES'!C19:F19 -> Selección de ofertas con precios artificialmente bajos. | D14: =+'EVALUACION CON CONTROLES'!B19 -> CONTRATACIÓN | E14: =VLOOKUP(C14,'IDENTIFICACION Y ANALISIS'!$B$19:$F$68,3,FALSE) -> Especifico | F14: =VLOOKUP(C14,'IDENTIFICACION Y ANALISIS'!$B$19:$F$68,4,FALSE) -> Externo | G14: =+[1]EVALUACION!H20 -> Suspension temporal o retraso en la ejecución del contrato. | H14: =+EVALUACION!I20 -> 2 | I14: =+EVALUACION!J20 -> 4 | J14: =+EVALUACION!K20 -> 6 | K14: =+EVALUACION!L20 -> ALTO | L14: SDG | M14: 100 | N14: =+'EVALUACION CON CONTROLES'!G19 -> El FDLSC debe realizar una estructuración de costos a partir de un análisis de mercado que tenga en cuenta los precios asociados a los productos tales como IVA, impuestos y demás gravámenes, de modo tal que la desviación estándar entre las cotizaciones deseablemente no sea mayor al 10%. | O14: =+'EVALUACION CON CONTROLES'!I19 -> 2 | P14: =+'EVALUACION CON CONTROLES'!J19 -> 4 | Q14: =+'EVALUACION CON CONTROLES'!K19 -> 6 | R14: =+'EVALUACION CON CONTROLES'!L19 -> ALTO | S14: =+'[1]EVALUACION CON CONTROLES'!M19 -> SI | T14: FDLSC | U14: =+'[1]EVALUACION CON CONTROLES'!O19 -> Desde la estructuración del proceso | V14: =+'[1]EVALUACION CON CONTROLES'!P19 -> Hasta la ejecución del contrato | W14: =+'[1]EVALUACION CON CONTROLES'!Q19 -> Al momento de la ejecución del contrato | X14: =+'[1]EVALUACION CON CONTROLES'!R19 -> Cuando ocurra, y se aplicara de manera inmediata
B15: 5 | C15: =+'EVALUACION CON CONTROLES'!C20:F20 -> Obsolecencia técnologica | D15: =+'EVALUACION CON CONTROLES'!B20 -> EJECUCIÓN | E15: =VLOOKUP(C15,'IDENTIFICACION Y ANALISIS'!$B$19:$F$68,3,FALSE) -> Especifico | F15: =VLOOKUP(C15,'IDENTIFICACION Y ANALISIS'!$B$19:$F$68,4,FALSE) -> Externo | G15: la adquisición de tecnología desactualizada o con poca vida útil, lo cual limita la eficiencia operativa, reduce la compatibilidad con nuevos sistemas y herramientas, y afecta la capacidad de respuesta del área de comunicaciones. | H15: =+EVALUACION!I21 -> 2 | I15: =+EVALUACION!J21 -> 3 | J15: =+EVALUACION!K21 -> 5 | K15: =+EVALUACION!L21 -> MEDIO | L15: CONTRATISTA Y SDG | M15: 50 Y 50 | N15: Realizar un estudio de mercado previo que identifique las tecnologías más recientes y adecuadas a las necesidades institucionales, asegurando que los equipos adquiridos cuenten con componentes actualizables y estándares vigentes. | O15: =+'EVALUACION CON CONTROLES'!I20 -> 2 | P15: =+'EVALUACION CON CONTROLES'!J20 -> 3 | Q15: =+'EVALUACION CON CONTROLES'!K20 -> 5 | R15: =+'EVALUACION CON CONTROLES'!L20 -> MEDIO | S15: =+'[1]EVALUACION CON CONTROLES'!M20 -> SI | T15: =+'[1]EVALUACION CON CONTROLES'!N20 -> Contratista | U15: =+'[1]EVALUACION CON CONTROLES'!O20 -> Desde la estructuración del proceso | V15: =+'[1]EVALUACION CON CONTROLES'!P20 -> Hasta la ejecución del contrato | W15: =+'[1]EVALUACION CON CONTROLES'!Q20 -> Al momento de la ejecución del contrato | X15: =+'[1]EVALUACION CON CONTROLES'!R20 -> Cuando ocurra, y se aplicara de manera inmediata
B16: 6 | C16: =+'EVALUACION CON CONTROLES'!C21:F21 -> Variación de los precios del mercado | D16: =+'EVALUACION CON CONTROLES'!B21 -> EJECUCIÓN | E16: =VLOOKUP(C16,'IDENTIFICACION Y ANALISIS'!$B$19:$F$68,3,FALSE) -> General | F16: =VLOOKUP(C16,'IDENTIFICACION Y ANALISIS'!$B$19:$F$68,4,FALSE) -> Externo | G16: Desequilibrio económico del contrato | H16: =+EVALUACION!I22 -> 1 | I16: =+EVALUACION!J22 -> 3 | J16: =+EVALUACION!K22 -> 4 | K16: =+EVALUACION!L22 -> BAJO | L16: CONTRATISTA Y SDG | M16: 50 Y 50 | N16: =+'EVALUACION CON CONTROLES'!G21 -> Analizar las consecuencias en el incremento de los precios y mitigar a través de planes de contingencia. | O16: =+'EVALUACION CON CONTROLES'!I21 -> 1 | P16: =+'EVALUACION CON CONTROLES'!J21 -> 3 | Q16: =+'EVALUACION CON CONTROLES'!K21 -> 4 | R16: =+'EVALUACION CON CONTROLES'!L21 -> BAJO | S16: =+'[1]EVALUACION CON CONTROLES'!M21 -> SI | T16: =+'[1]EVALUACION CON CONTROLES'!N21 -> Contratista | U16: =+'[1]EVALUACION CON CONTROLES'!O21 -> Desde la estructuración del proceso | V16: =+'[1]EVALUACION CON CONTROLES'!P21 -> Hasta la ejecución del contrato | W16: =+'[1]EVALUACION CON CONTROLES'!Q21 -> Al momento de la ejecución del contrato | X16: =+'[1]EVALUACION CON CONTROLES'!R21 -> Cuando ocurra, y se aplicara de manera inmediata
B17: 7 | C17: =+'EVALUACION CON CONTROLES'!C22:F22 -> Riesgo de que no se firme el contrato. | D17: =+'EVALUACION CON CONTROLES'!B22 -> CONTRATACIÓN | E17: =VLOOKUP(C17,'IDENTIFICACION Y ANALISIS'!$B$19:$F$68,3,FALSE) -> General | F17: =VLOOKUP(C17,'IDENTIFICACION Y ANALISIS'!$B$19:$F$68,4,FALSE) -> Interno | G17: No poder ejecutar los recursos asignados al contrato y la consecuente afectación de los compromisos de la entidad | H17: =+EVALUACION!I23 -> 1 | I17: =+EVALUACION!J23 -> 3 | J17: =+EVALUACION!K23 -> 4 | K17: =+EVALUACION!L23 -> BAJO | L17: CONTRATISTA Y SDG | M17: 50 Y 50 | N17: =+'EVALUACION CON CONTROLES'!G22 -> Cumplimiento de los plazos establecidos de acuerdo a la modalidad de Contratación | O17: =+'EVALUACION CON CONTROLES'!I22 -> 1 | P17: =+'EVALUACION CON CONTROLES'!J22 -> 3 | Q17: =+'EVALUACION CON CONTROLES'!K22 -> 4 | R17: =+'EVALUACION CON CONTROLES'!L22 -> BAJO | S17: =+'[1]EVALUACION CON CONTROLES'!M22 -> SI | T17: =+'[1]EVALUACION CON CONTROLES'!N22 -> Contratista y FDLSC | U17: =+'[1]EVALUACION CON CONTROLES'!O22 -> Desde la estructuración del proceso | V17: =+'[1]EVALUACION CON CONTROLES'!P22 -> Hasta la ejecución del contrato | W17: =+'[1]EVALUACION CON CONTROLES'!Q22 -> Al momento de la ejecución del contrato | X17: =+'[1]EVALUACION CON CONTROLES'!R22 -> Cuando ocurra, y se aplicara de manera inmediata
B18: 8 | C18: =+'EVALUACION CON CONTROLES'!C23:F23 -> Defectos en los equipos. | D18: =+'EVALUACION CON CONTROLES'!B23 -> EJECUCIÓN | E18: =VLOOKUP(C18,'IDENTIFICACION Y ANALISIS'!$B$19:$F$68,3,FALSE) -> Especifico | F18: =VLOOKUP(C18,'IDENTIFICACION Y ANALISIS'!$B$19:$F$68,4,FALSE) -> Externo | G18: Desequilibrio económico del contrato | H18: =+EVALUACION!I24 -> 2 | I18: =+EVALUACION!J24 -> 4 | J18: =+EVALUACION!K24 -> 6 | K18: =+EVALUACION!L24 -> ALTO | L18: CONTRATISTA Y SDG | M18: 50 Y 50 | N18: =+'EVALUACION CON CONTROLES'!G23 -> Realizar el cambio del equipo por garantias o reparación del mismo si aplica | O18: =+'EVALUACION CON CONTROLES'!I23 -> 2 | P18: =+'EVALUACION CON CONTROLES'!J23 -> 4 | Q18: =+'EVALUACION CON CONTROLES'!K23 -> 6 | R18: =+'EVALUACION CON CONTROLES'!L23 -> ALTO | S18: =+'[1]EVALUACION CON CONTROLES'!M23 -> SI | T18: =+'[1]EVALUACION CON CONTROLES'!N23 -> Contratista y FDLSC | U18: =+'[1]EVALUACION CON CONTROLES'!O23 -> Desde la estructuración del proceso | V18: =+'[1]EVALUACION CON CONTROLES'!Q23 -> Al momento de la ejecucion del contrato | W18: Al momento de la ejecucion del contrato | X18: =+'[1]EVALUACION CON CONTROLES'!R23 -> Cuando ocurra, y se aplicara de manera inmediata
B19: 9 | C19: =+'EVALUACION CON CONTROLES'!C24:F24 -> Defecto en la instalación de equipos | D19: =+'EVALUACION CON CONTROLES'!B24 -> EJECUCIÓN | E19: =VLOOKUP(C19,'IDENTIFICACION Y ANALISIS'!$B$19:$F$68,3,FALSE) -> Especifico | F19: =VLOOKUP(C19,'IDENTIFICACION Y ANALISIS'!$B$19:$F$68,4,FALSE) -> Externo | G19: Suspensión temporal o retraso en la ejecución del contrato | H19: =+EVALUACION!I25 -> 2 | I19: =+EVALUACION!J25 -> 4 | J19: =+EVALUACION!K25 -> 6 | K19: =+EVALUACION!L25 -> ALTO | L19: CONTRATISTA Y SDG | M19: 50 Y 50 | N19: =+'EVALUACION CON CONTROLES'!G24 -> Verificar la correcta instalación previa a la entrega y realizar pruebas de funcionamiento | O19: =+'EVALUACION CON CONTROLES'!I24 -> 2 | P19: =+'EVALUACION CON CONTROLES'!J24 -> 4 | Q19: =+'EVALUACION CON CONTROLES'!K24 -> 6 | R19: =+'EVALUACION CON CONTROLES'!L24 -> ALTO | S19: =+'[1]EVALUACION CON CONTROLES'!M26 -> SI | T19: =+'[1]EVALUACION CON CONTROLES'!N26 -> Contratista y FDLSC | U19: =+'[1]EVALUACION CON CONTROLES'!O26 -> Desde la estructuración del proceso | V19: =+'[1]EVALUACION CON CONTROLES'!P26 -> Hasta la ejecución del contrato | W19: =+'[1]EVALUACION CON CONTROLES'!Q26 -> Al momento de la ejecucion del contrato | X19: =+'[1]EVALUACION CON CONTROLES'!R26 -> Cuando ocurra, y se aplicara de manera inmediata
B20: 10 | C20: =+'EVALUACION CON CONTROLES'!C25:F25 -> Incumplimiento de compromisos adquiridos por el contratista seleccionado con sus subcontratistas, suministradores de bienes y servicios. | D20: =+'EVALUACION CON CONTROLES'!B25 -> EJECUCIÓN | E20: =VLOOKUP(C20,'IDENTIFICACION Y ANALISIS'!$B$19:$F$68,3,FALSE) -> Especifico | F20: =VLOOKUP(C20,'IDENTIFICACION Y ANALISIS'!$B$19:$F$68,4,FALSE) -> Externo | G20: Suspensión temporal o retraso en la ejecución del contrato | H20: =+EVALUACION!I26 -> 2 | I20: =+EVALUACION!J26 -> 4 | J20: =+EVALUACION!K26 -> 6 | K20: =+EVALUACION!L26 -> ALTO | L20: CONTRATISTA | M20: 50 Y 50 | N20: =+'EVALUACION CON CONTROLES'!G25 -> Considerar la demora en la entrega como justificación para la ampliación del plazo del contrato | O20: =+'EVALUACION CON CONTROLES'!I25 -> 2 | P20: =+'EVALUACION CON CONTROLES'!J25 -> 4 | Q20: =+'EVALUACION CON CONTROLES'!K25 -> 6 | R20: =+'EVALUACION CON CONTROLES'!L25 -> ALTO | S20: =+'[1]EVALUACION CON CONTROLES'!M25 -> SI | T20: =+'[1]EVALUACION CON CONTROLES'!N25 -> Contratista | U20: =+'[1]EVALUACION CON CONTROLES'!O25 -> Desde la estructuración del proceso | V20: =+'[1]EVALUACION CON CONTROLES'!Q25 -> Al momento de la ejecucion del contrato | W20: Al momento de la ejecucion del contrato | X20: =+'[1]EVALUACION CON CONTROLES'!R25 -> Cuando ocurra, y se aplicara de manera inmediata
B22: Elaboró: Juan Javier Romero Páez CPS 028 2025 | F22: Categoria | J22: Impacto del Riesgo
E23: Probabilidad | F23: Catagoria | G23: Valoración | J23: Categoria | L23: Valoración
F24: Raro (puede ocurrir excepcionalmente) | G24: 1 | J24: Insignificante | L24: 1
F25: Improbable (puede ocurrir ocasionalmente) | G25: 2 | J25: Menor | L25: 2
F26: Posible (puede ocurrir en cualquier momento futuro) | G26: 3 | J26: Moderado | L26: 3
F27: Probable (probablemente va a ocurrir) | G27: 4 | J27: Mayor | L27: 4
F28: Casi cierto (ocurre en la mayoria de circunstancias) | G28: 5 | J28: Catastrófico | L28: 5
D30: Valoración del Riesgo
D31: Catagoria | E31: Valoración | F31: Insignificante | H31: Menor | J31: Moderado | K31: Mayor | L31: Catastrófico | P31: Categoria del Riesgo
F32: 1 | H32: 2 | J32: 3 | K32: 4 | L32: 5 | P32: Valoración del Riesgo | S32: Categoría
D33: Raro (puede ocurrir excepcionalmente) | E33: 1 | F33: 2 | H33: 3 | J33: 4 | K33: 5 | L33: 6 | P33: 8, 9 y 10 | S33: Riesgo extremo
D34: Improbable (puede ocurrir ocasionalmente) | E34: 2 | F34: 3 | H34: 4 | J34: 5 | K34: 6 | L34: 7 | P34: 6 y 7 | S34: Riesgo alto
D35: Posible (puede ocurrir en cualquier momento futuro) | E35: 3 | F35: 4 | H35: 5 | J35: 6 | K35: 7 | L35: 8 | P35: 5 | S35: Riesgo medio
D36: Probable (probablemente va a ocurrir) | E36: 4 | F36: 5 | H36: 6 | J36: 7 | K36: 8 | L36: 9 | P36: 2, 3 y 4 | S36: Riesgo bajo
D37: Casi cierto (ocurre en la mayoria de circunstancias) | E37: 5 | F37: 6 | H37: 7 | J37: 8 | K37: 9 | L37: 10
B42: CONTRATISTA
B43: SDG
B44: CONTRATISTA Y SDG
