Workbook
Name _\0: [1]CRA.MODI!#REF!
Name _\00: #REF!
Name _\a: #REF!
Name __\a: #REF!
Name ___\a: #REF!
Name ____\a: #REF!
Name _____\a: #REF!
Name ______\a: #REF!
Name _______\a: #REF!
Name ________\a: #REF!
Name _________\a: #REF!
Name __________\a: #REF!
Name ___________\a: #REF!
Name ____________\a: #REF!
Name _____________\a: #REF!
Name _\AA: [2]LIQUIDACION!#REF!
Name _\b: #REF!
Name __\b: #REF!
Name ___\b: #REF!
Name ____\b: #REF!
Name _____\b: #REF!
Name ______\b: #REF!
Name _______\b: #REF!
Name ________\b: #REF!
Name _________\b: #REF!
Name __________\b: #REF!
Name ___________\b: #REF!
Name ____________\b: #REF!
Name _____________\b: [3]STRSUMM0!#REF!
Name ______________\b: [3]STRSUMM0!#REF!
Name _______________\b: #REF!
Name _\bb: [3]STRSUMM0!#REF!
Name _\E: #REF!
Name _\EE: #REF!
Name _\eliminar: [4]RESUM96!#REF!
Name __\eliminar: [4]RESUM96!#REF!
Name ___\eliminar: [4]RESUM96!#REF!
Name ____\eliminar: [4]RESUM96!#REF!
Name _____\eliminar: [4]RESUM96!#REF!
Name ______\eliminar: [4]RESUM96!#REF!
Name _______\eliminar: [4]RESUM96!#REF!
Name ________\eliminar: [4]RESUM96!#REF!
Name _________\eliminar: [4]RESUM96!#REF!
Name __________\eliminar: [4]RESUM96!#REF!
Name ___________\eliminar: [4]RESUM96!#REF!
Name ____________\eliminar: [4]RESUM96!#REF!
Name _____________\eliminar: [4]RESUM96!#REF!
Name _\eliminar1: [4]RESUM96!#REF!
Name __\eliminar1: [4]RESUM96!#REF!
Name ___\eliminar1: [4]RESUM96!#REF!
Name ____\eliminar1: [4]RESUM96!#REF!
Name _____\eliminar1: [4]RESUM96!#REF!
Name ______\eliminar1: [4]RESUM96!#REF!
Name _______\eliminar1: [4]RESUM96!#REF!
Name ________\eliminar1: [4]RESUM96!#REF!
Name _________\eliminar1: [4]RESUM96!#REF!
Name __________\eliminar1: [4]RESUM96!#REF!
Name ___________\eliminar1: [4]RESUM96!#REF!
Name ____________\eliminar1: [4]RESUM96!#REF!
Name _____________\eliminar1: [4]RESUM96!#REF!

Sheet Cadena de Valor
A1: PRESUPUESTO | G1: 0.25 | H1: 0.2 | I1: 0.05 | J1: 0.35 | K1: 0.15 | L1: =SUM(G1:K1) -> 1
A2: Proyecto: PROYECTO TIPO RECUPERACIÓN DE COBERTURA VEGETAL EN ÁREAS DISTURBADAS | C2: Municipio: | G2: 0.2 | I2: 0.55 | J2: 0.25 | L2: =+J2+I2+G2 -> 1
A3: ITEM | B3: Componente | C3: Unidad | D3: Cantidad | E3: V. Unitario | F3: V. Parcial | G3: MO NO Calificada | H3: MO Calificada | I3: Materiales | J3: equipos | K3: transporte
A4: 1 | B4: Suscribir acuerdos voluntarios | C4: Und | D4: =+'1.112'!B6 -> 50 | E4: =+'1.112'!G15 -> 22000 | F4: =+E4*D4 -> 1100000 | H4: =+F4*60% -> 660000 | I4: =+F4*40% -> 440000 | L4: =SUM(G4:K4) -> 1100000
A5: =+A4+1 -> 2 | B5: Realizar estudios de análisis de suelos | C5: Und | D5: =#REF! -> #REF! | E5: =#REF! -> #REF! | F5: =+E5*D5 -> #REF! | G5: =+F5*25% -> #REF! | H5: =+F5*20% -> #REF! | I5: =+F5*5% -> #REF! | J5: =+F5*35% -> #REF! | K5: =+F5*15% -> #REF! | L5: =SUM(G5:K5) -> #REF!
A6: =+A5+1 -> 3 | B6: Realizar adecuación del terreno y establecimiento de material vegetal | C6: Ha | D6: =+'1.11'!E6 -> 10 | E6: =+'1.11'!E54 -> 6498868.5 | F6: =+E6*D6 -> 64988685 | G6: =+F6*25% -> 16247171 | H6: =+F6*20% -> 12997737 | I6: =+F6*5% -> 3249434.3 | J6: =+F6*35% -> 22746040 | K6: =+F6*15% -> 9748302.8 | L6: =SUM(G6:K6) -> 64988685
A7: =+A6+1 -> 4 | B7: Realizar el aislamiento de las áreas con mayor presencia del tensionante identificado | C7: Km | D7: ='APU. 4. Aislamiento'!E6 -> 8.3 | E7: ='APU. 4. Aislamiento'!D48 -> 16626710 | F7: =+E7*D7 -> 1.3800169e+08 | G7: =+F7*25% -> 34500423 | H7: =+F7*20% -> 27600338 | I7: =+F7*5% -> 6900084.6 | J7: =+F7*35% -> 48300592 | K7: =+F7*15% -> 20700254 | L7: =SUM(G7:K7) -> 1.3800169e+08
A8: 5 | B8: Instalar parcelas de monitoreo | C8: Und | D8: ='APU. 5. Parcelas de Monitoreo'!B6 -> 10 | E8: =+'APU. 5. Parcelas de Monitoreo'!G17 -> 2498048 | F8: =+E8*D8 -> 24980480 | G8: =+F8*25% -> 6245120 | I8: =+F8*45% -> 11241216 | J8: =+F8*35% -> 8743168 | K8: =+J7+G7 -> 82801015 | L8: =SUM(G8:K8) -> 1.0903052e+08
A9: 6 | B9: Realizar el monitoreo a las acciones implementadas | C9: Und | D9: 1 | E9: =#REF! -> #REF! | F9: =E9*D9 -> #REF! | H9: =+F9*20% -> #REF! | J9: =+F9*80% -> #REF!
A10: 7 | B10: Realizar el seguimiento técnico administrativo, jurídico y financiero | C10: Und | D10: 1 | E10: =#REF! -> #REF! | F10: =+E10*D10 -> #REF! | H10: =+F10*20% -> #REF! | J10: =+F10*80% -> #REF!
A11: 8 | B11: Realizar el reporte de acciones de recuperación | C11: Und | D11: 1 | E11: ='APU. 7 Registro '!G12 -> 4500000 | F11: =E11*D11 -> 4500000 | H11: =+F11*20% -> 900000 | J11: =+F11*80% -> 3600000
C13: Interventoría (7%) | F13: =(SUM(F4:F11)*7%) -> #REF! | H13: =+G14*20% -> #REF! | J13: =+G14*80% -> #REF!
G14: =+F13*70% -> #REF!
C15: Costo total | F15: =SUM(F4:F11)+F12 -> #REF! | G15: =+F13*30% -> #REF! | H15: =+G15*20% -> #REF! | J15: =+G15*80% -> #REF!
A17: 9 | B17: Desarrollar talleres de sensibilización ambiental y fortalecimiento comunitario | C17: Und | D17: ='APU. 8. Talleres'!D6:F6 -> 1 | E17: =+'APU. 8. Talleres'!F15 -> 5112000 | F17: =+E17*D17 -> 5112000 | H17: =+F17*80% -> 4089600 | J17: =+H17*80% -> 3271680
A18: 10 | B18: Generar capacidades en la población beneficiaria del proyecto | C18: Und | D18: 3 | E18: =+'APU. 9 Socializacion'!I35 -> 11666667 | F18: =+E18*D18 -> 35000000
A19: Observaciones: 1. Los costos incluidos en este documento son de referencia. Las Entidades Territoriales deben ajustar el presupuesto con base en los precios de región. 2. Se debe presentar la proyección para los los porcentajes de AIU y FM. 3. El proyecto tipo plantea la realización de un taller general de sensibilización para 100 beneficiarios. El implementador debe plantear un análisis respecto al número de talleres que se considere necesarios para la atención de la totalidad de beneficiarios incluidos en el proyecto. 4. Para la presentación se debe incluir la firma del profesional responsable con sus respectivos documentos. ( Matricula profesional, certificado de vigencia y memorial de responsabilidad).

Sheet PRESUPUESTO
A1: #VALUE! | B1: Proyecto: Recuperación De Cobertura Vegetal El Corregimiento De Doña María Del Municipio De Fundación | F1: #VALUE!
A2: PRESUPUESTO | J2: 0.3 | K2: =0% -> 0 | L2: 0.4 | M2: 0.3
A3: ITEM | B3: Componente | C3: Unidad | D3: Cantidad | E3: V. Unitario | F3: V. Parcial | H3: =G4-H4 -> 0 | I3: M. obra calificada | J3: M. NO obra calificada | K3: Materiales | L3: Maquinaria y Equipo | M3: Transporte | N3: Serv. empresas | O3: imprevistos | P3: Impuestos | Q3: Tranferencia
A4: 1. | B4: PRELIMINARES | F4: =SUM(F5:F7) -> 43140255 | G4: =F4*1.35 -> 58239344 | H4: =SUM(I4:Q4) -> 58239344 | I4: =3%*F4 -> 1294207.6 | J4: =F4*70% -> 30198178 | K4: =F4*0 -> 0 | L4: =F4*30% -> 12942076 | M4: =F4*0 -> 0 | N4: =1%*F4 -> 431402.55 | O4: =3%*F4 -> 1294207.6 | P4: =23%*F4 -> 9922258.7 | Q4: =5%*F4 -> 2157012.8
A5: 1.1 | B5: Visitas de campo para el tramite suscripcion y cierre de acuerdos voluntarios Dirigidos | C5: un | D5: =CANT.!L10 -> 15 | E5: ='1.1'!N52 -> 159073 | F5: =+E5*D5 -> 2386095
A6: 1.2 | B6: Desmonte y limpieza en zonas no boscosas | C6: ha | D6: =CANT.!L16 -> 40 | E6: ='1.2'!N52 -> 822054 | F6: =+E6*D6 -> 32882160
A7: 1.3 | B7: Limpieza de cerca de alambre de púas con postes de madera (Guarda fuegos) | C7: m | D7: =CANT.!L22 -> 4000 | E7: ='1.3'!N52 -> 1968 | F7: =+E7*D7 -> 7872000 | H7: =G8-H8 -> 0 | I7: M. obra calificada | J7: M. NO obra calificada | K7: Materiales | L7: Maquinaria y Equipo | M7: Transporte | N7: Serv. empresas | O7: imprevistos | P7: Impuestos | Q7: Tranferencia
A8: 2 | B8: CERRAMIENTOS | F8: =SUM(F9:F10) -> 175520747 | G8: =F8*1.35 -> 2.3695301e+08 | H8: =SUM(I8:Q8) -> 2.3695301e+08 | I8: =3%*F8 -> 5265622.4 | J8: =F8*30% -> 52656224 | K8: =F8*50% -> 87760374 | L8: =F8*10% -> 17552075 | M8: =F8*10% -> 17552075 | N8: =1%*F8 -> 1755207.5 | O8: =3%*F8 -> 5265622.4 | P8: =23%*F8 -> 40369772 | Q8: =5%*F8 -> 8776037.3
A9: 2.1 | B9: Aislamiento de las áreas con mayor presencia del tensionante identificado en cercas de puas | C9: m | D9: =CANT.!L28 -> 3000 | E9: ='2.1'!N52 -> 25775 | F9: =+E9*D9 -> 77325000
A10: 2.2 | B10: Aislamiento individal en corralles de madarea y alambres de puas | C10: un | D10: =CANT.!L34 -> 1157 | E10: ='2.2'!N52 -> 84871 | F10: =+E10*D10 -> 98195747 | H10: =G11-H11 -> 0 | I10: M. obra calificada | J10: M. NO obra calificada | K10: Materiales | L10: Maquinaria y Equipo | M10: Transporte | N10: Serv. empresas | O10: imprevistos | P10: Impuestos | Q10: Tranferencia
A11: 3. | B11: ESTABLECIMIENTO, CONTROL Y MONITOREO DE MATERIAL VEGETAL | F11: =SUM(F12:F13) -> 237197320 | G11: =F11*1.35 -> 320216382 | H11: =SUM(I11:Q11) -> 320216382 | I11: =3%*F11 -> 7115919.6 | J11: =F11*30% -> 71159196 | K11: =F11*50% -> 118598660 | L11: =F11*10% -> 23719732 | M11: =F11*10% -> 23719732 | N11: =1%*F11 -> 2371973.2 | O11: =3%*F11 -> 7115919.6 | P11: =23%*F11 -> 54555384 | Q11: =5%*F11 -> 11859866
A12: 3.1 | B12: Establecimiento de material vegetal ( Incluye adecuacion de terreno y suministros) | C12: un | D12: 4000 | E12: ='3.1'!N52 -> 47308 | F12: =+E12*D12 -> 189232000
A13: 3.2 | B13: Riego con agua a las plantulas | C13: Dia | D13: =CANT.!L46 -> 30 | E13: ='3.2'!N52 -> 1598844 | F13: =+E13*D13 -> 47965320
D14: COSTO DIRECTO | F14: =F11+F8+F4 -> 455858322
E15: Administración (30%) | F15: =0.3*F14 -> 1.367575e+08
E16: Imprevistos (1%) | F16: =F14*0.01 -> 4558583.2
E17: Utilidad (4%) | F17: =0.04*F14 -> 18234333
E18: A.I.U | F18: =F15+F16+F17 -> 1.5955041e+08
D19: COSTO DIRECTO + AIU | F19: =ROUND(F18+F14,0) -> 615408735 | H19: =G20-H20 -> 0 | I19: M. obra calificada | J19: M. NO obra calificada | K19: Materiales | L19: Maquinaria y Equipo | M19: Transporte | N19: Serv. empresas | O19: imprevistos | P19: Impuestos | Q19: Tranferencia
A20: 4. | B20: CAPACITACIONES Y CAMPAÑAS | F20: =SUM(F21:F23) -> 40091265 | G20: =F20 -> 40091265 | H20: =SUM(I20:Q20) -> 40091265 | I20: =75%*F20 -> 30068449 | J20: =F20*0% -> 0 | K20: =F20*10% -> 4009126.5 | L20: =F20*10% -> 4009126.5 | M20: =F20*0 -> 0 | N20: =5%*F20 -> 2004563.2 | O20: =0%*F20 -> 0 | P20: =0%*F20 -> 0 | Q20: =0%*F20 -> 0
A21: 4.1 | B21: Taller para el fortalecimiento de capacidades técnicas en la siembra, cuidado y aprovechamiento sostenible de especies arbóreas nativas, dirigido a propietarios y poseedores de predios vinculados al proyecto. (Grupos de 30 Personas) | C21: Sesión (4 horas ) | D21: =CANT.!K51 -> 3 | E21: ='4.1'!N52 -> 3107025 | F21: =E21*D21 -> 9321075
A22: 4.2 | B22: Taller sobre cambio climático, manejo de residuos sólidos, uso eficiente del agua y reforestación, dirigidos a estudiantes, niños y niñas del área de influencia del proyecto (grupos de hasta 30 personas). | C22: Sesión (3 horas ) | D22: =CANT.!L58 -> 6 | E22: ='4.2'!N52 -> 3406368 | F22: =E22*D22 -> 20438208
A23: 4.3 | B23: Campaña De Divulgación Informativa En Educación Ambiental Y Gestión Del Cambio Climático casa a casa | C23: Visitas (1/2 hora) | D23: =CANT.!L64 -> 200 | E23: 51659.91 | F23: =E23*D23 -> 10331982
D24: COSTO TOTAL OBRA | F24: =ROUND(F20+F19,0) -> 655500000
H25: =G26-H26 -> 0 | I25: M. obra calificada | J25: M. NO obra calificada | K25: Materiales | L25: Maquinaria y Equipo | M25: Transporte | N25: Serv. empresas | O25: imprevistos | P25: Impuestos | Q25: Tranferencia
D26: INTERVENTORÍA | F26: =INTERVENTORIA!J31 -> 39000000 | G26: =F26 -> 39000000 | H26: =SUM(I26:Q26) -> 39000000 | I26: =60%*F26 -> 23400000 | J26: =F26*0% -> 0 | K26: =F26*0% -> 0 | L26: =F26*0% -> 0 | M26: =F26*0 -> 0 | N26: =5%*F26 -> 1950000 | O26: =0%*F26 -> 0 | P26: =25%*F26 -> 9750000 | Q26: =10%*F26 -> 3900000
D28: TOTAL PROYECTO | F28: =F26+F24 -> 694500000
F29: 3.3163465e+08
B33: Nombres y Apellidos: Marlon Andrés Páez Perdomo
B34: Ingeniero Ambiental
B35: Cedula de ciudadanía No: 1043931864
B36: Matricula profesional No: 021021-0605064 ATL
K40: 2000

Sheet CRONOGRAMA
B8: =PRESUPUESTO!B1 -> Proyecto: Recuperación De Cobertura Vegetal El Corregimiento De Doña María Del Municipio De Fundación
B9: CRONOGRAMA DE ACTIVIDADES E INVERSION
B10: ITEM | C10: ACTIVIDAD | D10: VALOR | E10: %
F11: Mes 1 | V11: Mes 2 | AL11: Mes 3 | BB11: Mes 4 | BR11: Mes 5
D12: Capitulo | E12: Cap. | F12: SEM 1 | J12: SEM 2 | N12: SEM 3 | R12: SEM 4 | V12: SEM 1 | Z12: SEM 2 | AD12: SEM 3 | AH12: SEM 4 | AL12: SEM 1 | AP12: SEM 2 | AT12: SEM 3 | AX12: SEM 4 | BB12: SEM 1 | BF12: SEM 2 | BJ12: SEM 3 | BN12: SEM 4 | BR12: SEM 1 | BV12: SEM 2 | BZ12: SEM 3 | CD12: SEM 4
B13: 0 | C13: Etapa Precontractual
B16: =[211]PRESUPUESTO!A4 -> 1 | C16: =PRESUPUESTO!B4 -> PRELIMINARES
D17: =PRESUPUESTO!F4 -> 43140255 | E17: =D17/D28 -> 0.094635225 | AL17: =(D17/3)*2 -> 28760170 | BN17: =D17/3 -> 14380085
E18: =D17-(SUM(F16:BQ18)) -> 0
B19: =[211]PRESUPUESTO!A7 -> 2 | C19: =PRESUPUESTO!B8 -> CERRAMIENTOS
D20: =PRESUPUESTO!F8 -> 175520747 | E20: =D20/$D$28 -> 0.38503355 | AT20: =D20/2 -> 87760374 | BB20: =D20/2 -> 87760374
E21: =D20-(SUM(F19:BQ21)) -> 0
B22: =[211]PRESUPUESTO!A15 -> 3 | C22: =PRESUPUESTO!B11 -> ESTABLECIMIENTO, CONTROL Y MONITOREO DE MATERIAL VEGETAL
D23: =PRESUPUESTO!F11 -> 237197320 | E23: =D23/$D$28 -> 0.52033123 | AT23: =D23/3 -> 79065773 | BB23: =D23/3 -> 79065773 | BJ23: =D23/3 -> 79065773
E24: =D23-(SUM(F22:BQ24)) -> 0
B25: 10 | C25: ETAPA DE LIQUIDACION
C28: Total Costos Directos | D28: =D23+D20+D17 -> 455858322 | E28: =E17+E20+E23 -> 1 | AL28: =SUM(AL13:BA27) -> 1.9558632e+08 | BB28: =SUM(BB13:BQ27) -> 2.6027201e+08
C29: Total Costos Directos % | AL29: =AL28/$D$28 -> 0.42905067 | BB29: =BB28/$D$28 -> 0.57094933
C30: =[211]PRESUPUESTO!A33 -> ADMINISTRACIÓN | D30: =PRESUPUESTO!F15 -> 1.367575e+08 | E30: 0.3 | AL30: =$E$30*AL28 -> 58675895 | BB30: =$E$30*BB28 -> 78081602
C31: =[211]PRESUPUESTO!A34 -> IMPREVISTOS | D31: =PRESUPUESTO!F16 -> 4558583.2 | E31: =[211]PRESUPUESTO!F34 -> 0.01 | AL31: =AL28*$E$31 -> 1955863.2 | BB31: =BB28*$E$31 -> 2602720.1
C32: =[211]PRESUPUESTO!A35 -> UTILIDAD | D32: =PRESUPUESTO!F17 -> 18234333 | E32: =[211]PRESUPUESTO!F35 -> 0.04 | AL32: =$E$32*AL28 -> 7823452.7 | BB32: =$E$32*BB28 -> 10410880
C33: A.I.U | D33: =D30+D31+D32 -> 1.5955041e+08 | E33: =E32+E31+E30 -> 0.35 | AL33: =AL30+AL31+AL32 -> 68455211 | BB33: =BB30+BB31+BB32 -> 91095202
C34: =PRESUPUESTO!B20 -> CAPACITACIONES Y CAMPAÑAS | D34: =PRESUPUESTO!F20 -> 40091265 | E34: =D34/D28 -> 0.087946766
AP35: =PRESUPUESTO!F21+PRESUPUESTO!F22 -> 29759283 | BB35: =PRESUPUESTO!F23 -> 10331982
C37: =[211]PRESUPUESTO!A41 -> INTERVENTORÍA (7%) | D37: =PRESUPUESTO!F26 -> 39000000 | E37: =D37/D28 -> 0.085552897
AL38: =D37/2 -> 19500000 | BB38: =D37/2 -> 19500000
C40: =[211]PRESUPUESTO!A43 -> VALOR TOTAL DEL PROYECTO | D40: =PRESUPUESTO!F28 -> 694500000 | AL40: =AL38+AP35+AL33+AL28 -> 3.1330081e+08 | BB40: =BB38+BB35+BB28+BB33 -> 3.8119919e+08
AL41: =AL40/$D$40 -> 0.45111708 | BB41: =BB40/$D$40 -> 0.54888292
AL42: =AL41 -> 0.45111708 | BB42: =AL42+BB41 -> 1
C43: VALOR ACUMULADO | D43: =D40 -> 694500000 | AL43: =AL40 -> 3.1330081e+08 | BB43: =AL43+BB40 -> 6.945e+08

Sheet AIU FINAL.
A2: =PRESUPUESTO!B1 -> Proyecto: Recuperación De Cobertura Vegetal El Corregimiento De Doña María Del Municipio De Fundación | J2: costo directo | K2: =PRESUPUESTO!F14 -> 455858322 | L2: PLAZO (MESES) | M2: 2
A3: DESCRIPCION DEL A.I.U. | J3: Costo de obra | K3: =PRESUPUESTO!F24 -> 655500000
A5: CÓDIGO | B5: DESCRIPCIÓN | C5: CANT. | D5: VR. UNITARIO | F5: PLAZO (MESES) | G5: DEDICACIÓN | H5: % | I5: VALOR PARCIAL
A6: 1.1 | B6: ADMINISTRACION | H6: =SUM(H7:H38) -> 0.9332
A7: 1,1,1 | B7: personal admond, Directivos, varios de obra +prestaciones sociales | H7: 0.0214
A8: 1,1,2 | B8: Costos de manejo socio ambiental | H8: 0.0053
A9: 1,1,3 | B9: Sistema de Seguridad Industrial/Dotación | H9: 0.0006
A10: 1,1,4 | B10: Ensayos de Control de Calidad | H10: 0.0059
A11: 1 | B11: ADMINISTRACIÓN | H11: =I11/K2 -> 0.3 | I11: =I12+I20+I33 -> 1.367575e+08 | J11: 1.367575e+08 | K11: =J11-I11 -> 0 | L11: =K11-I11 -> -1.367575e+08
A12: 1.1 | B12: GASTOS VARIOS | H12: =SUM(H13:H19) -> 0.010812617 | I12: =SUM(I13:I19) -> 4929021.6
A13: 1,1,1 | B13: Valla Informatica general del proyecto | C13: 1 | D13: 1588018.6 | F13: 1 | G13: 1 | H13: =I13/$K$2 -> 0.0034835793 | I13: =C13*D13*F13*G13 -> 1588018.6
A14: 1,1,2 | B14: Arriendo de Oficina (Amoblada, dotacion de oficina, computadores ) | C14: 1 | D14: 500000 | F14: =M2 -> 2 | G14: 0.25 | H14: =I14/$K$2 -> 0.00054841601 | I14: =C14*D14*F14*G14 -> 250000
A15: 1,1,3 | B15: Servicios publicos ( Agua, Energia, Aseo, Alcantarillado, Datos, Telefonia) de oficina | C15: 1 | D15: 500000 | F15: =$M$2 -> 2 | G15: 0.25 | H15: =I15/$K$2 -> 0.00054841601 | I15: =C15*D15*F15*G15 -> 250000
A16: 1,1,4 | B16: Papelería/Empastes /copias | C16: 1 | D16: 250000 | F16: =$M$2 -> 2 | G16: 0.25 | H16: =I16/$K$2 -> 0.000274208 | I16: =C16*D16*F16*G16 -> 125000
A17: 1,1,5 | B17: PMA | C17: 1 | D17: =PMA!H60 -> 1430043 | F17: 1 | G17: 1 | H17: =I17/$K$2 -> 0.0031370339 | I17: =C17*D17*F17*G17 -> 1430043
A18: 1,1,6 | B18: PMT | C18: 1 | D18: =PMT!G33 -> 1035960 | F18: 1 | G18: 1 | H18: =I18/$K$2 -> 0.0022725482 | I18: =C18*D18*F18*G18 -> 1035960
A19: 1,1,6 | B19: Estudios de análisis de suelos | C19: 5 | D19: 50000 | F19: 1 | G19: 1 | H19: =I19/$K$2 -> 0.00054841601 | I19: =C19*D19*F19*G19 -> 250000
A20: 1.2 | B20: GASTOS DE LEGALIZACION E IMPUESTOS | G20: % Sobre Total Obra | H20: =SUM(H21:H32) -> 0.24531372 | I20: =SUM(I21:I32) -> 111828300
A21: 1.2.1 | B21: Polizas | G21: 0.0005 | H21: =I21/$K$2 -> 0.00071897338 | I21: =G21*$K$3 -> 327750
A22: 1.2.2 | B22: Documentación y registros | G22: 0.0001 | H22: =I22/$K$2 -> 0.00014379468 | I22: =G22*$K$3 -> 65550
A23: 1.2.3 | B23: Estampilla Prouniversidad (UNIMAG) | G23: 0.02 | H23: =I23/$K$2 -> 0.028758935 | I23: =G23*$K$3 -> 13110000
A24: 1.2.4 | B24: Estampilla Pro - Hospital (Troconis) | G24: 0.02 | H24: =I24/$K$2 -> 0.028758935 | I24: =G24*$K$3 -> 13110000
A25: 1.2.5 | B25: Estampilla Procultura | G25: 0.02 | H25: =I25/$K$2 -> 0.028758935 | I25: =G25*$K$3 -> 13110000
A26: 1.2.6 | B26: Fondo de seguridad Ciudadana | G26: 0.05 | H26: =I26/$K$2 -> 0.071897338 | I26: =G26*$K$3 -> 32775000
A27: 1.2.7 | B27: Retencion en la fuente sobre contrato de obras
A28: 1.2.8 | B28: industria y comercio
A29: 1.2.9 | B29: Madres comunitarias
A30: 1.2.10 | B30: Estampilla Adulto Mayor | G30: 0.04 | H30: =I30/$K$2 -> 0.057517871 | I30: =G30*$K$3 -> 26220000
A31: 1.2.11 | B31: Apoyo comisaria | G31: 0.02 | H31: =I31/$K$2 -> 0.028758935 | I31: =G31*$K$3 -> 13110000
A32: 1.2.12 | B32: Estampilla Pro - Deporte
A33: 1.3 | B33: PERSONAL ADMINISTRATIVO Y TECNICO | H33: =SUM(H35:H38) -> 0.043873664 | I33: =SUM(I35:I38) -> 20000175
C34: CANT. | D34: VR. UNITARIO CON F | E34: F.P | F34: PLAZO (MESES) | G34: DEDICACIÓN | H34: % | I34: VALOR PARCIAL
A37: 1,3,5 | B37: Residente de Obra ( Ing Ambiental - Ing Forestal ) | C37: 1 | D37: =2.5*F.P!C8 -> 3558750 | E37: =F.P!F37+1 -> 1.7 | F37: =$M$2 -> 2 | G37: 1 | H37: =I37/$K$2 -> 0.026542786 | I37: =C37*D37*E37*F37*G37 -> 12099750
A38: 1,3,8 | B38: Inspector encargado del Componete SST | C38: 1 | D38: =1.5*F.P!C8 -> 2135250 | E38: =F.P!E37+1 -> 1.85 | F38: =$M$2 -> 2 | G38: 1 | H38: =I38/$K$2 -> 0.017330878 | I38: =C38*D38*E38*F38*G38 -> 7900425
A40: 2 | B40: IMPREVISTOS | H40: 0.01 | I40: =H40*PRESUPUESTO!F14 -> 4558583.2
A41: 3 | B41: UTILIDAD | H41: 0.04 | I41: =H41*PRESUPUESTO!F14 -> 18234333
B42: A.I.U. | H42: =H11+H40+H41 -> 0.35 | I42: =I41+I40+I11 -> 1.5955041e+08 | J42: =PRESUPUESTO!F18 -> 1.5955041e+08 | K42: =I42-J42 -> 0

Sheet PMA
A2: =[212]Cronograma!A6 -> PROYECTO: | B2: =PRESUPUESTO!B1 -> Proyecto: Recuperación De Cobertura Vegetal El Corregimiento De Doña María Del Municipio De Fundación
A4: PRESUPUESTO PMA
A8: PROGRAMA 6 | B8: GESTION SOCIAL
B9: ATENCION A LA COMUNIDAD
A10: PROYECTO 1 | B10: Descripcion | C10: Cantidad | D10: Unidad | E10: Tiempo (meses) | F10: % Dedicacion | G10: Valor unitario | H10: Valor Total
B11: Oficina de Atención al Usuario (instalación, adecuación, dotación y operación) | C11: 1 | D11: Un | E11: 2 | F11: 0.05 | G11: ='AIU FINAL.'!D14 -> 500000 | H11: =C11*E11*F11*G11 -> 50000
A12: TOTAL | H12: =SUM(H11:$I$18) -> 1400000
A14: PROGRAMA 6 | B14: ACTIVIDADES CONSTRUCTIVAS
B15: INFORMACION Y DIVULGACION
A16: PROYECTO 2 | B16: Descripcion | C16: Cantidad | D16: Unidad | E16: Tiempo (mes) | F16: % Dedicacion | G16: Valor unitario | H16: Valor Total
B17: Reuniones de inicio, avance y cierre del proyecto | C17: 1 | D17: MES | E17: 2 | F17: 1 | G17: 50000 | H17: =C17*E17*F17*G17 -> 100000
B18: Instalación de buzones satélite | C18: 1 | D18: UND | E18: 1 | F18: 1 | G18: 50000 | H18: =C18*E18*F18*G18 -> 50000
B19: Cartilla de finalización del contrato (productos de calidad litográfica, digital, entre otras) | C19: 100 | D19: UND | E19: 1 | F19: 1 | G19: 900 | H19: =C19*E19*F19*G19 -> 90000
B20: Volantes y/o plegables de producción masiva (de calidad litográfica, digital, entre otras) | C20: 100 | D20: UND | E20: 1 | F20: 1 | G20: 500 | H20: =C20*E20*F20*G20 -> 50000
B21: Pendones y/o afiches (de calidad litográfica, digital, entre otras) | C21: 1 | D21: UND | E21: 1 | F21: 1 | G21: 100000 | H21: =C21*E21*F21*G21 -> 100000
B22: Perifoneo | C22: 1 | D22: UND | E22: 1 | F22: 1 | G22: 50000 | H22: =C22*E22*F22*G22 -> 50000
B23: Cuñas radiales | C23: 0 | D23: UND | E23: 1 | F23: 1 | G23: 30000 | H23: =C23*E23*F23*G23 -> 0
B24: Logística de reuniones extraordinarias (alquiler de salones y/o sillas) | C24: 1 | D24: UND | E24: 1 | F24: 1 | G24: 100000 | H24: =C24*E24*F24*G24 -> 100000
B25: Alquiler de video beam y/o sonido para reuniones extraordinarias | C25: 0 | D25: UND | E25: 1 | F25: 1 | G25: 20000 | H25: =C25*E25*F25*G25 -> 0
B26: Refrigerios reuniones inicio, avance, cierre, extraordinarias | C26: 1 | D26: UND | E26: 1 | F26: 1 | G26: 150000 | H26: =C26*E26*F26*G26 -> 150000
H27: =SUM(H$24:$I26) -> 250000
A29: PROGRAMA 6 | B29: ACTIVIDADES CONSTRUCTIVAS
B30: MANEJO DE LA INFRAESTRUCTURA DE PREDIOS Y DE SERVICIOS PUBLICOS
A31: PROYECTO 3 | B31: Descripcion | C31: Cantidad | D31: Unidad | E31: Tiempo (mes) | F31: % Dedicacion | G31: Valor unitario | H31: Valor Total
B32: Levantamiento de actas de vecindad de inicio, cierre y compromiso | C32: 2 | D32: Und | E32: 1 | F32: 0.1 | G32: 1200000 | H32: =C32*E32*F32*G32 -> 240000
A33: TOTAL | H33: =SUM(H32:H32) -> 240000
A35: PROGRAMA 5 | B35: ACTIVIDADES CONSTRUCTIVAS
B36: RECUPERACION DEL DERECHO DE VIA
A37: PROYECTO 4 | B37: Descripcion | C37: Cantidad | D37: Unidad | E37: Tiempo (mes) | F37: % Dedicacion | G37: Valor unitario | H37: Valor Total
B38: Inventario de actividades económicas informales en el corredor | C38: 1 | D38: UND | E38: 2 | F38: 0.1 | G38: 250000 | H38: =C38*E38*F38*G38 -> 50000
A39: TOTAL | H39: =SUM(H38:H38) -> 50000
A41: PROGRAMA 5 | B41: ACTIVIDADES CONSTRUCTIVAS
B42: CULTURA VIAL Y PARTICIPACION COMUNITARIA
A43: PROYECTO 5 | B43: Descripcion | C43: Cantidad | D43: Unidad | E43: Tiempo (mes) | F43: % Dedicacion | G43: Valor unitario | H43: Valor Total
B44: Kit de cultura vial | C44: 0 | D44: UND | E44: 1 | F44: 1 | G44: 100000 | H44: =C44*E44*F44*G44 -> 0
B45: Refrigerios talleres pedagógicos | C45: 0 | D45: UND | E45: 1 | F45: 1 | G45: 300000 | H45: =C45*E45*F45*G45 -> 0
B46: Refrigerios reuniones comité participación comunitaria | C46: 0 | D46: UND | E46: 1 | F46: 1 | G46: 500000 | H46: =C46*E46*F46*G46 -> 0
A47: TOTAL | H47: =SUM(H44:H46) -> 0
A49: PROGRAMA 6 | B49: ACTIVIDADES CONSTRUCTIVAS
B50: CONTRATACION DE MANO DE OBRA
...

Sheet PMT
B3: =[212]Cronograma!A6 -> PROYECTO: | C3: =PRESUPUESTO!B1 -> Proyecto: Recuperación De Cobertura Vegetal El Corregimiento De Doña María Del Municipio De Fundación | H3: PRESUPUESTO PMT
B5: PRESUPUESTO PLAN DE MANEJO DE TRANSITO (PMT)
B8: ITEM | C8: DESCRIPCION | D8: UND | E8: CANT. | F8: VR. UNIT | G8: VR. TOTAL
B10: PLAN DE MANEJO DE TRAFICO ( DISPOSITIVOS, SEÑALIZACION Y EQUIPOS) (A)
B12: 1 | C12: DISPOSITIVOS DE CONTROL
B13: 1.1 | C13: BARRICADAS METALICA CON REFLECTIVO GRADO INGENIERIA 240x150cm | D13: UND | E13: 0 | F13: 580884 | G13: =E13*F13 -> 0
B14: 1.2 | C14: PALETAS PARE Y SIGA REFLECTIVA DE 30 CM X 30 CM | D14: UND | E14: 0 | F14: 30000 | G14: =E14*F14 -> 0
B15: 1.3 | C15: DELINEADORES TUBULARES (COLOMBINAS) | D15: UND | E15: 0 | F15: 110000 | G15: =E15*F15 -> 0
B16: 1.5 | C16: CINTA PLASTICA "PELIGRO NO PASE" DE 100 METROS | D16: ROLLO | E16: 5 | F16: 20000 | G16: =E16*F16 -> 100000
B17: 2 | C17: SEÑALIZACION
B18: 2.1 | C18: SEÑALIZACIÓN DE PRIMER NIVEL (PASAVIAS EN TELA) | D18: UND | E18: 1 | F18: 150000 | G18: =E18*F18 -> 150000
B19: 2.2 | C19: SEÑALES MOVILES DE APROXIMACIÓN | D19: UND | E19: 1 | F19: 200000 | G19: =E19*F19 -> 200000
B20: 3 | C20: EQUIPOS VARIOS
B21: 3.1 | C21: CHALECOS REFLECTIVOS | D21: UNID. | E21: 2 | F21: 25000 | G21: =E21*F21 -> 50000
B22: 3.2 | C22: VOLANTES INFORMATIVOS | D22: UNID. | E22: 100 | F22: 500 | G22: =E22*F22 -> 50000
B23: 3.3 | C23: PITOS PARA AUXILIARES DE TRÁNSITO | D23: UNID. | E23: 2 | F23: 2480 | G23: =E23*F23 -> 4960
C25: SUBTOTAL PLAN DE MANEJO DE TRAFICO ( DISPOSITIVOS, SEÑALIZACION Y EQUIPOS) | G25: =SUM(G12:G23) -> 554960 | M25: 7615224 | O25: 1548000
B27: ÍTEM | C27: DESCRIPCIÓN | D27: UNIDAD | E27: CANT. | F27: VR. UNITARIO | G27: MESES | H27: DEDICACIÓN | I27: FACTOR PRESTACIONAL | J27: VR. TOTAL | M27: 4393600 | O27: 7615224
B28: PERSONAL PROFESIONAL, AUXILIARES DE TRANSITO Y BRIGADAS ( B )
B29: 1 | C29: AUXILIAR DE TRANSITO | D29: UN | E29: 1 | F29: 1300000 | G29: 2 | H29: 0.1 | I29: 1.85 | J29: =E29*F29*G29*H29*I29 -> 481000 | M29: 46250000
B30: SUBTOTAL PLAN DE MANEJO DE TRAFICO ( PERSONAL ) | J30: =SUM(J29:J29) -> 481000 | L30: 19240000 | O30: 46250000
B33: VALOR TOTAL PMT INCLUIDO AIU | G33: =ROUND((G25+J30),0) -> 1035960
M34: =J29+J30 -> 962000 | O34: 14800000

Sheet INTERVENTORIA
D2: =PRESUPUESTO!B1 -> Proyecto: Recuperación De Cobertura Vegetal El Corregimiento De Doña María Del Municipio De Fundación
D3: CÁLCULO DETALLADO DEL VALOR DE LA INTERVENTORÍA INTERVENTORÍA TÉCNICA, ADMINISTRATIVA, FINANCIERA y AMBIENTAL | L3: MESES | M3: ='AIU FINAL.'!M2 -> 2
B4: N° | C4: CONCEPTO | D4: A | E4: B | F4: C | G4: D | H4: E | I4: F | J4: G | L4: valor | M4: =[213]PRESUPUESTO!L44 -> 4.4707382e+08
D5: SUELDO MES BÁSICO | E5: CANTIDAD | F5: % DE DEDICACIÓN | G5: F.M | H5: VALOR MES (A * B * C * D) | I5: N° DE MESES | J5: TOTAL PARCIAL (E * F)
B6: 1 | C6: PERSONAL
B7: 1.1 | C7: PERSONAL DE SUPERVISIÓN
B8: 1.1.1 | C8: Director de Interventoría | D8: =3*F.P!C8 -> 4270500 | E8: 1 | F8: 0.3 | G8: =F.M!F39 -> 2 | H8: =(D8*E8*F8*G8) -> 2562300 | I8: =$M$3 -> 2 | J8: =H8*I8 -> 5124600
B9: 1.1.2 | C9: Ingeniero civil Residentes de de Interventoría | D9: ='AIU FINAL.'!D37 -> 3558750 | E9: 1 | F9: 1 | G9: =F.M!F39 -> 2 | H9: =(D9*E9*F9*G9) -> 7117500 | I9: =$M$3 -> 2 | J9: =H9*I9 -> 14235000
B10: 1.1.5 | C10: ='MANO DE OBRA'!E75 -> Inspector | D10: =1.5*F.P!C8 -> 2135250 | E10: 1 | F10: 1 | G10: =F.M!E39 -> 2.05 | H10: =(D10*E10*F10*G10) -> 4377262.5 | I10: =$M$3 -> 2 | J10: =H10*I10 -> 8754525
C11: SUBTOTAL COSTOS DE PERSONAL | J11: =SUM(J8:J10) -> 28114125
B12: OTROS COSTOS DIRECTOS
B13: 2 | C13: OTROS COSTOS DIRECTOS | D13: UND | E13: CANTIDAD | F13: mes | G13: Dedicacion | H13: VALOR UNITARIO | J13: VALOR TOTAL
B14: 2.1.1 | C14: Papelería y copias incluye papel y tinta de ploter | D14: mes | E14: 1 | F14: =$M$3 -> 2 | G14: 1 | H14: ='AIU FINAL.'!D16 -> 250000 | J14: =F14*H14*E14*G14 -> 500000
B15: 2.1.2 | C15: Arriendo de Oficina (Incluye Servicios Públicos, servicio de oficina, dotacion de oficina) | D15: mes | E15: 1 | F15: =M3 -> 2 | G15: 1 | H15: ='AIU FINAL.'!D14 -> 500000 | J15: =F15*H15*E15*G15 -> 1000000
B16: 2.1.4 | C16: Arquiler de Motocicleta | D16: mes | E16: 1 | F16: 2 | G16: 1 | H16: 487055.15 | J16: =F16*H16*E16*G16 -> 974110.29
C17: SUBTOTAL OTROS COSTOS DIRECTOS | J17: =SUM(J14:J16) -> 2474110.3
B19: RESUMEN GENERAL
C20: COSTO DIRECTO SIN IVA TOTAL (1 + 2) | J20: =J17+J11 -> 30588235
C21: IVA (19%) | J21: =0.19*J20 -> 5811764.7
B22: 3 | C22: COSTO QUE NO SON AFECTADOS POR IVA
B23: 3.1 | C23: ESTAMPILLAS | F23: =SUM(F24:F28) -> 0.075 | J23: =F23*J20 -> 2294117.6
B24: 3.1.1 | C24: Estampilla Pro - Hospital | F24: 0.02
B25: 3.1.2 | C25: Estampilla PRO - UNIVERSIDAD | F25: 0.02
B26: 3.1.3 | C26: Estampilla CULTURA | F26: 0.01
B27: 3.1.4 | C27: Estampilla Pro ADULTO MAYOR | F27: 0.01
B28: 3.1.5 | C28: Estampilla Prodeporte | F28: 0.015
B29: 3.2 | C29: Polizas GARANTÍA DE CALIDAD DEL SERVICIO y GARANTÍA DE CUMPLIMIENTO | F29: 0.01 | J29: =F29*J20 -> 305882.35
B30: SUBTOTAL OTROS COSTOS DIRECTOS | J30: =SUM(J23:J29) -> 2600000 | K30: =PRESUPUESTO!F26 -> 39000000 | L30: =K30-J31 -> 0
C31: VALOR TOTAL INTERVENTORIA | J31: =J21+J20+J30 -> 39000000 | K31: =PRESUPUESTO!F26 -> 39000000 | L31: =J31-K31 -> 0

Sheet CANT.
B3: MEMORIA DE CANTIDADES
B4: Proyecto: | C4: =PRESUPUESTO!B1 -> Proyecto: Recuperación De Cobertura Vegetal El Corregimiento De Doña María Del Municipio De Fundación
B6: ITEMS | C6: =PRESUPUESTO!A5 -> 1.1 | D6: DESCRIPCIÓN | F6: =VLOOKUP(C6,PRESUPUESTO!A3:F13,2,FALSE) -> Visitas de campo para el tramite suscripcion y cierre de acuerdos voluntarios Dirigidos | K6: Unidad | L6: =VLOOKUP(C6,PRESUPUESTO!A3:F13,3,FALSE) -> un
B8: Esquema - Ubicación | D8: Descripción | K8: Cantidad | L8: Subtotal
B9: #VALUE! | D9: Visita realizada a fincas en los corregimientos de Doña Maria para suscribir acuerdos de voluntades con los propietarios o tenedores de parcelas y fincas de esta zona | K9: 15 | L9: =K9 -> 15
K10: Total | L10: =SUM(L9:L9) -> 15
B12: ITEMS | C12: =PRESUPUESTO!A6 -> 1.2 | D12: DESCRIPCIÓN | F12: =VLOOKUP(C12,PRESUPUESTO!$A$1:F19,2,FALSE) -> Desmonte y limpieza en zonas no boscosas | K12: Unidad | L12: =VLOOKUP(C12,PRESUPUESTO!$A$1:F13,3,FALSE) -> ha
B14: Esquema - Ubicación | D14: Descripción | K14: Cantidad | L14: Subtotal
B15: #VALUE! | D15: Fincas o parcelas en el corregimiento de Doña Maria donde establecerá la plantación. | K15: 40 | L15: =K15 -> 40
K16: Total | L16: =SUM(L15:L15) -> 40
B18: ITEMS | C18: =PRESUPUESTO!A7 -> 1.3 | D18: DESCRIPCIÓN | F18: =VLOOKUP(C18,PRESUPUESTO!$A$1:F24,2,FALSE) -> Limpieza de cerca de alambre de púas con postes de madera (Guarda fuegos) | K18: Unidad | L18: =VLOOKUP(C18,PRESUPUESTO!$A$1:F19,3,FALSE) -> m
B20: Esquema - Ubicación | D20: Descripción | K20: Cantidad | L20: Subtotal
B21: #VALUE! | D21: Fincas o parcelas en el corregimiento de Doña Maria donde establecerá la plantación.. | K21: =3000+1000 -> 4000 | L21: =K21 -> 4000
K22: Total | L22: =SUM(L21:L21) -> 4000
B24: ITEMS | C24: =PRESUPUESTO!A9 -> 2.1 | D24: DESCRIPCIÓN | F24: =VLOOKUP(C24,PRESUPUESTO!$A$1:F34,2,FALSE) -> Aislamiento de las áreas con mayor presencia del tensionante identificado en cercas de puas | K24: Unidad | L24: =VLOOKUP(C24,PRESUPUESTO!$A$1:F30,3,FALSE) -> m
B26: Esquema - Ubicación | D26: Descripción | K26: Cantidad | L26: Subtotal
B27: #VALUE! | D27: Fincas o parcelas en el corregimiento de Doña Maria donde establecerá la plantación. | K27: 3000 | L27: =K27 -> 3000
K28: Total | L28: =SUM(L27:L27) -> 3000
B30: ITEMS | C30: =PRESUPUESTO!A10 -> 2.2 | D30: DESCRIPCIÓN | F30: =VLOOKUP(C30,PRESUPUESTO!$A$1:F40,2,FALSE) -> Aislamiento individal en corralles de madarea y alambres de puas | K30: Unidad | L30: =VLOOKUP(C30,PRESUPUESTO!$A$1:F34,3,FALSE) -> un
B32: Esquema - Ubicación | D32: Descripción | K32: Cantidad | L32: Subtotal
B33: #VALUE! | D33: Fincas o parcelas en el corregimiento de Doña Maria donde establecerá la plantación. | K33: 1157 | L33: =K33 -> 1157
K34: Total | L34: =SUM(L33:L33) -> 1157
B36: ITEMS | C36: =PRESUPUESTO!A12 -> 3.1 | D36: DESCRIPCIÓN | F36: =VLOOKUP(C36,PRESUPUESTO!$A$1:F46,2,FALSE) -> Establecimiento de material vegetal ( Incluye adecuacion de terreno y suministros) | K36: Unidad | L36: =VLOOKUP(C36,PRESUPUESTO!$A$1:F40,3,FALSE) -> un
B38: Esquema - Ubicación | D38: Descripción | K38: Cantidad | L38: Subtotal
B39: #VALUE! | D39: Fincas o parcelas en el corregimiento de Doña Maria donde establecerá la plantación. | K39: 4000 | L39: =K39 -> 4000
K40: Total | L40: =SUM(L39:L39) -> 4000
B42: ITEMS | C42: =PRESUPUESTO!A13 -> 3.2 | D42: DESCRIPCIÓN | F42: =VLOOKUP(C42,PRESUPUESTO!$A$1:F52,2,FALSE) -> Riego con agua a las plantulas | K42: Unidad | L42: =VLOOKUP(C42,PRESUPUESTO!$A$1:F46,3,FALSE) -> Dia
B44: Esquema - Ubicación | D44: Descripción | K44: Cantidad | L44: Subtotal
B45: #VALUE! | D45: Fincas o parcelas en el corregimiento de Doña Maria donde establecerá la plantación. | K45: 30 | L45: =K45 -> 30
K46: Total | L46: =SUM(L45:L45) -> 30
B48: ITEMS | C48: =PRESUPUESTO!A21 -> 4.1 | D48: DESCRIPCIÓN | F48: =VLOOKUP(C48,PRESUPUESTO!$A$1:F58,2,FALSE) -> Taller para el fortalecimiento de capacidades técnicas en la siembra, cuidado y aprovechamiento sostenible de especies arbóreas nativas, dirigido a propietarios y poseedores de predios vinculados al proyecto. (Grupos de 30 Personas) | K48: Unidad | L48: =VLOOKUP(C48,PRESUPUESTO!$A$1:F52,3,FALSE) -> Sesión (4 horas )
B50: Esquema - Ubicación | D50: Descripción | K50: Cantidad | L50: Subtotal
B51: #VALUE! | D51: Corregimiento de Doña Maria | K51: 3 | L51: =K51 -> 3
K52: Total | L52: =SUM(L51:L51) -> 3
B54: ITEMS | C54: =PRESUPUESTO!A22 -> 4.2 | D54: DESCRIPCIÓN | F54: =VLOOKUP(C54,PRESUPUESTO!$A$1:F64,2,FALSE) -> Taller sobre cambio climático, manejo de residuos sólidos, uso eficiente del agua y reforestación, dirigidos a estudiantes, niños y niñas del área de influencia del proyecto (grupos de hasta 30 personas). | K54: Unidad | L54: =VLOOKUP(C54,PRESUPUESTO!$A$1:F58,3,FALSE) -> Sesión (3 horas )
B56: Esquema - Ubicación | D56: Descripción | K56: Cantidad | L56: Subtotal
B57: #VALUE! | D57: Corregimiento de Doña Maria | K57: 6 | L57: =K57 -> 6
K58: Total | L58: =SUM(L57:L57) -> 6
B60: ITEMS | C60: =PRESUPUESTO!A23 -> 4.3 | D60: DESCRIPCIÓN | F60: =VLOOKUP(C60,PRESUPUESTO!$A$1:F70,2,FALSE) -> Campaña De Divulgación Informativa En Educación Ambiental Y Gestión Del Cambio Climático casa a casa | K60: Unidad | L60: =VLOOKUP(C60,PRESUPUESTO!$A$1:F64,3,FALSE) -> Visitas (1/2 hora)
B62: Esquema - Ubicación | D62: Descripción | K62: Cantidad | L62: Subtotal
...

Sheet DISTANCIA DE ACARREO
A2: =PRESUPUESTO!B1 -> Proyecto: Recuperación De Cobertura Vegetal El Corregimiento De Doña María Del Municipio De Fundación
A3: DISTANCIAS DE ACARREOS
A5: MATERIAL | B5: Lugar | C5: UNIDAD | D5: DISTANCIA
A13: Tierra Negra | B13: Fincas en Algarrobo | C13: km | D13: 28
A14: Abono | B14: Aracataca - Vivero Palma de Mayorca (10°38'38.94"N 74° 9'46.21"O) | C14: km | D14: 17.5

Sheet F.P
A2: =PRESUPUESTO!B1 -> Proyecto: Recuperación De Cobertura Vegetal El Corregimiento De Doña María Del Municipio De Fundación
A3: PRECIOS DE REFERENCIA PARA EL DEPARTAMENTO DEL MAGALENA
A4: CULCULO DEL FACTOR PRESTACIONAL
E5: Factor prestacional (%)
A6: 1.-SALARIOS DE MANO DE OBRA | E6: salarios ≤ 2 SMMLV | F6: salarios ≥2 SMMLV
A8: A- Salario Minimo Legal | B8: 2025 | C8: 1423500
A9: B- Auxilio de Transporte | B9: 2025 | C9: 200000
A10: C- Total Mensual | C10: =SUM(C8:C9) -> 1623500
A11: D- Anual (A*12) | C11: =C8*12 -> 17082000 | E11: 1 | F11: 1
A12: Subsidio de Transporte Anual (B*12) | C12: =+C9*12 -> 2400000 | E12: =C9/C8 -> 0.14049877 | F12: 0
A13: E- Anual con Subsidio de Transporte | C13: =+C11+C12 -> 19482000
A15: PRESTACIONES | B15: BASE
A16: Cesantias | B16: A | C16: =1/12 -> 0.083333333 | D16: =C8 -> 1423500 | E16: =D16/C11 -> 0.083333333 | F16: =E16 -> 0.083333333
A17: Intereses | B17: =+A16 -> Cesantias | C17: 0.12 | D17: =+D16*C17 -> 170820 | E17: =D17/C11 -> 0.01 | F17: =E17 -> 0.01
A18: Vacaciones 15 Dias | B18: A | C18: 0.5 | D18: =C8 -> 1423500 | E18: =C18/12 -> 0.041666667 | F18: =E18 -> 0.041666667
A19: Primas 30 Dias | B19: C | C19: 1 | D19: =+C8 -> 1423500 | E19: =D16/C11 -> 0.083333333 | F19: =C8/C11 -> 0.083333333
A21: OTROS COSTOS
A22: Dotacion (Botas, overol y camiza) | B22: 92500 | C22: 4 | D22: =+B22*C22 -> 370000 | E22: =D22/$C$11 -> 0.021660227 | F22: =E22 -> 0.021660227
A23: Implementos de seguridad industrial | B23: 136322.13 | C23: 6 | D23: =C23*B23 -> 817932.8 | E23: =D23/C11 -> 0.04788273 | F23: =E23*G23 -> 0.038381501 | G23: 0.80157294
A24: Seguro Colectivo | B24: D | C24: 0.05 | D24: =+C11*C24 -> 854100 | E24: =D24/$C$11 -> 0.05 | F24: =E24 -> 0.05
A25: Examenes medicos | B25: A | C25: =1/12 -> 0.083333333 | D25: 120000 | E25: =D25*C25/D16 -> 0.0070249385 | F25: =E25 -> 0.0070249385
A27: SEGURIDAD SOCIAL
A28: Pensiones | B28: D | C28: 0.12 | D28: =+C11*C28 -> 2049840 | E28: =C28 -> 0.12 | F28: =E28 -> 0.12
A29: Medicina Familiar | B29: D | C29: 0.085 | D29: =+C11*C29 -> 1451970 | E29: =C29 -> 0.085 | F29: =E29 -> 0.085
A30: Riesgos Profesionales | B30: D | C30: 0.0696 | D30: =+C11*C30 -> 1188907.2 | E30: =C30 -> 0.0696 | F30: =C30 -> 0.0696
K31: 6045617
A32: APORTES PARAFISCALES | K32: =+K31*10.98% -> 663808.75
A33: Cajas de Compensación Familiar | C33: 0.04 | D33: =+$C$11*C33 -> 683280 | E33: =C33 -> 0.04 | F33: =E33 -> 0.04 | K33: 556200
A34: ICBF | C34: 0.03 | D34: =+$C$11*C34 -> 512460 | E34: =C34 -> 0.03 | F34: =C34 -> 0.03
A35: SENA | C35: 0.02 | D35: =+$C$11*C35 -> 341640 | E35: =C35 -> 0.02 | F35: =C35 -> 0.02
A37: VALOR REAL DEL SALARIO | D37: =SUM(D16:D35)+C13 -> 32313450 | E37: =SUM(E12:E35) -> 0.85 | F37: =SUM(F12:F35) -> 0.7

Sheet F.M
B1: =PRESUPUESTO!B1 -> Proyecto: Recuperación De Cobertura Vegetal El Corregimiento De Doña María Del Municipio De Fundación
B3: ANALISIS DEL FACTOR MULTIPLICADOR - COSTOS DIRECTOS
B5: DESCRIPCION | E5: FM (%)
B6: 1. SALARIO | E6: salarios ≤ 2 SMMLV | F6: salarios ≥2 SMMLV
B7: Salario Anual | E7: 1 | F7: =E7 -> 1
B8: SUB-TOTAL SALARIO | E8: =SUM(E7:E7) -> 1 | F8: =F.P!F11 -> 1
B9: Subsidio de Transporte Anual | E9: =F.P!E12 -> 0.14049877 | F9: =F.P!F12 -> 0
B10: 2. CALCULOS PRESTACIONALES
B11: PRESTACIONES
B12: Cesantías por Ley | E12: =F.P!E16 -> 0.083333333 | F12: =F.P!F16 -> 0.083333333
B13: Intereses sobre cesantías | E13: =F.P!E17 -> 0.01 | F13: =F.P!F17 -> 0.01
B14: Vacaciones Anuales | E14: =F.P!E18 -> 0.041666667 | F14: =F.P!F18 -> 0.041666667
B15: Primas Anuales | E15: =F.P!E19 -> 0.083333333 | F15: =F.P!F19 -> 0.083333333
B16: APORTES PARAFISCALES
B17: Cajas de Compensación Familiar | E17: =F.P!E33 -> 0.04 | F17: =F.P!F33 -> 0.04
B18: ICBF | E18: =F.P!E34 -> 0.03 | F18: =F.P!F34 -> 0.03
B19: SENA | E19: =F.P!E35 -> 0.02 | F19: =F.P!F35 -> 0.02
B20: SEGURIDAD SOCIAL
B21: Pensión | E21: =F.P!E28 -> 0.12 | F21: =F.P!F28 -> 0.12
B22: Medicina Familiar | E22: =F.P!E29 -> 0.085 | F22: =F.P!F29 -> 0.085
B23: Riesgos Profesionales | E23: =F.P!E30 -> 0.0696 | F23: =F.P!F30 -> 0.0696
B24: OTROS COSTOS
B25: Dotacion (Botas, overol y camiza) | E25: =F.P!E22 -> 0.021660227 | F25: =E25 -> 0.021660227
B26: Implementos de seguridad industrial | E26: =F.P!E23 -> 0.04788273 | F26: =F.P!F23 -> 0.038381501
B27: Seguro Colectivo | E27: =F.P!E24 -> 0.05 | F27: =F.P!F24 -> 0.05
B28: Examenes medicos | E28: =F.P!F25 -> 0.0070249385 | F28: =E28 -> 0.0070249385
B29: SUB-TOTAL C. PRESTACIONALES | E29: =SUM(E9:E28) -> 0.85 | F29: =SUM(F12:F28) -> 0.7
B31: SUB-TOTAL (1 + 2) | E31: =E29+E8 -> 1.85 | F31: =F29+F8 -> 1.7
B34: 4. HONORARIOS
B35: 4.1. Utilidad | E35: 0.2 | F35: 0.3
B36: SUB-TOTAL (4) | E36: =E35 -> 0.2 | F36: =F35 -> 0.3
B39: FACTOR MULTIPLICADOR | E39: =E8+E29+E36 -> 2.05 | F39: =F8+F29+F36 -> 2
C41: Matricula No. : | D41: 08202115524 ATL

Sheet MANO DE OBRA
B2: =PRESUPUESTO!B1 -> Proyecto: Recuperación De Cobertura Vegetal El Corregimiento De Doña María Del Municipio De Fundación
B3: LISTADO DE MANO DE OBRA
B4: unidad | D4: Ítem | F4: VALOR ($ COP) | G4: OBSERVACIONES
B5: mes | D5: Salario mínimo legal mensual vigente - SMLMV básico | F5: =F.P!C8 -> 1423500
B6: mes | D6: Subsidio de transporte | F6: =F.P!C9 -> 200000
B7: mes | D7: Salario mínimo legal mensual vigente - SMLMV+ Subsidio de transporte | F7: =F5+F6 -> 1623500
B8: día | D8: Jornal + subsidio de transporte | F8: =F7/30 -> 54116.667
B9: día | D9: Jornal basico sin subsidio de transporte | F9: =F5/30 -> 47450
B10: # | C10: Código | D10: unidad | E10: Insumo | F10: Precio ($ COP) | G10: Factor de Jornal | H10: Factor Prestacional
B11: 1 | C11: A0100030 | D11: día | E11: Maestro | F11: =$F$9*G11 -> 94900 | G11: 2 | H11: =F.P!$F$37+1 -> 1.7
B12: 2 | C12: A0100150 | D12: día | E12: Ayudante | F12: =$F$9*G12 -> 49822.5 | G12: 1.05 | H12: =F.P!$E$37+1 -> 1.85
B13: 3 | C13: A0100190 | D13: día | E13: Almacenista | F13: =$F$9*G13 -> 49822.5 | G13: 1.05 | H13: =F.P!$E$37+1 -> 1.85
B14: 4 | C14: A0030010 | D14: día | E14: Obrero | F14: =$F$9*G14 -> 47450 | G14: 1 | H14: =F.P!$E$37+1 -> 1.85
B15: 5 | C15: A0030020 | D15: día | E15: Obrero (2) | F15: =$F$9*G15 -> 94900 | G15: 2 | H15: =F.P!$E$37+1 -> 1.85
B16: 6 | C16: A0030030 | D16: día | E16: Obrero (3) | F16: =$F$9*G16 -> 142350 | G16: 3 | H16: =F.P!$E$37+1 -> 1.85
B17: 7 | C17: A0030040 | D17: día | E17: Obrero (4) | F17: =$F$9*G17 -> 189800 | G17: 4 | H17: =F.P!$E$37+1 -> 1.85
B18: 8 | C18: A0030050 | D18: día | E18: Obrero (5) | F18: =$F$9*G18 -> 237250 | G18: 5 | H18: =F.P!$E$37+1 -> 1.85
B19: 9 | C19: A0030060 | D19: día | E19: Obrero (6) | F19: =$F$9*G19 -> 284700 | G19: 6 | H19: =F.P!$E$37+1 -> 1.85
B20: 10 | C20: A0030070 | D20: día | E20: Obrero (7) | F20: =$F$9*G20 -> 332150 | G20: 7 | H20: =F.P!$E$37+1 -> 1.85
B21: 11 | C21: A0030080 | D21: día | E21: Obrero (8) | F21: =$F$9*G21 -> 379600 | G21: 8 | H21: =F.P!$E$37+1 -> 1.85
B22: 12 | C22: A0030090 | D22: día | E22: Obrero (9) | F22: =$F$9*G22 -> 427050 | G22: 9 | H22: =F.P!$E$37+1 -> 1.85
B23: 13 | C23: A0030100 | D23: día | E23: Obrero (10) | F23: =$F$9*G23 -> 474500 | G23: 10 | H23: =F.P!$E$37+1 -> 1.85
... B32: 22 | C32: A0100050 | D32: día | E32: Oficial + 3 Ayudantes (armado e inyección de anclajes) | F32: =$F$9*G32 -> 230132.5 | G32: 4.85 | H32: =F.P!$E$37+1 -> 1.85
B33: 23 | C33: A0041000 | D33: día | E33: Oficial experto en desmontaje | F33: =$F$9*G33 -> 94900 | G33: 2 | H33: =F.P!$F$37+1 -> 1.7
B34: 24 | C34: A0041001 | D34: día | E34: Oficial experto en explosivos | F34: =$F$9*G34 -> 97272.5 | G34: 2.05 | H34: =F.P!$F$37+1 -> 1.7
B35: 25 | C35: A0041002 | D35: día | E35: Oficial Obrero (3) Cuadrilla de un oficial y 3 Obreros. | F35: =$F$9*G35 -> 223015 | G35: 4.7 | H35: =F.P!$E$37+1 -> 1.85
B36: 26 | C36: A0041008 | D36: día | E36: 1 Oficial y 1 Obrero. | F36: =$F$9*G36 -> 128115 | G36: 2.7 | H36: =F.P!$E$37+1 -> 1.85
B37: 27 | C37: A0041004 | D37: día | E37: Cuadrilla de Un Oficial y (2) Obreros. | F37: =$F$9*G37 -> 175565 | G37: 3.7 | H37: =F.P!$E$37+1 -> 1.85
B38: 28 | C38: A0041006 | D38: día | E38: Cuadrilla de un oficial y (4) Obreros. | F38: =$F$9*G38 -> 270465 | G38: 5.7 | H38: =F.P!$E$37+1 -> 1.85
B39: 29 | C39: A0100010 | D39: día | E39: Cuadrilla de desmontaje (10 personas) | F39: =$F$9*G39 -> 444606.5 | G39: 9.37 | H39: =F.P!$E$37+1 -> 1.85
B40: 30 | C40: A0100180 | D40: día | E40: Cuadrilla de fabricación | F40: =$F$9*G40 -> 242469.5 | G40: 5.11 | H40: =F.P!$E$37+1 -> 1.85
B41: 31 | C41: A0010010 | D41: día | E41: Cadenero | F41: =$F$9*G41 -> 54567.5 | G41: 1.15 | H41: =F.P!$E$37+1 -> 1.85
B42: 32 | C42: A0100240 | D42: día | E42: Cadeneros (2) | F42: =$F$9*G42 -> 109135 | G42: =+G41*2 -> 2.3 | H42: =F.P!$E$37+1 -> 1.85
B43: 33 | C43: A0100220 | D43: día | E43: Carpintero | F43: =$F$9*G43 -> 94900 | G43: 2 | H43: =F.P!$F$37+1 -> 1.7
B44: 34 | C44: A0100130 | D44: día | E44: Armador | F44: =$F$9*G44 -> 49822.5 | G44: 1.05 | H44: =F.P!$F$37+1 -> 1.7
B45: 35 | C45: A0050010 | D45: día | E45: Paletero | F45: =$F$9*G45 -> 47450 | G45: 1 | H45: =F.P!$F$37+1 -> 1.7
B46: 36 | C46: A0050020 | D46: día | E46: Paletero (2) | F46: =$F$9*G46 -> 94900 | G46: 2 | H46: =F.P!$F$37+1 -> 1.7
B47: 37 | C47: A0070010 | D47: día | E47: Rastrillero | F47: =$F$9*G47 -> 60736 | G47: 1.28 | H47: =F.P!$F$37+1 -> 1.7
B48: 38 | C48: A0070020 | D48: día | E48: Rastrilleros (2) | F48: =$F$9*G48 -> 121472 | G48: 2.56 | H48: =F.P!$F$37+1 -> 1.7
B49: 39 | C49: A0100140 | D49: día | E49: Cortador | F49: =$F$9*G49 -> 61685 | G49: 1.3 | H49: =F.P!$F$37+1 -> 1.7
...

Sheet MATERIALES
A1: =PRESUPUESTO!B1 -> Proyecto: Recuperación De Cobertura Vegetal El Corregimiento De Doña María Del Municipio De Fundación
A2: LISTADO DE MATERIALES
A3: # | B3: Código | C3: unidad | D3: Insumo | E3: Precio ($ COP) | F3: CATEGORÍA
A4: 1 | B4: B0010045 | C4: kg | D4: Abrasivo para sandblasting (arena sílica, de cuarzo y/o abrasivo sintético) | E4: 2978.9192 | F4: Agregados
A5: 2 | B5: B0020001 | C5: kg | D5: Acero A-36 para estructura metálica | E5: 5456.1765 | F5: Acero, alambres, soldadura y mallas metálicas
A6: 3 | B6: B0020004 | C6: kg | D6: Acero A-37 | E6: 5456.1765 | F6: Acero, alambres, soldadura y mallas metálicas
A7: 4 | B7: B0020002 | C7: kg | D7: Acero A-40 | E7: 5456.1765 | F7: Acero, alambres, soldadura y mallas metálicas
A8: 5 | B8: B0020003 | C8: kg | D8: Acero de refuerzo PDR-60, Fy: 4200 kg/cm2 | E8: 5456.1765 | F8: Acero, alambres, soldadura y mallas metálicas
A9: 6 | B9: B0014905 | C9: kg | D9: Adhesivo bituminoso para tacha | E9: 102813.42 | F9: Aditivos y adhesivos
A10: 7 | B10: B0014896 | C10: kg | D10: Adhesivo epoxico para pega de concreto endurecido y concreto fresco | E10: 106289.77 | F10: Aditivos y adhesivos
A11: 8 | B11: B003003 | C11: kg | D11: Aditivo acelerante de fraguado para concreto hidraulico | E11: 17907.282 | F11: Aditivos y adhesivos
A12: 9 | B12: B0014899 | C12: kg | D12: Aditivo acuoso acelerante de fraguado y resistencia del concreto | E12: 18045.01 | F12: Aditivos y adhesivos
A13: 10 | B13: B0030001 | C13: kg | D13: Aditivo curador para pilotes | E13: 13298.36 | F13: Aditivos y adhesivos
A14: 11 | B14: B003004 | C14: kg | D14: Aditivo inclusor de aire para concreto | E14: 3236.5974 | F14: Aditivos y adhesivos
A15: 12 | B15: B003007 | C15: kg | D15: Aditivo para modificar la reología | E15: 12242.449 | F15: Aditivos y adhesivos
... A113: 110 | B113: B0014066 | C113: gl | D113: Combustible ACPM | E113: 11813.228 | F113: Gases y combustibles
A114: 111 | B114: B0133681 | C114: m3 | D114: Concreto hidráulico para pavimento MR-36 (3.5 MPa) | E114: =(524229.390587668*1.12)*#REF! -> #REF! | F114: Morteros, Concreto estructural y pavimento hidraulico
A115: 112 | B115: B0133690 | C115: m3 | D115: Concreto hidráulico para pavimento MR-39 (3.8 MPa) | E115: =(545265.559419455*1.12)*#REF! -> #REF! | F115: Morteros, Concreto estructural y pavimento hidraulico
A116: 113 | B116: B0133691 | C116: m3 | D116: Concreto hidráulico para pavimento MR-41 (4.0 MPa) | E116: =(535000+101650)*#REF! -> #REF! | F116: Morteros, Concreto estructural y pavimento hidraulico
A117: 114 | B117: B0133710 | C117: m3 | D117: Concreto hidráulico para pavimento MR-43 (4.2 MPa) | E117: =(548000+104120)*#REF! -> #REF! | F117: Morteros, Concreto estructural y pavimento hidraulico
A118: 115 | B118: B0133700 | C118: m3 | D118: Concreto hidráulico para pavimento MR-43 (4.2 MPa) - Fastrack: acelerado a 24 horas | E118: =(772697.710673768*1.12)*#REF! -> #REF! | F118: Morteros, Concreto estructural y pavimento hidraulico
A119: 116 | B119: B0133720 | C119: m3 | D119: Concreto hidráulico para pavimento MR-50 | E119: =(674347.121762876*1.12)*#REF! -> #REF! | F119: Morteros, Concreto estructural y pavimento hidraulico
A120: 117 | B120: B0123660 | C120: m3 | D120: Concreto resistencia 14 MPa | E120: =(461146.310287791*1.27)*#REF! -> #REF! | F120: Morteros, Concreto estructural y pavimento hidraulico
A121: 118 | B121: B0123650 | C121: m3 | D121: Concreto resistencia 21 MPa | E121: =(499000+94810)*#REF! -> #REF! | F121: Morteros, Concreto estructural y pavimento hidraulico
A122: 119 | B122: B0123620 | C122: m3 | D122: Concreto resistencia 28 MPa | E122: =(534500+101555)*#REF! -> #REF! | F122: Morteros, Concreto estructural y pavimento hidraulico
A123: 120 | B123: B0123640 | C123: m3 | D123: Concreto resistencia 32 MPa | E123: =(518151.314820189*1.27)*#REF! -> #REF! | F123: Morteros, Concreto estructural y pavimento hidraulico
A124: 121 | B124: B0123630 | C124: m3 | D124: Concreto resistencia 35 MPa | E124: =(544853.928399301*1.27)*#REF! -> #REF! | F124: Morteros, Concreto estructural y pavimento hidraulico
A125: 122 | B125: B0013730 | C125: m | D125: Cordón detonante | E125: 2478.3049 | F125: Explosivos
A126: 123 | B126: B0013761 | C126: u | D126: Cuneta prefabricada de concreto perfil U y/o V NTC-4109 (0.20 x 0.30 x 1.0 m) | E126: 76370.432 | F126: Prefabricados
A127: 124 | B127: B0013775 | C127: u | D127: Defensa de concreto prefabricada bidireccional de 0.80x1.50m | E127: 660071.6 | F127: Prefabricados
A128: 125 | B128: B0013773 | C128: u | D128: Defensa metálica de 4,0 m galvanizada | E128: 727306.23 | F128: Señalización y seguridad vial
A129: 126 | B129: B0013774 | C129: m | D129: Defensa metálica galvanizada | E129: 164554.35 | F129: Señalización y seguridad vial
A130: 127 | B130: B0013780 | C130: u | D130: Delineador de corona (hito de arista) tipo: A en lámina galvanizada calibre 16 de 1.55x0.25 m con elementos retroreflectivo tipo III | E130: 47015.529 | F130: Señalización y seguridad vial
A131: 128 | B131: B0013782 | C131: u | D131: Delineador de corona (hito de arista) tipo: circular en lámina galvanizada calibre 16 de 1.55x0.25 m con elementos retroreflectivo tipo III | E131: 47015.529 | F131: Señalización y seguridad vial
A132: 129 | B132: B0013783 | C132: u | D132: Delineador de corona (hito de arista) tipo: rectangular en lámina galvanizada calibre 16 de 1.55x0.25 m con elementos retroreflectivo tipo III | E132: 47015.529 | F132: Señalización y seguridad vial
A133: 130 | B133: B0013784 | C133: u | D133: Delineador flexible de 1.20 m con elementos retroreflectivo tipo III | E133: 50500.492 | F133: Señalización y seguridad vial
A134: 131 | B134: B0013790 | C134: m3 | D134: Derecho de explotación y/o disposición de materiales | E134: 7715.8292 | F134: Independiente
A135: 132 | B135: B0013791 | C135: m3 | D135: Derechos de conformación y/o disposición de materiales sobrantes (Incluye todos los costos inherentes a las posibles obras requeridas en los sitios de disposición de sobrantes) | E135: 6765.239 | F135: Independiente
A136: 133 | B136: B014001 | C136: gl | D136: Disolvente para pintura (TINNER) | E136: 41022.492 | F136: Aditivos y adhesivos
... A274: 271 | B274: B0013940 | C274: kg | D274: Microesferas reflectivas de vidrio | E274: 6905.6486 | F274: Señalización y seguridad vial
...

Sheet TRANSPORTE
B2: =PRESUPUESTO!B1 -> Proyecto: Recuperación De Cobertura Vegetal El Corregimiento De Doña María Del Municipio De Fundación
B3: LISTADO DE TRANSPORTE
B4: # | C4: Código | D4: unidad | E4: Insumo | F4: Precio ($ COP)
B5: 1 | C5: T0100002 | D5: kg-km | E5: Transporte de acero | F5: 0.78958663
B6: 2 | C6: T0010001 | D6: t-km | E6: Transporte de acero | F6: 950
B7: 3 | C7: T0010011 | D7: m3-km | E7: Transporte de adoquín e=8cm | F7: 1175
B8: 4 | C8: T0010400 | D8: m3-km | E8: Transporte de agregados | F8: 850
B9: 5 | C9: T0010004 | D9: m3-km | E9: Transporte de arena | F9: 1500
B10: 6 | C10: T0010053 | D10: m3-km | E10: Transporte de barrera de seguridad en concreto | F10: 750
B11: 7 | C11: T0010550 | D11: kg-km | E11: Transporte de cal | F11: 1.0149106
B12: 8 | C12: T0015011 | D12: kg-km | E12: Transporte de cemento asfáltico | F12: 1.0149106
B13: 9 | C13: T0010500 | D13: kg-km | E13: Transporte de cemento hidráulico | F13: 1.0149106
B14: 10 | C14: T0010009 | D14: m3-km | E14: Transporte de concreto | F14: 1438.9968
B15: 11 | C15: T0010120 | D15: m3-km | E15: Transporte de emulsión asfáltica | F15: 1.4208749
B16: 12 | C16: T0010160 | D16: kg-km | E16: Transporte de estructuras metálicas | F16: 1.453945
... B41: 37 | C41: T0100005 | D41: m3-km | E41: Transporte de mezcla asfáltica natural | F41: 1.3485057

Sheet EQUIPOS
B1: =PRESUPUESTO!B1 -> Proyecto: Recuperación De Cobertura Vegetal El Corregimiento De Doña María Del Municipio De Fundación
B2: LISTADO DE EQUIPOS
B3: # | C3: Código | D3: unidad | E3: Insumo | F3: CLASIFICACIÓN | G3: Precio ($ COP)
B4: 1 | C4: C0010011 | D4: u | E4: Andamiaje para aplicar la carga (Equipo sustituto de la tara) | F4: Mixto - Herramienta menor | G4: 67939.157
B5: 2 | C5: C0010010 | D5: h | E5: Aspersor manual de 20 litros | F5: Mixto - Herramienta menor | G5: 4649.1277
B6: 3 | C6: C0010015 | D6: h | E6: Astilladora de madera para triturar, potencia aproximada 75 HP | F6: Mixto - Herramienta menor | G6: 88193.143
B7: 4 | C7: C0010600 | D7: h | E7: Motobomba de concreto | F7: Concreto y mortero | G7: 83873.124
B8: 5 | C8: C0010020 | D8: h | E8: Barredora de succión, almacenamiento aproximado 6 m3 | F8: Mixto - Herramienta menor | G8: 105035.85
B9: 6 | C9: C0010030 | D9: h | E9: Bomba de concreto, producción: 30 m3/h- 50 m3/h | F9: Concreto y mortero | G9: 80527.484
B10: 7 | C10: C0010040 | D10: h | E10: Bomba de inyección de lechada | F10: Concreto y mortero | G10: 24737.951
B11: 8 | C11: C0010034 | D11: h | E11: Bomba eléctrica para accionar la celda especial de carga | F11: Mixto - Herramienta menor | G11: 98435.235
B12: 9 | C12: C0010050 | D12: h | E12: Bomba para gato de tensionamiento (fuerza máxima 300 toneladas) | F12: Mixto - Herramienta menor | G12: 76911.496
B13: 10 | C13: C0010053 | D13: h | E13: Buldozer potencia al volante de 305 HP, motor de 2100 RPM, longitud de hoja 6,39m | F13: Movimiento de tierra | G13: 214950.41
B14: 11 | C14: C0010052 | D14: h | E14: Buldozer, potencia al volante de 140 HP, motor de 2200 RPM, longitud de hoja 4,80m | F14: Movimiento de tierra | G14: 194918.98
B15: 12 | C15: C0010051 | D15: h | E15: Buldozer, Potencia al volante de 80 HP, motor de 2400 RPM, longitud de hoja 3,99m | F15: Movimiento de tierra | G15: 144180.36
... B160: 157 | C160: EQUIALGA10 | D160: dia | E160: GPS Submetrico con Wi-Fi, BLUETOOTH, ANT+ | F160: PROPIOS | G160: 50000

Sheet MATERIALE2
B2: =PRESUPUESTO!B1 -> Proyecto: Recuperación De Cobertura Vegetal El Corregimiento De Doña María Del Municipio De Fundación
B4: ANALISIS DE COSTOS
B6: Item | C6: Descripción | D6: Und | E6: Cantidad | F6: COTIZACIÓN 1 | G6: COTIZACIÓN 2 | H6: PROMEDIO
B7: 1 | C7: Cal Agrícola | D7: Kilo | E7: 1 | F7: 180 | G7: 220 | H7: =+(F7+G7)/2 -> 200
B8: 2 | C8: Fertilizante triple 15-15-15 | D8: Kilo | E8: 1 | F8: 1600 | G8: 2000 | H8: =+(F8+G8)/2 -> 1800
B9: =+B8+1 -> 3 | C9: Gallinaza | D9: Kilo | E9: 1 | F9: 80 | G9: 680 | H9: =+(F9+G9)/2 -> 380
B10: =+B9+1 -> 4 | C10: Lorsban polvo | D10: Litro | E10: 1 | F10: 5700 | G10: 6300 | H10: =+(F10+G10)/2 -> 6000
B11: =+B10+1 -> 5 | C11: Postes tres caras para cerca | D11: Unidad | E11: 1 | F11: 9700 | G11: 10300 | H11: =+(F11+G11)/2 -> 10000
B12: =+B11+1 -> 6 | C12: Postes Pieamigo | D12: Unidad | E12: 1 | F12: 9700 | G12: 10300 | H12: =+(F12+G12)/2 -> 10000
B13: =+B12+1 -> 7 | C13: Alambre de pua calibre 12.5 | D13: Rollo | E13: 1 | F13: 119700 | G13: 120300 | H13: =+(F13+G13)/2 -> 120000
B14: =+B13+1 -> 8 | C14: Grapas de 1" | D14: Kilo | E14: 1 | F14: 5700 | G14: 6300 | H14: =+(F14+G14)/2 -> 6000
B15: 9 | C15: Herbicida sistemico selectivo | D15: Litro | E15: 1 | F15: 14700 | G15: 15300 | H15: =+(F15+G15)/2 -> 15000
B16: 10 | C16: Ráfaga | D16: Litro | E16: 1 | F16: 19700 | G16: 20300 | H16: =+(F16+G16)/2 -> 20000

Sheet H.E
B3: =PRESUPUESTO!B1 -> Proyecto: Recuperación De Cobertura Vegetal El Corregimiento De Doña María Del Municipio De Fundación
B4: CALCULO DE LAS HORAS EFECTIVAS TRABAJADAS
B6: SMMLV | C6: =F.P!C8 -> 1423500
B7: Auxilio de Transporte | C7: =F.P!C9 -> 200000 | D7: =C7/C6 -> 0.14049877 | E7: del | F7: SMMLV | G7: =F.P!B8 -> 2025
B9: (B) AUX. TRANS MES | C9: =F.P!C9 -> 200000 | D9: =C9 -> 200000 | E9: =D9 -> 200000 | F9: =E9 -> 200000 | G9: =F9 -> 200000 | H9: 0 | I9: 0 | J9: 0 | K9: 0
B10: (A) SALARIO MES | C10: =ROUND($C$6*C12,0) -> 1423500 | D10: =ROUND($C$6*D12,0) -> 1708200 | E10: =ROUND($C$6*E12,0) -> 2135250 | F10: =ROUND($C$6*F12,0) -> 2562300 | G10: =ROUND($C$6*G12,0) -> 2847000 | H10: =ROUND($C$6*H12,0) -> 3558750 | I10: =ROUND($C$6*I12,0) -> 4270500 | J10: =ROUND($C$6*J12,0) -> 4982250 | K10: =ROUND($C$6*K12,0) -> 5694000
B12: SALARIO ANUAL SMMLV | C12: 1 | D12: 1.2 | E12: 1.5 | F12: 1.8 | G12: 2 | H12: 2.5 | I12: 3 | J12: 3.5 | K12: 4
B14: SUELDO ANUAL (Ax 12) | C14: =+ROUND(C10*12,0) -> 17082000 | D14: =+ROUND(D10*12,0) -> 20498400 | E14: =+ROUND(E10*12,0) -> 25623000 | F14: =+ROUND(F10*12,0) -> 30747600 | G14: =+ROUND(G10*12,0) -> 34164000 | H14: =+ROUND(H10*12,0) -> 42705000 | I14: =+ROUND(I10*12,0) -> 51246000 | J14: =+ROUND(J10*12,0) -> 59787000 | K14: =+ROUND(K10*12,0) -> 68328000
B15: AUX. TRANS ANUAL SIN DESC (B*12) | C15: =+C9*12 -> 2400000 | D15: =+D9*12 -> 2400000 | E15: =+E9*12 -> 2400000 | F15: =+F9*12 -> 2400000 | G15: =+G9*12 -> 2400000 | H15: =+H9*12 -> 0 | I15: =+I9*12 -> 0 | J15: =+J9*12 -> 0 | K15: =+K9*12 -> 0
B17: (C ) CESANTÍAS (A*12*8.33%) | C17: =+ROUND((C14)*F.P!$F$16,0) -> 1423500 | D17: =+ROUND((D14)*F.P!$F$16,0) -> 1708200 | E17: =+ROUND((E14)*F.P!$F$16,0) -> 2135250 | F17: =+ROUND((F14)*F.P!$F$16,0) -> 2562300 | G17: =+ROUND((G14)*F.P!$F$16,0) -> 2847000 | H17: =+ROUND((H14)*F.P!$F$16,0) -> 3558750 | I17: =+ROUND((I14)*F.P!$F$16,0) -> 4270500 | J17: =+ROUND((J14)*F.P!$F$16,0) -> 4982250 | K17: =+ROUND((K14)*F.P!$F$16,0) -> 5694000
B18: INTERES DE CESANTIA ( A*12*1%) | C18: =+ROUND((C14)*F.P!$F$17,0) -> 170820 | D18: =+ROUND((D14)*F.P!$F$17,0) -> 204984 | E18: =+ROUND((E14)*F.P!$F$17,0) -> 256230 | F18: =+ROUND((F14)*F.P!$F$17,0) -> 307476 | G18: =+ROUND((G14)*F.P!$F$17,0) -> 341640 | H18: =+ROUND((H14)*F.P!$F$17,0) -> 427050 | I18: =+ROUND((I14)*F.P!$F$17,0) -> 512460 | J18: =+ROUND((J14)*F.P!$F$17,0) -> 597870 | K18: =+ROUND((K14)*F.P!$F$17,0) -> 683280
B19: VACACIONES (A*12*4.17%) | C19: =+ROUND((C14)*F.P!$F$18,0) -> 711750 | D19: =+ROUND((D14)*F.P!$F$18,0) -> 854100 | E19: =+ROUND((E14)*F.P!$F$18,0) -> 1067625 | F19: =+ROUND((F14)*F.P!$F$18,0) -> 1281150 | G19: =+ROUND((G14)*F.P!$F$18,0) -> 1423500 | H19: =+ROUND((H14)*F.P!$F$18,0) -> 1779375 | I19: =+ROUND((I14)*F.P!$F$18,0) -> 2135250 | J19: =+ROUND((J14)*F.P!$F$18,0) -> 2491125 | K19: =+ROUND((K14)*F.P!$F$18,0) -> 2847000
B20: PRIMA (A*12*8.33%) | C20: =+ROUND((C14)*F.P!$F$19,0) -> 1423500 | D20: =+ROUND((D14)*F.P!$F$19,0) -> 1708200 | E20: =+ROUND((E14)*F.P!$F$19,0) -> 2135250 | F20: =+ROUND((F14)*F.P!$F$19,0) -> 2562300 | G20: =+ROUND((G14)*F.P!$F$19,0) -> 2847000 | H20: =+ROUND((H14)*F.P!$F$19,0) -> 3558750 | I20: =+ROUND((I14)*F.P!$F$19,0) -> 4270500 | J20: =+ROUND((J14)*F.P!$F$19,0) -> 4982250 | K20: =+ROUND((K14)*F.P!$F$19,0) -> 5694000
B22: Dotacion (Botas, overol y camiza) | C22: =F.P!$D$22 -> 370000 | D22: =F.P!$D$22 -> 370000 | E22: =F.P!$D$22 -> 370000 | F22: =F.P!$D$22 -> 370000 | G22: =F.P!$D$22 -> 370000 | H22: 0 | I22: 0 | J22: 0 | K22: 0
B23: Implementos seguridad industrial | C23: =F.P!$D$23 -> 817932.8 | D23: =F.P!$D$23 -> 817932.8 | E23: =F.P!$D$23 -> 817932.8 | F23: =F.P!$D$23 -> 817932.8 | G23: =F.P!$D$23 -> 817932.8 | H23: =F.P!$D$23 -> 817932.8 | I23: =F.P!$D$23 -> 817932.8 | J23: =F.P!$D$23 -> 817932.8 | K23: =F.P!$D$23 -> 817932.8
B24: Seguro Colectivo | C24: =F.P!$D$24 -> 854100 | D24: =F.P!$D$24 -> 854100 | E24: =F.P!$D$24 -> 854100 | F24: =F.P!$D$24 -> 854100 | G24: =F.P!$D$24 -> 854100 | H24: =F.P!$D$24 -> 854100 | I24: =F.P!$D$24 -> 854100 | J24: =F.P!$D$24 -> 854100 | K24: =F.P!$D$24 -> 854100
B25: Examenes medicos (A*12*0,77%) | C25: =F.P!$D$25 -> 120000 | D25: =F.P!$D$25 -> 120000 | E25: =F.P!$D$25 -> 120000 | F25: =F.P!$D$25 -> 120000 | G25: =F.P!$D$25 -> 120000 | H25: =F.P!$D$25 -> 120000 | I25: =F.P!$D$25 -> 120000 | J25: =F.P!$D$25 -> 120000 | K25: =F.P!$D$25 -> 120000
B27: PENSIÓN (A*12*12%) | C27: =+ROUND(C14*F.P!$F$28,0) -> 2049840 | D27: =+ROUND(D14*F.P!$F$28,0) -> 2459808 | E27: =+ROUND(E14*F.P!$F$28,0) -> 3074760 | F27: =+ROUND(F14*F.P!$F$28,0) -> 3689712 | G27: =+ROUND(G14*F.P!$F$28,0) -> 4099680 | H27: =+ROUND(H14*F.P!$F$28,0) -> 5124600 | I27: =+ROUND(I14*F.P!$F$28,0) -> 6149520 | J27: =+ROUND(J14*F.P!$F$28,0) -> 7174440 | K27: =+ROUND(K14*F.P!$F$28,0) -> 8199360
