Workbook

Sheet PUNTUACION
I1: OFERTA ECONOMICA = 69.5 PUNTOS | Q1: INDUSTRIA NACIONAL = 20 PUNTOS | R1: VINCULACION DISCAPACITADO = 1 PUNTO | S1: TOTAL
B2: PROPONENTE | C2: EVALUACION 1 | D2: ESTADO | E2: EVALUACION FINAL | F2: PROPUESTA ECONOMICA | G2: % | H2: OBSERVACION PROPUESTA ECONOMICA | I2: M1 MEDIANA | J2: M2 GEOMETRICA | K2: M3 ARITM. BAJA | L2: M4 MENOR VR | M2: FACTOR CALIDAD = 20PUNTOS | N2: INDUSTRIA NACIONAL | O2: MIYME | P2: MUJERES | S2: TOTAL
A3: 1 | B3: ARTURO JURADO ALVARAN | C3: NO HABILITADO | D3: SUBSANO | E3: HABILITADO | F3: 70669578 | G3: =1-F3/$B$10 -> 0.066000003 | I3: =METODOS!H6 -> 69.5 | J3: =+METODOS!L6 -> #REF! | K3: =+METODOS!R6 -> #REF! | L3: =+METODOS!V6 -> #REF! | M3: 20 | N3: 10 | O3: 0.25 | P3: 0 | Q3: 0 | R3: 0 | S3: =M3+N3+O3+P3+I3 -> 99.75
A4: 2 | B4: JORGE EDUARDO ALVAREZ GALLEGO | C4: HABILITADO | E4: HABILITADO | F4: 73911881 | G4: =1-F4/$B$10 -> 0.023148311 | I4: =METODOS!H7 -> 66.311357 | J4: =+METODOS!L7 -> #REF! | K4: =+METODOS!R7 -> #REF! | L4: =+METODOS!V7 -> #REF! | M4: 20 | N4: 10 | O4: 0.25 | P4: 0 | Q4: 0 | R4: 0 | S4: =M4+N4+O4+P4+I4 -> 96.561357
A5: 3 | B5: JAIME RODRIGUEZ BONNET | C5: NO HABILITADO | D5: SUBSANO | E5: HABILITADO | F5: 70255812 | G5: =1-F5/$B$10 -> 0.071468515 | I5: =METODOS!H8 -> 69.093082 | J5: =+METODOS!L8 -> #REF! | K5: =+METODOS!R8 -> #REF! | L5: =+METODOS!V8 -> #REF! | M5: 20 | N5: 10 | O5: 0.25 | P5: 0 | Q5: 20 | R5: 1 | S5: =M5+N5+O5+P5+I5 -> 99.343082
A6: 4 | B6: CONSORCIO MANIZALES RI | C6: NO HABILITADO | D6: SUBSANO | E6: HABILITADO | F6: 71108520 | G6: =1-F6/$B$10 -> 0.060198754 | I6: =METODOS!H9 -> 69.068322 | J6: =+METODOS!L9 -> #REF! | K6: =+METODOS!R9 -> #REF! | L6: =+METODOS!V9 -> #REF! | M6: 20 | N6: 10 | O6: 0.25 | P6: 0.25 | Q6: 0 | R6: 0 | S6: =M6+N6+O6+P6+I6 -> 99.568322
A7: 5 | B7: CARLOS EDUARDO HERNANDEZ VALENCIA | C7: NO HABILITADO | D7: SUBSANO | E7: HABILITADO | F7: 67938018 | G7: =1-F7/$B$10 -> 0.10210149 | I7: =METODOS!H10 -> 66.813647 | J7: =+METODOS!L10 -> #REF! | K7: =+METODOS!R10 -> #REF! | L7: =+METODOS!V10 -> #REF! | M7: 20 | N7: 10 | O7: 0.25 | P7: 0 | Q7: 20 | R7: 1 | S7: =M7+N7+O7+P7+I7 -> 97.063647
B9: PO
B10: 75663360

Sheet METODOS
F2: METODO 1 | J2: METODO 2 | P2: METODO 3 | T2: METODO 4
B3: VALOR PRESUPUESTO OFICIAL | C3: 75663360 | F3: MEDIA CON VALOR ABSOLUTO | J3: MEDIA GEOMETRICA | N3: MEDIA ARITMETICA | P3: MEDIA ARITMETICA BAJA | T3: MENOR VALOR
F4: =MEDIAN(C6:C10) -> 70669578 | G4: 1 | H4: 69.5 | J4: =GEOMEAN(C6:C21) -> #REF! | K4: 1 | L4: 60 | N4: =AVERAGE(C6:C21) -> #REF! | P4: =AVERAGE(N4,MIN(C6:C21)) -> #REF! | Q4: 1 | R4: 60 | T4: =MIN(C6:C9) -> 70255812 | U4: 1 | V4: 60
F5: =F4/$C$3 -> 0.934 | J5: =J4/$C$3 -> #REF! | N5: =N4/$C$3 -> #REF! | P5: =P4/$C$3 -> #REF! | T5: =T4/$C$3 -> 0.92853148
A6: 1 | B6: ARTURO JURADO ALVARAN | C6: 70669578 | D6: =1-C6/$C$3 -> 0.066000003 | F6: =$F$4-C6 -> 0 | G6: =1-ABS(($F$4-C6)/$F$4) -> 1 | H6: =$H$4*G6 -> 69.5 | J6: =$J$4-C6 -> #REF! | K6: =1-ABS(($J$4-C6)/$J$4) -> #REF! | L6: =$L$4*K6 -> #REF! | P6: =$P$4-C6 -> #REF! | Q6: =1-ABS(($P$4-C6)/$P$4) -> #REF! | R6: =$R$4*Q6 -> #REF! | T6: =$T$4-C6 -> -413766 | U6: =1-ABS(($T$4-C6)/$J$4) -> #REF! | V6: =$V$4*U6 -> #REF!
A7: 2 | B7: JORGE EDUARDO ALVAREZ GALLEGO | C7: 73911881 | D7: =1-C7/$C$3 -> 0.023148311 | F7: =$F$4-C7 -> -3242303 | G7: =1-ABS(($F$4-C7)/$F$4) -> 0.95412024 | H7: =$H$4*G7 -> 66.311357 | J7: =$J$4-C7 -> #REF! | K7: =1-ABS(($J$4-C7)/$J$4) -> #REF! | L7: =$L$4*K7 -> #REF! | P7: =$P$4-C7 -> #REF! | Q7: =1-ABS(($P$4-C7)/$P$4) -> #REF! | R7: =$R$4*Q7 -> #REF! | T7: =$T$4-C7 -> -3656069 | U7: =1-ABS(($T$4-C7)/$J$4) -> #REF! | V7: =$V$4*U7 -> #REF!
A8: 3 | B8: JAIME RODRIGUEZ BONNET | C8: 70255812 | D8: =1-C8/$C$3 -> 0.071468515 | F8: =$F$4-C8 -> 413766 | G8: =1-ABS(($F$4-C8)/$F$4) -> 0.99414506 | H8: =$H$4*G8 -> 69.093082 | J8: =$J$4-C8 -> #REF! | K8: =1-ABS(($J$4-C8)/$J$4) -> #REF! | L8: =$L$4*K8 -> #REF! | P8: =$P$4-C8 -> #REF! | Q8: =1-ABS(($P$4-C8)/$P$4) -> #REF! | R8: =$R$4*Q8 -> #REF! | T8: =$T$4-C8 -> 0 | U8: =1-ABS(($T$4-C8)/$J$4) -> #REF! | V8: =$V$4*U8 -> #REF!
A9: 4 | B9: CONSORCIO MANIZALES RI | C9: 71108520 | D9: =1-C9/$C$3 -> 0.060198754 | F9: =$F$4-C9 -> -438942 | G9: =1-ABS(($F$4-C9)/$F$4) -> 0.99378881 | H9: =$H$4*G9 -> 69.068322 | J9: =$J$4-C9 -> #REF! | K9: =1-ABS(($J$4-C9)/$J$4) -> #REF! | L9: =$L$4*K9 -> #REF! | P9: =$P$4-C9 -> #REF! | Q9: =1-ABS(($P$4-C9)/$P$4) -> #REF! | R9: =$R$4*Q9 -> #REF! | T9: =$T$4-C9 -> -852708 | U9: =1-ABS(($T$4-C9)/$J$4) -> #REF! | V9: =$V$4*U9 -> #REF!
A10: 5 | B10: CARLOS EDUARDO HERNANDEZ VALENCIA | C10: 67938018 | D10: =1-C10/$C$3 -> 0.10210149 | F10: =$F$4-C10 -> 2731560 | G10: =1-ABS(($F$4-C10)/$F$4) -> 0.96134744 | H10: =$H$4*G10 -> 66.813647 | J10: =$J$4-C10 -> #REF! | K10: =1-ABS(($J$4-C10)/$J$4) -> #REF! | L10: =$L$4*K10 -> #REF! | P10: =$P$4-C10 -> #REF! | Q10: =1-ABS(($P$4-C10)/$P$4) -> #REF! | R10: =$R$4*Q10 -> #REF! | T10: =$T$4-C10 -> 2317794 | U10: =1-ABS(($T$4-C10)/$J$4) -> #REF! | V10: =$V$4*U10 -> #REF!
A11: 6 | B11: CONSORCIO LEGLO AREA 1 | C11: 0 | D11: 0 | F11: =$F$4-C11 -> 70669578 | G11: =1-ABS(($F$4-C11)/$F$4) -> 0 | H11: =$H$4*G11 -> 0 | J11: =$J$4-C11 -> #REF! | K11: =1-ABS(($J$4-C11)/$J$4) -> #REF! | L11: =$L$4*K11 -> #REF! | P11: =$P$4-C11 -> #REF! | Q11: =1-ABS(($P$4-C11)/$P$4) -> #REF! | R11: =$R$4*Q11 -> #REF! | T11: =$T$4-C11 -> 70255812 | U11: =1-ABS(($T$4-C11)/$J$4) -> #REF! | V11: =$V$4*U11 -> #REF!
A12: 7 | B12: =+PUNTUACION!#REF! -> #REF! | C12: =+PUNTUACION!#REF! -> #REF! | D12: =1-C12/$C$3 -> #REF! | F12: =$F$4-C12 -> #REF! | G12: =1-ABS(($F$4-C12)/$F$4) -> #REF! | H12: =$H$4*G12 -> #REF! | J12: =$J$4-C12 -> #REF! | K12: =1-ABS(($J$4-C12)/$J$4) -> #REF! | L12: =$L$4*K12 -> #REF! | P12: =$P$4-C12 -> #REF! | Q12: =1-ABS(($P$4-C12)/$P$4) -> #REF! | R12: =$R$4*Q12 -> #REF! | T12: =$T$4-C12 -> #REF! | U12: =1-ABS(($T$4-C12)/$J$4) -> #REF! | V12: =$V$4*U12 -> #REF!
A13: 8 | B13: =+PUNTUACION!#REF! -> #REF! | C13: =+PUNTUACION!#REF! -> #REF! | D13: =1-C13/$C$3 -> #REF! | F13: =$F$4-C13 -> #REF! | G13: =1-ABS(($F$4-C13)/$F$4) -> #REF! | H13: =$H$4*G13 -> #REF! | J13: =$J$4-C13 -> #REF! | K13: =1-ABS(($J$4-C13)/$J$4) -> #REF! | L13: =$L$4*K13 -> #REF! | P13: =$P$4-C13 -> #REF! | Q13: =1-ABS(($P$4-C13)/$P$4) -> #REF! | R13: =$R$4*Q13 -> #REF! | T13: =$T$4-C13 -> #REF! | U13: =1-ABS(($T$4-C13)/$J$4) -> #REF! | V13: =$V$4*U13 -> #REF!
A14: 9 | B14: =+PUNTUACION!#REF! -> #REF! | C14: =+PUNTUACION!#REF! -> #REF! | D14: =1-C14/$C$3 -> #REF! | F14: =$F$4-C14 -> #REF! | G14: =1-ABS(($F$4-C14)/$F$4) -> #REF! | H14: =$H$4*G14 -> #REF! | J14: =$J$4-C14 -> #REF! | K14: =1-ABS(($J$4-C14)/$J$4) -> #REF! | L14: =$L$4*K14 -> #REF! | P14: =$P$4-C14 -> #REF! | Q14: =1-ABS(($P$4-C14)/$P$4) -> #REF! | R14: =$R$4*Q14 -> #REF! | T14: =$T$4-C14 -> #REF! | U14: =1-ABS(($T$4-C14)/$J$4) -> #REF! | V14: =$V$4*U14 -> #REF!
A15: 10 | B15: =+PUNTUACION!#REF! -> #REF! | C15: =+PUNTUACION!#REF! -> #REF! | D15: =1-C15/$C$3 -> #REF! | F15: =$F$4-C15 -> #REF! | G15: =1-ABS(($F$4-C15)/$F$4) -> #REF! | H15: =$H$4*G15 -> #REF! | J15: =$J$4-C15 -> #REF! | K15: =1-ABS(($J$4-C15)/$J$4) -> #REF! | L15: =$L$4*K15 -> #REF! | P15: =$P$4-C15 -> #REF! | Q15: =1-ABS(($P$4-C15)/$P$4) -> #REF! | R15: =$R$4*Q15 -> #REF! | T15: =$T$4-C15 -> #REF! | U15: =1-ABS(($T$4-C15)/$J$4) -> #REF! | V15: =$V$4*U15 -> #REF!
A16: 11 | B16: =+PUNTUACION!#REF! -> #REF! | C16: =+PUNTUACION!#REF! -> #REF! | D16: =1-C16/$C$3 -> #REF! | F16: =$F$4-C16 -> #REF! | G16: =1-ABS(($F$4-C16)/$F$4) -> #REF! | H16: =$H$4*G16 -> #REF! | J16: =$J$4-C16 -> #REF! | K16: =1-ABS(($J$4-C16)/$J$4) -> #REF! | L16: =$L$4*K16 -> #REF! | P16: =$P$4-C16 -> #REF! | Q16: =1-ABS(($P$4-C16)/$P$4) -> #REF! | R16: =$R$4*Q16 -> #REF! | T16: =$T$4-C16 -> #REF! | U16: =1-ABS(($T$4-C16)/$J$4) -> #REF! | V16: =$V$4*U16 -> #REF!
A17: 12 | B17: =+PUNTUACION!#REF! -> #REF! | C17: =+PUNTUACION!#REF! -> #REF! | D17: =1-C17/$C$3 -> #REF! | F17: =$F$4-C17 -> #REF! | G17: =1-ABS(($F$4-C17)/$F$4) -> #REF! | H17: =$H$4*G17 -> #REF! | J17: =$J$4-C17 -> #REF! | K17: =1-ABS(($J$4-C17)/$J$4) -> #REF! | L17: =$L$4*K17 -> #REF! | P17: =$P$4-C17 -> #REF! | Q17: =1-ABS(($P$4-C17)/$P$4) -> #REF! | R17: =$R$4*Q17 -> #REF! | T17: =$T$4-C17 -> #REF! | U17: =1-ABS(($T$4-C17)/$J$4) -> #REF! | V17: =$V$4*U17 -> #REF!
A18: 13 | B18: =+PUNTUACION!#REF! -> #REF! | C18: =+PUNTUACION!#REF! -> #REF! | D18: =1-C18/$C$3 -> #REF! | F18: =$F$4-C18 -> #REF! | G18: =1-ABS(($F$4-C18)/$F$4) -> #REF! | H18: =$H$4*G18 -> #REF! | J18: =$J$4-C18 -> #REF! | K18: =1-ABS(($J$4-C18)/$J$4) -> #REF! | L18: =$L$4*K18 -> #REF! | P18: =$P$4-C18 -> #REF! | Q18: =1-ABS(($P$4-C18)/$P$4) -> #REF! | R18: =$R$4*Q18 -> #REF! | T18: =$T$4-C18 -> #REF! | U18: =1-ABS(($T$4-C18)/$J$4) -> #REF! | V18: =$V$4*U18 -> #REF!
A19: 14 | B19: =+PUNTUACION!#REF! -> #REF! | C19: =+PUNTUACION!#REF! -> #REF! | D19: =1-C19/$C$3 -> #REF! | F19: =$F$4-C19 -> #REF! | G19: =1-ABS(($F$4-C19)/$F$4) -> #REF! | H19: =$H$4*G19 -> #REF! | J19: =$J$4-C19 -> #REF! | K19: =1-ABS(($J$4-C19)/$J$4) -> #REF! | L19: =$L$4*K19 -> #REF! | P19: =$P$4-C19 -> #REF! | Q19: =1-ABS(($P$4-C19)/$P$4) -> #REF! | R19: =$R$4*Q19 -> #REF! | T19: =$T$4-C19 -> #REF! | U19: =1-ABS(($T$4-C19)/$J$4) -> #REF! | V19: =$V$4*U19 -> #REF!
A20: 15 | B20: =+PUNTUACION!#REF! -> #REF! | C20: =+PUNTUACION!#REF! -> #REF! | D20: =1-C20/$C$3 -> #REF! | F20: =$F$4-C20 -> #REF! | G20: =1-ABS(($F$4-C20)/$F$4) -> #REF! | H20: =$H$4*G20 -> #REF! | J20: =$J$4-C20 -> #REF! | K20: =1-ABS(($J$4-C20)/$J$4) -> #REF! | L20: =$L$4*K20 -> #REF! | P20: =$P$4-C20 -> #REF! | Q20: =1-ABS(($P$4-C20)/$P$4) -> #REF! | R20: =$R$4*Q20 -> #REF! | T20: =$T$4-C20 -> #REF! | U20: =1-ABS(($T$4-C20)/$J$4) -> #REF! | V20: =$V$4*U20 -> #REF!
A21: 16 | B21: =+PUNTUACION!#REF! -> #REF! | C21: =+PUNTUACION!#REF! -> #REF! | D21: =1-C21/$C$3 -> #REF! | F21: =$F$4-C21 -> #REF! | G21: =1-ABS(($F$4-C21)/$F$4) -> #REF! | H21: =$H$4*G21 -> #REF! | J21: =$J$4-C21 -> #REF! | K21: =1-ABS(($J$4-C21)/$J$4) -> #REF! | L21: =$L$4*K21 -> #REF! | P21: =$P$4-C21 -> #REF! | Q21: =1-ABS(($P$4-C21)/$P$4) -> #REF! | R21: =$R$4*Q21 -> #REF! | T21: =$T$4-C21 -> #REF! | U21: =1-ABS(($T$4-C21)/$J$4) -> #REF! | V21: =$V$4*U21 -> #REF!
