Workbook

Sheet TOTAL
B2: ITEM | C2: PROYECTO | D2: VALOR
B3: 1 | C3: ESTUDIOS Y DISEÑOS, REHABILITACIÓN SAN BENITO - EL JAZMIN | D3: ='PRESUPUESTO UNIFICADO'!J45 -> 0
B4: 2 | C4: ESTUDIOS Y DISEÑOS, MANTENIMIENTO O REHABILITACION POR TRAMOS VIA SAN JOSE - LA UNION | D4: ='PRESUPUESTO UNIFICADO'!J71 -> 0
B5: 3 | C5: MANTENIMIENTO VIA PERICO | D5: 200000000
B6: 4 | C6: MEJORAMIENTO VIA SAN MIGUEL - EL PEÑON | D6: 350000000
C7: TOTAL OBRA | D7: =SUM(D3:D6) -> 550000000
C9: INTERVENTORIA | D9: 380000000
C11: TOTAL | D11: =SUM(D7:D9) -> 930000000

Sheet PRESUPUESTO UNIFICADO
C3: MUNICIPIO DE SIBATE
C5: PRESUPUESTO OFICIAL
C8: ESTUDIOS Y DISEÑOS, MEJORAMIENTO Y REHABILITACION DE LA MALLA VIAL RURAL DEL MUNICIPIO DE SIBATE - CUNDINAMARCA
C10: TRAMO VIAL SAN BENITO - EL JAZMIN
C11: Nº | D11: ITEM | E11: INVIAS | F11: DESCRIPCIÓN | G11: UND. | H11: CANT. | I11: VALOR UNITARIO | J11: VALOR TOTAL
C12: EXPLANACIÓN Y EXCAVACIONES REPLANTEO VIA
C13: 1 | D13: 2.9 | E13: 600.1 | F13: EXCAVACIONES VARIAS SIN CLASIFICAR (INCLUYE RETIRO DE SOBRANTES A UNA DISTANCIA MENOR DE 5 KM) | G13: M3 | H13: ='CANTIDADES JAZMIN'!D9 -> 3414.3665 | J13: =ROUND(H13*I13,0) -> 0
C14: Subtotal | J14: =SUM(J13:J13) -> 0
C15: ESTRUCTURA DE PAVIMENTO
C16: =C13+1 -> 2 | D16: 3.15 | E16: 311.1 | F16: AFIRMADO | G16: M3 | H16: ='CANTIDADES JAZMIN'!D14 -> 46.559544 | J16: =ROUND(H16*I16,0) -> 0
C17: =+C16+1 -> 3 | D17: 3.22 | E17: *** | F17: RAJÓN PARA MEJORAMIENTO DE LA SUBRASANTE | G17: M3 | H17: ='CANTIDADES JAZMIN'!D8 -> 1707.1833 | J17: =ROUND(H17*I17,0) -> 0
C18: =+C17+1 -> 4 | D18: 3.2 | E18: 320.1 | F18: SUBBASE GRANULAR | G18: M3 | H18: ='CANTIDADES JAZMIN'!D7 -> 1024.31 | J18: =ROUND(H18*I18,0) -> 0
C19: =+C18+1 -> 5 | D19: 3.3 | E19: 330.1 | F19: BASE GRANULAR | G19: M3 | H19: ='CANTIDADES JAZMIN'!D6 -> 682.87331 | J19: =ROUND(H19*I19,0) -> 0
C20: =+C19+1 -> 6 | D20: 3.5 | E20: 420.1 | F20: RIEGO DE IMPRIMACIÓN | G20: M2 | H20: ='CANTIDADES JAZMIN'!D5 -> 3414.3665 | J20: =ROUND(H20*I20,0) -> 0
C21: =+C20+1 -> 7 | D21: 3.6 | E21: 421.1 | F21: RIEGO DE LIGA CON EMULSIÓN ASFÁLTICA CRR-1 | G21: M2 | H21: ='CANTIDADES JAZMIN'!D5 -> 3414.3665 | J21: =ROUND(H21*I21,0) -> 0
C22: =+C21+1 -> 8 | D22: 3.1 | E22: 450.2 P | F22: MEZCLA DENSA EN CALIENTE TIPO MDC-19 (INCLUYE CEMENTO ASFÁLTICO) | G22: M3 | H22: ='CANTIDADES JAZMIN'!D4 -> 512.15498 | J22: =ROUND(H22*I22,0) -> 0
C23: Subtotal | J23: =SUM(J16:J22) -> 0
C24: FILTROS Y CUNETAS
C25: =+C22+1 -> 9 | D25: 2.9 | E25: 600.1 | F25: EXCAVACIONES VARIAS SIN CLASIFICAR (INCLUYE RETIRO DE SOBRANTES A UNA DISTANCIA MENOR DE 5 KM) | G25: M3 | H25: ='CANTIDADES JAZMIN'!D13 -> 93.119087 | J25: =ROUND(H25*I25,0) -> 0
C26: =C25+1 -> 10 | D26: 4.21 | F26: CUNETA EN CONCRETO CLASE E, 2500 PSI FUNDIDA EN EL LUGAR | G26: M3 | H26: ='CANTIDADES JAZMIN'!D15 -> 46.559544 | J26: =ROUND(H26*I26,0) -> 0
C27: =C26+1 -> 11 | D27: 4.52 | E27: 640.1 | F27: SUMINISTRO FIGURADO Y ARMADO DE ACERO DE REFUERZO 60000 PSI | G27: KG | H27: ='CANTIDADES JAZMIN'!D16 -> 3052.9093 | J27: =ROUND(H27*I27,0) -> 0
C28: Subtotal | J28: =SUM(J25:J27) -> 0
C29: ALCANTARILLAS
C30: =+C27+1 -> 12 | D30: 2.9 | E30: 600.1 | F30: EXCAVACIONES VARIAS SIN CLASIFICAR (INCLUYE RETIRO DE SOBRANTES A UNA DISTANCIA MENOR DE 5 KM) | G30: M3 | H30: =H31 -> 0.38475 | J30: =ROUND(H30*I30,0) -> 0
C31: =C30+1 -> 13 | D31: 4.24 | E31: 630.6 | F31: CONCRETO CLASE F, 2000 PSI PARA SOLADOS Y ATRAQUES | G31: M3 | H31: ='CANTIDADES JAZMIN'!A29*0.1 -> 0.38475 | J31: =ROUND(H31*I31,0) -> 0
C32: =C31+1 -> 14 | D32: 4.6 | E32: 630.4 | F32: CONCRETOS CLASE D, f´c =3000 psi (bases) | G32: M3 | H32: ='CANTIDADES JAZMIN'!D29*12 -> 23.085 | J32: =ROUND(H32*I32,0) -> 0
C33: =C32+1 -> 15 | D33: 4.7 | E33: 630.4 | F33: CONCRETOS CLASE D, f´c =3000 psi (elevaciones) | G33: M3 | H33: =('CANTIDADES JAZMIN'!D28+'CANTIDADES JAZMIN'!D30)*12 -> 11.835 | J33: =ROUND(H33*I33,0) -> 0
C34: =C33+1 -> 16 | D34: 4.52 | E34: 640.1 | F34: SUMINISTRO FIGURADO Y ARMADO DE ACERO DE REFUERZO 60000 PSI | G34: KG | H34: =(H32+H33)*90 -> 3142.8 | J34: =ROUND(H34*I34,0) -> 0
C35: Subtotal | J35: =SUM(J30:J34) -> 0
C36: MUROS Y GAVIONES
C37: =C34+1 -> 17 | D37: 4.23 | E37: 610.1 | F37: RELLENO PARA ESTRUCTURAS | G37: M3 | H37: 2538.8981 | J37: =ROUND(H37*I37,0) -> 0
C38: Subtotal | J38: =SUM(J37:J37) -> 0
C39: SEÑALIZACIÓN HORIZONTAL Y VERTICAL
C40: =C37+1 -> 18 | D40: 5.1 | E40: 700.1 | F40: LÍNEAS DE DEMARCACIÓN CON PINTURA EN FRÍO | G40: ML | H40: ='CANTIDADES JAZMIN'!D20 -> 1551.9848 | J40: =ROUND(H40*I40,0) -> 0
C41: =C40+1 -> 19 | D41: 5.5 | E41: 730.1 | F41: DEFENSA METÁLICA | G41: ML | H41: 100 | J41: =ROUND(H41*I41,0) -> 0
C42: =+C41+1 -> 20 | D42: 5.4 | E42: 730.2 | F42: SECCIÓN FINAL DEFENSA METÁLICA | G42: UN | H42: 2 | J42: =ROUND(H42*I42,0) -> 0
C43: =C42+1 -> 21 | D43: 7.7 | F43: SEÑAL VERTICAL GRUPO I 0.60x0.60M POSTE 3.5M | G43: UN | H43: 8 | J43: =ROUND(H43*I43,0) -> 0
C44: Subtotal | J44: =SUM(J40:J43) -> 0
I45: SUBTOTAL TRAMO | J45: =SUM(J13:J44)/2 -> 0
C47: TRAMO VIAL LA UNION
...

Sheet PRESUPUESTO JAZMIN
C3: MUNICIPIO DE SIBATE
C5: PRESUPUESTO OFICIAL
E8: ESTUDIOS, DISEÑOS Y CONSTRUCCION PARA EL MEJORAMIENTO DE LA VÍAS RURALES DEL MUNICIPIO DE SIBATE, DEPARTAMENTO DE CUNDINAMARCA
C11: Nº | D11: ITEM | E11: INVIAS | F11: DESCRIPCIÓN | G11: UND. | H11: CANT. | I11: VALOR UNITARIO | J11: VALOR TOTAL | L11: 5.3
C12: EXPLANACIÓN Y EXCAVACIONES REPLANTEO VIA
C13: 1 | D13: 2.9 | E13: 600.1 | F13: EXCAVACIONES VARIAS SIN CLASIFICAR (INCLUYE RETIRO DE SOBRANTES A UNA DISTANCIA MENOR DE 5 KM) | G13: M3 | H13: ='CANTIDADES JAZMIN'!D9 -> 3414.3665 | I13: =28229*1.33 -> 37544.57 | J13: =ROUND(H13*I13,0) -> 128190923
C14: =+C13+1 -> 2 | D14: 1.6 | E14: *** | F14: TRANSPORTE DE MATERIALES PROV. DE EXLANACIÓN, CANALES, PRESTAMOS, SOBREACARREOS Y DERRUMBES | G14: M3-KM | I14: =1735*1.33 -> 2307.55 | J14: =ROUND(H14*I14,0) -> 0
C15: Subtotal | J15: =SUM(J13:J14) -> 128190923
C16: ESTRUCTURA DE PAVIMENTO
C17: =+C14+1 -> 3 | D17: 3.15 | E17: 311.1 | F17: AFIRMADO | G17: M3 | H17: ='CANTIDADES JAZMIN'!D14 -> 46.559544 | I17: =74143*1.33 -> 98610.19 | J17: =ROUND(H17*I17,0) -> 4591245
C18: =+C17+1 -> 4 | D18: 3.22 | E18: *** | F18: RAJÓN PARA MEJORAMIENTO DE LA SUBRASANTE | G18: M3 | H18: ='CANTIDADES JAZMIN'!D8 -> 1707.1833 | I18: =105488*1.33 -> 140299.04 | J18: =ROUND(H18*I18,0) -> 239516173
C19: =+C18+1 -> 5 | D19: 3.2 | E19: 320.1 | F19: SUBBASE GRANULAR | G19: M3 | H19: ='CANTIDADES JAZMIN'!D7 -> 1024.31 | I19: =146821*1.33 -> 195271.93 | J19: =ROUND(H19*I19,0) -> 200018983
C20: =+C19+1 -> 6 | D20: 3.3 | E20: 330.1 | F20: BASE GRANULAR | G20: M3 | H20: ='CANTIDADES JAZMIN'!D6 -> 682.87331 | I20: =171595*1.33 -> 228221.35 | J20: =ROUND(H20*I20,0) -> 155846268
C21: =+C20+1 -> 7 | D21: 3.5 | E21: 420.1 | F21: RIEGO DE IMPRIMACIÓN | G21: M2 | H21: ='CANTIDADES JAZMIN'!D5 -> 3414.3665 | I21: =5645*1.33 -> 7507.85 | J21: =ROUND(H21*I21,0) -> 25634552
C22: =+C21+1 -> 8 | D22: 3.6 | E22: 421.1 | F22: RIEGO DE LIGA CON EMULSIÓN ASFÁLTICA CRR-1 | G22: M2 | H22: ='CANTIDADES JAZMIN'!D5 -> 3414.3665 | I22: =1533*1.33 -> 2038.89 | J22: =ROUND(H22*I22,0) -> 6961518
C23: =+C22+1 -> 9 | D23: 3.1 | E23: 450.2 P | F23: MEZCLA DENSA EN CALIENTE TIPO MDC-19 (INCLUYE CEMENTO ASFÁLTICO) | G23: M3 | H23: ='CANTIDADES JAZMIN'!D4 -> 512.15498 | I23: =1094369*1.33 -> 1455510.8 | J23: =ROUND(H23*I23,0) -> 745447090
C24: Subtotal | J24: =SUM(J17:J23) -> 1378015829
C25: FILTROS Y CUNETAS
C26: =+C23+1 -> 10 | D26: 2.9 | E26: 600.1 | F26: EXCAVACIONES VARIAS SIN CLASIFICAR (INCLUYE RETIRO DE SOBRANTES A UNA DISTANCIA MENOR DE 5 KM) | G26: M3 | H26: ='CANTIDADES JAZMIN'!D13 -> 93.119087 | I26: =28229*1.33 -> 37544.57 | J26: =ROUND(H26*I26,0) -> 3496116
C27: =+C26+1 -> 11 | D27: 2.1 | E27: 600.2 | F27: EXCAVACIONES VARIAS EN ROCA EN SECO (INCLUYE RETIRO DE SOBRANTES A UNA DISTANCIA MENOR DE 5 KM) | G27: M3 | I27: =82797*1.33 -> 110120.01 | J27: =ROUND(H27*I27,0) -> 0
C28: =+C27+1 -> 12 | D28: 4.42 | E28: *** | F28: SUMINISTRO E INSTALACIÓN DE GEOTEXTIL NT 2500 (ESTABILIZACIÓN, FILTRO Y SEPARACIÓN) | G28: M2 | I28: =11657*1.33 -> 15503.81 | J28: =ROUND(H28*I28,0) -> 0
C29: =C28+1 -> 13 | D29: 4.22 | E29: 673.1 | F29: MATERIAL GRANULAR FILTRANTE | G29: M3 | I29: =104246*1.33 -> 138647.18 | J29: =ROUND(H29*I29,0) -> 0
C30: =C29+1 -> 14 | D30: 3.11 | F30: TUBERÍA DRENAJE PVC 110 | G30: ML | I30: =39699*1.33 -> 52799.67 | J30: =ROUND(H30*I30,0) -> 0
C31: =C30+1 -> 15 | D31: 4.21 | F31: CUNETA EN CONCRETO CLASE E, 3000 PSI FUNDIDA EN EL LUGAR | G31: M3 | H31: ='CANTIDADES JAZMIN'!D15 -> 46.559544 | I31: =545338*1.33 -> 725299.54 | J31: =ROUND(H31*I31,0) -> 33769616
C32: =C31+1 -> 16 | D32: 4.52 | E32: 640.1 | F32: SUMINISTRO FIGURADO Y ARMADO DE ACERO DE REFUERZO 60000 PSI | G32: KG | H32: ='CANTIDADES JAZMIN'!D16 -> 3052.9093 | I32: =7577*1.33 -> 10077.41 | J32: =ROUND(H32*I32,0) -> 30765418
C33: Subtotal | J33: =SUM(J26:J32) -> 68031150
C34: ALCANTARILLAS
C35: =+C32+1 -> 17 | D35: 2.9 | E35: 600.1 | F35: EXCAVACIONES VARIAS SIN CLASIFICAR (INCLUYE RETIRO DE SOBRANTES A UNA DISTANCIA MENOR DE 5 KM) | G35: M3 | H35: =H36 -> 0.38475 | I35: =28229*1.33 -> 37544.57 | J35: =ROUND(H35*I35,0) -> 14445
C36: =C35+1 -> 18 | D36: 4.24 | E36: 630.6 | F36: CONCRETO CLASE F, 2000 PSI PARA SOLADOS Y ATRAQUES | G36: M3 | H36: ='CANTIDADES JAZMIN'!A29*0.1 -> 0.38475 | I36: =434126*1.33 -> 577387.58 | J36: =ROUND(H36*I36,0) -> 222150
C37: =C36+1 -> 19 | D37: 4.6 | E37: 630.4 | F37: CONCRETOS CLASE D, f´c =3000 psi (bases) | G37: M3 | H37: ='CANTIDADES JAZMIN'!D29*12 -> 23.085 | I37: =707909*1.33 -> 941518.97 | J37: =ROUND(H37*I37,0) -> 21734965
C38: =C37+1 -> 20 | D38: 4.7 | E38: 630.4 | F38: CONCRETOS CLASE D, f´c =3000 psi (elevaciones) | G38: M3 | H38: =('CANTIDADES JAZMIN'!D28+'CANTIDADES JAZMIN'!D30)*12 -> 11.835 | I38: =863467*1.33 -> 1148411.1 | J38: 13591257 | L38: 13591445
C39: =C38+1 -> 21 | D39: 4.52 | E39: 640.1 | F39: SUMINISTRO FIGURADO Y ARMADO DE ACERO DE REFUERZO 60000 PSI | G39: KG | H39: =(H37+H38)*90 -> 3142.8 | I39: =7577*1.33 -> 10077.41 | J39: =ROUND(H39*I39,0) -> 31671284
C40: =+C39+1 -> 22 | D40: 4.23 | E40: 610.1 | F40: RELLENO PARA ESTRUCTURAS | G40: M3 | I40: =76311*1.33 -> 101493.63 | J40: =ROUND(H40*I40,0) -> 0
D41: 3.29 | F41: TUBERÍA PVC ALCANTARILLADO REFORZADO 20" | G41: ML | I41: =317723*1.33 -> 422571.59 | J41: =ROUND(H41*I41,0) -> 0
C42: Subtotal | J42: =SUM(J35:J41) -> 67234101
C43: MUROS Y GAVIONES
C44: =+C40+1 -> 23 | D44: 2.9 | E44: 600.1 | F44: EXCAVACIONES VARIAS SIN CLASIFICAR (INCLUYE RETIRO DE SOBRANTES A UNA DISTANCIA MENOR DE 5 KM) | G44: M3 | I44: =28229*1.33 -> 37544.57 | J44: =ROUND(H44*I44,0) -> 0
C45: =+C44+1 -> 24 | D45: 4.42 | E45: *** | F45: SUMINISTRO E INSTALACIÓN DE GEOTEXTIL NT 2500 (ESTABILIZACIÓN, FILTRO Y SEPARACIÓN) | G45: M2 | I45: =11657*1.33 -> 15503.81 | J45: =ROUND(H45*I45,0) -> 0
C46: =+C45+1 -> 25 | D46: 4.22 | E46: 673.1 | F46: MATERIAL GRANULAR FILTRANTE | G46: M3 | I46: =104246*1.33 -> 138647.18 | J46: =ROUND(H46*I46,0) -> 0
C47: =+C46+1 -> 26 | D47: 3.11 | E47: 0 | F47: TUBERÍA DRENAJE PVC 110 | G47: ML | I47: =39699*1.33 -> 52799.67 | J47: =ROUND(H47*I47,0) -> 0
...

Sheet CANTIDADES JAZMIN
A1: JAZMIN
A2: VIA
A3: LARGO | B3: ANCHO | C3: ESPESOR | D3: DATO | E3: ITEM | F3: UNIDAD
A4: 620.79392 | B4: 5.5 | C4: 0.15 | D4: =A4*B4*C4 -> 512.15498 | E4: ASFALTO | F4: M3
A5: =A4 -> 620.79392 | B5: =B4 -> 5.5 | C5: 0 | D5: =A5*B5 -> 3414.3665 | E5: IMPRIMACION | F5: M2
A6: =A5 -> 620.79392 | B6: =B5 -> 5.5 | C6: 0.2 | D6: =A6*B6*C6 -> 682.87331 | E6: BASE | F6: M3
A7: =A6 -> 620.79392 | B7: =B6 -> 5.5 | C7: 0.3 | D7: =A7*B7*C7 -> 1024.31 | E7: SUBBASE | F7: M3
A8: =A7 -> 620.79392 | B8: =B7 -> 5.5 | C8: 0.5 | D8: =A8*B8*C8 -> 1707.1833 | E8: RAJON | F8: M3
A9: =A8 -> 620.79392 | B9: =B8 -> 5.5 | C9: =C6+C7+C8 -> 1 | D9: =A9*B9*C9 -> 3414.3665 | E9: EXCAVACION | F9: M3
A11: CUNETAS
A12: LARGO | B12: ANCHO | C12: ESPESOR | D12: DATO | E12: ITEM | F12: UNIDAD
A13: =A9 -> 620.79392 | B13: 0.5 | C13: 0.3 | D13: =A13*B13*C13 -> 93.119087 | E13: EXCAVACION | F13: M3
A14: =A13 -> 620.79392 | B14: 0.5 | C14: 0.15 | D14: =A14*B14*C14 -> 46.559544 | E14: AFIRMADO | F14: M3
A15: =A14 -> 620.79392 | B15: 0.5 | C15: 0.15 | D15: =A15*B15*C15 -> 46.559544 | E15: CUNETA | F15: M3
D16: =D15*65.57 -> 3052.9093 | E16: ACERO | F16: KG
A18: DEMARCACION
A19: LARGO | B19: ANCHO | C19: CANTIDAD | D19: DATO | E19: ITEM | F19: UNIDAD
A20: =A15 -> 620.79392 | C20: 2.5 | D20: =A20*C20 -> 1551.9848 | E20: LINEA | F20: M
D21: 8 | E21: SEÑALES | F21: UND
A24: ALCANTARILLAS
A25: LARGO | B25: ANCHO | C25: ESPESOR | D25: DATO | E25: ITEM | F25: UNIDAD
A26: 7.8 | B26: 1 | C26: 6 | D26: =A26*B26*C26 -> 46.8 | E26: TUBERIA | F26: M
A28: =((0.4+1.3)*1.35/2) -> 1.1475 | C28: 0.25 | D28: =A28*C28*2 -> 0.57375 | E28: ALETAS | F28: M3
A29: =((1.6+4.1)*1.35/2) -> 3.8475 | C29: 0.25 | D29: =A29*C29*2 -> 1.92375 | E29: SOLERA | F29: M3
A30: =0.15+0.1+0.9+0.1+0.4 -> 1.65 | B30: 1 | C30: 0.25 | D30: =A30*B30*C30 -> 0.4125 | E30: CABEZOTE | F30: M3
D31: =D28+D29+D30 -> 2.91 | E31: TOTAL CONCRETO | F31: X UND
C32: SON 12 | D32: =D31*12 -> 34.92 | E32: TOTAL ALCANTARILLAS | F32: M3

Sheet PRESUPUESTO UNION
C3: MUNICIPIO DE SIBATE
C5: PRESUPUESTO OFICIAL
E8: ESTUDIOS, DISEÑOS Y CONSTRUCCION PARA EL MEJORAMIENTO DE LA VÍAS RURALES DEL MUNICIPIO DE SIBATE, DEPARTAMENTO DE CUNDINAMARCA
C11: Nº | D11: ITEM | E11: INVIAS | F11: DESCRIPCIÓN | G11: UND. | H11: CANT. | I11: VALOR UNITARIO | J11: VALOR TOTAL | L11: 5.3
C12: EXPLANACIÓN Y EXCAVACIONES REPLANTEO VIA
C13: 1 | D13: 2.1 | E13: 600.2 | F13: EXCAVACIONES VARIAS EN ROCA EN SECO (INCLUYE RETIRO DE SOBRANTES A UNA DISTANCIA MENOR DE 5 KM) | G13: M3 | H13: ='CANTIDADES UNION'!D10 -> 2087.0074 | I13: =82797*1.33 -> 110120.01 | J13: =ROUND(H13*I13,0) -> 229821271
C14: Subtotal | J14: =SUM(J13:J13) -> 229821271
C15: ESTRUCTURA DE PAVIMENTO
D16: 3.22 | E16: *** | F16: RAJÓN PARA MEJORAMIENTO DE LA SUBRASANTE | G16: M3 | H16: ='CANTIDADES UNION'!D9 -> 1256.0162 | I16: =105488*1.33 -> 140299.04 | J16: =ROUND(H16*I16,0) -> 176217866
D17: 3.2 | E17: 320.1 | F17: SUBBASE GRANULAR | G17: M3 | H17: ='CANTIDADES UNION'!D8 -> 502.40648 | I17: =146821*1.33 -> 195271.93 | J17: =ROUND(H17*I17,0) -> 98105882
D18: 3.3 | E18: 330.1 | F18: BASE GRANULAR | G18: M3 | H18: ='CANTIDADES UNION'!D7 -> 502.40648 | I18: =171595*1.33 -> 228221.35 | J18: =ROUND(H18*I18,0) -> 114659884
D19: 3.5 | E19: 420.1 | F19: RIEGO DE IMPRIMACIÓN | G19: M2 | H19: ='CANTIDADES UNION'!D6 -> 2512.0324 | I19: =5645*1.33 -> 7507.85 | J19: =ROUND(H19*I19,0) -> 18859962
D20: 3.6 | E20: 421.1 | F20: RIEGO DE LIGA CON EMULSIÓN ASFÁLTICA CRR-1 | G20: M2 | H20: =H19 -> 2512.0324 | I20: =1533*1.33 -> 2038.89 | J20: =ROUND(H20*I20,0) -> 5121758
D21: 3.1 | E21: 450.2 P | F21: MEZCLA DENSA EN CALIENTE TIPO MDC-19 (INCLUYE CEMENTO ASFÁLTICO) | G21: M3 | H21: ='CANTIDADES UNION'!D5 -> 376.80486 | I21: =1094369*1.33 -> 1455510.8 | J21: =ROUND(H21*I21,0) -> 548443529
D22: 3.11 | E22: 450.9 P | F22: MEZCLA DENSA EN CALIENTE PARA BACHEO (INCLUYE CEMENTO ASFÁLTICO) | G22: M3 | H22: 150 | I22: =1158952*1.33 -> 1541406.2 | J22: =ROUND(H22*I22,0) -> 231210924
D23: 4.42 | E23: *** | F23: SUMINISTRO E INSTALACIÓN DE GEOTEXTIL NT 2500 (ESTABILIZACIÓN, FILTRO Y SEPARACIÓN) | G23: M2 | H23: ='CANTIDADES UNION'!D11 -> 2930.7045 | I23: =11657*1.33 -> 15503.81 | J23: =ROUND(H23*I23,0) -> 45437085 | L23: 52591647
C24: Subtotal | J24: =SUM(J16:J23) -> 1238056890
C25: FILTROS Y CUNETAS
C26: =+C21+1 -> 1 | D26: 2.9 | E26: 600.1 | F26: DEMOLICIÓN CONCRETO ESTRUCTURAL (INCLUYE CARGUE Y RETIRO DE SOBRANTES A UNA DISTANCIA DE 5KM) | G26: M3 | H26: ='CANTIDADES UNION'!D16 -> 31.400405 | I26: =214897*1.33 -> 285813.01 | J26: =ROUND(H26*I26,0) -> 8974644
C27: =+C22+1 -> 1 | D27: 2.9 | E27: 600.1 | F27: EXCAVACIONES VARIAS SIN CLASIFICAR (INCLUYE RETIRO DE SOBRANTES A UNA DISTANCIA MENOR DE 5 KM) | G27: M3 | H27: ='CANTIDADES UNION'!D14 -> 62.80081 | I27: =28229*1.33 -> 37544.57 | J27: =ROUND(H27*I27,0) -> 2357829
C28: =#REF!+1 -> #REF! | D28: 4.21 | F28: CUNETA EN CONCRETO CLASE E, 3000 PSI FUNDIDA EN EL LUGAR | G28: M3 | H28: ='CANTIDADES UNION'!D16 -> 31.400405 | I28: =545338*1.33 -> 725299.54 | J28: =ROUND(H28*I28,0) -> 22774699
C29: =C28+1 -> #REF! | D29: 4.52 | E29: 640.1 | F29: SUMINISTRO FIGURADO Y ARMADO DE ACERO DE REFUERZO 60000 PSI | G29: KG | H29: =H28*80 -> 2512.0324 | I29: =7577*1.33 -> 10077.41 | J29: =ROUND(H29*I29,0) -> 25314780
C30: Subtotal | J30: =SUM(J26:J29) -> 59421952
C31: RELLENOS
D32: 4.23 | E32: 610.1 | F32: RELLENO PARA ESTRUCTURAS | G32: M3 | H32: =(551*1.3) -> 716.3 | I32: =76311*1.33 -> 101493.63 | J32: =ROUND(H32*I32,0) -> 72699887
C33: Subtotal | J33: =SUM(J32:J32) -> 72699887
I34: SUBTOTAL OBRA | J34: =SUM(J13:J33)/2 -> 1600000000
F36: VALOR TOTAL OBRA | J36: =J34 -> 1600000000
F37: ESTUDIOS Y DISEÑOS INCLUIDO IVA | L37: NO MODIFICAR
F38: PLAN DE MANEJO DE TRAFICO | L38: NO MODIFICAR
F39: PLAN DE ADAPTACION E IMPLEMENTACION DE MANEJO AMBIENTAL | L39: NO MODIFICAR
F41: VALOR TOTAL | J41: =SUM(J36:J40) -> 1600000000
C44: NOTA 1: Se debe tener en cuenta que el PRECIO UNITARIO incluye el valor de A.I.U. | G44: DESCRIPCION | J44: PORCENTAJE
C45: NOTA 2: Cuando la fracción decimal del peso sea igual o superior a 5 se aproximará por exceso al número entero siguiente del peso y cuando la fracción decimal del peso sea inferior a 5 se aproximará por defecto al número entero del peso. | G45: ADMINISTRACIÓN | I45: A= | J45: 0.28
C46: NOTA 3: El A.I.U y su discriminación deben estar en porcentaje (%). | G46: IMPREVISTO | I46: I= | J46: 0.01
C47: NOTA 4: Los siguientes ITEMS del presupuesto son INMODIFICABLES, so pena de incurrir en causal de rechazo: " ESTUDIOS Y DISEÑOS","PLAN DE MANEJO DE TRAFICO", "PLAN DE ADAPTACION DE LA GUIA AMBIENTAL" . | G47: UTILIDAD | I47: U= | J47: 0.04
C48: NOTA 5: El proponente deberá adjuntar en su propuesta el formulario 1 - Formulario de Presupuesto Oficial, debidamente diligenciado en su totalidad en formato excel. En caso de presentar propuesta economica en formato PDF / otro formato y Excel, primará el archivo EXCEl. En todo caso no será causal de rechazo presentar este documento en otro formato siempre y cuando cumpla con la presentacion de todos los items, cantidades y valores requeridos. No se requiere que este documento se presente firmado. Los proponentes deben tener en cuenta la NOTA establecida en el numeral 2.3.2 del pliego de condiciones para la presentación de la oferta economica. | G48: TOTAL A.I.U | I48: A.I.U.= | J48: =SUM(J45:J47) -> 0.33
C49: NOTA 6: Para la elaboración de la presente propuesta económica, el proponente deberá tener en cuenta dentro de su análisis todos los costos inherentes al contrato generados durante la ejecución del contrato, que correponde la provisión de materiales, costos administrativos, de personal, impuestos y demás que se puedan llegar a generar en la ejecución del contrato y que no hagan parte de la fórmula de reajuste establecida para el presente proceso.

Sheet CANTIDADES UNION
A1: JAZMIN
A2: VIA
A3: LARGO | B3: ANCHO | C3: ESPESOR | D3: DATO | E3: ITEM | F3: UNIDAD
A4: 2 | B4: 6 | C4: 0.12 | D4: =A4*B4*C4 -> 1.44 | E4: BACHEO | F4: M3
A5: 418.67206 | B5: 6 | C5: 0.15 | D5: =A5*B5*C5 -> 376.80486 | E5: ASFALTO | F5: M3
A6: =A5 -> 418.67206 | B6: =B5 -> 6 | C6: 0 | D6: =A6*B6 -> 2512.0324 | E6: IMPRIMACION | F6: M2
A7: =A6 -> 418.67206 | B7: =B6 -> 6 | C7: 0.2 | D7: =A7*B7*C7 -> 502.40648 | E7: BASE | F7: M3
A8: =A7 -> 418.67206 | B8: =B7 -> 6 | C8: 0.2 | D8: =A8*B8*C8 -> 502.40648 | E8: SUBBASE | F8: M3
A9: =A8 -> 418.67206 | B9: =B8 -> 6 | C9: 0.5 | D9: =A9*B9*C9 -> 1256.0162 | E9: RAJON | F9: M3
A10: =A9 -> 418.67206 | B10: =B9 -> 6 | C10: 0.83080432 | D10: =A10*B10*C10 -> 2087.0074 | E10: EXCAVACION | F10: M3
A11: =A10 -> 418.67206 | B11: 7 | D11: =A11*B11 -> 2930.7045 | E11: GEOTEXTIL | F11: M2
A12: CUNETAS
A13: LARGO | B13: ANCHO | C13: ESPESOR | D13: DATO | E13: ITEM | F13: UNIDAD
A14: =A11 -> 418.67206 | B14: 0.5 | C14: 0.3 | D14: =A14*B14*C14 -> 62.80081 | E14: EXCAVACION | F14: M3
A15: =A14 -> 418.67206 | B15: 0.5 | C15: 0.15 | D15: =A15*B15*C15 -> 31.400405 | E15: AFIRMADO | F15: M3
A16: =A15 -> 418.67206 | B16: 0.5 | C16: 0.15 | D16: =A16*B16*C16 -> 31.400405 | E16: CUNETA | F16: M3
D17: =D16*65.57 -> 2058.9245 | E17: ACERO | F17: KG

Sheet DISCRIMINACION
A1: |
B2: |
C3: MUNICIPIO DE SIBATE
C4: INFRAESTRUCTURA
B6: OBJETO DE LA LICITACIÓN: | C6: ESTUDIOS Y DISEÑOS, MEJORAMIENTO Y REHABILITACION DE LA MALLA VIAL RURAL DEL MUNICIPIO DE SIBATE - CUNDINAMARCA
B8: CONTRATO N.
B9: MODALIDAD DE CONTRATACIÓN | C9: LICITACION PUBLICA
B10: FECHA: | C10: OCTUBRE DE 2025
B12: ACTIVIDADES | C12: MESES | D12: MONTOS
B13: COSTO DIRECTO OBRAS INICIALES | C13: 12 | D13: ='PRESUPUESTO UNIFICADO'!#REF! -> #REF!
B14: AIU | C14: 0.33 | D14: ='PRESUPUESTO UNIFICADO'!#REF! -> #REF!
B15: COSTO DIRECTO OBRAS INICIALES MÁS + A.I.U. | D15: ='PRESUPUESTO UNIFICADO'!#REF! -> #REF!
B16: PMA (Incl. AIU) | C16: =+D16/D15 -> #REF! | D16: ='PRESUPUESTO UNIFICADO'!J77 -> 0
B17: PMT (Incl. AIU) | C17: =+D17/D15 -> #REF! | D17: ='PRESUPUESTO UNIFICADO'!J76 -> 0
B18: DIAGNOSTICOS, ESTUDIOS Y DISEÑOS | D18: 1.2605042e+08
B19: I.V.A. DIAGNOSTICOS, ESTUDIOS Y DISEÑOS | C19: 0.19 | D19: =D18*C19 -> 23949580
B20: TOTAL COSTO ESTUDIOS Y DISEÑOS | D20: =D18+D19 -> 150000000
B21: COSTO TOTAL DEL PROYECTO EN PESOS: | D21: =D15+D16+D17+D20 -> #REF!
B22: COSTO TOTAL DEL PROYECTO EN SMMLV 2025: | D22: =+D21/1423500 -> #REF!

Sheet PMA
C2: MUNICIPIO DE SIBATE
C6: ='[1]DATOS ENTRADA'!$B$7 -> OBJETO DE LA LICITACIÓN: | F6: =DISCRIMINACION!C6 -> ESTUDIOS Y DISEÑOS, MEJORAMIENTO Y REHABILITACION DE LA MALLA VIAL RURAL DEL MUNICIPIO DE SIBATE - CUNDINAMARCA
C8: SISTEMA DE GESTIÓN AMBIENTAL, SEGURIDAD Y SALUD EN EL TRABAJO
C9: COMPONENTE A - PERSONAL
K11: EJECUCIÓN DE OBRA | N11: 10 | O11: MESES
C12: EJECUCIÓN DE OBRAS
C13: ÍTEMS | H13: UN. | I13: CAT | J13: CANT | K13: DEDIC H/MES | L13: TOTAL DEDIC H/PROY | M13: TARIFA | N13: F.P | O13: TOTAL ACTIVIDAD
C14: 1 | D14: PROFESIONAL AMBIENTAL | H14: MES | I14: 10 | J14: 1 | K14: 0.25 | L14: =J14*K14*$N$11 -> 2.5 | M14: =1423500*2 -> 2847000 | N14: 1.58 | O14: =ROUND(L14*M14*N14,0) -> 11245650
C15: 2 | D15: INSPECTOR SST | H15: MES | I15: 10 | J15: 1 | K15: 0.30088507 | L15: =J15*K15*$N$11 -> 3.0088507 | M15: =1423500*1 -> 1423500 | N15: 1.58 | O15: =ROUND(L15*M15*N15,0) -> 6767296
D16: BRIGADA DE ORDEN, ASEO Y LIMPIEZA
B17: 9455 | C17: 3 | D17: TARIFA MES - PERSONAL DE OBRA - AYUDANTE (No incluye Factor de Prestaciones) | H17: =VLOOKUP(B17,[1]INSUMOS!$B$3:$F$2468,3,FALSE) -> MES | I17: 1 | J17: 2 | K17: 1 | L17: 8 | M17: 1575000 | N17: 1.58 | O17: =ROUND(L17*M17*N17,0) -> 19908000
M18: 5604000
H19: SUBTOTAL COMPONENTE A | O19: =SUM(O14:O18) -> 37920946
C21: COMPONTE C. MANEJO DE LA VEGETACION Y DEL PAISAJE
C22: ÍTEMS | G22: ESPECIFICACIÓN | H22: UN. | I22: CANTIDAD | K22: VALOR UNITARIO | N22: VALOR TOTAL
C23: C1 | D23: MANEJO DE LA VEGETACION EXISTENTE Y DE ACTIVIDADES DE DISEÑO PAISAJISTICO
B24: 7559 | C24: 1.1 | D24: PROTECCION DE ARBOLES | G24: TELA VERDE | H24: =VLOOKUP(B24,[1]INSUMOS!$B$3:$F$2468,3,FALSE) -> M2 | I24: 50 | K24: 793 | N24: =ROUND(I24*K24,0) -> 39650
B25: 7285 | C25: 1.2 | D25: SOPORTE MALLA | G25: VARA DE CORREDOR | H25: =VLOOKUP(B25,[1]INSUMOS!$B$3:$F$2468,3,FALSE) -> UN | I25: 70 | K25: 12390 | N25: =ROUND(I25*K25,0) -> 867300
H26: SUBTOTAL DEL COMPONENTE C | N26: =SUM(N24:O25) -> 906950
C28: COMPONTE D. ACTIVIDADES CONSTRUCTIVAS
C29: ÍTEMS | G29: ESPECIFICACIÓN | H29: UN. | I29: CANTIDAD | K29: VALOR UNITARIO | N29: VALOR TOTAL
C30: D 1 | D30: MANEJO DE CAMPAMENTOS Y CENTROS DE ACOPIO
B31: 9290 | C31: 1.1 | D31: CANECAS PARA CAMPAMENTOS Y FRENTES DE OBRA | G31: CANECA PLASTICA | H31: =VLOOKUP(B31,[1]INSUMOS!$B$3:$F$2468,3,FALSE) -> UN | I31: 10 | K31: 122000 | N31: =ROUND(I31*K31,0) -> 1220000
H32: SUBTOTAL DEL PROGRAMA | N32: =SUM(N31:N31) -> 1220000
C34: D 2 | D34: MANEJO DE MATERIALES DE CONSTRUCCIÓN
B35: 7556 | C35: 2.1 | D35: PUNTO DE ACOPIO DE MATERIALES | G35: PLASTICO NEGRO | H35: =VLOOKUP(B35,[1]INSUMOS!$B$3:$F$2468,3,FALSE) -> M2 | I35: 250 | K35: 1312 | N35: =ROUND(I35*K35,0) -> 328000
B36: 7554 | G36: SEÑALIZACION TUBULAR | H36: =VLOOKUP(B36,[1]INSUMOS!$B$3:$F$2468,3,FALSE) -> UN | I36: 15 | K36: 43962 | N36: =ROUND(I36*K36,0) -> 659430
B37: 7850 | G37: CINTA PARA SEÑALIZACION | H37: =VLOOKUP(B37,[1]INSUMOS!$B$3:$F$2468,3,FALSE) -> ROLLO | I37: 30 | K37: 24285 | N37: =ROUND(I37*K37,0) -> 728550
H38: SUBTOTAL DEL PROGRAMA | N38: =SUM(N35:O37) -> 1715980
C40: D 3 | D40: MANEJO INTEGRAL DE RESIDUOS SÓLIDOS
B41: 7556 | C41: 3.1 | D41: ACOPIO TEMPORAL DE RCD EN FRENTES DE OBRA | G41: PLASTICO NEGRO | H41: =VLOOKUP(B41,[1]INSUMOS!$B$3:$F$2468,3,FALSE) -> M2 | I41: 400 | K41: 1188 | N41: =+ROUND(I41*K41,0) -> 475200
B42: 7812 | C42: 3.2 | D42: KIT BRIGADA DE ASEO Y LIMPIEZA | G42: CARRETILLA | H42: =VLOOKUP(B42,[1]INSUMOS!$B$3:$F$2468,3,FALSE) -> UN | I42: 2 | K42: 123283 | N42: =+ROUND(I42*K42,0) -> 246566
B43: 9287 | G43: PALA REDONDA | H43: =VLOOKUP(B43,[1]INSUMOS!$B$3:$F$2468,3,FALSE) -> UN | I43: 5 | K43: 31189 | N43: =+ROUND(I43*K43,0) -> 155945
B44: 7811 | G44: CEPILLO INDUSTRIAL | H44: =VLOOKUP(B44,[1]INSUMOS!$B$3:$F$2468,3,FALSE) -> UN | I44: 5 | K44: 12910 | N44: =+ROUND(I44*K44,0) -> 64550
B45: 7813 | G45: BARRA DE 18 LB | H45: =VLOOKUP(B45,[1]INSUMOS!$B$3:$F$2468,3,FALSE) -> UN | I45: 5 | K45: 87296 | N45: =+ROUND(I45*K45,0) -> 436480
B46: 7814 | G46: SERRUCHO | H46: =VLOOKUP(B46,[1]INSUMOS!$B$3:$F$2468,3,FALSE) -> UN | I46: 5 | K46: 16964 | N46: =+ROUND(I46*K46,0) -> 84820
B47: 7815 | G47: MARTILLO DE BOLA | H47: =VLOOKUP(B47,[1]INSUMOS!$B$3:$F$2468,3,FALSE) -> UN | I47: 5 | K47: 37900 | N47: =+ROUND(I47*K47,0) -> 189500
B48: 9280 | G48: BOLSA PARA BASURA TIPO IND | H48: =VLOOKUP(B48,[1]INSUMOS!$B$3:$F$2468,3,FALSE) -> UN | I48: 50 | K48: 10042 | N48: =+ROUND(I48*K48,0) -> 502100
H49: SUBTOTAL DEL PROGRAMA | N49: =SUM(N41:O48) -> 2155161
C51: D 4 | D51: MANEJO INTEGRAL DE CUERPOS DE AGUA
...

Sheet PMT
C2: MUNICIPIO DE SIBATE
C6: ='[1]DATOS ENTRADA'!B7 -> OBJETO DE LA LICITACIÓN: | E6: =DISCRIMINACION!C6 -> ESTUDIOS Y DISEÑOS, MEJORAMIENTO Y REHABILITACION DE LA MALLA VIAL RURAL DEL MUNICIPIO DE SIBATE - CUNDINAMARCA
C8: CONTROL DE INVERSIÓN PLAN DE MANEJO DE TRÁFICO
E10: PLAZO: | G10: 10 | H10: MESES
C12: No. | D12: DESCRIPCIÓN | E12: TIEMPO | G12: CAT | H12: VALOR UNITARIO (MENSUAL) | I12: F.P. | J12: CONSTRUCCION | T12: CANT TOTAL | U12: VR TOTAL
B13: CODIGO IDU | E13: Und | F13: Cant | J13: 1 | K13: 2 | L13: 3 | M13: 4 | N13: 5 | O13: 6 | P13: 7 | Q13: 8 | R13: 9 | S13: 10
C14: 1 | D14: PERSONAL
D15: PERSONAL PROFESIONAL
C16: 1.1 | D16: ESPECIALISTA EN TRÁNSITO Y TRANSPORTE | E16: UN/MES | F16: 1 | G16: 4 | H16: =1423500*3 -> 4270500 | I16: 1.58 | L16: 0.2 | M16: 0.2 | N16: 0.2 | O16: 0.2 | P16: 0.2 | T16: =F16*(SUM(J16:S16)) -> 1 | U16: =ROUND(T16*H16*I16,0) -> 6747390
D17: AFORADOR
B18: 9455 | C18: 1.2 | D18: AYUDANTE | E18: UN/MES | F18: 1 | H18: 1423500 | I18: 1.58 | L18: 1 | M18: 1 | T18: =F18*(SUM(J18:S18)) -> 2 | U18: =ROUND(T18*H18*I18,0) -> 4498260
D19: PALETERO
B20: 9455 | C20: 1.2 | D20: AYUDANTES | E20: UN/MES | F20: 2 | H20: 1423500 | I20: 1.58 | L20: 1 | M20: 1 | N20: 1 | O20: 1 | T20: =F20*(SUM(J20:S20)) -> 8 | U20: =ROUND(T20*H20*I20,0) -> 17993040
T21: SUBTOTAL COSTOS PERSONAL | U21: =SUM(U16:U20) -> 29238690
C22: 2 | D22: OTROS
B23: 6318 | C23: 2.2 | D23: ALQUILER DE PORTATIL. CARACTERÍSTICAS: Procesador intel, Core i3 4005U, celeron o similar, Memoria RAM de 4 GB ( 2 x 2048 MB)Disco duro de 500gb a 7200 rpmPantalla LED HP BrightView widescreen de alta definición con 35,6 cm (14") o similar, HD INTEL GRAPH | E23: =VLOOKUP(B23,[1]ITEMS!$B$5:$E$2466,3,FALSE) -> UN/MES | F23: 1 | H23: =VLOOKUP(B23,[2]ITEMS!$B$5:$E$2466,4,FALSE) -> 142800 | L23: 1 | M23: 1 | N23: 1 | O23: 1 | T23: =F23*(SUM(J23:S23)) -> 4 | U23: =ROUND(T23*H23,0) -> 571200
D24: SEÑALIZACION TEMPORAL
B25: 4928 | C25: 2.3 | D25: CANALIZACIÓN DE TRÁFICO (INSTALACIÓN, MANTENIMIENTO Y DESINSTALACIÓN MENSUAL) CON SEÑALIZADORES TUBULARES COLOMBINA PLÁSTICA Y TRIPLE CINTA DE SEÑALIZACIÓN (INCLUYE ALQUILER DE SEÑALIZADORES TUBULARES). LONGITUD 3 METROS. | E25: =VLOOKUP(B25,[1]ITEMS!$B$5:$E$2466,3,FALSE) -> UN/MES | F25: 4 | H25: 4979 | L25: 1 | M25: 1 | N25: 1 | O25: 1 | T25: =F25*(SUM(J25:S25)) -> 16 | U25: =ROUND(T25*H25,0) -> 79664
B26: 6178 | C26: 2.4 | D26: ALQUILER SEÑAL VERTICAL GRUPO I (75x75cm) (Incluye Suministro e Instalación) | E26: =VLOOKUP(B26,[1]ITEMS!$B$5:$E$2466,3,FALSE) -> UN/MES | F26: 4 | H26: 6290 | L26: 1 | M26: 1 | N26: 1 | O26: 1 | T26: =F26*(SUM(J26:S26)) -> 16 | U26: =ROUND(T26*H26,0) -> 100640
B27: 6186 | C27: 2.5 | D27: ALQUILER BARRERA RELLENABLE (2.00x0.55x1.00m) | E27: =VLOOKUP(B27,[1]ITEMS!$B$5:$E$2466,3,FALSE) -> UN/MES | F27: -12.47629 | H27: 10108 | L27: 1 | M27: 1 | N27: 1 | O27: 1 | T27: =F27*(SUM(J27:S27)) -> -49.90516 | U27: =ROUND(T27*H27,0) -> -504441
B28: 6187 | C28: 2.6 | D28: ALQUILER DE SEÑAL LUMINOSA BIDIRECCIONAL 1.50m x 0.50m (INCLUYE INSTALACIÓN, MANTENIMIENTO Y DESINSTALACIÓN). | E28: =VLOOKUP(B28,[1]ITEMS!$B$5:$E$2466,3,FALSE) -> UN/MES | F28: 6 | H28: 151378 | L28: 1 | M28: 1 | N28: 1 | O28: 1 | T28: =F28*(SUM(J28:S28)) -> 24 | U28: =ROUND(T28*H28,0) -> 3633072
B29: 9211 | C29: 2.7 | D29: PASACALLE IMPRESO EN LONA BANNER (7.00m x 1.00m) INCLUYE PALOS A LOS EXTREMOS | E29: =VLOOKUP(B29,[1]INSUMOS!$B$3:$F$2467,3,FALSE) -> UN | F29: 6 | H29: 285705 | L29: 1 | M29: 1 | N29: 1 | O29: 1 | T29: =F29 -> 6 | U29: =ROUND(T29*H29,0) -> 1714230
B30: 7555 | C30: 2.8 | D30: CINTA DE SEÑALIZACION CAL 4 (ROLLO 500mx0.10m) | E30: =VLOOKUP(B30,[1]INSUMOS!$B$3:$F$2467,3,FALSE) -> UN | F30: 6 | H30: 37188 | L30: 1 | M30: 1 | N30: 1 | O30: 1 | T30: =F30 -> 6 | U30: =ROUND(T30*H30,0) -> 223128
B31: 6181 | C31: 2.9 | D31: ALQUILER DE PALETA PARE-SIGA EN POLIETILENO. | E31: =VLOOKUP(B31,[1]ITEMS!$B$5:$E$2466,3,FALSE) -> UN/MES | F31: 6 | H31: 1314 | L31: 1 | M31: 1 | N31: 1 | O31: 1 | T31: =F31*(SUM(J31:S31)) -> 24 | U31: =ROUND(T31*H31,0) -> 31536
T32: SUBTOTAL OTROS COSTOS DIRECTOS | U32: =ROUND(SUM(U23:U31),0) -> 5849029 | W32: 7048860000 | X32: 1
H34: SUB TOTAL | U34: =ROUND(U32+U21,0) -> 35087719 | W34: =+(U36*X32)/W32 -> 0.0056746765
H35: A.I.U | T35: 0.14 | U35: =ROUND(U34*T35,0) -> 4912281 | W35: =+W34*100 -> 0.56746765
H36: VALOR TOTAL | U36: =ROUND(U35+U34,0) -> 40000000 | W36: 0.0222

Sheet AIU
A2: ANALISIS DEL VALOR DEL AIU MUNICIPIO DE SIBATE
B5: INFRAESTRUCTURA
A9: OBJETO | C9: =+'PRESUPUESTO JAZMIN'!E8 -> ESTUDIOS, DISEÑOS Y CONSTRUCCION PARA EL MEJORAMIENTO DE LA VÍAS RURALES DEL MUNICIPIO DE SIBATE, DEPARTAMENTO DE CUNDINAMARCA
A15: COSTO DIRECTO ESTIMADO DE OBRA (CD) | F15: =+DISCRIMINACION!D13 -> #REF! | H15: FECHA: | I15: 45893
A16: AIU | F16: =+DISCRIMINACION!D14 -> #REF! | G16: 0.3359
A17: PLAN DE GESTION AMBIENTAL (PGA) | F17: =+ROUND(PMA!N104,0) -> 70000000
A18: PLAN DE MANEJO DE TRAFICO (PMT) | F18: =+PMT!U36 -> 40000000
B19: =+'[3]DATOS DE ENTRADA'!B19 -> DIAGNOSTICOS, ESTUDIOS Y DISEÑOS | F19: =+DISCRIMINACION!D20 -> 150000000
A20: VALOR TOTAL DEL CONTRATO | F20: =SUM(F15:F19) -> #REF!
A21: TERMINO ESTIMADO DE EJECUCIÓN DE OBRA | F21: 6 | G21: MESES | H21: PO | I21: =+F20 -> #REF!
F22: =SUM(F15:F19) -> #REF!
A24: ITEM
B25: 1. COSTOS MENSUALES DE PERSONAL
B26: CARGO | C26: CANTIDAD | D26: CATEGORÍA | E26: Dedicación /Mes | F26: TOPE SALARIO MES | G26: FACTOR PRESTACIONAL | H26: No. MESES | I26: SALARIO + PRESTACIONES
C27: A | E27: B | F27: C | G27: D | H27: E | I27: F=A*B*C*D*E
A28: 1.1 | B28: PERSONAL PROFESIONAL (Ingenieros y otros)
A29: =+A28+0.001 -> 1.101 | B29: DIRECTOR DE OBRA | C29: 1 | D29: 4 | E29: 0.4 | F29: =1423500*4 -> 5694000 | G29: =+'[3]CÁLCULO FACTOR MULTIPLICADOR'!$D$30 -> 1.58 | H29: 6 | I29: =ROUND(C29*E29*F29*G29*H29,0) -> 21591648
A30: =+A29+0.001 -> 1.102 | B30: INGENIERO RESIDENTE DE OBRA | C30: 1 | D30: 6 | E30: 1 | F30: =1423500*2.5 -> 3558750 | G30: =+'[3]CÁLCULO FACTOR MULTIPLICADOR'!$D$30 -> 1.58 | H30: 6 | I30: =ROUND(C30*E30*F30*G30*H30,0) -> 33736950
A31: =+A30+0.001 -> 1.103 | B31: ESPECIALISTA EN GESTION SOCIAL | C31: 1 | D31: 4 | E31: 0.1 | F31: =1423500*2.5 -> 3558750 | G31: =+'[3]CÁLCULO FACTOR MULTIPLICADOR'!$D$30 -> 1.58 | H31: 6 | I31: =ROUND(C31*E31*F31*G31*H31,0) -> 3373695
A32: =+A31+0.001 -> 1.104 | B32: PROFESIONAL SST | C32: 1 | D32: 4 | E32: 0.5 | F32: =1423500*2.5 -> 3558750 | G32: =+'[3]CÁLCULO FACTOR MULTIPLICADOR'!$D$30 -> 1.58 | H32: 6 | I32: =ROUND(C32*E32*F32*G32*H32,0) -> 16868475
A34: 1.2 | B34: PERSONAL TÉCNICO Y PERSONAL AUXILIAR
A35: 1, 201 | B35: TARIFA MES - PERSONAL TÉCNICO - INSPECTOR 1 (No incluye Factor de Prestaciones) | C35: 1 | D35: N/A | E35: 1 | F35: 1988000 | G35: =+'[3]CÁLCULO FACTOR MULTIPLICADOR'!$D$30 -> 1.58 | H35: 4 | I35: =ROUND(C35*E35*F35*G35*H35,0) -> 12564160
A36: 1, 202 | B36: TARIFA MES - PERSONAL TÉCNICO - TOPÓGRAFO INSPECTOR (No incluye Factor de Prestaciones) | C36: 1 | D36: N/A | E36: 0.3 | F36: 2400000 | G36: =+'[3]CÁLCULO FACTOR MULTIPLICADOR'!$D$30 -> 1.58 | H36: 4 | I36: =ROUND(C36*E36*F36*G36*H36,0) -> 4550400
A37: 1, 203 | B37: TARIFA MES - PERSONAL AUXILIAR TÉCNICO - CADENERO 1 (No incluye Factor de Prestaciones) | C37: 1 | D37: N/A | E37: 0.3 | F37: 1695000 | G37: =+'[3]CÁLCULO FACTOR MULTIPLICADOR'!$D$30 -> 1.58 | H37: 4 | I37: =ROUND(C37*E37*F37*G37*H37,0) -> 3213720
A38: 1, 204 | B38: TARIFA MES - PERSONAL AUXILIAR TÉCNICO - CONDUCTOR O MOTORISTA (No incluye Factor de Prestaciones) | C38: 1 | D38: 2 | E38: 1 | F38: 1600000 | G38: =+'[3]CÁLCULO FACTOR MULTIPLICADOR'!$D$30 -> 1.58 | H38: 4 | I38: =ROUND(C38*E38*F38*G38*H38,0) -> 10112000
A40: 1.3 | B40: PERSONAL ADMINISTRATIVO
A41: 1.3.1 | B41: TARIFA MES - PERSONAL ADMINISTRATIVO - SECRETARIA 2 (No incluye Factor de Prestaciones) | C41: 1 | D41: N/A | E41: 0.33 | F41: 1600000 | G41: =+'[3]CÁLCULO FACTOR MULTIPLICADOR'!$D$30 -> 1.58 | H41: 4 | I41: =ROUND(C41*E41*F41*G41*H41,0) -> 3336960
B43: SUBTOTAL COSTOS MENSUALES DE PERSONAL | I43: =SUM(I29:I41) -> 109348008
A45: 2 | B45: GASTOS OPERACIONALES MENSUALES | C45: CANTIDAD | D45: AREA (M2) | E45: Dedicación /Mes | F45: DEDICACIÓN X AREA (M2) | G45: COSTO ($/M2.MES) | H45: No. MESES | I45: VALOR ($)
A46: 2.01 | B46: ALQUILER MES - ARRIENDO OFICINA INCL. ADMINISTRACIÓN, SERVICIOS PÚBLICOS, COMUNICACIONES | C46: 1 | D46: 40 | E46: 0.4 | F46: 40 | G46: 18690 | H46: 6 | I46: =+F46*G46*H46 -> 4485600
A47: 2.02 | B47: ALQUILER MES - CAMPAMENTOS INCL. SERVICIOS PÚBLICOS PROVISIONALES | C47: 1 | D47: 60 | E47: 0.4 | F47: 40 | G47: 26189 | H47: 4 | I47: =+F47*G47*H47 -> 4190240
A48: 2.03 | B48: TARIFA GLOBAL - GASTOS OFICINA (PAPELERIA, FOTOCOPIAS Y OTROS) | C48: 1 | D48: N/A | E48: 0.4 | F48: N/A | G48: 898944 | H48: 4 | I48: =+E48*G48*H48 -> 1438310.4
A49: 2.04 | B49: ALQUILER MES - LABORATORIO - Estudios (Equipo completo) | C49: 1 | D49: N/A | E49: 0.15 | F49: N/A | G49: 6800000 | H49: 4 | I49: =+E49*G49*H49 -> 4080000
A50: 2.05 | B50: ALQUILER MES - EQUIPO DE TOPOGRAFÍA (Incluye tránsito, nivel y elementos complementarios). | C50: 1 | D50: N/A | E50: 0.3 | F50: N/A | G50: 2627000 | H50: 4 | I50: =+E50*G50*H50 -> 3152400
A51: 2.06 | B51: ALQUILER MES - CAMPERO PICK-UP, CAMIONETA DE 1300-2000cc - TARIFA PLENA | C51: 1 | D51: N/A | E51: 0.1 | F51: N/A | G51: 2516500 | H51: 4 | I51: =+E51*G51*H51*C51 -> 1006600
B53: SUBTOTAL GASTOS OPERACIONALES MENSUALES | I53: =SUM(I46:I52) -> 18353150
B55: COSTOS MENSUALES DE PERSONAL + GASTOS OPERACIONALES MENSUALES | I55: =+I43+I53 -> 1.2770116e+08
B56: COSTOS MENSUALES DE PERSONAL + GASTOS OPERACIONALES MENSUALES EN PORCENTAJE DEL COSTO DIRECTO | I56: =ROUND(I55/F15,4) -> #REF!
A58: 3 | B58: IMPUESTOS Y GARANTIAS
A59: 3.1 | B59: IMPUESTOS
...
