Workbook
Name contratación: 'IDENTIFICACION Y ANALISIS'!$B$39:$B$43
Name ejecución: 'IDENTIFICACION Y ANALISIS'!$B$45:$B$68
Name OPCIONES: 'ASIGNACION Y TRATAMIENTO'!$B$43:$B$45
Name planeación: 'IDENTIFICACION Y ANALISIS'!$B$19:$B$29
Name selección: 'IDENTIFICACION Y ANALISIS'!$B$31:$B$37

Sheet CONTEXTO
C2: MATRIZ DE RIESGOS EN CONTRATACIÓN | F2: Código: GCO-GCI-F164 Versión: 02 Vigencia: 01 de diciembre de 2022 Caso HOLA: 280117
B6: ESTABLECER EL CONTEXTO
B7: El punto inicial es identificar el contexto en el cual interactúa la Entidad Estatal para conocer el ambiente social, económico y político, e identificar (i) sus propios Riesgos; (ii) los Riesgos comunes a sus Procesos de Contratación; y (iii) los Riesgos del Proceso de Contratación en particular. (Aplica igual para contratos interadministrativos) En este paso la Entidad Estatal debe identificar los aspectos que se mencionan a continuación y los posibles efectos adversos que estos pueden generar.
B8: Objeto del Proceso de Contratación
B9: Partícipes del Proceso de Contratación: Agentes externos (Organismos de control, veedurías ciudadanas), agentes internos (supervisores, funcionarios y demás usuarios).
B10: Ciudadanía que se beneficia del Proceso de Contratación: Agentes internos (funcionarios, pasantes) y externos (contratistas, visitantes y usuarios externos en general)
B11: Capacidad de la Entidad Estatal entendida como la disponibilidad de recursos y conocimientos para el Proceso de Contratación: La disponibilidad de la Entidad de sus recursos y el conocimiento de su equipo humano se refleja en los diferentes funcionarios que participarán en las diversas etapas del proceso de selección: participan las áreas que requieren los procesos de contratación (Etapa de Planeación), Dirección de Contratación, Comité Evaluador (Etapa de selección), Dirección de Contratación (Etapa de contratación) y la supervisión y apoyos a la misma (Estapa de Ejecución).
B12: Suficiencia del presupuesto oficial del Proceso de Contratación: De acuerdo al Plan Anual de Adquisiciones se deben estimar los recursos necesarios para el desarrollo del proceso de la contratación, el cual tendrá el soporte presupuestal suficiente para su desarrollo.
B13: Condiciones geográficas y de acceso del lugar en el cual se debe cumplir el objeto del Proceso de Contratación: El suministro, obra o servicio se prestará principalmente en las Sedes de la Entidad, o en el lugar indicado en los estudios previos del proceso.
B14: Entorno socio ambiental: Si aplican
B15: Condiciones políticas: Si aplican
B16: Factores ambientales.
B17: Sector del objeto del Proceso de Contratación y su mercado.
... B19: Experiencia propia y de otras Entidades Estatales en Procesos de Contratación del mismo tipo.

Sheet IDENTIFICACION Y ANALISIS
C2: MATRIZ DE RIESGOS DE CONTRATACIÓN | F2: Código: GCO-GCI-F164 Versión: 02 Vigencia: 01 de diciembre de 2022 Caso HOLA: 280117
B6: DEFINICIONES
B7: RIESGO: Evento que puede generar efectos adversos y de distinta magnitud en el logro de los objetivos del Proceso de Contratación o en la ejecución de un contrato RIESGOS PREVISIBLES: Son los posibles hechos o circunstancias que por la naturaleza del contrato y de la actividad a ejecutar es factible su ocurrencia. ETAPA DE PLANEACIÓN: Está comprendida desde el momento en que se identifican las necesidades que debe satisfacer la Secretaría Distrital de Gobierno y los Fondos de Desarrollo Local, a través del abastecimiento de bienes, obras o servicios, la elaboración del Plan Anual de Adquisiciones y la estructuración de los documentos y estudios previos. ETAPA DE SELECCIÓN: Está comprendida entre el acto de Apertura del Proceso de Contratación y la Adjudicación o la declaración de desierto del Proceso de Contratación ETAPA DE CONTRATACIÓN: Una vez adjudicado el contrato objeto del Proceso de Contratación, inicia la etapa para la celebración del contrato y el cumplimiento de los requisitos para de perfeccionamiento y ejecución. ETAPA DE EJECUCIÓN: Inicia una vez cumplidos los requisitos previstos para iniciar la ejecución del contrato respectivo y termina con el vencimiento del plazo del contrato o la fecha de liquidación si hay lugar a ella. RIESGO GENERAL: Es un riesgo de todos los procesos de contratación adelantados por la Entidad Estatal, por lo cual está presente en toda su actividad contractual. RIEGO ESPECIFICO: Es un riesgo propio del proceso de contratación objeto de análisis. RIESGOS ECONÓMICOS: Son los derivados del comportamiento del mercado, tales como la fluctuación de los precios de los insumos, desabastecimiento y especulación de los mismos, entre otros. RIESGOS SOCIALES O POLÍTICOS: son los derivados de los cambios de las políticas gubernamentales y de cambios en las condiciones sociales que tengan impacto en la ejecución del contrato. RIESGOS OPERACIONALES: Son los asociados a la operatividad del contrato, tales como la suficiencia del presupuesto oficial, del plazo o los derivados de procesos, procedimientos, parámetros, sistemas de información y tecnológicos, equipos humanos o técnicos inadecuados o insuficientes. RIESGOS FINANCIEROS: Son (i) el riesgo de consecución de financiación o riesgo de liquidez para obtener recursos para cumplir con el objeto del contrato, y (ii) el riesgo de las condiciones financieras establecidas para la obtención de los recursos, tales como plazos, tasas, garantías, contragarantías, y refinanciaciones, entre otros. RIESGOS REGULATORIOS: Derivados de cambios regulatorios o reglamentarios que afecten la ecuación económica del contrato. RIESGOS DE LA NATURALEZA: Son los eventos naturales previsibles en los cuales no hay intervención humana que puedan tener impacto en la ejecución del contrato, por ejemplo los temblores, inundaciones, lluvias, sequías, entre otros. RIESGOS AMBIENTALES: Son los derivados de las obligaciones legales o reglamentarias de carácter ambiental, así como de las licencias, planes de manejo o de permisos y autorizaciones ambientales, incluyendo tasas retributivas y compensatorias, obligaciones de mitigación, tareas de monitoreo y control, entre otras. RIESGOS TECNOLÓGICOS: Son los derivados de fallas en los sistemas de comunicación de voz y de datos, suspensión de servicios públicos, nuevos desarrollos tecnológicos o estándares que deben ser tenidos en cuenta para la ejecución del contrato, obsolescencia tecnológica.
B15: INSTRUCCIONES PARA LA IDENTIFICACIÓN, ANALISIS, EVALUACIÓN , ASIGNACIÓN Y TRATAMIENTO DE RIESGOS EN LA CONTRATACIÓN
B16: 1) Identifique los riesgos previsibles que le apliquen al objeto contractual que se adelante. Los relacionados a continuación se establecen de manera general y como proforma. No obstante, si del objeto contractual se identifican otros riesgos diferentes a los aquí determinados, por favor reemplace el texto de la casilla teniendo en cuenta la etapa del proceso. Así mismo, seleccione la clase, fuente y el tipo (Operacional, Económico, Sociales o Políticos, Regulatorios, Financieros, Tecnológicos, De la naturaleza, Ambientales) 2) Continúe en la hoja de "EVALUACIÓN" (SI EXISTEN DUDAS CONCEPTUALES PARA LA ELABORACIÓN DE LA MATRIZ DE RIESGO CONSULTE EL MANUAL PARA LA IDENTIFICACIÓN Y COBERTURA DEL RIESGO EN LOS PROCESOS DE CONTRATACIÓN EXPEDIDO POR COLOMBIA COMPRA EFICIENTE Y LA GUÍA DE RIESGOS PREVISIBLES CONTRACTUALES, EXPEDIDA POR LA VEEDURÍA DISTRITAL)
C17: ETAPAS | D17: CLASE | E17: FUENTE | F17: TIPO
C18: PLANEACIÓN
B19: Inadecuada escogencia de la modalidad de contratación | D19: General | E19: Interno | F19: Operacionales
B20: Requisitos habilitantes inapropiados para el proceso de selección | D20: General | E20: Interno | F20: Operacionales
B21: Inadecuado análisis económico estimativo del valor del contrato | D21: General | E21: Interno | F21: Economicos
B22: Inadecuada descripción del bien o servicio requerido | D22: General | E22: Interno | F22: Operacionales
B23: Inadecuada elaboración de estudios y diseños | D23: General | E23: Interno | F23: Operacionales
B24: Requisitos habilitantes que impidan la selección objetiva | D24: General | E24: Interno | F24: Operacionales
B25: Falta de profundidad en el estudio de sector no identificandose claramente aspectos de oferta y demanda | D25: General | E25: Interno | F25: Economicos
B26: Ausencia de fundamentación de la justificación y conveniencia de la contratación | D26: General | E26: Interno | F26: Operacionales
B27: Inadecuada identificación de las condiciones contractuales | D27: General | E27: Interno | F27: Operacionales
B28: No aprobación o demoras en la expedición vigencias futuras | D28: General | E28: Interno | F28: Operacionales
B29: Apertura de procesos sin disponibilidad presupuestal | D29: General | E29: Interno | F29: Operacionales
C30: SELECCIÓN
B31: Inadecuada evaluación de las ofertas y/o verificación de requisitos habilitantes | D31: Especifico | E31: Interno | F31: Operacionales
B32: Inadecuado manejo administrativo del proceso contractual | D32: Especifico | E32: Interno | F32: Operacionales
B33: Falta de claridad en la elaboración de los actos administrativos | D33: General | E33: Interno | F33: Operacionales
B34: Contestación inoportuna a todas las observaciones formuladas a los documentos de la contratación | D34: Estatal | E34: Interno | F34: Operacionales
B35: No publicación de la documentación del proceso de selección en el SECOP | D35: Estatal | E35: Interno | F35: Operacionales
B36: Confabulacion de los proponentes (Colusión) | D36: Especifico | E36: Externo | F36: Operacionales
B37: Selección de ofertas con precios artificialmente bajos. | D37: Especifico | E37: Externo | F37: Operacionales
C38: CONTRATACIÓN
B39: Riesgo de que no se firme el contrato. | D39: General | E39: Interno | F39: Operacionales
B40: Falta de constitución o constitución tardía de la garantía única. Aceptación de garantías que no se ajustan a lo contemplado en el contrato | D40: Especifico | E40: Interno | F40: Operacionales
B41: Falta de solicitud o solicitud tardía del registro presupuestal | D41: General | E41: Interno | F41: Operacionales
B42: No publicación de la documentación del proceso de selección en el SECOP | D42: General | E42: Interno | F42: Operacionales
B43: Presentación de reclamos de terceros sobre la selección del oferente que retrasen el perfeccionamiento del contrato. | D43: Especifico | E43: Externo | F43: Operacionales
C44: EJECUCIÓN
B45: Fluctuaciones del valor de la moneda | D45: General | E45: Externo | F45: Economicos
B46: Cambio de precios en factores de producción. | D46: General | E46: Externo | F46: Economicos
B47: Variación de los precios del mercado | D47: General | E47: Externo | F47: Economicos
B48: Factores políticos o macroeconómicos. | D48: General | E48: Externo | F48: Sociales o Políticos
B49: Cancelación de pedidos. | D49: General | E49: Externo | F49: Economicos
B50: Variación en la disponibilidad o en el costo de los insumos necesarios para prestar los servicios. | D50: General | E50: Externo | F50: Economicos
B51: Incumplimiento de compromisos adquiridos por el contratista seleccionado con sus subcontratistas, suministradores de bienes y servicios. | D51: Especifico | E51: Externo | F51: Economicos
...

Sheet EVALUACION
C2: MATRIZ DE RIESGOS DE CONTRATACIÓN | K2: Código: GCO-GCI-F164 Versión: 02 Vigencia: 01 de diciembre de 2022 Caso HOLA: 280117
B6: Objeto Contractual:CONTRATAR EL SUMINISTRO DE INSUMOS Y ELEMENTOS REQUERIDOS PARA EJECUTAR ESTRATEGIAS COMUNITARIAS QUE PROMUEVAN ACUERDOS CIUDADANOS ORIENTADOS AL CUIDADO, RECUPERACIÓN, EMBELLECIMIENTO Y APROVECHAMIENTO DEL ESPACIO PÚBLICO EN LA LOCALIDAD DE SAN CRISTÓBAL
B7: INSTRUCCIONES PARA LA IDENTIFICACIÓN, ANALISIS, EVALUACIÓN , ASIGNACIÓN Y TRATAMIENTO DE RIESGOS EN LA CONTRATACIÓN
B8: 1) Diligencie el objeto contractual y seleccione la(s) etapas y los riesgos que aplican al objeto contractual, de acuerdo a lo definido en la hoja de "IDENTIFICACIÓN Y ANÁLISIS"
B9: 2) Describa las consecuencias de la ocurrencia del Riesgo/evento.
B10: 3) Asigne la probabilidad de ocurrencia del riesgo, de conformidad con la tabla de probabilidad y la valoración del riesgo (Cualitativa o Monetaria)
B11: 4) Asigne el impacto que generaría la materialización del riesgo, de conformidad con la tabla de impacto y la valoración del riesgo (Cualitativa o Monetaria)
B12: 5) Al realizar las anteriores actividades se obtendrá la calificación total y la valoración del riesgo (prioridad).
B13: 6) Continúe en la hoja de "EVALUACIÓN DE CONTROLES"
B15: CALIFICACIÓN | H15: Cualitativa
B16: ETAPA | C16: Descripción (Que puede pasar y, cómo puede ocurrir) | H16: Consecuencias de la ocurrencia del evento | I16: Probabilidad de Ocurrencia | J16: Impacto | K16: Calificación Total | L16: Prioridad
B17: PLANEACIÓN | C17: Inadecuada escogencia de la modalidad de contratación | G17: El proceso de planeación de los documentos de estudios y diseños se ven afectados por el desconocimiento de la normatividad legal vigente. | I17: 1 | J17: 5 | K17: 3 | L17: =IF(K17<=4,"BAJO",IF(K17=5,"MEDIO",IF(K17=6,"ALTO",IF(K17=7,"ALTO","EXTREMO")))) -> BAJO
B18: PLANEACIÓN | C18: Inadecuada descripción del bien o servicio requerido | H18: Es muy probable que lo que se reciba no sea lo que realmente se necesitaba.Se pierde tiempo en modificaciones o repeticiones de trabajo. | I18: 1 | J18: 1 | K18: =+I18+J18 -> 2 | L18: =IF(K18<=4,"BAJO",IF(K18=5,"MEDIO",IF(K18=6,"ALTO",IF(K18=7,"ALTO","EXTREMO")))) -> BAJO
B19: PLANEACIÓN | C19: Cambios normativos o administrativos durante la etapa de planeación | H19: Pueden retrasar el proceso de contratación o exigir ajustes en el diseño del proyecto, afectando el calendario inicial. | I19: 1 | J19: 3 | K19: =+I19+J19 -> 4 | L19: =IF(K19<=4,"BAJO",IF(K19=5,"MEDIO",IF(K19=6,"ALTO",IF(K19=7,"ALTO","EXTREMO")))) -> BAJO
B20: CONTRATACIÓN | C20: No publicación de la documentación del proceso de selección en el SECOP | G20: Que se declare desierto el proceso de selección | I20: 1 | J20: 2 | K20: =+I20+J20 -> 3 | L20: =IF(K20<=4,"BAJO",IF(K20=5,"MEDIO",IF(K20=6,"ALTO",IF(K20=7,"ALTO","EXTREMO")))) -> BAJO
B21: CONTRATACIÓN | C21: No publicación de la documentación del proceso de selección en el SECOP | H21: Al no estar disponible la información, se impide que los posibles oferentes conozcan las reglas del juego, los requisitos y los términos de referencia, lo que afecta la libre concurrencia y la igualdad de oportunidades. | I21: 1 | J21: 3 | K21: =+I21+J21 -> 4 | L21: =IF(K21<=4,"BAJO",IF(K21=5,"MEDIO",IF(K21=6,"ALTO",IF(K21=7,"ALTO","EXTREMO")))) -> BAJO
B22: SELECCIÓN | C22: Inadecuado manejo administrativo del proceso contractual | G22: Afecta la calidad, pertinencia cultural y efectividad de las acciones de fortalecimiento, generando bajo impacto o rechazo comunitario. | I22: 1 | J22: 3 | K22: =+I22+J22 -> 4 | L22: =IF(K22<=4,"BAJO",IF(K22=5,"MEDIO",IF(K22=6,"ALTO",IF(K22=7,"ALTO","EXTREMO")))) -> BAJO
B23: SELECCIÓN | C23: Falta de claridad en la elaboración de los actos administrativos | H23: La falta de claridad en la elaboración de los actos administrativos puede generar confusiones en la interpretación del objeto, alcance o requisitos del proceso. | I23: 1 | J23: 4 | K23: =+I23+J23 -> 5 | L23: =IF(K23<=4,"BAJO",IF(K23=5,"MEDIO",IF(K23=6,"ALTO",IF(K23=7,"ALTO","EXTREMO")))) -> MEDIO
B24: EJECUCIÓN | C24: Incumplimiento del cronograma por parte del contratista | G24: Afecta la planificación institucional, el logro de metas y la disponibilidad de los participantes. | I24: 2 | J24: 3 | K24: =+I24+J24 -> 5 | L24: =IF(K24<=4,"BAJO",IF(K24=5,"MEDIO",IF(K24=6,"ALTO",IF(K24=7,"ALTO","EXTREMO")))) -> MEDIO
B25: EJECUCIÓN | C25: Entrega de insumos o elementos que no cumplen con las especificaciones técnicas | G25: Puede generar reprocesos, insatisfacción comunitaria y posibles sanciones contractuales. | I25: 2 | J25: 3 | K25: =+I25+J25 -> 5 | L25: =IF(K25<=4,"BAJO",IF(K25=5,"MEDIO",IF(K25=6,"ALTO",IF(K25=7,"ALTO","EXTREMO")))) -> MEDIO
B26: EJECUCIÓN | C26: Variación de los precios del mercado | G26: Desequilibrio económico del contrato | I26: 1 | J26: 3 | K26: =+I26+J26 -> 4 | L26: =IF(K26<=4,"BAJO",IF(K26=5,"MEDIO",IF(K26=6,"ALTO",IF(K26=7,"ALTO","EXTREMO")))) -> BAJO
B29: Probabilidad | C29: Catagoria | E29: Valoración | G29: Impacto | H29: Categoria | I29: Valoración
C30: Raro (puede ocurrir excepcionalmente) | E30: 1 | H30: Insignificante | I30: 1
C31: Improbable (puede ocurrir ocasionalmente) | E31: 2 | H31: Menor | I31: 2
C32: Posible (puede ocurrir en cualquier momento futuro) | E32: 3 | H32: Moderado | I32: 3
C33: Probable (probablemente va a ocurrir) | E33: 4 | H33: Mayor | I33: 4
C34: Casi cierto (ocurre en la mayoria de circunstancias) | E34: 5 | H34: Catastrófico | I34: 5
C36: Valoración del Riesgo
C37: Calificación Cualitativa | F37: Obstruye la ejecución del contrato de manera intrascendente. | G37: Dificulta la ejecución del contrato de manera baja, aplicando medidas mínimas se pueden lograr el objeto contractual | H37: Afecta la ejecución del contrato sin alterar el beneficio para las partes | I37: Obstruye la ejecución del contrato sustancialmente pero aun así permite la consecución del objeto contractual | K37: Perturba la ejecución del contrato de manera grave imposibilitando la consecución del objeto contractual.
C38: Calificación Monetaria | F38: Los sobrecostos no representan más del uno por ciento (1%) del valor del contrato. | G38: Los sobrecostos no representan más del cinco por ciento (5%) del valor del contrato. | H38: Genera un impacto sobre el valor del contrato entre el cinco (5%) y el quince por ciento (15%). | I38: Incrementa el valor del contrato entre el quince (15%) y el treinta por ciento (30%). | K38: Impacto sobre el valor del contrato en más del treinta por ciento (30%).
C39: Categoría | E39: Valoración | F39: Insignificante | G39: Menor | H39: Moderado | I39: Mayor | K39: Catastrófico
F40: 1 | G40: 2 | H40: 3 | I40: 4 | K40: 5
C41: Raro (puede ocurrir excepcionalmente) | E41: 1 | F41: 2 | G41: 3 | H41: 4 | I41: 5 | K41: 6
C42: Improbable (puede ocurrir ocasionalmente) | E42: 2 | F42: 3 | G42: 4 | H42: 5 | I42: 6 | K42: 7
C43: Posible (puede ocurrir en cualquier momento futuro) | E43: 3 | F43: 4 | G43: 5 | H43: 6 | I43: 7 | K43: 8
C44: Probable (probablemente va a ocurrir) | E44: 4 | F44: 5 | G44: 6 | H44: 7 | I44: 8 | K44: 9
C45: Casi cierto (ocurre en la mayoria de circunstancias) | E45: 5 | F45: 6 | G45: 7 | H45: 8 | I45: 9 | K45: 10
G47: Categoria del Riesgo
G48: Valoración del Riesgo | H48: Categoría
G49: 8, 9 y 10 | H49: Riesgo extremo
...

Sheet EVALUACION CON CONTROLES
C2: MATRIZ DE RIESGOS DE CONTRATACIÓN | Q2: Código: GCO-GCI-F164 Versión: 02 Vigencia: 01 de diciembre de 2022 Caso HOLA: 280117
B6: =+EVALUACION!B6 -> Objeto Contractual:CONTRATAR EL SUMINISTRO DE INSUMOS Y ELEMENTOS REQUERIDOS PARA EJECUTAR ESTRATEGIAS COMUNITARIAS QUE PROMUEVAN ACUERDOS CIUDADANOS ORIENTADOS AL CUIDADO, RECUPERACIÓN, EMBELLECIMIENTO Y APROVECHAMIENTO DEL ESPACIO PÚBLICO EN LA LOCALIDAD DE SAN CRISTÓBAL
B7: INSTRUCCIONES PARA LA IDENTIFICACIÓN, ANALISIS, EVALUACIÓN , ASIGNACIÓN Y TRATAMIENTO DE RIESGOS EN LA CONTRATACIÓN
B8: 1) Describa el tratamiento/controles a ser implementados
B9: 2) Diligencie la información de las siguientes columnas, de acuerdo con el análisis realizado a cada riesgo: Afecta el equilibrio económico, persona responsable de implementar el tratamiento, fecha estimada de inicio del tratamiento, fecha estimada en la que se completa el tratamiento, cómo se realiza el monitoreo y la periodicidad.
B10: 3) Continúe en la hoja de "ASIGNACIÓN Y TRATAMIENTO" y diligencie las siguientes casillas: A quien se le asigna y el porcentaje que asume cada una de las partes en caso de que sea compartido.
B15: ETAPA | C15: Descripción (Que puede pasar y, cómo puede ocurrir) | G15: Tratamiento/Controles a ser implementados | I15: Probabilidad de Ocurrencia | J15: Impacto | K15: Calificación Total | L15: Prioridad | M15: ¿Afecta el equilibrio económico del contrato? | N15: Persona responsable por implementar el tratamiento | O15: Fecha estimada en que se inicia el tratamiento | P15: Fecha estimada en que se completa el tratamiento | Q15: ¿Cómo se realiza el monitoreo? | R15: Periodicidad ¿Cuándo?
B16: =+EVALUACION!B17 -> PLANEACIÓN | C16: =+EVALUACION!C17 -> Inadecuada escogencia de la modalidad de contratación | G16: Para mitigar su ocurrencia se debe hacer un estudio en contexto del objeto a contratar, las obligaciones y las entregas del contratista, entre la dependencia solicitante y la oficina asesora jurídica. | I16: =+EVALUACION!I17 -> 1 | J16: =+EVALUACION!J17 -> 5 | K16: =EVALUACION!K17 -> 3 | L16: =IF(K16<=4,"BAJO",IF(K16=5,"MEDIO",IF(K16=6,"ALTO",IF(K16=7,"ALTO","EXTREMO")))) -> BAJO | M16: NO | N16: Área tecnica, financiera y juridica a cargo del proceso | O16: Desde la estructuración del proceso | P16: Hasta la ejecución del contrato | Q16: Al momento de la evaluación del proceso | R16: Durante la planeación y evaluación
B17: =EVALUACION!B18 -> PLANEACIÓN | C17: =EVALUACION!C18 -> Inadecuada descripción del bien o servicio requerido | G17: Incluir cláusulas específicas en el contrato que exijan la incorporación del enfoque diferencial (étnico, territorial, etario, de género). Verificar que los productos del contrato (talleres, feria, actividades) estén diseñados con pertinencia cultural. | I17: =EVALUACION!I18 -> 1 | J17: =EVALUACION!J18 -> 1 | K17: =EVALUACION!K18 -> 2 | L17: =IF(K17<=4,"BAJO",IF(K17=5,"MEDIO",IF(K17=6,"ALTO",IF(K17=7,"ALTO","EXTREMO")))) -> BAJO | M17: NO | N17: Área tecnica, financiera y juridica a cargo del proceso | O17: Desde la estructuración del proceso | P17: Hasta la ejecución del contrato | Q17: Al momento de la evaluación del proceso | R17: Durante la planeación y evaluación
B18: =EVALUACION!B19 -> PLANEACIÓN | C18: =EVALUACION!C19 -> Cambios normativos o administrativos durante la etapa de planeación | G18: Realizar seguimiento permanente a los cambios normativos y directrices administrativas aplicables al proceso. | I18: =EVALUACION!I19 -> 1 | J18: =EVALUACION!J19 -> 3 | K18: =EVALUACION!K19 -> 4 | L18: =IF(K18<=4,"BAJO",IF(K18=5,"MEDIO",IF(K18=6,"ALTO",IF(K18=7,"ALTO","EXTREMO")))) -> BAJO | M18: NO | N18: Área tecnica, financiera y juridica a cargo del proceso | O18: Desde la estructuración del proceso | P18: Hasta la ejecución del contrato | Q18: Al momento de la evaluación del proceso | R18: Durante la planeación y evaluación
B19: =+EVALUACION!B20 -> CONTRATACIÓN | C19: =+EVALUACION!C20 -> No publicación de la documentación del proceso de selección en el SECOP | G19: Establecer un procedimiento interno de verificación y carga de documentos al SECOP. Asignar responsable institucional para la publicación con fechas límite. Incluir lista de chequeo en cada fase del proceso que asegure la trazabilidad documental. | I19: =+EVALUACION!I20 -> 1 | J19: =+EVALUACION!J20 -> 2 | K19: =+I19+J19 -> 3 | L19: =IF(K19<=4,"BAJO",IF(K19=5,"MEDIO",IF(K19=6,"ALTO",IF(K19=7,"ALTO","EXTREMO")))) -> BAJO | M19: NO | N19: Área tecnica, financiera y juridica a cargo del proceso | O19: Desde la estructuración del proceso | P19: Hasta la ejecución del contrato | Q19: Al momento de la evaluación del proceso | R19: Cuando ocurra, y se aplicara de manera inmediata
B20: =+EVALUACION!B21 -> CONTRATACIÓN | C20: =EVALUACION!C21 -> No publicación de la documentación del proceso de selección en el SECOP | G20: Verificar anticipadamente requisitos del contratista. Asignar un responsable del seguimiento al proceso de legalización. | I20: =EVALUACION!I21 -> 1 | J20: =EVALUACION!J21 -> 3 | K20: =EVALUACION!K21 -> 4 | L20: =IF(K20<=4,"BAJO",IF(K20=5,"MEDIO",IF(K20=6,"ALTO",IF(K20=7,"ALTO","EXTREMO")))) -> BAJO | M20: NO | N20: Contratista y FDLSC | O20: Desde la estructuración del proceso | P20: Hasta la ejecución del contrato | Q20: Al momento de la ejecución del contrato | R20: Cuando ocurra, y se aplicara de manera inmediata
B21: =+EVALUACION!B22 -> SELECCIÓN | C21: =+EVALUACION!C22 -> Inadecuado manejo administrativo del proceso contractual | G21: Incluir requisitos mínimos obligatorios de experiencia específica en el estudio previo. Evaluar detalladamente la experiencia del contratista en procesos similares, especialmente en contextos indígenas y comunitarios. | I21: =+EVALUACION!I22 -> 1 | J21: =+EVALUACION!J22 -> 3 | K21: =EVALUACION!K22 -> 4 | L21: =IF(K21<=4,"BAJO",IF(K21=5,"MEDIO",IF(K21=6,"ALTO",IF(K21=7,"ALTO","EXTREMO")))) -> BAJO | M21: SI | N21: Área tecnica, financiera y juridica a cargo del proceso | O21: Desde la estructuración del proceso | P21: Hasta la ejecución del contrato | Q21: Con la revisión previa a adjudicar el contrato | R21: Cuando ocurra, y se aplicara de manera inmediata
B22: =+EVALUACION!B23 -> SELECCIÓN | C22: Falencias en la presentacion del plan de trabajo y cronograma y distribucion de recursos. | G22: Solicitar plan de trabajo preliminar detallado con cronograma, logística y distribución de recursos. | I22: =+EVALUACION!I23 -> 1 | J22: 2 | K22: 3 | L22: =IF(K22<=4,"BAJO",IF(K22=5,"MEDIO",IF(K22=6,"ALTO",IF(K22=7,"ALTO","EXTREMO")))) -> BAJO | M22: SI | N22: Área tecnica, financiera y juridica a cargo del proceso | O22: Desde la estructuración del proceso | P22: Hasta la ejecución del contrato | Q22: Con la revisión previa a adjudicar el contrato | R22: Cuando ocurra, y se aplicara de manera inmediata
B23: =+EVALUACION!B23 -> SELECCIÓN | C23: =EVALUACION!C23 -> Falta de claridad en la elaboración de los actos administrativos | G23: Priorizar en el proceso de análisis la experiencia territorial del contratista (ejecuciones anteriores en la localidad o con los pueblos indígenas de San Cristóbal). | I23: =EVALUACION!I23 -> 1 | J23: =EVALUACION!J23 -> 4 | K23: =EVALUACION!K23 -> 5 | L23: =IF(K23<=4,"BAJO",IF(K23=5,"MEDIO",IF(K23=6,"ALTO",IF(K23=7,"ALTO","EXTREMO")))) -> MEDIO | M23: NO | N23: Área tecnica, financiera y juridica a cargo del proceso | O23: Desde la estructuración del proceso | P23: Hasta la ejecución del contrato | Q23: Con la revisión previa a adjudicar el contrato | R23: Cuando ocurra, y se aplicara de manera inmediata
B24: =+EVALUACION!B24 -> EJECUCIÓN | C24: =+EVALUACION!C24 -> Incumplimiento del cronograma por parte del contratista | G24: El participante en el proceso de selección debe considerar en su oferta factores climáticos conocidos (como fenómenos del niño), geotécnicos, ambientales y demás que puedan afectar negativamente la ejecución de los estudios. Realizar planes de acción orientados a reducir el impacto de los fenómenos de la naturaleza en la ejecución de las obras | I24: =+EVALUACION!I24 -> 2 | J24: =+EVALUACION!J24 -> 3 | K24: =+I24+J24 -> 5 | L24: =IF(K24<=4,"BAJO",IF(K24=5,"MEDIO",IF(K24=6,"ALTO",IF(K24=7,"ALTO","EXTREMO")))) -> MEDIO | M24: SI | N24: Contratista y FDLSC | O24: Desde la estructuración del proceso | P24: Hasta la ejecución del contrato | Q24: Al momento de la ejecución del contrato | R24: Cuando ocurra, y se aplicara de manera inmediata
B25: =+EVALUACION!B25 -> EJECUCIÓN | C25: =+EVALUACION!C25 -> Entrega de insumos o elementos que no cumplen con las especificaciones técnicas | G25: Realizar muestras o fichas técnicas antes de la entrega; realizar inspección y verificación técnica con supervisión. | I25: =+EVALUACION!I25 -> 2 | J25: =+EVALUACION!J25 -> 3 | K25: =+I25+J25 -> 5 | L25: =IF(K25<=4,"BAJO",IF(K25=5,"MEDIO",IF(K25=6,"ALTO",IF(K25=7,"ALTO","EXTREMO")))) -> MEDIO | M25: SI | N25: Contratista | O25: Desde la estructuración del proceso | P25: Hasta la ejecución del contrato | Q25: Al momento de la ejecución del contrato | R25: Cuando ocurra, y se aplicara de manera inmediata
B26: =+EVALUACION!B26 -> EJECUCIÓN | C26: =+EVALUACION!C26 -> Variación de los precios del mercado | G26: Realizar seguimiento quincenal con actas y alertas tempranas, aplicar cláusulas de cumplimiento. | I26: =+EVALUACION!I26 -> 1 | J26: =+EVALUACION!J26 -> 3 | K26: =+I26+J26 -> 4 | L26: =IF(K26<=4,"BAJO",IF(K26=5,"MEDIO",IF(K26=6,"ALTO",IF(K26=7,"ALTO","EXTREMO")))) -> BAJO | M26: SI | N26: Contratista y FDLSC | O26: Desde la estructuración del proceso | P26: Hasta la ejecución del contrato | Q26: Al momento de la ejecución del contrato | R26: Cuando ocurra, y se aplicara de manera inmediata
C28: Categoria del Riesgo | H28: Impacto del Riesgo
B29: Probabilidad | C29: Catagoria | F29: Valoración | H29: Categoria | J29: Valoración | N29: Categoria del Riesgo
C30: Raro (puede ocurrir excepcionalmente) | F30: 1 | H30: Insignificante | J30: 1 | N30: Valoración del Riesgo | P30: Categoría
C31: Improbable (puede ocurrir ocasionalmente) | F31: 2 | H31: Menor | J31: 2 | N31: 8, 9 y 10 | P31: Riesgo extremo
C32: Posible (puede ocurrir en cualquier momento futuro) | F32: 3 | H32: Moderado | J32: 3 | N32: 6 y 7 | P32: Riesgo alto
C33: Probable (probablemente va a ocurrir) | F33: 4 | H33: Mayor | J33: 4 | N33: 5 | P33: Riesgo medio
C34: Casi cierto (ocurre en la mayoria de circunstancias) | F34: 5 | H34: Catastrófico | J34: 5 | N34: 2, 3 y 4 | P34: Riesgo bajo
C36: Valoración del Riesgo
C37: Calificación Cualitativa | G37: Obstruye la ejecución del contrato de manera intrascendente. | I37: Dificulta la ejecución del contrato de manera baja, aplicando medidas mínimas se pueden lograr el objeto contractual | L37: Afecta la ejecución del contrato sin alterar el beneficio para las partes | N37: Obstruye la ejecución del contrato sustancialmente pero aun así permite la consecución del objeto contractual | P37: Perturba la ejecución del contrato de manera grave imposibilitando la consecución del objeto contractual.
C38: Calificación Monetaria | G38: Los sobrecostos no representan más del uno por ciento (1%) del valor del contrato. | I38: Los sobrecostos no representan más del cinco por ciento (5%) del valor del contrato. | L38: Genera un impacto sobre el valor del contrato entre el cinco (5%) y el quince por ciento (15%). | N38: Incrementa el valor del contrato entre el quince (15%) y el treinta por ciento (30%). | P38: Impacto sobre el valor del contrato en más del treinta por ciento (30%).
C39: Catagoria | F39: Valoración | G39: Insignificante | I39: Menor | L39: Moderado | N39: Mayor | P39: Catastrófico
G40: 1 | I40: 2 | L40: 3 | N40: 4 | P40: 5
C41: Raro (puede ocurrir excepcionalmente) | F41: 1 | G41: 2 | I41: 3 | L41: 4 | N41: 5 | P41: 6
C42: Improbable (puede ocurrir ocasionalmente) | F42: 2 | G42: 3 | I42: 4 | L42: 5 | N42: 6 | P42: 7
C43: Posible (puede ocurrir en cualquier momento futuro) | F43: 3 | G43: 4 | I43: 5 | L43: 6 | N43: 7 | P43: 8
C44: Probable (probablemente va a ocurrir) | F44: 4 | G44: 5 | I44: 6 | L44: 7 | N44: 8 | P44: 9
C45: Casi cierto (ocurre en la mayoria de circunstancias) | F45: 5 | G45: 6 | I45: 7 | L45: 8 | N45: 9 | P45: 10

Sheet ASIGNACION Y TRATAMIENTO
C2: MATRIZ DE RIESGOS DE CONTRATACIÓN | W2: Código: GCO-GCI-F164 Versión: 02 Vigencia: 01 de diciembre de 2022 Caso HOLA: 280117
B6: =+EVALUACION!B6 -> Objeto Contractual:CONTRATAR EL SUMINISTRO DE INSUMOS Y ELEMENTOS REQUERIDOS PARA EJECUTAR ESTRATEGIAS COMUNITARIAS QUE PROMUEVAN ACUERDOS CIUDADANOS ORIENTADOS AL CUIDADO, RECUPERACIÓN, EMBELLECIMIENTO Y APROVECHAMIENTO DEL ESPACIO PÚBLICO EN LA LOCALIDAD DE SAN CRISTÓBAL
B7: Esta matriz es un documento anexo del Estudio Previo
B10: No | C10: Descripción (Que puede pasar y, cómo puede ocurrir) | D10: Etapa | E10: Clase | F10: Fuente | G10: Consecuencias de la ocurrencia del evento | H10: Probabilidad | I10: Impacto | J10: Calificación total | K10: Prioridad | L10: ¿A quien se le asigna? | M10: % | N10: Tratamiento/Controles a ser implementados | O10: Probabilidad | P10: Impacto | Q10: Calificación total | R10: Prioridad | S10: ¿Afecta el equilibrio económico del contrato? | T10: Persona responsable por implementar el tratamiento | U10: Fecha estimada en que se inicia el tratamiento | V10: Fecha estimada en que se completa el tratamiento | W10: ¿Cómo se realiza el monitoreo | X10: Periodicidad ¿Cuándo?
B11: 1 | C11: =+'EVALUACION CON CONTROLES'!C16:F16 -> Inadecuada escogencia de la modalidad de contratación | D11: =+'EVALUACION CON CONTROLES'!B16 -> PLANEACIÓN | E11: =VLOOKUP($C$11,'IDENTIFICACION Y ANALISIS'!$B$19:$F$68,3,FALSE) -> General | F11: =VLOOKUP($C$11,'IDENTIFICACION Y ANALISIS'!$B$19:$F$68,4,FALSE) -> Interno | G11: =EVALUACION!G17 -> El proceso de planeación de los documentos de estudios y diseños se ven afectados por el desconocimiento de la normatividad legal vigente. | H11: =+EVALUACION!I17 -> 1 | I11: =+EVALUACION!J17 -> 5 | J11: =+EVALUACION!K17 -> 3 | K11: =+EVALUACION!L17 -> BAJO | L11: SDG | M11: 100 | N11: =+'EVALUACION CON CONTROLES'!G16 -> Para mitigar su ocurrencia se debe hacer un estudio en contexto del objeto a contratar, las obligaciones y las entregas del contratista, entre la dependencia solicitante y la oficina asesora jurídica. | O11: =+'EVALUACION CON CONTROLES'!I16 -> 1 | P11: =+'EVALUACION CON CONTROLES'!J16 -> 5 | Q11: =+'EVALUACION CON CONTROLES'!K16 -> 3 | R11: =+'EVALUACION CON CONTROLES'!L16 -> BAJO | S11: ='EVALUACION CON CONTROLES'!M16 -> NO | T11: ='EVALUACION CON CONTROLES'!N16 -> Área tecnica, financiera y juridica a cargo del proceso | U11: ='EVALUACION CON CONTROLES'!O16 -> Desde la estructuración del proceso | V11: ='EVALUACION CON CONTROLES'!P16 -> Hasta la ejecución del contrato | W11: ='EVALUACION CON CONTROLES'!Q16 -> Al momento de la evaluación del proceso | X11: ='EVALUACION CON CONTROLES'!R16 -> Durante la planeación y evaluación
B12: 2 | C12: =+'EVALUACION CON CONTROLES'!C17:F17 -> Inadecuada descripción del bien o servicio requerido | D12: =+'EVALUACION CON CONTROLES'!B17 -> PLANEACIÓN | E12: Específico | F12: =VLOOKUP($C$11,'IDENTIFICACION Y ANALISIS'!$B$19:$F$68,4,FALSE) -> Interno | G12: =EVALUACION!H18 -> Es muy probable que lo que se reciba no sea lo que realmente se necesitaba.Se pierde tiempo en modificaciones o repeticiones de trabajo. | H12: =+EVALUACION!I18 -> 1 | I12: =+EVALUACION!J18 -> 1 | J12: =+EVALUACION!K18 -> 2 | K12: =+EVALUACION!L18 -> BAJO | L12: SDG | M12: 100 | N12: =+'EVALUACION CON CONTROLES'!G17 -> Incluir cláusulas específicas en el contrato que exijan la incorporación del enfoque diferencial (étnico, territorial, etario, de género). Verificar que los productos del contrato (talleres, feria, actividades) estén diseñados con pertinencia cultural. | O12: =+'EVALUACION CON CONTROLES'!I17 -> 1 | P12: =+'EVALUACION CON CONTROLES'!J17 -> 1 | Q12: =+'EVALUACION CON CONTROLES'!K17 -> 2 | R12: =+'EVALUACION CON CONTROLES'!L17 -> BAJO | S12: ='EVALUACION CON CONTROLES'!M17 -> NO | T12: ='EVALUACION CON CONTROLES'!N17 -> Área tecnica, financiera y juridica a cargo del proceso | U12: ='EVALUACION CON CONTROLES'!O17 -> Desde la estructuración del proceso | V12: ='EVALUACION CON CONTROLES'!P17 -> Hasta la ejecución del contrato | W12: ='EVALUACION CON CONTROLES'!Q17 -> Al momento de la evaluación del proceso | X12: ='EVALUACION CON CONTROLES'!R17 -> Durante la planeación y evaluación
B13: 3 | C13: =+'EVALUACION CON CONTROLES'!C18:F18 -> Cambios normativos o administrativos durante la etapa de planeación | D13: =+'EVALUACION CON CONTROLES'!B18 -> PLANEACIÓN | E13: =VLOOKUP($C$11,'IDENTIFICACION Y ANALISIS'!$B$19:$F$68,3,FALSE) -> General | F13: Externo | G13: =EVALUACION!H19 -> Pueden retrasar el proceso de contratación o exigir ajustes en el diseño del proyecto, afectando el calendario inicial. | H13: =+EVALUACION!I19 -> 1 | I13: =+EVALUACION!J19 -> 3 | J13: =+EVALUACION!K19 -> 4 | K13: =+EVALUACION!L19 -> BAJO | L13: SDG | M13: 100 | N13: =+'EVALUACION CON CONTROLES'!G18 -> Realizar seguimiento permanente a los cambios normativos y directrices administrativas aplicables al proceso. | O13: =+'EVALUACION CON CONTROLES'!I18 -> 1 | P13: =+'EVALUACION CON CONTROLES'!J18 -> 3 | Q13: =+'EVALUACION CON CONTROLES'!K18 -> 4 | R13: =+'EVALUACION CON CONTROLES'!L18 -> BAJO | S13: ='EVALUACION CON CONTROLES'!M18 -> NO | T13: ='EVALUACION CON CONTROLES'!N18 -> Área tecnica, financiera y juridica a cargo del proceso | U13: ='EVALUACION CON CONTROLES'!O18 -> Desde la estructuración del proceso | V13: ='EVALUACION CON CONTROLES'!P18 -> Hasta la ejecución del contrato | W13: ='EVALUACION CON CONTROLES'!Q18 -> Al momento de la evaluación del proceso | X13: ='EVALUACION CON CONTROLES'!R18 -> Durante la planeación y evaluación
B14: 4 | C14: =+'EVALUACION CON CONTROLES'!C19:F19 -> No publicación de la documentación del proceso de selección en el SECOP | D14: =+'EVALUACION CON CONTROLES'!B19 -> CONTRATACIÓN | E14: Estatal | F14: =VLOOKUP($C$14,'IDENTIFICACION Y ANALISIS'!$B$19:$F$68,4,FALSE) -> Interno | G14: Que se declare desierto el proceso de selección | H14: =+EVALUACION!I20 -> 1 | I14: =+EVALUACION!J20 -> 2 | J14: =+EVALUACION!K20 -> 3 | K14: =+EVALUACION!L20 -> BAJO | L14: SDG | M14: 100 | N14: =+'EVALUACION CON CONTROLES'!G19 -> Establecer un procedimiento interno de verificación y carga de documentos al SECOP. Asignar responsable institucional para la publicación con fechas límite. Incluir lista de chequeo en cada fase del proceso que asegure la trazabilidad documental. | O14: =+'EVALUACION CON CONTROLES'!I19 -> 1 | P14: =+'EVALUACION CON CONTROLES'!J19 -> 2 | Q14: =+'EVALUACION CON CONTROLES'!K19 -> 3 | R14: =+'EVALUACION CON CONTROLES'!L19 -> BAJO | S14: ='EVALUACION CON CONTROLES'!M19 -> NO | T14: ='EVALUACION CON CONTROLES'!N19 -> Área tecnica, financiera y juridica a cargo del proceso | U14: ='EVALUACION CON CONTROLES'!O19 -> Desde la estructuración del proceso | V14: ='EVALUACION CON CONTROLES'!P19 -> Hasta la ejecución del contrato | W14: ='EVALUACION CON CONTROLES'!Q19 -> Al momento de la evaluación del proceso | X14: ='EVALUACION CON CONTROLES'!R19 -> Cuando ocurra, y se aplicara de manera inmediata
B15: 5 | C15: =+'EVALUACION CON CONTROLES'!C20:F20 -> No publicación de la documentación del proceso de selección en el SECOP | D15: =+'EVALUACION CON CONTROLES'!B20 -> CONTRATACIÓN | E15: =VLOOKUP($C$14,'IDENTIFICACION Y ANALISIS'!$B$19:$F$68,3,FALSE) -> Estatal | F15: =VLOOKUP($C$14,'IDENTIFICACION Y ANALISIS'!$B$19:$F$68,4,FALSE) -> Interno | G15: =EVALUACION!H21 -> Al no estar disponible la información, se impide que los posibles oferentes conozcan las reglas del juego, los requisitos y los términos de referencia, lo que afecta la libre concurrencia y la igualdad de oportunidades. | H15: =+EVALUACION!I21 -> 1 | I15: =+EVALUACION!J21 -> 3 | J15: =+EVALUACION!K21 -> 4 | K15: =+EVALUACION!L21 -> BAJO | L15: CONTRATISTA Y SDG | M15: 50-50 | N15: =+'EVALUACION CON CONTROLES'!G20 -> Verificar anticipadamente requisitos del contratista. Asignar un responsable del seguimiento al proceso de legalización. | O15: =+'EVALUACION CON CONTROLES'!I20 -> 1 | P15: =+'EVALUACION CON CONTROLES'!J20 -> 3 | Q15: =+'EVALUACION CON CONTROLES'!K20 -> 4 | R15: =+'EVALUACION CON CONTROLES'!L20 -> BAJO | S15: ='EVALUACION CON CONTROLES'!M20 -> NO | T15: ='EVALUACION CON CONTROLES'!N20 -> Contratista y FDLSC | U15: ='EVALUACION CON CONTROLES'!O20 -> Desde la estructuración del proceso | V15: ='EVALUACION CON CONTROLES'!P20 -> Hasta la ejecución del contrato | W15: ='EVALUACION CON CONTROLES'!Q20 -> Al momento de la ejecución del contrato | X15: ='EVALUACION CON CONTROLES'!R20 -> Cuando ocurra, y se aplicara de manera inmediata
B16: 6 | C16: =+'EVALUACION CON CONTROLES'!C21:F21 -> Inadecuado manejo administrativo del proceso contractual | D16: =+'EVALUACION CON CONTROLES'!B21 -> SELECCIÓN | E16: =VLOOKUP($C$14,'IDENTIFICACION Y ANALISIS'!$B$19:$F$68,3,FALSE) -> Estatal | F16: =VLOOKUP($C$14,'IDENTIFICACION Y ANALISIS'!$B$19:$F$68,4,FALSE) -> Interno | G16: =EVALUACION!G22 -> Afecta la calidad, pertinencia cultural y efectividad de las acciones de fortalecimiento, generando bajo impacto o rechazo comunitario. | H16: =+EVALUACION!I22 -> 1 | I16: =+EVALUACION!J22 -> 3 | J16: =+EVALUACION!K22 -> 4 | K16: =+EVALUACION!L22 -> BAJO | L16: SDG | M16: 100 | N16: =+'EVALUACION CON CONTROLES'!G21 -> Incluir requisitos mínimos obligatorios de experiencia específica en el estudio previo. Evaluar detalladamente la experiencia del contratista en procesos similares, especialmente en contextos indígenas y comunitarios. | O16: =+'EVALUACION CON CONTROLES'!I21 -> 1 | P16: =+'EVALUACION CON CONTROLES'!J21 -> 3 | Q16: =+'EVALUACION CON CONTROLES'!K21 -> 4 | R16: =+'EVALUACION CON CONTROLES'!L21 -> BAJO | S16: ='EVALUACION CON CONTROLES'!M21 -> SI | T16: ='EVALUACION CON CONTROLES'!N21 -> Área tecnica, financiera y juridica a cargo del proceso | U16: ='EVALUACION CON CONTROLES'!O21 -> Desde la estructuración del proceso | V16: ='EVALUACION CON CONTROLES'!P21 -> Hasta la ejecución del contrato | W16: ='EVALUACION CON CONTROLES'!Q21 -> Con la revisión previa a adjudicar el contrato | X16: ='EVALUACION CON CONTROLES'!R21 -> Cuando ocurra, y se aplicara de manera inmediata
B17: 7 | C17: =+'EVALUACION CON CONTROLES'!C22:F22 -> Falencias en la presentacion del plan de trabajo y cronograma y distribucion de recursos. | D17: =+'EVALUACION CON CONTROLES'!B22 -> SELECCIÓN | E17: Específico | F17: =VLOOKUP($C$14,'IDENTIFICACION Y ANALISIS'!$B$19:$F$68,4,FALSE) -> Interno | G17: Genera confuciones y conflictos en la ejecución del proceso contractual | H17: =+EVALUACION!I23 -> 1 | I17: =+EVALUACION!J23 -> 4 | J17: 4 | K17: =+EVALUACION!L23 -> MEDIO | L17: SDG | M17: 100 | N17: =+'EVALUACION CON CONTROLES'!G22 -> Solicitar plan de trabajo preliminar detallado con cronograma, logística y distribución de recursos. | O17: =+'EVALUACION CON CONTROLES'!I22 -> 1 | P17: =+'EVALUACION CON CONTROLES'!J22 -> 2 | Q17: =+'EVALUACION CON CONTROLES'!K22 -> 3 | R17: =+'EVALUACION CON CONTROLES'!L22 -> BAJO | S17: ='EVALUACION CON CONTROLES'!M22 -> SI | T17: ='EVALUACION CON CONTROLES'!N22 -> Área tecnica, financiera y juridica a cargo del proceso | U17: ='EVALUACION CON CONTROLES'!O22 -> Desde la estructuración del proceso | V17: ='EVALUACION CON CONTROLES'!P22 -> Hasta la ejecución del contrato | W17: ='EVALUACION CON CONTROLES'!Q22 -> Con la revisión previa a adjudicar el contrato | X17: ='EVALUACION CON CONTROLES'!R22 -> Cuando ocurra, y se aplicara de manera inmediata
B18: 8 | C18: =+'EVALUACION CON CONTROLES'!C23:F23 -> Falta de claridad en la elaboración de los actos administrativos | D18: =+'EVALUACION CON CONTROLES'!B23 -> SELECCIÓN | E18: Específico | F18: =VLOOKUP($C$14,'IDENTIFICACION Y ANALISIS'!$B$19:$F$68,4,FALSE) -> Interno | G18: =EVALUACION!H23 -> La falta de claridad en la elaboración de los actos administrativos puede generar confusiones en la interpretación del objeto, alcance o requisitos del proceso. | H18: =+EVALUACION!I23 -> 1 | I18: =+EVALUACION!J23 -> 4 | J18: =+EVALUACION!K23 -> 5 | K18: =+EVALUACION!L23 -> MEDIO | L18: SDG | M18: 100 | N18: =+'EVALUACION CON CONTROLES'!G23 -> Priorizar en el proceso de análisis la experiencia territorial del contratista (ejecuciones anteriores en la localidad o con los pueblos indígenas de San Cristóbal). | O18: =+'EVALUACION CON CONTROLES'!I23 -> 1 | P18: =+'EVALUACION CON CONTROLES'!J23 -> 4 | Q18: =+'EVALUACION CON CONTROLES'!K23 -> 5 | R18: =+'EVALUACION CON CONTROLES'!L23 -> MEDIO | S18: ='EVALUACION CON CONTROLES'!M23 -> NO | T18: ='EVALUACION CON CONTROLES'!N23 -> Área tecnica, financiera y juridica a cargo del proceso | U18: ='EVALUACION CON CONTROLES'!O23 -> Desde la estructuración del proceso | V18: ='EVALUACION CON CONTROLES'!P23 -> Hasta la ejecución del contrato | W18: ='EVALUACION CON CONTROLES'!Q23 -> Con la revisión previa a adjudicar el contrato | X18: ='EVALUACION CON CONTROLES'!R23 -> Cuando ocurra, y se aplicara de manera inmediata
B19: 9 | C19: =+'EVALUACION CON CONTROLES'!C24:F24 -> Incumplimiento del cronograma por parte del contratista | D19: =+'EVALUACION CON CONTROLES'!B24 -> EJECUCIÓN | E19: General | F19: Interno | G19: =EVALUACION!G24 -> Afecta la planificación institucional, el logro de metas y la disponibilidad de los participantes. | H19: =+EVALUACION!I24 -> 2 | I19: =+EVALUACION!J24 -> 3 | J19: =+EVALUACION!K24 -> 5 | K19: =+EVALUACION!L24 -> MEDIO | L19: CONTRATISTA Y SDG | M19: 50-50 | N19: =+'EVALUACION CON CONTROLES'!G24 -> El participante en el proceso de selección debe considerar en su oferta factores climáticos conocidos (como fenómenos del niño), geotécnicos, ambientales y demás que puedan afectar negativamente la ejecución de los estudios. Realizar planes de acción orientados a reducir el impacto de los fenómenos de la naturaleza en la ejecución de las obras | O19: =+'EVALUACION CON CONTROLES'!I24 -> 2 | P19: =+'EVALUACION CON CONTROLES'!J24 -> 3 | Q19: =+'EVALUACION CON CONTROLES'!K24 -> 5 | R19: =+'EVALUACION CON CONTROLES'!L24 -> MEDIO | S19: ='EVALUACION CON CONTROLES'!M24 -> SI | T19: ='EVALUACION CON CONTROLES'!N24 -> Contratista y FDLSC | U19: ='EVALUACION CON CONTROLES'!O24 -> Desde la estructuración del proceso | V19: ='EVALUACION CON CONTROLES'!P24 -> Hasta la ejecución del contrato | W19: ='EVALUACION CON CONTROLES'!Q24 -> Al momento de la ejecución del contrato | X19: ='EVALUACION CON CONTROLES'!R24 -> Cuando ocurra, y se aplicara de manera inmediata
B20: 10 | C20: =+'EVALUACION CON CONTROLES'!C25:F25 -> Entrega de insumos o elementos que no cumplen con las especificaciones técnicas | D20: =+'EVALUACION CON CONTROLES'!B25 -> EJECUCIÓN | E20: Específico | F20: Externo | G20: Puede generar reprocesos, insatisfacción comunitaria y posibles sanciones contractuales. | H20: 2 | I20: =+EVALUACION!J25 -> 3 | J20: =+EVALUACION!K25 -> 5 | K20: =+EVALUACION!L25 -> MEDIO | L20: CONTRATISTA | M20: 100 | N20: =+'EVALUACION CON CONTROLES'!G25 -> Realizar muestras o fichas técnicas antes de la entrega; realizar inspección y verificación técnica con supervisión. | O20: =+'EVALUACION CON CONTROLES'!I25 -> 2 | P20: =+'EVALUACION CON CONTROLES'!J25 -> 3 | Q20: =+'EVALUACION CON CONTROLES'!K25 -> 5 | R20: =+'EVALUACION CON CONTROLES'!L25 -> MEDIO | S20: ='EVALUACION CON CONTROLES'!M25 -> SI | T20: ='EVALUACION CON CONTROLES'!N25 -> Contratista | U20: ='EVALUACION CON CONTROLES'!O25 -> Desde la estructuración del proceso | V20: ='EVALUACION CON CONTROLES'!P25 -> Hasta la ejecución del contrato | W20: ='EVALUACION CON CONTROLES'!Q25 -> Al momento de la ejecución del contrato | X20: ='EVALUACION CON CONTROLES'!R25 -> Cuando ocurra, y se aplicara de manera inmediata
B21: 11 | C21: =+'EVALUACION CON CONTROLES'!C26:F26 -> Variación de los precios del mercado | D21: =+'EVALUACION CON CONTROLES'!B26 -> EJECUCIÓN | E21: =VLOOKUP(C21,'IDENTIFICACION Y ANALISIS'!$B$19:$F$68,3,FALSE) -> General | F21: =VLOOKUP(C21,'IDENTIFICACION Y ANALISIS'!$B$19:$F$68,4,FALSE) -> Externo | G21: =EVALUACION!G26 -> Desequilibrio económico del contrato | H21: =+EVALUACION!I26 -> 1 | I21: =+EVALUACION!J26 -> 3 | J21: =+EVALUACION!K26 -> 4 | K21: =+EVALUACION!L26 -> BAJO | L21: CONTRATISTA Y SDG | M21: 50-50 | N21: =+'EVALUACION CON CONTROLES'!G26 -> Realizar seguimiento quincenal con actas y alertas tempranas, aplicar cláusulas de cumplimiento. | O21: =+'EVALUACION CON CONTROLES'!I26 -> 1 | P21: =+'EVALUACION CON CONTROLES'!J26 -> 3 | Q21: =+'EVALUACION CON CONTROLES'!K26 -> 4 | R21: =+'EVALUACION CON CONTROLES'!L26 -> BAJO | S21: ='EVALUACION CON CONTROLES'!M26 -> SI | T21: ='EVALUACION CON CONTROLES'!N26 -> Contratista y FDLSC | U21: ='EVALUACION CON CONTROLES'!O26 -> Desde la estructuración del proceso | V21: ='EVALUACION CON CONTROLES'!P26 -> Hasta la ejecución del contrato | W21: ='EVALUACION CON CONTROLES'!Q26 -> Al momento de la ejecución del contrato | X21: ='EVALUACION CON CONTROLES'!R26 -> Cuando ocurra, y se aplicara de manera inmediata
F23: Categoria | J23: Impacto del Riesgo
E24: Probabilidad | F24: Catagoria | G24: Valoración | J24: Categoria | L24: Valoración
B25: ELABORÓ: GIOVANNI ALFONSO MARÍN CPS 051 2025 REVISÓ: JUAN JAVIER ROMERO PÁEZ CPS 028 2025 | F25: Raro (puede ocurrir excepcionalmente) | G25: 1 | J25: Insignificante | L25: 1
F26: Improbable (puede ocurrir ocasionalmente) | G26: 2 | J26: Menor | L26: 2
F27: Posible (puede ocurrir en cualquier momento futuro) | G27: 3 | J27: Moderado | L27: 3
F28: Probable (probablemente va a ocurrir) | G28: 4 | J28: Mayor | L28: 4
F29: Casi cierto (ocurre en la mayoria de circunstancias) | G29: 5 | J29: Catastrófico | L29: 5
D31: Valoración del Riesgo
D32: Catagoria | E32: Valoración | F32: Insignificante | H32: Menor | J32: Moderado | K32: Mayor | L32: Catastrófico | P32: Categoria del Riesgo
F33: 1 | H33: 2 | J33: 3 | K33: 4 | L33: 5 | P33: Valoración del Riesgo | S33: Categoría
D34: Raro (puede ocurrir excepcionalmente) | E34: 1 | F34: 2 | H34: 3 | J34: 4 | K34: 5 | L34: 6 | P34: 8, 9 y 10 | S34: Riesgo extremo
D35: Improbable (puede ocurrir ocasionalmente) | E35: 2 | F35: 3 | H35: 4 | J35: 5 | K35: 6 | L35: 7 | P35: 6 y 7 | S35: Riesgo alto
D36: Posible (puede ocurrir en cualquier momento futuro) | E36: 3 | F36: 4 | H36: 5 | J36: 6 | K36: 7 | L36: 8 | P36: 5 | S36: Riesgo medio
D37: Probable (probablemente va a ocurrir) | E37: 4 | F37: 5 | H37: 6 | J37: 7 | K37: 8 | L37: 9 | P37: 2, 3 y 4 | S37: Riesgo bajo
D38: Casi cierto (ocurre en la mayoria de circunstancias) | E38: 5 | F38: 6 | H38: 7 | J38: 8 | K38: 9 | L38: 10
B43: CONTRATISTA
B44: SDG
B45: CONTRATISTA Y SDG
