Workbook
Name \0: #REF!
Name \00: #REF!
Name \a: #REF!
Name \AA: [1]LIQUIDACION!#REF!
Name \b: [2]STRSUMM0!#REF!
Name \bb: [2]STRSUMM0!#REF!
Name \E: #REF!
Name \EE: #REF!
Name \G: #REF!
Name \k: '[3]7422CW00'!#REF!
Name \l: [4]STRSUMM0!#REF!
Name \M: #REF!
Name \ñ: '[5]7422CW00'!#REF!
Name \P: #REF!
Name \R: #REF!
Name \s: #REF!
Name \V: #REF!
Name \X: 'P. 1'!ERR
Name \Z: 'P. 1'!ERR
Name _________AFC1: [6]INV!$A$25:$D$28
Name _________AFC3: [6]INV!$F$25:$I$28
Name _________AFC5: [6]INV!$K$25:$N$28
Name _________BGC1: [6]INV!$A$5:$D$8
Name _________BGC3: [6]INV!$F$5:$I$8
Name _________BGC5: [6]INV!$K$5:$N$8
Name _________CAC1: [6]INV!$A$19:$D$22
Name _________CAC3: [6]INV!$F$19:$I$22
Name _________CAC5: [6]INV!$K$19:$N$22
Name _________PJ50: #REF!
Name _________SBC1: [6]INV!$A$12:$D$15
Name _________SBC3: [6]INV!$F$12:$I$15
Name _________SBC5: [6]INV!$K$12:$N$15
Name ________AFC1: [6]INV!$A$25:$D$28
Name ________AFC3: [6]INV!$F$25:$I$28
Name ________AFC5: [6]INV!$K$25:$N$28
Name ________BGC1: [6]INV!$A$5:$D$8
Name ________BGC3: [6]INV!$F$5:$I$8
Name ________BGC5: [6]INV!$K$5:$N$8
Name ________CAC1: [6]INV!$A$19:$D$22
Name ________CAC3: [6]INV!$F$19:$I$22
Name ________CAC5: [6]INV!$K$19:$N$22
Name ________MA2: #REF!
Name ________PJ50: #REF!
Name ________SBC1: [6]INV!$A$12:$D$15
Name ________SBC3: [6]INV!$F$12:$I$15
Name ________SBC5: [6]INV!$K$12:$N$15
Name _______AFC1: [6]INV!$A$25:$D$28
Name _______AFC3: [6]INV!$F$25:$I$28
Name _______AFC5: [6]INV!$K$25:$N$28
Name _______BGC1: [6]INV!$A$5:$D$8
Name _______BGC3: [6]INV!$F$5:$I$8
Name _______BGC5: [6]INV!$K$5:$N$8
Name _______CAC1: [6]INV!$A$19:$D$22
Name _______CAC3: [6]INV!$F$19:$I$22
Name _______CAC5: [6]INV!$K$19:$N$22
Name _______MA2: #REF!
Name _______PJ50: #REF!
Name _______SBC1: [6]INV!$A$12:$D$15
Name _______SBC3: [6]INV!$F$12:$I$15
Name _______SBC5: [6]INV!$K$12:$N$15

Sheet PRESUPUESTO OFICIAL
C4: INSTITUTO NACIONAL DE VIAS
C6: OBRAS DE SEÑALIZACIÓN, SEGURIDAD VIAL Y/O SISTEMAS DE CONTENCIÓN EN LA RED TERCIARIA OCAÑA – LIMITE MORRISON A CARGO DEL INSTITUTO NACIONAL DE VÍAS – DIRECCION TERRITORIAL OCAÑA.
H8: IP-DT-OCA-006-2025
C9: PRESUPUESTO OFICIAL
C11: SEÑALIZACIÓN Y SEGURIDA VIAL
C12: Nº | D12: ITEM DE PAGO | E12: DESCRIPCION | I12: UND. | J12: CANTIDAD | K12: VALOR UNITARIO | L12: VALOR TOTAL
C14: 1 | D14: 700.1.2 | E14: Línea de demarcación con pintura en frio | I14: m | J14: =200*3-3 -> 597 | K14: =+'700.1.2'!N82 -> 3547 | L14: =+J14*K14 -> 2117559
C15: 2 | D15: 700.3.2 | E15: Marca Vial de Pintura en Frio | I15: m2 | J15: 97 | K15: =+'700.3.2'!N82 -> 55165 | L15: =+J15*K15 -> 5351005
C16: 3 | D16: 701.1.2 | E16: Tacha Retrorreflectiva Bidireccional Amarilla y/o Blanca | I16: und | J16: =+J14/8 -> 74.625 | K16: =+'701.1.2'!N82 -> 13416 | L16: =+J16*K16 -> 1001169
C17: 4 | D17: 710.1.1.2 | E17: Suministro e instalación de señal vertical de tránsito tipo SP, SR y SI de 75 cm x 75 cm con lámina retrorreflectiva tipo IX o superior | I17: und | J17: 15 | K17: =+'710.1.1.2'!N82 -> 1584570 | L17: =+J17*K17 -> 23768550
C18: 5 | D18: 710 | E18: Reductor de velocidad en asfalto A=370 M H=0.10 M | I18: m | J18: 16 | K18: =+'P. 1'!N110 -> 406061 | L18: =+J18*K18 -> 6496976
C19: BÁSICO OBRAS DE SEÑALIZACIÓN Y SEGURIDA VIAL | L19: =+SUM(L14:L18) -> 38735259
C20: PROVISION PARA OBRAS ADICIONALES | L20: 974554 | M20: NO MODIFICAR
C21: IVA SOBRE UTILIDAD | K21: 0.19 | L21: =+ROUND((L20+L19)/1.3*0.05*0.19,0) -> 290187
C22: VALOR TOTAL (COSTO DIRECTO + A.I.U) | L22: =+L19+L21+L20 -> 40000000
C24: NOTA 1: Se debe tener en cuenta que el PRECIO UNITARIO incluye el valor de A.I.U. | I24: DESCRIPCION | L24: PORCENTAJE
C25: NOTA 2: Si el valor del A.I.U. presentado es menor al OCHENTA Y CINCO por ciento (85%) del Valor Oficial del Porcentaje de A.I.U., establecido en el formulario No 1 "presupuesto oficial", la propuesta será rechazada. | I25: ADMINISTRACION | K25: A= | L25: 0.2
C26: NOTA 3. Cuando la fracción decimal del peso sea igual o superior a 5 se aproximara por exceso al número entero siguiente del peso y cuando la fracción decimal del peso sea inferior a 5 se aproximará por defecto al número entero del peso. | I26: IMPREVISTO | K26: I= | L26: 0.05
C27: NOTA 4. El A.I.U y su discriminación deben estar en porcentaje (%). | I27: UTILIDAD | K27: U= | L27: 0.05
C28: NOTA 5: Los valores que aparecen fijos e inmodificables no podrán alterarse, de lo contrario, será causal de rechazo de la propuesta que hace parte integral del presente proceso. | I28: TOTAL A.I.U | K28: A.I.U.= | L28: =SUM(L25:L27) -> 0.3
C29: NOTA 6: Para efectos de evaluación, la entidad tendrá en cuenta el valor de la oferta económica presentada por los oferentes.
C30: NOTA 7: El contrato se adjudicará por el valor del presupuesto oficial.
C31: NOTA 8: La entidad durante la suscripción de contrato, incluirá en el ítem de “PROVISIÓN PARA OBRAS ADICIONALES” el valor restante entre el valor total del Presupuesto Oficial y el Valor de la oferta económica del adjudicatario
C32: NOTA 9: Se entiende por obras adicionales aquellas que, por su naturaleza pueden ejecutarse con las especificaciones originales del contrato o variaciones no sustanciales de las mismas y en donde todos los ítems tengan precios unitarios pactados. El Instituto podrá ordenar por escrito obras adicionales y el contratista estará en la obligación de ejecutarlas. Las obras adicionales se pagarán a los precios establecidos en el formulario de la propuesta.

Sheet PROPUESTA ECONOMICA
C4: INSTITUTO NACIONAL DE VIAS
C6: OBRAS DE SEÑALIZACIÓN, SEGURIDAD VIAL Y/O SISTEMAS DE CONTENCIÓN EN LA RED TERCIARIA OCAÑA – LIMITE MORRISON A CARGO DEL INSTITUTO NACIONAL DE VÍAS – DIRECCION TERRITORIAL OCAÑA.
H8: IP-DT-OCA-006-2025
C9: PROPUESTA ECONOMICA
C11: SEÑALIZACIÓN Y SEGURIDA VIAL
C12: Nº | D12: ITEM DE PAGO | E12: DESCRIPCION | I12: UND. | J12: CANTIDAD | K12: VALOR UNITARIO | L12: VALOR TOTAL
C14: 1 | D14: 700.1.2 | E14: Línea de demarcación con pintura en frio | I14: m
C15: 2 | D15: 700.3.2 | E15: Marca Vial de Pintura en Frio | I15: m2
C16: 3 | D16: 701.1.2 | E16: Tacha Retrorreflectiva Bidireccional Amarilla y/o Blanca | I16: und
C17: 4 | D17: 710.1.1.2 | E17: Suministro e instalación de señal vertical de tránsito tipo SP, SR y SI de 75 cm x 75 cm con lámina retrorreflectiva tipo IX o superior | I17: und
C18: 5 | D18: 710 | E18: Reductor de velocidad en asfalto A=370 M H=0.10 M | I18: m
C19: BÁSICO OBRAS DE SEÑALIZACIÓN Y SEGURIDA VIAL | L19: =+SUM(L14:L18) -> 0
C20: PROVISION OBRAS ADICIONALES
C21: IVA SOBRE UTILIDAD | K21: 0.19 | L21: =+ROUND((L20+L19)/1.3*0.05*0.19,0) -> 0
C22: VALOR TOTAL (COSTO DIRECTO + A.I.U) | L22: =+L19+L21 -> 0
C24: NOTA 1: Se debe tener en cuenta que el PRECIO UNITARIO incluye el valor de A.I.U. | I24: DESCRIPCION | L24: PORCENTAJE
C25: NOTA 2: Si el valor del A.I.U. presentado es menor al OCHENTA Y CINCO por ciento (85%) del Valor Oficial del Porcentaje de A.I.U., establecido en el formulario No 1 "presupuesto oficial", la propuesta será rechazada. | I25: ADMINISTRACION | K25: A= | L25: 0.2
C26: NOTA 3. Cuando la fracción decimal del peso sea igual o superior a 5 se aproximara por exceso al número entero siguiente del peso y cuando la fracción decimal del peso sea inferior a 5 se aproximará por defecto al número entero del peso. | I26: IMPREVISTO | K26: I= | L26: 0.05
C27: NOTA 4. El A.I.U y su discriminación deben estar en porcentaje (%). | I27: UTILIDAD | K27: U= | L27: 0.05
C28: NOTA 5: Los valores que aparecen fijos e inmodificables no podrán alterarse, de lo contrario, será causal de rechazo de la propuesta que hace parte integral del presente proceso. | I28: TOTAL A.I.U | K28: A.I.U.= | L28: =SUM(L25:L27) -> 0.3
C29: NOTA 6: Para efectos de evaluación, la entidad tendrá en cuenta el valor de la oferta económica presentada por los oferentes.
C30: NOTA 7: El contrato se adjudicará por el valor del presupuesto oficial.
C31: NOTA 8: La entidad durante la suscripción de contrato, incluirá en el ítem de “PROVISIÓN PARA OBRAS ADICIONALES (INCLUYE IVA SOBRE UTILIDAD) (C)” el valor restante entre el valor total del Presupuesto Oficial y el Valor de la oferta económica del adjudicatario
C32: NOTA 9: Se entiende por obras adicionales aquellas que, por su naturaleza pueden ejecutarse con las especificaciones originales del contrato o variaciones no sustanciales de las mismas y en donde todos los ítems tengan precios unitarios pactados. El Instituto podrá ordenar por escrito obras adicionales y el contratista estará en la obligación de ejecutarlas. Las obras adicionales se pagarán a los precios establecidos en el formulario de la propuesta.

Sheet 700.1.2
K2: CÓDIGO | L2: MEPI-MN1-IN-10-FR-1
C3: INSTITUTO NACIONAL DE VIAS
C4: DIRECCION TECNICA | K4: VERSIÓN | L4: 1
C5: PROCESO GESTIÓN DE LA INFRAESTRUCTURA VIAL
K6: PÁGINA | L6: 1 | M6: DE | N6: 1
C8: ANALISIS DE PRECIOS UNITARIOS
K10: FECHA | L10: DD | M10: MM | N10: AA
B12: ITEMS DE LA PROPUESTA ECONÓMICA | H12: ITEMS NO PREVISTOS
B13: UNIDAD EJECUTORA: | I13: DIRECCIÓN TERRITORIAL:
B19: CONTRATO No. | G19: DE
B20: OBJETO DEL CONTRATO
B23: CONTRATISTA :
B25: INTERVENTOR
B27: GESTOR TECNICO DE CONTRATO
B29: FECHA CIERRE DE LICITACIÓN Y/O SELECCIÓN ABREVIADA
B31: DATOS ESPECÍFICOS
B33: ITEM | C33: DESCRIPCIÓN | J33: GRUPO DE AJUSTE | L33: UNIDAD | N33: CANTIDAD
B34: 700.1.2 | C34: Línea de demarcación con pintura en frio | J34: 11607 | L34: m
B35: I. EQUIPO
B38: DESCRIPCIÓN | G38: MARCA | I38: TIPO | K38: TARIFA/HORA | L38: RENDIMIENTO | N38: Vr. UNITARIO
B39: CAMIONETA | K39: 66334 | L39: 1000 | N39: =+K39/L39 -> 66.334
B40: VEHÍCULO DELINEADOR | K40: 256776 | L40: 1000 | N40: =+K40/L40 -> 256.776
B41: HERRAMIENTA MENOR (5%) | N41: 1.5406416
B43: SUBTOTAL $ | N43: =+SUM(N39:N41) -> 324.65064
B44: II. MATERIALES
B47: DESCRIPCIÓN | J47: UNIDAD | K47: CANTIDAD | L47: PRECIO UNIT. | N47: Vr. UNITARIO
B48: ESFERAS REFLECTIVAS | J48: KG | K48: 0.0532 | L48: 10000 | N48: =+K48*L48 -> 532
B49: PINTURA ACRILICA PURA PARA TRAFICO | J49: GALON | K49: 0.013 | L49: 140000 | N49: =+K49*L49 -> 1820
B50: DISOLVENTE DE PINTURA | J50: GALON | K50: 0.0004 | L50: 52000 | N50: =+K50*L50 -> 20.8
B53: SUBTOTAL $ | N53: =+SUM(N48:N51) -> 2372.8
B54: III. TRANSPORTES
B57: MATERIAL | I57: VOL. o PESO | J57: DISTANCIA | K57: M3 o Ton/Km | L57: TARIFA | N57: Vr. UNITARIO
B61: SUBTOTAL $ | N61: 0
B62: IV. MANO DE OBRA
B65: TRABAJADOR | I65: JORNAL | J65: PRESTACIONES | K65: JORNAL TOTAL | L65: RENDIMIENTO | N65: Vr. UNITARIO
B66: OBREROS | H66: 3 | I66: 142350 | J66: 1.85 | K66: 263347.5 | L66: 13536 | N66: 19.455341
B67: OFICIAL | I67: 83100 | J67: 1.85 | K67: 153735 | L67: 13536 | N67: 11.357491
B70: SUBTOTAL $ | N70: =+SUM(N66:N68) -> 30.812832
B72: TOTAL COSTO DIRECTO $ | N72: =+N70+N61+N53+N43 -> 2728.2635
B74: V. COSTOS INDIRECTOS
...

Sheet 700.3.2
K2: CÓDIGO | L2: MEPI-MN1-IN-10-FR-1
C3: INSTITUTO NACIONAL DE VIAS
C4: DIRECCION TECNICA | K4: VERSIÓN | L4: 1
C5: PROCESO GESTIÓN DE LA INFRAESTRUCTURA VIAL
K6: PÁGINA | L6: 1 | M6: DE | N6: 1
C8: ANALISIS DE PRECIOS UNITARIOS
K10: FECHA | L10: DD | M10: MM | N10: AA
B12: ITEMS DE LA PROPUESTA ECONÓMICA | H12: ITEMS NO PREVISTOS
B13: UNIDAD EJECUTORA: | I13: DIRECCIÓN TERRITORIAL:
B19: CONTRATO No. | G19: DE
B20: OBJETO DEL CONTRATO
B23: CONTRATISTA :
B25: INTERVENTOR
B27: GESTOR TECNICO DE CONTRATO
B29: FECHA CIERRE DE LICITACIÓN Y/O SELECCIÓN ABREVIADA
B31: DATOS ESPECÍFICOS
B33: ITEM | C33: DESCRIPCIÓN | J33: GRUPO DE AJUSTE | L33: UNIDAD | N33: CANTIDAD
B34: 700.3.2 | C34: Marca vial con pintura en frío | J34: 11607 | L34: m2
B35: I. EQUIPO
B38: DESCRIPCIÓN | G38: MARCA | I38: TIPO | K38: TARIFA/HORA | L38: RENDIMIENTO | N38: Vr. UNITARIO
B39: CAMIONETA | K39: 69000 | L39: 10 | N39: =+K39/L39 -> 6900
B40: EQUIPO DE PINTURA | K40: 29000 | L40: 10 | N40: =+K40/L40 -> 2900
B41: HERRAMIENTA MENOR (5%) | N41: 260.67656
B43: SUBTOTAL $ | N43: =+N39+N40+N41 -> 10060.677
B44: II. MATERIALES
B47: DESCRIPCIÓN | J47: UNIDAD | K47: CANTIDAD | L47: PRECIO UNIT. | N47: Vr. UNITARIO
B48: ESFERAS REFLECTIVAS | J48: KG | K48: 0.48 | L48: 10000 | N48: 4800
B49: PINTURA ACRILICA PURA PARA TRAFICO | J49: GALON | K49: 0.129 | L49: 140000 | N49: 18060
B50: DISOLVENTE DE PINTURA | J50: GALON | K50: 0.065 | L50: 52000 | N50: 3380
B53: SUBTOTAL $ | N53: =+N50+N49+N48 -> 26240
B54: III. TRANSPORTES
B57: MATERIAL | I57: VOL. o PESO | J57: DISTANCIA | K57: M3 o Ton/Km | L57: TARIFA | N57: Vr. UNITARIO
B61: SUBTOTAL $ | N61: 0
B62: IV. MANO DE OBRA
B65: TRABAJADOR | I65: JORNAL | J65: PRESTACIONES | K65: JORNAL TOTAL | L65: RENDIMIENTO | N65: Vr. UNITARIO
B66: OBREROS | H66: 3 | I66: 142350 | J66: 1.85 | K66: 263347.5 | L66: 68 | N66: =+K66/L66 -> 3872.7574
B67: OFICIAL | I67: 83100 | J67: 1.85 | K67: 153735 | L67: 68 | N67: =+K67/L67 -> 2260.8088
B70: SUBTOTAL $ | N70: =+N66+N67 -> 6133.5662
B72: TOTAL COSTO DIRECTO $ | N72: =+N70+N61+N53+N43 -> 42434.243
B74: V. COSTOS INDIRECTOS
...

Sheet 701.1.2
K2: CÓDIGO | L2: MEPI-MN1-IN-10-FR-1
C3: INSTITUTO NACIONAL DE VIAS
C4: DIRECCION TECNICA | K4: VERSIÓN | L4: 1
C5: PROCESO GESTIÓN DE LA INFRAESTRUCTURA VIAL
K6: PÁGINA | L6: 1 | M6: DE | N6: 1
C8: ANALISIS DE PRECIOS UNITARIOS
K10: FECHA | L10: DD | M10: MM | N10: AA
B12: ITEMS DE LA PROPUESTA ECONÓMICA | H12: ITEMS NO PREVISTOS
B13: UNIDAD EJECUTORA: | I13: DIRECCIÓN TERRITORIAL:
B19: CONTRATO No. | G19: DE
B20: OBJETO DEL CONTRATO
B23: CONTRATISTA :
B25: INTERVENTOR
B27: GESTOR TECNICO DE CONTRATO
B29: FECHA CIERRE DE LICITACIÓN Y/O SELECCIÓN ABREVIADA
B31: DATOS ESPECÍFICOS
B33: ITEM | C33: DESCRIPCIÓN | J33: GRUPO DE AJUSTE | L33: UNIDAD | N33: CANTIDAD
B34: 701.1.2 | C34: Tacha reflectiva bidireccional | J34: 11607 | L34: u
B35: I. EQUIPO
B38: DESCRIPCIÓN | G38: MARCA | I38: TIPO | K38: TARIFA/HORA | L38: RENDIMIENTO | N38: Vr. UNITARIO
B39: CAMIONETA | K39: 66334 | L39: 250 | N39: =+K39/L39 -> 265.336
B40: HERRAMIENTA MENOR (5%) | N40: 8.2325
B41: MÁQUINA TÉRMICA | K41: 40900 | L41: 250 | N41: =+K41/L41 -> 163.6
B43: SUBTOTAL $ | N43: =+N39+N40+N41 -> 437.1685
B44: II. MATERIALES
B47: DESCRIPCIÓN | J47: UNIDAD | K47: CANTIDAD | L47: PRECIO UNIT. | N47: Vr. UNITARIO
B48: Resina termoplástica | J48: kg | K48: 0.033 | L48: 46000 | N48: =+K48*L48 -> 1518
B49: Tacha reflectiva bidreccional | J49: UNIDAD | K49: 1 | L49: 8200 | N49: =+K49*L49 -> 8200
B53: SUBTOTAL $ | N53: =+N48+N49 -> 9718
B54: III. TRANSPORTES
B57: MATERIAL | I57: VOL. o PESO | J57: DISTANCIA | K57: M3 o Ton/Km | L57: TARIFA | N57: Vr. UNITARIO
B61: SUBTOTAL $ | N61: 0
B62: IV. MANO DE OBRA
B65: TRABAJADOR | I65: JORNAL | J65: PRESTACIONES | K65: JORNAL TOTAL | L65: RENDIMIENTO | N65: Vr. UNITARIO
B66: OBREROS | H66: 2 | I66: 94900 | J66: 1.85 | K66: 175565 | L66: 2000 | N66: =+K66/L66 -> 87.7825
B67: OFICIAL | I67: 83100 | J67: 1.85 | K67: 153735 | L67: 2000 | N67: =+K67/L67 -> 76.8675
B70: SUBTOTAL $ | N70: =+N66+N67 -> 164.65
B72: TOTAL COSTO DIRECTO $ | N72: =+N70+N61+N53+N43 -> 10319.818
B74: V. COSTOS INDIRECTOS
B76: DESCRIPCIÓN | K76: Porcentaje | L76: Valor Total
...

Sheet 710.1.1.2
K2: CÓDIGO | L2: MEPI-MN1-IN-10-FR-1
C3: INSTITUTO NACIONAL DE VIAS
C4: DIRECCION TECNICA | K4: VERSIÓN | L4: 1
C5: PROCESO GESTIÓN DE LA INFRAESTRUCTURA VIAL
K6: PÁGINA | L6: 1 | M6: DE | N6: 1
C8: ANALISIS DE PRECIOS UNITARIOS
K10: FECHA | L10: DD | M10: MM | N10: AA
B12: ITEMS DE LA PROPUESTA ECONÓMICA | H12: ITEMS NO PREVISTOS
B13: UNIDAD EJECUTORA: | I13: DIRECCIÓN TERRITORIAL:
B19: CONTRATO No. | G19: DE
B20: OBJETO DEL CONTRATO
B23: CONTRATISTA :
B25: INTERVENTOR
B27: GESTOR TECNICO DE CONTRATO
B29: FECHA CIERRE DE LICITACIÓN Y/O SELECCIÓN ABREVIADA
B31: DATOS ESPECÍFICOS
B33: ITEM | C33: DESCRIPCIÓN | J33: GRUPO DE AJUSTE | L33: UNIDAD | N33: CANTIDAD
B34: 710.1.1.2 | C34: Suministro e instalación de señal vertical de tránsito tipo SP, SR y SI de 75 cm x 75 cm con lámina retrorreflectiva tipo IX o superior | J34: 11607 | L34: u
B35: I. EQUIPO
B38: DESCRIPCIÓN | G38: MARCA | I38: TIPO | K38: TARIFA/HORA | L38: RENDIMIENTO | N38: Vr. UNITARIO
B39: CAMIONETA | K39: 66334 | L39: 4 | N39: 16583.5
B40: HERRAMIENTA MENOR (5%MO) | N40: 651.69141
B43: SUBTOTAL $ | N43: =+SUM(N39:N41) -> 17235.191
B44: II. MATERIALES
B47: DESCRIPCIÓN | J47: UNIDAD | K47: CANTIDAD | L47: PRECIO UNIT. | N47: Vr. UNITARIO
B48: CONCRETO CLASE 21 MPA (INCLUYE TRANSPORTES) | J48: M3 | K48: 0.033 | L48: 624749 | N48: =+K48*L48 -> 20616.717
B49: Señal vertical de transito SP, SR y/o SI (75cm*75cm) con lamina acero galvanizado retroreflectiva TIPO IX | J49: U | K49: 1 | L49: 560000 | N49: =+K49*L49 -> 560000
B50: Poste en angulo de 2"x2"x1/4" de 3,5m | J50: U | K50: 1 | L50: 250000 | N50: =+K50*L50 -> 250000
B51: Antigrafiti | J51: Gl | K51: 0.33 | L51: 998000 | N51: =+L51*K51 -> 329340
B53: SUBTOTAL $ | N53: =+SUM(N48:N51) -> 1159956.7
B54: III. TRANSPORTES
B57: MATERIAL | I57: VOL. o PESO | J57: DISTANCIA | K57: M3 o Ton/Km | L57: TARIFA | N57: Vr. UNITARIO
B61: SUBTOTAL $ | N61: 0
B62: IV. MANO DE OBRA
B65: TRABAJADOR | I65: JORNAL | J65: PRESTACIONES | K65: JORNAL TOTAL | L65: RENDIMIENTO | N65: Vr. UNITARIO
B66: OBREROS | H66: 3 | I66: 142350 | J66: 1.85 | K66: 263347.5 | L66: 10 | N66: =+K66/L66 -> 26334.75
B67: OFICIAL | I67: 83100 | J67: 1.85 | K67: 153735 | L67: 10 | N67: =+K67/L67 -> 15373.5
B70: SUBTOTAL $ | N70: =+N66+N67 -> 41708.25
B72: TOTAL COSTO DIRECTO $ | N72: =+N70+N61+N53+N43 -> 1218900.2
B74: V. COSTOS INDIRECTOS
...

Sheet P. 1
K1: CÓDIGO | L1: FR-APU-1
C2: INSTITUTO NACIONAL DE VIAS
C3: ANÁLISIS DE PRECIOS UNITARIOS DE REFERENCIA REGIONALIZADOS | K3: VERSIÓN | L3: 2021
C5: ACTUALIZACIÓN PERIÓDICA | K5: PÁGINA
K8: FECHA
L9: (Día) | M9: (Mes) | N9: (Año)
B10: ÍTEM BASE DE APU DE REFERENCIA: | E10: ⊠ | F10: PUBLICACIÓN: | H10: 2023 - 2 D/EMBRE 2023
B12: ÍTEM DE PROYECTO PARTICULAR:
B13: ÍTEM DE LA PROPUESTA ECONÓMICA: | E13: □ | H13: ÍTEM NO PREVISTO: | J13: □ | K13: ÍTEM APU PARTICULAR: | M13: □
B14: UNIDAD EJECUTORA: | J14: DIRECCIÓN TERRITORIAL:
B17: CONTRATO No. | D17: FECHA:
B18: OBJETO DEL CONTRATO:
B21: CARRETERA: | J21: SECTOR:
B23: CONTRATISTA:
B25: INTERVENTOR: | K25: CONTRATO No. | M25: FECHA: | N25: ______________
B27: FECHA DE CIERRE DEL PROCESO DE SELECCIÓN DEL CONTRATO: | I27: / | J27: /
F28: (Día) | H28: (Día) | I28: (Mes) | J28: (Año)
B30: DATOS ESPECÍFICOS
B32: ÍTEM | C32: DESCRIPCIÓN | J32: GRUPO DE AJUSTE | L32: UNIDAD | N32: CANTIDAD
B33: 700.3 | C33: ='[119]PROPUESTA ECONOMICA'!G18 -> CONSTRUCCIÓN DE RESALTO EN ASFALTO | L33: ML
B35: I. EQUIPO
B37: CÓDIGO | C37: DESCRIPCIÓN | J37: TIPO | K37: TARIFA/HORA | L37: RENDIMIENTO | N37: Vr. UNITARIO
B38: C0010350 | C38: Compactador manual vibratorio (CANGURO) (Apisonadores), potencia aproximada 5 HP | K38: 13486.84 | L38: 2 | N38: =K38*L38 -> 26973.68
N40: =K40*L40 -> 0
N41: =K41*L41 -> 0
N42: =K42*L42 -> 0
N43: =K43*L43 -> 0
N44: =K44*L44 -> 0
N45: =K45*L45 -> 0
N46: =K46*L46 -> 0
N47: =K47*L47 -> 0
N48: =K48*L48 -> 0
N49: =K49*L49 -> 0
N50: =K50*L50 -> 0
N51: =K51*L51 -> 0
C52: HERRAMIENTA MENOR (%) | L52: 0.05 | N52: =L52*N98 -> 1207.5875
B53: SUBTOTAL $ | N53: =SUM(N38:N52) -> 28181.268
B55: II. MATERIALES
B57: CÓDIGO | C57: DESCRIPCIÓN | J57: UNIDAD | K57: CANTIDAD | L57: PRECIO UNIT. | N57: Vr. UNITARIO
B58: B0013940 | C58: Mezcla densa en caliente | J58: m3 | K58: 0.36 | L58: 587085 | N58: =K58*L58 -> 211350.6
...
