Workbook
Name \0: '[1]CRA.MODI'!#REF!
Name \0: '[1]CRA.MODI'!#REF!
Name \0: '[1]CRA.MODI'!#REF!
Name \a: [2]PJ!#REF!
Name \a: [2]PJ!#REF!
Name \a: [2]PJ!#REF!
Name \b: #REF!
Name \b: #REF!
Name \b: #REF!
Name \c: #REF!
Name \e: #REF!
Name \f: #REF!
Name \i: #REF!
Name \L: #REF!
Name \m: #REF!
Name \P: #REF!
Name \q: #REF!
Name \r: #REF!
Name \s: #REF!
Name \sa: #REF!
Name \t: #REF!
Name \w: #N/A
Name \x: #REF!
Name \z: #REF!
Name _: #REF!
Name _________________________________________________AFC1: [3]INV!$A$25:$D$28
Name _________________________________________________AFC3: [3]INV!$F$25:$I$28
Name _________________________________________________AFC5: [3]INV!$K$25:$N$28
Name _________________________________________________BGC1: [3]INV!$A$5:$D$8
Name _________________________________________________BGC3: [3]INV!$F$5:$I$8
Name _________________________________________________BGC5: [3]INV!$K$5:$N$8
Name _________________________________________________CAC1: [3]INV!$A$19:$D$22
Name _________________________________________________CAC3: [3]INV!$F$19:$I$22
Name _________________________________________________CAC5: [3]INV!$K$19:$N$22
Name _________________________________________________i1: #REF!
Name _________________________________________________SBC1: [3]INV!$A$12:$D$15
Name _________________________________________________SBC3: [3]INV!$F$12:$I$15
Name _________________________________________________SBC5: [3]INV!$K$12:$N$15
Name ________________________________________________AFC1: [3]INV!$A$25:$D$28
Name ________________________________________________AFC3: [3]INV!$F$25:$I$28
Name ________________________________________________AFC5: [3]INV!$K$25:$N$28
Name ________________________________________________BGC1: [3]INV!$A$5:$D$8
Name ________________________________________________BGC3: [3]INV!$F$5:$I$8
Name ________________________________________________BGC5: [3]INV!$K$5:$N$8
Name ________________________________________________CAC1: [3]INV!$A$19:$D$22
Name ________________________________________________CAC3: [3]INV!$F$19:$I$22
Name ________________________________________________CAC5: [3]INV!$K$19:$N$22
Name ________________________________________________i1: #REF!
Name ________________________________________________SBC1: [3]INV!$A$12:$D$15
Name ________________________________________________SBC3: [3]INV!$F$12:$I$15
Name ________________________________________________SBC5: [3]INV!$K$12:$N$15
Name _______________________________________________AFC1: [3]INV!$A$25:$D$28
Name _______________________________________________AFC3: [3]INV!$F$25:$I$28
Name _______________________________________________AFC5: [3]INV!$K$25:$N$28
Name _______________________________________________BGC1: [3]INV!$A$5:$D$8
Name _______________________________________________BGC3: [3]INV!$F$5:$I$8
Name _______________________________________________BGC5: [3]INV!$K$5:$N$8
Name _______________________________________________CAC1: [3]INV!$A$19:$D$22
Name _______________________________________________CAC3: [3]INV!$F$19:$I$22
Name _______________________________________________CAC5: [3]INV!$K$19:$N$22

Sheet RESUMEN
A1: RESUMEN OBRAS
A3: DESCRIPCION | B3: UNIDAD | C3: CANTIDAD | D3: V/UNITARIO | E3: V/PARCIAL
A4: PLACA POLIDEPORTIVA CONDOTO | B4: UN | C4: 1 | D4: =+'placa condoto'!H38 -> 3.1759685e+08 | E4: =+D4*C4 -> 3.1759685e+08
A5: MEJORAMIENTOS DE CONDOTO | B5: UN | C5: 1 | D5: =+'mejoramiento condoto'!H73 -> 1.1323148e+09 | E5: =+D5*C5 -> 1.1323148e+09
A6: CONSTRUCCIONES NUEVAS CONDOTO | B6: UN | C6: 1 | D6: =+' OBRAS NUEVAS condoto'!H12 -> 687750000 | E6: =+D6*C6 -> 687750000
A7: MEJORAMIENTOS DE LA MOLANA | B7: UN | C7: 1 | D7: =+'MEJORAMIENTO molana'!H67 -> 4.6025869e+08 | E7: =+D7*C7 -> 4.6025869e+08
A8: CONSTRUCCIONES NUEVAS DE LA MOLANA | B8: UN | C8: 1 | D8: =+'OBRAS NUEVAS molana'!H12 -> 306900000 | E8: =+D8*C8 -> 306900000
D9: SUBTOTAL CD | E9: =SUM(E4:E8) -> 2.9048204e+09
C10: Administración | D10: 0.25 | E10: =+E9*D10 -> 7.2620509e+08
C11: Utilidad | D11: 0.05 | E11: =+E9*D11 -> 1.4524102e+08
C12: Iva/Utilidad | D12: 0.19 | E12: =+E11*D12 -> 27595794
C13: Subtotal AIU | D13: =SUM(D10:D11) -> 0.3 | E13: =SUM(E10:E12) -> 8.990419e+08
D14: GRAN TOTAL | E14: =+E13+E9 -> 3.8038623e+09

Sheet placa condoto
A1: PRESUPUESTO DE OBRA
A3: OBRA: INSTITUCION EDUCATIVA MARIA AUXILIADORA SEDE PRINCIPAL
A4: MUNICIPIO: CONDOTO-CHOCO
A5: Ítem | B5: Descripción | C5: Unidad | D5: Cantidad | E5: Valor unitario | F5: Valor parcial | H5: Valor total | I5: EL VIRREY | J5: Vr/parcial | M5: CHICÓ | N5: Vr/parcial
A7: 1 | B7: Realizar obras preliminares | H7: =SUM(F8:F12) -> 47797705 | J7: =+J8+#REF!+#REF!+#REF! -> #REF! | L7: =+J7*1.15 -> #REF! | N7: =+N8+#REF!+#REF!+#REF! -> #REF! | Q7: =+N7*1.15 -> #REF!
A8: 1.1 | B8: Localización general | C8: m² | D8: =32*17 -> 544 | E8: 8321.287 | F8: =E8*D8 -> 4526780.1 | I8: 1291.81 | J8: =E8*I8 -> 10749522 | M8: 1377.51 | N8: =E8*M8 -> 11462656
A9: 1.2 | B9: cerramiento en lona verde de altura 2 m | C9: m | D9: =34*2+21*2 -> 110 | E9: 60402.169 | F9: =E9*D9 -> 6644238.6
A10: 1.3 | B10: Descapote E=0.20 m y retiro de material sobrante | C10: m² | D10: =32*17 -> 544 | E10: 40647.107 | F10: =E10*D10 -> 22112026
A11: 1.4 | B11: Campamento de 30 m² | C11: un | D11: 1 | E11: 12382819 | F11: =E11*D11 -> 12382819
A12: 1.5 | B12: Provisional energia | C12: un | D12: 1 | E12: 2131841.2 | F12: =E12*D12 -> 2131841.2
A14: 2 | B14: Construir la placa de concreto | H14: =SUM(F15:F23) -> 2.2031982e+08 | J14: =+#REF!+J15+#REF!+#REF!+J17+#REF!+#REF!+#REF!+#REF!+J19+#REF!+#REF!+#REF!+#REF!+#REF!+#REF!+#REF!+#REF!+#REF! -> #REF! | L14: =+J14*1.15 -> #REF! | N14: =+#REF!+N15+#REF!+#REF!+N17+#REF!+#REF!+#REF!+#REF!+N19+#REF!+#REF!+#REF!+#REF!+#REF!+#REF!+#REF! -> #REF! | Q14: =+N14*1.15 -> #REF!
A15: 2.1 | B15: Replanteo de placa | C15: m² | D15: =32*17 -> 544 | E15: 6892.9534 | F15: =E15*D15 -> 3749766.6 | I15: 3876.49 | J15: =E15*I15 -> 26720465 | M15: 6198.8 | N15: =M15*E15 -> 42728039
A16: 2.2 | B16: Excavación manual (inc. Retiro de sobrantes) | C16: m³ | D16: =32*17*0.25 -> 136 | E16: 107444.8 | F16: =E16*D16 -> 14612493
A17: 2.3 | B17: Relleno de material, recebo compactado | C17: m³ | D17: =32*17*0.3 -> 163.2 | E17: 126915.62 | F17: =E17*D17 -> 20712628 | I17: 120.78 | J17: =E17*I17 -> 15328868 | M17: 135.23 | N17: =M17*E17 -> 17162799
A18: 2.4 | B18: Malla electrosoldada de 6,5 * 6,5 mm (M 221) | C18: kg | D18: =(49.4/14)*32*17 -> 1919.5429 | E18: 14922.889 | F18: =E18*D18 -> 28645125
A19: 2.5 | B19: Placa contrapiso de e=0,10 m concreto 210 kg/cm² (3.000 psi) área deportiva | C19: m² | D19: =32*17 -> 544 | E19: 163434.98 | F19: =E19*D19 -> 88908631 | I19: 1531 | J19: =E19*I19 -> 2.5021896e+08 | M19: 1630.2 | N19: =M19*E19 -> 2.6643171e+08
A20: 2.6 | B20: Bordillo en concreto andenes de 0.15*0.30 con acero de refuerzo concreto de 3000 psi. | C20: ML | D20: =32*2+17*2 -> 98 | E20: 112845.46 | F20: =E20*D20 -> 11058855
A21: 2.7 | B21: Cerramiento contra impacto (Inlcuye viga de cimentacion) | C21: ML | D21: 17 | E21: 2394768.3 | F21: =E21*D21 -> 40711062
A22: 2.8 | B22: Cañuela en concreto 175 kg/cm² (2.500 psi) | C22: m | D22: =32*2 -> 64 | E22: 127199.86 | F22: =E22*D22 -> 8140791.1
A23: 2.9 | B23: Acero de refuerzo 4.200 kg/cm² (60.000 psi) para cimentación | C23: kg | D23: 280 | E23: 13501.661 | F23: =E23*D23 -> 3780465.2
A25: 3 | B25: Instalar las redes hidrosanitarias | H25: =SUM(F26:F27) -> 6143255.9
A26: 3.1 | B26: Tubería PVC sanitaria aguas lluvias D:4" | C26: m | D26: =20+15 -> 35 | E26: 68929.534 | F26: =D26*E26 -> 2412533.7
A27: 3.2 | B27: Caja de inspección hmax=1,00 m de 60 cm x 60 cm | C27: un | D27: 3 | E27: 1243574.1 | F27: =D27*E27 -> 3730722.2
A29: 4 | B29: Pintar y demarcar elementos y aseo | H29: =SUM(F30:F31) -> 13703476
A30: 4.1 | B30: Demarcación cancha de microfútbol, baloncesto y voleibol con pintura de tráfico alto, ancho 10 cm de acuerdo a los colores reglamentarios y al diseño | C30: m | D30: 380 | E30: 24871.481 | F30: =+E30*D30 -> 9451162.9
A31: 4.2 | B31: Aseo final | C31: m² | D31: =32*17 -> 544 | E31: 7816.7513 | F31: =+E31*D31 -> 4252312.7
A33: 5 | B33: Dotar la placa polideportiva cubierta | H33: =SUM(F34:F35) -> 29632593
A34: 5.1 | B34: Porteria integrada | C34: un | D34: 1 | E34: 26292709 | F34: =+E34*D34 -> 26292709
A35: 5.2 | B35: Tubos y malla boleiboll | C35: un | D35: 1 | E35: 3339884.6 | F35: =+E35*D35 -> 3339884.6
B38: Costo directo | H38: =SUM(H7:H37) -> 3.1759685e+08
E40: Administración | F40: 0.25 | H40: =H38*F40 -> 79399212
E41: Utilidad | F41: 0.05 | H41: =H38*F41 -> 15879842
E42: Subtotal AIU | F42: =SUM(F40:F41) -> 0.3 | H42: =SUM(H40:H41) -> 95279054
B44: Total | H44: =H38+H42 -> 4.128759e+08
I47: M2 construidos
I48: precio/M2 sobre coste directo
I49: Límite Valor Vivienda
I50: precio/M2
I52: Diferencia

Sheet mejoramiento condoto
A1: PRESUPUESTO DE OBRA
A3: OBRA: INSTITUCION EDUCATIVA MARIA AUXILIADORA SEDE PRINCIPAL
A4: MUNICIPIO: CONDOTO-CHOCO
A5: Ítem | B5: Descripción | C5: Unidad | D5: Cantidad | E5: Valor unitario | F5: Valor parcial | H5: Valor total | I5: EL VIRREY | J5: Vr/parcial | M5: CHICÓ | N5: Vr/parcial
A7: 1 | B7: Preliminares | H7: =SUM(F8:F14) -> 33889900 | J7: =+J8+#REF!+#REF!+#REF! -> #REF! | L7: =+J7*1.15 -> #REF! | N7: =+N8+#REF!+#REF!+#REF! -> #REF! | Q7: =+N7*1.15 -> #REF!
A8: 1.1 | B8: Retiro de teja existente metalica | C8: M2 | D8: 872 | E8: 12618.375 | F8: =E8*D8 -> 11003223 | I8: 1291.81 | J8: =E8*I8 -> 16300543 | M8: 1377.51 | N8: =E8*M8 -> 17381938
A9: 1.2 | B9: Retiro de instalaciones electricas existentes | C9: UND | D9: 1 | E9: 2098635 | F9: =E9*D9 -> 2098635
A10: 1.3 | B10: Demolicion de estructuras de tanques existentes | C10: UND | D10: 2 | E10: 3426885 | F10: =E10*D10 -> 6853770
A11: 1.4 | B11: Limpieza de teja upvc interiormente | C11: M2 | D11: 369 | E11: 13946.625 | F11: =E11*D11 -> 5146304.6
A12: 1.5 | B12: Retiro de malla de cerramiento existente | C12: ML | D12: 145 | E12: 59771.25 | F12: =E12*D12 -> 8666831.2
A13: 1.6 | B13: Retrio de lavamanos existentes | C13: UND | D13: 2 | E13: 21916.125 | F13: =E13*D13 -> 43832.25
A14: 1.7 | B14: Retrio de sanitario de tanque existente | C14: UND | D14: 3 | E14: 25768.05 | F14: =E14*D14 -> 77304.15
A16: 2 | B16: Cubierta | H16: =SUM(F17:F21) -> 1.9241149e+08 | J16: =+#REF!+J17+#REF!+#REF!+J18+#REF!+#REF!+#REF!+#REF!+J21+#REF!+#REF!+#REF!+#REF!+#REF!+#REF!+#REF!+#REF!+#REF! -> #REF! | L16: =+J16*1.15 -> #REF! | N16: =+#REF!+N17+#REF!+#REF!+N18+#REF!+#REF!+#REF!+#REF!+N21+#REF!+#REF!+#REF!+#REF!+#REF!+#REF!+#REF! -> #REF! | Q16: =+N16*1.15 -> #REF!
A17: 2.1 | B17: Suministro e instalacion de teja UPVC de 2.5 mm blanc/blanco | C17: M2 | D17: 872 | E17: 126980.7 | F17: =E17*D17 -> 1.1072717e+08 | I17: 3876.49 | J17: =E17*I17 -> 4.9223941e+08 | M17: 6198.8 | N17: =M17*E17 -> 7.8712796e+08
A18: 2.3 | B18: Suministro de instalacion de Caballete en UPVC blanco | C18: ML | D18: =42+16 -> 58 | E18: 113299.72 | F18: =E18*D18 -> 6571384 | I18: 120.78 | J18: =E18*I18 -> 13684341 | M18: 135.23 | N18: =M18*E18 -> 15321522
A19: 2.4 | B19: Suministro e instalacion de canal metalica Cal. 20 desarrollo 0.60 mts. Pintada con anticorrosivo y esmalte de acabado. | C19: ML | D19: =42*2+16*2+66+27 -> 209 | E19: 149428.12 | F19: =E19*D19 -> 31230478
A20: 2.5 | B20: Cubierta tipo cortasol en teja upvc de 2.5 mm | C20: ML | D20: =40+26 -> 66 | E20: 438322.5 | F20: =E20*D20 -> 28929285
A21: 2.6 | B21: Suministro e instalacion de Tubería PVC sanitaria aguas lluvias D:4" | C21: ML | D21: =8*6.8*2+15*10 -> 258.8 | E21: 57778.875 | F21: =E21*D21 -> 14953173 | I21: 1531 | J21: =E21*I21 -> 88459458 | M21: 1630.2 | N21: =M21*E21 -> 94191122
A23: 3 | B23: Instalaciones electricas | H23: =SUM(F24:F31) -> 56871680
A24: 3.1 | B24: Salida alumbrado en tuberia EMT de 3/4 y cable 3*12 | C24: UN | D24: =10*9+20 -> 110 | E24: 193393.2 | F24: =D24*E24 -> 21273252
A25: 3.2 | B25: Salida tomacorriente en tuberia EMT de 3/4 y cable 3*12 | C25: UN | D25: 30 | E25: 189275.62 | F25: =D25*E25 -> 5678268.8
A26: 3.3 | B26: Salida interruptor sencillo en tuberia EMT de 3/4 y cable 3*12 | C26: UN | D26: 10 | E26: 174000.75 | F26: =D26*E26 -> 1740007.5
A27: 3.4 | B27: Acometida parcial en tuberia EMT de 3/4 y 3 cable No, 12 | C27: ML | D27: 145 | E27: 49809.375 | F27: =D27*E27 -> 7222359.4
A28: 3.5 | B28: Suministro e instalacion de tablero electrico de 18 circuitos bifasico | C28: UN | D28: 1 | E28: 923133.75 | F28: =D28*E28 -> 923133.75
A29: 3.6 | B29: Suministro e instalacion de tablero electrico de 4 circuitos monofasico | C29: UN | D29: 1 | E29: 245726.25 | F29: =D29*E29 -> 245726.25
A30: 3.7 | B30: Acometida general en tuberia PVC 1" y 4 cable No. 8 | C30: ML | D30: 45 | E30: 64420.125 | F30: =D30*E30 -> 2898905.6
A31: 3.8 | B31: Suministro e instalacion de lampara led de 2*18 hermetica | C31: UN | D31: =+D24 -> 110 | E31: 153545.7 | F31: =D31*E31 -> 16890027
A33: 4 | B33: Instalaciones hidrosanitarias | H33: =SUM(F34:F39) -> 47631045
A34: 4.1 | B34: Adecuacion de instalaciones hidraulicas existentes | C34: UN | D34: 1 | E34: 3121387.5 | F34: =+E34*D34 -> 3121387.5
A35: 4.2 | B35: Revision y mejoramiento de las instalaciones sanitarias | C35: UN | D35: 1 | E35: 3785512.5 | F35: =+E35*D35 -> 3785512.5
A36: 4.3 | B36: Construccion de estructura de tanque elevada | C36: UN | D36: 1 | E36: 14026320 | F36: =+E36*D36 -> 14026320
A37: 4.4 | B37: Suministro e instalacion de tanques de 2000 lts. | C37: UN | D37: 2 | E37: 2590087.5 | F37: =+E37*D37 -> 5180175
A38: 4.5 | B38: Suministro e instalacion de bomba de agua de 1 HP | C38: UN | D38: 2 | E38: 2457262.5 | F38: =+E38*D38 -> 4914525
A39: 4.6 | B39: Construccion de tanque enterrado | C39: UN | D39: 1 | E39: 16603125 | F39: =+E39*D39 -> 16603125
A41: 5 | B41: Pisos | H41: =SUM(F42:F49) -> 4.9491692e+08
A42: 5.1 | B42: Afinado en mortero de E=0.05 mts. | C42: M2 | D42: =1293*1.05 -> 1357.65 | E42: 41839.875 | F42: =+E42*D42 -> 56803906
A43: 5.2 | B43: Suministro e instalacion en tableta de gres tipo sahara o similar de 30*30 dilatada en mortero de 1 cms. | C43: M2 | D43: =1293*1.05 -> 1357.65 | E43: 168023.62 | F43: =+E43*D43 -> 2.2811727e+08
A44: 5.3 | B44: Guardaescoba en tableta de gres de 0.07 mts. Dilatada con mortero de 1 cms. | C44: ML | D44: =(102*2+140+176+220)*1.05 -> 777 | E44: 33339.075 | F44: =+E44*D44 -> 25904461
A45: 5.4 | B45: Bordillo en concreto andenes de 0.15*0.30 con acero de refuerzo concreto de 3000 psi. | C45: ML | D45: =32+1.2+1.2+9+1.2+1.2+39+1.2+1.2+71+1.2*2+9+1.2*2+16+1.2*2 -> 190.4 | E45: 105463.05 | F45: =+E45*D45 -> 20080165
A46: 5.5 | B46: Cañuela en concreto 175 kg/cm² (2.500 psi) | C46: ML | D46: =32+1.2+1.2+9+1.2+1.2+39+1.2+1.2+71+1.2*2+9+1.2*2+16+1.2*2 -> 190.4 | E46: 118878.38 | F46: =+E46*D46 -> 22634443
...

Sheet MEJORAMIENTO molana
A1: PRESUPUESTO DE OBRA
A3: OBRA: INSTITUCION EDUCATIVA SEDE LA MOLANA
A4: MUNICIPIO: CONDOTO-CHOCO
A5: Ítem | B5: Descripción | C5: Unidad | D5: Cantidad | E5: Valor unitario | F5: Valor parcial | H5: Valor total | I5: EL VIRREY | J5: Vr/parcial | M5: CHICÓ | N5: Vr/parcial
A7: 1 | B7: Preliminares | H7: =SUM(F8:F14) -> 22079294 | J7: =+J8+#REF!+#REF!+#REF! -> #REF! | L7: =+J7*1.15 -> #REF! | N7: =+N8+#REF!+#REF!+#REF! -> #REF! | Q7: =+N7*1.15 -> #REF!
A8: 1.1 | B8: Retiro de teja existente metalica | C8: M2 | D8: 420 | E8: 13837.588 | F8: =E8*D8 -> 5811786.9 | I8: 1291.81 | J8: =E8*I8 -> 17875534 | M8: 1377.51 | N8: =E8*M8 -> 19061416
A9: 1.2 | B9: Retiro de cieloraso existente y estructura de cubierta | C9: M2 | D9: 114 | E9: 33737.357 | F9: =E9*D9 -> 3846058.7
A10: 1.3 | B10: Retiro de instalaciones electricas existentes | C10: UND | D10: 1 | E10: 1251972.2 | F10: =E10*D10 -> 1251972.2
A11: 1.4 | B11: Demolicion de muros y vigas existentes y retiros | C11: M2 | D11: 15 | E11: 46916.012 | F11: =E11*D11 -> 703740.18
A12: 1.5 | B12: Desmonte de puertas metalicas | C12: UND | D12: 2 | E12: 33473.784 | F12: =E12*D12 -> 66947.567
A13: 1.6 | B13: Desmonte de ventanas metalica | C13: UND | D13: 4 | E13: 25698.377 | F13: =E13*D13 -> 102793.51
A14: 1.7 | B14: Demolicion de edificacion existente | C14: UND | D14: 1 | E14: 10295995 | F14: =E14*D14 -> 10295995
A16: 2 | B16: Cubierta | H16: =SUM(F17:F22) -> 1.4250238e+08 | J16: =+#REF!+J17+#REF!+#REF!+J19+#REF!+#REF!+#REF!+#REF!+J22+#REF!+#REF!+#REF!+#REF!+#REF!+#REF!+#REF!+#REF!+#REF! -> #REF! | L16: =+J16*1.15 -> #REF! | N16: =+#REF!+N17+#REF!+#REF!+N19+#REF!+#REF!+#REF!+#REF!+N22+#REF!+#REF!+#REF!+#REF!+#REF!+#REF!+#REF! -> #REF! | Q16: =+N16*1.15 -> #REF!
A17: 2.1 | B17: Suministro e instalacion de teja UPVC de 2.5 mm blanc/blanco | C17: M2 | D17: 420 | E17: 139957.32 | F17: =E17*D17 -> 58782073 | I17: 3876.49 | J17: =E17*I17 -> 5.4254314e+08 | M17: 6198.8 | N17: =M17*E17 -> 8.6756741e+08
A18: 2.2 | B18: Suministroe e instalacion de perfil 150*50*2 mm pintado con anticorrosivo y esmalte de acabado. | C18: ML | D18: =10*14 -> 140 | E18: 63916.477 | F18: =E18*D18 -> 8948306.7
A19: 2.3 | B19: Suministro de instalacion de Caballete en UPVC blanco | C19: ML | D19: =14+30 -> 44 | E19: 117685.39 | F19: =E19*D19 -> 5178157.1 | I19: 120.78 | J19: =E19*I19 -> 14214041 | M19: 135.23 | N19: =M19*E19 -> 15914595
A20: 2.4 | B20: Suministro e instalacion de canal metalica Cal. 20 desarrollo 0.60 mts. Pintada con anticorrosivo y esmalte de acabado. | C20: ML | D20: =30*2+14*2 -> 88 | E20: 154849.2 | F20: =E20*D20 -> 13626729
A21: 2.5 | B21: Cieloraso en pvc | C21: M2 | D21: 260 | E21: 192144.79 | F21: =E21*D21 -> 49957645
A22: 2.6 | B22: Suministro e instalacion de Tubería PVC sanitaria aguas lluvias D:4" | C22: ML | D22: =16*6 -> 96 | E22: 62598.611 | F22: =E22*D22 -> 6009466.7 | I22: 1531 | J22: =E22*I22 -> 95838474 | M22: 1630.2 | N22: =M22*E22 -> 1.0204826e+08
A24: 3 | B24: Instalaciones electricas | H24: =SUM(F25:F32) -> 44642826
A25: 3.1 | B25: Salida alumbrado en tuberia EMT de 3/4 y cable 3*12 | C25: UN | D25: =6*9+12 -> 66 | E25: 205059.87 | F25: =D25*E25 -> 13533952
A26: 3.2 | B26: Salida tomacorriente en tuberia EMT de 3/4 y cable 3*12 | C26: UN | D26: =6*3 -> 18 | E26: 200974.49 | F26: =D26*E26 -> 3617540.8
A27: 3.3 | B27: Salida interruptor sencillo en tuberia EMT de 3/4 y cable 3*12 | C27: UN | D27: 10 | E27: 185819.04 | F27: =D27*E27 -> 1858190.4
A28: 3.4 | B28: Acometida parcial en tuberia EMT de 3/4 y 3 cable No, 12 | C28: ML | D28: 95 | E28: 57327.149 | F28: =D28*E28 -> 5446079.2
A29: 3.5 | B29: Suministro e instalacion de tablero electrico de 12 circuitos bifasico | C29: UN | D29: 1 | E29: 784129.97 | F29: =D29*E29 -> 784129.97
A30: 3.6 | B30: Suministro e instalacion de tablero electrico de 6 circuitos monofasico | C30: UN | D30: 1 | E30: 243805.12 | F30: =D30*E30 -> 243805.12
A31: 3.7 | B31: Acometida general en tuberia PVC 1" y 4 cable No. 8 | C31: ML | D31: 48 | E31: 63916.477 | F31: =D31*E31 -> 3067990.9
A32: 3.8 | B32: Suministro e instalacion de lampara led de 40 watios | C32: UN | D32: =+D25 -> 66 | E32: 243805.12 | F32: =D32*E32 -> 16091138
A34: 4 | B34: Instalaciones hidrosanitarias | H34: =SUM(F35:F40) -> 27314977
A35: 4.1 | B35: Adecuacion de instalaciones hidraulicas existentes | C35: UN | D35: 1 | E35: 3096983.9 | F35: =+E35*D35 -> 3096983.9
A36: 4.2 | B36: Construccion de estructura de tanque elevada | C36: UN | D36: 1 | E36: 12598794 | F36: =+E36*D36 -> 12598794
A37: 4.3 | B37: Suministro e instalacion de tanques de 2000 lts. | C37: UN | D37: 2 | E37: 2569837.7 | F37: =+E37*D37 -> 5139675.5
A38: 4.4 | B38: Placa de contrapiso escobiada de 3000 psi de E=0.15 mts. | C38: M2 | D38: =2*3 -> 6 | E38: 195703.03 | F38: =+E38*D38 -> 1174218.2
A39: 4.5 | B39: Malla electrosoldada de 7,5 * 7,5 mm (M 295) | C39: KG | D39: =+D38*4.72 -> 28.32 | E39: 15155.453 | F39: =+E39*D39 -> 429202.44
A40: 4.6 | B40: Suministro e instalacion de bomba de agua de 1 HP | C40: UN | D40: 2 | E40: 2438051.2 | F40: =+E40*D40 -> 4876102.3
A42: 5 | B42: Pisos | H42: =SUM(F43:F49) -> 1.3444362e+08
A43: 5.1 | B43: Afinado en mortero de E=0.05 mts. | C43: M2 | D43: 457 | E43: 45466.36 | F43: =+E43*D43 -> 20778126
A44: 5.2 | B44: Suministro e instalacion en tableta de gres tipo sahara o similar de 30*30 dilatada en mortero de 1 cms. | C44: M2 | D44: 457 | E44: 170663.58 | F44: =+E44*D44 -> 77993257
A45: 5.3 | B45: Guardaescoba en tableta de gres de 0.07 mts. Dilatada con mortero de 1 cms. | C45: ML | D45: 165 | E45: 35714.155 | F45: =+E45*D45 -> 5892835.6
A46: 5.4 | B46: Relleno de material, recebo compactado | C46: M3 | D46: =91*0.7 -> 63.7 | E46: 117685.39 | F46: =+E46*D46 -> 7496559.3
...

Sheet  OBRAS NUEVAS condoto
A1: PRESUPUESTO DE OBRA
A3: OBRA: INSTITUCION EDUCATIVA MARIA AUXILIADORA SEDE PRINCIPAL
A4: MUNICIPIO: CONDOTO-CHOCO
A5: Ítem | B5: Descripción | C5: Unidad | D5: Cantidad | E5: Valor unitario | F5: Valor parcial | H5: Valor total | I5: EL VIRREY | J5: Vr/parcial | M5: CHICÓ | N5: Vr/parcial
A7: 1 | B7: COSTOS DE CONSTRUCCION | H7: =SUM(F8:F9) -> 687750000 | J7: =+J9+#REF!+#REF!+#REF! -> #REF! | L7: =+J7*1.15 -> #REF! | N7: =+N9+#REF!+#REF!+#REF! -> #REF! | Q7: =+N7*1.15 -> #REF!
A8: 1.1 | B8: Construccion a todo costo de aulas (3 und) según norma 4595 actualizada | C8: M2 | D8: 225 | E8: 2980000 | F8: =E8*D8 -> 670500000
A9: 1.2 | B9: Construccion de unidad tecnica de basura (UTB) | C9: M2 | D9: =2.5*2.5 -> 6.25 | E9: 2760000 | F9: =E9*D9 -> 17250000 | I9: 1291.81 | J9: =E9*I9 -> 3565395600 | M9: 1377.51 | N9: =E9*M9 -> 3801927600
B12: Costo directo | H12: =SUM(H7:H11) -> 687750000
E14: Administración | F14: 0.25 | H14: =H12*F14 -> 171937500
E15: Utilidad | F15: 0.05 | H15: =H12*F15 -> 34387500
E16: Subtotal AIU | F16: =SUM(F14:F15) -> 0.3 | H16: =SUM(H14:H15) -> 206325000
B18: Total | H18: =H12+H16 -> 894075000
I21: M2 construidos
I22: precio/M2 sobre coste directo
I23: Límite Valor Vivienda
I24: precio/M2
I26: Diferencia

Sheet OBRAS NUEVAS molana
A1: PRESUPUESTO DE OBRA
A3: OBRA: INSTITUCION EDUCATIVA LA MOLANA
A4: MUNICIPIO: CONDOTO-CHOCO
A5: Ítem | B5: Descripción | C5: Unidad | D5: Cantidad | E5: Valor unitario | F5: Valor parcial | H5: Valor total | I5: EL VIRREY | J5: Vr/parcial | M5: CHICÓ | N5: Vr/parcial
A7: 1 | B7: COSTOS DE CONSTRUCCION | H7: =SUM(F8:F9) -> 306900000 | J7: =+J9+#REF!+#REF!+#REF! -> #REF! | L7: =+J7*1.15 -> #REF! | N7: =+N9+#REF!+#REF!+#REF! -> #REF! | Q7: =+N7*1.15 -> #REF!
A8: 1.1 | B8: Construccion a todo comedor escolar | C8: M2 | D8: =5*18 -> 90 | E8: 3410000 | F8: =E8*D8 -> 306900000
I9: 1291.81 | J9: =E9*I9 -> 0 | M9: 1377.51 | N9: =E9*M9 -> 0
B12: Costo directo | H12: =SUM(H7:H11) -> 306900000
E14: Administración | F14: 0.25 | H14: =H12*F14 -> 76725000
E15: Utilidad | F15: 0.05 | H15: =H12*F15 -> 15345000
E16: Subtotal AIU | F16: =SUM(F14:F15) -> 0.3 | H16: =SUM(H14:H15) -> 92070000
B18: Total | H18: =H12+H16 -> 398970000
I21: M2 construidos
I22: precio/M2 sobre coste directo
I23: Límite Valor Vivienda
I24: precio/M2
I26: Diferencia
