Workbook
Name \a: #REF!
Name \b: '[1]CUAD-DIURNA'!#REF!
Name \c: #REF!
Name \c: #REF!
Name \m: #REF!
Name \m: #REF!
Name \q: #REF!
Name \q: #REF!
Name \w: #N/A
Name \z: #REF!
Name _: #N/A
Name _________APU221: #REF!
Name _________PJ50: #REF!
Name _________pj51: #REF!
Name _________Rc: #REF!
Name ________APU221: #REF!
Name ________APU465: [2]!absc
Name ________APU465: [2]!absc
Name ________APU465: [2]!absc
Name ________PJ50: #REF!
Name ________pj51: #REF!
Name ________rc: #REF!
Name _______APU221: #REF!
Name _______APU465: [2]!absc
Name _______APU465: [2]!absc
Name _______APU465: [2]!absc
Name _______PJ50: #REF!
Name _______pj51: #REF!
Name _______rc: #REF!
Name ______APU221: #REF!
Name ______APU465: [2]!absc
Name ______APU465: [2]!absc
Name ______APU465: [2]!absc
Name ______PJ50: #REF!
Name ______pj51: #REF!
Name ______rc: #REF!
Name _____APU221: #REF!
Name _____APU465: [2]!absc
Name _____APU465: [2]!absc
Name _____APU465: [2]!absc
Name _____PJ50: #REF!
Name _____PJ50: #REF!
Name _____PJ50: #REF!
Name _____PJ50: #REF!
Name _____PJ50: #REF!
Name _____PJ50: #REF!
Name _____pj51: #REF!
Name _____pj51: #REF!
Name _____pj51: #REF!
Name _____pj51: #REF!
Name _____pj51: #REF!
Name _____pj51: #REF!
Name _____rc: #REF!
Name ____APU221: #REF!
Name ____APU465: [2]!absc
Name ____APU465: [2]!absc
Name ____APU465: [2]!absc
Name ____EST10: #REF!
Name ____EST12: #REF!
Name ____EST13: #REF!

Sheet PRESUPUESTO
D2: "MEJORAMIENTO VIAL MEDIANTE LA CONSTRUCCIÓN DE PAVIMENTO RÍGIDO DE LA PRIMERA ETAPA DE LA VÍA QUE COMUNICA A LA VEREDA PONDORES EN EL CORREGIMIENTO DE CONEJO, MUNICIPIO DE FONSECA - DEPARTAMENTO DE LA GUAJIRA."
B4: PRESUPUESTO DE OBRA
B5: FECHA: FEBRERO DE 2024
B7: No. | C7: ITEM | D7: DESCRIPCIÓN | E7: UND | F7: CANTIDAD | G7: PRECIO | H7: TOTAL | L7: TOTAL
B10: 1 | C10: ACTIVIDADES PRELIMINARES
B11: 1,1 | C11: 200.2 | D11: Desmonte y limpieza en zonas no boscosas | E11: HA | F11: =+CANTIDADES!Q23 -> 1 | G11: =ROUND('1,1'!G46,0) -> 1102524 | H11: =F11*G11 -> 1102524
B12: 1,2 | C12: 210.2.2 | D12: Excavaciones en material común de la explanación y canales | E12: M3 | F12: =+CANTIDADES!Q36 -> 1515 | G12: =ROUND('1,2'!G45,0) -> 17805 | H12: =F12*G12 -> 26974575
B13: 1,3 | C13: 900.2 | D13: Transporte de materiales provenientes de la excavación de la explanación, canales y préstamos para distancias mayores de mil metros (1000 m) | E13: M3 | F13: =+CANTIDADES!Q50 -> 1515 | G13: =ROUND('1,3'!G45,0) -> 23660 | H13: =F13*G13 -> 35844900
G14: SUBTOTAL | H14: =SUM(H11:H13) -> 63921999 | O14: =+H14*$O$34+H14 -> 88395455
B16: 2 | C16: PAVIMENTACIÓN EN CONCRETO HIDRAULICO
B17: 2,1 | C17: 220.1 | D17: Terraplenes | E17: M3 | F17: =+CANTIDADES!Q73 -> 142 | G17: =ROUND('2,1'!G47,0) -> 216719 | H17: =F17*G17 -> 30774098
B18: 2,2 | C18: 320.3 | D18: Sub Base Granular tipo C | E18: M3 | F18: =+CANTIDADES!Q87 -> 768 | G18: =ROUND('2,2'!G46,0) -> 251204 | H18: =F18*G18 -> 192924672
B19: 2,3 | C19: 630.3 | D19: Placa de pavimento en concreto hidráulico MR2=4,0 Mpa (40Kg/cm2) | E19: M3 | F19: =+CANTIDADES!Q107 -> 1287 | G19: =ROUND('2,3'!G52,0) -> 1118000 | H19: =F19*G19 -> 1438866000 | L19: 11750854172 | M19: =H19-L19 -> -10311988172
G20: SUBTOTAL | H20: =SUM(H17:H19) -> 1662564770 | J20: =H20*$F$31+H20 -> 2.2991016e+09 | L20: 15092977415 | M20: =H20-L20 -> -13430412645 | N20: =H20*1.3 -> 2161334201 | O20: =+H20*$O$34+H20 -> 2.2991016e+09 | P20: =+O20-H20 -> 6.3653682e+08
B22: 3 | C22: SEÑALIZACION DEFINITIVA
B23: 3,1 | C23: 710.2 | D23: Señal vertical de transito Tipo II (1,2*0,4) con lámina retroreflectiva | E23: UND | F23: =+CANTIDADES!Q187 -> 18 | G23: =ROUND('3,1'!G45,0) -> 592771 | H23: =(F23*G23) -> 10669878 | L23: 19460240 | M23: =H23-L23 -> -8790362
B24: 3,2 | C24: 700.1 | D24: Linea de demarcacion con pintura en frio | E24: M | F24: =+CANTIDADES!Q197 -> 2462 | G24: =ROUND('3,2'!G45,0) -> 1461 | H24: =F24*G24 -> 3596982 | L24: 80833536 | M24: =H24-L24 -> -77236554
B25: 3,3 | C25: 701.1 | D25: Tachas reflectivas | E25: UND | F25: =+CANTIDADES!Q209 -> 142.16667 | G25: =ROUND('3,3'!G45,0) -> 14640 | H25: =F25*G25 -> 2081320
G26: SUBTOTAL | H26: =SUM(H23:H25) -> 16348180 | J26: =H26*$F$31+H26 -> 22607316 | L26: 462737096 | M26: =H26-L26 -> -446388916 | N26: =H26*1.3 -> 21252634 | O26: =+H26*$O$34+H26 -> 22607316
B28: COSTO DIRECTO DE OBRA | H28: =+H14+H20+H26 -> 1742834949 | L28: 33806009672 | M28: =H28-L28 -> -32063174723
B31: COSTO INDIRECTO A.I.U. [ % ] | F31: =AIU!J60 -> 0.38286437 | G31: % | H31: =SUM(H32:H34) -> 667269411 | L31: 10141802902 | M31: =H31-L31 -> -9474533491
B32: ADMINISTRACIÓN | F32: =+AIU!J56 -> 0.32286437 | G32: % | H32: =ROUND(AIU!K56,0) -> 562699315 | L32: 7775382225 | M32: =H32-L32 -> -7212682910
B33: UTILIDAD | F33: =+AIU!J58 -> 0.05 | G33: % | H33: =ROUND(AIU!K58,0) -> 87141747 | L33: 1690300484 | M33: =H33-L33 -> -1603158737
B34: IMPREVISTOS | F34: =+AIU!J57 -> 0.01 | G34: % | H34: =ROUND(AIU!K57,0) -> 17428349 | L34: 676120193 | M34: =H34-L34 -> -658691844 | O34: =+F34+F33+F32 -> 0.38286437
B36: COSTO TOTAL DE OBRA | H36: =+H28+H31 -> 2410104360 | L36: 43947812574 | M36: =H36-L36 -> -41537708214
B38: INTERVENTORIA DEL PROYECTO | H38: =ROUND(INTERVENTORIA!J48,0) -> 249042198 | L38: 1812550880 | M38: =H38-L38 -> -1563508682 | N38: =+H38/H28 -> 0.14289488
B40: PLAN DE ADAPTACION A LA GUIA AMBIENTAL | E40: und | F40: 1 | G40: =+PAGA!J48 -> 79730280 | H40: =ROUND(F40*G40,0) -> 79730280 | L40: 89111500 | M40: =H40-L40 -> -9381220
B41: CARACTERIZACIÓN VIAL | E41: KM | F41: =+'CARACTERIZACION '!G33 -> 0.853 | G41: =+'CARACTERIZACION '!H31 -> 11411999 | H41: =ROUND(F41*G41,0) -> 9734435
B42: PLAN DE MANEJO DE TRANSITO | E42: und | F42: 1 | G42: =+PMT!H18 -> 101909240 | H42: =ROUND(F42*G42,0) -> 101909240 | L42: 79122000 | M42: =H42-L42 -> 22787240
B43: =+SOCIAL!B3 -> SOCIAL | E43: UND | F43: 1 | G43: =+SOCIAL!K30 -> 44636480 | H43: =ROUND(F43*G43,0) -> 44636480
B45: COSTO TOTAL DEL PROYECTO | H45: =+SUM(H36:H43) -> 2895156993 | L45: 45928596954 | M45: =H45-L45 -> -43033439961
B52: JESUS EDUARDO ROBLES SMITH
B53: INGENIERO CIVIL
B54: M.P. 25202-316144 CND

Sheet SOCIAL
B2: =+PRESUPUESTO!D2 -> "MEJORAMIENTO VIAL MEDIANTE LA CONSTRUCCIÓN DE PAVIMENTO RÍGIDO DE LA PRIMERA ETAPA DE LA VÍA QUE COMUNICA A LA VEREDA PONDORES EN EL CORREGIMIENTO DE CONEJO, MUNICIPIO DE FONSECA - DEPARTAMENTO DE LA GUAJIRA."
B3: SOCIAL
D6: Costo directo total | I6: MESES | J6: 3 | K6: =+PRESUPUESTO!H28 -> 1742834949
D8: Costos de administración de obra
D10: Descripción | E10: UNIDAD | F10: CANTIDAD | G10: SUELDO MES | H10: PARTICIPACIÓN | I10: F.P | J10: VALOR UNITARIO | K10: VALOR TOTAL
B12: 1 | C12: Cant | D12: Personal de obra
B13: 1.1 | C13: 1 | D13: =+FP!AI9 -> TRABAJADOR SOCIAL | E13: Mes | F13: =+J6+1 -> 4 | G13: =+FP!AI12 -> 3434120.1 | H13: 1 | I13: =+FP!AJ47 -> 1.7229 | J13: =+FP!AI12 -> 3434120.1 | K13: =+J13*F13*C13 -> 13736480
B19: 2 | D19: actividades
B20: 2.1 | C20: 2 | D20: PERSONAL DE APOYO | E20: MES | F20: 4 | G20: 2300000 | K20: =+G20*F20*C20 -> 18400000
B21: 2.2 | C21: 5 | D21: ACTIVIDADES | E21: GLO | F21: 1 | G21: 2500000 | K21: =+G21*C21 -> 12500000
D23: Total costos
J27: VALOR | K27: =SUM(K13:K22) -> 44636480
D30: Total | K30: =SUM(K26:K29) -> 44636480

Sheet AIU
B2: =+PRESUPUESTO!D2 -> "MEJORAMIENTO VIAL MEDIANTE LA CONSTRUCCIÓN DE PAVIMENTO RÍGIDO DE LA PRIMERA ETAPA DE LA VÍA QUE COMUNICA A LA VEREDA PONDORES EN EL CORREGIMIENTO DE CONEJO, MUNICIPIO DE FONSECA - DEPARTAMENTO DE LA GUAJIRA."
B3: AIU
D6: Costo directo total | I6: MESES | J6: 3 | K6: =+PRESUPUESTO!H28 -> 1742834949
D8: Costos de administración de obra
D10: Descripción | E10: UNIDAD | F10: CANTIDAD | G10: SUELDO MES | H10: PARTICIPACIÓN | I10: F.P | J10: VALOR UNITARIO | K10: VALOR TOTAL
B12: 1 | C12: Cant | D12: Personal de obra
B13: 1.1 | C13: 1 | D13: Director de obra | E13: Mes | F13: =+J6+1 -> 4 | G13: =+FP!C12 -> 6174985 | H13: 0.5 | I13: =+FP!D47 -> 1.6529 | J13: =+G13*H13*I13 -> 5103316.4 | K13: =+J13*F13*C13 -> 20413265
B14: 1.2 | C14: 1 | D14: Residente de obra | E14: Mes | F14: =+$J$6 -> 3 | G14: =+FP!G12 -> 3434120.1 | H14: 1 | I14: =+FP!H47 -> 1.7229 | J14: =+G14*H14*I14 -> 5916645.5 | K14: =+J14*F14*C14 -> 17749937
B15: 1.3 | C15: 1 | D15: Almacenista | E15: Mes | F15: =+$J$6 -> 3 | G15: =+FP!AC12 -> 1300000 | H15: 1 | I15: =+FP!AD47 -> 1.8304 | J15: =+G15*H15*I15 -> 2379520 | K15: =+J15*F15*C15 -> 7138560
B16: 1.4 | C16: 1 | D16: Vigilante | E16: Mes | F16: =+$J$6 -> 3 | G16: =+FP!AA12 -> 1300000 | H16: 1 | I16: =+FP!AB47 -> 1.8704 | J16: =+G16*H16*I16 -> 2431520 | K16: =+J16*F16*C16 -> 7294560
B17: 1.5 | C17: 1 | D17: Contador | E17: Mes | F17: =+$J$6 -> 3 | G17: =+FP!M12 -> 3737870.8 | H17: 0.25 | I17: =+FP!N47 -> 1.6329 | J17: =+G17*H17*I17 -> 1525892.3 | K17: =+J17*F17*C17 -> 4577677
B18: 1.6 | C18: 1 | D18: Secretaria | E18: Mes | F18: =+$J$6 -> 3 | G18: =+FP!AG12 -> 1388166.7 | H18: 1 | I18: =+FP!AH47 -> 1.7616 | J18: =+G18*H18*I18 -> 2445394.4 | K18: =+J18*F18*C18 -> 7336183.2
B19: 1.7 | C19: 1 | D19: Maestro de Obra | E19: Mes | F19: =+$J$6 -> 3 | G19: =+FP!Q12 -> 2314516.8 | H19: 1 | I19: =+FP!R47 -> 1.8467 | J19: =+G19*H19*I19 -> 4274218.3 | K19: =+J19*F19*C19 -> 12822655
B20: 1.8 | C20: 1 | D20: Topógrafo | E20: Mes | F20: =+$J$6 -> 3 | G20: =+FP!W12 -> 1634033.3 | H20: 1 | I20: =+FP!X47 -> 1.8815 | J20: =+G20*H20*I20 -> 3074433.7 | K20: =+J20*F20*C20 -> 9223301.1
B21: 1.9 | C21: 1 | D21: Cadenero | E21: Mes | F21: =+$J$6 -> 3 | G21: =+FP!Y12 -> 1300000 | H21: 1 | I21: =+FP!Z47 -> 1.7775 | J21: =+G21*H21*I21 -> 2310750 | K21: =+J21*F21*C21 -> 6932250
B22: 1.10 | C22: 1 | D22: Ingeniero Especialista en Geotecnia | E22: Mes | F22: =+$J$6 -> 3 | G22: =+FP!S12 -> 5671970 | H22: 0.25 | I22: =+I13 -> 1.6529 | J22: =+G22*H22*I22 -> 2343799.8 | K22: =+J22*F22*C22 -> 7031399.4
D23: Total de personal | K23: =+SUM(K13:K22) -> 1.0051979e+08
B25: 2 | D25: Costos de servicios públicos
B26: 2.1 | D26: Servicio de Energía | E26: Mes | F26: =$J$6 -> 3 | J26: 250000 | K26: =F26*J26 -> 750000
B27: 2.2 | D27: Servicio de Agua | E27: Mes | F27: =$J$6 -> 3 | J27: 250000 | K27: =F27*J27 -> 750000
B28: 2.3 | D28: Servicio de Internet | E28: Mes | F28: =$J$6 -> 3 | J28: 250000 | K28: =F28*J28 -> 750000
D29: Total costos de servicios públicos | K29: =SUM(K26:K28) -> 2250000
B31: 3 | D31: Costos de dotación campamento e instalaciones provisionales
B32: 3.1 | D32: Alquiler Campamento tipo bodega (22 m²) | E32: Mes | F32: =$J$6 -> 3 | J32: 1322331 | K32: =F32*J32 -> 3966993.1
D33: Total costos de dotación campamento | K33: =SUM(K32:K32) -> 3966993.1
B35: 4 | D35: Otros gastos generales
B36: 4.1 | D36: Ensayos de laboratorios de control de calidad | E36: Mes | F36: 1 | J36: =+ENSAYOS!I55 -> 86868482 | K36: =F36*J36 -> 86868482
B37: 4.2 | D37: Planos, copia planos y fotocopias en obra | E37: Mes | F37: 1 | J37: 241237.73 | K37: =F37*J37 -> 241237.73
B38: 4.3 | D38: Valla informativa 6*3 | E38: un | F38: 1 | J38: 3500000 | K38: =F38*J38 -> 3500000
B39: 4.4 | D39: Alquiler equipo de topografia (estacion total) | E39: Mes | F39: =$J$6 -> 3 | J39: 1500000 | K39: =F39*J39 -> 4500000
B40: 4.5 | D40: Aquiler de campero 4x4 cilindraje 3000 cm3 (incluye conductor y combustible) | E40: Mes | F40: =$J$6 -> 3 | J40: 7000000 | K40: =F40*J40 -> 21000000
D42: Total otros - gastos generales | K42: =SUM(K36:K41) -> 1.1610972e+08
B44: 5 | D44: Costos de legalización del contrato | J44: =SUM(J46:J54) -> 0.195 | K44: =+J44*K6 -> 3.3985282e+08
D46: ESTAMPILLA PROCULTURA | J46: =0.015 -> 0.015 | K46: =+J46*$K$6 -> 26142524
D47: ESTAMPILLA ADULTO MAYOR | J47: =0.04 -> 0.04 | K47: =+J47*$K$6 -> 69713398
D48: ESTAMPILLA PRO UNIVERSIDAD | J48: =0.02 -> 0.02 | K48: =+J48*$K$6 -> 34856699
D49: ESTAMPILLA PRO DESARROLLO DEPARTAMENTAL | J49: =0.02 -> 0.02 | K49: =+J49*$K$6 -> 34856699
D50: ESTAMPILLA PRO DESARROLLO FRONTERIZO | J50: =0.02 -> 0.02 | K50: =+J50*$K$6 -> 34856699
D51: TASA PRO DEPORTE Y RECREACIÓN | J51: =0.015 -> 0.015 | K51: =+J51*$K$6 -> 26142524
D52: ESTAMPILLA PARA LA JUSTICIA FAMILIAR | J52: 0.02 | K52: =J52*K6 -> 34856699
...

Sheet CRONOGRAMA Y FC
B2: =+PRESUPUESTO!D2 -> "MEJORAMIENTO VIAL MEDIANTE LA CONSTRUCCIÓN DE PAVIMENTO RÍGIDO DE LA PRIMERA ETAPA DE LA VÍA QUE COMUNICA A LA VEREDA PONDORES EN EL CORREGIMIENTO DE CONEJO, MUNICIPIO DE FONSECA - DEPARTAMENTO DE LA GUAJIRA."
B3: PLANIFICACION FINANCIERA Y CRONOGRAMA
B5: ITEM | C5: CAPITULOS | D5: VALOR PROGRAMADO TOTAL | E5: PROGRAMACION MENSUAL
E6: MES 1 | F6: MES 2 | G6: MES 3 | H6: MES 4 | I6: MES 5 | J6: MES 6 | K6: MES 7 | L6: MES 8
C7: ETAPA PRECONTRACTUAL
B8: =+PRESUPUESTO!B10 -> 1 | C8: OBRAS PRELIMINARES | D8: =+PRESUPUESTO!H14 -> 63921999
B9: =+PRESUPUESTO!B11 -> 1,1 | C9: =+PRESUPUESTO!D11 -> Desmonte y limpieza en zonas no boscosas | D9: =+PRESUPUESTO!H11 -> 1102524 | H9: =+$D$9/1 -> 1102524
B10: =+PRESUPUESTO!B12 -> 1,2 | C10: =+PRESUPUESTO!D12 -> Excavaciones en material común de la explanación y canales | D10: =+PRESUPUESTO!H12 -> 26974575 | H10: =$D$10/1 -> 26974575
B11: =+PRESUPUESTO!B13 -> 1,3 | C11: =+PRESUPUESTO!D13 -> Transporte de materiales provenientes de la excavación de la explanación, canales y préstamos para distancias mayores de mil metros (1000 m) | D11: =+PRESUPUESTO!H13 -> 35844900 | H11: =$D$11/1 -> 35844900
B12: =+PRESUPUESTO!B16 -> 2 | C12: =+PRESUPUESTO!C16 -> PAVIMENTACIÓN EN CONCRETO HIDRAULICO | D12: =+PRESUPUESTO!H20 -> 1662564770
B13: =+PRESUPUESTO!B17 -> 2,1 | C13: =+PRESUPUESTO!D17 -> Terraplenes | D13: =+PRESUPUESTO!H17 -> 30774098 | H13: =D13/1 -> 30774098
B14: =+PRESUPUESTO!B18 -> 2,2 | C14: =+PRESUPUESTO!D18 -> Sub Base Granular tipo C | D14: =+PRESUPUESTO!H18 -> 192924672 | H14: =D14/2 -> 96462336 | I14: =D14/2 -> 96462336
B15: =+PRESUPUESTO!B19 -> 2,3 | C15: =+PRESUPUESTO!D19 -> Placa de pavimento en concreto hidráulico MR2=4,0 Mpa (40Kg/cm2) | D15: =+PRESUPUESTO!H19 -> 1438866000 | H15: =D15/2 -> 719433000 | I15: =D15/2 -> 719433000
B16: =+PRESUPUESTO!B22 -> 3 | C16: =+PRESUPUESTO!C22 -> SEÑALIZACION DEFINITIVA | D16: =+PRESUPUESTO!H26 -> 16348180
B17: =+PRESUPUESTO!B23 -> 3,1 | C17: =PRESUPUESTO!D23 -> Señal vertical de transito Tipo II (1,2*0,4) con lámina retroreflectiva | D17: =+PRESUPUESTO!H23 -> 10669878 | I17: =D17/1 -> 10669878
B18: =+PRESUPUESTO!B24 -> 3,2 | C18: =PRESUPUESTO!D24 -> Linea de demarcacion con pintura en frio | D18: =+PRESUPUESTO!H24 -> 3596982 | I18: =D18/1 -> 3596982
B19: =+PRESUPUESTO!B25 -> 3,3 | C19: =PRESUPUESTO!D25 -> Tachas reflectivas | D19: =+PRESUPUESTO!H25 -> 2081320 | I19: =D19/1 -> 2081320
C20: CIERRE FINANCIERO
C22: SUBTOTAL AIU | D22: =PRESUPUESTO!H31 -> 667269411 | H22: =+$D$22/2 -> 3.3363471e+08 | I22: =+$D$22/2 -> 3.3363471e+08
C24: TOTAL COSTOS DIRECTOS INCLUIDO AIU | D24: =+PRESUPUESTO!H36 -> 2410104360 | H24: =+SUM(H7:H22) -> 1.2442261e+09 | I24: =+SUM(I7:I22) -> 1.1658782e+09 | J24: =+SUM(J7:J22) -> 0 | K24: =+SUM(K7:K22) -> 0 | L24: =+SUM(L7:L22) -> 0
C25: INTERVENTORIA | D25: =+PRESUPUESTO!H38 -> 249042198 | H25: =+$D$25/2 -> 124521099 | I25: =+$D$25/2 -> 124521099
C26: PAGA | D26: =+PRESUPUESTO!H40 -> 79730280 | H26: =+$D$26/2 -> 39865140 | I26: =+$D$26/2 -> 39865140
C27: =+PRESUPUESTO!B41 -> CARACTERIZACIÓN VIAL | D27: =+PRESUPUESTO!H41 -> 9734435 | J27: =D27/1 -> 9734435
C28: PMT | D28: =+PRESUPUESTO!H42 -> 101909240 | H28: =+$D$28/2 -> 50954620 | I28: =+$D$28/2 -> 50954620
H29: =+$D$29/4 -> 0 | I29: =+$D$29/4 -> 0 | J29: =+$D$29/4 -> 0 | K29: =+$D$29/4 -> 0
C31: TOTAL PROYECTO | D31: =+PRESUPUESTO!H45 -> 2895156993 | E31: =SUM(E24:E29) -> 0 | F31: =SUM(F24:F29) -> 0 | G31: =SUM(G24:G29) -> 0 | H31: =SUM(H24:H29) -> 1.459567e+09 | I31: =SUM(I24:I29) -> 1.3812191e+09 | J31: =SUM(J24:J29) -> 9734435 | K31: =SUM(K24:K29) -> 0 | L31: =SUM(L24:L29) -> 0
B42: =+PRESUPUESTO!B52 -> JESUS EDUARDO ROBLES SMITH
B43: =+PRESUPUESTO!B53 -> INGENIERO CIVIL
B44: =+PRESUPUESTO!B54 -> M.P. 25202-316144 CND

Sheet CANTIDADES
B2: OBJETO | C2: =+PRESUPUESTO!D2 -> "MEJORAMIENTO VIAL MEDIANTE LA CONSTRUCCIÓN DE PAVIMENTO RÍGIDO DE LA PRIMERA ETAPA DE LA VÍA QUE COMUNICA A LA VEREDA PONDORES EN EL CORREGIMIENTO DE CONEJO, MUNICIPIO DE FONSECA - DEPARTAMENTO DE LA GUAJIRA."
B4: SECTOR | C4: TRAMO | D4: ABS INICIAL | E4: ABS FINAL | F4: LONGITUD
B6: FONSECA | C6: TRAMO 1 | D6: K0+000 | E6: K0+853 | F6: 853
E10: LONGITUD TOTAL (m) | F10: =+SUM(F6) -> 853 | H10: Ancho Pavimento | I10: =6 -> 6
B14: ITEM No | D14: =+PRESUPUESTO!C11 -> 200.2
B15: DESCRIPCION | D15: =+PRESUPUESTO!D11 -> Desmonte y limpieza en zonas no boscosas
B16: UNIDAD | D16: =+PRESUPUESTO!E11 -> HA
B18: DESCRIPCION | K18: LONGITUD | L18: ANCHO | M18: AREA | N18: # ELEMENTOS | Q18: CANTIDAD TOTAL
B19: TRAMO 1 | K19: =+F10 -> 853 | L19: =3 -> 3 | M19: =+K19*L19 -> 2559 | N19: =2 -> 2 | Q19: =+M19*N19 -> 5118
O22: TOTAL | Q22: =SUM(Q19:Q21) -> 5118
B23: TOTAL | Q23: =ROUND(Q22/10000,0) -> 1
B27: ITEM No | D27: =+PRESUPUESTO!C12 -> 210.2.2
B28: DESCRIPCION | D28: =+PRESUPUESTO!D12 -> Excavaciones en material común de la explanación y canales
B29: UNIDAD | D29: =+PRESUPUESTO!E12 -> M3
B31: DESCRIPCION | O31: RESULTADOS DE CORTE Y RELLENO | Q31: CANTIDAD TOTAL
B32: EXCAVACIÓN PROVENIENTE DE CORTES DEL TRAMO 1 | O32: ='CORTE Y RELL'!E91 -> 1515.41 | Q32: =+O32 -> 1515.41
B34: NOTA: CANTIDADES OBTENIDAS DE CARTERA DE CORTE Y RELLENO DISEÑO GEOMETRICO
B36: TOTAL | Q36: =ROUND(SUM(Q32:Q34),0) -> 1515
B41: ITEM No | D41: =+PRESUPUESTO!C13 -> 900.2
B42: DESCRIPCION | D42: =+PRESUPUESTO!D13 -> Transporte de materiales provenientes de la excavación de la explanación, canales y préstamos para distancias mayores de mil metros (1000 m)
B43: UNIDAD | D43: =+PRESUPUESTO!E13 -> M3
B45: DESCRIPCION | N45: Volumen (m3) | Q45: CANTIDAD TOTAL
B46: MATERIAL PROVENIENTE DE LA EXCAVACIÓN TRAMO 1 | N46: ='CORTE Y RELL'!E91 -> 1515.41 | Q46: =+N46 -> 1515.41
B48: NOTA: CANTIDADES OBTENIDAS DE CARTERA DE CORTE Y RELLENO DISEÑO GEOMETRICO
B50: TOTAL | Q50: =ROUND(SUM(Q46:Q46),0) -> 1515
B54: ITEM No | D54: =+PRESUPUESTO!C17 -> 220.1
B55: DESCRIPCION | D55: =+PRESUPUESTO!D17 -> Terraplenes
B56: UNIDAD | D56: =+PRESUPUESTO!E17 -> M3
B58: DESCRIPCION | N58: VOLUMEN | Q58: CANTIDAD TOTAL
B59: VOLUMEN PRODUCTO DEL RELLENO DEL TRAMO 1 | N59: ='CORTE Y RELL'!D91 -> 14.48 | Q59: =+N59 -> 14.48
N60: ='CORTE Y RELL'!D92 -> 127.95 | Q60: =N60 -> 127.95
B71: NOTA: CANTIDADES OBTENIDAS DE CARTERA DE CORTE Y RELLENO DISEÑO GEOMETRICO
B73: TOTAL | Q73: =ROUND(SUM(Q59:Q69),0) -> 142
B77: ITEM No | D77: =+PRESUPUESTO!C18 -> 320.3
B78: DESCRIPCION | D78: =+PRESUPUESTO!D18 -> Sub Base Granular tipo C
B79: UNIDAD | D79: =+PRESUPUESTO!E18 -> M3
B81: DESCRIPCION | K81: LARGO | L81: ANCHO | M81: ESPESOR | N81: VOLUMEN | Q81: CANTIDAD TOTAL
B82: TRAMO 1 | K82: =+F6 -> 853 | L82: 6 | M82: =0.15 -> 0.15 | N82: =+K82*L82*M82 -> 767.7 | Q82: =+N82 -> 767.7
B87: TOTAL | Q87: =ROUND(SUM(Q82:Q84),0) -> 768
B90: ITEM No | D90: =PRESUPUESTO!C19 -> 630.3
...

Sheet CORTE Y RELL
A1: MUNICIPIO DE FONSECA
A3: TRAMO 1
A4: Estación | B4: Área de relleno | C4: área de corte | D4: Llenar volumen | E4: Cortar volumen
A5: 0+000.00 | B5: 0 | C5: 1.78 | D5: 0 | E5: 0
A6: 0+010.00 | B6: 0 | C6: 2.04 | D6: 0 | E6: 19.1
A7: 0+020.00 | B7: 0.01 | C7: 1.53 | D7: 0.03 | E7: 17.86
A8: 0+030.00 | B8: 0.03 | C8: 1.2 | D8: 0.18 | E8: 13.67
A9: 0+040.00 | B9: 0.06 | C9: 0.64 | D9: 0.44 | E9: 9.21
A10: 0+050.00 | B10: 0 | C10: 1.65 | D10: 0.29 | E10: 11.47
A11: 0+060.00 | B11: 0 | C11: 1.92 | D11: 0 | E11: 17.9
A12: 0+070.00 | B12: 0.01 | C12: 1.49 | D12: 0.03 | E12: 17.05
A13: 0+080.00 | B13: 0.03 | C13: 0.77 | D13: 0.19 | E13: 11.27
A14: 0+090.00 | B14: 0.06 | C14: 0.69 | D14: 0.46 | E14: 7.3
A15: 0+100.00 | B15: 0.05 | C15: 1.15 | D15: 0.54 | E15: 9.2
A16: 0+110.00 | B16: 0.03 | C16: 0.82 | D16: 0.37 | E16: 9.83
... A90: 0+853.00 | B90: 0 | C90: 3.3 | D90: 0 | E90: 29.44
D91: =SUM(D5:D90) -> 14.48 | E91: =SUM(E5:E90) -> 1515.41
A92: 0+853.00 | B92: =(853*0.5*2) -> 853 | D92: =B92*0.15 -> 127.95
D93: =SUM(D91:D92) -> 142.43

Sheet INTERVENTORIA
B2: =+PRESUPUESTO!D2 -> "MEJORAMIENTO VIAL MEDIANTE LA CONSTRUCCIÓN DE PAVIMENTO RÍGIDO DE LA PRIMERA ETAPA DE LA VÍA QUE COMUNICA A LA VEREDA PONDORES EN EL CORREGIMIENTO DE CONEJO, MUNICIPIO DE FONSECA - DEPARTAMENTO DE LA GUAJIRA."
B4: CÁLCULO DETALLADO DEL VALOR DE LA INTERVENTORÍA
B5: N° | C5: CONCEPTO | D5: A | E5: B | F5: C | G5: D | H5: E | I5: F | J5: G
D6: SUELDO MES BÁSICO | E6: CANTIDAD | F6: % DE DEDICACIÓN | G6: F.M. | H6: VALOR MES (A * B * C * D) | I6: N° DE MESES | J6: TOTAL PARCIAL (E * F)
B7: 1 | C7: PERSONAL
B8: 1.1 | C8: PERSONAL DE SUPERVISIÓN
B9: 1.1.1 | C9: Director de Interventoría | D9: =+FP!C12 -> 6174985 | E9: 1 | F9: 0.5 | G9: =+FM!I39 -> 1.9929333 | H9: =ROUND(D9*E9*F9*G9,0) -> 6153167 | I9: =+AIU!F13 -> 4 | J9: =(H9*I9) -> 24612668
B10: 1.1.2 | C10: Residente de Interventoría | D10: =+FP!G12 -> 3434120.1 | E10: 1 | F10: 1 | G10: =+G9 -> 1.9929333 | H10: =ROUND(D10*E10*F10*G10,0) -> 6843972 | I10: =+AIU!J6 -> 3 | J10: =+(H10*I10) -> 20531916
B11: 1.1.3 | C11: Residente Siso de Interventoría | D11: =+FP!K12 -> 3434120.1 | E11: 1 | F11: 1 | G11: =+G10 -> 1.9929333 | H11: =ROUND(D11*E11*F11*G11,0) -> 6843972 | I11: =+I10 -> 3 | J11: =+(H11*I11) -> 20531916
B12: 1.1.4 | C12: Ingeniero Ambiental | D12: =+FP!I12 -> 3434120.1 | E12: 1 | F12: 1 | G12: =+G11 -> 1.9929333 | H12: =ROUND(D12*E12*F12*G12,0) -> 6843972 | I12: =+I11 -> 3 | J12: =+(H12*I12) -> 20531916
B13: 1.1.5 | C13: Inspector de obra | D13: =+FP!O12 -> 2935453 | E13: 1 | F13: 1 | G13: =+G12 -> 1.9929333 | H13: =ROUND(D13*E13*F13*G13,0) -> 5850162 | I13: =+I12 -> 3 | J13: =+(H13*I13) -> 17550486
B14: 1.1.6 | C14: Contador | D14: =FP!M12 -> 3737870.8 | E14: 1 | F14: 0.2 | G14: =G13 -> 1.9929333 | H14: =ROUND(D14*E14*F14*G14,0) -> 1489865 | I14: 4 | J14: =+(H14*I14) -> 5959460
B15: 1,2 | C15: PERSONAL DE APOYO
B16: 1,2,1 | C16: Secretaria | D16: =+FP!AG12 -> 1388166.7 | E16: 1 | F16: 1 | G16: =+G9 -> 1.9929333 | H16: =ROUND(D16*E16*F16*G16,0) -> 2766524 | I16: =+I13 -> 3 | J16: =+(H16*I16) -> 8299572
B17: 1,2,2 | C17: Topografo | D17: =+FP!W12 -> 1634033.3 | E17: 1 | F17: 1 | G17: =+G9 -> 1.9929333 | H17: =ROUND(D17*E17*F17*G17,0) -> 3256519 | I17: =+I16 -> 3 | J17: =+(H17*I17) -> 9769557
B18: 1,2,3 | C18: Cadenero | D18: =+FP!Y12 -> 1300000 | E18: 1 | F18: 1 | G18: =+G10 -> 1.9929333 | H18: =ROUND(D18*E18*F18*G18,0) -> 2590813 | I18: =+I17 -> 3 | J18: =+(H18*I18) -> 7772439
C19: SUBTOTAL COSTOS DE PERSONAL | J19: =SUM(J9:J18) -> 135559930 | L19: =SUM(J9:J13)*1.19 -> 1.2347309e+08 | M19: 857675840
B20: OTROS COSTOS DIRECTOS | L20: =SUM(J16:J18)*1.19 -> 30751466 | M20: 170189040
B21: 2 | C21: OTROS COSTOS DIRECTOS | D21: UND | F21: CANTIDAD | H21: VALOR UNITARIO | J21: VALOR TOTAL
B22: 2.1 | C22: Arriendo Oficina tipo bodega 22m2 | D22: Mes | F22: =+I18 -> 3 | H22: 1322331 | J22: =+(F22*H22) -> 3966993.1
B23: 2.2 | C23: Compra de radio telefonos para comunicaciones | D23: Mes | E23: =+F22 -> 3 | F23: 7 | H23: 150000 | J23: =+(F23*H23*E23) -> 3150000
B24: 2.3 | C24: Servicio de energia | D24: Mes | F24: =+F22 -> 3 | H24: =+AIU!J26 -> 250000 | J24: =+(F24*H24) -> 750000
B25: 2.4 | C25: Servicio de agua | D25: Mes | F25: =+F24 -> 3 | H25: =+AIU!J27 -> 250000 | J25: =+(F25*H25) -> 750000
B26: 2.5 | C26: Servicio de internet | D26: Mes | F26: =+F25 -> 3 | H26: =+AIU!J28 -> 250000 | J26: =+(F26*H26) -> 750000
B27: 2.6 | C27: Alquiler equipos de topografía | D27: Mes | E27: 1 | F27: =+F26 -> 3 | H27: =+AIU!J39 -> 1500000 | J27: =+(F27*H27) -> 4500000
B28: 2.7 | C28: Ensayos de laboratorios para control de calidad del proyecto | D28: Mes | F28: 1 | H28: =+ENSAYOS!I82 -> 10793076 | J28: =+(F28*H28) -> 10793076
B29: 2.8 | C29: Alquiler de camioneta 4x4 cilindraje 3000 cm3, incluye conductor | D29: Mes | F29: =+F27 -> 3 | H29: =+AIU!J40 -> 7000000 | J29: =+(H29*F29) -> 21000000
B30: 2.9 | C30: Alquiler equipos de oficina (computadores) | D30: Mes | E30: =+F29 -> 3 | F30: 7 | H30: =+AIU!J41 -> 0 | J30: =+(E30*H30*F30) -> 0
B31: 2.1 | C31: Papeleria, copias e impresiones | D31: Mes | F31: =+F29 -> 3 | H31: 241237.73 | J31: =+(H31*F31) -> 723713.18
C33: SUBTOTAL OTROS COSTOS DIRECTOS | J33: =SUM(J22:J31) -> 46383783 | L33: =J33*1.19 -> 55196701 | M33: 784686000
B34: COSTOS DE LEGALIZACIÓN Y PÓLIZAS
B35: 3 | C35: LEGALIZACIÓN Y PÓLIZAS | D35: UND | F35: CANTIDAD | H35: VALOR UNITARIO | J35: VALOR TOTAL
B36: 3.1 | C36: ESTAMPILLA PROCULTURA | D36: PORCENTAJE | F36: 0.015 | H36: =(J33+J19)*F36 -> 2729155.7 | J36: =H36 -> 2729155.7
B37: 3.2 | C37: ESTAMPILLA ADULTO MAYOR | D37: PORCENTAJE | F37: =0.04 -> 0.04 | H37: =(J33+J19)*F37 -> 7277748.5 | J37: =H37 -> 7277748.5
B38: 3.3 | C38: ESTAMPILLA PRO UNIVERSIDAD | D38: PORCENTAJE | F38: =0.02 -> 0.02 | H38: =(J33+J19)*F38 -> 3638874.3 | J38: =H38 -> 3638874.3
B39: 3.4 | C39: ESTAMPILLA PRO DESARROLLO DEPARTAMENTAL | D39: PORCENTAJE | F39: =0.02 -> 0.02 | H39: =(J33+J19)*F39 -> 3638874.3 | J39: =H39 -> 3638874.3
B40: 3.5 | C40: ESTAMPILLA PRO DESARROLLO FRONTERIZO | D40: PORCENTAJE | F40: =0.02 -> 0.02 | H40: =(J33+J19)*F40 -> 3638874.3 | J40: =H40 -> 3638874.3
B41: 3.6 | C41: TASA PRO DEPORTE Y RECREACIÓN | D41: PORCENTAJE | F41: =0.015 -> 0.015 | H41: =(J33+J19)*F41 -> 2729155.7 | J41: =H41 -> 2729155.7
B42: 3.7 | C42: ESTAMPILLA PARA LA JUSTICIA FAMILIAR | D42: PORCENTAJE | F42: 0.02 | H42: =(J33+J19)*F42 -> 3638874.3 | J42: =H42 -> 3638874.3
B43: 3.8 | C43: PÓLIZAS | D43: PORCENTAJE | F43: 0.01 | H43: =(J39+J25)*F43 -> 43888.743 | J43: =H43 -> 43888.743
...

Sheet Loc
A7: =+PRESUPUESTO!D2 -> "MEJORAMIENTO VIAL MEDIANTE LA CONSTRUCCIÓN DE PAVIMENTO RÍGIDO DE LA PRIMERA ETAPA DE LA VÍA QUE COMUNICA A LA VEREDA PONDORES EN EL CORREGIMIENTO DE CONEJO, MUNICIPIO DE FONSECA - DEPARTAMENTO DE LA GUAJIRA."
A11: LOCALIZACIÓN CANTERAS
A12: CANTERA | E12: DISTANCIA
A13: Distancia Cemento - Tuberia - Materiales varios | E13: 145 | F13: Km
A14: Distancia Triturado | E14: 78 | F14: Km
A15: Distancia Arena | E15: 78 | F15: Km
A16: Distancia Recebo | E16: 78 | F16: Km
A17: Distancia Sitio de Disposición Final | E17: 22 | F17: Km
A23: Elaboró:

Sheet APU-Básicos
D3: ANÁLISIS DE PRECIOS UNITARIOS
A7: =+PRESUPUESTO!$D$2 -> "MEJORAMIENTO VIAL MEDIANTE LA CONSTRUCCIÓN DE PAVIMENTO RÍGIDO DE LA PRIMERA ETAPA DE LA VÍA QUE COMUNICA A LA VEREDA PONDORES EN EL CORREGIMIENTO DE CONEJO, MUNICIPIO DE FONSECA - DEPARTAMENTO DE LA GUAJIRA." | F7: ESPECIFICACIÓN: BÁSICO
A10: ÍTEM: CONCRETO 2000 PSI | F10: UNIDAD: | G10: M3
A12: I. EQUIPO
A13: Descripción | D13: Tarifa Hora | E13: Rendimiento | F13: Valor Unitario
A14: Mezcladora de Concreto | D14: =+Equ!$D$21 -> 15000 | E14: 1.7 | F14: =+ROUND(D14/E14,0) -> 8824
A15: Vibrador de Concreto | D15: =+Equ!$D$22 -> 7500 | E15: 1.7 | F15: =+ROUND(D15/E15,0) -> 4412
A16: Herramienta Menor M.O. | B16: 0.1 | F16: 8906
F19: Sub - Total | G19: =SUM(F14:F18) -> 22142
A20: II. MATERIALES EN OBRA
A21: Descripción | B21: Unidad | C21: Precio Unit. | D21: Cantidad | E21: Desperdicio | F21: Valor Unitario
A22: Cemento | B22: Kg | C22: =+Sum!$D$13 -> 700 | D22: 260 | E22: 0.03 | F22: =+ROUND((C22*D22)+(C22*D22*E22),0) -> 187460
A23: Triturado | B23: M3 | C23: =+Sum!$D$14 -> 85000 | D23: 0.82 | E23: 0.04 | F23: =+ROUND((C23*D23)+(C23*D23*E23),0) -> 72488
A24: Arena | B24: M3 | C24: =+Sum!$D$15 -> 65000 | D24: 0.62 | E24: 0.03 | F24: =+ROUND((C24*D24)+(C24*D24*E24),0) -> 41509
A25: Agua | B25: Lt | C25: =+Sum!$D$17 -> 192.9 | D25: 185 | E25: 0.02 | F25: =+ROUND((C25*D25)+(C25*D25*E25),0) -> 36400
A26: Formaleta | B26: M2 | C26: =+Sum!$D$24 -> 18500 | D26: 1 | E26: 0.03 | F26: =+ROUND((C26*D26)+(C26*D26*E26),0) -> 19055
F28: Sub - Total | G28: =SUM(F22:F27) -> 356912
A29: III. TRANSPORTES
A30: Material | B30: Vol-Pes-Cant. | C30: Distancia | D30: M3-Km | E30: Tarifa | F30: Valor Unitario
A31: Cemento | B31: =+D22 -> 260 | C31: =+Loc!$E$13 -> 145 | D31: =+B31*C31 -> 37700 | E31: 1 | F31: =ROUND(E31*D31,0) -> 37700
A32: Triturado | B32: =+D23 -> 0.82 | C32: 52 | D32: =+B32*C32 -> 42.64 | E32: 1500 | F32: =ROUND(E32*D32,0) -> 63960
A33: Arena | B33: =+D24 -> 0.62 | C33: 52 | D33: =+B33*C33 -> 32.24 | E33: 1500 | F33: =ROUND(E33*D33,0) -> 48360
F35: Sub - Total | G35: =SUM(F31:F34) -> 150020
A36: IV. MANO DE OBRA
A37: Trabajador | B37: Jornal | C37: Prestaciones | D37: Jornal Total | E37: Rendimiento | F37: Valor Unitario
A38: 2 Oficiales | B38: =52202*2 -> 104404 | C38: 1.58 | D38: =C38*B38 -> 164958.32 | E38: 6.94 | F38: =ROUND(D38/E38,0) -> 23769
A39: 6 Obreros | B39: =40084*6 -> 240504 | C39: 1.86 | D39: =C39*B39 -> 447337.44 | E39: =+E38 -> 6.94 | F39: =ROUND(D39/E39,0) -> 64458
F42: Sub - Total | G42: =SUM(F38:F41) -> 88227
D44: TOTAL COSTO DIRECTO | G44: =ROUND(G19+G28+G35+G42,0) -> 617301
A46: V. COSTOS INDIRECTOS
A47: Descripción | E47: Porcentaje | F47: Valor total
A48: Administración | E48: 0.22 | F48: =ROUND($G$44*E48,0) -> 135806
A49: Imprevistos | E49: 0.05 | F49: =ROUND($G$44*E49,0) -> 30865
A50: Utilidad | E50: 0.03 | F50: =ROUND($G$44*E50,0) -> 18519
F51: Sub - Total | G51: =SUM(F48:F50) -> 185190
A52: Elaboró:
D53: COSTO TOTAL APROXIMADO AL PESO | G53: =ROUND(G44+G51,0) -> 802491
A54: Ing. Lucy Elisabeth Rosero Burbano
A55: M.P. 52202 - 312467 NRÑ
D58: ANÁLISIS DE PRECIOS UNITARIOS
...

Sheet 1,01(2)
A2: REPÚBLICA DE COLOMBIA
A3: DEPARTAMENTO DE NARIÑO | D3: ANÁLISIS DE PRECIOS UNITARIOS
A4: MUNICIPIO DE GUALMATÁN
A7: =+'APU-Básicos'!A7 -> "MEJORAMIENTO VIAL MEDIANTE LA CONSTRUCCIÓN DE PAVIMENTO RÍGIDO DE LA PRIMERA ETAPA DE LA VÍA QUE COMUNICA A LA VEREDA PONDORES EN EL CORREGIMIENTO DE CONEJO, MUNICIPIO DE FONSECA - DEPARTAMENTO DE LA GUAJIRA." | F7: ESPECIFICACIÓN: 1,01
A10: ÍTEM: LOCALIZACIÓN Y REPLANTEO | F10: UNIDAD: | G10: ML
A12: I. EQUIPO
A13: Descripción | D13: Tarifa Hora | E13: Rendimiento | F13: Valor Unitario
A14: Equipo de Topografía | D14: =+Equ!D10 -> 0 | E14: 18 | F14: =ROUND(D14/E14,0) -> 0
A15: Herramienta Menor | B15: 0.1 | F15: =+ROUND(B15*G43,0) -> 149
F19: Sub - Total | G19: =SUM(F14:F18) -> 149
A20: II. MATERIALES EN OBRA
A21: Descripción | C21: Unidad | D21: Precio Unit. | E21: Cantidad | F21: Valor Unitario
A22: Clavos | C22: LB | D22: =+Sum!D27 -> 3500 | E22: 0.01 | F22: =+D22*E22 -> 35
A23: Estaca 2"x2"x0.50m | C23: UND | D23: =+Sum!D23 -> 600 | E23: 0.2 | F23: =ROUND(D23*E23,0) -> 120
F27: Sub - Total | G27: =SUM(F22:F26) -> 155
A28: III. TRANSPORTES
A29: Material | B29: Vol-Pes-Cant. | C29: Distancia | D29: M3-Km | E29: Tarifa | F29: Valor Unitario
F35: Sub - Total | G35: =SUM(F30:F34) -> 0
A36: IV. MANO DE OBRA
A37: Trabajador | B37: Jornal | C37: Pretaciones | D37: Jornal Total | E37: Rendimiento | F37: Valor Unitario
A38: 1 Topógrafo | B38: 65719 | C38: 1.7164 | D38: =ROUND(C38*B38,0) -> 112800 | E38: 196 | F38: =ROUND(D38/E38,0) -> 576
A39: 2 Cadeneros | B39: =52202*2 -> 104404 | C39: =+C38 -> 1.7164 | D39: =ROUND(C39*B39,0) -> 179199 | E39: =E38 -> 196 | F39: =ROUND(D39/E39,0) -> 914
F43: Sub - Total | G43: =SUM(F38:F42) -> 1490
D45: TOTAL COSTO DIRECTO | G45: =ROUND(G19+G27+G35+G43,0) -> 1794
A47: V. COSTOS INDIRECTOS
A48: Descripción | E48: Porcentaje | F48: Valor total
A49: Administración | E49: 0.26 | F49: =ROUND($G$45*E49,0) -> 466
A50: Utilidad | E50: 0.04 | F50: =ROUND($G$45*E50,0) -> 72
A51: Imprevistos | E51: 0.02 | F51: =ROUND($G$45*E51,0) -> 36
F52: Sub - Total | G52: =ROUND(SUM(F49:F51),) -> 574
A53: Elaboró:
D54: COSTO TOTAL APROXIMADO AL PESO | G54: =ROUND(G45+G52,) -> 2368
A55: Ing. Lucy Elisabeth Rosero Burbano
A56: M.P. 52202 - 312467 NRÑ

Sheet 1,02(2)
A2: REPÚBLICA DE COLOMBIA
A3: DEPARTAMENTO DE NARIÑO | D3: ANÁLISIS DE PRECIOS UNITARIOS
A4: MUNICIPIO DE GUALMATÁN
A7: =+'APU-Básicos'!A7 -> "MEJORAMIENTO VIAL MEDIANTE LA CONSTRUCCIÓN DE PAVIMENTO RÍGIDO DE LA PRIMERA ETAPA DE LA VÍA QUE COMUNICA A LA VEREDA PONDORES EN EL CORREGIMIENTO DE CONEJO, MUNICIPIO DE FONSECA - DEPARTAMENTO DE LA GUAJIRA." | F7: ESPECIFICACIÓN: 1,02
A10: ÍTEM: AISLAMIENTO PREVENTIVO (70% REUTILIZACIÓN) | F10: UNIDAD: | G10: ML
A12: I. EQUIPO
A13: Descripción | D13: Tarifa Hora | E13: Rendimiento | F13: Valor Unitario
A14: Herramienta Menor | B14: 0.1 | F14: =+ROUND(B14*G43,0) -> 224
F19: Sub - Total | G19: =SUM(F14:F18) -> 224
A20: II. MATERIALES EN OBRA
A21: Descripción | C21: Unidad | D21: Precio Unit. | E21: Cantidad | F21: Valor Unitario
A22: Guadua | C22: Und | D22: =+Sum!#REF! -> #REF! | E22: 0.1 | F22: =+D22*E22 -> #REF!
A23: Varenga | C23: Und | D23: =+Sum!#REF! -> #REF! | E23: 0.1 | F23: =+D23*E23 -> #REF!
A24: Alambre Galvanizado | C24: Kg | D24: =+Sum!D35 -> 10800 | E24: 0.01 | F24: =+D24*E24 -> 108
A25: Polisombra | C25: Und | D25: =+Sum!#REF! -> #REF! | E25: 1 | F25: =+D25*E25 -> #REF!
A26: Clavos | C26: Lb | D26: =+Sum!D27 -> 3500 | E26: 0.02 | F26: =+D26*E26 -> 70
F28: Sub - Total | G28: =SUM(F22:F27) -> #REF!
A29: III. TRANSPORTES
A30: Material | B30: Vol-Pes-Cant. | C30: Distancia | D30: M3-Km | E30: Tarifa | F30: Valor Unitario
F35: Sub - Total | G35: =SUM(F31:F34) -> 0
A36: IV. MANO DE OBRA
A37: Trabajador | B37: Jornal | C37: Pretaciones | D37: Jornal Total | E37: Rendimiento | F37: Valor Unitario
A38: 1 Oficial | B38: 52202 | C38: 1.7164 | D38: =ROUND(C38*B38,0) -> 89600 | E38: =8.85*8 -> 70.8 | F38: =ROUND(D38/E38,0) -> 1266
A39: 1 Obrero | B39: 40084 | C39: =+C38 -> 1.7164 | D39: =ROUND(C39*B39,0) -> 68800 | E39: =E38 -> 70.8 | F39: =ROUND(D39/E39,0) -> 972
F43: Sub - Total | G43: =SUM(F38:F42) -> 2238
D45: TOTAL COSTO DIRECTO | G45: =ROUND(G19+G28+G35+G43,0) -> #REF!
A47: V. COSTOS INDIRECTOS
A48: Descripción | E48: Porcentaje | F48: Valor total
A49: Administración | E49: 0.26 | F49: =ROUND($G$45*E49,0) -> #REF!
A50: Utilidad | E50: 0.04 | F50: =ROUND($G$45*E50,0) -> #REF!
A51: Imprevistos | E51: 0.02 | F51: =ROUND($G$45*E51,0) -> #REF!
F52: Sub - Total | G52: =ROUND(SUM(F49:F51),) -> #REF!
A53: Elaboró:
D54: COSTO TOTAL APROXIMADO AL PESO | G54: =ROUND(G45+G52,) -> #REF!
A55: Ing. Lucy Elisabeth Rosero Burbano
A56: M.P. 52202 - 312467 NRÑ

Sheet Replanteo
D3: ANÁLISIS DE PRECIOS UNITARIOS
A7: =+'APU-Básicos'!A7 -> "MEJORAMIENTO VIAL MEDIANTE LA CONSTRUCCIÓN DE PAVIMENTO RÍGIDO DE LA PRIMERA ETAPA DE LA VÍA QUE COMUNICA A LA VEREDA PONDORES EN EL CORREGIMIENTO DE CONEJO, MUNICIPIO DE FONSECA - DEPARTAMENTO DE LA GUAJIRA." | F7: ESPECIFICACIÓN: 200P
A10: ÍTEM: LOCALIZACIÓN Y REPLANTEO | F10: UNIDAD: | G10: ML
A12: I. EQUIPO
A13: Descripción | D13: Tarifa Hora | E13: Rendimiento | F13: Valor Unitario
A14: Equipo de Topografía | D14: =+Equ!D10 -> 0 | E14: 30 | F14: =+ROUND(D14/E14,0) -> 0
A15: Herramienta Menor | B15: 0.1 | F15: =+ROUND(B15*G43,0) -> 105
F19: Sub - Total | G19: =SUM(F14:F18) -> 105
A20: II. MATERIALES EN OBRA
A21: Descripción | C21: Unidad | D21: Precio Unit. | E21: Cantidad | F21: Valor Unitario
A22: Clavos | C22: Lb | D22: =+Sum!D27 -> 3500 | E22: 0.01 | F22: =+ROUND(D22*E22,0) -> 35
A23: Estacas | C23: Und | D23: =+Sum!D23 -> 600 | E23: 0.2 | F23: =+ROUND(D23*E23,0) -> 120
F27: Sub - Total | G27: =SUM(F22:F26) -> 155
A28: III. TRANSPORTES
A29: Material | B29: Vol-Pes-Cant. | C29: Distancia | D29: M3-Km | E29: Tarifa | F29: Valor Unitario
F35: Sub - Total | G35: =SUM(F30:F34) -> 0
A36: IV. MANO DE OBRA
A37: Trabajador | B37: Jornal | C37: Pretaciones | D37: Jornal Total | E37: Rendimiento | F37: Valor Unitario
A38: 1 Oficial | B38: 52202 | C38: 1.58 | D38: =ROUND(C38*B38,0) -> 82479 | E38: 220 | F38: =ROUND(D38/E38,0) -> 375
A39: 2 Obreros | B39: =40084*2 -> 80168 | C39: 1.86 | D39: =ROUND(C39*B39,0) -> 149112 | E39: =E38 -> 220 | F39: =ROUND(D39/E39,0) -> 678
F43: Sub - Total | G43: =SUM(F38:F42) -> 1053
D45: TOTAL COSTO DIRECTO | G45: =ROUND(G19+G27+G35+G43,0) -> 1313
A47: V. COSTOS INDIRECTOS
A48: Descripción | E48: Porcentaje | F48: Valor total
A49: Administración | E49: 0.22 | F49: =ROUND($G$45*E49,0) -> 289
A50: Utilidad | E50: 0.05 | F50: =ROUND($G$45*E50,0) -> 66
A51: Imprevistos | E51: 0.03 | F51: =ROUND($G$45*E51,0) -> 39
F52: Sub - Total | G52: =ROUND(SUM(F49:F51),) -> 394
A53: Elaboró:
D54: COSTO TOTAL APROXIMADO AL PESO | G54: 0

Sheet ENSAYOS
B1: Longitud via (m) | C1: =+CANTIDADES!F10 -> 853
B2: Lote de muestreo (m) | C2: 250 | D2: Articulo 420-INVE | E2: numeral 420.5.2.3
B3: Numero de lotes | C3: =+C1/C2 -> 3.412
B4: Tiempo de ejecucion del proyecto (meses) | C4: 0.5
B6: ENSAYOS CONTRATISTA
B7: RELACION DE ENSAYOS DE AUTOCONTROL DE CALIDAD PARA LA EJECUCION DEL PROYECTO
A8: ITEM | B8: ACTIVIDAD | C8: TIPO DE ENSAYO | D8: NORMA | E8: # DE MUESTRAS | F8: # DE ENSAYOS POR MUESTRA | G8: CANTIDAD TOAL | H8: V/UNITARIO (incluido IVA) | I8: V/TOTAL | J8: ESPECIFICACIONES INVIAS | K8: INDICACION
A9: =+PRESUPUESTO!B11 -> 1,1 | B9: =+PRESUPUESTO!D11 -> Desmonte y limpieza en zonas no boscosas | C9: NO APLICA | G9: 0 | H9: 0 | I9: =+G9*H9 -> 0 | J9: Articulo 200 | K9: NO APLICA
A10: =+PRESUPUESTO!B12 -> 1,2 | B10: =+PRESUPUESTO!D12 -> Excavaciones en material común de la explanación y canales | C10: NO APLICA | G10: 0 | H10: 0 | I10: =+G10*H10 -> 0 | J10: Articulo 210-13 Capitulo 2 Explanaciones | K10: NO APLICA
A11: =+PRESUPUESTO!B13 -> 1,3 | B11: =+PRESUPUESTO!D13 -> Transporte de materiales provenientes de la excavación de la explanación, canales y préstamos para distancias mayores de mil metros (1000 m) | C11: NO APLICA | G11: =0 -> 0 | H11: 0 | I11: =+G11*H11 -> 0 | J11: Articulo 900-13 Capitulo 9 Transporte | K11: NO APLICA
A12: =+PRESUPUESTO!B17 -> 2,1 | B12: Terraplenes | C12: Determinacion de los tamaños de las particulas de los suelos | D12: INV E - 123 - 13 | E12: =30*$C$4 -> 15 | F12: 1 | G12: =+E12*F12 -> 15 | H12: =42500*1.19 -> 50575 | I12: =+G12*H12 -> 758625 | J12: Articulo 220-13 Capitulo 2 Explanaciones | K12: 1 vez por jornada
C13: Determinacion del contenido organico de un suelo mediante el ensayo de perdida por ignicion | D13: INV E - 121 - 13 | E13: =4*$C$4 -> 2 | F13: 1 | G13: =+E13*F13 -> 2 | H13: =50000*1.19 -> 59500 | I13: =+G13*H13 -> 119000 | K13: 1 vez a la semana
C14: Limite plastico e indice de plasticidad de los suelos inalterados | D14: INV E - 126 - 13 | E14: =30*$C$4 -> 15 | F14: 1 | G14: =+E14*F14 -> 15 | H14: =54700*1.19 -> 65093 | I14: =+G14*H14 -> 976395 | K14: 1 vez por jornada
C15: Determinacion del limite liquido de los suelos | D15: INV E - 125 - 13 | E15: =30*$C$4 -> 15 | F15: 1 | G15: =+E15*F15 -> 15 | H15: =50000*1.19 -> 59500 | I15: =+G15*H15 -> 892500 | K15: 1 vez por jornada
C16: CBR de suelos compactados en el laboratorio y sobre muestra inalterada | D16: INV E - 148 -13 | E16: =1*$C$4 -> 0.5 | F16: 1 | G16: =+E16*F16 -> 0.5 | H16: =280000*1.19 -> 333200 | I16: =+G16*H16 -> 166600 | K16: 1 vez por mes
C17: Determinación del indice de colapso | D17: INV E - 157 - 13 | E17: =1*$C$4 -> 0.5 | F17: 1 | G17: =+E17*F17 -> 0.5 | H17: =38124.22*1.19 -> 45367.822 | I17: =+G17*H17 -> 22683.911 | K17: 1 vez por mes
C18: Relaciones de humedad - peso unitario seco en los suelos (ensayo modificado de compactacion) | D18: INV E - 142 - 13 | E18: =4*$C$4 -> 2 | F18: 1 | G18: =+E18*F18 -> 2 | H18: =115000*1.19 -> 136850 | I18: =+G18*H18 -> 273700 | K18: 1 vez a la semana
C19: Determinación del contenido de sales solubles | D19: INV E - 611 -13 | E19: =4*$C$4 -> 2 | F19: 1 | G19: =+E19*F19 -> 2 | H19: =60000*1.19 -> 71400 | I19: =+G19*H19 -> 142800 | K19: 1 vez a la semana
A20: =+PRESUPUESTO!B18 -> 2,2 | B20: BASE GRANULAR CLASE C | C20: Resistencia a la degradacion de los agregados de tamaños menores de 37,5 mm por medio de la maquina de los angeles | D20: INV E - 218 -13 | E20: 4 | F20: 3 | G20: =+E20*F20 -> 12 | H20: =198400*1.19 -> 236096 | I20: =+G20*H20 -> 2833152 | J20: Articulo 320-13 Capitulo 3 Afirmados Subbases Bases | K20: "De cada fuente de agregados pétreos y para cualquier volumen previsto se tomarán cuatro (4) muestras representativas para realizar los ensayos especificados en la Tabla 320 ‐ 2"
C21: Determinacion de la resistencia del agregado grueso a la degradacion por abrasion utilizando el aparato micro-deval | D21: INV E - 238 -13 | E21: 4 | F21: 3 | G21: =+E21*F21 -> 12 | H21: =373000*1.19 -> 443870 | I21: =+G21*H21 -> 5326440
C22: Solidez de los agregados frente a la accion de soluciones de sulfato de sodio o magnesio | D22: INV E - 220 -13 | E22: 4 | F22: 3 | G22: =+E22*F22 -> 12 | H22: =355800*1.19 -> 423402 | I22: =+G22*H22 -> 5080824
C23: Determinacion del limite liquido de los suelos | D23: INV E - 125 - 13 | E23: 4 | F23: 3 | G23: =+E23*F23 -> 12 | H23: =50000*1.19 -> 59500 | I23: =+G23*H23 -> 714000
C24: Limite plastico e indice de plasticidad de los suelos | D24: INV E - 126 - 13 | E24: 4 | F24: 3 | G24: =+E24*F24 -> 12 | H24: =54700*1.19 -> 65093 | I24: =+G24*H24 -> 781116
C25: Equivalente de arena de suelos y agregados finos | D25: INV E - 133 -13 | E25: 4 | F25: 3 | G25: =+E25*F25 -> 12 | H25: =97000*1.19 -> 115430 | I25: =+G25*H25 -> 1385160
C26: Determinacion de terrones de arcilla y particulas deleznables en los agregados | D26: INV E - 211 -13 | E26: 4 | F26: 3 | G26: =+E26*F26 -> 12 | H26: =59200*1.19 -> 70448 | I26: =+G26*H26 -> 845376
C27: CBR de suelos compactados en el laboratorio y sobre muestra inalterada | D27: INV E - 148 -13 | E27: 4 | F27: 3 | G27: =+E27*F27 -> 12 | H27: =310000*1.19 -> 368900 | I27: =+G27*H27 -> 4426800
C28: Determinacion de los tamaños de las particulas de los suelos | D28: INV E - 123 - 13 | E28: =30*$C$4 -> 15 | F28: 1 | G28: =+E28*F28 -> 15 | H28: =42500*1.19 -> 50575 | I28: =+G28*H28 -> 758625 | K28: 1 vez por jornada
C29: Determinacion del limite liquido de los suelos | D29: INV E - 125 - 13 | E29: =30*$C$4 -> 15 | F29: 1 | G29: =+E29*F29 -> 15 | H29: =50000*1.19 -> 59500 | I29: =+G29*H29 -> 892500 | K29: 1 vez por jornada
C30: Limite plastico e indice de plasticidad de los suelos | D30: INV E - 126 - 13 | E30: =30*$C$4 -> 15 | F30: 1 | G30: =+E30*F30 -> 15 | H30: =54700*1.19 -> 65093 | I30: =+G30*H30 -> 976395 | K30: 1 vez por jornada
C31: Equivalente de arena en suelos y agregados finos | D31: INV E - 133 - 13 | E31: =4*$C$4 -> 2 | F31: 1 | G31: =+E31*F31 -> 2 | H31: =97000*1.19 -> 115430 | I31: =+G31*H31 -> 230860 | K31: 1 vez a la semana
C32: Relaciones de humedad - peso unitario seco en los suelos (ensayo modificado de compactacion) | D32: INV E - 142 - 13 | E32: =4*$C$4 -> 2 | F32: 1 | G32: =+E32*F32 -> 2 | H32: =115000*1.19 -> 136850 | I32: =+G32*H32 -> 273700 | K32: 1 vez a la semana
A33: =+PRESUPUESTO!B19 -> 2,3 | B33: Placa de pavimento en concreto hidráulico MR=4,0 Mpa (40Kg/cm2) | C33: Solidez de los agregados frente a la accion de soluciones de sulfato de sodio o magnesio | D33: INV E - 220 -13 | E33: 4 | F33: 3 | G33: =+E33*F33 -> 12 | H33: =370000*1.19 -> 440300 | I33: =+G33*H33 -> 5283600 | J33: Articulo 630-13 Capitulo 6 Estructuras y drenajes | K33: "De cada fuente de agregados por utilizar en la producción concreto y para cualquier volumen previsto, se tomarán cuatro (4) muestras y se ejecutarán los ensayos"
C34: Determinacion del limite liquido de los suelos | D34: INV E - 125 - 13 | E34: 4 | F34: 3 | G34: =+E34*F34 -> 12 | H34: =50000*1.19 -> 59500 | I34: =+G34*H34 -> 714000
C35: Limite plastico e indice de plasticidad de los suelos | D35: INV E - 126 - 13 | E35: 4 | F35: 3 | G35: =+E35*F35 -> 12 | H35: =54700*1.19 -> 65093 | I35: =+G35*H35 -> 781116
C36: Equivalente de arena de suelos y agregados finos | D36: INV E - 133 -13 | E36: 4 | F36: 3 | G36: =+E36*F36 -> 12 | H36: =97000*1.19 -> 115430 | I36: =+G36*H36 -> 1385160
C37: Determinacion de terrones de arcilla y particulas deleznables en los agregados | D37: INV E - 211 -13 | E37: 4 | F37: 3 | G37: =+E37*F37 -> 12 | H37: =135000*1.19 -> 160650 | I37: =+G37*H37 -> 1927800
C38: Cantidad de partículas livianas en un agregado pétreo | D38: INV E - 221 -13 | E38: 4 | F38: 3 | G38: =+E38*F38 -> 12 | H38: =298000*1.19 -> 354620 | I38: =+G38*H38 -> 4255440
C39: Material que pasa el tamiz de 75 μm (No. 200), máximo (%). | D39: INV E - 214 -13 | E39: 4 | F39: 3 | G39: =+E39*F39 -> 12 | H39: =120000*1.19 -> 142800 | I39: =+G39*H39 -> 1713600
C40: Presencia de impurezas organicas en arenas usadas en la preparacion de morteros o concretos | D40: INV E - 212 -13 | E40: 4 | F40: 3 | G40: =+E40*F40 -> 12 | H40: =298200*1.19 -> 354858 | I40: =+G40*H40 -> 4258296
C41: Determinacion del contenido de azufre en los agregados petreos | D41: INV E - 233 -13 | E41: 4 | F41: 3 | G41: =+E41*F41 -> 12 | H41: =365000*1.19 -> 434350 | I41: =+G41*H41 -> 5212200
...

Sheet Equ
B2: =+PRESUPUESTO!D2 -> "MEJORAMIENTO VIAL MEDIANTE LA CONSTRUCCIÓN DE PAVIMENTO RÍGIDO DE LA PRIMERA ETAPA DE LA VÍA QUE COMUNICA A LA VEREDA PONDORES EN EL CORREGIMIENTO DE CONEJO, MUNICIPIO DE FONSECA - DEPARTAMENTO DE LA GUAJIRA."
B5: MAQUINARIA Y EQUIPO
B8: DESCRIPCIÓN | C8: UND | D8: PRECIO-[$]
B11: Retroexcavadora, Potencia en el volante 78 HP 2200 RPM | C11: Hora | D11: 180000
B12: Retroexcavadora sobre oruga, potencia 138 HP, base de 1.5 m3 | C12: Hora | D12: 250000
B13: Retroexcavadora A25C | C13: Hora | D13: 180000
B14: Buldozer, Potencia al bvolante de 140 HP, motor 2200 RPM, longitud de hoja de 4.80 m. | C14: Hora | D14: 240000
B15: Aspersor manual | C15: Hora | D15: 5428.01
B16: Equipo oxicorte | C16: Hora | D16: 24411.8
B17: Guadaña, Cilindraje 41.5 cm3, Longitud del mango 1450 mm, Peso 7.4 kg | C17: Hora | D17: 8756.95
B18: Motosierra, 93.6 cm3 - 7.1 HP, 45-90 cm - 7.9 kg | C18: Hora | D18: 10226.98
B19: Compactador Manual Saltarín | C19: Hora | D19: 15709.48
B20: Volqueta | C20: Hora | D20: 67974.376
B21: Mezcladora de Concreto | C21: Hora | D21: 15000
B22: Vibrador de Concreto, Motor de 3 hp a 18.000 rpm Mangueras de 4mt | C22: Hora | D22: 7500
... B39: Motobomba 4" | C39: Hora | D39: 9321.3638
B46: =+PRESUPUESTO!B52 -> JESUS EDUARDO ROBLES SMITH
B47: =+PRESUPUESTO!B53 -> INGENIERO CIVIL
B48: =+PRESUPUESTO!B54 -> M.P. 25202-316144 CND

Sheet 1,1
D1: ANÁLISIS DE PRECIOS UNITARIOS
A7: =+PRESUPUESTO!D2 -> "MEJORAMIENTO VIAL MEDIANTE LA CONSTRUCCIÓN DE PAVIMENTO RÍGIDO DE LA PRIMERA ETAPA DE LA VÍA QUE COMUNICA A LA VEREDA PONDORES EN EL CORREGIMIENTO DE CONEJO, MUNICIPIO DE FONSECA - DEPARTAMENTO DE LA GUAJIRA." | F7: ESPECIF | G7: =+PRESUPUESTO!C11 -> 200.2
A10: ÍTEM: | B10: =+PRESUPUESTO!D11 -> Desmonte y limpieza en zonas no boscosas | F10: UNIDAD: | G10: =+PRESUPUESTO!E11 -> HA
A12: I. EQUIPO
A13: Descripción | D13: Tarifa Hora | E13: Rendimiento | F13: Valor Unitario
A14: =+Equ!B17 -> Guadaña, Cilindraje 41.5 cm3, Longitud del mango 1450 mm, Peso 7.4 kg | D14: =+Equ!D17 -> 8756.95 | E14: 0.36 | F14: =+ROUND(D14/E14,0) -> 24325
A15: =+Equ!B18 -> Motosierra, 93.6 cm3 - 7.1 HP, 45-90 cm - 7.9 kg | D15: =+Equ!D18 -> 10226.98 | E15: =0.103 -> 0.103 | F15: =+ROUND(D15/E15,0) -> 99291
A16: Herramienta Menor | B16: 0.05 | F16: =+ROUND(B16*G44,0) -> 3281
F20: Sub - Total | G20: =SUM(F14:F19) -> 126897
A21: II. MATERIALES EN OBRA
A22: Descripción | C22: Unidad | D22: Precio Unit. | E22: Cantidad | F22: Valor Unitario
F28: Sub - Total | G28: =SUM(F23:F27) -> 0
A29: III. TRANSPORTES
A30: Material | B30: Vol-Pes-Cant. | C30: Distancia | D30: M3-Km | E30: Tarifa | F30: Valor Unitario
A31: Transporte de material desmontado tkm | B31: 50 | C31: =+Transporte!D11 -> 13 | D31: =+B31*C31 -> 650 | E31: =+Transporte!D21 -> 1400 | F31: =+D31*E31 -> 910000
F36: Sub - Total | G36: =SUM(F31:F35) -> 910000
A37: IV. MANO DE OBRA
A38: Trabajador | B38: Jornal | C38: Pretaciones | D38: Jornal Total | E38: Rendimiento | F38: Valor Unitario
A40: 2 Obrero | B40: =+FP!U51*2 -> 103389.74 | C40: =+FP!V47 -> 1.8281 | D40: =ROUND(C40*B40,0) -> 189007 | E40: 2.88 | F40: =ROUND(D40/E40,0) -> 65627
F44: Sub - Total | G44: =SUM(F39:F43) -> 65627
D46: TOTAL COSTO DIRECTO | G46: =ROUND(G20+G28+G36+G44,0) -> 1102524
A51: =+PRESUPUESTO!B52 -> JESUS EDUARDO ROBLES SMITH
A52: =+PRESUPUESTO!B53 -> INGENIERO CIVIL
A53: =+PRESUPUESTO!B54 -> M.P. 25202-316144 CND

Sheet 1,2
D1: ANÁLISIS DE PRECIOS UNITARIOS
A7: =+PRESUPUESTO!D2 -> "MEJORAMIENTO VIAL MEDIANTE LA CONSTRUCCIÓN DE PAVIMENTO RÍGIDO DE LA PRIMERA ETAPA DE LA VÍA QUE COMUNICA A LA VEREDA PONDORES EN EL CORREGIMIENTO DE CONEJO, MUNICIPIO DE FONSECA - DEPARTAMENTO DE LA GUAJIRA." | F7: ESPEC. | G7: =+PRESUPUESTO!C12 -> 210.2.2
A10: ÍTEM: | B10: =+PRESUPUESTO!D12 -> Excavaciones en material común de la explanación y canales | F10: UNIDAD: | G10: =+PRESUPUESTO!E12 -> M3
A12: I. EQUIPO | G12: PRESUPUESTO!Títulos_a_imprimir
A13: Descripción | D13: Tarifa Hora | E13: Rendimiento | F13: Valor Unitario
A14: =+Equ!B12 -> Retroexcavadora sobre oruga, potencia 138 HP, base de 1.5 m3 | D14: =+Equ!$D$12 -> 250000 | E14: =66 -> 66 | F14: =+ROUND(D14/E14,0) -> 3788
A15: =+Equ!B14 -> Buldozer, Potencia al bvolante de 140 HP, motor 2200 RPM, longitud de hoja de 4.80 m. | D15: =Equ!$D$14 -> 240000 | E15: 100 | F15: =+ROUND(D15/E15,0) -> 2400
A16: Herramienta Menor | B16: 0.01 | F16: =+ROUND(B16*G43,0) -> 18
F19: Sub - Total | G19: =SUM(F14:F18) -> 6206
A20: II. MATERIALES EN OBRA
A21: Descripción | C21: Unidad | D21: Precio Unit. | E21: Cantidad | F21: Valor Unitario
A22: Derechos de explotación de materiales | C22: M3 | D22: =+Sum!D51 -> 7544.79 | E22: 1.3 | F22: =D22*E22 -> 9808.227
F27: Sub - Total | G27: =SUM(F22:F26) -> 9808.227
A28: III. TRANSPORTES
A29: Material | B29: Vol-Pes-Cant. | C29: Distancia | D29: M3-Km | E29: Tarifa | F29: Valor Unitario
F35: Sub - Total | G35: =SUM(F30:F34) -> 0
A36: IV. MANO DE OBRA
A37: Trabajador | B37: Jornal | C37: Pretaciones | D37: Jornal Total | E37: Rendimiento | F37: Valor Unitario
A38: 1 Oficial | B38: =FP!S51 -> 189065.67 | C38: =+FP!T47 -> 1.6529 | D38: =ROUND(C38*B38,0) -> 312507 | E38: 280 | F38: =ROUND(D38/E38,0) -> 1116
A39: 2 Obrero | B39: =FP!U51*2 -> 103389.74 | C39: =+FP!V47 -> 1.8281 | D39: =ROUND(C39*B39,0) -> 189007 | E39: 280 | F39: =ROUND(D39/E39,0) -> 675
F43: Sub - Total | G43: =SUM(F38:F42) -> 1791
D45: TOTAL COSTO DIRECTO | G45: =ROUND(G19+G27+G35+G43,0) -> 17805
A50: =+INTERVENTORIA!B61 -> JESUS EDUARDO ROBLES SMITH
A51: =+'1,1'!A52 -> INGENIERO CIVIL
A52: =+'1,1'!A53 -> M.P. 25202-316144 CND

Sheet 1,3
D1: ANÁLISIS DE PRECIOS UNITARIOS
A7: =+PRESUPUESTO!D2 -> "MEJORAMIENTO VIAL MEDIANTE LA CONSTRUCCIÓN DE PAVIMENTO RÍGIDO DE LA PRIMERA ETAPA DE LA VÍA QUE COMUNICA A LA VEREDA PONDORES EN EL CORREGIMIENTO DE CONEJO, MUNICIPIO DE FONSECA - DEPARTAMENTO DE LA GUAJIRA." | F7: ESPECIF | G7: =+PRESUPUESTO!C13 -> 900.2
A10: ÍTEM: | B10: =+PRESUPUESTO!D13 -> Transporte de materiales provenientes de la excavación de la explanación, canales y préstamos para distancias mayores de mil metros (1000 m) | F10: UNIDAD: | G10: =+PRESUPUESTO!E13 -> M3
A12: I. EQUIPO | G12: PRESUPUESTO!Títulos_a_imprimir
A13: Descripción | D13: Tarifa Hora | E13: Rendimiento | F13: Valor Unitario
F19: Sub - Total | G19: =SUM(F14:F18) -> 0
A20: II. MATERIALES EN OBRA
A21: Descripción | C21: Unidad | D21: Precio Unit. | E21: Cantidad | F21: Valor Unitario
F27: Sub - Total | G27: =SUM(F22:F26) -> 0
A28: III. TRANSPORTES
A29: Material | B29: Vol-Pes-Cant. | C29: Distancia | D29: M3-Km | E29: Tarifa | F29: Valor Unitario
A30: Material proveniente de la excavacion | B30: 1.3 | C30: =+Transporte!D11 -> 13 | D30: =+B30*C30 -> 16.9 | E30: =+Transporte!D25 -> 1400 | F30: =+D30*E30 -> 23660
F35: Sub - Total | G35: =SUM(F30:F34) -> 23660
A36: IV. MANO DE OBRA
A37: Trabajador | B37: Jornal | C37: Pretaciones | D37: Jornal Total | E37: Rendimiento | F37: Valor Unitario
F43: Sub - Total | G43: =SUM(F38:F42) -> 0
D45: TOTAL COSTO DIRECTO | G45: =ROUND(G19+G27+G35+G43,0) -> 23660
A50: =+'1,2'!A50 -> JESUS EDUARDO ROBLES SMITH
A51: =+'1,2'!A51 -> INGENIERO CIVIL
A52: =+'1,2'!A52 -> M.P. 25202-316144 CND

Sheet 2,1
D1: ANÁLISIS DE PRECIOS UNITARIOS
A7: =+PRESUPUESTO!D2 -> "MEJORAMIENTO VIAL MEDIANTE LA CONSTRUCCIÓN DE PAVIMENTO RÍGIDO DE LA PRIMERA ETAPA DE LA VÍA QUE COMUNICA A LA VEREDA PONDORES EN EL CORREGIMIENTO DE CONEJO, MUNICIPIO DE FONSECA - DEPARTAMENTO DE LA GUAJIRA." | F7: ESPEC. | G7: =+PRESUPUESTO!C17 -> 220.1
A10: ÍTEM: | B10: =+PRESUPUESTO!D17 -> Terraplenes | F10: UNIDAD: | G10: =+PRESUPUESTO!E17 -> M3
A12: I. EQUIPO | G12: PRESUPUESTO!Títulos_a_imprimir
A13: Descripción | D13: Tarifa Hora | E13: Rendimiento | F13: Valor Unitario
A14: =+Equ!B23 -> Carrotanque de agua (1000 Galones) | D14: =+Equ!D23 -> 60000 | E14: 50 | F14: =+ROUND(D14/E14,0) -> 1200
A15: =+Equ!B24 -> Vibrocompactador 153 HP, peso 10 Ton | D15: =+Equ!D24 -> 110000 | E15: 50 | F15: =+ROUND(D15/E15,0) -> 2200
A16: =+Equ!B28 -> Motoniveladora 215 HP, ancho de cuchilla a 4.27 m, peso 18 Ton. | D16: =+Equ!D28 -> 201471.74 | E16: =+E15 -> 50 | F16: =+ROUND(D16/E16,0) -> 4029
A17: =+Equ!B14 -> Buldozer, Potencia al bvolante de 140 HP, motor 2200 RPM, longitud de hoja de 4.80 m. | D17: =+Equ!D14 -> 240000 | E17: 50 | F17: =+ROUND(D17/E17,0) -> 4800
F21: Sub - Total | G21: =SUM(F14:F20) -> 12229
A22: II. MATERIALES EN OBRA
A23: Descripción | C23: Unidad | D23: Precio Unit. | E23: Cantidad | F23: Valor Unitario
A24: =+Sum!B20 -> Material de afirmado | C24: =+Sum!C20 -> m3 | D24: =+Sum!D20 -> 31292.726 | E24: 1.3 | F24: =ROUND(D24*E24,0) -> 40681
F29: Sub - Total | G29: =SUM(F24:F28) -> 40681
A30: III. TRANSPORTES
A31: Material | B31: Vol-Pes-Cant. | C31: Distancia | D31: M3-Km | E31: Tarifa | F31: Valor Unitario
A32: Transporte de material de afirmado | B32: 1.3 | C32: =+Transporte!D17 -> 89.7 | D32: =+B32*C32 -> 116.61 | E32: =+Transporte!D26 -> 1400 | F32: =ROUND(D32*E32,0) -> 163254
F37: Sub - Total | G37: =SUM(F32:F36) -> 163254
A38: IV. MANO DE OBRA
A39: Trabajador | B39: Jornal | C39: Pretaciones | D39: Jornal Total | E39: Rendimiento | F39: Valor Unitario
A40: 1 Oficial | B40: =FP!Q51 -> 77150.562 | C40: =+FP!T47 -> 1.6529 | D40: =ROUND(C40*B40,0) -> 127522 | E40: 400 | F40: =ROUND(D40/E40,0) -> 319
A41: 1 Obrero | B41: =FP!U51 -> 51694.87 | C41: =+FP!V47 -> 1.8281 | D41: =ROUND(C41*B41,0) -> 94503 | E41: =+E40 -> 400 | F41: =ROUND(D41/E41,0) -> 236
F45: Sub - Total | G45: =SUM(F40:F44) -> 555
D47: TOTAL COSTO DIRECTO | G47: =G21+G29+G37+G45 -> 216719
A51: =+PRESUPUESTO!B52 -> JESUS EDUARDO ROBLES SMITH
A52: =+PRESUPUESTO!B53 -> INGENIERO CIVIL
A53: =+PRESUPUESTO!B54 -> M.P. 25202-316144 CND

Sheet 2,2
D1: ANÁLISIS DE PRECIOS UNITARIOS
A7: =+PRESUPUESTO!D2 -> "MEJORAMIENTO VIAL MEDIANTE LA CONSTRUCCIÓN DE PAVIMENTO RÍGIDO DE LA PRIMERA ETAPA DE LA VÍA QUE COMUNICA A LA VEREDA PONDORES EN EL CORREGIMIENTO DE CONEJO, MUNICIPIO DE FONSECA - DEPARTAMENTO DE LA GUAJIRA." | F7: ESPEC. | G7: =+PRESUPUESTO!C18 -> 320.3
A10: ÍTEM: | B10: =+PRESUPUESTO!D18 -> Sub Base Granular tipo C | F10: UNIDAD: | G10: =+PRESUPUESTO!E18 -> M3
A12: I. EQUIPO | G12: PRESUPUESTO!Títulos_a_imprimir
A13: Descripción | D13: Tarifa Hora | E13: Rendimiento | F13: Valor Unitario
A14: =+Equ!B23 -> Carrotanque de agua (1000 Galones) | D14: =+Equ!D23 -> 60000 | E14: 45 | F14: =+ROUND(D14/E14,0) -> 1333
A15: =+Equ!B24 -> Vibrocompactador 153 HP, peso 10 Ton | D15: =+Equ!D24 -> 110000 | E15: =+E14 -> 45 | F15: =+ROUND(D15/E15,0) -> 2444
A16: =+Equ!B28 -> Motoniveladora 215 HP, ancho de cuchilla a 4.27 m, peso 18 Ton. | D16: =+Equ!D28 -> 201471.74 | E16: =+E15 -> 45 | F16: =+ROUND(D16/E16,0) -> 4477
A17: Herramienta Menor | D17: 0.01 | F17: =G44*D17 -> 8.79
F20: Sub - Total | G20: =SUM(F14:F19) -> 8262.79
A21: II. MATERIALES EN OBRA
A22: Descripción | C22: Unidad | D22: Precio Unit. | E22: Cantidad | F22: Valor Unitario
A23: Material de Sub Base CBR=30% | C23: =+Sum!C16 -> M3 | D23: =+Sum!D16 -> 75000 | E23: 1.3 | F23: =+ROUND(D23*E23,0) -> 97500
A24: Agua | C24: Lt | D24: =+Sum!D17 -> 192.9 | E24: 24 | F24: =+ROUND(D24*E24,0) -> 4630
F28: Sub - Total | G28: =SUM(F23:F27) -> 102130
A29: III. TRANSPORTES
A30: Material | B30: Vol-Pes-Cant. | C30: Distancia | D30: M3-Km | E30: Tarifa | F30: Valor Unitario
A31: Transporte de material de subbase | B31: =+E23 -> 1.3 | C31: =+Transporte!D17 -> 89.7 | D31: =+B31*C31 -> 116.61 | E31: =+Transporte!D24 -> 1200 | F31: =+ROUND(D31*E31,0) -> 139932
F36: Sub - Total | G36: =SUM(F31:F35) -> 139932
A37: IV. MANO DE OBRA
A38: Trabajador | B38: Jornal | C38: Pretaciones | D38: Jornal Total | E38: Rendimiento | F38: Valor Unitario
A39: 1 Oficial | B39: =FP!Q51 -> 77150.562 | C39: =+FP!T47 -> 1.6529 | D39: =ROUND(C39*B39,0) -> 127522 | E39: 360 | F39: =ROUND(D39/E39,0) -> 354
A40: 2 Obrero | B40: =FP!U51*2 -> 103389.74 | C40: =+FP!V47 -> 1.8281 | D40: =ROUND(C40*B40,0) -> 189007 | E40: =+E39 -> 360 | F40: =ROUND(D40/E40,0) -> 525
F44: Sub - Total | G44: =SUM(F39:F43) -> 879
D46: TOTAL COSTO DIRECTO | G46: =G20+G28+G36+G44 -> 251203.79
A50: =+PRESUPUESTO!B52 -> JESUS EDUARDO ROBLES SMITH
A51: =+PRESUPUESTO!B53 -> INGENIERO CIVIL
A52: =+PRESUPUESTO!B54 -> M.P. 25202-316144 CND

Sheet 2,3
D1: ANÁLISIS DE PRECIOS UNITARIOS
A7: =+PRESUPUESTO!D2 -> "MEJORAMIENTO VIAL MEDIANTE LA CONSTRUCCIÓN DE PAVIMENTO RÍGIDO DE LA PRIMERA ETAPA DE LA VÍA QUE COMUNICA A LA VEREDA PONDORES EN EL CORREGIMIENTO DE CONEJO, MUNICIPIO DE FONSECA - DEPARTAMENTO DE LA GUAJIRA." | F7: ESPEC. | G7: =+PRESUPUESTO!C19 -> 630.3
A10: ÍTEM: | B10: =+PRESUPUESTO!D19 -> Placa de pavimento en concreto hidráulico MR2=4,0 Mpa (40Kg/cm2) | F10: UNIDAD: | G10: =+PRESUPUESTO!E19 -> M3
A12: I. EQUIPO | G12: PRESUPUESTO!Títulos_a_imprimir
A13: Descripción | D13: Tarifa Hora | E13: Rendimiento | F13: Valor Unitario
A14: =+Equ!B15 -> Aspersor manual | D14: =Equ!D15 -> 5428.01 | E14: 2 | F14: =D14/E14 -> 2714.005
A15: =+Equ!B31 -> Rieles para pavimento | D15: =+Equ!D31 -> 380 | E15: =+E14 -> 2 | F15: =D15/E15 -> 190
A16: =+Equ!B32 -> Regla vibratoria | D16: =+Equ!D32 -> 9700 | E16: =+E15 -> 2 | F16: =D16/E16 -> 4850
A17: =+Equ!B30 -> Cizalla manual de 90 cm | D17: =+Equ!D30 -> 1545.5391 | E17: 37.5 | F17: =D17/E17 -> 41.214376
A18: =+Equ!B33 -> Compresor (barrido y soplado) | D18: =+Equ!D33 -> 90000 | E18: 110 | F18: =D18/E18 -> 818.18182
A19: =+Equ!B35 -> Cortadora de pavimento, Máxima profundidad de corte: 160 mm. Capacidad de disco: desde 12´´ hasta 18´´ de diámetro. Peso operacional: 135 kg, 13.5 hp de potencia | D19: =+Equ!D35 -> 25500 | E19: 50 | F19: =D19/E19 -> 510
A20: Herramienta Menor M.O. | E20: 0.05 | F20: =+G50*E20 -> 4110.3
F23: Sub - Total | G23: =SUM(F14:F22) -> 13233.701
A24: II. MATERIALES EN OBRA
A25: Descripción | C25: Unidad | D25: Precio Unit. | E25: Cantidad | F25: Valor Unitario
A26: Concreto resistencia 28 Mpa | C26: M3 | D26: =+'Apu Basicos'!G133 -> 888288 | E26: 1 | F26: =D26*E26 -> 888288
A27: Antisol blanco (presentación 20 Kg) | C27: KG | D27: =Sum!D46 -> 17800 | E27: 1 | F27: =D27*E27 -> 17800
A28: =+Sum!B34 -> Alambre Negro para Amarre | C28: KG | D28: =+Sum!D34 -> 8900 | E28: 0.03 | F28: =D28*E28 -> 267
A29: Acero de refuerzo de transferencia D=1" Liso | C29: KG | D29: =+Sum!D37 -> 7200 | E29: =+CANTIDADES!O136 -> 10.654327 | F29: =D29*E29 -> 76711.154
A30: Acero de refuerzo de amarre D= 1/2" Corrugado | C30: KG | D30: =+Sum!D38 -> 7200 | E30: =+CANTIDADES!O127 -> 0.68766309 | F30: =D30*E30 -> 4951.1743
A31: Acero estructural | C31: KG | D31: =+Sum!D36 -> 7150 | E31: =CANTIDADES!Q160 -> 2.1209013 | F31: =D31*E31 -> 15164.444
A32: Cordón de junta en espuma de polietileno | C32: M | D32: =+Sum!D44 -> 1663.0838 | E32: =+CANTIDADES!Q171 -> 1.8036408 | F32: =D32*E32 -> 2999.6058
A33: Sello de silicona o sellado autonivelante | C33: M | D33: =+Sum!D47 -> 4800 | E33: =+CANTIDADES!Q171 -> 1.8036408 | F33: =D33*E33 -> 8657.4759
A34: Disco diamantado | C34: UND | D34: =+Sum!D43 -> 710000 | E34: =0.006*1.81075416291254 -> 0.010864525 | F34: =D34*E34 -> 7713.8127
F35: Sub - Total | G35: =SUM(F26:F34) -> 1022552.7
A36: III. TRANSPORTES
A37: Material | B37: Vol-Pes-Cant. | C37: Distancia | D37: M3-Km | E37: Tarifa | F37: Valor Unitario
A38: Transporte de acero | B38: 1.05 | C38: =+Transporte!D15 -> 15.6 | D38: =+B38*C38 -> 16.38 | E38: =+Transporte!D28 -> 0.48 | F38: =+D38*E38 -> 7.8624
F43: Sub - Total | G43: =SUM(F38:F42) -> 7.8624
A44: IV. MANO DE OBRA
A45: Trabajador | B45: Jornal | C45: Pretaciones | D45: Jornal Total | E45: Rendimiento | F45: Valor Unitario
A46: 2 Oficial | B46: =+FP!Q51*2 -> 154301.12 | C46: =+FP!T47 -> 1.6529 | D46: =ROUND(C46*B46,0) -> 255044 | E46: 10 | F46: =ROUND(D46/E46,0) -> 25504
